Workbook

Sheet Récap

Sheet JAN 2023
A1: JANVIER
B2: 44999 | C2: ARKEA | D2: BNPP | E2: CIC | F2: CRCA | G2: CRCA E-COMMERCE | H2: CREDIT COOP | I2: HSBC € | J2: LCL | K2: SOCIETE GLE | L2: TOTAL € | M2: BNP $ | N2: HSBC $ | O2: TOTAL $
A3: 44896 | B3: Découvert autorisé | C3: 1000000 | D3: 3000000 | E3: 2000000 | F3: 7000000 | G3: 0 | H3: 0 | I3: 0 | J3: 0 | K3: 0 | L3: - | M3: 3000000 | N3: 0 | O3: -
A4: 44927 | B4: Solde min. | C4: 100000 | D4: 1700000 | E4: 800000 | F4: 4500000 | G4: 60000 | H4: 0 | I4: 40000 | J4: 1000000 | K4: 300000 | L4: =SUM(C4:K4) -> 8500000 | M4: 180000 | N4: 250000 | O4: =SUM(M4:N4) -> 430000
B5: Solde haut | C5: 120000 | D5: 1900000 | E5: 1000000 | F5: 5200000 | G5: 80000 | H5: 0 | I5: 80000 | J5: 1200000 | K5: 350000 | L5: =SUM(C5:K5) -> 9930000 | M5: 200000 | N5: 400000 | O5: =SUM(M5:N5) -> 600000
A6: 44928 | C6: 1 | D6: 1 | E6: 1 | F6: 1 | G6: 1 | H6: 0 | I6: 1 | J6: 1 | K6: 1 | M6: 1 | N6: 1
B8: DECAISSEMENTS (avec potentiel) | L8: =SUM(C8:K8) -> 0 | M8: =SUM(M9,M19,M25,M44,M34) -> 0 | N8: =SUM(N9,N19,N25,N44,N34) -> 0 | O8: =SUM(M8:N8) -> 0
A9: =DAY(A4+2)&"/"&MONTH(A4+2)&" - "&DAY(A97+1)&"/"&MONTH(A97+1) -> 3/1 - 9/1 | B9: Fournisseurs | L9: =SUM(C9:K9) -> 0 | M9: =+SUM(M10:M11,M15) -> 0 | N9: =+SUM(N10:N11,N15) -> 0 | O9: =SUM(M9:N9) -> 0
B10: Virements TIERS | L10: =SUM(C10:K10) -> 0 | O10: =SUM(M10:N10) -> 0
B11: Virements FILIALES | L11: =SUM(C11:K11) -> 0 | O11: =SUM(M11:N11) -> 0
B12: PSRO | L12: =SUM(C12:K12) -> 0 | O12: =SUM(M12:N12) -> 0
B13: PCN | L13: =SUM(C13:K13) -> 0 | O13: =SUM(M13:N13) -> 0
B14: Autres filiales | L14: =SUM(C14:K14) -> 0 | O14: =SUM(M14:N14) -> 0
B15: Prélèvements TIERS | L15: =SUM(C15:K15) -> 0 | O15: =SUM(M15:N15) -> 0
B16: Frais bancaires | L16: =SUM(C16:K16) -> 0 | O16: =SUM(M16:N16) -> 0
B17: Cartes affaires / procurement | L17: =SUM(C17:K17) -> 0 | O17: =SUM(M17:N17) -> 0
B18: Autres frais généraux | L18: =SUM(C18:K18) -> 0 | O18: =SUM(M18:N18) -> 0
A19: =DAY(A4+2)&"/"&MONTH(A4+2)&" - "&DAY(A97+1)&"/"&MONTH(A97+1) -> 3/1 - 9/1 | B19: Fournisseurs (potentiel) | L19: =SUM(C19:K19) -> 0 | O19: =SUM(M19:N19) -> 0
B20: Virements TIERS (potentiel) | L20: =SUM(C20:K20) -> 0 | O20: =SUM(M20:N20) -> 0
B21: Virements FILIALES (potentiel) | L21: =SUM(C21:K21) -> 0 | O21: =SUM(M21:N21) -> 0
B22: PSRO | L22: =SUM(C22:K22) -> 0 | O22: =SUM(M22:N22) -> 0
B23: PCN | L23: =SUM(C23:K23) -> 0 | O23: =SUM(M23:N23) -> 0
B24: Autres filiales | L24: =SUM(C24:K24) -> 0 | O24: =SUM(M24:N24) -> 0
A25: =DAY(A4+2)&"/"&MONTH(A4+2)&" - "&DAY(A97+1)&"/"&MONTH(A97+1) -> 3/1 - 9/1 | B25: Personnel et organismes sociaux | L25: =SUM(C25:K25) -> 0 | M25: =+SUM(M26,M31:M33) -> 0 | N25: =+SUM(N26,N31:N33) -> 0 | O25: =SUM(M25:N25) -> 0
B26: Charges de personnel | L26: =SUM(C26:K26) -> 0 | M26: =SUM(M27:M30) -> 0 | N26: =SUM(N27:N30) -> 0 | O26: =SUM(M26:N26) -> 0
B27: Salaires | L27: =SUM(C27:K27) -> 0 | O27: =SUM(M27:N27) -> 0
B28: URSSAF | L28: =SUM(C28:K28) -> 0 | O28: =SUM(M28:N28) -> 0
B29: Prélèvement à la source | L29: =SUM(C29:K29) -> 0 | O29: =SUM(M29:N29) -> 0
B30: Autres charges de personnel | L30: =SUM(C30:K30) -> 0 | O30: =SUM(M30:N30) -> 0
B31: Mutuelle | L31: =SUM(C31:K31) -> 0 | O31: =SUM(M31:N31) -> 0
B32: Retraite | L32: =SUM(C32:K32) -> 0 | O32: =SUM(M32:N32) -> 0
B33: Intéressement et participation | L33: =SUM(C33:K33) -> 0 | O33: =SUM(M33:N33) -> 0
A34: =DAY(A4+2)&"/"&MONTH(A4+2)&" - "&DAY(A97+1)&"/"&MONTH(A97+1) -> 3/1 - 9/1 | B34: Impôts et taxes | L34: =SUM(C34:K34) -> 0 | M34: =+SUM(M35:M37) -> 0 | N34: =+SUM(N35:N37) -> 0 | O34: =SUM(M34:N34) -> 0
B35: TVA | L35: =SUM(C35:K35) -> 0 | O35: =SUM(M35:N35) -> 0
B36: CET (CVAE + CFE) | L36: =SUM(C36:K36) -> 0 | O36: =SUM(M36:N36) -> 0
B37: Autres taxes | L37: =SUM(C37:K37) -> 0 | M37: =SUM(M38:M43) -> 0 | N37: =SUM(N38:N43) -> 0 | O37: =SUM(M37:N37) -> 0
B38: Taxe foncière | L38: =SUM(C38:K38) -> 0 | O38: =SUM(M38:N38) -> 0
B39: C3S | L39: =SUM(C39:K39) -> 0 | O39: =SUM(M39:N39) -> 0
B40: Effort de construction (PEEC) | L40: =SUM(C40:K40) -> 0 | O40: =SUM(M40:N40) -> 0
B41: UIMM | L41: =SUM(C41:K41) -> 0 | O41: =SUM(M41:N41) -> 0
...

Sheet FEV 2023
B1: FEVRIER
C2: =+TODAY() -> 44999 | D2: ARKEA | E2: BNPP | F2: CIC | G2: CRCA | H2: CRCA E-COMMERCE | I2: CREDIT COOP | J2: HSBC € | K2: LCL | L2: SOCIETE GLE | M2: TOTAL € | N2: BNP $ | O2: HSBC $ | P2: TOTAL $
B3: 44896 | C3: Découvert autorisé | D3: 3000000 | E3: 5000000 | F3: 3000000 | G3: 5000000 | H3: 0 | I3: 0 | J3: 0 | K3: 0 | L3: 0 | M3: - | N3: 1500000 | O3: 0 | P3: -
B4: ='JAN 2023'!A376 -> 44955 | C4: Solde min. | D4: ='JAN 2023'!C376 -> 100000 | E4: ='JAN 2023'!D376 -> 1700000 | F4: ='JAN 2023'!E376 -> 800000 | G4: ='JAN 2023'!F376 -> 4500000 | H4: ='JAN 2023'!G376 -> 60000 | I4: ='JAN 2023'!H376 -> 0 | J4: ='JAN 2023'!I376 -> 40000 | K4: ='JAN 2023'!J376 -> 1000000 | L4: ='JAN 2023'!K376 -> 300000 | M4: =SUM(D4:L4) -> 8500000 | N4: ='JAN 2023'!M376 -> 180000 | O4: ='JAN 2023'!N376 -> 250000 | P4: =SUM(N4:O4) -> 430000
C5: Solde haut | D5: ='JAN 2023'!C377 -> 120000 | E5: ='JAN 2023'!D377 -> 1900000 | F5: ='JAN 2023'!E377 -> 1000000 | G5: ='JAN 2023'!F377 -> 5200000 | H5: ='JAN 2023'!G377 -> 80000 | I5: ='JAN 2023'!H377 -> 0 | J5: ='JAN 2023'!I377 -> 80000 | K5: ='JAN 2023'!J377 -> 1200000 | L5: ='JAN 2023'!K377 -> 350000 | M5: =SUM(D5:L5) -> 9930000 | N5: ='JAN 2023'!M377 -> 200000 | O5: ='JAN 2023'!N377 -> 400000 | P5: =SUM(N5:O5) -> 600000
B6: =+B4+1 -> 44956 | D6: =IF(D$3=0,IF(D4+D8>0,1,0),IF((D4+D8)>0.8*-D$3,1,0)) -> 1 | E6: =IF(E$3=0,IF(E4+E8>0,1,0),IF((E4+E8)>0.8*-E$3,1,0)) -> 1 | F6: =IF(F$3=0,IF(F4+F8>0,1,0),IF((F4+F8)>0.8*-F$3,1,0)) -> 1 | G6: =IF(G$3=0,IF(G4+G8>0,1,0),IF((G4+G8)>0.8*-G$3,1,0)) -> 1 | H6: =IF(H$3=0,IF(H4+H8>0,1,0),IF((H4+H8)>0.8*-H$3,1,0)) -> 1 | I6: =IF(I$3=0,IF(I4+I8>0,1,0),IF((I4+I8)>0.8*-I$3,1,0)) -> 0 | J6: =IF(J$3=0,IF(J4+J8>0,1,0),IF((J4+J8)>0.8*-J$3,1,0)) -> 1 | K6: =IF(K$3=0,IF(K4+K8>0,1,0),IF((K4+K8)>0.8*-K$3,1,0)) -> 1 | L6: =IF(L$3=0,IF(L4+L8>0,1,0),IF((L4+L8)>0.8*-L$3,1,0)) -> 1 | N6: =IF(N$3=0,IF(N4+N8>0,1,0),IF((N4+N8)>0.8*-N$3,1,0)) -> 1 | O6: =IF(O$3=0,IF(O4+O8>0,1,0),IF((O4+O8)>0.8*-O$3,1,0)) -> 1
C8: DECAISSEMENTS (avec potentiel) | D8: =SUM(D9,D19,D25,D44,D34) -> 0 | E8: =SUM(E9,E19,E25,E44,E34) -> 0 | F8: =SUM(F9,F19,F25,F44,F34) -> 0 | G8: =SUM(G9,G19,G25,G44,G34) -> 0 | H8: =SUM(H9,H19,H25,H44,H34) -> 0 | I8: =SUM(I9,I19,I25,I44,I34) -> 0 | J8: =SUM(J9,J19,J25,J44,J34) -> 0 | K8: =SUM(K9,K19,K25,K44,K34) -> 0 | L8: =SUM(L9,L19,L25,L44,L34) -> 0 | M8: =SUM(D8:L8) -> 0 | N8: =SUM(N9,N19,N25,N44,N34) -> 0 | O8: =SUM(O9,O19,O25,O44,O34) -> 0 | P8: =SUM(N8:O8) -> 0
B9: =DAY(B4+2)&"/"&MONTH(B4+2)&" - "&DAY(B97+1)&"/"&MONTH(B97+1) -> 31/1 - 6/2 | C9: Fournisseurs | D9: =+SUM(D10:D11,D15) -> 0 | E9: =+SUM(E10:E11,E15) -> 0 | F9: =+SUM(F10:F11,F15) -> 0 | G9: =+SUM(G10:G11,G15) -> 0 | H9: =+SUM(H10:H11,H15) -> 0 | I9: =+SUM(I10:I11,I15) -> 0 | J9: =+SUM(J10:J11,J15) -> 0 | K9: =+SUM(K10:K11,K15) -> 0 | L9: =+SUM(L10:L11,L15) -> 0 | M9: =SUM(D9:L9) -> 0 | N9: =+SUM(N10:N11,N15) -> 0 | O9: =+SUM(O10:O11,O15) -> 0 | P9: =SUM(N9:O9) -> 0
C10: Virements TIERS | M10: =SUM(D10:L10) -> 0 | P10: =SUM(N10:O10) -> 0
C11: Virements FILIALES | M11: =SUM(D11:L11) -> 0 | O11: =SUM(O12:O14) -> 0 | P11: =SUM(N11:O11) -> 0
C12: PSRO | M12: =SUM(D12:L12) -> 0 | P12: =SUM(N12:O12) -> 0
C13: PCN | M13: =SUM(D13:L13) -> 0 | P13: =SUM(N13:O13) -> 0
C14: Autres filiales | M14: =SUM(D14:L14) -> 0 | P14: =SUM(N14:O14) -> 0
C15: Prélèvements TIERS | M15: =SUM(D15:L15) -> 0 | O15: =SUM(O16:O18) -> 0 | P15: =SUM(N15:O15) -> 0
C16: Frais bancaires | M16: =SUM(D16:L16) -> 0 | P16: =SUM(N16:O16) -> 0
C17: Cartes affaires / procurement | M17: =SUM(D17:L17) -> 0 | P17: =SUM(N17:O17) -> 0
C18: Autres frais généraux | M18: =SUM(D18:L18) -> 0 | P18: =SUM(N18:O18) -> 0
B19: =DAY(B4+2)&"/"&MONTH(B4+2)&" - "&DAY(B97+1)&"/"&MONTH(B97+1) -> 31/1 - 6/2 | C19: Fournisseurs (potentiel) | M19: =SUM(D19:L19) -> 0 | N19: =+SUM(N20:N21) -> 0 | O19: =+SUM(O20:O21) -> 0 | P19: =SUM(N19:O19) -> 0
C20: Virements TIERS (potentiel) | M20: =SUM(D20:L20) -> 0 | P20: =SUM(N20:O20) -> 0
C21: Virements FILIALES (potentiel) | M21: =SUM(D21:L21) -> 0 | N21: =SUM(N22:N24) -> 0 | O21: =SUM(O22:O24) -> 0 | P21: =SUM(N21:O21) -> 0
C22: PSRO | M22: =SUM(D22:L22) -> 0 | P22: =SUM(N22:O22) -> 0
C23: PCN | M23: =SUM(D23:L23) -> 0 | P23: =SUM(N23:O23) -> 0
C24: Autres filiales | M24: =SUM(D24:L24) -> 0 | P24: =SUM(N24:O24) -> 0
B25: =DAY(B4+2)&"/"&MONTH(B4+2)&" - "&DAY(B97+1)&"/"&MONTH(B97+1) -> 31/1 - 6/2 | C25: Personnel et organismes sociaux | M25: =SUM(D25:L25) -> 0 | N25: =+SUM(N26,N31:N33) -> 0 | O25: =+SUM(O26,O31:O33) -> 0 | P25: =SUM(N25:O25) -> 0
C26: Charges de personnel | M26: =SUM(D26:L26) -> 0 | N26: =SUM(N27:N30) -> 0 | O26: =SUM(O27:O30) -> 0 | P26: =SUM(N26:O26) -> 0
C27: Salaires | M27: =SUM(D27:L27) -> 0 | P27: =SUM(N27:O27) -> 0
C28: URSSAF | M28: =SUM(D28:L28) -> 0 | P28: =SUM(N28:O28) -> 0
C29: Prélèvement à la source | M29: =SUM(D29:L29) -> 0 | P29: =SUM(N29:O29) -> 0
C30: Autres charges de personnel | M30: =SUM(D30:L30) -> 0 | P30: =SUM(N30:O30) -> 0
C31: Mutuelle | M31: =SUM(D31:L31) -> 0 | P31: =SUM(N31:O31) -> 0
C32: Retraite | M32: =SUM(D32:L32) -> 0 | P32: =SUM(N32:O32) -> 0
C33: Intéressement et participation | M33: =SUM(D33:L33) -> 0 | P33: =SUM(N33:O33) -> 0
B34: =DAY(B4+2)&"/"&MONTH(B4+2)&" - "&DAY(B97+1)&"/"&MONTH(B97+1) -> 31/1 - 6/2 | C34: Impôts et taxes | M34: =SUM(D34:L34) -> 0 | N34: =+SUM(N35:N37) -> 0 | O34: =+SUM(O35:O37) -> 0 | P34: =SUM(N34:O34) -> 0
C35: TVA | M35: =SUM(D35:L35) -> 0 | P35: =SUM(N35:O35) -> 0
C36: CET (CVAE + CFE) | M36: =SUM(D36:L36) -> 0 | P36: =SUM(N36:O36) -> 0
C37: Autres taxes | D37: =SUM(D38:D43) -> 0 | E37: =SUM(E38:E43) -> 0 | F37: =SUM(F38:F43) -> 0 | G37: =SUM(G38:G43) -> 0 | H37: =SUM(H38:H43) -> 0 | I37: =SUM(I38:I43) -> 0 | J37: =SUM(J38:J43) -> 0 | K37: =SUM(K38:K43) -> 0 | L37: =SUM(L38:L43) -> 0 | M37: =SUM(D37:L37) -> 0 | N37: =SUM(N38:N43) -> 0 | O37: =SUM(O38:O43) -> 0 | P37: =SUM(N37:O37) -> 0
C38: Taxe foncière | M38: =SUM(D38:L38) -> 0 | P38: =SUM(N38:O38) -> 0
C39: C3S | M39: =SUM(D39:L39) -> 0 | P39: =SUM(N39:O39) -> 0
C40: Effort de construction (PEEC) | M40: =SUM(D40:L40) -> 0 | P40: =SUM(N40:O40) -> 0
C41: UIMM | M41: =SUM(D41:L41) -> 0 | P41: =SUM(N41:O41) -> 0
...

Sheet MAR 2023
B1: MARS
C2: =+TODAY() -> 44999 | D2: ARKEA | E2: BNPP | F2: CIC | G2: CRCA | H2: CRCA E-COMMERCE | I2: CREDIT COOP | J2: HSBC € | K2: LCL | L2: SOCIETE GLE | M2: TOTAL € | N2: BNP $ | O2: HSBC $ | P2: TOTAL $
B3: 44896 | C3: Découvert autorisé | D3: 3000000 | E3: 5000000 | F3: 3000000 | G3: 5000000 | H3: 0 | I3: 0 | J3: 0 | K3: 0 | L3: 0 | M3: - | N3: 1500000 | O3: 0 | P3: -
B4: ='FEV 2023'!B376 -> 44983 | C4: Solde min. | D4: ='FEV 2023'!D376 -> 100000 | E4: ='FEV 2023'!E376 -> 1700000 | F4: ='FEV 2023'!F376 -> 800000 | G4: ='FEV 2023'!G376 -> 4500000 | H4: ='FEV 2023'!H376 -> 60000 | I4: ='FEV 2023'!I376 -> 0 | J4: ='FEV 2023'!J376 -> 40000 | K4: ='FEV 2023'!K376 -> 1000000 | L4: ='FEV 2023'!L376 -> 300000 | M4: =SUM(D4:L4) -> 8500000 | N4: ='FEV 2023'!N376 -> 180000 | O4: ='FEV 2023'!O376 -> 250000 | P4: =SUM(N4:O4) -> 430000
C5: Solde haut | D5: ='FEV 2023'!D377 -> 120000 | E5: ='FEV 2023'!E377 -> 1900000 | F5: ='FEV 2023'!F377 -> 1000000 | G5: ='FEV 2023'!G377 -> 5200000 | H5: ='FEV 2023'!H377 -> 80000 | I5: ='FEV 2023'!I377 -> 0 | J5: ='FEV 2023'!J377 -> 80000 | K5: ='FEV 2023'!K377 -> 1200000 | L5: ='FEV 2023'!L377 -> 350000 | M5: =SUM(D5:L5) -> 9930000 | N5: ='FEV 2023'!N377 -> 200000 | O5: ='FEV 2023'!O377 -> 400000 | P5: =SUM(N5:O5) -> 600000
B6: =+B4+1 -> 44984 | D6: =IF(D$3=0,IF(D4+D8>0,1,0),IF((D4+D8)>0.8*-D$3,1,0)) -> 1 | E6: =IF(E$3=0,IF(E4+E8>0,1,0),IF((E4+E8)>0.8*-E$3,1,0)) -> 1 | F6: =IF(F$3=0,IF(F4+F8>0,1,0),IF((F4+F8)>0.8*-F$3,1,0)) -> 1 | G6: =IF(G$3=0,IF(G4+G8>0,1,0),IF((G4+G8)>0.8*-G$3,1,0)) -> 1 | H6: =IF(H$3=0,IF(H4+H8>0,1,0),IF((H4+H8)>0.8*-H$3,1,0)) -> 1 | I6: =IF(I$3=0,IF(I4+I8>0,1,0),IF((I4+I8)>0.8*-I$3,1,0)) -> 0 | J6: =IF(J$3=0,IF(J4+J8>0,1,0),IF((J4+J8)>0.8*-J$3,1,0)) -> 1 | K6: =IF(K$3=0,IF(K4+K8>0,1,0),IF((K4+K8)>0.8*-K$3,1,0)) -> 1 | L6: =IF(L$3=0,IF(L4+L8>0,1,0),IF((L4+L8)>0.8*-L$3,1,0)) -> 1 | N6: =IF(N$3=0,IF(N4+N8>0,1,0),IF((N4+N8)>0.8*-N$3,1,0)) -> 1 | O6: =IF(O$3=0,IF(O4+O8>0,1,0),IF((O4+O8)>0.8*-O$3,1,0)) -> 1
A8: DECAISSEMENTS (avec potentiel) | B8: =+B9 -> 28/2 - 6/3 | C8: DECAISSEMENTS (avec potentiel) | D8: =SUM(D9,D19,D25,D44,D34) -> 0 | E8: =SUM(E9,E19,E25,E44,E34) -> 0 | F8: =SUM(F9,F19,F25,F44,F34) -> 0 | G8: =SUM(G9,G19,G25,G44,G34) -> 0 | H8: =SUM(H9,H19,H25,H44,H34) -> 0 | I8: =SUM(I9,I19,I25,I44,I34) -> 0 | J8: =SUM(J9,J19,J25,J44,J34) -> 0 | K8: =SUM(K9,K19,K25,K44,K34) -> 0 | L8: =SUM(L9,L19,L25,L44,L34) -> 0 | M8: =SUM(D8:L8) -> 0 | N8: =SUM(N9,N19,N25,N44,N34) -> 0 | O8: =SUM(O9,O19,O25,O44,O34) -> 0 | P8: =SUM(N8:O8) -> 0
A9: Fournisseurs | B9: =DAY(B4+2)&"/"&MONTH(B4+2)&" - "&DAY(B97+1)&"/"&MONTH(B97+1) -> 28/2 - 6/3 | C9: Fournisseurs | D9: =+SUM(D10:D11,D15) -> 0 | E9: =+SUM(E10:E11,E15) -> 0 | F9: =+SUM(F10:F11,F15) -> 0 | G9: =+SUM(G10:G11,G15) -> 0 | H9: =+SUM(H10:H11,H15) -> 0 | I9: =+SUM(I10:I11,I15) -> 0 | J9: =+SUM(J10:J11,J15) -> 0 | K9: =+SUM(K10:K11,K15) -> 0 | L9: =+SUM(L10:L11,L15) -> 0 | M9: =SUM(D9:L9) -> 0 | N9: =+SUM(N10:N11,N15) -> 0 | O9: =+SUM(O10:O11,O15) -> 0 | P9: =SUM(N9:O9) -> 0
A10: Fournisseurs | B10: =+B9 -> 28/2 - 6/3 | C10: Virements TIERS | M10: =SUM(D10:L10) -> 0 | P10: =SUM(N10:O10) -> 0
A11: Fournisseurs | B11: =+B10 -> 28/2 - 6/3 | C11: Virements FILIALES | M11: =SUM(D11:L11) -> 0 | O11: =SUM(O12:O14) -> 0 | P11: =SUM(N11:O11) -> 0
A12: Fournisseurs | B12: =+B11 -> 28/2 - 6/3 | C12: PSRO | M12: =SUM(D12:L12) -> 0 | P12: =SUM(N12:O12) -> 0
A13: Fournisseurs | B13: =+B12 -> 28/2 - 6/3 | C13: PCN | M13: =SUM(D13:L13) -> 0 | P13: =SUM(N13:O13) -> 0
A14: Fournisseurs | B14: =+B13 -> 28/2 - 6/3 | C14: Autres filiales | M14: =SUM(D14:L14) -> 0 | P14: =SUM(N14:O14) -> 0
A15: Fournisseurs | B15: =+B14 -> 28/2 - 6/3 | C15: Prélèvements TIERS | M15: =SUM(D15:L15) -> 0 | O15: =SUM(O16:O18) -> 0 | P15: =SUM(N15:O15) -> 0
A16: Fournisseurs | B16: =+B15 -> 28/2 - 6/3 | C16: Frais bancaires | M16: =SUM(D16:L16) -> 0 | P16: =SUM(N16:O16) -> 0
A17: Fournisseurs | B17: =+B16 -> 28/2 - 6/3 | C17: Cartes affaires / procurement | M17: =SUM(D17:L17) -> 0 | P17: =SUM(N17:O17) -> 0
A18: Fournisseurs | B18: =+B17 -> 28/2 - 6/3 | C18: Autres frais généraux | M18: =SUM(D18:L18) -> 0 | P18: =SUM(N18:O18) -> 0
A19: Fournisseurs (potentiel) | B19: =DAY(B4+2)&"/"&MONTH(B4+2)&" - "&DAY(B97+1)&"/"&MONTH(B97+1) -> 28/2 - 6/3 | C19: Fournisseurs (potentiel) | D19: =+SUM(D20:D21) -> 0 | E19: =+SUM(E20:E21) -> 0 | F19: =+SUM(F20:F21) -> 0 | G19: =+SUM(G20:G21) -> 0 | H19: =+SUM(H20:H21) -> 0 | I19: =+SUM(I20:I21) -> 0 | J19: =+SUM(J20:J21) -> 0 | K19: =+SUM(K20:K21) -> 0 | L19: =+SUM(L20:L21) -> 0 | M19: =SUM(D19:L19) -> 0 | N19: =+SUM(N20:N21) -> 0 | O19: =+SUM(O20:O21) -> 0 | P19: =SUM(N19:O19) -> 0
A20: Fournisseurs (potentiel) | B20: =+B19 -> 28/2 - 6/3 | C20: Virements TIERS (potentiel) | M20: =SUM(D20:L20) -> 0 | P20: =SUM(N20:O20) -> 0
A21: Fournisseurs (potentiel) | B21: =+B20 -> 28/2 - 6/3 | C21: Virements FILIALES (potentiel) | D21: =SUM(D22:D24) -> 0 | E21: =SUM(E22:E24) -> 0 | F21: =SUM(F22:F24) -> 0 | G21: =SUM(G22:G24) -> 0 | H21: =SUM(H22:H24) -> 0 | I21: =SUM(I22:I24) -> 0 | J21: =SUM(J22:J24) -> 0 | K21: =SUM(K22:K24) -> 0 | L21: =SUM(L22:L24) -> 0 | M21: =SUM(D21:L21) -> 0 | N21: =SUM(N22:N24) -> 0 | O21: =SUM(O22:O24) -> 0 | P21: =SUM(N21:O21) -> 0
A22: Fournisseurs (potentiel) | B22: =+B21 -> 28/2 - 6/3 | C22: PSRO | M22: =SUM(D22:L22) -> 0 | P22: =SUM(N22:O22) -> 0
A23: Fournisseurs (potentiel) | B23: =+B22 -> 28/2 - 6/3 | C23: PCN | M23: =SUM(D23:L23) -> 0 | P23: =SUM(N23:O23) -> 0
A24: Fournisseurs (potentiel) | B24: =+B23 -> 28/2 - 6/3 | C24: Autres filiales | M24: =SUM(D24:L24) -> 0 | P24: =SUM(N24:O24) -> 0
A25: Personnel et organismes sociaux | B25: =DAY(B4+2)&"/"&MONTH(B4+2)&" - "&DAY(B97+1)&"/"&MONTH(B97+1) -> 28/2 - 6/3 | C25: Personnel et organismes sociaux | D25: =+SUM(D26,D31:D33) -> 0 | E25: =+SUM(E26,E31:E33) -> 0 | F25: =+SUM(F26,F31:F33) -> 0 | G25: =+SUM(G26,G31:G33) -> 0 | H25: =+SUM(H26,H31:H33) -> 0 | I25: =+SUM(I26,I31:I33) -> 0 | J25: =+SUM(J26,J31:J33) -> 0 | K25: =+SUM(K26,K31:K33) -> 0 | L25: =+SUM(L26,L31:L33) -> 0 | M25: =SUM(D25:L25) -> 0 | N25: =+SUM(N26,N31:N33) -> 0 | O25: =+SUM(O26,O31:O33) -> 0 | P25: =SUM(N25:O25) -> 0
A26: Personnel et organismes sociaux | B26: =+B25 -> 28/2 - 6/3 | C26: Charges de personnel | D26: =SUM(D27:D30) -> 0 | L26: =SUM(L27:L30) -> 0 | M26: =SUM(D26:L26) -> 0 | N26: =SUM(N27:N30) -> 0 | O26: =SUM(O27:O30) -> 0 | P26: =SUM(N26:O26) -> 0
A27: Personnel et organismes sociaux | B27: =+B26 -> 28/2 - 6/3 | C27: Salaires | M27: =SUM(D27:L27) -> 0 | P27: =SUM(N27:O27) -> 0
A28: Personnel et organismes sociaux | B28: =+B27 -> 28/2 - 6/3 | C28: URSSAF | M28: =SUM(D28:L28) -> 0 | P28: =SUM(N28:O28) -> 0
A29: Personnel et organismes sociaux | B29: =+B28 -> 28/2 - 6/3 | C29: Prélèvement à la source | M29: =SUM(D29:L29) -> 0 | P29: =SUM(N29:O29) -> 0
A30: Personnel et organismes sociaux | B30: =+B29 -> 28/2 - 6/3 | C30: Autres charges de personnel | M30: =SUM(D30:L30) -> 0 | P30: =SUM(N30:O30) -> 0
A31: Personnel et organismes sociaux | B31: =+B30 -> 28/2 - 6/3 | C31: Mutuelle | M31: =SUM(D31:L31) -> 0 | P31: =SUM(N31:O31) -> 0
A32: Personnel et organismes sociaux | B32: =+B31 -> 28/2 - 6/3 | C32: Retraite | M32: =SUM(D32:L32) -> 0 | P32: =SUM(N32:O32) -> 0
A33: Personnel et organismes sociaux | B33: =+B32 -> 28/2 - 6/3 | C33: Intéressement et participation | M33: =SUM(D33:L33) -> 0 | P33: =SUM(N33:O33) -> 0
A34: Impôts et taxes | B34: =DAY(B4+2)&"/"&MONTH(B4+2)&" - "&DAY(B97+1)&"/"&MONTH(B97+1) -> 28/2 - 6/3 | C34: Impôts et taxes | D34: =+SUM(D35:D37) -> 0 | E34: =+SUM(E35:E37) -> 0 | F34: =+SUM(F35:F37) -> 0 | G34: =+SUM(G35:G37) -> 0 | H34: =+SUM(H35:H37) -> 0 | I34: =+SUM(I35:I37) -> 0 | J34: =+SUM(J35:J37) -> 0 | K34: =+SUM(K35:K37) -> 0 | L34: =+SUM(L35:L37) -> 0 | M34: =SUM(D34:L34) -> 0 | N34: =+SUM(N35:N37) -> 0 | O34: =+SUM(O35:O37) -> 0 | P34: =SUM(N34:O34) -> 0
A35: Impôts et taxes | B35: =+B34 -> 28/2 - 6/3 | C35: TVA | M35: =SUM(D35:L35) -> 0 | P35: =SUM(N35:O35) -> 0
A36: Impôts et taxes | B36: =+B35 -> 28/2 - 6/3 | C36: CET (CVAE + CFE) | M36: =SUM(D36:L36) -> 0 | P36: =SUM(N36:O36) -> 0
A37: Impôts et taxes | B37: =+B36 -> 28/2 - 6/3 | C37: Autres taxes | D37: =SUM(D38:D43) -> 0 | E37: =SUM(E38:E43) -> 0 | F37: =SUM(F38:F43) -> 0 | G37: =SUM(G38:G43) -> 0 | H37: =SUM(H38:H43) -> 0 | I37: =SUM(I38:I43) -> 0 | J37: =SUM(J38:J43) -> 0 | K37: =SUM(K38:K43) -> 0 | L37: =SUM(L38:L43) -> 0 | M37: =SUM(D37:L37) -> 0 | N37: =SUM(N38:N43) -> 0 | O37: =SUM(O38:O43) -> 0 | P37: =SUM(N37:O37) -> 0
A38: Impôts et taxes | B38: =+B37 -> 28/2 - 6/3 | C38: Taxe foncière | M38: =SUM(D38:L38) -> 0 | P38: =SUM(N38:O38) -> 0
A39: Impôts et taxes | B39: =+B38 -> 28/2 - 6/3 | C39: C3S | M39: =SUM(D39:L39) -> 0 | P39: =SUM(N39:O39) -> 0
A40: Impôts et taxes | B40: =+B39 -> 28/2 - 6/3 | C40: Effort de construction (PEEC) | M40: =SUM(D40:L40) -> 0 | P40: =SUM(N40:O40) -> 0
A41: Impôts et taxes | B41: =+B40 -> 28/2 - 6/3 | C41: UIMM | M41: =SUM(D41:L41) -> 0 | P41: =SUM(N41:O41) -> 0
...

Sheet AVR 2023
A1: AVRIL
C2: =+TODAY() -> 44999 | D2: ARKEA | E2: BNPP | F2: CIC | G2: CRCA | H2: CRCA E-COMMERCE | I2: CREDIT COOP | J2: HSBC € | K2: LCL | L2: SOCIETE GLE | M2: TOTAL € | N2: BNP $ | O2: HSBC $ | P2: TOTAL $
B3: 44896 | C3: Découvert autorisé | D3: 3000000 | E3: 5000000 | F3: 3000000 | G3: 5000000 | H3: 0 | I3: 0 | J3: 0 | K3: 0 | L3: 0 | M3: - | N3: 1500000 | O3: 0 | P3: -
B4: ='MAR 2023'!B376 -> 45011 | C4: Solde min. | D4: ='MAR 2023'!D376 -> 100000 | E4: ='MAR 2023'!E376 -> 1700000 | F4: ='MAR 2023'!F376 -> 800000 | G4: ='MAR 2023'!G376 -> 4500000 | H4: ='MAR 2023'!H376 -> 60000 | I4: ='MAR 2023'!I376 -> 0 | J4: ='MAR 2023'!J376 -> 40000 | K4: ='MAR 2023'!K376 -> 1000000 | L4: ='MAR 2023'!L376 -> 300000 | M4: =SUM(D4:L4) -> 8500000 | N4: ='MAR 2023'!N376 -> 180000 | O4: ='MAR 2023'!O376 -> 250000 | P4: =SUM(N4:O4) -> 430000
C5: Solde haut | D5: ='MAR 2023'!D377 -> 120000 | E5: ='MAR 2023'!E377 -> 1900000 | F5: ='MAR 2023'!F377 -> 1000000 | G5: ='MAR 2023'!G377 -> 5200000 | H5: ='MAR 2023'!H377 -> 80000 | I5: ='MAR 2023'!I377 -> 0 | J5: ='MAR 2023'!J377 -> 80000 | K5: ='MAR 2023'!K377 -> 1200000 | L5: ='MAR 2023'!L377 -> 350000 | M5: =SUM(D5:L5) -> 9930000 | N5: ='MAR 2023'!N377 -> 200000 | O5: ='MAR 2023'!O377 -> 400000 | P5: =SUM(N5:O5) -> 600000
B6: =+B4+1 -> 45012 | E6: ='MAR 2023'!E378 -> 1 | F6: ='MAR 2023'!F378 -> 1 | G6: ='MAR 2023'!G378 -> 1 | H6: ='MAR 2023'!H378 -> 1 | I6: ='MAR 2023'!I378 -> 0 | J6: ='MAR 2023'!J378 -> 1 | K6: ='MAR 2023'!K378 -> 1 | L6: ='MAR 2023'!L378 -> 1 | N6: ='MAR 2023'!N378 -> 1 | O6: ='MAR 2023'!O378 -> 1
A8: DECAISSEMENTS (avec potentiel) | B8: =+B9 -> 28/3 - 3/4 | C8: DECAISSEMENTS (avec potentiel) | D8: =SUM(D9,D19,D25,D44,D34) -> 0 | E8: =SUM(E9,E19,E25,E44,E34) -> 0 | F8: =SUM(F9,F19,F25,F44,F34) -> 0 | G8: =SUM(G9,G19,G25,G44,G34) -> 0 | H8: =SUM(H9,H19,H25,H44,H34) -> 0 | I8: =SUM(I9,I19,I25,I44,I34) -> 0 | J8: =SUM(J9,J19,J25,J44,J34) -> 0 | K8: =SUM(K9,K19,K25,K44,K34) -> 0 | L8: =SUM(L9,L19,L25,L44,L34) -> 0 | M8: =SUM(D8:L8) -> 0 | N8: =SUM(N9,N19,N25,N44,N34) -> 0 | O8: =SUM(O9,O19,O25,O44,O34) -> 0 | P8: =SUM(N8:O8) -> 0
A9: Fournisseurs | B9: =DAY(B4+2)&"/"&MONTH(B4+2)&" - "&DAY(B97+1)&"/"&MONTH(B97+1) -> 28/3 - 3/4 | C9: Fournisseurs | D9: =+SUM(D10:D11,D15) -> 0 | E9: =+SUM(E10:E11,E15) -> 0 | F9: =+SUM(F10:F11,F15) -> 0 | G9: =+SUM(G10:G11,G15) -> 0 | H9: =+SUM(H10:H11,H15) -> 0 | I9: =+SUM(I10:I11,I15) -> 0 | J9: =+SUM(J10:J11,J15) -> 0 | K9: =+SUM(K10:K11,K15) -> 0 | L9: =+SUM(L10:L11,L15) -> 0 | M9: =SUM(D9:L9) -> 0 | N9: =+SUM(N10:N11,N15) -> 0 | O9: =+SUM(O10:O11,O15) -> 0 | P9: =SUM(N9:O9) -> 0
A10: Fournisseurs | B10: =+B9 -> 28/3 - 3/4 | C10: Virements TIERS | M10: =SUM(D10:L10) -> 0 | P10: =SUM(N10:O10) -> 0
A11: Fournisseurs | B11: =+B10 -> 28/3 - 3/4 | C11: Virements FILIALES | M11: =SUM(D11:L11) -> 0 | P11: =SUM(N11:O11) -> 0
A12: Fournisseurs | B12: =+B11 -> 28/3 - 3/4 | C12: PSRO | M12: =SUM(D12:L12) -> 0 | P12: =SUM(N12:O12) -> 0
A13: Fournisseurs | B13: =+B12 -> 28/3 - 3/4 | C13: PCN | M13: =SUM(D13:L13) -> 0 | P13: =SUM(N13:O13) -> 0
A14: Fournisseurs | B14: =+B13 -> 28/3 - 3/4 | C14: Autres filiales | M14: =SUM(D14:L14) -> 0 | P14: =SUM(N14:O14) -> 0
A15: Fournisseurs | B15: =+B14 -> 28/3 - 3/4 | C15: Prélèvements TIERS | M15: =SUM(D15:L15) -> 0 | P15: =SUM(N15:O15) -> 0
A16: Fournisseurs | B16: =+B15 -> 28/3 - 3/4 | C16: Frais bancaires | M16: =SUM(D16:L16) -> 0 | P16: =SUM(N16:O16) -> 0
A17: Fournisseurs | B17: =+B16 -> 28/3 - 3/4 | C17: Cartes affaires / procurement | M17: =SUM(D17:L17) -> 0 | P17: =SUM(N17:O17) -> 0
A18: Fournisseurs | B18: =+B17 -> 28/3 - 3/4 | C18: Autres frais généraux | M18: =SUM(D18:L18) -> 0 | P18: =SUM(N18:O18) -> 0
A19: Fournisseurs (potentiel) | B19: =DAY(B4+2)&"/"&MONTH(B4+2)&" - "&DAY(B97+1)&"/"&MONTH(B97+1) -> 28/3 - 3/4 | C19: Fournisseurs (potentiel) | M19: =SUM(D19:L19) -> 0 | P19: =SUM(N19:O19) -> 0
A20: Fournisseurs (potentiel) | B20: =+B19 -> 28/3 - 3/4 | C20: Virements TIERS (potentiel) | M20: =SUM(D20:L20) -> 0 | P20: =SUM(N20:O20) -> 0
A21: Fournisseurs (potentiel) | B21: =+B20 -> 28/3 - 3/4 | C21: Virements FILIALES (potentiel) | M21: =SUM(D21:L21) -> 0 | P21: =SUM(N21:O21) -> 0
A22: Fournisseurs (potentiel) | B22: =+B21 -> 28/3 - 3/4 | C22: PSRO | M22: =SUM(D22:L22) -> 0 | P22: =SUM(N22:O22) -> 0
A23: Fournisseurs (potentiel) | B23: =+B22 -> 28/3 - 3/4 | C23: PCN | M23: =SUM(D23:L23) -> 0 | P23: =SUM(N23:O23) -> 0
A24: Fournisseurs (potentiel) | B24: =+B23 -> 28/3 - 3/4 | C24: Autres filiales | M24: =SUM(D24:L24) -> 0 | P24: =SUM(N24:O24) -> 0
A25: Personnel et organismes sociaux | B25: =DAY(B4+2)&"/"&MONTH(B4+2)&" - "&DAY(B97+1)&"/"&MONTH(B97+1) -> 28/3 - 3/4 | C25: Personnel et organismes sociaux | M25: =SUM(D25:L25) -> 0 | P25: =SUM(N25:O25) -> 0
A26: Personnel et organismes sociaux | B26: =+B25 -> 28/3 - 3/4 | C26: Charges de personnel | M26: =SUM(D26:L26) -> 0 | P26: =SUM(N26:O26) -> 0
A27: Personnel et organismes sociaux | B27: =+B26 -> 28/3 - 3/4 | C27: Salaires | M27: =SUM(D27:L27) -> 0 | P27: =SUM(N27:O27) -> 0
A28: Personnel et organismes sociaux | B28: =+B27 -> 28/3 - 3/4 | C28: URSSAF | M28: =SUM(D28:L28) -> 0 | P28: =SUM(N28:O28) -> 0
A29: Personnel et organismes sociaux | B29: =+B28 -> 28/3 - 3/4 | C29: Prélèvement à la source | M29: =SUM(D29:L29) -> 0 | P29: =SUM(N29:O29) -> 0
A30: Personnel et organismes sociaux | B30: =+B29 -> 28/3 - 3/4 | C30: Autres charges de personnel | M30: =SUM(D30:L30) -> 0 | P30: =SUM(N30:O30) -> 0
A31: Personnel et organismes sociaux | B31: =+B30 -> 28/3 - 3/4 | C31: Mutuelle | M31: =SUM(D31:L31) -> 0 | P31: =SUM(N31:O31) -> 0
A32: Personnel et organismes sociaux | B32: =+B31 -> 28/3 - 3/4 | C32: Retraite | M32: =SUM(D32:L32) -> 0 | P32: =SUM(N32:O32) -> 0
A33: Personnel et organismes sociaux | B33: =+B32 -> 28/3 - 3/4 | C33: Intéressement et participation | M33: =SUM(D33:L33) -> 0 | P33: =SUM(N33:O33) -> 0
A34: Impôts et taxes | B34: =DAY(B4+2)&"/"&MONTH(B4+2)&" - "&DAY(B97+1)&"/"&MONTH(B97+1) -> 28/3 - 3/4 | C34: Impôts et taxes | M34: =SUM(D34:L34) -> 0 | P34: =SUM(N34:O34) -> 0
A35: Impôts et taxes | B35: =+B34 -> 28/3 - 3/4 | C35: TVA | M35: =SUM(D35:L35) -> 0 | P35: =SUM(N35:O35) -> 0
A36: Impôts et taxes | B36: =+B35 -> 28/3 - 3/4 | C36: CET (CVAE + CFE) | M36: =SUM(D36:L36) -> 0 | P36: =SUM(N36:O36) -> 0
A37: Impôts et taxes | B37: =+B36 -> 28/3 - 3/4 | C37: Autres taxes | M37: =SUM(D37:L37) -> 0 | P37: =SUM(N37:O37) -> 0
A38: Impôts et taxes | B38: =+B37 -> 28/3 - 3/4 | C38: Taxe foncière | M38: =SUM(D38:L38) -> 0 | P38: =SUM(N38:O38) -> 0
A39: Impôts et taxes | B39: =+B38 -> 28/3 - 3/4 | C39: C3S | M39: =SUM(D39:L39) -> 0 | P39: =SUM(N39:O39) -> 0
A40: Impôts et taxes | B40: =+B39 -> 28/3 - 3/4 | C40: Effort de construction (PEEC) | M40: =SUM(D40:L40) -> 0 | P40: =SUM(N40:O40) -> 0
A41: Impôts et taxes | B41: =+B40 -> 28/3 - 3/4 | C41: UIMM | M41: =SUM(D41:L41) -> 0 | P41: =SUM(N41:O41) -> 0
...

Sheet Feuil1
B1: Soldes Initial€ | C1: Solde MAJ | D1: Encours € | F1: Disponible €
A2: s0 | B2: 4093106 | D2: 39000000 | F2: 68000000 | G2: 39000000 | Q2: =IF(B3<$H$2,D2+$H$2-B3,D2) -> 39000000
A3: S1 | B3: 4418296 | D3: =IF(B3<0,D2-B3,D2) -> 39000000 | I3: si solde negatif faire un tirage du même montant une fois que que le solde passe en positif rembourser le tirage
A4: S2 | B4: 3772496 | D4: =IF(B4<0,D3-B4,D3) -> 39000000 | I4: Si solde positif ne pas faire tirage
A5: S3 | B5: 3402131 | D5: =IF(B5<0,D4-B5,D4) -> 39000000 | I5: Mettre à jour les soldes à chaque tirage
A6: S4 | B6: 6218479 | D6: =IF(B6<0,D5-B6,D5) -> 39000000 | I6: Dès que le solde passe en positif l'encours doit diminuer
A7: S5 | B7: -928021 | D7: =IF(B7<0,D6-B7,D6) -> 39928021 | E7: =+B7+928021 -> 0
A8: S6 | B8: =-365521 -> -365521 | C8: =B8+IF(D7>D6,-B7,B8) -> 562500 | D8: =IF(B8<0,D7-B8,D7) -> 40293542
A9: S7 | B9: =-1103316 -> -1103316 | C9: =B9+IF(D8>D7,-$B$7,B9) -> -175295 | D9: =IF(B9<0,D8-B9,D8) -> 41396858
A10: S8 | B10: =-1712446 -> -1712446 | C10: =B10+IF(D9>D8,-$B$7,B10) -> -784425 | D10: =IF(B10<0,D9-B10,D9) -> 43109304
A11: s9 | B11: 500000 | C11: =B11+IF(D10>D9,-$B$7,B11) -> 1428021 | D11: =IF(B11<0,D10-B11,D10) -> 43109304
C12: =B12+IF(D11>D10,-$B$7,B12) -> 0
B14: Soldes $ | D14: Encours $ | F14: Disponible $
A15: s0 | D15: 0 | F15: 1500000
A16: S1
A17: S2
A18: S3 | E18: =-928021+928021 -> 0
A19: S4 | E19: =-365521+928021 -> 562500
A20: S5 | E20: =-1103316+928021 -> -175295
A21: S6 | E21: =-1712446+928021 -> -784425
A22: S7
A23: S8
A24: S9
B29: Encours RCF | D29: Dette Globale | F29: % lignes tirées
B30: 30 | D30: 50 | F30: =+B30/D30 -> 0.6
B32: Solde | D32: Tirage | F32: MAJ Encours | G32: MAJ % lignes tirées
A33: S1 | B33: -2 | D33: 2 | F33: 32 | G33: =+F33/D30 -> 0.64
