Workbook

Sheet 1
A2: SERVICE | BO2: TOTAL ANNUEL
C3: 1 | D3: 2 | E3: 3 | F3: 4 | G3: JANVIER | H3: 5 | I3: 6 | J3: 7 | K3: 8 | L3: FÉVRIER | M3: 9 | N3: 10 | O3: 11 | P3: 12 | Q3: 13 | R3: MARS | S3: 14 | T3: 15 | U3: 16 | V3: 17 | W3: AVRIL | X3: 18 | Y3: 19 | Z3: 20 | AA3: 21 | AB3: MAI | AC3: 22 | AD3: 23 | AE3: 24 | AF3: 25 | AG3: 26 | AH3: JUIN | AI3: 27 | AJ3: 28 | AK3: 29 | AL3: 30 | AM3: JUILLET | AN3: 31 | AO3: 32 | AP3: 33 | AQ3: 34 | AR3: 35 | AS3: AOÛT | AT3: 36 | AU3: 37 | AV3: 38 | AW3: 39 | AX3: SEPTEMBRE | AY3: 40 | AZ3: 41 | BA3: 42 | BB3: 43 | BC3: OCTOBRE | BD3: 44 | BE3: 45 | BF3: 46 | BG3: 47 | BH3: 48 | BI3: NOVEMBRE | BJ3: 49 | BK3: 50 | BL3: 51 | BM3: 52 | BN3: DÉCEMBRE | BP3: Contrôle
A4: 1 | C4: 326.46 | D4: 295.33 | E4: 232.01 | F4: =311.59+28.59 -> 340.18 | G4: =SUM(C4:F4) -> 1193.98 | H4: 375.25 | I4: 358.8 | J4: 196.27 | K4: 327.09 | L4: =SUM(H4:K4) -> 1257.41 | M4: 332.12 | N4: 307.42 | O4: 300.16 | P4: 357.63 | Q4: 191.71 | R4: =SUM(M4:Q4) -> 1489.04 | S4: 281.48 | T4: 227.12 | U4: =344.16+0 -> 344.16 | V4: =279.45+0.28 -> 279.73 | W4: =SUM(S4:V4) -> 1132.49 | X4: 365.45 | Y4: 330.54 | Z4: 379.92 | AA4: 280.71 | AB4: =SUM(X4:AA4) -> 1356.62 | AC4: 307.54 | AD4: 314.38 | AE4: 281.52 | AF4: =254.68+16.97 -> 271.65 | AG4: =354.93+85.76 -> 440.69 | AH4: =SUM(AC4:AG4) -> 1615.78 | AI4: 234.57 | AJ4: =136.43+14.29 -> 150.72 | AK4: 197.55 | AL4: =285.21+19.65 -> 304.86 | AM4: =SUM(AI4:AL4) -> 887.7 | AN4: 234.37 | AO4: 326.63 | AP4: 386.48 | AQ4: 371.42 | AR4: 418.65 | AS4: =SUM(AN4:AR4) -> 1737.55 | AT4: =114.24+399.67 -> 513.91 | AU4: 375 | AV4: =199.61+4.2+134.83 -> 338.64 | AW4: =258.04+19.39 -> 277.43 | AX4: =SUM(AT4:AW4) -> 1504.98 | AY4: 275.45 | AZ4: =240.78+72 -> 312.78 | BA4: 304.43 | BB4: 235.87 | BC4: =SUM(AY4:BB4) -> 1128.53 | BD4: 291.89 | BE4: 286.44 | BF4: 288.89 | BG4: =271.92+14+5.04 -> 290.96 | BH4: =287.19+15.32 -> 302.51 | BI4: =SUM(BD4:BH4) -> 1460.69 | BJ4: 314.55 | BK4: =284.38+42.86 -> 327.24 | BL4: =6.12+280.62+57.14 -> 343.88 | BM4: =282.64+101.54 -> 384.18 | BN4: =SUM(BJ4:BM4) -> 1369.85 | BO4: =+G4+L4+R4+W4+AB4+AH4+AM4+AS4+AX4+BC4+BI4+BN4 -> 16134.62
A5: 2 | C5: 279.65 | D5: =272.03+71.47 -> 343.5 | E5: 201.82 | F5: =241.06+37.71 -> 278.77 | G5: =SUM(C5:F5) -> 1103.74 | H5: =301.25+4.44 -> 305.69 | I5: 254.24 | J5: 263.4 | K5: 353.37 | L5: =SUM(H5:K5) -> 1176.7 | M5: 389.63 | N5: =243.54+28 -> 271.54 | O5: 247.23 | P5: 149.71 | Q5: 266.34 | R5: =SUM(M5:Q5) -> 1324.45 | S5: 334.17 | T5: =234.61+3.2+18 -> 255.81 | U5: =302.93+6.13 -> 309.06 | V5: =310.89+9.62+1.78 -> 322.29 | W5: =SUM(S5:V5) -> 1221.33 | X5: 351.32 | Y5: =15.3+335.71 -> 351.01 | Z5: 390.38 | AA5: 375.58 | AB5: =SUM(X5:AA5) -> 1468.29 | AC5: 273.22 | AD5: 432.13 | AE5: =339.29+28.59 -> 367.88 | AF5: =429.74+20.36 -> 450.1 | AG5: 347.03 | AH5: =SUM(AC5:AG5) -> 1870.36 | AI5: 108.29 | AJ5: =150.98+56.14 -> 207.12 | AK5: =282.42+14.82+80.16 -> 377.4 | AL5: =296.31+59.45 -> 355.76 | AM5: =SUM(AI5:AL5) -> 1048.57 | AN5: 243.9 | AO5: =6.12+339.49 -> 345.61 | AP5: 375.5 | AQ5: =333.37+10.39 -> 343.76 | AR5: 334.88 | AS5: =SUM(AN5:AR5) -> 1643.65 | AT5: =114.24+341.1+43.12 -> 498.46 | AU5: 414.31 | AV5: =389.85+4.2+21.85 -> 415.9 | AW5: 328.79 | AX5: =SUM(AT5:AW5) -> 1657.46 | AY5: 309.61 | AZ5: =252.65+53.82 -> 306.47 | BA5: 396.16 | BB5: =216.16+33.64 -> 249.8 | BC5: =SUM(AY5:BB5) -> 1262.04 | BD5: =271.03+21.44 -> 292.47 | BE5: =163.68+54.39 -> 218.07 | BF5: 314.81 | BG5: 184.72 | BH5: =234.35+14 -> 248.35 | BI5: =SUM(BD5:BH5) -> 1258.42 | BJ5: 272.19 | BK5: =312.83+103.86 -> 416.69 | BL5: =6.46+316.36 -> 322.82 | BM5: =235.59+71.73+1.7 -> 309.02 | BN5: =SUM(BJ5:BM5) -> 1320.72 | BO5: =+G5+L5+R5+W5+AB5+AH5+AM5+AS5+AX5+BC5+BI5+BN5 -> 16355.73
A6: 3 | C6: 145.38 | D6: 116.08 | E6: =89.91+10.78 -> 100.69 | F6: =144.77+257.04+705.6 -> 1107.41 | G6: =SUM(C6:F6) -> 1469.56 | H6: 110.94 | I6: 175.11 | J6: 199.21 | K6: =257.04+705.6+173.88 -> 1136.52 | L6: =SUM(H6:K6) -> 1621.78 | M6: 111.9 | N6: 111.86 | O6: 146.7 | P6: 110.79 | Q6: =321.3+882+113.2 -> 1316.5 | R6: =SUM(M6:Q6) -> 1797.75 | S6: 16.92 | T6: 175.29 | U6: 177.57 | V6: =148.9+257.04+705.6 -> 1111.54 | W6: =SUM(S6:V6) -> 1481.32 | X6: 182.08 | Y6: 123.41 | Z6: 150.09 | AA6: 122.81 | AB6: =SUM(X6:AA6) -> 578.39 | AC6: 115.89 | AD6: 115.21 | AE6: 111.38 | AF6: 105.53 | AG6: =322.32+718.8+181.18 -> 1222.3 | AH6: =SUM(AC6:AG6) -> 1670.31 | AI6: =149.26+12.06 -> 161.32 | AJ6: =102.18+36.6 -> 138.78 | AK6: 104.58 | AL6: =89.35+42.88+354.96+726 -> 1213.19 | AM6: =SUM(AI6:AL6) -> 1617.87 | AN6: 104.56 | AO6: 156.42 | AP6: 132.43 | AQ6: 119.52 | AR6: =443.7+907.5+209.47 -> 1560.67 | AS6: =SUM(AN6:AR6) -> 2073.6 | AT6: 219.91 | AU6: 141.05 | AV6: 198.39 | AW6: =369.24+729.6+144.29+28.58 -> 1271.71 | AX6: =SUM(AT6:AW6) -> 1831.06 | AY6: 153.75 | AZ6: 75.61 | BA6: 185.8 | BB6: =141.77+375.36+730.8 -> 1247.93 | BC6: =SUM(AY6:BB6) -> 1663.09 | BD6: 243.31 | BE6: 112.82 | BF6: 132.31 | BG6: 170.73 | BH6: =515.1+1033.5+121.17+41.99 -> 1711.76 | BI6: =SUM(BD6:BH6) -> 2370.93 | BJ6: 121.26 | BK6: =122+42.86 -> 164.86 | BL6: 162.69 | BM6: =414.12+831.6+137.76+42.86 -> 1426.34 | BN6: =SUM(BJ6:BM6) -> 1875.15 | BO6: =+G6+L6+R6+W6+AB6+AH6+AM6+AS6+AX6+BC6+BI6+BN6 -> 20050.81
A7: 4 | C7: 221.79 | D7: 129.37 | E7: =187.92+14.5 -> 202.42 | F7: 137.02 | G7: =SUM(C7:F7) -> 690.6 | H7: 299.23 | I7: 231.44 | J7: 163.88 | K7: 246.24 | L7: =SUM(H7:K7) -> 940.79 | M7: 263.06 | N7: 95.31 | O7: 145.42 | P7: =154.1+0.5 -> 154.6 | Q7: 142.44 | R7: =SUM(M7:Q7) -> 800.83 | S7: 190.54 | T7: 255.84 | U7: 144.22 | V7: =218.89+0.07 -> 218.96 | W7: =SUM(S7:V7) -> 809.56 | X7: =167.48+21.6 -> 189.08 | Y7: 177.85 | Z7: 188.22 | AA7: =205.6+326.4+882 -> 1414 | AB7: =SUM(X7:AA7) -> 1969.15 | AC7: =259.79+7.5+16.8 -> 284.09 | AD7: 197.07 | AE7: 266.34 | AF7: 195.54 | AG7: 195.58 | AH7: =SUM(AC7:AG7) -> 1138.62 | AI7: 218.62 | AJ7: =113.68+59.09 -> 172.77 | AK7: 265.91 | AL7: =208.59+67.64 -> 276.23 | AM7: =SUM(AI7:AL7) -> 933.53 | AN7: =155.79+11.5 -> 167.29 | AO7: =280.72+7.67 -> 288.39 | AP7: 114.69 | AQ7: 258.67 | AR7: 208.51 | AS7: =SUM(AN7:AR7) -> 1037.55 | AT7: 208.61 | AU7: 310.79 | AV7: 190.47 | AW7: 338.3 | AX7: =SUM(AT7:AW7) -> 1048.17 | AY7: 170.01 | AZ7: 125.03 | BA7: 194.85 | BB7: =82.54+0.6 -> 83.14 | BC7: =SUM(AY7:BB7) -> 573.03 | BD7: =161.83+28.59 -> 190.42 | BE7: 190.31 | BF7: 159.3 | BG7: 140.72 | BH7: =173.69+55.99 -> 229.68 | BI7: =SUM(BD7:BH7) -> 910.43 | BJ7: 163.7 | BK7: 158.57 | BL7: 225.06 | BM7: 123.32 | BN7: =SUM(BJ7:BM7) -> 670.65 | BO7: =+G7+L7+R7+W7+AB7+AH7+AM7+AS7+AX7+BC7+BI7+BN7 -> 11522.91
A8: 5 | C8: 398.63 | D8: 377.41 | E8: 359.76 | F8: 372.03 | G8: =SUM(C8:F8) -> 1507.83 | H8: 401.32 | I8: 361.73 | J8: =391.58+11 -> 402.58 | K8: 448.73 | L8: =SUM(H8:K8) -> 1614.36 | M8: 443.39 | N8: 406.21 | O8: 384.62 | P8: 389.95 | Q8: 405.11 | R8: =SUM(M8:Q8) -> 2029.28 | S8: =347.77+43.2 -> 390.97 | T8: =476.25+52.92 -> 529.17 | U8: 461.83 | V8: 458.45 | W8: =SUM(S8:V8) -> 1840.42 | X8: =451.26+26.46 -> 477.72 | Y8: 476.89 | Z8: =334.39+48.96 -> 383.35 | AA8: 412.63 | AB8: =SUM(X8:AA8) -> 1750.59 | AC8: 387.58 | AD8: =466.55+24.51 -> 491.06 | AE8: =410.03+49.01 -> 459.04 | AF8: 505.89 | AG8: =498.51+23.8+73.52 -> 595.83 | AH8: =SUM(AC8:AG8) -> 2439.4 | AI8: 464.46 | AJ8: =411.54+111.56 -> 523.1 | AK8: 458.76 | AL8: =7.59+366.04+129.7 -> 503.33 | AM8: =SUM(AI8:AL8) -> 1949.65 | AN8: =376.39+23.01 -> 399.4 | AO8: 608.9 | AP8: 612.82 | AQ8: 388.42 | AR8: 615.33 | AS8: =SUM(AN8:AR8) -> 2624.87 | AT8: =418.83+53.9 -> 472.73 | AU8: 647.22 | AV8: =8.64+534.75 -> 543.39 | AW8: =248.74+285.85+20.4 -> 554.99 | AX8: =SUM(AT8:AW8) -> 2218.33 | AY8: =433.33+6 -> 439.33 | AZ8: =330.83+71.4 -> 402.23 | BA8: 451.03 | BB8: 437.81 | BC8: =SUM(AY8:BB8) -> 1730.4 | BD8: =386.74+28.8 -> 415.54 | BE8: =397.77+9.17 -> 406.94 | BF8: 512.15 | BG8: 503.84 | BH8: =4.08+346.52+55.99 -> 406.59 | BI8: =SUM(BD8:BH8) -> 2245.06 | BJ8: 411.97 | BK8: 333.72 | BL8: =359.99+63.36 -> 423.35 | BM8: =291.47+107.35 -> 398.82 | BN8: =SUM(BJ8:BM8) -> 1567.86 | BO8: =+G8+L8+R8+W8+AB8+AH8+AM8+AS8+AX8+BC8+BI8+BN8 -> 23518.05
A9: 6 | C9: 410.09 | D9: 405.15 | E9: 493.9 | F9: =304.21+100.05 -> 404.26 | G9: =SUM(C9:F9) -> 1713.4 | H9: 436.46 | I9: 420.08 | J9: =533.28+11 -> 544.28 | K9: 413.79 | L9: =SUM(H9:K9) -> 1814.61 | M9: 429.76 | N9: =289.97+100.05 -> 390.02 | O9: 471.86 | P9: =437.05+10.08 -> 447.13 | Q9: 411.59 | R9: =SUM(M9:Q9) -> 2150.36 | S9: =503.7+100.05 -> 603.75 | T9: 561.81 | U9: =458.12+100.05 -> 558.17 | V9: 16.2 | W9: =SUM(S9:V9) -> 1739.93 | X9: =365.14+139.06 -> 504.2 | Y9: =43.2+89.38+211.73 -> 344.31 | Z9: =343.49+100.05 -> 443.54 | AA9: 423.05 | AB9: =SUM(X9:AA9) -> 1715.1 | AC9: 445 | AD9: 438.59 | AE9: 452.27 | AF9: =399.13+24.4 -> 423.53 | AG9: =287.85+114.35+8.64 -> 410.84 | AH9: =SUM(AC9:AG9) -> 2170.23 | AI9: 514.3 | AJ9: =279.19+114.35 -> 393.54 | AK9: 485.57 | AL9: =353.56+71.47 -> 425.03 | AM9: =SUM(AI9:AL9) -> 1818.44 | AN9: 397.42 | AO9: =593.31+24.51 -> 617.82 | AP9: 635.74 | AQ9: 384.85 | AR9: 566.07 | AS9: =SUM(AN9:AR9) -> 2601.9 | AT9: =427.18+53.9 -> 481.08 | AU9: =32.4+782.08 -> 814.48 | AV9: 760.8 | AW9: =286.62+185.8 -> 472.42 | AX9: =SUM(AT9:AW9) -> 2528.78 | AY9: 506.67 | AZ9: =352.82+57.12 -> 409.94 | BA9: 490.16 | BB9: 426.53 | BC9: =SUM(AY9:BB9) -> 1833.3 | BD9: =344.89+28.59 -> 373.48 | BE9: =381.65+30.94 -> 412.59 | BF9: =391.11+14.91 -> 406.02 | BG9: 447.29 | BH9: =373.95+118.46 -> 492.41 | BI9: =SUM(BD9:BH9) -> 2131.79 | BJ9: 429.5 | BK9: =543.95+100 -> 643.95 | BL9: =4.08+644.94 -> 649.02 | BM9: =435.72+163.68 -> 599.4 | BN9: =SUM(BJ9:BM9) -> 2321.87 | BO9: =+G9+L9+R9+W9+AB9+AH9+AM9+AS9+AX9+BC9+BI9+BN9 -> 24539.71
A10: 7 | C10: 539.95 | D10: 475.32 | E10: =463.1+2.4 -> 465.5 | F10: 521.54 | G10: =SUM(C10:F10) -> 2002.31 | H10: 434.45 | I10: 289.14 | J10: =517.47+11 -> 528.47 | K10: 373.97 | L10: =SUM(H10:K10) -> 1626.03 | M10: 225.65 | N10: =38.6+340.64+24.51 -> 403.75 | O10: 508.74 | P10: 452.1 | Q10: =609.63+6.13 -> 615.76 | R10: =SUM(M10:Q10) -> 2206 | S10: 617.81 | T10: 611.39 | U10: =282.36+123.54 -> 405.9 | V10: 260.39 | W10: =SUM(S10:V10) -> 1895.49 | X10: =394.32+218.02 -> 612.34 | Y10: =309.77+1.81 -> 311.58 | Z10: 566.63 | AA10: 484.77 | AB10: =SUM(X10:AA10) -> 1975.32 | AC10: =306.79+3.06 -> 309.85 | AD10: 690.12 | AE10: =429.12+12.49 -> 441.61 | AF10: =523.69+40.73 -> 564.42 | AG10: =146.61+53.04 -> 199.65 | AH10: =SUM(AC10:AG10) -> 2205.65 | AI10: 539.07 | AJ10: =148.56+214.4 -> 362.96 | AK10: 348.56 | AL10: =297.94+11.51 -> 309.45 | AM10: =SUM(AI10:AL10) -> 1560.04 | AN10: =410.24+40.81 -> 451.05 | AO10: 912.16 | AP10: =284.88+57.14+0.27 -> 342.29 | AQ10: =762.48+53.67 -> 816.15 | AR10: =15.12+846.27 -> 861.39 | AS10: =SUM(AN10:AR10) -> 3383.04 | AT10: =491.58+299.88 -> 791.46 | AU10: =679.38+43.54 -> 722.92 | AV10: =176.88+61.46 -> 238.34 | AW10: =272.18+233.78 -> 505.96 | AX10: =SUM(AT10:AW10) -> 2258.68 | AY10: =286.18+357.31 -> 643.49 | AZ10: =329.58+178.5 -> 508.08 | BA10: 460.88 | BB10: 500.17 | BC10: =SUM(AY10:BB10) -> 2112.62 | BD10: =434.48+25.23 -> 459.71 | BE10: 565.45 | BF10: =343.76+214.88 -> 558.64 | BG10: 694.05 | BH10: =540.98+153.98 -> 694.96 | BI10: =SUM(BD10:BH10) -> 2972.81 | BJ10: =456.21+22.31 -> 478.52 | BK10: =448.42+315.36 -> 763.78 | BL10: 466.85 | BM10: =177.18+291.42 -> 468.6 | BN10: =SUM(BJ10:BM10) -> 2177.75 | BO10: =+G10+L10+R10+W10+AB10+AH10+AM10+AS10+AX10+BC10+BI10+BN10 -> 26375.74
A11: 8 | C11: 89.34 | D11: 93.06 | E11: 107.22 | F11: =131.58+30 -> 161.58 | G11: =SUM(C11:F11) -> 451.2 | H11: 120.82 | I11: 109.13 | J11: 143.08 | K11: 133.44 | L11: =SUM(H11:K11) -> 506.47 | M11: 134.66 | N11: 122.92 | O11: 76.77 | P11: 40.38 | Q11: =88.7+12.22 -> 100.92 | R11: =SUM(M11:Q11) -> 475.65 | S11: =4.44+125.83+1.27 -> 131.54 | T11: =148.78+6 -> 154.78 | U11: 53.27 | V11: =44.26+0.14+8.28 -> 52.68 | W11: =SUM(S11:V11) -> 392.27 | X11: =105.5+4.44 -> 109.94 | Y11: 103.44 | Z11: 133.21 | AA11: 116.13 | AB11: =SUM(X11:AA11) -> 462.72 | AC11: 140.76 | AD11: 90.94 | AE11: 123.55 | AF11: 122.32 | AG11: 122.71 | AH11: =SUM(AC11:AG11) -> 600.28 | AI11: 108.08 | AJ11: 136.48 | AK11: 34.91 | AL11: 119.51 | AM11: =SUM(AI11:AL11) -> 398.98 | AN11: 92.59 | AO11: =118.46+17.08 -> 135.54 | AP11: =142.89+6.88 -> 149.77 | AQ11: 136.38 | AR11: 96.23 | AS11: =SUM(AN11:AR11) -> 610.51 | AT11: 96.77 | AU11: =116.39+3.85 -> 120.24 | AV11: 39.45 | AW11: 75.3 | AX11: =SUM(AT11:AW11) -> 331.76 | AY11: =128.25+285.6 -> 413.85 | AZ11: 83.79 | BA11: 90.87 | BB11: 136.7 | BC11: =SUM(AY11:BB11) -> 725.21 | BD11: 99.53 | BE11: 104.79 | BF11: =113.03+11.15 -> 124.18 | BG11: =93.11+6.41 -> 99.52 | BH11: 184.35 | BI11: =SUM(BD11:BH11) -> 612.37 | BJ11: 128.3 | BK11: 84.66 | BL11: =114.29+14.29 -> 128.58 | BM11: =129.3+21.63 -> 150.93 | BN11: =SUM(BJ11:BM11) -> 492.47 | BO11: =+G11+L11+R11+W11+AB11+AH11+AM11+AS11+AX11+BC11+BI11+BN11 -> 6059.89
A12: 9 | C12: 25.7 | D12: 18.69 | E12: 21.03 | F12: 20.18 | G12: =SUM(C12:F12) -> 85.6 | H12: 30.69 | I12: 19.12 | J12: 17.45 | K12: 17.85 | L12: =SUM(H12:K12) -> 85.11 | M12: 18.04 | N12: 22.56 | O12: 21.65 | P12: 30.21 | Q12: 20.44 | R12: =SUM(M12:Q12) -> 112.9 | S12: 24.91 | T12: 21.89 | U12: =23.4+0.03 -> 23.43 | V12: 18.19 | W12: =SUM(S12:V12) -> 88.42 | X12: 32.11 | Y12: 20.43 | Z12: 27.06 | AA12: 32.87 | AB12: =SUM(X12:AA12) -> 112.47 | AC12: 22.4 | AD12: 24.94 | AE12: 13.25 | AF12: 25.57 | AG12: 23.01 | AH12: =SUM(AC12:AG12) -> 109.17 | AI12: =26.38+3 -> 29.38 | AJ12: 25.31 | AK12: 18.45 | AL12: 40.67 | AM12: =SUM(AI12:AL12) -> 113.81 | AN12: 8.83 | AO12: =23.46+6.88 -> 30.34 | AP12: 19.8 | AQ12: 25.93 | AR12: 10.65 | AS12: =SUM(AN12:AR12) -> 95.55 | AT12: =15.99+0.96 -> 16.95 | AU12: =49.98+0.6 -> 50.58 | AV12: =28.58+0.68 -> 29.26 | AW12: 19.83 | AX12: =SUM(AT12:AW12) -> 116.62 | AY12: 30.87 | AZ12: 15.99 | BA12: 21.05 | BB12: 29.2 | BC12: =SUM(AY12:BB12) -> 97.11 | BD12: 35.83 | BE12: 18.62 | BF12: 19.3 | BG12: =21.87+6.41 -> 28.28 | BH12: 29.1 | BI12: =SUM(BD12:BH12) -> 131.13 | BJ12: 20.51 | BK12: =33.55+5.29 -> 38.84 | BL12: 24.45 | BM12: 12.73 | BN12: =SUM(BJ12:BM12) -> 96.53 | BO12: =+G12+L12+R12+W12+AB12+AH12+AM12+AS12+AX12+BC12+BI12+BN12 -> 1244.42
A13: 10 | C13: 6.47 | D13: =6.54+3.2 -> 9.74 | E13: 13.57 | F13: 7.57 | G13: =SUM(C13:F13) -> 37.35 | H13: 6.35 | I13: 8.85 | J13: 16.23 | K13: 12.74 | L13: =SUM(H13:K13) -> 44.17 | M13: 3.26 | N13: 23.24 | O13: 13.79 | P13: 13.22 | Q13: 9.03 | R13: =SUM(M13:Q13) -> 62.54 | S13: 11.47 | T13: 10.93 | U13: 4.32 | V13: 6.58 | W13: =SUM(S13:V13) -> 33.3 | X13: 9.76 | Y13: 9.55 | Z13: 7.69 | AA13: 14.37 | AB13: =SUM(X13:AA13) -> 41.37 | AC13: 10.94 | AD13: 12.54 | AE13: 22.31 | AF13: 17.21 | AG13: 6.7 | AH13: =SUM(AC13:AG13) -> 69.7 | AI13: 4.35 | AK13: 12.76 | AL13: 12.52 | AM13: =SUM(AI13:AL13) -> 29.63 | AN13: 4.65 | AQ13: 21.44 | AR13: 10.68 | AS13: =SUM(AN13:AR13) -> 36.77 | AT13: =15.73+0.5 -> 16.23 | AU13: 12.81 | AV13: 13.74 | AW13: =13.13+0.48 -> 13.61 | AX13: =SUM(AT13:AW13) -> 56.39 | AY13: 13.99 | AZ13: 10.5 | BA13: 18.64 | BB13: 12.04 | BC13: =SUM(AY13:BB13) -> 55.17 | BD13: 17.08 | BE13: 4.02 | BF13: 13.02 | BG13: =16.5+4.27 -> 20.77 | BH13: 7.77 | BI13: =SUM(BD13:BH13) -> 62.66 | BJ13: 15.7 | BK13: 11.51 | BL13: 12.61 | BM13: 11.58 | BN13: =SUM(BJ13:BM13) -> 51.4 | BO13: =+G13+L13+R13+W13+AB13+AH13+AM13+AS13+AX13+BC13+BI13+BN13 -> 580.45
A14: 11 | C14: 18.38 | D14: 29.28 | E14: 11.82 | F14: 46.84 | G14: =SUM(C14:F14) -> 106.32 | I14: =51.29+1.68 -> 52.97 | L14: =SUM(H14:K14) -> 52.97 | M14: 27.95 | N14: 16.94 | P14: =27.58+3.06 -> 30.64 | R14: =SUM(M14:Q14) -> 75.53 | T14: 33.25 | U14: 13.04 | W14: =SUM(S14:V14) -> 46.29 | Z14: =82.24+42.88 -> 125.12 | AB14: =SUM(X14:AA14) -> 125.12 | AC14: 21.06 | AE14: 49.38 | AH14: =SUM(AC14:AG14) -> 70.44 | AI14: 79.71 | AJ14: =57.34+14.29+12.06 -> 83.69 | AK14: 34.13 | AL14: 16.15 | AM14: =SUM(AI14:AL14) -> 213.68 | AN14: 63.21 | AO14: 50.76 | AP14: 42.27 | AQ14: 16.8 | AR14: 53.46 | AS14: =SUM(AN14:AR14) -> 226.5 | AT14: =51.58+16.8 -> 68.38 | AV14: =25.2+114.04+8.05 -> 147.29 | AW14: 16.8 | AX14: =SUM(AT14:AW14) -> 232.47 | AY14: =16.8+81.62 -> 98.42 | AZ14: 29.19 | BA14: =44.01+16.5 -> 60.51 | BB14: =21+4.94+16.5 -> 42.44 | BC14: =SUM(AY14:BB14) -> 230.56 | BE14: =33+87.28 -> 120.28 | BF14: =17.4+87.63 -> 105.03 | BG14: =17.4+98.68+14 -> 130.08 | BH14: =21+27.96 -> 48.96 | BI14: =SUM(BD14:BH14) -> 404.35 | BJ14: =80.78+23.2 -> 103.98 | BK14: =16.98+14.29+28.12 -> 59.39 | BL14: 17.7 | BM14: =29.5+30.26 -> 59.76 | BN14: =SUM(BJ14:BM14) -> 240.83 | BO14: =+G14+L14+R14+W14+AB14+AH14+AM14+AS14+AX14+BC14+BI14+BN14 -> 2025.06
A15: 12 | G15: =SUM(C15:F15) -> 0 | L15: =SUM(H15:K15) -> 0 | R15: =SUM(M15:Q15) -> 0 | W15: =SUM(S15:V15) -> 0 | AB15: =SUM(X15:AA15) -> 0 | AH15: =SUM(AC15:AG15) -> 0 | AM15: =SUM(AI15:AL15) -> 0 | AS15: =SUM(AN15:AR15) -> 0 | AX15: =SUM(AT15:AW15) -> 0 | BC15: =SUM(AY15:BB15) -> 0 | BI15: =SUM(BD15:BH15) -> 0 | BN15: =SUM(BJ15:BM15) -> 0 | BO15: =+G15+L15+R15+W15+AB15+AH15+AM15+AS15+AX15+BC15+BI15+BN15 -> 0
A16: 13 | G16: =SUM(C16:F16) -> 0 | L16: =SUM(H16:K16) -> 0 | R16: =SUM(M16:Q16) -> 0 | W16: =SUM(S16:V16) -> 0 | AB16: =SUM(X16:AA16) -> 0 | AH16: =SUM(AC16:AG16) -> 0 | AM16: =SUM(AI16:AL16) -> 0 | AS16: =SUM(AN16:AR16) -> 0 | AX16: =SUM(AT16:AW16) -> 0 | BC16: =SUM(AY16:BB16) -> 0 | BI16: =SUM(BD16:BH16) -> 0 | BN16: =SUM(BJ16:BM16) -> 0 | BO16: =+G16+L16+R16+W16+AB16+AH16+AM16+AS16+AX16+BC16+BI16+BN16 -> 0
A17: TOTAL MENSUEL | G17: =SUM(G4:G16) -> 10361.89 | L17: =SUM(L4:L16) -> 10740.4 | R17: =SUM(R4:R16) -> 12524.33 | W17: =SUM(W4:W16) -> 10680.82 | AB17: =SUM(AB4:AB16) -> 11555.14 | AH17: =SUM(AH4:AH16) -> 13959.94 | AM17: =SUM(AM4:AM16) -> 10571.9 | AS17: =SUM(AS4:AS16) -> 16071.49 | AX17: =SUM(AX4:AX16) -> 13784.7 | BC17: =SUM(BC4:BC16) -> 11411.06 | BI17: =SUM(BI4:BI16) -> 14560.64 | BN17: =SUM(BN4:BN16) -> 12185.08 | BO17: =SUM(BO4:BO16) -> 148407.39 | BP17: =+G17+L17+R17+W17+AB17+AH17+AM17+AS17+AX17+BC17+BI17+BN17 -> 148407.39
BP18: =+IF(BO17=BP17,"OK","Erreur") -> OK

Sheet 2
A2: SERVICE | BO2: TOTAL ANNUEL
C3: 1 | D3: 2 | E3: 3 | F3: 4 | G3: JANVIER | H3: 5 | I3: 6 | J3: 7 | K3: 8 | L3: FÉVRIER | M3: 9 | N3: 10 | O3: 11 | P3: 12 | Q3: 13 | R3: MARS | S3: 14 | T3: 15 | U3: 16 | V3: 17 | W3: AVRIL | X3: 18 | Y3: 19 | Z3: 20 | AA3: 21 | AB3: MAI | AC3: 22 | AD3: 23 | AE3: 24 | AF3: 25 | AG3: 26 | AH3: JUIN | AI3: 27 | AJ3: 28 | AK3: 29 | AL3: 30 | AM3: JUILLET | AN3: 31 | AO3: 32 | AP3: 33 | AQ3: 34 | AR3: 35 | AS3: AOÛT | AT3: 36 | AU3: 37 | AV3: 38 | AW3: 39 | AX3: SEPTEMBRE | AY3: 40 | AZ3: 41 | BA3: 42 | BB3: 43 | BC3: OCTOBRE | BD3: 44 | BE3: 45 | BF3: 46 | BG3: 47 | BH3: 48 | BI3: NOVEMBRE | BJ3: 49 | BK3: 50 | BL3: 51 | BM3: 52 | BN3: DÉCEMBRE | BP3: Contrôle
A4: A1 | C4: 106.76 | D4: 110.77 | E4: 70.9 | F4: =69.45+105.84 -> 175.29 | G4: =SUM(C4:F4) -> 463.72 | H4: 146.86 | I4: 51.96 | J4: 116.02 | K4: =94.08+150.65 -> 244.73 | L4: =SUM(H4:K4) -> 559.57 | M4: 105.37 | N4: 91.83 | O4: 60.19 | P4: 125.04 | Q4: =105.84+141.4 -> 247.24 | R4: =SUM(M4:Q4) -> 629.67 | S4: 108.23 | T4: 65.71 | U4: 131.4 | V4: =106.13+105.84 -> 211.97 | W4: =SUM(S4:V4) -> 517.31 | X4: 67.91 | Y4: 98.95 | Z4: 122.53 | AA4: =133.26+105.84 -> 239.1 | AB4: =SUM(X4:AA4) -> 528.49 | AC4: 135.32 | AD4: 143.03 | AE4: 73.82 | AF4: 64.44 | AG4: =95.84+104.79 -> 200.63 | AH4: =SUM(AC4:AG4) -> 617.24 | AI4: 141.77 | AJ4: 134.33 | AK4: 81.99 | AL4: =133.19+5.27+108.9 -> 247.36 | AM4: =SUM(AI4:AL4) -> 605.45 | AN4: =67.29+15.36 -> 82.65 | AO4: =130.62+4.8 -> 135.42 | AP4: 89.51 | AQ4: 115.37 | AR4: =108.9+132.93 -> 241.83 | AS4: =SUM(AN4:AR4) -> 664.78 | AT4: 140.62 | AU4: 150.4 | AV4: =102.94+3.6 -> 106.54 | AW4: =97.28+66.31 -> 163.59 | AX4: =SUM(AT4:AW4) -> 561.15 | AY4: 97.63 | AZ4: 101.56 | BA4: 170.37 | BB4: =132.41+109.62 -> 242.03 | BC4: =SUM(AY4:BB4) -> 611.59 | BD4: 40.82 | BE4: 59.06 | BF4: 130.35 | BG4: 128.68 | BH4: =124.02+56.37 -> 180.39 | BI4: =SUM(BD4:BH4) -> 539.3 | BJ4: 145.85 | BK4: 110.45 | BL4: =125.51+48.56 -> 174.07 | BM4: =145.87+124.74 -> 270.61 | BN4: =SUM(BJ4:BM4) -> 700.98 | BO4: =+G4+L4+R4+W4+AB4+AH4+AM4+AS4+AX4+BC4+BI4+BN4 -> 6999.25 | BP4: =+BO4 -> 6999.25
A5: A2 | C5: 90.37 | D5: 97.59 | E5: 130.16 | F5: =62.32+105.84 -> 168.16 | G5: =SUM(C5:F5) -> 486.28 | H5: 48.28 | I5: 69.47 | J5: 105.56 | K5: =94.08+62.17 -> 156.25 | L5: =SUM(H5:K5) -> 379.56 | M5: 97.6 | N5: 78.68 | O5: 74.82 | P5: 60 | Q5: =105.84+71.38 -> 177.22 | R5: =SUM(M5:Q5) -> 488.32 | S5: =90.93+18.24 -> 109.17 | T5: 62.17 | U5: 88.51 | V5: =64.58+10.08+105.84 -> 180.5 | W5: =SUM(S5:V5) -> 440.35 | X5: 92 | Y5: 75.47 | Z5: 103.18 | AA5: =83.54+105.84 -> 189.38 | AB5: =SUM(X5:AA5) -> 460.03 | AC5: 104.96 | AD5: 60.79 | AE5: 91.92 | AF5: 43.87 | AG5: =95.84+95.16 -> 191 | AH5: =SUM(AC5:AG5) -> 492.54 | AI5: 119.5 | AJ5: 41.3 | AK5: 100.26 | AL5: =32.98+108.9 -> 141.88 | AM5: =SUM(AI5:AL5) -> 402.94 | AN5: =69.89+11.52 -> 81.41 | AO5: 52.39 | AP5: 107.42 | AQ5: 51.53 | AR5: =108.9+63.21 -> 172.11 | AS5: =SUM(AN5:AR5) -> 464.86 | AT5: 54.62 | AU5: =112+8.64 -> 120.64 | AV5: 107.38 | AW5: 97.28 | AX5: =SUM(AT5:AW5) -> 379.92 | AY5: 118.83 | AZ5: 74.45 | BA5: 119.82 | BB5: =61.66+109.62 -> 171.28 | BC5: =SUM(AY5:BB5) -> 484.38 | BD5: 123.42 | BE5: 34.38 | BF5: 112.31 | BG5: 45.71 | BH5: =124.02+65.16 -> 189.18 | BI5: =SUM(BD5:BH5) -> 505 | BJ5: 98.59 | BK5: 116.65 | BL5: 132.63 | BM5: =49.65+6.63+124.74 -> 181.02 | BN5: =SUM(BJ5:BM5) -> 528.89 | BO5: =+G5+L5+R5+W5+AB5+AH5+AM5+AS5+AX5+BC5+BI5+BN5 -> 5513.07 | BP5: =+BO5 -> 5513.07
A6: A3 | C6: 78.36 | D6: =74.54+2.38 -> 76.92 | E6: =73.32+10.78 -> 84.1 | F6: =100.39+10.08+52.92 -> 163.39 | G6: =SUM(C6:F6) -> 402.77 | H6: 47.29 | I6: 46.23 | J6: 125.37 | K6: =10.08+47.04+66.86 -> 123.98 | L6: =SUM(H6:K6) -> 342.87 | M6: 119.16 | N6: 48.25 | O6: 84.24 | P6: 77.01 | Q6: =12.6+52.92+48.84 -> 114.36 | R6: =SUM(M6:Q6) -> 443.02 | S6: =127.11+8.16 -> 135.27 | T6: 17.8 | V6: =67.24+10.08+23.52 -> 100.84 | W6: =SUM(S6:V6) -> 253.91 | Y6: =102.78+1.81 -> 104.59 | Z6: 98.82 | AA6: =80.15+12.8+29.4 -> 122.35 | AB6: =SUM(X6:AA6) -> 325.76 | AC6: 48.44 | AD6: 45.51 | AE6: 46.55 | AF6: 30.94 | AG6: =12.64+23.96+74.66 -> 111.26 | AH6: =SUM(AC6:AG6) -> 282.7 | AJ6: 67.75 | AL6: =6.96+12.1 -> 19.06 | AM6: =SUM(AI6:AL6) -> 86.81 | AR6: 51.24 | AS6: =SUM(AN6:AR6) -> 51.24 | AT6: 30.4 | AU6: 34.5 | AV6: =123.63+24.1+8.4 -> 156.13 | AW6: =14.48+24.32+46.83 -> 85.63 | AX6: =SUM(AT6:AW6) -> 306.66 | AZ6: 72.23 | BA6: 16.99 | BB6: =112.6+14.72+24.36 -> 151.68 | BC6: =SUM(AY6:BB6) -> 240.9 | BD6: =68.3+2.1 -> 70.4 | BE6: 41.31 | BF6: 29.95 | BG6: 99.1 | BH6: =20.2+34.45+95.14 -> 149.79 | BI6: =SUM(BD6:BH6) -> 390.55 | BJ6: 60.24 | BK6: 52.32 | BL6: =1.3+34.79 -> 36.09 | BM6: =113.54+3.59+27.72+16.24 -> 161.09 | BN6: =SUM(BJ6:BM6) -> 309.74 | BO6: =+G6+L6+R6+W6+AB6+AH6+AM6+AS6+AX6+BC6+BI6+BN6 -> 3436.93 | BP6: =+BO6 -> 3436.93
A7: Total A | G7: =SUM(G4:G6) -> 1352.77 | L7: =SUM(L4:L6) -> 1282 | R7: =SUM(R4:R6) -> 1561.01 | W7: =SUM(W4:W6) -> 1211.57 | AB7: =SUM(AB4:AB6) -> 1314.28 | AH7: =SUM(AH4:AH6) -> 1392.48 | AM7: =SUM(AM4:AM6) -> 1095.2 | AS7: =SUM(AS4:AS6) -> 1180.88 | AX7: =SUM(AX4:AX6) -> 1247.73 | BC7: =SUM(BC4:BC6) -> 1336.87 | BI7: =SUM(BI4:BI6) -> 1434.85 | BN7: =SUM(BN4:BN6) -> 1539.61 | BO7: =SUM(BO4:BO6) -> 15949.25
A8: B1 | C8: 103.88 | D8: =109.91+1.16 -> 111.07 | E8: 138.01 | F8: =128.82+52.92 -> 181.74 | G8: =SUM(C8:F8) -> 534.7 | H8: 91.99 | I8: =130.02+2.31 -> 132.33 | J8: 31.39 | K8: =47.04+39.92 -> 86.96 | L8: =SUM(H8:K8) -> 342.67 | M8: =81.17+6.6 -> 87.77 | N8: =97.44+3.5 -> 100.94 | O8: =94.9+2.53+1.2 -> 98.63 | P8: =157.21+0.23 -> 157.44 | Q8: =52.92+159.17+2.51 -> 214.6 | R8: =SUM(M8:Q8) -> 659.38 | S8: 138.84 | T8: =159.39+3.2 -> 162.59 | U8: 38.48 | V8: =44.04+0.28+4.2+52.92 -> 101.44 | W8: =SUM(S8:V8) -> 441.35 | X8: 124.86 | Y8: 107.03 | Z8: 43.8 | AA8: =122.89+52.92 -> 175.81 | AB8: =SUM(X8:AA8) -> 451.5 | AC8: 35.11 | AD8: 89.2 | AE8: 33.29 | AF8: 110.83 | AG8: =47.92+26.72 -> 74.64 | AH8: =SUM(AC8:AG8) -> 343.07 | AI8: 105.37 | AJ8: 123.45 | AK8: 123.12 | AL8: =73.81+11.2+54.45 -> 139.46 | AM8: =SUM(AI8:AL8) -> 491.4 | AN8: 45.24 | AO8: =59.53+4.08 -> 63.61 | AP8: 72.8 | AQ8: 39.46 | AR8: =54.45+104.24 -> 158.69 | AS8: =SUM(AN8:AR8) -> 379.8 | AT8: 93.25 | AU8: 30.52 | AV8: 47.14 | AW8: =48.64+63.84 -> 112.48 | AX8: =SUM(AT8:AW8) -> 283.39 | AY8: 130.18 | AZ8: =90.78+5.82 -> 96.6 | BA8: =135.8+4 -> 139.8 | BB8: =82.43+54.81 -> 137.24 | BC8: =SUM(AY8:BB8) -> 503.82 | BD8: 79.38 | BE8: 97.33 | BF8: =70.98+2 -> 72.98 | BG8: =102.8+9+1.71 -> 113.51 | BH8: =62.01+101.78+1.6+8.16 -> 173.55 | BI8: =SUM(BD8:BH8) -> 536.75 | BJ8: 119.16 | BK8: 102.7 | BL8: 148.16 | BM8: =60.39+62.37 -> 122.76 | BN8: =SUM(BJ8:BM8) -> 492.78 | BO8: =+G8+L8+R8+W8+AB8+AH8+AM8+AS8+AX8+BC8+BI8+BN8 -> 5460.61 | BP8: =+BO8 -> 5460.61
A9: B2 | C9: =57.98+5.23 -> 63.21 | D9: 117.13 | E9: 94.18 | F9: =117.67+105.84 -> 223.51 | G9: =SUM(C9:F9) -> 498.03 | H9: 118.22 | I9: 113.05 | J9: =106.95+0 -> 106.95 | K9: =94.08+87.16 -> 181.24 | L9: =SUM(H9:K9) -> 519.46 | M9: =136.57+3.94+6 -> 146.51 | N9: =149.35+13.5 -> 162.85 | O9: 138.9 | P9: 117.92 | Q9: =105.84+178.72+13.48 -> 298.04 | R9: =SUM(M9:Q9) -> 864.22 | S9: 117.12 | T9: 128.32 | U9: =77.9+4.63 -> 82.53 | V9: =56.53+0.57+2.8+105.84 -> 165.74 | W9: =SUM(S9:V9) -> 493.71 | X9: =65.94+2.68 -> 68.62 | Y9: =104.38+2.8 -> 107.18 | Z9: 90.27 | AA9: =116.93+105.84 -> 222.77 | AB9: =SUM(X9:AA9) -> 488.84 | AC9: 180.64 | AD9: =90.65+9.36 -> 100.01 | AE9: 68.82 | AF9: 47.71 | AG9: =95.84+110.31 -> 206.15 | AH9: =SUM(AC9:AG9) -> 603.33 | AI9: 81.7 | AJ9: =119.74+3.31 -> 123.05 | AK9: 96.42 | AL9: =135.67+21.05+108.9 -> 265.62 | AM9: =SUM(AI9:AL9) -> 566.79 | AN9: =102.22+5.44 -> 107.66 | AO9: =6.56+127.5+6.12 -> 140.18 | AP9: 115.04 | AQ9: =75.59+6.8 -> 82.39 | AR9: =108.9+105.06 -> 213.96 | AS9: =SUM(AN9:AR9) -> 659.23 | AT9: 120.41 | AU9: =126.31+10.56 -> 136.87 | AV9: =67.93+7.2 -> 75.13 | AW9: =97.28+5.44+139.67 -> 242.39 | AX9: =SUM(AT9:AW9) -> 574.8 | AY9: 41.52 | AZ9: =96.09+7.77 -> 103.86 | BA9: =94.04+5.76 -> 99.8 | BB9: =140.72+4.8+109.62 -> 255.14 | BC9: =SUM(AY9:BB9) -> 500.32 | BD9: 119.07 | BE9: =118.6+6 -> 124.6 | BF9: =124.47+2.4 -> 126.87 | BG9: 129.17 | BH9: =124.02+8.16+165.39+2.4 -> 299.97 | BI9: =SUM(BD9:BH9) -> 799.68 | BJ9: 112.01 | BK9: 76.34 | BL9: 145.85 | BM9: =58.1+124.74 -> 182.84 | BN9: =SUM(BJ9:BM9) -> 517.04 | BO9: =+G9+L9+R9+W9+AB9+AH9+AM9+AS9+AX9+BC9+BI9+BN9 -> 7085.45 | BP9: =+BO9 -> 7085.45
A10: B3 | G10: =SUM(C10:F10) -> 0 | L10: =SUM(H10:K10) -> 0 | N10: 10.45 | Q10: 15.31 | R10: =SUM(M10:Q10) -> 25.76 | U10: 16.31 | W10: =SUM(S10:V10) -> 16.31 | Y10: 10.55 | AB10: =SUM(X10:AA10) -> 10.55 | AC10: 13.82 | AG10: 13.92 | AH10: =SUM(AC10:AG10) -> 27.74 | AK10: 12.96 | AM10: =SUM(AI10:AL10) -> 12.96 | AN10: 14.4 | AS10: =SUM(AN10:AR10) -> 14.4 | AV10: =15.02+3 -> 18.02 | AX10: =SUM(AT10:AW10) -> 18.02 | AZ10: 8.19 | BA10: 9.08 | BC10: =SUM(AY10:BB10) -> 17.27 | BG10: 9.1 | BI10: =SUM(BD10:BH10) -> 9.1 | BL10: 26.79 | BN10: =SUM(BJ10:BM10) -> 26.79 | BO10: =+G10+L10+R10+W10+AB10+AH10+AM10+AS10+AX10+BC10+BI10+BN10 -> 178.9 | BP10: =+BO10 -> 178.9
A11: B4 | G11: =SUM(C11:F11) -> 0 | L11: =SUM(H11:K11) -> 0 | R11: =SUM(M11:Q11) -> 0 | W11: =SUM(S11:V11) -> 0 | AB11: =SUM(X11:AA11) -> 0 | AH11: =SUM(AC11:AG11) -> 0 | AM11: =SUM(AI11:AL11) -> 0 | AS11: =SUM(AN11:AR11) -> 0 | AT11: 1.94 | AW11: 3.46 | AX11: =SUM(AT11:AW11) -> 5.4 | BC11: =SUM(AY11:BB11) -> 0 | BD11: 1.94 | BI11: =SUM(BD11:BH11) -> 1.94 | BN11: =SUM(BJ11:BM11) -> 0 | BO11: =+G11+L11+R11+W11+AB11+AH11+AM11+AS11+AX11+BC11+BI11+BN11 -> 7.34 | BP11: =+BO11 -> 7.34
A12: B5 | C12: 18.48 | E12: 14.05 | F12: =15.24+34.02 -> 49.26 | G12: =SUM(C12:F12) -> 81.79 | H12: 33.52 | I12: 21.83 | J12: 33.17 | K12: =30.24+61.09 -> 91.33 | L12: =SUM(H12:K12) -> 179.85 | M12: =23.27+2.5 -> 25.77 | N12: 68.52 | O12: 37.15 | Q12: =34.02+59.56 -> 93.58 | R12: =SUM(M12:Q12) -> 225.02 | S12: 19.62 | T12: 37.77 | U12: 16.32 | V12: =24.68+0.06+34.02 -> 58.76 | W12: =SUM(S12:V12) -> 132.47 | X12: 24.91 | Z12: =7.65+5.39 -> 13.04 | AA12: =37.81+34.56 -> 72.37 | AB12: =SUM(X12:AA12) -> 110.32 | AC12: 20.57 | AD12: 68.08 | AF12: 17.75 | AG12: =37.92+16.49 -> 54.41 | AH12: =SUM(AC12:AG12) -> 160.81 | AI12: 34.65 | AJ12: 34.89 | AK12: 22.83 | AL12: =34.9+46.98 -> 81.88 | AM12: =SUM(AI12:AL12) -> 174.25 | AN12: 34.59 | AO12: 68.9 | AP12: 28.05 | AQ12: 8.16 | AR12: =46.98+25.53 -> 72.51 | AS12: =SUM(AN12:AR12) -> 212.21 | AT12: 22.4 | AU12: 28.32 | AV12: 34.07 | AW12: =43.44+23.76 -> 67.2 | AX12: =SUM(AT12:AW12) -> 151.99 | AY12: 28.7 | BA12: 67.84 | BB12: =19.82+49.68 -> 69.5 | BC12: =SUM(AY12:BB12) -> 166.04 | BD12: 30.21 | BE12: 24.32 | BF12: 27.67 | BG12: 20.67 | BH12: =54.54+60.4 -> 114.94 | BI12: =SUM(BD12:BH12) -> 217.81 | BJ12: 87.72 | BK12: =75.99+7.94 -> 83.93 | BL12: 81.86 | BM12: =20.75+54.81 -> 75.56 | BN12: =SUM(BJ12:BM12) -> 329.07 | BO12: =+G12+L12+R12+W12+AB12+AH12+AM12+AS12+AX12+BC12+BI12+BN12 -> 2141.63 | BP12: =+BO12 -> 2141.63
A13: B6 | C13: 102.53 | D13: 97.16 | E13: 105.11 | F13: =94.28+105.84 -> 200.12 | G13: =SUM(C13:F13) -> 504.92 | H13: 112.26 | I13: 80.78 | J13: 112.98 | K13: =94.08+104.49 -> 198.57 | L13: =SUM(H13:K13) -> 504.59 | M13: 111.06 | N13: 80.18 | O13: 110.28 | P13: 116.25 | Q13: =105.84+122.29 -> 228.13 | R13: =SUM(M13:Q13) -> 645.9 | S13: 124.97 | T13: 100.62 | U13: 112.01 | V13: =107.43+2.84+105.84 -> 216.11 | W13: =SUM(S13:V13) -> 553.71 | X13: 109.9 | Y13: 63.51 | Z13: 109.83 | AA13: =95.86+105.84 -> 201.7 | AB13: =SUM(X13:AA13) -> 484.94 | AD13: =104.1+4.8 -> 108.9 | AE13: =116.8+28.52 -> 145.32 | AF13: 110.7 | AG13: =95.84+108.35 -> 204.19 | AH13: =SUM(AC13:AG13) -> 569.11 | AI13: 140.46 | AJ13: 85.46 | AK13: 122.46 | AL13: =94.47+10.54+108.9 -> 213.91 | AM13: =SUM(AI13:AL13) -> 562.29 | AN13: 95.41 | AO13: =87.41+4.8 -> 92.21 | AP13: 106.97 | AQ13: 94.73 | AR13: =108.9+151.83 -> 260.73 | AS13: =SUM(AN13:AR13) -> 650.05 | AT13: 33.26 | AU13: =100.94+6 -> 106.94 | AV13: 95.82 | AW13: =97.28+55.4 -> 152.68 | AX13: =SUM(AT13:AW13) -> 388.7 | AY13: 105.76 | AZ13: 86.05 | BA13: 120.92 | BB13: =115.87+109.62 -> 225.49 | BC13: =SUM(AY13:BB13) -> 538.22 | BD13: 64.93 | BE13: 101.22 | BF13: 107.1 | BG13: =112.09+6 -> 118.09 | BH13: =124.02+108.45 -> 232.47 | BI13: =SUM(BD13:BH13) -> 623.81 | BJ13: =103.5+4.41 -> 107.91 | BK13: 106.57 | BL13: 113.9 | BM13: =134.33+2.84+124.74 -> 261.91 | BN13: =SUM(BJ13:BM13) -> 590.29 | BO13: =+G13+L13+R13+W13+AB13+AH13+AM13+AS13+AX13+BC13+BI13+BN13 -> 6616.53 | BP13: =+BO13 -> 6616.53
A14: B7 | G14: =SUM(C14:F14) -> 0 | L14: =SUM(H14:K14) -> 0 | R14: =SUM(M14:Q14) -> 0 | W14: =SUM(S14:V14) -> 0 | AB14: =SUM(X14:AA14) -> 0 | AH14: =SUM(AC14:AG14) -> 0 | AM14: =SUM(AI14:AL14) -> 0 | AS14: =SUM(AN14:AR14) -> 0 | AX14: =SUM(AT14:AW14) -> 0 | BC14: =SUM(AY14:BB14) -> 0 | BI14: =SUM(BD14:BH14) -> 0 | BN14: =SUM(BJ14:BM14) -> 0 | BO14: =+G14+L14+R14+W14+AB14+AH14+AM14+AS14+AX14+BC14+BI14+BN14 -> 0 | BP14: =+BO14 -> 0
A15: B8 | C15: 137.05 | D15: =112.59+5.79 -> 118.38 | E15: 77.26 | F15: =71.56+158.76 -> 230.32 | G15: =SUM(C15:F15) -> 563.01 | H15: 153.72 | I15: =70.39+5.79 -> 76.18 | J15: =71.11+2.31 -> 73.42 | K15: =141.12+114.66 -> 255.78 | L15: =SUM(H15:K15) -> 559.1 | M15: 157.35 | N15: 102.97 | O15: 93.99 | P15: 57.5 | Q15: =158.76+112.34 -> 271.1 | R15: =SUM(M15:Q15) -> 682.91 | S15: 159.52 | T15: 119.36 | U15: 88.78 | V15: =106.76+0.28+158.76 -> 265.8 | W15: =SUM(S15:V15) -> 633.46 | X15: 94.33 | Y15: =151.88+5.79+2.39 -> 160.06 | Z15: 101.92 | AA15: =156.26+158.76 -> 315.02 | AB15: =SUM(X15:AA15) -> 671.33 | AC15: 117.82 | AD15: 103.74 | AE15: =142.25+8.51 -> 150.76 | AF15: 99.85 | AG15: =143.76+145.96 -> 289.72 | AH15: =SUM(AC15:AG15) -> 761.89 | AI15: 87.69 | AJ15: =162.37+3.31+0.68 -> 166.36 | AK15: =130.28+0.68 -> 130.96 | AL15: =87.65+5.27+163.35 -> 256.27 | AM15: =SUM(AI15:AL15) -> 641.28 | AN15: 126.03 | AO15: 102.12 | AP15: =129.96+8.51 -> 138.47 | AQ15: 160.54 | AR15: =163.35+133.68+3.6 -> 300.63 | AS15: =SUM(AN15:AR15) -> 827.79 | AT15: 83.48 | AU15: =101.98+3.96 -> 105.94 | AV15: 160.17 | AW15: =145.92+128.58 -> 274.5 | AX15: =SUM(AT15:AW15) -> 624.09 | AY15: 101.21 | AZ15: 153.62 | BA15: 89.67 | BB15: =141.91+8.51+164.43 -> 314.85 | BC15: =SUM(AY15:BB15) -> 659.35 | BD15: =71.08+8.51 -> 79.59 | BE15: =124.17+1.7 -> 125.87 | BF15: =105.8+5.11 -> 110.91 | BG15: =96.12+2.56+44.35 -> 143.03 | BH15: =186.03+145.25+1.19 -> 332.47 | BI15: =SUM(BD15:BH15) -> 791.87 | BJ15: 109.86 | BK15: =157.34+1.54 -> 158.88 | BL15: 160.06 | BM15: =4.16+119.08+1.24+187.11 -> 311.59 | BN15: =SUM(BJ15:BM15) -> 740.39 | BO15: =+G15+L15+R15+W15+AB15+AH15+AM15+AS15+AX15+BC15+BI15+BN15 -> 8156.47 | BP15: =+BO15 -> 8156.47
A16: B9 | G16: =SUM(C16:F16) -> 0 | L16: =SUM(H16:K16) -> 0 | R16: =SUM(M16:Q16) -> 0 | W16: =SUM(S16:V16) -> 0 | AB16: =SUM(X16:AA16) -> 0 | AH16: =SUM(AC16:AG16) -> 0 | AM16: =SUM(AI16:AL16) -> 0 | AS16: =SUM(AN16:AR16) -> 0 | AX16: =SUM(AT16:AW16) -> 0 | BC16: =SUM(AY16:BB16) -> 0 | BI16: =SUM(BD16:BH16) -> 0 | BN16: =SUM(BJ16:BM16) -> 0 | BO16: =+G16+L16+R16+W16+AB16+AH16+AM16+AS16+AX16+BC16+BI16+BN16 -> 0 | BP16: =+BO16 -> 0
A17: B10 | C17: =81.13+28.54+160.02 -> 269.69 | D17: =78.81+154.26+1.16 -> 234.23 | E17: =154.93+42.97 -> 197.9 | F17: =141.63+110.64+129.36 -> 381.63 | G17: =SUM(C17:F17) -> 1083.45 | H17: =57.37+135.87 -> 193.24 | I17: =91.14+110.28 -> 201.42 | J17: =139.42+114.35+1.74 -> 255.51 | K17: =117.6+104.78+39.68 -> 262.06 | L17: =SUM(H17:K17) -> 912.23 | M17: =154.98+139.7 -> 294.68 | N17: =122.26+147.28 -> 269.54 | O17: =71.6+38.35+78.22+2.11+45.55 -> 235.83 | P17: =79.62+153.95+1.16 -> 234.73 | Q17: =135.24+140.69+164.52 -> 440.45 | R17: =SUM(M17:Q17) -> 1475.23 | S17: =101.21+143.27 -> 244.48 | T17: =88.75+137.46+5.76 -> 231.97 | U17: =40.82+1.42+138 -> 180.24 | V17: =164.14+1.72+121.8+1.42+129.36 -> 418.44 | W17: =SUM(S17:V17) -> 1075.13 | X17: =164.29+1.16+0.77+95.3+1.16 -> 262.68 | Y17: =89.83+1.16+129.69 -> 220.68 | Z17: =131.41+53.53 -> 184.94 | AA17: =126.06+83.16+1.62+135.24 -> 346.08 | AB17: =SUM(X17:AA17) -> 1014.38 | AC17: =49.97+150.66+2 -> 202.63 | AD17: =178.71+1.24+91.93+1.24 -> 273.12 | AE17: =106.8+2.38+165.57+0.85 -> 275.6 | AF17: =130.88+38.47 -> 169.35 | AG17: =119.8+135.4+15.35+84.38+4 -> 358.93 | AH17: =SUM(AC17:AG17) -> 1279.63 | AI17: =73.6+111.44 -> 185.04 | AJ17: =96.54+6.5+100.63 -> 203.67 | AK17: =91.11+104.51+59.76 -> 255.38 | AL17: =60.01+10.54+156.13+10.54+133.1 -> 370.32 | AM17: =SUM(AI17:AL17) -> 1014.41 | AN17: =65.06+181.29 -> 246.35 | AO17: =83.41+101.05+16 -> 200.46 | AP17: =108.02+1.61+106.77 -> 216.4 | AQ17: =145.07+86.27 -> 231.34 | AR17: =139.15+82.69+135.7 -> 357.54 | AS17: =SUM(AN17:AR17) -> 1252.09 | AT17: =80.78+121.69+18.8 -> 221.27 | AU17: =83.01+6+53.18+8.64+3.18+7.2 -> 161.21 | AV17: =47.9+8.64+97.54+12+41.34 -> 207.42 | AW17: =121.6+100.05+140.44+3.84 -> 365.93 | AX17: =SUM(AT17:AW17) -> 955.83 | AY17: =45.78+87.83+60.42 -> 194.03 | AZ17: =185.59+0.85+83.92+1.94 -> 272.3 | BA17: =145.36+136.71 -> 282.07 | BB17: =96.07+17.6+115.55+133.98 -> 363.2 | BC17: =SUM(AY17:BB17) -> 1111.6 | BD17: =181.24+1.7+34.54 -> 217.48 | BE17: =144.28+1.7+57.2+12.72 -> 215.9 | BF17: =82.84+141.5+1.7 -> 226.04 | BG17: =134.2+99.68+7.5+8.16 -> 249.54 | BH17: =158.47+126.48+147.36 -> 432.31 | BI17: =SUM(BD17:BH17) -> 1341.27 | BJ17: =162.62+57.65+2.64 -> 222.91 | BK17: =107.16+179.12+19.2 -> 305.48 | BL17: =49.18+122.76 -> 171.94 | BM17: =65.04+154.91+2.84+152.46 -> 375.25 | BN17: =SUM(BJ17:BM17) -> 1075.58 | BO17: =+G17+L17+R17+W17+AB17+AH17+AM17+AS17+AX17+BC17+BI17+BN17 -> 13590.83 | BP17: =+BO17 -> 13590.83
A18: B11 | G18: =SUM(C18:F18) -> 0 | L18: =SUM(H18:K18) -> 0 | R18: =SUM(M18:Q18) -> 0 | W18: =SUM(S18:V18) -> 0 | AB18: =SUM(X18:AA18) -> 0 | AH18: =SUM(AC18:AG18) -> 0 | AM18: =SUM(AI18:AL18) -> 0 | AS18: =SUM(AN18:AR18) -> 0 | AX18: =SUM(AT18:AW18) -> 0 | BC18: =SUM(AY18:BB18) -> 0 | BI18: =SUM(BD18:BH18) -> 0 | BN18: =SUM(BJ18:BM18) -> 0 | BO18: =+G18+L18+R18+W18+AB18+AH18+AM18+AS18+AX18+BC18+BI18+BN18 -> 0 | BP18: =+BO18 -> 0
A19: B12 | F19: 82.32 | G19: =SUM(C19:F19) -> 82.32 | K19: 70.56 | L19: =SUM(H19:K19) -> 70.56 | Q19: 76.44 | R19: =SUM(M19:Q19) -> 76.44 | V19: 82.32 | W19: =SUM(S19:V19) -> 82.32 | AA19: 76.44 | AB19: =SUM(X19:AA19) -> 76.44 | AG19: 71.88 | AH19: =SUM(AC19:AG19) -> 71.88 | AL19: 84.7 | AM19: =SUM(AI19:AL19) -> 84.7 | AR19: 78.65 | AS19: =SUM(AN19:AR19) -> 78.65 | AW19: 72.96 | AX19: =SUM(AT19:AW19) -> 72.96 | BB19: 85.26 | BC19: =SUM(AY19:BB19) -> 85.26 | BH19: 89.57 | BI19: =SUM(BD19:BH19) -> 89.57 | BM19: 97.02 | BN19: =SUM(BJ19:BM19) -> 97.02 | BO19: =+G19+L19+R19+W19+AB19+AH19+AM19+AS19+AX19+BC19+BI19+BN19 -> 968.12 | BP19: =+BO19 -> 968.12
A20: B13 | G20: =SUM(C20:F20) -> 0 | L20: =SUM(H20:K20) -> 0 | R20: =SUM(M20:Q20) -> 0 | W20: =SUM(S20:V20) -> 0 | AB20: =SUM(X20:AA20) -> 0 | AH20: =SUM(AC20:AG20) -> 0 | AM20: =SUM(AI20:AL20) -> 0 | AS20: =SUM(AN20:AR20) -> 0 | AX20: =SUM(AT20:AW20) -> 0 | BC20: =SUM(AY20:BB20) -> 0 | BI20: =SUM(BD20:BH20) -> 0 | BN20: =SUM(BJ20:BM20) -> 0 | BO20: =+G20+L20+R20+W20+AB20+AH20+AM20+AS20+AX20+BC20+BI20+BN20 -> 0 | BP20: =+BO20 -> 0
A21: B14 | G21: =SUM(C21:F21) -> 0 | L21: =SUM(H21:K21) -> 0 | R21: =SUM(M21:Q21) -> 0 | W21: =SUM(S21:V21) -> 0 | AB21: =SUM(X21:AA21) -> 0 | AH21: =SUM(AC21:AG21) -> 0 | AM21: =SUM(AI21:AL21) -> 0 | AS21: =SUM(AN21:AR21) -> 0 | AX21: =SUM(AT21:AW21) -> 0 | BC21: =SUM(AY21:BB21) -> 0 | BI21: =SUM(BD21:BH21) -> 0 | BN21: =SUM(BJ21:BM21) -> 0 | BO21: =+G21+L21+R21+W21+AB21+AH21+AM21+AS21+AX21+BC21+BI21+BN21 -> 0 | BP21: =+BO21 -> 0
A22: B15 | C22: 22.89 | D22: 16.64 | E22: 28.8 | F22: 61.4 | G22: =SUM(C22:F22) -> 129.73 | H22: 26.9 | I22: 22.99 | J22: 21.3 | K22: 67.07 | L22: =SUM(H22:K22) -> 138.26 | M22: =21.11+3.5 -> 24.61 | N22: 64.29 | O22: 77.14 | P22: 24.54 | Q22: 23.38 | R22: =SUM(M22:Q22) -> 213.96 | S22: 66.92 | T22: 70.54 | U22: 16.43 | V22: =20.06+35.28 -> 55.34 | W22: =SUM(S22:V22) -> 209.23 | X22: 28.85 | Y22: 17.72 | Z22: 26.56 | AA22: =70.4+41.16 -> 111.56 | AB22: =SUM(X22:AA22) -> 184.69 | AC22: 30.96 | AD22: 25.6 | AE22: 72.56 | AF22: 78.35 | AG22: =35.94+67.7 -> 103.64 | AH22: =SUM(AC22:AG22) -> 311.11 | AI22: 27.38 | AJ22: 23.62 | AK22: 21.99 | AL22: =20.86+5.27+36.3 -> 62.43 | AM22: =SUM(AI22:AL22) -> 135.42 | AN22: 76.35 | AO22: =64.19+0.8 -> 64.99 | AP22: 27 | AQ22: 20.63 | AR22: =42.35+17.33 -> 59.68 | AS22: =SUM(AN22:AR22) -> 248.65 | AT22: 23.25 | AU22: =33.04+1.65 -> 34.69 | AV22: 19.57 | AW22: =36.48+67.34 -> 103.82 | AX22: =SUM(AT22:AW22) -> 181.33 | AY22: 25.65 | AZ22: 61.59 | BA22: 33.39 | BB22: =84.2+36.54 -> 120.74 | BC22: =SUM(AY22:BB22) -> 241.37 | BD22: 24.5 | BE22: 31.35 | BF22: 21.44 | BG22: 19.1 | BH22: =48.23+23.17 -> 71.4 | BI22: =SUM(BD22:BH22) -> 167.79 | BJ22: 74.79 | BK22: 25.19 | BL22: 20.77 | BM22: =85.43+48.51 -> 133.94 | BN22: =SUM(BJ22:BM22) -> 254.69 | BO22: =+G22+L22+R22+W22+AB22+AH22+AM22+AS22+AX22+BC22+BI22+BN22 -> 2416.23 | BP22: =+BO22 -> 2416.23
A23: B16 | C23: 35.88 | D23: 29.64 | E23: 30.85 | F23: =17.21+12.12+23.52 -> 52.85 | G23: =SUM(C23:F23) -> 149.22 | H23: 23.75 | I23: =19.32+3.74 -> 23.06 | J23: =18.52+12.12 -> 30.64 | K23: =23.52+23.91 -> 47.43 | L23: =SUM(H23:K23) -> 124.88 | M23: 23.59 | N23: 57.24 | O23: =29.73+2.5 -> 32.23 | P23: 25.52 | Q23: =29.4+46.07 -> 75.47 | R23: =SUM(M23:Q23) -> 214.05 | S23: =28.31+3.2+18.18 -> 49.69 | T23: 31.01 | U23: 68.06 | V23: =74.89+5.88 -> 80.77 | W23: =SUM(S23:V23) -> 229.53 | X23: 31.36 | Y23: 42.45 | Z23: 40.81 | AA23: =50.72+29.4 -> 80.12 | AB23: =SUM(X23:AA23) -> 194.74 | AC23: 29.03 | AD23: 24.19 | AE23: 38.04 | AF23: 35.57 | AG23: =23.96+12.24+8.16+27.5+3 -> 74.86 | AH23: =SUM(AC23:AG23) -> 201.69 | AI23: =68.13+6.12 -> 74.25 | AJ23: 76.23 | AK23: 68.83 | AL23: =83.53+24.2 -> 107.73 | AM23: =SUM(AI23:AL23) -> 327.04 | AN23: 29.71 | AO23: 31.21 | AP23: 32.76 | AQ23: 31.37 | AR23: =30.25+29.03+12.24 -> 71.52 | AS23: =SUM(AN23:AR23) -> 196.57 | AT23: 27.97 | AU23: 72.56 | AV23: =70.88+3 -> 73.88 | AW23: 33.75 | AX23: =SUM(AT23:AW23) -> 208.16 | AY23: 33.81 | AZ23: =31.95+12.24 -> 44.19 | BA23: =33.47+3 -> 36.47 | BB23: =53.07+24.36 -> 77.43 | BC23: =SUM(AY23:BB23) -> 191.9 | BD23: 38.96 | BE23: 77.84 | BF23: 34.54 | BG23: 33.92 | BH23: =34.45+49.93 -> 84.38 | BI23: =SUM(BD23:BH23) -> 269.64 | BJ23: 31.13 | BK23: 29.74 | BL23: 80.33 | BM23: =33.98+27.72 -> 61.7 | BN23: =SUM(BJ23:BM23) -> 202.9 | BO23: =+G23+L23+R23+W23+AB23+AH23+AM23+AS23+AX23+BC23+BI23+BN23 -> 2510.32 | BP23: =+BO23 -> 2510.32
A24: B17 | G24: =SUM(C24:F24) -> 0 | I24: 4.34 | L24: =SUM(H24:K24) -> 4.34 | P24: 11.11 | R24: =SUM(M24:Q24) -> 11.11 | S24: 6.62 | W24: =SUM(S24:V24) -> 6.62 | AB24: =SUM(X24:AA24) -> 0 | AH24: =SUM(AC24:AG24) -> 0 | AM24: =SUM(AI24:AL24) -> 0 | AS24: =SUM(AN24:AR24) -> 0 | AX24: =SUM(AT24:AW24) -> 0 | BC24: =SUM(AY24:BB24) -> 0 | BI24: =SUM(BD24:BH24) -> 0 | BN24: =SUM(BJ24:BM24) -> 0 | BO24: =+G24+L24+R24+W24+AB24+AH24+AM24+AS24+AX24+BC24+BI24+BN24 -> 22.07 | BP24: =+BO24 -> 22.07
A25: B18 | G25: =SUM(C25:F25) -> 0 | L25: =SUM(H25:K25) -> 0 | R25: =SUM(M25:Q25) -> 0 | W25: =SUM(S25:V25) -> 0 | Y25: 38.35 | AB25: =SUM(X25:AA25) -> 38.35 | AD25: 30.02 | AG25: 67.72 | AH25: =SUM(AC25:AG25) -> 97.74 | AK25: 6.47 | AM25: =SUM(AI25:AL25) -> 6.47 | AO25: 54.11 | AS25: =SUM(AN25:AR25) -> 54.11 | AU25: =18.21+1.54 -> 19.75 | AX25: =SUM(AT25:AW25) -> 19.75 | AY25: =57.75+5 -> 62.75 | BA25: =8.01+3.98 -> 11.99 | BB25: 3.1 | BC25: =SUM(AY25:BB25) -> 77.84 | BD25: 74.91 | BG25: 20.08 | BH25: 6.54 | BI25: =SUM(BD25:BH25) -> 101.53 | BJ25: 49.53 | BK25: =12.8+0.75 -> 13.55 | BL25: 16.49 | BN25: =SUM(BJ25:BM25) -> 79.57 | BO25: =+G25+L25+R25+W25+AB25+AH25+AM25+AS25+AX25+BC25+BI25+BN25 -> 475.36 | BP25: =+BO25 -> 475.36
A26: B19 | D26: 5.48 | E26: 7.55 | G26: =SUM(C26:F26) -> 13.03 | K26: 4.5 | L26: =SUM(H26:K26) -> 4.5 | Q26: =5.75+0.75 -> 6.5 | R26: =SUM(M26:Q26) -> 6.5 | V26: 4.44 | W26: =SUM(S26:V26) -> 4.44 | AA26: 7.79 | AB26: =SUM(X26:AA26) -> 7.79 | AF26: 4.46 | AH26: =SUM(AC26:AG26) -> 4.46 | AM26: =SUM(AI26:AL26) -> 0 | AP26: 7.34 | AS26: =SUM(AN26:AR26) -> 7.34 | AW26: 7.38 | AX26: =SUM(AT26:AW26) -> 7.38 | BC26: =SUM(AY26:BB26) -> 0 | BF26: 6.86 | BI26: =SUM(BD26:BH26) -> 6.86 | BM26: 4.71 | BN26: =SUM(BJ26:BM26) -> 4.71 | BO26: =+G26+L26+R26+W26+AB26+AH26+AM26+AS26+AX26+BC26+BI26+BN26 -> 67.01 | BP26: =+BO26 -> 67.01
A27: B20 | G27: =SUM(C27:F27) -> 0 | L27: =SUM(H27:K27) -> 0 | R27: =SUM(M27:Q27) -> 0 | W27: =SUM(S27:V27) -> 0 | AB27: =SUM(X27:AA27) -> 0 | AH27: =SUM(AC27:AG27) -> 0 | AM27: =SUM(AI27:AL27) -> 0 | AS27: =SUM(AN27:AR27) -> 0 | AX27: =SUM(AT27:AW27) -> 0 | BC27: =SUM(AY27:BB27) -> 0 | BI27: =SUM(BD27:BH27) -> 0 | BN27: =SUM(BJ27:BM27) -> 0 | BO27: =+G27+L27+R27+W27+AB27+AH27+AM27+AS27+AX27+BC27+BI27+BN27 -> 0 | BP27: =+BO27 -> 0
A28: TOTAL B | G28: =SUM(G8:G27) -> 3640.2 | L28: =SUM(L8:L27) -> 3360.44 | R28: =SUM(R8:R27) -> 5100.48 | W28: =SUM(W8:W27) -> 3878.28 | AB28: =SUM(AB8:AB27) -> 3733.87 | AH28: =SUM(AH8:AH27) -> 4432.46 | AM28: =SUM(AM8:AM27) -> 4017.01 | AS28: =SUM(AS8:AS27) -> 4580.89 | AX28: =SUM(AX8:AX27) -> 3491.8 | BC28: =SUM(BC8:BC27) -> 4092.99 | BI28: =SUM(BI8:BI27) -> 4957.62 | BN28: =SUM(BN8:BN27) -> 4410.83 | BO28: =SUM(BO8:BO27) -> 49696.87
A29: C1 | C29: 91.52 | D29: =24.56+11.52 -> 36.08 | E29: 41.52 | F29: 32.38 | G29: =SUM(C29:F29) -> 201.5 | H29: 34.81 | I29: 32.39 | J29: 67.49 | K29: 35.33 | L29: =SUM(H29:K29) -> 170.02 | M29: =36.6+28.97+4 -> 69.57 | N29: 20.16 | O29: 20.73 | P29: 74.13 | Q29: 37.56 | R29: =SUM(M29:Q29) -> 222.15 | S29: 53.33 | T29: 75.46 | U29: =14.95+3 -> 17.95 | V29: 49.07 | W29: =SUM(S29:V29) -> 195.81 | X29: 33.44 | Y29: 39.19 | Z29: 48.36 | AA29: 78.67 | AB29: =SUM(X29:AA29) -> 199.66 | AC29: 39.69 | AD29: 42.05 | AE29: 71.75 | AF29: 41.45 | AG29: =88+3.6 -> 91.6 | AH29: =SUM(AC29:AG29) -> 286.54 | AI29: =33.68+40.2 -> 73.88 | AJ29: 40.45 | AK29: =44.89+7.9 -> 52.79 | AL29: 50.22 | AM29: =SUM(AI29:AL29) -> 217.34 | AN29: =78.27+1.36 -> 79.63 | AO29: 12.4 | AP29: 17.39 | AQ29: =37.83+1.8 -> 39.63 | AR29: 86.25 | AS29: =SUM(AN29:AR29) -> 235.3 | AT29: 54.4 | AU29: 36.59 | AV29: 76.38 | AW29: 37.54 | AX29: =SUM(AT29:AW29) -> 204.91 | AY29: 31.42 | AZ29: 42.11 | BA29: 101.22 | BB29: 21.54 | BC29: =SUM(AY29:BB29) -> 196.29 | BD29: 36.37 | BE29: =32.05+0.68 -> 32.73 | BF29: =41.47+9 -> 50.47 | BG29: 79.01 | BH29: 44.98 | BI29: =SUM(BD29:BH29) -> 243.56 | BJ29: 89.89 | BK29: 41.85 | BN29: =SUM(BJ29:BM29) -> 131.74 | BO29: =+G29+L29+R29+W29+AB29+AH29+AM29+AS29+AX29+BC29+BI29+BN29 -> 2504.82 | BP29: =+BO29 -> 2504.82
A30: C2 | G30: =SUM(C30:F30) -> 0 | L30: =SUM(H30:K30) -> 0 | R30: =SUM(M30:Q30) -> 0 | W30: =SUM(S30:V30) -> 0 | AB30: =SUM(X30:AA30) -> 0 | AH30: =SUM(AC30:AG30) -> 0 | AM30: =SUM(AI30:AL30) -> 0 | AS30: =SUM(AN30:AR30) -> 0 | AX30: =SUM(AT30:AW30) -> 0 | BC30: =SUM(AY30:BB30) -> 0 | BI30: =SUM(BD30:BH30) -> 0 | BN30: =SUM(BJ30:BM30) -> 0 | BO30: =+G30+L30+R30+W30+AB30+AH30+AM30+AS30+AX30+BC30+BI30+BN30 -> 0 | BP30: =+BO30 -> 0
A31: C3 | C31: 76.9 | D31: 13.5 | E31: 29.63 | F31: =56.02+52.92 -> 108.94 | G31: =SUM(C31:F31) -> 228.97 | H31: 73.07 | I31: 90.02 | J31: 91.37 | K31: =47.04+33.88 -> 80.92 | L31: =SUM(H31:K31) -> 335.38 | M31: =119.74+4.2 -> 123.94 | N31: =69.1+2.8 -> 71.9 | O31: =43.36+2.7 -> 46.06 | P31: =85.93+2.31 -> 88.24 | Q31: =52.92+106.66 -> 159.58 | R31: =SUM(M31:Q31) -> 489.72 | S31: 23.95 | T31: =58.84+4.08 -> 62.92 | U31: 107.52 | V31: =106.44+0.09+4.14+52.92 -> 163.59 | W31: =SUM(S31:V31) -> 357.98 | X31: 105.38 | Y31: =68.06+4.2 -> 72.26 | Z31: 31.25 | AA31: =71.76+52.92 -> 124.68 | AB31: =SUM(X31:AA31) -> 333.57 | AC31: =87.94+2.6+2.48 -> 93.02 | AD31: 40.84 | AE31: 64.63 | AF31: 32.85 | AG31: =47.92+25.52 -> 73.44 | AH31: =SUM(AC31:AG31) -> 304.78 | AI31: 96.48 | AJ31: 96.69 | AK31: 94.74 | AL31: =102.67+10.52+54.45 -> 167.64 | AM31: =SUM(AI31:AL31) -> 455.55 | AN31: 35.52 | AO31: =39.82+3.2+0.68 -> 43.7 | AP31: =112.98+6.63 -> 119.61 | AQ31: 38.65 | AR31: =54.45+47.51 -> 101.96 | AS31: =SUM(AN31:AR31) -> 339.44 | AT31: 25.26 | AU31: =95.03+2.4 -> 97.43 | AV31: =74.25+2.4 -> 76.65 | AW31: =48.64+2.5+36.22+1.65 -> 89.01 | AX31: =SUM(AT31:AW31) -> 288.35 | AY31: 26.22 | AZ31: 111.05 | BA31: 93.29 | BB31: =30.86+1.6+54.81 -> 87.27 | BC31: =SUM(AY31:BB31) -> 317.83 | BD31: =51.18+2.4 -> 53.58 | BE31: 90.72 | BF31: 85.43 | BG31: =48.89+3 -> 51.89 | BH31: =62.01+52.61 -> 114.62 | BI31: =SUM(BD31:BH31) -> 396.24 | BJ31: 130.47 | BK31: 106.15 | BL31: 37.28 | BM31: =47.57+1.24+62.37 -> 111.18 | BN31: =SUM(BJ31:BM31) -> 385.08 | BO31: =+G31+L31+R31+W31+AB31+AH31+AM31+AS31+AX31+BC31+BI31+BN31 -> 4232.89 | BP31: =+BO31 -> 4232.89
A32: C4 | C32: 51.98 | D32: 21.51 | E32: 78.58 | F32: =83.54+82.32 -> 165.86 | G32: =SUM(C32:F32) -> 317.93 | H32: 47.94 | I32: 47.35 | J32: 45.42 | K32: =70.56+94.14 -> 164.7 | L32: =SUM(H32:K32) -> 305.41 | M32: =115.19+2.88 -> 118.07 | N32: 96.34 | O32: 87.88 | P32: 43.85 | Q32: =76.44+86.45 -> 162.89 | R32: =SUM(M32:Q32) -> 509.03 | S32: 88.48 | T32: =44.33+6.41+4.08 -> 54.82 | U32: 67.25 | V32: =51.13+1.21+82.32 -> 134.66 | W32: =SUM(S32:V32) -> 345.21 | X32: =120.55+1.16 -> 121.71 | Y32: =58.93+5.6 -> 64.53 | Z32: 42.07 | AA32: =54.28+76.44 -> 130.72 | AB32: =SUM(X32:AA32) -> 359.03 | AC32: 98.9 | AD32: =52.27+3.9+1.24 -> 57.41 | AE32: 105.54 | AF32: 117.34 | AG32: =71.88+47.09 -> 118.97 | AH32: =SUM(AC32:AG32) -> 498.16 | AI32: 55.81 | AJ32: =82.24+6.63 -> 88.87 | AK32: 45.99 | AL32: =55.9+5.26+84.7 -> 145.86 | AM32: =SUM(AI32:AL32) -> 336.53 | AN32: =53.42+1.36 -> 54.78 | AO32: =90.45+3.2+5.37 -> 99.02 | AP32: =50.81+2.15 -> 52.96 | AQ32: 62.74 | AR32: =78.65+77.29 -> 155.94 | AS32: =SUM(AN32:AR32) -> 425.44 | AT32: 50.66 | AU32: =44.7+2.4 -> 47.1 | AV32: =104.61+3.6+41.34 -> 149.55 | AW32: =72.96+116.18 -> 189.14 | AX32: =SUM(AT32:AW32) -> 436.45 | AY32: 27.05 | AZ32: =104.19+3.88 -> 108.07 | BA32: 76.64 | BB32: =55.55+2.4+85.26 -> 143.21 | BC32: =SUM(AY32:BB32) -> 354.97 | BD32: 53.44 | BE32: 71.14 | BF32: =126.55+2 -> 128.55 | BG32: =66.23+1.8 -> 68.03 | BH32: =89.57+45.56 -> 135.13 | BI32: =SUM(BD32:BH32) -> 456.29 | BJ32: =127.82+1.44 -> 129.26 | BK32: 69.79 | BL32: 45.5 | BM32: =62.69+97.02 -> 159.71 | BN32: =SUM(BJ32:BM32) -> 404.26 | BO32: =+G32+L32+R32+W32+AB32+AH32+AM32+AS32+AX32+BC32+BI32+BN32 -> 4748.71 | BP32: =+BO32 -> 4748.71
A33: C5 | C33: 147.57 | D33: 131.73 | E33: 76.99 | F33: =88.28+105.84 -> 194.12 | G33: =SUM(C33:F33) -> 550.41 | H33: 134.03 | I33: 92.53 | J33: 121.37 | K33: =94.08+117.33 -> 211.41 | L33: =SUM(H33:K33) -> 559.34 | M33: =142.64+1.81+2.8 -> 147.25 | N33: 61.76 | O33: =51+56.73 -> 107.73 | P33: 69.96 | Q33: =105.84+96.88+15.28 -> 218 | R33: =SUM(M33:Q33) -> 604.7 | S33: 117.1 | T33: =117.01+1.92 -> 118.93 | U33: 126.14 | V33: =103.92+4.27+105.84 -> 214.03 | W33: =SUM(S33:V33) -> 576.2 | X33: =85.87+4.27 -> 90.14 | Y33: =116.15+2.8 -> 118.95 | Z33: =140.35+5.88 -> 146.23 | AA33: =58.58+105.84 -> 164.42 | AB33: =SUM(X33:AA33) -> 519.74 | AC33: 124.01 | AD33: =105.79+0 -> 105.79 | AE33: 130.7 | AF33: 123.77 | AG33: =95.84+133.12 -> 228.96 | AH33: =SUM(AC33:AG33) -> 713.23 | AI33: 82.99 | AJ33: 103.6 | AK33: =183.85+6.24 -> 190.09 | AL33: =79.94+5.26+108.9 -> 194.1 | AM33: =SUM(AI33:AL33) -> 570.78 | AN33: 132 | AO33: =94.3+3.2+2.04 -> 99.54 | AP33: =143.38+6.4 -> 149.78 | AR33: =108.9+230 -> 338.9 | AS33: =SUM(AN33:AR33) -> 720.22 | AT33: 80.12 | AU33: =63.8+2.04+1.65 -> 67.49 | AV33: =99.38+2.4+2.73+1.6 -> 106.11 | AW33: =97.28+152.71 -> 249.99 | AX33: =SUM(AT33:AW33) -> 503.71 | AY33: 180.43 | AZ33: =85.93+1.94+1.67 -> 89.54 | BA33: 132.67 | BB33: =122.3+109.62 -> 231.92 | BC33: =SUM(AY33:BB33) -> 634.56 | BD33: =120.26+1.6 -> 121.86 | BE33: 153.33 | BF33: =125.97+9.19 -> 135.16 | BG33: =107.93+3 -> 110.93 | BH33: =124.02+129.34+4.8 -> 258.16 | BI33: =SUM(BD33:BH33) -> 779.44 | BJ33: 113.66 | BK33: 138.95 | BL33: 153.68 | BM33: =63.16+124.74 -> 187.9 | BN33: =SUM(BJ33:BM33) -> 594.19 | BO33: =+G33+L33+R33+W33+AB33+AH33+AM33+AS33+AX33+BC33+BI33+BN33 -> 7326.52 | BP33: =+BO33 -> 7326.52
A34: C6 | C34: 3.57 | D34: 3.2 | E34: 4.53 | F34: 3.6 | G34: =SUM(C34:F34) -> 14.9 | H34: 4.33 | I34: 2.34 | J34: 4.51 | K34: 1.97 | L34: =SUM(H34:K34) -> 13.15 | M34: =3.64+36.6 -> 40.24 | O34: 2.5 | P34: 2.5 | Q34: 7.33 | R34: =SUM(M34:Q34) -> 52.57 | S34: =2.5+0.48 -> 2.98 | T34: 5.37 | U34: 3.22 | V34: 2.5 | W34: =SUM(S34:V34) -> 14.07 | X34: 3.23 | Y34: 6.6 | Z34: 3.22 | AA34: 2.98 | AB34: =SUM(X34:AA34) -> 16.03 | AC34: 4.51 | AD34: 3.62 | AE34: 3.39 | AF34: 4.92 | AG34: =3.2+40.2 -> 43.4 | AH34: =SUM(AC34:AG34) -> 59.84 | AI34: 4.37 | AJ34: 8.57 | AK34: 6.47 | AL34: 2.95 | AM34: =SUM(AI34:AL34) -> 22.36 | AN34: 6.47 | AO34: 5.84 | AP34: 5.33 | AQ34: 3.18 | AR34: 4.93 | AS34: =SUM(AN34:AR34) -> 25.75 | AT34: 6.5 | AU34: =3.61+39.6 -> 43.21 | AV34: 2.91 | AW34: 3.39 | AX34: =SUM(AT34:AW34) -> 56.01 | AY34: 2.47 | AZ34: 3.35 | BA34: 3.61 | BB34: 3.39 | BC34: =SUM(AY34:BB34) -> 12.82 | BD34: 2.47 | BE34: 5.06 | BF34: 2.93 | BG34: 3.39 | BH34: 2.07 | BI34: =SUM(BD34:BH34) -> 15.92 | BJ34: 3.31 | BK34: 3.69 | BL34: 3.73 | BM34: 2.41 | BN34: =SUM(BJ34:BM34) -> 13.14 | BO34: =+G34+L34+R34+W34+AB34+AH34+AM34+AS34+AX34+BC34+BI34+BN34 -> 316.56 | BP34: =+BO34 -> 316.56
A35: C7 | C35: 3.19 | D35: 5.83 | E35: 2.98 | F35: 3.23 | G35: =SUM(C35:F35) -> 15.23 | H35: 5.06 | I35: =2.4+3.74 -> 6.14 | K35: 4.23 | L35: =SUM(H35:K35) -> 15.43 | M35: 4.21 | O35: 4.47 | P35: 4.21 | R35: =SUM(M35:Q35) -> 12.89 | S35: 4.88 | T35: 3.11 | U35: 2.98 | V35: 4.21 | W35: =SUM(S35:V35) -> 15.18 | Y35: 4.63 | Z35: 3.22 | AA35: 1.97 | AB35: =SUM(X35:AA35) -> 9.82 | AC35: 3.2 | AD35: 2 | AE35: 1.85 | AF35: 1.99 | AG35: 2.95 | AH35: =SUM(AC35:AG35) -> 11.99 | AI35: 4.4 | AJ35: 3.23 | AK35: 2.95 | AL35: 2.95 | AM35: =SUM(AI35:AL35) -> 13.53 | AN35: 4.19 | AO35: 4.46 | AR35: 5.1 | AS35: =SUM(AN35:AR35) -> 13.75 | AU35: 2.47 | AV35: 2.76 | AW35: 4.63 | AX35: =SUM(AT35:AW35) -> 9.86 | AY35: 4.43 | AZ35: 4.58 | BA35: 7.32 | BB35: 3.39 | BC35: =SUM(AY35:BB35) -> 19.72 | BD35: 3.24 | BF35: 2.85 | BG35: 3.42 | BI35: =SUM(BD35:BH35) -> 9.51 | BJ35: 21 | BK35: 5.42 | BN35: =SUM(BJ35:BM35) -> 26.42 | BO35: =+G35+L35+R35+W35+AB35+AH35+AM35+AS35+AX35+BC35+BI35+BN35 -> 173.33 | BP35: =+BO35 -> 173.33
A36: C8 | C36: 13.51 | D36: 5.72 | E36: 11.73 | F36: 1.98 | G36: =SUM(C36:F36) -> 32.94 | H36: 2.97 | I36: 10.7 | J36: 5.99 | K36: 7.49 | L36: =SUM(H36:K36) -> 27.15 | M36: 6.81 | N36: 65.52 | O36: 7 | P36: 18.52 | Q36: 7.71 | R36: =SUM(M36:Q36) -> 105.56 | S36: 10.59 | T36: 9.56 | U36: 5.84 | V36: 3.43 | W36: =SUM(S36:V36) -> 29.42 | X36: 2.72 | Y36: 4.63 | Z36: 7.31 | AA36: 5.54 | AB36: =SUM(X36:AA36) -> 20.2 | AC36: 9.15 | AD36: 7.78 | AE36: =11.86+0.38 -> 12.24 | AF36: 8.36 | AG36: 6.07 | AH36: =SUM(AC36:AG36) -> 43.6 | AI36: 12.62 | AJ36: 6.21 | AK36: 8 | AL36: 11.18 | AM36: =SUM(AI36:AL36) -> 38.01 | AN36: 5.75 | AO36: 6.89 | AP36: 7.18 | AQ36: 2.38 | AR36: 1.53 | AS36: =SUM(AN36:AR36) -> 23.73 | AT36: 7.6 | AU36: 4 | AV36: 4.23 | AW36: 6.07 | AX36: =SUM(AT36:AW36) -> 21.9 | AY36: 7.27 | BA36: 2.47 | BC36: =SUM(AY36:BB36) -> 9.74 | BD36: 10.57 | BE36: 10.5 | BF36: 3.66 | BG36: 3.24 | BH36: 3.52 | BI36: =SUM(BD36:BH36) -> 31.49 | BK36: 7.86 | BL36: 7.69 | BM36: 12.44 | BN36: =SUM(BJ36:BM36) -> 27.99 | BO36: =+G36+L36+R36+W36+AB36+AH36+AM36+AS36+AX36+BC36+BI36+BN36 -> 411.73 | BP36: =+BO36 -> 411.73
A37: TOTAL C | G37: =SUM(G29:G36) -> 1361.88 | L37: =SUM(L29:L36) -> 1425.88 | R37: =SUM(R29:R36) -> 1996.62 | W37: =SUM(W29:W36) -> 1533.87 | AB37: =SUM(AB29:AB36) -> 1458.05 | AH37: =SUM(AH29:AH36) -> 1918.14 | AM37: =SUM(AM29:AM36) -> 1654.1 | AS37: =SUM(AS29:AS36) -> 1783.63 | AX37: =SUM(AX29:AX36) -> 1521.19 | BC37: =SUM(BC29:BC36) -> 1545.93 | BI37: =SUM(BI29:BI36) -> 1932.45 | BN37: =SUM(BN29:BN36) -> 1582.82 | BO37: =SUM(BO29:BO36) -> 19714.56
A38: D1 | C38: 90.9 | D38: 70.55 | E38: 37.3 | F38: =70.25+76.44 -> 146.69 | G38: =SUM(C38:F38) -> 345.44 | H38: =69.07+19.72 -> 88.79 | I38: 104.39 | J38: 126.16 | K38: =70.56+91.57+2.01 -> 164.14 | L38: =SUM(H38:K38) -> 483.48 | M38: 147.82 | N38: 100.71 | O38: 155.02 | P38: 128.16 | Q38: =82.32+139.85 -> 222.17 | R38: =SUM(M38:Q38) -> 753.88 | S38: =80.92+5.07 -> 85.99 | T38: 130.38 | U38: =134.48+1.09 -> 135.57 | V38: =67.97+0.14+23.52 -> 91.63 | W38: =SUM(S38:V38) -> 443.57 | X38: 94.79 | Y38: 136.81 | Z38: 58.96 | AA38: =106.78+64.68 -> 171.46 | AB38: =SUM(X38:AA38) -> 462.02 | AC38: 54.26 | AD38: 99.97 | AE38: 76.03 | AF38: 97.26 | AG38: =71.88+143.13 -> 215.01 | AH38: =SUM(AC38:AG38) -> 542.53 | AI38: 119.18 | AJ38: 93.9 | AK38: 103.23 | AL38: =47.33+3.31+78.65 -> 129.29 | AM38: =SUM(AI38:AL38) -> 445.6 | AN38: 141.82 | AO38: =153.95+12.72+1.36 -> 168.03 | AP38: 153.07 | AQ38: 133.7 | AR38: =84.7+105.35 -> 190.05 | AS38: =SUM(AN38:AR38) -> 786.67 | AT38: 122.14 | AU38: =162.8+1.8+3.85 -> 168.45 | AV38: =201.03+6.42 -> 207.45 | AW38: =72.96+24.39 -> 97.35 | AX38: =SUM(AT38:AW38) -> 595.39 | AY38: 86.43 | AZ38: =141.43+3.88 -> 145.31 | BA38: 85.66 | BB38: =78.48+79.17 -> 157.65 | BC38: =SUM(AY38:BB38) -> 475.05 | BD38: =87.6+15.12 -> 102.72 | BE38: =171.74+1.36+15.12 -> 188.22 | BF38: 107.91 | BG38: =159.27+6.48 -> 165.75 | BH38: =96.46+4.8+56.06+6.48 -> 163.8 | BI38: =SUM(BD38:BH38) -> 728.4 | BJ38: 151.76 | BK38: =192.88+10.58 -> 203.46 | BL38: 66.36 | BM38: =138.49+90.09 -> 228.58 | BN38: =SUM(BJ38:BM38) -> 650.16 | BO38: =+G38+L38+R38+W38+AB38+AH38+AM38+AS38+AX38+BC38+BI38+BN38 -> 6712.19 | BP38: =+BO38 -> 6712.19
A39: D2 | C39: 112.25 | D39: 52.28 | E39: 80.42 | F39: =96.21+52.92 -> 149.13 | G39: =SUM(C39:F39) -> 394.08 | H39: 145.09 | I39: 41.78 | K39: =47.04+125.98 -> 173.02 | L39: =SUM(H39:K39) -> 359.89 | M39: 113.69 | N39: =97.5+38.35 -> 135.85 | O39: 45.6 | P39: 105.95 | Q39: =52.92+96.19 -> 149.11 | R39: =SUM(M39:Q39) -> 550.2 | S39: 82.65 | T39: 77.74 | U39: =117.26+6.28 -> 123.54 | V39: =28.05+52.92 -> 80.97 | W39: =SUM(S39:V39) -> 364.9 | X39: 35.87 | Y39: 96.37 | Z39: 76.88 | AA39: =74.77+52.92 -> 127.69 | AB39: =SUM(X39:AA39) -> 336.81 | AC39: 140.25 | AD39: =132.34+5.42 -> 137.76 | AE39: 39.71 | AF39: 35.53 | AG39: =47.92+97.6 -> 145.52 | AH39: =SUM(AC39:AG39) -> 498.77 | AI39: 53.16 | AJ39: 116.14 | AK39: 84.72 | AL39: 36.3 | AM39: =SUM(AI39:AL39) -> 290.32 | AQ39: 113.4 | AR39: 18.15 | AS39: =SUM(AN39:AR39) -> 131.55 | AT39: 77.38 | AU39: 117.98 | AV39: =32+4.49 -> 36.49 | AW39: =48.64+133.81 -> 182.45 | AX39: =SUM(AT39:AW39) -> 414.3 | AY39: 50.11 | AZ39: 88.18 | BA39: 64.4 | BB39: =126.27+3.71+54.81 -> 184.79 | BC39: =SUM(AY39:BB39) -> 387.48 | BE39: 107.81 | BF39: =140.1+8.18 -> 148.28 | BG39: =161.04+1.8 -> 162.84 | BH39: =62.01+78.86 -> 140.87 | BI39: =SUM(BD39:BH39) -> 559.8 | BJ39: =56.94+6.48 -> 63.42 | BK39: =125.36+3.97 -> 129.33 | BL39: 148.23 | BM39: =125.61+6.98+62.37 -> 194.96 | BN39: =SUM(BJ39:BM39) -> 535.94 | BO39: =+G39+L39+R39+W39+AB39+AH39+AM39+AS39+AX39+BC39+BI39+BN39 -> 4824.04 | BP39: =+BO39 -> 4824.04
A40: D3 | C40: 138.32 | D40: 120.38 | E40: 95.03 | F40: =151.07+52.92 -> 203.99 | G40: =SUM(C40:F40) -> 557.72 | H40: 71.83 | I40: 95.3 | J40: =114.43+6.12 -> 120.55 | K40: =47.04+160.75 -> 207.79 | L40: =SUM(H40:K40) -> 495.47 | M40: 168.22 | N40: =26.33+9.18 -> 35.51 | O40: 99.16 | P40: 141.64 | Q40: =52.92+136.62 -> 189.54 | R40: =SUM(M40:Q40) -> 634.07 | S40: 212.48 | T40: 161.24 | U40: =105.83+2.84+1.4 -> 110.07 | V40: =122.96+52.92 -> 175.88 | W40: =SUM(S40:V40) -> 659.67 | X40: =162.19+2.42 -> 164.61 | Y40: =96.04+5.03+6.9 -> 107.97 | Z40: 132.81 | AA40: =135.33+52.92 -> 188.25 | AB40: =SUM(X40:AA40) -> 593.64 | AC40: 169.2 | AD40: 102.46 | AE40: 162.04 | AF40: 238.44 | AG40: =47.92+139.2 -> 187.12 | AH40: =SUM(AC40:AG40) -> 859.26 | AI40: 121.9 | AJ40: =5.4+18.75 -> 24.15 | AK40: 142.98 | AL40: =90.16+10.54+54.45 -> 155.15 | AM40: =SUM(AI40:AL40) -> 444.18 | AN40: 154.41 | AO40: 171.39 | AP40: 74.21 | AQ40: 146.7 | AR40: =54.45+121.14 -> 175.59 | AS40: =SUM(AN40:AR40) -> 722.3 | AT40: 166.17 | AU40: 172.06 | AV40: 56.37 | AW40: =48.64+74.82 -> 123.46 | AX40: =SUM(AT40:AW40) -> 518.06 | AY40: 201.6 | AZ40: 116.95 | BA40: 148.82 | BB40: =98.49+54.81 -> 153.3 | BC40: =SUM(AY40:BB40) -> 620.67 | BD40: 124.84 | BE40: 72.43 | BF40: =145.94+7.35 -> 153.29 | BG40: =145.52+1.5 -> 147.02 | BH40: =62.01+130.36 -> 192.37 | BI40: =SUM(BD40:BH40) -> 689.95 | BJ40: 218.13 | BK40: 124.97 | BL40: 68.19 | BM40: =139.63+5.41+62.37 -> 207.41 | BN40: =SUM(BJ40:BM40) -> 618.7 | BO40: =+G40+L40+R40+W40+AB40+AH40+AM40+AS40+AX40+BC40+BI40+BN40 -> 7413.69 | BP40: =+BO40 -> 7413.69
A41: D4 | C41: 68.32 | D41: 46.99 | F41: 77.72 | G41: =SUM(C41:F41) -> 193.03 | H41: 75.42 | I41: 63.31 | J41: 53.27 | K41: 57.46 | L41: =SUM(H41:K41) -> 249.46 | M41: 65.34 | N41: 50.08 | O41: =59.98+0.84 -> 60.82 | P41: 74.81 | Q41: 59.13 | R41: =SUM(M41:Q41) -> 310.18 | S41: 51.17 | T41: 50.89 | U41: 53.74 | V41: 2.07 | W41: =SUM(S41:V41) -> 157.87 | X41: =72.82+11.76 -> 84.58 | Y41: 80.2 | Z41: 85.98 | AA41: 80.87 | AB41: =SUM(X41:AA41) -> 331.63 | AC41: 64.33 | AD41: 58.53 | AE41: 58.09 | AF41: 72.03 | AH41: =SUM(AC41:AG41) -> 252.98 | AI41: 87.02 | AJ41: 90.48 | AK41: 82.81 | AL41: 72.91 | AM41: =SUM(AI41:AL41) -> 333.22 | AN41: 73.01 | AO41: 70.4 | AP41: 33.61 | AQ41: 58.25 | AR41: 71.57 | AS41: =SUM(AN41:AR41) -> 306.84 | AT41: 85.62 | AU41: 79 | AV41: 70.05 | AW41: 80.12 | AX41: =SUM(AT41:AW41) -> 314.79 | AY41: 90.59 | AZ41: 90.64 | BA41: 86.83 | BB41: 75.66 | BC41: =SUM(AY41:BB41) -> 343.72 | BD41: 71.25 | BE41: 83.94 | BF41: 77.83 | BG41: 61.64 | BH41: 85.15 | BI41: =SUM(BD41:BH41) -> 379.81 | BJ41: 79.16 | BK41: 97.06 | BL41: 105.84 | BN41: =SUM(BJ41:BM41) -> 282.06 | BO41: =+G41+L41+R41+W41+AB41+AH41+AM41+AS41+AX41+BC41+BI41+BN41 -> 3455.59 | BP41: =+BO41 -> 3455.59
A42: D5 | G42: =SUM(C42:F42) -> 0 | L42: =SUM(H42:K42) -> 0 | R42: =SUM(M42:Q42) -> 0 | W42: =SUM(S42:V42) -> 0 | AB42: =SUM(X42:AA42) -> 0 | AH42: =SUM(AC42:AG42) -> 0 | AM42: =SUM(AI42:AL42) -> 0 | AS42: =SUM(AN42:AR42) -> 0 | AX42: =SUM(AT42:AW42) -> 0 | BC42: =SUM(AY42:BB42) -> 0 | BI42: =SUM(BD42:BH42) -> 0 | BN42: =SUM(BJ42:BM42) -> 0 | BO42: =+G42+L42+R42+W42+AB42+AH42+AM42+AS42+AX42+BC42+BI42+BN42 -> 0 | BP42: =+BO42 -> 0
A43: D6 | D43: 31.54 | E43: 19 | F43: 75.89 | G43: =SUM(C43:F43) -> 126.43 | H43: 14.62 | I43: 17.25 | J43: 24.09 | K43: 54.49 | L43: =SUM(H43:K43) -> 110.45 | M43: 30.07 | N43: 63.25 | O43: =15.77+2.4 -> 18.17 | P43: 17.11 | Q43: 40.18 | R43: =SUM(M43:Q43) -> 168.78 | S43: 51.72 | U43: =46.52+36.17 -> 82.69 | V43: 76.9 | W43: =SUM(S43:V43) -> 211.31 | X43: 30.1 | Y43: 24.53 | Z43: 25.48 | AA43: 27.56 | AB43: =SUM(X43:AA43) -> 107.67 | AC43: 65.75 | AD43: 36.13 | AE43: 30.92 | AF43: 13.78 | AG43: 18.97 | AH43: =SUM(AC43:AG43) -> 165.55 | AI43: 41.54 | AJ43: =65.32+1.7 -> 67.02 | AK43: 36.32 | AL43: 35.64 | AM43: =SUM(AI43:AL43) -> 180.52 | AN43: 53.59 | AO43: =19.37+6.88 -> 26.25 | AP43: 71.65 | AQ43: 61.52 | AS43: =SUM(AN43:AR43) -> 213.01 | AU43: 32.55 | AV43: 12.67 | AW43: 72.34 | AX43: =SUM(AT43:AW43) -> 117.56 | AY43: 19.55 | AZ43: 23.83 | BA43: 29.52 | BB43: 61.72 | BC43: =SUM(AY43:BB43) -> 134.62 | BD43: 34.42 | BE43: =43.42+0.81 -> 44.23 | BF43: 29.56 | BG43: 37.26 | BH43: 59.75 | BI43: =SUM(BD43:BH43) -> 205.22 | BJ43: 47.05 | BK43: 105.56 | BL43: 20.83 | BM43: 4.86 | BN43: =SUM(BJ43:BM43) -> 178.3 | BO43: =+G43+L43+R43+W43+AB43+AH43+AM43+AS43+AX43+BC43+BI43+BN43 -> 1919.42 | BP43: =+BO43 -> 1919.42
A44: D7 | G44: =SUM(C44:F44) -> 0 | L44: =SUM(H44:K44) -> 0 | R44: =SUM(M44:Q44) -> 0 | W44: =SUM(S44:V44) -> 0 | AB44: =SUM(X44:AA44) -> 0 | AH44: =SUM(AC44:AG44) -> 0 | AM44: =SUM(AI44:AL44) -> 0 | AS44: =SUM(AN44:AR44) -> 0 | AT44: 46.62 | AX44: =SUM(AT44:AW44) -> 46.62 | BC44: =SUM(AY44:BB44) -> 0 | BD44: 32.42 | BI44: =SUM(BD44:BH44) -> 32.42 | BN44: =SUM(BJ44:BM44) -> 0 | BO44: =+G44+L44+R44+W44+AB44+AH44+AM44+AS44+AX44+BC44+BI44+BN44 -> 79.04 | BP44: =+BO44 -> 79.04
A45: TOTAL D | G45: =SUM(G38:G44) -> 1616.7 | L45: =SUM(L38:L44) -> 1698.75 | R45: =SUM(R38:R44) -> 2417.11 | W45: =SUM(W38:W44) -> 1837.32 | AB45: =SUM(AB38:AB44) -> 1831.77 | AH45: =SUM(AH38:AH44) -> 2319.09 | AM45: =SUM(AM38:AM44) -> 1693.84 | AS45: =SUM(AS38:AS44) -> 2160.37 | AX45: =SUM(AX38:AX44) -> 2006.72 | BC45: =SUM(BC38:BC44) -> 1961.54 | BI45: =SUM(BI38:BI44) -> 2595.6 | BN45: =SUM(BN38:BN44) -> 2265.16 | BO45: =SUM(BO38:BO44) -> 24403.97
A46: E1 | C46: =87.11+9.62 -> 96.73 | D46: 96.74 | E46: 136.04 | F46: =93.14+105.84 -> 198.98 | G46: =SUM(C46:F46) -> 528.49 | H46: =137.09+5.07+12 -> 154.16 | I46: =69.54+4.99 -> 74.53 | J46: 154.39 | K46: =41.72+94.08+185.42 -> 321.22 | L46: =SUM(H46:K46) -> 704.3 | M46: 126.56 | N46: 157.74 | O46: =131.01+5.04 -> 136.05 | P46: 103.57 | Q46: =105.84+150.77+4.14 -> 260.75 | R46: =SUM(M46:Q46) -> 784.67 | S46: 125.7 | T46: =122.26+6.12 -> 128.38 | U46: 142.36 | V46: =121.36+0.09+105.84 -> 227.29 | W46: =SUM(S46:V46) -> 623.73 | X46: 108.08 | Y46: 69.74 | Z46: =153.59+6.12 -> 159.71 | AA46: =102.28+105.84 -> 208.12 | AB46: =SUM(X46:AA46) -> 545.65 | AC46: 103.7 | AD46: 148.15 | AE46: 223.97 | AF46: 128.12 | AG46: =95.84+84.33 -> 180.17 | AH46: =SUM(AC46:AG46) -> 784.11 | AI46: =86.27+0.6 -> 86.87 | AJ46: 90.25 | AK46: =112.42+1.2 -> 113.62 | AL46: =150.19+31.62+41.34+108.9 -> 332.05 | AM46: =SUM(AI46:AL46) -> 622.79 | AN46: =6.36+88.48 -> 94.84 | AO46: =87.91+86.23+2.4 -> 176.54 | AP46: 119.96 | AQ46: 154.43 | AR46: =108.9+138.14 -> 247.04 | AS46: =SUM(AN46:AR46) -> 792.81 | AT46: 121.4 | AU46: 64.34 | AV46: 119.81 | AW46: =97.28+53.94 -> 151.22 | AX46: =SUM(AT46:AW46) -> 456.77 | AY46: =148.99+9.99 -> 158.98 | AZ46: =174.57+5.05 -> 179.62 | BA46: 65.88 | BB46: =112.4+7.41+109.62 -> 229.43 | BC46: =SUM(AY46:BB46) -> 633.91 | BD46: =134.08+1.2+27.84 -> 163.12 | BE46: 181.61 | BF46: =89.92+12.46 -> 102.38 | BG46: 47.52 | BH46: =124.02+158.15 -> 282.17 | BI46: =SUM(BD46:BH46) -> 776.8 | BJ46: 115.79 | BK46: 196.49 | BL46: 213.69 | BM46: =110.4+9.63+124.74 -> 244.77 | BN46: =SUM(BJ46:BM46) -> 770.74 | BO46: =+G46+L46+R46+W46+AB46+AH46+AM46+AS46+AX46+BC46+BI46+BN46 -> 8024.77 | BP46: =+BO46 -> 8024.77
A47: E2 | C47: 86.04 | D47: 59.86 | E47: 66.75 | F47: =73.85+82.32 -> 156.17 | G47: =SUM(C47:F47) -> 368.82 | H47: 59.15 | I47: 78.32 | J47: 98.31 | K47: =70.56+55.64 -> 126.2 | L47: =SUM(H47:K47) -> 361.98 | M47: 96.17 | N47: 69.25 | O47: 89.57 | P47: 89 | Q47: =76.44+87.23 -> 163.67 | R47: =SUM(M47:Q47) -> 507.66 | S47: =80.94+46.51 -> 127.45 | T47: 100.23 | U47: =56.15+2.09 -> 58.24 | V47: =61.02+82.32 -> 143.34 | W47: =SUM(S47:V47) -> 429.26 | X47: 76.2 | Y47: 113.31 | Z47: 72.24 | AA47: =104.83+76.44 -> 181.27 | AB47: =SUM(X47:AA47) -> 443.02 | AC47: 64.74 | AD47: 73.34 | AE47: 41.68 | AF47: 119.09 | AG47: =71.88+74.59 -> 146.47 | AH47: =SUM(AC47:AG47) -> 445.32 | AI47: 71.05 | AJ47: 75.59 | AK47: 72.6 | AL47: =87.88+10.54+84.7 -> 183.12 | AM47: =SUM(AI47:AL47) -> 402.36 | AO47: =37.15+0.68 -> 37.83 | AP47: 68.08 | AQ47: 51.68 | AR47: =78.65+75.98 -> 154.63 | AS47: =SUM(AN47:AR47) -> 312.22 | AT47: 69.63 | AV47: 79.44 | AW47: =72.96+116.55 -> 189.51 | AX47: =SUM(AT47:AW47) -> 338.58 | AY47: =54.88+24.7 -> 79.58 | AZ47: =64.19+2.1 -> 66.29 | BA47: =82.82+3.8 -> 86.62 | BB47: =87.01+4.33+85.26 -> 176.6 | BC47: =SUM(AY47:BB47) -> 409.09 | BD47: =74.13+1.36 -> 75.49 | BE47: 105.07 | BF47: =53.76+28.35 -> 82.11 | BG47: 77.64 | BH47: =89.57+132.36 -> 221.93 | BI47: =SUM(BD47:BH47) -> 562.24 | BJ47: 83.4 | BK47: 94.73 | BL47: 131.65 | BM47: =113.04+97.02 -> 210.06 | BN47: =SUM(BJ47:BM47) -> 519.84 | BO47: =+G47+L47+R47+W47+AB47+AH47+AM47+AS47+AX47+BC47+BI47+BN47 -> 5100.39 | BP47: =+BO47 -> 5100.39
A48: E3 | C48: 8.06 | D48: 8.33 | E48: 10.44 | F48: =13.34+23.52 -> 36.86 | G48: =SUM(C48:F48) -> 63.69 | H48: 11.17 | I48: 14.09 | J48: 13.24 | K48: =23.52+8.49 -> 32.01 | L48: =SUM(H48:K48) -> 70.51 | M48: 7.61 | N48: =11.05+0.8 -> 11.85 | O48: 10.55 | P48: 8.05 | Q48: =29.4+8.36 -> 37.76 | R48: =SUM(M48:Q48) -> 75.82 | S48: 7.28 | T48: 13.09 | U48: 12.72 | V48: =11.12+23.52 -> 34.64 | W48: =SUM(S48:V48) -> 67.73 | X48: 10.57 | Y48: 17.12 | Z48: =13.86+5.88 -> 19.74 | AA48: =13.29+29.4 -> 42.69 | AB48: =SUM(X48:AA48) -> 90.12 | AD48: 14.02 | AE48: 12.7 | AF48: 16.6 | AG48: =23.96+8.42 -> 32.38 | AH48: =SUM(AC48:AG48) -> 75.7 | AI48: 17.08 | AJ48: 10.76 | AK48: 13.76 | AL48: =12.81+24.2 -> 37.01 | AM48: =SUM(AI48:AL48) -> 78.61 | AN48: 16.79 | AO48: 7.87 | AP48: 7.89 | AQ48: 7.9 | AR48: =30.25+7.5 -> 37.75 | AS48: =SUM(AN48:AR48) -> 78.2 | AT48: 9.64 | AU48: 5.19 | AV48: 8.27 | AW48: =24.32+9.19 -> 33.51 | AX48: =SUM(AT48:AW48) -> 56.61 | AY48: 12.89 | AZ48: 13.54 | BA48: 17.18 | BB48: =17.29+24.36 -> 41.65 | BC48: =SUM(AY48:BB48) -> 85.26 | BD48: =14.21+0.81 -> 15.02 | BE48: 9.25 | BF48: 12.51 | BG48: 8.71 | BH48: =34.45+10.31 -> 44.76 | BI48: =SUM(BD48:BH48) -> 90.25 | BJ48: 12.89 | BM48: =15.45+27.72 -> 43.17 | BN48: =SUM(BJ48:BM48) -> 56.06 | BO48: =+G48+L48+R48+W48+AB48+AH48+AM48+AS48+AX48+BC48+BI48+BN48 -> 888.56 | BP48: =+BO48 -> 888.56
A49: TOTAL E | G49: =SUM(G46:G48) -> 961 | L49: =SUM(L46:L48) -> 1136.79 | R49: =SUM(R46:R48) -> 1368.15 | W49: =SUM(W46:W48) -> 1120.72 | AB49: =SUM(AB46:AB48) -> 1078.79 | AH49: =SUM(AH46:AH48) -> 1305.13 | AM49: =SUM(AM46:AM48) -> 1103.76 | AS49: =SUM(AS46:AS48) -> 1183.23 | AX49: =SUM(AX46:AX48) -> 851.96 | BC49: =SUM(BC46:BC48) -> 1128.26 | BI49: =SUM(BI46:BI48) -> 1429.29 | BN49: =SUM(BN46:BN48) -> 1346.64 | BO49: =SUM(BO46:BO48) -> 14013.72
A50: F1 | D50: 10.37 | G50: =SUM(C50:F50) -> 10.37 | H50: 12.52 | L50: =SUM(H50:K50) -> 12.52 | N50: 2.5 | Q50: 4.99 | R50: =SUM(M50:Q50) -> 7.49 | U50: 5.03 | V50: 6.57 | W50: =SUM(S50:V50) -> 11.6 | Y50: 4.99 | Z50: 0.37 | AB50: =SUM(X50:AA50) -> 5.36 | AE50: 6.87 | AH50: =SUM(AC50:AG50) -> 6.87 | AJ50: 6.88 | AK50: 6.53 | AL50: 6.53 | AM50: =SUM(AI50:AL50) -> 19.94 | AP50: 8.12 | AS50: =SUM(AN50:AR50) -> 8.12 | AV50: 6.86 | AX50: =SUM(AT50:AW50) -> 6.86 | AY50: 4.94 | BC50: =SUM(AY50:BB50) -> 4.94 | BD50: 2.47 | BH50: 4.94 | BI50: =SUM(BD50:BH50) -> 7.41 | BK50: 2.56 | BN50: =SUM(BJ50:BM50) -> 2.56 | BO50: =+G50+L50+R50+W50+AB50+AH50+AM50+AS50+AX50+BC50+BI50+BN50 -> 104.04 | BP50: =+BO50 -> 104.04
A51: F2 | C51: 12.19 | E51: 12.48 | G51: =SUM(C51:F51) -> 24.67 | I51: 15.61 | K51: 12.48 | L51: =SUM(H51:K51) -> 28.09 | O51: 14.52 | P51: 12.6 | Q51: 12.48 | R51: =SUM(M51:Q51) -> 39.6 | V51: 12.48 | W51: =SUM(S51:V51) -> 12.48 | Y51: 12.48 | AA51: 12.48 | AB51: =SUM(X51:AA51) -> 24.96 | AE51: 12.38 | AG51: 14.94 | AH51: =SUM(AC51:AG51) -> 27.32 | AK51: 13.56 | AM51: =SUM(AI51:AL51) -> 13.56 | AN51: 13.83 | AO51: 13.98 | AS51: =SUM(AN51:AR51) -> 27.81 | AT51: 14.96 | AV51: 14 | AX51: =SUM(AT51:AW51) -> 28.96 | AZ51: 13.81 | BB51: =6.94+12.36 -> 19.3 | BC51: =SUM(AY51:BB51) -> 33.11 | BF51: =0.41+11.94 -> 12.35 | BH51: 19.52 | BI51: =SUM(BD51:BH51) -> 31.87 | BL51: 16.8 | BN51: =SUM(BJ51:BM51) -> 16.8 | BO51: =+G51+L51+R51+W51+AB51+AH51+AM51+AS51+AX51+BC51+BI51+BN51 -> 309.23 | BP51: =+BO51 -> 309.23
A52: F3 | C52: 24.12 | D52: 33.87 | E52: 21.45 | F52: 29.4 | G52: =SUM(C52:F52) -> 108.84 | H52: 32.61 | J52: 23.93 | K52: =23.52+23.74 -> 47.26 | L52: =SUM(H52:K52) -> 103.8 | M52: 19.45 | O52: =36.64+2.11 -> 38.75 | P52: 45.25 | Q52: =23.52+41.68+4.08+1.05 -> 70.33 | R52: =SUM(M52:Q52) -> 173.78 | S52: 16.18 | T52: 60.95 | V52: =62.51+1.12+29.4 -> 93.03 | W52: =SUM(S52:V52) -> 170.16 | Z52: 19.93 | AA52: =16.1+23.52 -> 39.62 | AB52: =SUM(X52:AA52) -> 59.55 | AD52: 19.37 | AG52: 23.96 | AH52: =SUM(AC52:AG52) -> 43.33 | AL52: 30.25 | AM52: =SUM(AI52:AL52) -> 30.25 | AR52: 24.2 | AS52: =SUM(AN52:AR52) -> 24.2 | AT52: 16.7 | AU52: =22.81+3.3 -> 26.11 | AV52: =42.75+1.2 -> 43.95 | AW52: =24.32+18.07 -> 42.39 | AX52: =SUM(AT52:AW52) -> 129.15 | AZ52: =17.71+1.94 -> 19.65 | BA52: 20.36 | BB52: 30.45 | BC52: =SUM(AY52:BB52) -> 70.46 | BD52: 18.24 | BE52: 41.97 | BF52: 11.26 | BH52: 27.56 | BI52: =SUM(BD52:BH52) -> 99.03 | BJ52: 15.16 | BK52: 25.95 | BL52: 21.37 | BM52: =14.27+34.65 -> 48.92 | BN52: =SUM(BJ52:BM52) -> 111.4 | BO52: =+G52+L52+R52+W52+AB52+AH52+AM52+AS52+AX52+BC52+BI52+BN52 -> 1123.95 | BP52: =+BO52 -> 1123.95
A53: F4 | C53: 34.15 | D53: 66.35 | E53: 24.73 | F53: 28.02 | G53: =SUM(C53:F53) -> 153.25 | H53: 74.76 | I53: 64.71 | J53: 61.44 | K53: 73.53 | L53: =SUM(H53:K53) -> 274.44 | M53: 40.77 | N53: 32.63 | O53: 63.31 | P53: 66.1 | Q53: 75.14 | R53: =SUM(M53:Q53) -> 277.95 | S53: 84.69 | T53: 54.26 | U53: 40.69 | V53: 24.22 | W53: =SUM(S53:V53) -> 203.86 | X53: 65.09 | Y53: 69.61 | Z53: 71.71 | AA53: 30.35 | AB53: =SUM(X53:AA53) -> 236.76 | AC53: 31.45 | AD53: 16.55 | AE53: 37.73 | AF53: 39.11 | AG53: 72.57 | AH53: =SUM(AC53:AG53) -> 197.41 | AI53: 22.63 | AJ53: 25.53 | AK53: 37.63 | AL53: 78.97 | AM53: =SUM(AI53:AL53) -> 164.76 | AN53: 21.53 | AO53: 81.1 | AP53: 66.52 | AQ53: 21.08 | AR53: 84.52 | AS53: =SUM(AN53:AR53) -> 274.75 | AU53: 33.38 | AV53: =75.8+7.2 -> 83 | AW53: 20.06 | AX53: =SUM(AT53:AW53) -> 136.44 | AY53: 31.45 | AZ53: 86.15 | BA53: 44.61 | BB53: 70.72 | BC53: =SUM(AY53:BB53) -> 232.93 | BD53: =32.42+2.53 -> 34.95 | BE53: 75.41 | BF53: 78.57 | BG53: 73.72 | BH53: 66.36 | BI53: =SUM(BD53:BH53) -> 329.01 | BJ53: 71.07 | BK53: 74.53 | BL53: 86.81 | BN53: =SUM(BJ53:BM53) -> 232.41 | BO53: =+G53+L53+R53+W53+AB53+AH53+AM53+AS53+AX53+BC53+BI53+BN53 -> 2713.97 | BP53: =+BO53 -> 2713.97
A54: F5 | C54: 13.36 | D54: 13.87 | E54: 17.67 | F54: 16.16 | G54: =SUM(C54:F54) -> 61.06 | H54: 14.29 | I54: 21.52 | J54: 18.98 | K54: 20.35 | L54: =SUM(H54:K54) -> 75.14 | M54: 17.94 | N54: 20.21 | O54: 5.81 | P54: 12.63 | Q54: =52.92+30.91 -> 83.83 | R54: =SUM(M54:Q54) -> 140.42 | S54: 17.04 | T54: 19.07 | U54: 15.41 | V54: 4.92 | W54: =SUM(S54:V54) -> 56.44 | X54: 11.3 | Y54: 8.43 | Z54: 18.78 | AA54: 11.39 | AB54: =SUM(X54:AA54) -> 49.9 | AC54: 13.76 | AD54: 19.53 | AE54: 17.4 | AF54: 23.86 | AG54: 16.89 | AH54: =SUM(AC54:AG54) -> 91.44 | AI54: 19.9 | AJ54: 24.13 | AL54: 28.05 | AM54: =SUM(AI54:AL54) -> 72.08 | AN54: =3.8+3.2 -> 7 | AO54: 17.27 | AP54: 24.12 | AQ54: 14.96 | AS54: =SUM(AN54:AR54) -> 63.35 | AT54: 18.26 | AU54: 17.19 | AV54: 27.56 | AW54: 6.84 | AX54: =SUM(AT54:AW54) -> 69.85 | AY54: 23.15 | AZ54: 16.33 | BB54: =18.77+8.65 -> 27.42 | BC54: =SUM(AY54:BB54) -> 66.9 | BD54: 24.62 | BE54: 11.57 | BF54: =7.7+4.94 -> 12.64 | BG54: 5.94 | BH54: 19.87 | BI54: =SUM(BD54:BH54) -> 74.64 | BJ54: 11.37 | BK54: 23.57 | BL54: 18.53 | BM54: 7.2 | BN54: =SUM(BJ54:BM54) -> 60.67 | BO54: =+G54+L54+R54+W54+AB54+AH54+AM54+AS54+AX54+BC54+BI54+BN54 -> 881.89 | BP54: =+BO54 -> 881.89
A55: F6 | C55: 12.41 | D55: =27.63+0.05+6.06 -> 33.74 | E55: 25.76 | F55: =21.03+0.1+52.92 -> 74.05 | G55: =SUM(C55:F55) -> 145.96 | H55: =64.69+0.15 -> 64.84 | I55: 18.6 | J55: 38.64 | K55: =47.04+17.6 -> 64.64 | L55: =SUM(H55:K55) -> 186.72 | M55: =17.72+5.22 -> 22.94 | N55: 15.03 | O55: =40.13+39.19 -> 79.32 | P55: 17.43 | Q55: =76.44+12.91+7.58+0.84 -> 97.77 | R55: =SUM(M55:Q55) -> 232.49 | S55: =3.84+8.56 -> 12.4 | T55: =15.42+2.72 -> 18.14 | U55: =23.53+4.2+33.6 -> 61.33 | V55: =41.41+0.09+2.8+52.92 -> 97.22 | W55: =SUM(S55:V55) -> 189.09 | X55: =10.7+0.77 -> 11.47 | Y55: 15.18 | Z55: 31.7 | AA55: =11.87+52.92 -> 64.79 | AB55: =SUM(X55:AA55) -> 123.14 | AC55: 18.34 | AD55: 24.85 | AE55: 22.09 | AF55: 68.03 | AG55: =47.92+25.06 -> 72.98 | AH55: =SUM(AC55:AG55) -> 206.29 | AI55: 19.38 | AJ55: =18.13+3.9 -> 22.03 | AK55: 16.12 | AL55: 54.45 | AM55: =SUM(AI55:AL55) -> 111.98 | AN55: =28.14+2.04 -> 30.18 | AO55: =78.56+3.2 -> 81.76 | AP55: 61.6 | AQ55: 15.98 | AR55: =54.45+103.99 -> 158.44 | AS55: =SUM(AN55:AR55) -> 347.96 | AT55: =12.69+0.3 -> 12.99 | AU55: =13.71+9.3+1.65 -> 24.66 | AV55: =22.66+0 -> 22.66 | AW55: =48.64+22.65+2.44 -> 73.73 | AX55: =SUM(AT55:AW55) -> 134.04 | AY55: 30.85 | AZ55: 26.43 | BA55: 27.93 | BB55: =23.83+54.81 -> 78.64 | BC55: =SUM(AY55:BB55) -> 163.85 | BD55: 11.66 | BE55: =8.38+1.6 -> 9.98 | BF55: 8.55 | BG55: =17.8+6 -> 23.8 | BH55: =62.01+21.28 -> 83.29 | BI55: =SUM(BD55:BH55) -> 137.28 | BJ55: 71.02 | BK55: 30.61 | BL55: =4.08+29.91 -> 33.99 | BM55: =14.19+62.37 -> 76.56 | BN55: =SUM(BJ55:BM55) -> 212.18 | BO55: =+G55+L55+R55+W55+AB55+AH55+AM55+AS55+AX55+BC55+BI55+BN55 -> 2190.98 | BP55: =+BO55 -> 2190.98
A56: F7 | C56: 41.04 | D56: 95.62 | E56: =57.63+5.88 -> 63.51 | F56: =101.78+82.32 -> 184.1 | G56: =SUM(C56:F56) -> 384.27 | H56: 43.14 | I56: 55.13 | J56: 43.74 | K56: =70.56+53.47 -> 124.03 | L56: =SUM(H56:K56) -> 266.04 | M56: =112.21+3.34 -> 115.55 | N56: 69.29 | O56: 110.72 | P56: 45.56 | Q56: =58.06+1.26 -> 59.32 | R56: =SUM(M56:Q56) -> 400.44 | S56: =10.4+106.1 -> 116.5 | T56: 84.73 | U56: 80.28 | V56: =96.17+7.15+82.32 -> 185.64 | W56: =SUM(S56:V56) -> 467.15 | X56: =94.46+7.12 -> 101.58 | Y56: 81.19 | Z56: 74.63 | AA56: =109.06+76.44 -> 185.5 | AB56: =SUM(X56:AA56) -> 442.9 | AC56: 128.35 | AD56: 72.15 | AE56: 50.96 | AG56: =71.88+44.25 -> 116.13 | AH56: =SUM(AC56:AG56) -> 367.59 | AI56: 38.55 | AJ56: 80.64 | AK56: 59.69 | AL56: =50.43+84.7 -> 135.13 | AM56: =SUM(AI56:AL56) -> 314.01 | AN56: 102.15 | AO56: 126.28 | AP56: =53.43+0.78 -> 54.21 | AQ56: 94.13 | AR56: =78.65+62.24 -> 140.89 | AS56: =SUM(AN56:AR56) -> 517.66 | AU56: 120.82 | AV56: =58.57+3 -> 61.57 | AW56: =72.96+64.22 -> 137.18 | AX56: =SUM(AT56:AW56) -> 319.57 | AY56: =112.26+1.26 -> 113.52 | AZ56: =68.12+1.26 -> 69.38 | BA56: 106.72 | BB56: =56.44+7.41+85.26 -> 149.11 | BC56: =SUM(AY56:BB56) -> 438.73 | BD56: 111 | BE56: 143.56 | BF56: =34.53+13.3 -> 47.83 | BG56: 97.35 | BH56: =89.57+116.08 -> 205.65 | BI56: =SUM(BD56:BH56) -> 605.39 | BJ56: 119.93 | BK56: =162.94+2 -> 164.94 | BL56: 69.43 | BM56: =118.09+2.83+97.02 -> 217.94 | BN56: =SUM(BJ56:BM56) -> 572.24 | BO56: =+G56+L56+R56+W56+AB56+AH56+AM56+AS56+AX56+BC56+BI56+BN56 -> 5095.99 | BP56: =+BO56 -> 5095.99
A57: F8 | C57: 7.74 | D57: 6.23 | E57: 6.29 | F57: 7.55 | G57: =SUM(C57:F57) -> 27.81 | H57: 6.29 | I57: 7.52 | J57: 6.23 | K57: 6.29 | L57: =SUM(H57:K57) -> 26.33 | M57: 6.23 | N57: 6.95 | O57: 7.52 | P57: 6.23 | Q57: 6.29 | R57: =SUM(M57:Q57) -> 33.22 | S57: 7.68 | T57: 6.95 | U57: 6.29 | V57: 6.23 | W57: =SUM(S57:V57) -> 27.15 | X57: 7.55 | Y57: 6.82 | Z57: 7.52 | AA57: 6.29 | AB57: =SUM(X57:AA57) -> 28.18 | AC57: 6.35 | AD57: 7.68 | AE57: 7 | AF57: 7.76 | AG57: 6.41 | AH57: =SUM(AC57:AG57) -> 35.2 | AI57: 7.05 | AJ57: 7.79 | AK57: =6.42+9.66 -> 16.08 | AL57: 6.42 | AM57: =SUM(AI57:AL57) -> 37.34 | AN57: 6.42 | AO57: 7.77 | AP57: 7.03 | AQ57: 5.69 | AR57: 11.74 | AS57: =SUM(AN57:AR57) -> 38.65 | AT57: 6.37 | AU57: 7.78 | AV57: 5.44 | AW57: 7.06 | AX57: =SUM(AT57:AW57) -> 26.65 | AY57: 6.41 | AZ57: 6.91 | BA57: 7.8 | BB57: 7.05 | BC57: =SUM(AY57:BB57) -> 28.17 | BD57: 7.84 | BE57: 6.42 | BF57: 5.92 | BG57: 7.84 | BH57: 7.49 | BI57: =SUM(BD57:BH57) -> 35.51 | BJ57: 7.84 | BK57: =8.78+10.26 -> 19.04 | BL57: 7.76 | BM57: 7.24 | BN57: =SUM(BJ57:BM57) -> 41.88 | BO57: =+G57+L57+R57+W57+AB57+AH57+AM57+AS57+AX57+BC57+BI57+BN57 -> 386.09 | BP57: =+BO57 -> 386.09
A58: F9 | G58: =SUM(C58:F58) -> 0 | L58: =SUM(H58:K58) -> 0 | R58: =SUM(M58:Q58) -> 0 | U58: 6.65 | W58: =SUM(S58:V58) -> 6.65 | AB58: =SUM(X58:AA58) -> 0 | AH58: =SUM(AC58:AG58) -> 0 | AM58: =SUM(AI58:AL58) -> 0 | AS58: =SUM(AN58:AR58) -> 0 | AX58: =SUM(AT58:AW58) -> 0 | BC58: =SUM(AY58:BB58) -> 0 | BI58: =SUM(BD58:BH58) -> 0 | BJ58: 4.27 | BN58: =SUM(BJ58:BM58) -> 4.27 | BO58: =+G58+L58+R58+W58+AB58+AH58+AM58+AS58+AX58+BC58+BI58+BN58 -> 10.92 | BP58: =+BO58 -> 10.92
A59: TOTAL F | G59: =SUM(G50:G58) -> 916.23 | L59: =SUM(L50:L58) -> 973.08 | R59: =SUM(R50:R58) -> 1305.39 | W59: =SUM(W50:W58) -> 1144.58 | AB59: =SUM(AB50:AB58) -> 970.75 | AH59: =SUM(AH50:AH58) -> 975.45 | AM59: =SUM(AM50:AM58) -> 763.92 | AS59: =SUM(AS50:AS58) -> 1302.5 | AX59: =SUM(AX50:AX58) -> 851.52 | BC59: =SUM(BC50:BC58) -> 1039.09 | BI59: =SUM(BI50:BI58) -> 1320.14 | BN59: =SUM(BN50:BN58) -> 1254.41 | BO59: =SUM(BO50:BO58) -> 12817.06
A60: G1 | F60: 36.99 | G60: =SUM(C60:F60) -> 36.99 | K60: 29.87 | L60: =SUM(H60:K60) -> 29.87 | Q60: =17.75+2.5 -> 20.25 | R60: =SUM(M60:Q60) -> 20.25 | W60: =SUM(S60:V60) -> 0 | X60: 33.46 | AB60: =SUM(X60:AA60) -> 33.46 | AF60: 41.28 | AH60: =SUM(AC60:AG60) -> 41.28 | AM60: =SUM(AI60:AL60) -> 0 | AO60: =28.56+2.4+1.72 -> 32.68 | AS60: =SUM(AN60:AR60) -> 32.68 | AX60: =SUM(AT60:AW60) -> 0 | BA60: 21.23 | BC60: =SUM(AY60:BB60) -> 21.23 | BF60: =17.1+13.02 -> 30.12 | BI60: =SUM(BD60:BH60) -> 30.12 | BM60: 31.19 | BN60: =SUM(BJ60:BM60) -> 31.19 | BO60: =+G60+L60+R60+W60+AB60+AH60+AM60+AS60+AX60+BC60+BI60+BN60 -> 277.07 | BP60: =+BO60 -> 277.07
A61: G2 | C61: 10.19 | D61: 4.99 | E61: 8.14 | F61: =13.02+1.5 -> 14.52 | G61: =SUM(C61:F61) -> 37.84 | H61: 7.77 | I61: 15.2 | J61: 14.43 | K61: 4.85 | L61: =SUM(H61:K61) -> 42.25 | M61: 14.43 | O61: 6.06 | P61: 10.54 | R61: =SUM(M61:Q61) -> 31.03 | S61: 10.05 | T61: 9.61 | U61: 9.21 | W61: =SUM(S61:V61) -> 28.87 | X61: 15.22 | Y61: 9.53 | AA61: 14.46 | AB61: =SUM(X61:AA61) -> 39.21 | AC61: 9.18 | AD61: 10.16 | AE61: 9.71 | AF61: 10.21 | AH61: =SUM(AC61:AG61) -> 39.26 | AJ61: 15.55 | AK61: 8 | AM61: =SUM(AI61:AL61) -> 23.55 | AN61: 8 | AP61: 5.8 | AR61: 10.21 | AS61: =SUM(AN61:AR61) -> 24.01 | AT61: 10.67 | AU61: 10.21 | AV61: 15.08 | AW61: 14.68 | AX61: =SUM(AT61:AW61) -> 50.64 | AZ61: 9.72 | BA61: 10.3 | BC61: =SUM(AY61:BB61) -> 20.02 | BD61: 6.3 | BF61: 9.15 | BI61: =SUM(BD61:BH61) -> 15.45 | BJ61: 10.31 | BL61: 10.45 | BN61: =SUM(BJ61:BM61) -> 20.76 | BO61: =+G61+L61+R61+W61+AB61+AH61+AM61+AS61+AX61+BC61+BI61+BN61 -> 372.89 | BP61: =+BO61 -> 372.89
A62: G3 | F62: =4.4+3.78 -> 8.18 | G62: =SUM(C62:F62) -> 8.18 | H62: 4.99 | I62: =1.58+4.99 -> 6.57 | L62: =SUM(H62:K62) -> 11.56 | N62: 2.52 | R62: =SUM(M62:Q62) -> 2.52 | W62: =SUM(S62:V62) -> 0 | AB62: =SUM(X62:AA62) -> 0 | AH62: =SUM(AC62:AG62) -> 0 | AM62: =SUM(AI62:AL62) -> 0 | AS62: =SUM(AN62:AR62) -> 0 | AX62: =SUM(AT62:AW62) -> 0 | BC62: =SUM(AY62:BB62) -> 0 | BI62: =SUM(BD62:BH62) -> 0 | BN62: =SUM(BJ62:BM62) -> 0 | BO62: =+G62+L62+R62+W62+AB62+AH62+AM62+AS62+AX62+BC62+BI62+BN62 -> 22.26 | BP62: =+BO62 -> 22.26
A63: G4 | E63: 2.5 | F63: 2.5 | G63: =SUM(C63:F63) -> 5 | H63: 2.5 | I63: 2.5 | J63: 2.5 | K63: =2.5+18 -> 20.5 | L63: =SUM(H63:K63) -> 28 | M63: 2.5 | N63: 2.5 | O63: 2.5 | P63: =2.5+2 -> 4.5 | Q63: 2.5 | R63: =SUM(M63:Q63) -> 14.5 | S63: 2.5 | T63: 2.5 | U63: 3.74 | V63: 3.74 | W63: =SUM(S63:V63) -> 12.48 | X63: 3.74 | Y63: 3.74 | Z63: 3.74 | AA63: =3.74 -> 3.74 | AB63: =SUM(X63:AA63) -> 14.96 | AC63: 3.74 | AD63: 3.74 | AE63: 3.71 | AF63: 3.71 | AH63: =SUM(AC63:AG63) -> 14.9 | AK63: 3.71 | AL63: 3.71 | AM63: =SUM(AI63:AL63) -> 7.42 | AN63: 3.71 | AO63: 3.7 | AP63: 2.47 | AR63: 2.47 | AS63: =SUM(AN63:AR63) -> 12.35 | AU63: 2.47 | AV63: 2.47 | AW63: 2.47 | AX63: =SUM(AT63:AW63) -> 7.41 | AY63: 2.47 | AZ63: 2.47 | BB63: 2.47 | BC63: =SUM(AY63:BB63) -> 7.41 | BD63: 2.47 | BE63: 2.47 | BF63: 2.47 | BG63: 2.47 | BH63: 2.47 | BI63: =SUM(BD63:BH63) -> 12.35 | BJ63: 2.47 | BK63: 2.56 | BL63: 2.65 | BM63: 2.65 | BN63: =SUM(BJ63:BM63) -> 10.33 | BO63: =+G63+L63+R63+W63+AB63+AH63+AM63+AS63+AX63+BC63+BI63+BN63 -> 147.11 | BP63: =+BO63 -> 147.11
A64: G5 | G64: =SUM(C64:F64) -> 0 | L64: =SUM(H64:K64) -> 0 | R64: =SUM(M64:Q64) -> 0 | W64: =SUM(S64:V64) -> 0 | AB64: =SUM(X64:AA64) -> 0 | AH64: =SUM(AC64:AG64) -> 0 | AM64: =SUM(AI64:AL64) -> 0 | AS64: =SUM(AN64:AR64) -> 0 | AX64: =SUM(AT64:AW64) -> 0 | BC64: =SUM(AY64:BB64) -> 0 | BI64: =SUM(BD64:BH64) -> 0 | BN64: =SUM(BJ64:BM64) -> 0 | BO64: =+G64+L64+R64+W64+AB64+AH64+AM64+AS64+AX64+BC64+BI64+BN64 -> 0 | BP64: =+BO64 -> 0
A65: G6 | G65: =SUM(C65:F65) -> 0 | L65: =SUM(H65:K65) -> 0 | R65: =SUM(M65:Q65) -> 0 | W65: =SUM(S65:V65) -> 0 | AB65: =SUM(X65:AA65) -> 0 | AH65: =SUM(AC65:AG65) -> 0 | AM65: =SUM(AI65:AL65) -> 0 | AS65: =SUM(AN65:AR65) -> 0 | AX65: =SUM(AT65:AW65) -> 0 | BC65: =SUM(AY65:BB65) -> 0 | BI65: =SUM(BD65:BH65) -> 0 | BN65: =SUM(BJ65:BM65) -> 0 | BO65: =+G65+L65+R65+W65+AB65+AH65+AM65+AS65+AX65+BC65+BI65+BN65 -> 0 | BP65: =+BO65 -> 0
A66: G7 | C66: 68.27 | D66: 114.24 | E66: =49.55+30 -> 79.55 | F66: =19.18+10.77+49.18 -> 79.13 | G66: =SUM(C66:F66) -> 341.19 | H66: 32.98 | I66: 65.06 | J66: 79.24 | K66: =46.6+31.09 -> 77.69 | L66: =SUM(H66:K66) -> 254.97 | M66: 24.93 | N66: 24.93 | O66: 16.49 | Q66: =30.3+40.89+105.84 -> 177.03 | R66: =SUM(M66:Q66) -> 243.38 | S66: =29.89+5.07 -> 34.96 | T66: 27.68 | U66: 32.98 | V66: =58.43+10.4 -> 68.83 | W66: =SUM(S66:V66) -> 164.45 | X66: 98.87 | Y66: 36.02 | Z66: 19.54 | AA66: =19.54+8.04+6.4 -> 33.98 | AB66: =SUM(X66:AA66) -> 188.41 | AC66: 19.94 | AD66: 28.58 | AE66: 64.45 | AF66: 24.94 | AG66: =30.32+33.08 -> 63.4 | AH66: =SUM(AC66:AG66) -> 201.31 | AI66: 40.9 | AK66: 19.69 | AL66: =50.26+31.96 -> 82.22 | AM66: =SUM(AI66:AL66) -> 142.81 | AN66: 45.73 | AO66: 26.97 | AP66: =76.7+8.05 -> 84.75 | AR66: 30.96 | AS66: =SUM(AN66:AR66) -> 188.41 | AT66: 61.47 | AU66: =14.92+8.05 -> 22.97 | AV66: 61.13 | AW66: =39.28+33.46 -> 72.74 | AX66: =SUM(AT66:AW66) -> 218.31 | AY66: 42.9 | AZ66: 3.18 | BA66: 40.6 | BB66: =63.14+28.65 -> 91.79 | BC66: =SUM(AY66:BB66) -> 178.47 | BD66: 26.85 | BE66: 33.74 | BF66: =15.02+5.04 -> 20.06 | BG66: 52.82 | BH66: =29.74+13.31 -> 43.05 | BI66: =SUM(BD66:BH66) -> 176.52 | BJ66: 39.96 | BK66: 60.47 | BL66: =6.93+16.99 -> 23.92 | BM66: =11.6+5.39+19.97 -> 36.96 | BN66: =SUM(BJ66:BM66) -> 161.31 | BO66: =+G66+L66+R66+W66+AB66+AH66+AM66+AS66+AX66+BC66+BI66+BN66 -> 2459.54 | BP66: =+BO66 -> 2459.54
A67: G8 | G67: =SUM(C67:F67) -> 0 | L67: =SUM(H67:K67) -> 0 | R67: =SUM(M67:Q67) -> 0 | W67: =SUM(S67:V67) -> 0 | AB67: =SUM(X67:AA67) -> 0 | AH67: =SUM(AC67:AG67) -> 0 | AM67: =SUM(AI67:AL67) -> 0 | AS67: =SUM(AN67:AR67) -> 0 | AX67: =SUM(AT67:AW67) -> 0 | BC67: =SUM(AY67:BB67) -> 0 | BI67: =SUM(BD67:BH67) -> 0 | BN67: =SUM(BJ67:BM67) -> 0 | BO67: =+G67+L67+R67+W67+AB67+AH67+AM67+AS67+AX67+BC67+BI67+BN67 -> 0 | BP67: =+BO67 -> 0
A68: G9 | G68: =SUM(C68:F68) -> 0 | L68: =SUM(H68:K68) -> 0 | R68: =SUM(M68:Q68) -> 0 | W68: =SUM(S68:V68) -> 0 | AB68: =SUM(X68:AA68) -> 0 | AH68: =SUM(AC68:AG68) -> 0 | AM68: =SUM(AI68:AL68) -> 0 | AS68: =SUM(AN68:AR68) -> 0 | AX68: =SUM(AT68:AW68) -> 0 | BC68: =SUM(AY68:BB68) -> 0 | BI68: =SUM(BD68:BH68) -> 0 | BN68: =SUM(BJ68:BM68) -> 0 | BO68: =+G68+L68+R68+W68+AB68+AH68+AM68+AS68+AX68+BC68+BI68+BN68 -> 0 | BP68: =+BO68 -> 0
A69: G10 | C69: 18.29 | G69: =SUM(C69:F69) -> 18.29 | I69: 18.72 | L69: =SUM(H69:K69) -> 18.72 | O69: 18.72 | R69: =SUM(M69:Q69) -> 18.72 | S69: 18.72 | W69: =SUM(S69:V69) -> 18.72 | Y69: 18.72 | AB69: =SUM(X69:AA69) -> 18.72 | AD69: 18.57 | AG69: 18.53 | AH69: =SUM(AC69:AG69) -> 37.1 | AM69: =SUM(AI69:AL69) -> 0 | AN69: 18.53 | AQ69: 18.49 | AS69: =SUM(AN69:AR69) -> 37.02 | AU69: 18.52 | AX69: =SUM(AT69:AW69) -> 18.52 | AZ69: 18.52 | BC69: =SUM(AY69:BB69) -> 18.52 | BE69: =12.36+6.18 -> 18.54 | BI69: =SUM(BD69:BH69) -> 18.54 | BN69: =SUM(BJ69:BM69) -> 0 | BO69: =+G69+L69+R69+W69+AB69+AH69+AM69+AS69+AX69+BC69+BI69+BN69 -> 222.87 | BP69: =+BO69 -> 222.87
A70: G11 | G70: =SUM(C70:F70) -> 0 | L70: =SUM(H70:K70) -> 0 | O70: 7.33 | R70: =SUM(M70:Q70) -> 7.33 | W70: =SUM(S70:V70) -> 0 | AA70: 15.68 | AB70: =SUM(X70:AA70) -> 15.68 | AH70: =SUM(AC70:AG70) -> 0 | AM70: =SUM(AI70:AL70) -> 0 | AS70: =SUM(AN70:AR70) -> 0 | AU70: 5.04 | AX70: =SUM(AT70:AW70) -> 5.04 | BC70: =SUM(AY70:BB70) -> 0 | BI70: =SUM(BD70:BH70) -> 0 | BN70: =SUM(BJ70:BM70) -> 0 | BO70: =+G70+L70+R70+W70+AB70+AH70+AM70+AS70+AX70+BC70+BI70+BN70 -> 28.05 | BP70: =+BO70 -> 28.05
A71: G12 | G71: =SUM(C71:F71) -> 0 | L71: =SUM(H71:K71) -> 0 | N71: 18 | R71: =SUM(M71:Q71) -> 18 | W71: =SUM(S71:V71) -> 0 | AB71: =SUM(X71:AA71) -> 0 | AD71: 3.78 | AH71: =SUM(AC71:AG71) -> 3.78 | AM71: =SUM(AI71:AL71) -> 0 | AS71: =SUM(AN71:AR71) -> 0 | AT71: 41.34 | AX71: =SUM(AT71:AW71) -> 41.34 | AY71: 11.04 | BC71: =SUM(AY71:BB71) -> 11.04 | BI71: =SUM(BD71:BH71) -> 0 | BN71: =SUM(BJ71:BM71) -> 0 | BO71: =+G71+L71+R71+W71+AB71+AH71+AM71+AS71+AX71+BC71+BI71+BN71 -> 74.16 | BP71: =+BO71 -> 74.16
A72: G13 | C72: 8.53 | D72: 8.74 | E72: 8.74 | F72: 8.74 | G72: =SUM(C72:F72) -> 34.75 | H72: 8.74 | I72: 8.74 | L72: =SUM(H72:K72) -> 17.48 | M72: 14.98 | N72: 14.98 | O72: 9.98 | Q72: 8.74 | R72: =SUM(M72:Q72) -> 48.68 | S72: 8.74 | V72: 8.74 | W72: =SUM(S72:V72) -> 17.48 | X72: 8.74 | Y72: 8.74 | Z72: 8.74 | AA72: 8.74 | AB72: =SUM(X72:AA72) -> 34.96 | AD72: 8.67 | AE72: 8.67 | AF72: 7.42 | AH72: =SUM(AC72:AG72) -> 24.76 | AJ72: 8.65 | AK72: 12.36 | AL72: 12.36 | AM72: =SUM(AI72:AL72) -> 33.37 | AN72: 12.36 | AO72: 12.33 | AQ72: 12.33 | AR72: 12.33 | AS72: =SUM(AN72:AR72) -> 49.35 | AU72: 7.4 | AV72: 8.64 | AW72: 8.64 | AX72: =SUM(AT72:AW72) -> 24.68 | AY72: =7.41+1.23 -> 8.64 | AZ72: 7.41 | BB72: 12.36 | BC72: =SUM(AY72:BB72) -> 28.41 | BD72: 8.65 | BE72: 7.69 | BH72: 8.65 | BI72: =SUM(BD72:BH72) -> 24.99 | BK72: =1.28+6.61 -> 7.89 | BN72: =SUM(BJ72:BM72) -> 7.89 | BO72: =+G72+L72+R72+W72+AB72+AH72+AM72+AS72+AX72+BC72+BI72+BN72 -> 346.8 | BP72: =+BO72 -> 346.8
A73: G14 | G73: =SUM(C73:F73) -> 0 | L73: =SUM(H73:K73) -> 0 | M73: 7.41 | Q73: 38.12 | R73: =SUM(M73:Q73) -> 45.53 | W73: =SUM(S73:V73) -> 0 | Y73: 29.26 | AB73: =SUM(X73:AA73) -> 29.26 | AH73: =SUM(AC73:AG73) -> 0 | AM73: =SUM(AI73:AL73) -> 0 | AS73: =SUM(AN73:AR73) -> 0 | AX73: =SUM(AT73:AW73) -> 0 | AY73: 16.96 | AZ73: 10.27 | BC73: =SUM(AY73:BB73) -> 27.23 | BI73: =SUM(BD73:BH73) -> 0 | BL73: 0 | BM73: 0 | BN73: =SUM(BJ73:BM73) -> 0 | BO73: =+G73+L73+R73+W73+AB73+AH73+AM73+AS73+AX73+BC73+BI73+BN73 -> 102.02 | BP73: =+BO73 -> 102.02
A74: TOTAL G | G74: =SUM(G60:G73) -> 482.24 | L74: =SUM(L60:L73) -> 402.85 | R74: =SUM(R60:R73) -> 449.94 | W74: =SUM(W60:W73) -> 242 | AB74: =SUM(AB60:AB73) -> 374.66 | AH74: =SUM(AH60:AH73) -> 362.39 | AM74: =SUM(AM60:AM73) -> 207.15 | AS74: =SUM(AS60:AS73) -> 343.82 | AX74: =SUM(AX60:AX73) -> 365.94 | BC74: =SUM(BC60:BC73) -> 312.33 | BI74: =SUM(BI60:BI73) -> 277.97 | BL74: 0 | BM74: 0 | BN74: =SUM(BN60:BN73) -> 231.48 | BO74: =SUM(BO60:BO73) -> 4052.77
A75: TOTAL MENSUEL | G75: =+G7+G28+G37+G45+G49+G59+G74 -> 10331.02 | L75: =+L7+L28+L37+L45+L49+L59+L74 -> 10279.79 | R75: =+R7+R28+R37+R45+R49+R59+R74 -> 14198.7 | W75: =+W7+W28+W37+W45+W49+W59+W74 -> 10968.34 | AB75: =+AB7+AB28+AB37+AB45+AB49+AB59+AB74 -> 10762.17 | AH75: =+AH7+AH28+AH37+AH45+AH49+AH59+AH74 -> 12705.14 | AM75: =+AM7+AM28+AM37+AM45+AM49+AM59+AM74 -> 10534.98 | AS75: =+AS7+AS28+AS37+AS45+AS49+AS59+AS74 -> 12535.32 | AX75: =+AX7+AX28+AX37+AX45+AX49+AX59+AX74 -> 10336.86 | BC75: =+BC7+BC28+BC37+BC45+BC49+BC59+BC74 -> 11417.01 | BI75: =+BI7+BI28+BI37+BI45+BI49+BI59+BI74 -> 13947.92 | BL75: 0 | BM75: 0 | BN75: =+BN7+BN28+BN37+BN45+BN49+BN59+BN74 -> 12630.95 | BO75: =+BO7+BO28+BO37+BO45+BO49+BO59+BO74 -> 140648.2 | BP75: =SUM(BP4:BP74) -> 140648.2
BO76: =+G75+L75+R75+W75+AB75+AH75+AM75+AS75+AX75+BC75+BI75+BN75 -> 140648.2

Sheet 1 - Mensuel
A2: SERVICE | O2: TOTAL ANNUEL
C3: JANVIER | D3: FÉVRIER | E3: MARS | F3: AVRIL | G3: MAI | H3: JUIN | I3: JUILLET | J3: AOÛT | K3: SEPTEMBRE | L3: OCTOBRE | M3: NOVEMBRE | N3: DÉCEMBRE | P3: Contrôle
A4: 1 | C4: =VLOOKUP(A4,'1'!$A$4:$BN$16,7,FALSE) -> 1193.98 | D4: =+VLOOKUP(A4,'1'!$A$4:$BN$16,12,FALSE) -> 1257.41 | E4: =+VLOOKUP(A4,'1'!$A$4:$BN$16,18,FALSE) -> 1489.04 | F4: =+VLOOKUP(A4,'1'!$A$4:$BN$16,23,FALSE) -> 1132.49 | G4: =+VLOOKUP(A4,'1'!$A$4:$BN$16,28,FALSE) -> 1356.62 | H4: =+VLOOKUP(A4,'1'!$A$4:$BN$16,34,FALSE) -> 1615.78 | I4: =+VLOOKUP(A4,'1'!$A$4:$BN$16,39,FALSE) -> 887.7 | J4: =+VLOOKUP(A4,'1'!$A$4:$BN$16,45,FALSE) -> 1737.55 | K4: =+VLOOKUP(A4,'1'!$A$4:$BN$16,50,FALSE) -> 1504.98 | L4: =+VLOOKUP(A4,'1'!$A$4:$BN$16,55,FALSE) -> 1128.53 | M4: =+VLOOKUP(A4,'1'!$A$4:$BN$16,61,FALSE) -> 1460.69 | N4: =+VLOOKUP(A4,'1'!$A$4:$BN$16,66,FALSE) -> 1369.85 | O4: =+C4+D4+E4+F4+G4+H4+I4+J4+K4+L4+M4+N4 -> 16134.62
A5: 2 | C5: =VLOOKUP(A5,'1'!$A$4:$BN$16,7,FALSE) -> 1103.74 | D5: =+VLOOKUP(A5,'1'!$A$4:$BN$16,12,FALSE) -> 1176.7 | E5: =+VLOOKUP(A5,'1'!$A$4:$BN$16,18,FALSE) -> 1324.45 | F5: =+VLOOKUP(A5,'1'!$A$4:$BN$16,23,FALSE) -> 1221.33 | G5: =+VLOOKUP(A5,'1'!$A$4:$BN$16,28,FALSE) -> 1468.29 | H5: =+VLOOKUP(A5,'1'!$A$4:$BN$16,34,FALSE) -> 1870.36 | I5: =+VLOOKUP(A5,'1'!$A$4:$BN$16,39,FALSE) -> 1048.57 | J5: =+VLOOKUP(A5,'1'!$A$4:$BN$16,45,FALSE) -> 1643.65 | K5: =+VLOOKUP(A5,'1'!$A$4:$BN$16,50,FALSE) -> 1657.46 | L5: =+VLOOKUP(A5,'1'!$A$4:$BN$16,55,FALSE) -> 1262.04 | M5: =+VLOOKUP(A5,'1'!$A$4:$BN$16,61,FALSE) -> 1258.42 | N5: =+VLOOKUP(A5,'1'!$A$4:$BN$16,66,FALSE) -> 1320.72 | O5: =+C5+D5+E5+F5+G5+H5+I5+J5+K5+L5+M5+N5 -> 16355.73
A6: 3 | C6: =VLOOKUP(A6,'1'!$A$4:$BN$16,7,FALSE) -> 1469.56 | D6: =+VLOOKUP(A6,'1'!$A$4:$BN$16,12,FALSE) -> 1621.78 | E6: =+VLOOKUP(A6,'1'!$A$4:$BN$16,18,FALSE) -> 1797.75 | F6: =+VLOOKUP(A6,'1'!$A$4:$BN$16,23,FALSE) -> 1481.32 | G6: =+VLOOKUP(A6,'1'!$A$4:$BN$16,28,FALSE) -> 578.39 | H6: =+VLOOKUP(A6,'1'!$A$4:$BN$16,34,FALSE) -> 1670.31 | I6: =+VLOOKUP(A6,'1'!$A$4:$BN$16,39,FALSE) -> 1617.87 | J6: =+VLOOKUP(A6,'1'!$A$4:$BN$16,45,FALSE) -> 2073.6 | K6: =+VLOOKUP(A6,'1'!$A$4:$BN$16,50,FALSE) -> 1831.06 | L6: =+VLOOKUP(A6,'1'!$A$4:$BN$16,55,FALSE) -> 1663.09 | M6: =+VLOOKUP(A6,'1'!$A$4:$BN$16,61,FALSE) -> 2370.93 | N6: =+VLOOKUP(A6,'1'!$A$4:$BN$16,66,FALSE) -> 1875.15 | O6: =+C6+D6+E6+F6+G6+H6+I6+J6+K6+L6+M6+N6 -> 20050.81
A7: 4 | C7: =VLOOKUP(A7,'1'!$A$4:$BN$16,7,FALSE) -> 690.6 | D7: =+VLOOKUP(A7,'1'!$A$4:$BN$16,12,FALSE) -> 940.79 | E7: =+VLOOKUP(A7,'1'!$A$4:$BN$16,18,FALSE) -> 800.83 | F7: =+VLOOKUP(A7,'1'!$A$4:$BN$16,23,FALSE) -> 809.56 | G7: =+VLOOKUP(A7,'1'!$A$4:$BN$16,28,FALSE) -> 1969.15 | H7: =+VLOOKUP(A7,'1'!$A$4:$BN$16,34,FALSE) -> 1138.62 | I7: =+VLOOKUP(A7,'1'!$A$4:$BN$16,39,FALSE) -> 933.53 | J7: =+VLOOKUP(A7,'1'!$A$4:$BN$16,45,FALSE) -> 1037.55 | K7: =+VLOOKUP(A7,'1'!$A$4:$BN$16,50,FALSE) -> 1048.17 | L7: =+VLOOKUP(A7,'1'!$A$4:$BN$16,55,FALSE) -> 573.03 | M7: =+VLOOKUP(A7,'1'!$A$4:$BN$16,61,FALSE) -> 910.43 | N7: =+VLOOKUP(A7,'1'!$A$4:$BN$16,66,FALSE) -> 670.65 | O7: =+C7+D7+E7+F7+G7+H7+I7+J7+K7+L7+M7+N7 -> 11522.91
A8: 5 | C8: =VLOOKUP(A8,'1'!$A$4:$BN$16,7,FALSE) -> 1507.83 | D8: =+VLOOKUP(A8,'1'!$A$4:$BN$16,12,FALSE) -> 1614.36 | E8: =+VLOOKUP(A8,'1'!$A$4:$BN$16,18,FALSE) -> 2029.28 | F8: =+VLOOKUP(A8,'1'!$A$4:$BN$16,23,FALSE) -> 1840.42 | G8: =+VLOOKUP(A8,'1'!$A$4:$BN$16,28,FALSE) -> 1750.59 | H8: =+VLOOKUP(A8,'1'!$A$4:$BN$16,34,FALSE) -> 2439.4 | I8: =+VLOOKUP(A8,'1'!$A$4:$BN$16,39,FALSE) -> 1949.65 | J8: =+VLOOKUP(A8,'1'!$A$4:$BN$16,45,FALSE) -> 2624.87 | K8: =+VLOOKUP(A8,'1'!$A$4:$BN$16,50,FALSE) -> 2218.33 | L8: =+VLOOKUP(A8,'1'!$A$4:$BN$16,55,FALSE) -> 1730.4 | M8: =+VLOOKUP(A8,'1'!$A$4:$BN$16,61,FALSE) -> 2245.06 | N8: =+VLOOKUP(A8,'1'!$A$4:$BN$16,66,FALSE) -> 1567.86 | O8: =+C8+D8+E8+F8+G8+H8+I8+J8+K8+L8+M8+N8 -> 23518.05
A9: 6 | C9: =VLOOKUP(A9,'1'!$A$4:$BN$16,7,FALSE) -> 1713.4 | D9: =+VLOOKUP(A9,'1'!$A$4:$BN$16,12,FALSE) -> 1814.61 | E9: =+VLOOKUP(A9,'1'!$A$4:$BN$16,18,FALSE) -> 2150.36 | F9: =+VLOOKUP(A9,'1'!$A$4:$BN$16,23,FALSE) -> 1739.93 | G9: =+VLOOKUP(A9,'1'!$A$4:$BN$16,28,FALSE) -> 1715.1 | H9: =+VLOOKUP(A9,'1'!$A$4:$BN$16,34,FALSE) -> 2170.23 | I9: =+VLOOKUP(A9,'1'!$A$4:$BN$16,39,FALSE) -> 1818.44 | J9: =+VLOOKUP(A9,'1'!$A$4:$BN$16,45,FALSE) -> 2601.9 | K9: =+VLOOKUP(A9,'1'!$A$4:$BN$16,50,FALSE) -> 2528.78 | L9: =+VLOOKUP(A9,'1'!$A$4:$BN$16,55,FALSE) -> 1833.3 | M9: =+VLOOKUP(A9,'1'!$A$4:$BN$16,61,FALSE) -> 2131.79 | N9: =+VLOOKUP(A9,'1'!$A$4:$BN$16,66,FALSE) -> 2321.87 | O9: =+C9+D9+E9+F9+G9+H9+I9+J9+K9+L9+M9+N9 -> 24539.71
A10: 7 | C10: =VLOOKUP(A10,'1'!$A$4:$BN$16,7,FALSE) -> 2002.31 | D10: =+VLOOKUP(A10,'1'!$A$4:$BN$16,12,FALSE) -> 1626.03 | E10: =+VLOOKUP(A10,'1'!$A$4:$BN$16,18,FALSE) -> 2206 | F10: =+VLOOKUP(A10,'1'!$A$4:$BN$16,23,FALSE) -> 1895.49 | G10: =+VLOOKUP(A10,'1'!$A$4:$BN$16,28,FALSE) -> 1975.32 | H10: =+VLOOKUP(A10,'1'!$A$4:$BN$16,34,FALSE) -> 2205.65 | I10: =+VLOOKUP(A10,'1'!$A$4:$BN$16,39,FALSE) -> 1560.04 | J10: =+VLOOKUP(A10,'1'!$A$4:$BN$16,45,FALSE) -> 3383.04 | K10: =+VLOOKUP(A10,'1'!$A$4:$BN$16,50,FALSE) -> 2258.68 | L10: =+VLOOKUP(A10,'1'!$A$4:$BN$16,55,FALSE) -> 2112.62 | M10: =+VLOOKUP(A10,'1'!$A$4:$BN$16,61,FALSE) -> 2972.81 | N10: =+VLOOKUP(A10,'1'!$A$4:$BN$16,66,FALSE) -> 2177.75 | O10: =+C10+D10+E10+F10+G10+H10+I10+J10+K10+L10+M10+N10 -> 26375.74
A11: 8 | C11: =VLOOKUP(A11,'1'!$A$4:$BN$16,7,FALSE) -> 451.2 | D11: =+VLOOKUP(A11,'1'!$A$4:$BN$16,12,FALSE) -> 506.47 | E11: =+VLOOKUP(A11,'1'!$A$4:$BN$16,18,FALSE) -> 475.65 | F11: =+VLOOKUP(A11,'1'!$A$4:$BN$16,23,FALSE) -> 392.27 | G11: =+VLOOKUP(A11,'1'!$A$4:$BN$16,28,FALSE) -> 462.72 | H11: =+VLOOKUP(A11,'1'!$A$4:$BN$16,34,FALSE) -> 600.28 | I11: =+VLOOKUP(A11,'1'!$A$4:$BN$16,39,FALSE) -> 398.98 | J11: =+VLOOKUP(A11,'1'!$A$4:$BN$16,45,FALSE) -> 610.51 | K11: =+VLOOKUP(A11,'1'!$A$4:$BN$16,50,FALSE) -> 331.76 | L11: =+VLOOKUP(A11,'1'!$A$4:$BN$16,55,FALSE) -> 725.21 | M11: =+VLOOKUP(A11,'1'!$A$4:$BN$16,61,FALSE) -> 612.37 | N11: =+VLOOKUP(A11,'1'!$A$4:$BN$16,66,FALSE) -> 492.47 | O11: =+C11+D11+E11+F11+G11+H11+I11+J11+K11+L11+M11+N11 -> 6059.89
A12: 9 | C12: =VLOOKUP(A12,'1'!$A$4:$BN$16,7,FALSE) -> 85.6 | D12: =+VLOOKUP(A12,'1'!$A$4:$BN$16,12,FALSE) -> 85.11 | E12: =+VLOOKUP(A12,'1'!$A$4:$BN$16,18,FALSE) -> 112.9 | F12: =+VLOOKUP(A12,'1'!$A$4:$BN$16,23,FALSE) -> 88.42 | G12: =+VLOOKUP(A12,'1'!$A$4:$BN$16,28,FALSE) -> 112.47 | H12: =+VLOOKUP(A12,'1'!$A$4:$BN$16,34,FALSE) -> 109.17 | I12: =+VLOOKUP(A12,'1'!$A$4:$BN$16,39,FALSE) -> 113.81 | J12: =+VLOOKUP(A12,'1'!$A$4:$BN$16,45,FALSE) -> 95.55 | K12: =+VLOOKUP(A12,'1'!$A$4:$BN$16,50,FALSE) -> 116.62 | L12: =+VLOOKUP(A12,'1'!$A$4:$BN$16,55,FALSE) -> 97.11 | M12: =+VLOOKUP(A12,'1'!$A$4:$BN$16,61,FALSE) -> 131.13 | N12: =+VLOOKUP(A12,'1'!$A$4:$BN$16,66,FALSE) -> 96.53 | O12: =+C12+D12+E12+F12+G12+H12+I12+J12+K12+L12+M12+N12 -> 1244.42
A13: 10 | C13: =VLOOKUP(A13,'1'!$A$4:$BN$16,7,FALSE) -> 37.35 | D13: =+VLOOKUP(A13,'1'!$A$4:$BN$16,12,FALSE) -> 44.17 | E13: =+VLOOKUP(A13,'1'!$A$4:$BN$16,18,FALSE) -> 62.54 | F13: =+VLOOKUP(A13,'1'!$A$4:$BN$16,23,FALSE) -> 33.3 | G13: =+VLOOKUP(A13,'1'!$A$4:$BN$16,28,FALSE) -> 41.37 | H13: =+VLOOKUP(A13,'1'!$A$4:$BN$16,34,FALSE) -> 69.7 | I13: =+VLOOKUP(A13,'1'!$A$4:$BN$16,39,FALSE) -> 29.63 | J13: =+VLOOKUP(A13,'1'!$A$4:$BN$16,45,FALSE) -> 36.77 | K13: =+VLOOKUP(A13,'1'!$A$4:$BN$16,50,FALSE) -> 56.39 | L13: =+VLOOKUP(A13,'1'!$A$4:$BN$16,55,FALSE) -> 55.17 | M13: =+VLOOKUP(A13,'1'!$A$4:$BN$16,61,FALSE) -> 62.66 | N13: =+VLOOKUP(A13,'1'!$A$4:$BN$16,66,FALSE) -> 51.4 | O13: =+C13+D13+E13+F13+G13+H13+I13+J13+K13+L13+M13+N13 -> 580.45
A14: 11 | C14: =VLOOKUP(A14,'1'!$A$4:$BN$16,7,FALSE) -> 106.32 | D14: =+VLOOKUP(A14,'1'!$A$4:$BN$16,12,FALSE) -> 52.97 | E14: =+VLOOKUP(A14,'1'!$A$4:$BN$16,18,FALSE) -> 75.53 | F14: =+VLOOKUP(A14,'1'!$A$4:$BN$16,23,FALSE) -> 46.29 | G14: =+VLOOKUP(A14,'1'!$A$4:$BN$16,28,FALSE) -> 125.12 | H14: =+VLOOKUP(A14,'1'!$A$4:$BN$16,34,FALSE) -> 70.44 | I14: =+VLOOKUP(A14,'1'!$A$4:$BN$16,39,FALSE) -> 213.68 | J14: =+VLOOKUP(A14,'1'!$A$4:$BN$16,45,FALSE) -> 226.5 | K14: =+VLOOKUP(A14,'1'!$A$4:$BN$16,50,FALSE) -> 232.47 | L14: =+VLOOKUP(A14,'1'!$A$4:$BN$16,55,FALSE) -> 230.56 | M14: =+VLOOKUP(A14,'1'!$A$4:$BN$16,61,FALSE) -> 404.35 | N14: =+VLOOKUP(A14,'1'!$A$4:$BN$16,66,FALSE) -> 240.83 | O14: =+C14+D14+E14+F14+G14+H14+I14+J14+K14+L14+M14+N14 -> 2025.06
A15: 12 | C15: =VLOOKUP(A15,'1'!$A$4:$BN$16,7,FALSE) -> 0 | D15: =+VLOOKUP(A15,'1'!$A$4:$BN$16,12,FALSE) -> 0 | E15: =+VLOOKUP(A15,'1'!$A$4:$BN$16,18,FALSE) -> 0 | F15: =+VLOOKUP(A15,'1'!$A$4:$BN$16,23,FALSE) -> 0 | G15: =+VLOOKUP(A15,'1'!$A$4:$BN$16,28,FALSE) -> 0 | H15: =+VLOOKUP(A15,'1'!$A$4:$BN$16,34,FALSE) -> 0 | I15: =+VLOOKUP(A15,'1'!$A$4:$BN$16,39,FALSE) -> 0 | J15: =+VLOOKUP(A15,'1'!$A$4:$BN$16,45,FALSE) -> 0 | K15: =+VLOOKUP(A15,'1'!$A$4:$BN$16,50,FALSE) -> 0 | L15: =+VLOOKUP(A15,'1'!$A$4:$BN$16,55,FALSE) -> 0 | M15: =+VLOOKUP(A15,'1'!$A$4:$BN$16,61,FALSE) -> 0 | N15: =+VLOOKUP(A15,'1'!$A$4:$BN$16,66,FALSE) -> 0 | O15: =+C15+D15+E15+F15+G15+H15+I15+J15+K15+L15+M15+N15 -> 0
A16: 13 | C16: =VLOOKUP(A16,'1'!$A$4:$BN$16,7,FALSE) -> 0 | D16: =+VLOOKUP(A16,'1'!$A$4:$BN$16,12,FALSE) -> 0 | E16: =+VLOOKUP(A16,'1'!$A$4:$BN$16,18,FALSE) -> 0 | F16: =+VLOOKUP(A16,'1'!$A$4:$BN$16,23,FALSE) -> 0 | G16: =+VLOOKUP(A16,'1'!$A$4:$BN$16,28,FALSE) -> 0 | H16: =+VLOOKUP(A16,'1'!$A$4:$BN$16,34,FALSE) -> 0 | I16: =+VLOOKUP(A16,'1'!$A$4:$BN$16,39,FALSE) -> 0 | J16: =+VLOOKUP(A16,'1'!$A$4:$BN$16,45,FALSE) -> 0 | K16: =+VLOOKUP(A16,'1'!$A$4:$BN$16,50,FALSE) -> 0 | L16: =+VLOOKUP(A16,'1'!$A$4:$BN$16,55,FALSE) -> 0 | M16: =+VLOOKUP(A16,'1'!$A$4:$BN$16,61,FALSE) -> 0 | N16: =+VLOOKUP(A16,'1'!$A$4:$BN$16,66,FALSE) -> 0 | O16: =+C16+D16+E16+F16+G16+H16+I16+J16+K16+L16+M16+N16 -> 0
A17: TOTAL MENSUEL | C17: =SUM(C4:C16) -> 10361.89 | D17: =SUM(D4:D16) -> 10740.4 | E17: =SUM(E4:E16) -> 12524.33 | F17: =SUM(F4:F16) -> 10680.82 | G17: =SUM(G4:G16) -> 11555.14 | H17: =SUM(H4:H16) -> 13959.94 | I17: =SUM(I4:I16) -> 10571.9 | J17: =SUM(J4:J16) -> 16071.49 | ... O17: =SUM(O4:O16) -> 148407.39 | P17: =+C17+D17+E17+F17+G17+H17+I17+J17+K17+L17+M17+N17 -> 148407.39
P18: =+IF(O17=P17,"OK","Erreur") -> OK

Sheet 2 - Mensuel
A2: SERVICE | O2: TOTAL ANNUEL
C3: JANVIER | D3: FÉVRIER | E3: MARS | F3: AVRIL | G3: MAI | H3: JUIN | I3: JUILLET | J3: AOÛT | K3: SEPTEMBRE | L3: OCTOBRE | M3: NOVEMBRE | N3: DÉCEMBRE | P3: Contrôle
A4: A1 | C4: =VLOOKUP(A4,'2'!$A$4:$BN$74,7,FALSE) -> 463.72 | D4: =+VLOOKUP(A4,'2'!$A$4:$BN$74,12,FALSE) -> 559.57 | E4: =+VLOOKUP(A4,'2'!$A$4:$BN$74,18,FALSE) -> 629.67 | F4: =+VLOOKUP(A4,'2'!$A$4:$BN$74,23,FALSE) -> 517.31 | G4: =+VLOOKUP(A4,'2'!$A$4:$BN$74,28,FALSE) -> 528.49 | H4: =+VLOOKUP(A4,'2'!$A$4:$BN$74,34,FALSE) -> 617.24 | I4: =+VLOOKUP(A4,'2'!$A$4:$BN$74,39,FALSE) -> 605.45 | J4: =+VLOOKUP(A4,'2'!$A$4:$BN$74,45,FALSE) -> 664.78 | K4: =+VLOOKUP(A4,'2'!$A$4:$BN$746,50,FALSE) -> 561.15 | L4: =+VLOOKUP(A4,'2'!$A$4:$BN$74,55,FALSE) -> 611.59 | M4: =+VLOOKUP(A4,'2'!$A$4:$BN$74,61,FALSE) -> 539.3 | N4: =+VLOOKUP(A4,'2'!$A$4:$BN$74,66,FALSE) -> 700.98 | O4: =+C4+D4+E4+F4+G4+H4+I4+J4+K4+L4+M4+N4 -> 6999.25 | P4: =+O4 -> 6999.25
A5: A2 | C5: =VLOOKUP(A5,'2'!$A$4:$BN$74,7,FALSE) -> 486.28 | D5: =+VLOOKUP(A5,'2'!$A$4:$BN$74,12,FALSE) -> 379.56 | E5: =+VLOOKUP(A5,'2'!$A$4:$BN$74,18,FALSE) -> 488.32 | F5: =+VLOOKUP(A5,'2'!$A$4:$BN$74,23,FALSE) -> 440.35 | G5: =+VLOOKUP(A5,'2'!$A$4:$BN$74,28,FALSE) -> 460.03 | H5: =+VLOOKUP(A5,'2'!$A$4:$BN$74,34,FALSE) -> 492.54 | I5: =+VLOOKUP(A5,'2'!$A$4:$BN$74,39,FALSE) -> 402.94 | J5: =+VLOOKUP(A5,'2'!$A$4:$BN$74,45,FALSE) -> 464.86 | K5: =+VLOOKUP(A5,'2'!$A$4:$BN$746,50,FALSE) -> 379.92 | L5: =+VLOOKUP(A5,'2'!$A$4:$BN$74,55,FALSE) -> 484.38 | M5: =+VLOOKUP(A5,'2'!$A$4:$BN$74,61,FALSE) -> 505 | N5: =+VLOOKUP(A5,'2'!$A$4:$BN$74,66,FALSE) -> 528.89 | O5: =+C5+D5+E5+F5+G5+H5+I5+J5+K5+L5+M5+N5 -> 5513.07 | P5: =+O5 -> 5513.07
A6: A3 | C6: =VLOOKUP(A6,'2'!$A$4:$BN$74,7,FALSE) -> 402.77 | D6: =+VLOOKUP(A6,'2'!$A$4:$BN$74,12,FALSE) -> 342.87 | E6: =+VLOOKUP(A6,'2'!$A$4:$BN$74,18,FALSE) -> 443.02 | F6: =+VLOOKUP(A6,'2'!$A$4:$BN$74,23,FALSE) -> 253.91 | G6: =+VLOOKUP(A6,'2'!$A$4:$BN$74,28,FALSE) -> 325.76 | H6: =+VLOOKUP(A6,'2'!$A$4:$BN$74,34,FALSE) -> 282.7 | I6: =+VLOOKUP(A6,'2'!$A$4:$BN$74,39,FALSE) -> 86.81 | J6: =+VLOOKUP(A6,'2'!$A$4:$BN$74,45,FALSE) -> 51.24 | K6: =+VLOOKUP(A6,'2'!$A$4:$BN$746,50,FALSE) -> 306.66 | L6: =+VLOOKUP(A6,'2'!$A$4:$BN$74,55,FALSE) -> 240.9 | M6: =+VLOOKUP(A6,'2'!$A$4:$BN$74,61,FALSE) -> 390.55 | N6: =+VLOOKUP(A6,'2'!$A$4:$BN$74,66,FALSE) -> 309.74 | O6: =+C6+D6+E6+F6+G6+H6+I6+J6+K6+L6+M6+N6 -> 3436.93 | P6: =+O6 -> 3436.93
A7: Total A | C7: =SUM(C4:C6) -> 1352.77 | D7: =SUM(D4:D6) -> 1282 | E7: =SUM(E4:E6) -> 1561.01 | F7: =SUM(F4:F6) -> 1211.57 | G7: =SUM(G4:G6) -> 1314.28 | H7: =SUM(H4:H6) -> 1392.48 | I7: =SUM(I4:I6) -> 1095.2 | J7: =SUM(J4:J6) -> 1180.88 | ... O7: =SUM(O4:O6) -> 15949.25
A8: B1 | C8: =VLOOKUP(A8,'2'!$A$4:$BN$74,7,FALSE) -> 534.7 | D8: =+VLOOKUP(A8,'2'!$A$4:$BN$74,12,FALSE) -> 342.67 | E8: =+VLOOKUP(A8,'2'!$A$4:$BN$74,18,FALSE) -> 659.38 | F8: =+VLOOKUP(A8,'2'!$A$4:$BN$74,23,FALSE) -> 441.35 | G8: =+VLOOKUP(A8,'2'!$A$4:$BN$74,28,FALSE) -> 451.5 | H8: =+VLOOKUP(A8,'2'!$A$4:$BN$74,34,FALSE) -> 343.07 | I8: =+VLOOKUP(A8,'2'!$A$4:$BN$74,39,FALSE) -> 491.4 | J8: =+VLOOKUP(A8,'2'!$A$4:$BN$74,45,FALSE) -> 379.8 | K8: =+VLOOKUP(A8,'2'!$A$4:$BN$746,50,FALSE) -> 283.39 | L8: =+VLOOKUP(A8,'2'!$A$4:$BN$74,55,FALSE) -> 503.82 | M8: =+VLOOKUP(A8,'2'!$A$4:$BN$74,61,FALSE) -> 536.75 | N8: =+VLOOKUP(A8,'2'!$A$4:$BN$74,66,FALSE) -> 492.78 | O8: =+C8+D8+E8+F8+G8+H8+I8+J8+K8+L8+M8+N8 -> 5460.61 | P8: =+O8 -> 5460.61
A9: B2 | C9: =VLOOKUP(A9,'2'!$A$4:$BN$74,7,FALSE) -> 498.03 | D9: =+VLOOKUP(A9,'2'!$A$4:$BN$74,12,FALSE) -> 519.46 | E9: =+VLOOKUP(A9,'2'!$A$4:$BN$74,18,FALSE) -> 864.22 | F9: =+VLOOKUP(A9,'2'!$A$4:$BN$74,23,FALSE) -> 493.71 | G9: =+VLOOKUP(A9,'2'!$A$4:$BN$74,28,FALSE) -> 488.84 | H9: =+VLOOKUP(A9,'2'!$A$4:$BN$74,34,FALSE) -> 603.33 | I9: =+VLOOKUP(A9,'2'!$A$4:$BN$74,39,FALSE) -> 566.79 | J9: =+VLOOKUP(A9,'2'!$A$4:$BN$74,45,FALSE) -> 659.23 | K9: =+VLOOKUP(A9,'2'!$A$4:$BN$746,50,FALSE) -> 574.8 | L9: =+VLOOKUP(A9,'2'!$A$4:$BN$74,55,FALSE) -> 500.32 | M9: =+VLOOKUP(A9,'2'!$A$4:$BN$74,61,FALSE) -> 799.68 | N9: =+VLOOKUP(A9,'2'!$A$4:$BN$74,66,FALSE) -> 517.04 | O9: =+C9+D9+E9+F9+G9+H9+I9+J9+K9+L9+M9+N9 -> 7085.45 | P9: =+O9 -> 7085.45
A10: B3 | C10: =VLOOKUP(A10,'2'!$A$4:$BN$74,7,FALSE) -> 0 | D10: =+VLOOKUP(A10,'2'!$A$4:$BN$74,12,FALSE) -> 0 | E10: =+VLOOKUP(A10,'2'!$A$4:$BN$74,18,FALSE) -> 25.76 | F10: =+VLOOKUP(A10,'2'!$A$4:$BN$74,23,FALSE) -> 16.31 | G10: =+VLOOKUP(A10,'2'!$A$4:$BN$74,28,FALSE) -> 10.55 | H10: =+VLOOKUP(A10,'2'!$A$4:$BN$74,34,FALSE) -> 27.74 | I10: =+VLOOKUP(A10,'2'!$A$4:$BN$74,39,FALSE) -> 12.96 | J10: =+VLOOKUP(A10,'2'!$A$4:$BN$74,45,FALSE) -> 14.4 | K10: =+VLOOKUP(A10,'2'!$A$4:$BN$746,50,FALSE) -> 18.02 | L10: =+VLOOKUP(A10,'2'!$A$4:$BN$74,55,FALSE) -> 17.27 | M10: =+VLOOKUP(A10,'2'!$A$4:$BN$74,61,FALSE) -> 9.1 | N10: =+VLOOKUP(A10,'2'!$A$4:$BN$74,66,FALSE) -> 26.79 | O10: =+C10+D10+E10+F10+G10+H10+I10+J10+K10+L10+M10+N10 -> 178.9 | P10: =+O10 -> 178.9
A11: B4 | C11: =VLOOKUP(A11,'2'!$A$4:$BN$74,7,FALSE) -> 0 | D11: =+VLOOKUP(A11,'2'!$A$4:$BN$74,12,FALSE) -> 0 | E11: =+VLOOKUP(A11,'2'!$A$4:$BN$74,18,FALSE) -> 0 | F11: =+VLOOKUP(A11,'2'!$A$4:$BN$74,23,FALSE) -> 0 | G11: =+VLOOKUP(A11,'2'!$A$4:$BN$74,28,FALSE) -> 0 | H11: =+VLOOKUP(A11,'2'!$A$4:$BN$74,34,FALSE) -> 0 | I11: =+VLOOKUP(A11,'2'!$A$4:$BN$74,39,FALSE) -> 0 | J11: =+VLOOKUP(A11,'2'!$A$4:$BN$74,45,FALSE) -> 0 | K11: =+VLOOKUP(A11,'2'!$A$4:$BN$746,50,FALSE) -> 5.4 | L11: =+VLOOKUP(A11,'2'!$A$4:$BN$74,55,FALSE) -> 0 | M11: =+VLOOKUP(A11,'2'!$A$4:$BN$74,61,FALSE) -> 1.94 | N11: =+VLOOKUP(A11,'2'!$A$4:$BN$74,66,FALSE) -> 0 | O11: =+C11+D11+E11+F11+G11+H11+I11+J11+K11+L11+M11+N11 -> 7.34 | P11: =+O11 -> 7.34
A12: B5 | C12: =VLOOKUP(A12,'2'!$A$4:$BN$74,7,FALSE) -> 81.79 | D12: =+VLOOKUP(A12,'2'!$A$4:$BN$74,12,FALSE) -> 179.85 | E12: =+VLOOKUP(A12,'2'!$A$4:$BN$74,18,FALSE) -> 225.02 | F12: =+VLOOKUP(A12,'2'!$A$4:$BN$74,23,FALSE) -> 132.47 | G12: =+VLOOKUP(A12,'2'!$A$4:$BN$74,28,FALSE) -> 110.32 | H12: =+VLOOKUP(A12,'2'!$A$4:$BN$74,34,FALSE) -> 160.81 | I12: =+VLOOKUP(A12,'2'!$A$4:$BN$74,39,FALSE) -> 174.25 | J12: =+VLOOKUP(A12,'2'!$A$4:$BN$74,45,FALSE) -> 212.21 | K12: =+VLOOKUP(A12,'2'!$A$4:$BN$746,50,FALSE) -> 151.99 | L12: =+VLOOKUP(A12,'2'!$A$4:$BN$74,55,FALSE) -> 166.04 | M12: =+VLOOKUP(A12,'2'!$A$4:$BN$74,61,FALSE) -> 217.81 | N12: =+VLOOKUP(A12,'2'!$A$4:$BN$74,66,FALSE) -> 329.07 | O12: =+C12+D12+E12+F12+G12+H12+I12+J12+K12+L12+M12+N12 -> 2141.63 | P12: =+O12 -> 2141.63
A13: B6 | C13: =VLOOKUP(A13,'2'!$A$4:$BN$74,7,FALSE) -> 504.92 | D13: =+VLOOKUP(A13,'2'!$A$4:$BN$74,12,FALSE) -> 504.59 | E13: =+VLOOKUP(A13,'2'!$A$4:$BN$74,18,FALSE) -> 645.9 | F13: =+VLOOKUP(A13,'2'!$A$4:$BN$74,23,FALSE) -> 553.71 | G13: =+VLOOKUP(A13,'2'!$A$4:$BN$74,28,FALSE) -> 484.94 | H13: =+VLOOKUP(A13,'2'!$A$4:$BN$74,34,FALSE) -> 569.11 | I13: =+VLOOKUP(A13,'2'!$A$4:$BN$74,39,FALSE) -> 562.29 | J13: =+VLOOKUP(A13,'2'!$A$4:$BN$74,45,FALSE) -> 650.05 | K13: =+VLOOKUP(A13,'2'!$A$4:$BN$746,50,FALSE) -> 388.7 | L13: =+VLOOKUP(A13,'2'!$A$4:$BN$74,55,FALSE) -> 538.22 | M13: =+VLOOKUP(A13,'2'!$A$4:$BN$74,61,FALSE) -> 623.81 | N13: =+VLOOKUP(A13,'2'!$A$4:$BN$74,66,FALSE) -> 590.29 | O13: =+C13+D13+E13+F13+G13+H13+I13+J13+K13+L13+M13+N13 -> 6616.53 | P13: =+O13 -> 6616.53
A14: B7 | C14: =VLOOKUP(A14,'2'!$A$4:$BN$74,7,FALSE) -> 0 | D14: =+VLOOKUP(A14,'2'!$A$4:$BN$74,12,FALSE) -> 0 | E14: =+VLOOKUP(A14,'2'!$A$4:$BN$74,18,FALSE) -> 0 | F14: =+VLOOKUP(A14,'2'!$A$4:$BN$74,23,FALSE) -> 0 | G14: =+VLOOKUP(A14,'2'!$A$4:$BN$74,28,FALSE) -> 0 | H14: =+VLOOKUP(A14,'2'!$A$4:$BN$74,34,FALSE) -> 0 | I14: =+VLOOKUP(A14,'2'!$A$4:$BN$74,39,FALSE) -> 0 | J14: =+VLOOKUP(A14,'2'!$A$4:$BN$74,45,FALSE) -> 0 | K14: =+VLOOKUP(A14,'2'!$A$4:$BN$746,50,FALSE) -> 0 | L14: =+VLOOKUP(A14,'2'!$A$4:$BN$74,55,FALSE) -> 0 | M14: =+VLOOKUP(A14,'2'!$A$4:$BN$74,61,FALSE) -> 0 | N14: =+VLOOKUP(A14,'2'!$A$4:$BN$74,66,FALSE) -> 0 | O14: =+C14+D14+E14+F14+G14+H14+I14+J14+K14+L14+M14+N14 -> 0 | P14: =+O14 -> 0
A15: B8 | C15: =VLOOKUP(A15,'2'!$A$4:$BN$74,7,FALSE) -> 563.01 | D15: =+VLOOKUP(A15,'2'!$A$4:$BN$74,12,FALSE) -> 559.1 | E15: =+VLOOKUP(A15,'2'!$A$4:$BN$74,18,FALSE) -> 682.91 | F15: =+VLOOKUP(A15,'2'!$A$4:$BN$74,23,FALSE) -> 633.46 | G15: =+VLOOKUP(A15,'2'!$A$4:$BN$74,28,FALSE) -> 671.33 | H15: =+VLOOKUP(A15,'2'!$A$4:$BN$74,34,FALSE) -> 761.89 | I15: =+VLOOKUP(A15,'2'!$A$4:$BN$74,39,FALSE) -> 641.28 | J15: =+VLOOKUP(A15,'2'!$A$4:$BN$74,45,FALSE) -> 827.79 | K15: =+VLOOKUP(A15,'2'!$A$4:$BN$746,50,FALSE) -> 624.09 | L15: =+VLOOKUP(A15,'2'!$A$4:$BN$74,55,FALSE) -> 659.35 | M15: =+VLOOKUP(A15,'2'!$A$4:$BN$74,61,FALSE) -> 791.87 | N15: =+VLOOKUP(A15,'2'!$A$4:$BN$74,66,FALSE) -> 740.39 | O15: =+C15+D15+E15+F15+G15+H15+I15+J15+K15+L15+M15+N15 -> 8156.47 | P15: =+O15 -> 8156.47
A16: B9 | C16: =VLOOKUP(A16,'2'!$A$4:$BN$74,7,FALSE) -> 0 | D16: =+VLOOKUP(A16,'2'!$A$4:$BN$74,12,FALSE) -> 0 | E16: =+VLOOKUP(A16,'2'!$A$4:$BN$74,18,FALSE) -> 0 | F16: =+VLOOKUP(A16,'2'!$A$4:$BN$74,23,FALSE) -> 0 | G16: =+VLOOKUP(A16,'2'!$A$4:$BN$74,28,FALSE) -> 0 | H16: =+VLOOKUP(A16,'2'!$A$4:$BN$74,34,FALSE) -> 0 | I16: =+VLOOKUP(A16,'2'!$A$4:$BN$74,39,FALSE) -> 0 | J16: =+VLOOKUP(A16,'2'!$A$4:$BN$74,45,FALSE) -> 0 | K16: =+VLOOKUP(A16,'2'!$A$4:$BN$746,50,FALSE) -> 0 | L16: =+VLOOKUP(A16,'2'!$A$4:$BN$74,55,FALSE) -> 0 | M16: =+VLOOKUP(A16,'2'!$A$4:$BN$74,61,FALSE) -> 0 | N16: =+VLOOKUP(A16,'2'!$A$4:$BN$74,66,FALSE) -> 0 | O16: =+C16+D16+E16+F16+G16+H16+I16+J16+K16+L16+M16+N16 -> 0 | P16: =+O16 -> 0
A17: B10 | C17: =VLOOKUP(A17,'2'!$A$4:$BN$74,7,FALSE) -> 1083.45 | D17: =+VLOOKUP(A17,'2'!$A$4:$BN$74,12,FALSE) -> 912.23 | E17: =+VLOOKUP(A17,'2'!$A$4:$BN$74,18,FALSE) -> 1475.23 | F17: =+VLOOKUP(A17,'2'!$A$4:$BN$74,23,FALSE) -> 1075.13 | G17: =+VLOOKUP(A17,'2'!$A$4:$BN$74,28,FALSE) -> 1014.38 | H17: =+VLOOKUP(A17,'2'!$A$4:$BN$74,34,FALSE) -> 1279.63 | I17: =+VLOOKUP(A17,'2'!$A$4:$BN$74,39,FALSE) -> 1014.41 | J17: =+VLOOKUP(A17,'2'!$A$4:$BN$74,45,FALSE) -> 1252.09 | K17: =+VLOOKUP(A17,'2'!$A$4:$BN$746,50,FALSE) -> 955.83 | L17: =+VLOOKUP(A17,'2'!$A$4:$BN$74,55,FALSE) -> 1111.6 | M17: =+VLOOKUP(A17,'2'!$A$4:$BN$74,61,FALSE) -> 1341.27 | N17: =+VLOOKUP(A17,'2'!$A$4:$BN$74,66,FALSE) -> 1075.58 | O17: =+C17+D17+E17+F17+G17+H17+I17+J17+K17+L17+M17+N17 -> 13590.83 | P17: =+O17 -> 13590.83
A18: B11 | C18: =VLOOKUP(A18,'2'!$A$4:$BN$74,7,FALSE) -> 0 | D18: =+VLOOKUP(A18,'2'!$A$4:$BN$74,12,FALSE) -> 0 | E18: =+VLOOKUP(A18,'2'!$A$4:$BN$74,18,FALSE) -> 0 | F18: =+VLOOKUP(A18,'2'!$A$4:$BN$74,23,FALSE) -> 0 | G18: =+VLOOKUP(A18,'2'!$A$4:$BN$74,28,FALSE) -> 0 | H18: =+VLOOKUP(A18,'2'!$A$4:$BN$74,34,FALSE) -> 0 | I18: =+VLOOKUP(A18,'2'!$A$4:$BN$74,39,FALSE) -> 0 | J18: =+VLOOKUP(A18,'2'!$A$4:$BN$74,45,FALSE) -> 0 | K18: =+VLOOKUP(A18,'2'!$A$4:$BN$746,50,FALSE) -> 0 | L18: =+VLOOKUP(A18,'2'!$A$4:$BN$74,55,FALSE) -> 0 | M18: =+VLOOKUP(A18,'2'!$A$4:$BN$74,61,FALSE) -> 0 | N18: =+VLOOKUP(A18,'2'!$A$4:$BN$74,66,FALSE) -> 0 | O18: =+C18+D18+E18+F18+G18+H18+I18+J18+K18+L18+M18+N18 -> 0 | P18: =+O18 -> 0
A19: B12 | C19: =VLOOKUP(A19,'2'!$A$4:$BN$74,7,FALSE) -> 82.32 | D19: =+VLOOKUP(A19,'2'!$A$4:$BN$74,12,FALSE) -> 70.56 | E19: =+VLOOKUP(A19,'2'!$A$4:$BN$74,18,FALSE) -> 76.44 | F19: =+VLOOKUP(A19,'2'!$A$4:$BN$74,23,FALSE) -> 82.32 | G19: =+VLOOKUP(A19,'2'!$A$4:$BN$74,28,FALSE) -> 76.44 | H19: =+VLOOKUP(A19,'2'!$A$4:$BN$74,34,FALSE) -> 71.88 | I19: =+VLOOKUP(A19,'2'!$A$4:$BN$74,39,FALSE) -> 84.7 | J19: =+VLOOKUP(A19,'2'!$A$4:$BN$74,45,FALSE) -> 78.65 | K19: =+VLOOKUP(A19,'2'!$A$4:$BN$746,50,FALSE) -> 72.96 | L19: =+VLOOKUP(A19,'2'!$A$4:$BN$74,55,FALSE) -> 85.26 | M19: =+VLOOKUP(A19,'2'!$A$4:$BN$74,61,FALSE) -> 89.57 | N19: =+VLOOKUP(A19,'2'!$A$4:$BN$74,66,FALSE) -> 97.02 | O19: =+C19+D19+E19+F19+G19+H19+I19+J19+K19+L19+M19+N19 -> 968.12 | P19: =+O19 -> 968.12
... A27: B20 | C27: =VLOOKUP(A27,'2'!$A$4:$BN$74,7,FALSE) -> 0 | D27: =+VLOOKUP(A27,'2'!$A$4:$BN$74,12,FALSE) -> 0 | E27: =+VLOOKUP(A27,'2'!$A$4:$BN$74,18,FALSE) -> 0 | F27: =+VLOOKUP(A27,'2'!$A$4:$BN$74,23,FALSE) -> 0 | G27: =+VLOOKUP(A27,'2'!$A$4:$BN$74,28,FALSE) -> 0 | H27: =+VLOOKUP(A27,'2'!$A$4:$BN$74,34,FALSE) -> 0 | I27: =+VLOOKUP(A27,'2'!$A$4:$BN$74,39,FALSE) -> 0 | J27: =+VLOOKUP(A27,'2'!$A$4:$BN$74,45,FALSE) -> 0 | K27: =+VLOOKUP(A27,'2'!$A$4:$BN$746,50,FALSE) -> 0 | L27: =+VLOOKUP(A27,'2'!$A$4:$BN$74,55,FALSE) -> 0 | M27: =+VLOOKUP(A27,'2'!$A$4:$BN$74,61,FALSE) -> 0 | N27: =+VLOOKUP(A27,'2'!$A$4:$BN$74,66,FALSE) -> 0 | O27: =+C27+D27+E27+F27+G27+H27+I27+J27+K27+L27+M27+N27 -> 0 | P27: =+O27 -> 0
A28: TOTAL B | C28: =SUM(C8:C27) -> 3640.2 | D28: =SUM(D8:D27) -> 3360.44 | E28: =SUM(E8:E27) -> 5100.48 | F28: =SUM(F8:F27) -> 3878.28 | G28: =SUM(G8:G27) -> 3733.87 | H28: =SUM(H8:H27) -> 4432.46 | I28: =SUM(I8:I27) -> 4017.01 | J28: =SUM(J8:J27) -> 4580.89 | ... O28: =SUM(O8:O27) -> 49696.87
A29: C1 | C29: =VLOOKUP(A29,'2'!$A$4:$BN$74,7,FALSE) -> 201.5 | D29: =+VLOOKUP(A29,'2'!$A$4:$BN$74,12,FALSE) -> 170.02 | E29: =+VLOOKUP(A29,'2'!$A$4:$BN$74,18,FALSE) -> 222.15 | F29: =+VLOOKUP(A29,'2'!$A$4:$BN$74,23,FALSE) -> 195.81 | G29: =+VLOOKUP(A29,'2'!$A$4:$BN$74,28,FALSE) -> 199.66 | H29: =+VLOOKUP(A29,'2'!$A$4:$BN$74,34,FALSE) -> 286.54 | I29: =+VLOOKUP(A29,'2'!$A$4:$BN$74,39,FALSE) -> 217.34 | J29: =+VLOOKUP(A29,'2'!$A$4:$BN$74,45,FALSE) -> 235.3 | K29: =+VLOOKUP(A29,'2'!$A$4:$BN$746,50,FALSE) -> 204.91 | L29: =+VLOOKUP(A29,'2'!$A$4:$BN$74,55,FALSE) -> 196.29 | M29: =+VLOOKUP(A29,'2'!$A$4:$BN$74,61,FALSE) -> 243.56 | N29: =+VLOOKUP(A29,'2'!$A$4:$BN$74,66,FALSE) -> 131.74 | O29: =+C29+D29+E29+F29+G29+H29+I29+J29+K29+L29+M29+N29 -> 2504.82 | P29: =+O29 -> 2504.82
A30: C2 | C30: =VLOOKUP(A30,'2'!$A$4:$BN$74,7,FALSE) -> 0 | D30: =+VLOOKUP(A30,'2'!$A$4:$BN$74,12,FALSE) -> 0 | E30: =+VLOOKUP(A30,'2'!$A$4:$BN$74,18,FALSE) -> 0 | F30: =+VLOOKUP(A30,'2'!$A$4:$BN$74,23,FALSE) -> 0 | G30: =+VLOOKUP(A30,'2'!$A$4:$BN$74,28,FALSE) -> 0 | H30: =+VLOOKUP(A30,'2'!$A$4:$BN$74,34,FALSE) -> 0 | I30: =+VLOOKUP(A30,'2'!$A$4:$BN$74,39,FALSE) -> 0 | J30: =+VLOOKUP(A30,'2'!$A$4:$BN$74,45,FALSE) -> 0 | K30: =+VLOOKUP(A30,'2'!$A$4:$BN$746,50,FALSE) -> 0 | L30: =+VLOOKUP(A30,'2'!$A$4:$BN$74,55,FALSE) -> 0 | M30: =+VLOOKUP(A30,'2'!$A$4:$BN$74,61,FALSE) -> 0 | N30: =+VLOOKUP(A30,'2'!$A$4:$BN$74,66,FALSE) -> 0 | O30: =+C30+D30+E30+F30+G30+H30+I30+J30+K30+L30+M30+N30 -> 0 | P30: =+O30 -> 0
A31: C3 | C31: =VLOOKUP(A31,'2'!$A$4:$BN$74,7,FALSE) -> 228.97 | D31: =+VLOOKUP(A31,'2'!$A$4:$BN$74,12,FALSE) -> 335.38 | E31: =+VLOOKUP(A31,'2'!$A$4:$BN$74,18,FALSE) -> 489.72 | F31: =+VLOOKUP(A31,'2'!$A$4:$BN$74,23,FALSE) -> 357.98 | G31: =+VLOOKUP(A31,'2'!$A$4:$BN$74,28,FALSE) -> 333.57 | H31: =+VLOOKUP(A31,'2'!$A$4:$BN$74,34,FALSE) -> 304.78 | I31: =+VLOOKUP(A31,'2'!$A$4:$BN$74,39,FALSE) -> 455.55 | J31: =+VLOOKUP(A31,'2'!$A$4:$BN$74,45,FALSE) -> 339.44 | K31: =+VLOOKUP(A31,'2'!$A$4:$BN$746,50,FALSE) -> 288.35 | L31: =+VLOOKUP(A31,'2'!$A$4:$BN$74,55,FALSE) -> 317.83 | M31: =+VLOOKUP(A31,'2'!$A$4:$BN$74,61,FALSE) -> 396.24 | N31: =+VLOOKUP(A31,'2'!$A$4:$BN$74,66,FALSE) -> 385.08 | O31: =+C31+D31+E31+F31+G31+H31+I31+J31+K31+L31+M31+N31 -> 4232.89 | P31: =+O31 -> 4232.89
A32: C4 | C32: =VLOOKUP(A32,'2'!$A$4:$BN$74,7,FALSE) -> 317.93 | D32: =+VLOOKUP(A32,'2'!$A$4:$BN$74,12,FALSE) -> 305.41 | E32: =+VLOOKUP(A32,'2'!$A$4:$BN$74,18,FALSE) -> 509.03 | F32: =+VLOOKUP(A32,'2'!$A$4:$BN$74,23,FALSE) -> 345.21 | G32: =+VLOOKUP(A32,'2'!$A$4:$BN$74,28,FALSE) -> 359.03 | H32: =+VLOOKUP(A32,'2'!$A$4:$BN$74,34,FALSE) -> 498.16 | I32: =+VLOOKUP(A32,'2'!$A$4:$BN$74,39,FALSE) -> 336.53 | J32: =+VLOOKUP(A32,'2'!$A$4:$BN$74,45,FALSE) -> 425.44 | K32: =+VLOOKUP(A32,'2'!$A$4:$BN$746,50,FALSE) -> 436.45 | L32: =+VLOOKUP(A32,'2'!$A$4:$BN$74,55,FALSE) -> 354.97 | M32: =+VLOOKUP(A32,'2'!$A$4:$BN$74,61,FALSE) -> 456.29 | N32: =+VLOOKUP(A32,'2'!$A$4:$BN$74,66,FALSE) -> 404.26 | O32: =+C32+D32+E32+F32+G32+H32+I32+J32+K32+L32+M32+N32 -> 4748.71 | P32: =+O32 -> 4748.71
A33: C5 | C33: =VLOOKUP(A33,'2'!$A$4:$BN$74,7,FALSE) -> 550.41 | D33: =+VLOOKUP(A33,'2'!$A$4:$BN$74,12,FALSE) -> 559.34 | E33: =+VLOOKUP(A33,'2'!$A$4:$BN$74,18,FALSE) -> 604.7 | F33: =+VLOOKUP(A33,'2'!$A$4:$BN$74,23,FALSE) -> 576.2 | G33: =+VLOOKUP(A33,'2'!$A$4:$BN$74,28,FALSE) -> 519.74 | H33: =+VLOOKUP(A33,'2'!$A$4:$BN$74,34,FALSE) -> 713.23 | I33: =+VLOOKUP(A33,'2'!$A$4:$BN$74,39,FALSE) -> 570.78 | J33: =+VLOOKUP(A33,'2'!$A$4:$BN$74,45,FALSE) -> 720.22 | K33: =+VLOOKUP(A33,'2'!$A$4:$BN$746,50,FALSE) -> 503.71 | L33: =+VLOOKUP(A33,'2'!$A$4:$BN$74,55,FALSE) -> 634.56 | M33: =+VLOOKUP(A33,'2'!$A$4:$BN$74,61,FALSE) -> 779.44 | N33: =+VLOOKUP(A33,'2'!$A$4:$BN$74,66,FALSE) -> 594.19 | O33: =+C33+D33+E33+F33+G33+H33+I33+J33+K33+L33+M33+N33 -> 7326.52 | P33: =+O33 -> 7326.52
A34: C6 | C34: =VLOOKUP(A34,'2'!$A$4:$BN$74,7,FALSE) -> 14.9 | D34: =+VLOOKUP(A34,'2'!$A$4:$BN$74,12,FALSE) -> 13.15 | E34: =+VLOOKUP(A34,'2'!$A$4:$BN$74,18,FALSE) -> 52.57 | F34: =+VLOOKUP(A34,'2'!$A$4:$BN$74,23,FALSE) -> 14.07 | G34: =+VLOOKUP(A34,'2'!$A$4:$BN$74,28,FALSE) -> 16.03 | H34: =+VLOOKUP(A34,'2'!$A$4:$BN$74,34,FALSE) -> 59.84 | I34: =+VLOOKUP(A34,'2'!$A$4:$BN$74,39,FALSE) -> 22.36 | J34: =+VLOOKUP(A34,'2'!$A$4:$BN$74,45,FALSE) -> 25.75 | K34: =+VLOOKUP(A34,'2'!$A$4:$BN$746,50,FALSE) -> 56.01 | L34: =+VLOOKUP(A34,'2'!$A$4:$BN$74,55,FALSE) -> 12.82 | M34: =+VLOOKUP(A34,'2'!$A$4:$BN$74,61,FALSE) -> 15.92 | N34: =+VLOOKUP(A34,'2'!$A$4:$BN$74,66,FALSE) -> 13.14 | O34: =+C34+D34+E34+F34+G34+H34+I34+J34+K34+L34+M34+N34 -> 316.56 | P34: =+O34 -> 316.56
A35: C7 | C35: =VLOOKUP(A35,'2'!$A$4:$BN$74,7,FALSE) -> 15.23 | D35: =+VLOOKUP(A35,'2'!$A$4:$BN$74,12,FALSE) -> 15.43 | E35: =+VLOOKUP(A35,'2'!$A$4:$BN$74,18,FALSE) -> 12.89 | F35: =+VLOOKUP(A35,'2'!$A$4:$BN$74,23,FALSE) -> 15.18 | G35: =+VLOOKUP(A35,'2'!$A$4:$BN$74,28,FALSE) -> 9.82 | H35: =+VLOOKUP(A35,'2'!$A$4:$BN$74,34,FALSE) -> 11.99 | I35: =+VLOOKUP(A35,'2'!$A$4:$BN$74,39,FALSE) -> 13.53 | J35: =+VLOOKUP(A35,'2'!$A$4:$BN$74,45,FALSE) -> 13.75 | K35: =+VLOOKUP(A35,'2'!$A$4:$BN$746,50,FALSE) -> 9.86 | L35: =+VLOOKUP(A35,'2'!$A$4:$BN$74,55,FALSE) -> 19.72 | M35: =+VLOOKUP(A35,'2'!$A$4:$BN$74,61,FALSE) -> 9.51 | N35: =+VLOOKUP(A35,'2'!$A$4:$BN$74,66,FALSE) -> 26.42 | O35: =+C35+D35+E35+F35+G35+H35+I35+J35+K35+L35+M35+N35 -> 173.33 | P35: =+O35 -> 173.33
A36: C8 | C36: =VLOOKUP(A36,'2'!$A$4:$BN$74,7,FALSE) -> 32.94 | D36: =+VLOOKUP(A36,'2'!$A$4:$BN$74,12,FALSE) -> 27.15 | E36: =+VLOOKUP(A36,'2'!$A$4:$BN$74,18,FALSE) -> 105.56 | F36: =+VLOOKUP(A36,'2'!$A$4:$BN$74,23,FALSE) -> 29.42 | G36: =+VLOOKUP(A36,'2'!$A$4:$BN$74,28,FALSE) -> 20.2 | H36: =+VLOOKUP(A36,'2'!$A$4:$BN$74,34,FALSE) -> 43.6 | I36: =+VLOOKUP(A36,'2'!$A$4:$BN$74,39,FALSE) -> 38.01 | J36: =+VLOOKUP(A36,'2'!$A$4:$BN$74,45,FALSE) -> 23.73 | K36: =+VLOOKUP(A36,'2'!$A$4:$BN$746,50,FALSE) -> 21.9 | L36: =+VLOOKUP(A36,'2'!$A$4:$BN$74,55,FALSE) -> 9.74 | M36: =+VLOOKUP(A36,'2'!$A$4:$BN$74,61,FALSE) -> 31.49 | N36: =+VLOOKUP(A36,'2'!$A$4:$BN$74,66,FALSE) -> 27.99 | O36: =+C36+D36+E36+F36+G36+H36+I36+J36+K36+L36+M36+N36 -> 411.73 | P36: =+O36 -> 411.73
A37: TOTAL C | C37: =SUM(C29:C36) -> 1361.88 | D37: =SUM(D29:D36) -> 1425.88 | E37: =SUM(E29:E36) -> 1996.62 | F37: =SUM(F29:F36) -> 1533.87 | G37: =SUM(G29:G36) -> 1458.05 | H37: =SUM(H29:H36) -> 1918.14 | I37: =SUM(I29:I36) -> 1654.1 | J37: =SUM(J29:J36) -> 1783.63 | ... O37: =SUM(O29:O36) -> 19714.56
A38: D1 | C38: =VLOOKUP(A38,'2'!$A$4:$BN$74,7,FALSE) -> 345.44 | D38: =+VLOOKUP(A38,'2'!$A$4:$BN$74,12,FALSE) -> 483.48 | E38: =+VLOOKUP(A38,'2'!$A$4:$BN$74,18,FALSE) -> 753.88 | F38: =+VLOOKUP(A38,'2'!$A$4:$BN$74,23,FALSE) -> 443.57 | G38: =+VLOOKUP(A38,'2'!$A$4:$BN$74,28,FALSE) -> 462.02 | H38: =+VLOOKUP(A38,'2'!$A$4:$BN$74,34,FALSE) -> 542.53 | I38: =+VLOOKUP(A38,'2'!$A$4:$BN$74,39,FALSE) -> 445.6 | J38: =+VLOOKUP(A38,'2'!$A$4:$BN$74,45,FALSE) -> 786.67 | K38: =+VLOOKUP(A38,'2'!$A$4:$BN$746,50,FALSE) -> 595.39 | L38: =+VLOOKUP(A38,'2'!$A$4:$BN$74,55,FALSE) -> 475.05 | M38: =+VLOOKUP(A38,'2'!$A$4:$BN$74,61,FALSE) -> 728.4 | N38: =+VLOOKUP(A38,'2'!$A$4:$BN$74,66,FALSE) -> 650.16 | O38: =+C38+D38+E38+F38+G38+H38+I38+J38+K38+L38+M38+N38 -> 6712.19 | P38: =+O38 -> 6712.19
A39: D2 | C39: =VLOOKUP(A39,'2'!$A$4:$BN$74,7,FALSE) -> 394.08 | D39: =+VLOOKUP(A39,'2'!$A$4:$BN$74,12,FALSE) -> 359.89 | E39: =+VLOOKUP(A39,'2'!$A$4:$BN$74,18,FALSE) -> 550.2 | F39: =+VLOOKUP(A39,'2'!$A$4:$BN$74,23,FALSE) -> 364.9 | G39: =+VLOOKUP(A39,'2'!$A$4:$BN$74,28,FALSE) -> 336.81 | H39: =+VLOOKUP(A39,'2'!$A$4:$BN$74,34,FALSE) -> 498.77 | I39: =+VLOOKUP(A39,'2'!$A$4:$BN$74,39,FALSE) -> 290.32 | J39: =+VLOOKUP(A39,'2'!$A$4:$BN$74,45,FALSE) -> 131.55 | K39: =+VLOOKUP(A39,'2'!$A$4:$BN$746,50,FALSE) -> 414.3 | L39: =+VLOOKUP(A39,'2'!$A$4:$BN$74,55,FALSE) -> 387.48 | M39: =+VLOOKUP(A39,'2'!$A$4:$BN$74,61,FALSE) -> 559.8 | N39: =+VLOOKUP(A39,'2'!$A$4:$BN$74,66,FALSE) -> 535.94 | O39: =+C39+D39+E39+F39+G39+H39+I39+J39+K39+L39+M39+N39 -> 4824.04 | P39: =+O39 -> 4824.04
A40: D3 | C40: =VLOOKUP(A40,'2'!$A$4:$BN$74,7,FALSE) -> 557.72 | D40: =+VLOOKUP(A40,'2'!$A$4:$BN$74,12,FALSE) -> 495.47 | E40: =+VLOOKUP(A40,'2'!$A$4:$BN$74,18,FALSE) -> 634.07 | F40: =+VLOOKUP(A40,'2'!$A$4:$BN$74,23,FALSE) -> 659.67 | G40: =+VLOOKUP(A40,'2'!$A$4:$BN$74,28,FALSE) -> 593.64 | H40: =+VLOOKUP(A40,'2'!$A$4:$BN$74,34,FALSE) -> 859.26 | I40: =+VLOOKUP(A40,'2'!$A$4:$BN$74,39,FALSE) -> 444.18 | J40: =+VLOOKUP(A40,'2'!$A$4:$BN$74,45,FALSE) -> 722.3 | K40: =+VLOOKUP(A40,'2'!$A$4:$BN$746,50,FALSE) -> 518.06 | L40: =+VLOOKUP(A40,'2'!$A$4:$BN$74,55,FALSE) -> 620.67 | M40: =+VLOOKUP(A40,'2'!$A$4:$BN$74,61,FALSE) -> 689.95 | N40: =+VLOOKUP(A40,'2'!$A$4:$BN$74,66,FALSE) -> 618.7 | O40: =+C40+D40+E40+F40+G40+H40+I40+J40+K40+L40+M40+N40 -> 7413.69 | P40: =+O40 -> 7413.69
A41: D4 | C41: =VLOOKUP(A41,'2'!$A$4:$BN$74,7,FALSE) -> 193.03 | D41: =+VLOOKUP(A41,'2'!$A$4:$BN$74,12,FALSE) -> 249.46 | E41: =+VLOOKUP(A41,'2'!$A$4:$BN$74,18,FALSE) -> 310.18 | F41: =+VLOOKUP(A41,'2'!$A$4:$BN$74,23,FALSE) -> 157.87 | G41: =+VLOOKUP(A41,'2'!$A$4:$BN$74,28,FALSE) -> 331.63 | H41: =+VLOOKUP(A41,'2'!$A$4:$BN$74,34,FALSE) -> 252.98 | I41: =+VLOOKUP(A41,'2'!$A$4:$BN$74,39,FALSE) -> 333.22 | J41: =+VLOOKUP(A41,'2'!$A$4:$BN$74,45,FALSE) -> 306.84 | K41: =+VLOOKUP(A41,'2'!$A$4:$BN$746,50,FALSE) -> 314.79 | L41: =+VLOOKUP(A41,'2'!$A$4:$BN$74,55,FALSE) -> 343.72 | M41: =+VLOOKUP(A41,'2'!$A$4:$BN$74,61,FALSE) -> 379.81 | N41: =+VLOOKUP(A41,'2'!$A$4:$BN$74,66,FALSE) -> 282.06 | O41: =+C41+D41+E41+F41+G41+H41+I41+J41+K41+L41+M41+N41 -> 3455.59 | P41: =+O41 -> 3455.59
A42: D5 | C42: =VLOOKUP(A42,'2'!$A$4:$BN$74,7,FALSE) -> 0 | D42: =+VLOOKUP(A42,'2'!$A$4:$BN$74,12,FALSE) -> 0 | E42: =+VLOOKUP(A42,'2'!$A$4:$BN$74,18,FALSE) -> 0 | F42: =+VLOOKUP(A42,'2'!$A$4:$BN$74,23,FALSE) -> 0 | G42: =+VLOOKUP(A42,'2'!$A$4:$BN$74,28,FALSE) -> 0 | H42: =+VLOOKUP(A42,'2'!$A$4:$BN$74,34,FALSE) -> 0 | I42: =+VLOOKUP(A42,'2'!$A$4:$BN$74,39,FALSE) -> 0 | J42: =+VLOOKUP(A42,'2'!$A$4:$BN$74,45,FALSE) -> 0 | K42: =+VLOOKUP(A42,'2'!$A$4:$BN$746,50,FALSE) -> 0 | L42: =+VLOOKUP(A42,'2'!$A$4:$BN$74,55,FALSE) -> 0 | M42: =+VLOOKUP(A42,'2'!$A$4:$BN$74,61,FALSE) -> 0 | N42: =+VLOOKUP(A42,'2'!$A$4:$BN$74,66,FALSE) -> 0 | O42: =+C42+D42+E42+F42+G42+H42+I42+J42+K42+L42+M42+N42 -> 0 | P42: =+O42 -> 0
A43: D6 | C43: =VLOOKUP(A43,'2'!$A$4:$BN$74,7,FALSE) -> 126.43 | D43: =+VLOOKUP(A43,'2'!$A$4:$BN$74,12,FALSE) -> 110.45 | E43: =+VLOOKUP(A43,'2'!$A$4:$BN$74,18,FALSE) -> 168.78 | F43: =+VLOOKUP(A43,'2'!$A$4:$BN$74,23,FALSE) -> 211.31 | G43: =+VLOOKUP(A43,'2'!$A$4:$BN$74,28,FALSE) -> 107.67 | H43: =+VLOOKUP(A43,'2'!$A$4:$BN$74,34,FALSE) -> 165.55 | I43: =+VLOOKUP(A43,'2'!$A$4:$BN$74,39,FALSE) -> 180.52 | J43: =+VLOOKUP(A43,'2'!$A$4:$BN$74,45,FALSE) -> 213.01 | K43: =+VLOOKUP(A43,'2'!$A$4:$BN$746,50,FALSE) -> 117.56 | L43: =+VLOOKUP(A43,'2'!$A$4:$BN$74,55,FALSE) -> 134.62 | M43: =+VLOOKUP(A43,'2'!$A$4:$BN$74,61,FALSE) -> 205.22 | N43: =+VLOOKUP(A43,'2'!$A$4:$BN$74,66,FALSE) -> 178.3 | O43: =+C43+D43+E43+F43+G43+H43+I43+J43+K43+L43+M43+N43 -> 1919.42 | P43: =+O43 -> 1919.42
A44: D7 | C44: =VLOOKUP(A44,'2'!$A$4:$BN$74,7,FALSE) -> 0 | D44: =+VLOOKUP(A44,'2'!$A$4:$BN$74,12,FALSE) -> 0 | E44: =+VLOOKUP(A44,'2'!$A$4:$BN$74,18,FALSE) -> 0 | F44: =+VLOOKUP(A44,'2'!$A$4:$BN$74,23,FALSE) -> 0 | G44: =+VLOOKUP(A44,'2'!$A$4:$BN$74,28,FALSE) -> 0 | H44: =+VLOOKUP(A44,'2'!$A$4:$BN$74,34,FALSE) -> 0 | I44: =+VLOOKUP(A44,'2'!$A$4:$BN$74,39,FALSE) -> 0 | J44: =+VLOOKUP(A44,'2'!$A$4:$BN$74,45,FALSE) -> 0 | K44: =+VLOOKUP(A44,'2'!$A$4:$BN$746,50,FALSE) -> 46.62 | L44: =+VLOOKUP(A44,'2'!$A$4:$BN$74,55,FALSE) -> 0 | M44: =+VLOOKUP(A44,'2'!$A$4:$BN$74,61,FALSE) -> 32.42 | N44: =+VLOOKUP(A44,'2'!$A$4:$BN$74,66,FALSE) -> 0 | O44: =+C44+D44+E44+F44+G44+H44+I44+J44+K44+L44+M44+N44 -> 79.04 | P44: =+O44 -> 79.04
A45: TOTAL D | C45: =SUM(C38:C44) -> 1616.7 | D45: =SUM(D38:D44) -> 1698.75 | E45: =SUM(E38:E44) -> 2417.11 | F45: =SUM(F38:F44) -> 1837.32 | G45: =SUM(G38:G44) -> 1831.77 | H45: =SUM(H38:H44) -> 2319.09 | I45: =SUM(I38:I44) -> 1693.84 | J45: =SUM(J38:J44) -> 2160.37 | ... O45: =SUM(O38:O44) -> 24403.97
A46: E1 | C46: =VLOOKUP(A46,'2'!$A$4:$BN$74,7,FALSE) -> 528.49 | D46: =+VLOOKUP(A46,'2'!$A$4:$BN$74,12,FALSE) -> 704.3 | E46: =+VLOOKUP(A46,'2'!$A$4:$BN$74,18,FALSE) -> 784.67 | F46: =+VLOOKUP(A46,'2'!$A$4:$BN$74,23,FALSE) -> 623.73 | G46: =+VLOOKUP(A46,'2'!$A$4:$BN$74,28,FALSE) -> 545.65 | H46: =+VLOOKUP(A46,'2'!$A$4:$BN$74,34,FALSE) -> 784.11 | I46: =+VLOOKUP(A46,'2'!$A$4:$BN$74,39,FALSE) -> 622.79 | J46: =+VLOOKUP(A46,'2'!$A$4:$BN$74,45,FALSE) -> 792.81 | K46: =+VLOOKUP(A46,'2'!$A$4:$BN$746,50,FALSE) -> 456.77 | L46: =+VLOOKUP(A46,'2'!$A$4:$BN$74,55,FALSE) -> 633.91 | M46: =+VLOOKUP(A46,'2'!$A$4:$BN$74,61,FALSE) -> 776.8 | N46: =+VLOOKUP(A46,'2'!$A$4:$BN$74,66,FALSE) -> 770.74 | O46: =+C46+D46+E46+F46+G46+H46+I46+J46+K46+L46+M46+N46 -> 8024.77 | P46: =+O46 -> 8024.77
A47: E2 | C47: =VLOOKUP(A47,'2'!$A$4:$BN$74,7,FALSE) -> 368.82 | D47: =+VLOOKUP(A47,'2'!$A$4:$BN$74,12,FALSE) -> 361.98 | E47: =+VLOOKUP(A47,'2'!$A$4:$BN$74,18,FALSE) -> 507.66 | F47: =+VLOOKUP(A47,'2'!$A$4:$BN$74,23,FALSE) -> 429.26 | G47: =+VLOOKUP(A47,'2'!$A$4:$BN$74,28,FALSE) -> 443.02 | H47: =+VLOOKUP(A47,'2'!$A$4:$BN$74,34,FALSE) -> 445.32 | I47: =+VLOOKUP(A47,'2'!$A$4:$BN$74,39,FALSE) -> 402.36 | J47: =+VLOOKUP(A47,'2'!$A$4:$BN$74,45,FALSE) -> 312.22 | K47: =+VLOOKUP(A47,'2'!$A$4:$BN$746,50,FALSE) -> 338.58 | L47: =+VLOOKUP(A47,'2'!$A$4:$BN$74,55,FALSE) -> 409.09 | M47: =+VLOOKUP(A47,'2'!$A$4:$BN$74,61,FALSE) -> 562.24 | N47: =+VLOOKUP(A47,'2'!$A$4:$BN$74,66,FALSE) -> 519.84 | O47: =+C47+D47+E47+F47+G47+H47+I47+J47+K47+L47+M47+N47 -> 5100.39 | P47: =+O47 -> 5100.39
A48: E3 | C48: =VLOOKUP(A48,'2'!$A$4:$BN$74,7,FALSE) -> 63.69 | D48: =+VLOOKUP(A48,'2'!$A$4:$BN$74,12,FALSE) -> 70.51 | E48: =+VLOOKUP(A48,'2'!$A$4:$BN$74,18,FALSE) -> 75.82 | F48: =+VLOOKUP(A48,'2'!$A$4:$BN$74,23,FALSE) -> 67.73 | G48: =+VLOOKUP(A48,'2'!$A$4:$BN$74,28,FALSE) -> 90.12 | H48: =+VLOOKUP(A48,'2'!$A$4:$BN$74,34,FALSE) -> 75.7 | I48: =+VLOOKUP(A48,'2'!$A$4:$BN$74,39,FALSE) -> 78.61 | J48: =+VLOOKUP(A48,'2'!$A$4:$BN$74,45,FALSE) -> 78.2 | K48: =+VLOOKUP(A48,'2'!$A$4:$BN$746,50,FALSE) -> 56.61 | L48: =+VLOOKUP(A48,'2'!$A$4:$BN$74,55,FALSE) -> 85.26 | M48: =+VLOOKUP(A48,'2'!$A$4:$BN$74,61,FALSE) -> 90.25 | N48: =+VLOOKUP(A48,'2'!$A$4:$BN$74,66,FALSE) -> 56.06 | O48: =+C48+D48+E48+F48+G48+H48+I48+J48+K48+L48+M48+N48 -> 888.56 | P48: =+O48 -> 888.56
A49: TOTAL E | C49: =SUM(C46:C48) -> 961 | D49: =SUM(D46:D48) -> 1136.79 | E49: =SUM(E46:E48) -> 1368.15 | F49: =SUM(F46:F48) -> 1120.72 | G49: =SUM(G46:G48) -> 1078.79 | H49: =SUM(H46:H48) -> 1305.13 | I49: =SUM(I46:I48) -> 1103.76 | J49: =SUM(J46:J48) -> 1183.23 | ... O49: =SUM(O46:O48) -> 14013.72
A50: F1 | C50: =VLOOKUP(A50,'2'!$A$4:$BN$74,7,FALSE) -> 10.37 | D50: =+VLOOKUP(A50,'2'!$A$4:$BN$74,12,FALSE) -> 12.52 | E50: =+VLOOKUP(A50,'2'!$A$4:$BN$74,18,FALSE) -> 7.49 | F50: =+VLOOKUP(A50,'2'!$A$4:$BN$74,23,FALSE) -> 11.6 | G50: =+VLOOKUP(A50,'2'!$A$4:$BN$74,28,FALSE) -> 5.36 | H50: =+VLOOKUP(A50,'2'!$A$4:$BN$74,34,FALSE) -> 6.87 | I50: =+VLOOKUP(A50,'2'!$A$4:$BN$74,39,FALSE) -> 19.94 | J50: =+VLOOKUP(A50,'2'!$A$4:$BN$74,45,FALSE) -> 8.12 | K50: =+VLOOKUP(A50,'2'!$A$4:$BN$746,50,FALSE) -> 6.86 | L50: =+VLOOKUP(A50,'2'!$A$4:$BN$74,55,FALSE) -> 4.94 | M50: =+VLOOKUP(A50,'2'!$A$4:$BN$74,61,FALSE) -> 7.41 | N50: =+VLOOKUP(A50,'2'!$A$4:$BN$74,66,FALSE) -> 2.56 | O50: =+C50+D50+E50+F50+G50+H50+I50+J50+K50+L50+M50+N50 -> 104.04 | P50: =+O50 -> 104.04
A51: F2 | C51: =VLOOKUP(A51,'2'!$A$4:$BN$74,7,FALSE) -> 24.67 | D51: =+VLOOKUP(A51,'2'!$A$4:$BN$74,12,FALSE) -> 28.09 | E51: =+VLOOKUP(A51,'2'!$A$4:$BN$74,18,FALSE) -> 39.6 | F51: =+VLOOKUP(A51,'2'!$A$4:$BN$74,23,FALSE) -> 12.48 | G51: =+VLOOKUP(A51,'2'!$A$4:$BN$74,28,FALSE) -> 24.96 | H51: =+VLOOKUP(A51,'2'!$A$4:$BN$74,34,FALSE) -> 27.32 | I51: =+VLOOKUP(A51,'2'!$A$4:$BN$74,39,FALSE) -> 13.56 | J51: =+VLOOKUP(A51,'2'!$A$4:$BN$74,45,FALSE) -> 27.81 | K51: =+VLOOKUP(A51,'2'!$A$4:$BN$746,50,FALSE) -> 28.96 | L51: =+VLOOKUP(A51,'2'!$A$4:$BN$74,55,FALSE) -> 33.11 | M51: =+VLOOKUP(A51,'2'!$A$4:$BN$74,61,FALSE) -> 31.87 | N51: =+VLOOKUP(A51,'2'!$A$4:$BN$74,66,FALSE) -> 16.8 | O51: =+C51+D51+E51+F51+G51+H51+I51+J51+K51+L51+M51+N51 -> 309.23 | P51: =+O51 -> 309.23
A52: F3 | C52: =VLOOKUP(A52,'2'!$A$4:$BN$74,7,FALSE) -> 108.84 | D52: =+VLOOKUP(A52,'2'!$A$4:$BN$74,12,FALSE) -> 103.8 | E52: =+VLOOKUP(A52,'2'!$A$4:$BN$74,18,FALSE) -> 173.78 | F52: =+VLOOKUP(A52,'2'!$A$4:$BN$74,23,FALSE) -> 170.16 | G52: =+VLOOKUP(A52,'2'!$A$4:$BN$74,28,FALSE) -> 59.55 | H52: =+VLOOKUP(A52,'2'!$A$4:$BN$74,34,FALSE) -> 43.33 | I52: =+VLOOKUP(A52,'2'!$A$4:$BN$74,39,FALSE) -> 30.25 | J52: =+VLOOKUP(A52,'2'!$A$4:$BN$74,45,FALSE) -> 24.2 | K52: =+VLOOKUP(A52,'2'!$A$4:$BN$746,50,FALSE) -> 129.15 | L52: =+VLOOKUP(A52,'2'!$A$4:$BN$74,55,FALSE) -> 70.46 | M52: =+VLOOKUP(A52,'2'!$A$4:$BN$74,61,FALSE) -> 99.03 | N52: =+VLOOKUP(A52,'2'!$A$4:$BN$74,66,FALSE) -> 111.4 | O52: =+C52+D52+E52+F52+G52+H52+I52+J52+K52+L52+M52+N52 -> 1123.95 | P52: =+O52 -> 1123.95
A53: F4 | C53: =VLOOKUP(A53,'2'!$A$4:$BN$74,7,FALSE) -> 153.25 | D53: =+VLOOKUP(A53,'2'!$A$4:$BN$74,12,FALSE) -> 274.44 | E53: =+VLOOKUP(A53,'2'!$A$4:$BN$74,18,FALSE) -> 277.95 | F53: =+VLOOKUP(A53,'2'!$A$4:$BN$74,23,FALSE) -> 203.86 | G53: =+VLOOKUP(A53,'2'!$A$4:$BN$74,28,FALSE) -> 236.76 | H53: =+VLOOKUP(A53,'2'!$A$4:$BN$74,34,FALSE) -> 197.41 | I53: =+VLOOKUP(A53,'2'!$A$4:$BN$74,39,FALSE) -> 164.76 | J53: =+VLOOKUP(A53,'2'!$A$4:$BN$74,45,FALSE) -> 274.75 | K53: =+VLOOKUP(A53,'2'!$A$4:$BN$746,50,FALSE) -> 136.44 | L53: =+VLOOKUP(A53,'2'!$A$4:$BN$74,55,FALSE) -> 232.93 | M53: =+VLOOKUP(A53,'2'!$A$4:$BN$74,61,FALSE) -> 329.01 | N53: =+VLOOKUP(A53,'2'!$A$4:$BN$74,66,FALSE) -> 232.41 | O53: =+C53+D53+E53+F53+G53+H53+I53+J53+K53+L53+M53+N53 -> 2713.97 | P53: =+O53 -> 2713.97
A54: F5 | C54: =VLOOKUP(A54,'2'!$A$4:$BN$74,7,FALSE) -> 61.06 | D54: =+VLOOKUP(A54,'2'!$A$4:$BN$74,12,FALSE) -> 75.14 | E54: =+VLOOKUP(A54,'2'!$A$4:$BN$74,18,FALSE) -> 140.42 | F54: =+VLOOKUP(A54,'2'!$A$4:$BN$74,23,FALSE) -> 56.44 | G54: =+VLOOKUP(A54,'2'!$A$4:$BN$74,28,FALSE) -> 49.9 | H54: =+VLOOKUP(A54,'2'!$A$4:$BN$74,34,FALSE) -> 91.44 | I54: =+VLOOKUP(A54,'2'!$A$4:$BN$74,39,FALSE) -> 72.08 | J54: =+VLOOKUP(A54,'2'!$A$4:$BN$74,45,FALSE) -> 63.35 | K54: =+VLOOKUP(A54,'2'!$A$4:$BN$746,50,FALSE) -> 69.85 | L54: =+VLOOKUP(A54,'2'!$A$4:$BN$74,55,FALSE) -> 66.9 | M54: =+VLOOKUP(A54,'2'!$A$4:$BN$74,61,FALSE) -> 74.64 | N54: =+VLOOKUP(A54,'2'!$A$4:$BN$74,66,FALSE) -> 60.67 | O54: =+C54+D54+E54+F54+G54+H54+I54+J54+K54+L54+M54+N54 -> 881.89 | P54: =+O54 -> 881.89
A55: F6 | C55: =VLOOKUP(A55,'2'!$A$4:$BN$74,7,FALSE) -> 145.96 | D55: =+VLOOKUP(A55,'2'!$A$4:$BN$74,12,FALSE) -> 186.72 | E55: =+VLOOKUP(A55,'2'!$A$4:$BN$74,18,FALSE) -> 232.49 | F55: =+VLOOKUP(A55,'2'!$A$4:$BN$74,23,FALSE) -> 189.09 | G55: =+VLOOKUP(A55,'2'!$A$4:$BN$74,28,FALSE) -> 123.14 | H55: =+VLOOKUP(A55,'2'!$A$4:$BN$74,34,FALSE) -> 206.29 | I55: =+VLOOKUP(A55,'2'!$A$4:$BN$74,39,FALSE) -> 111.98 | J55: =+VLOOKUP(A55,'2'!$A$4:$BN$74,45,FALSE) -> 347.96 | K55: =+VLOOKUP(A55,'2'!$A$4:$BN$746,50,FALSE) -> 134.04 | L55: =+VLOOKUP(A55,'2'!$A$4:$BN$74,55,FALSE) -> 163.85 | M55: =+VLOOKUP(A55,'2'!$A$4:$BN$74,61,FALSE) -> 137.28 | N55: =+VLOOKUP(A55,'2'!$A$4:$BN$74,66,FALSE) -> 212.18 | O55: =+C55+D55+E55+F55+G55+H55+I55+J55+K55+L55+M55+N55 -> 2190.98 | P55: =+O55 -> 2190.98
A56: F7 | C56: =VLOOKUP(A56,'2'!$A$4:$BN$74,7,FALSE) -> 384.27 | D56: =+VLOOKUP(A56,'2'!$A$4:$BN$74,12,FALSE) -> 266.04 | E56: =+VLOOKUP(A56,'2'!$A$4:$BN$74,18,FALSE) -> 400.44 | F56: =+VLOOKUP(A56,'2'!$A$4:$BN$74,23,FALSE) -> 467.15 | G56: =+VLOOKUP(A56,'2'!$A$4:$BN$74,28,FALSE) -> 442.9 | H56: =+VLOOKUP(A56,'2'!$A$4:$BN$74,34,FALSE) -> 367.59 | I56: =+VLOOKUP(A56,'2'!$A$4:$BN$74,39,FALSE) -> 314.01 | J56: =+VLOOKUP(A56,'2'!$A$4:$BN$74,45,FALSE) -> 517.66 | K56: =+VLOOKUP(A56,'2'!$A$4:$BN$746,50,FALSE) -> 319.57 | L56: =+VLOOKUP(A56,'2'!$A$4:$BN$74,55,FALSE) -> 438.73 | M56: =+VLOOKUP(A56,'2'!$A$4:$BN$74,61,FALSE) -> 605.39 | N56: =+VLOOKUP(A56,'2'!$A$4:$BN$74,66,FALSE) -> 572.24 | O56: =+C56+D56+E56+F56+G56+H56+I56+J56+K56+L56+M56+N56 -> 5095.99 | P56: =+O56 -> 5095.99
A57: F8 | C57: =VLOOKUP(A57,'2'!$A$4:$BN$74,7,FALSE) -> 27.81 | D57: =+VLOOKUP(A57,'2'!$A$4:$BN$74,12,FALSE) -> 26.33 | E57: =+VLOOKUP(A57,'2'!$A$4:$BN$74,18,FALSE) -> 33.22 | F57: =+VLOOKUP(A57,'2'!$A$4:$BN$74,23,FALSE) -> 27.15 | G57: =+VLOOKUP(A57,'2'!$A$4:$BN$74,28,FALSE) -> 28.18 | H57: =+VLOOKUP(A57,'2'!$A$4:$BN$74,34,FALSE) -> 35.2 | I57: =+VLOOKUP(A57,'2'!$A$4:$BN$74,39,FALSE) -> 37.34 | J57: =+VLOOKUP(A57,'2'!$A$4:$BN$74,45,FALSE) -> 38.65 | K57: =+VLOOKUP(A57,'2'!$A$4:$BN$746,50,FALSE) -> 26.65 | L57: =+VLOOKUP(A57,'2'!$A$4:$BN$74,55,FALSE) -> 28.17 | M57: =+VLOOKUP(A57,'2'!$A$4:$BN$74,61,FALSE) -> 35.51 | N57: =+VLOOKUP(A57,'2'!$A$4:$BN$74,66,FALSE) -> 41.88 | O57: =+C57+D57+E57+F57+G57+H57+I57+J57+K57+L57+M57+N57 -> 386.09 | P57: =+O57 -> 386.09
A58: F9 | C58: =VLOOKUP(A58,'2'!$A$4:$BN$74,7,FALSE) -> 0 | D58: =+VLOOKUP(A58,'2'!$A$4:$BN$74,12,FALSE) -> 0 | E58: =+VLOOKUP(A58,'2'!$A$4:$BN$74,18,FALSE) -> 0 | F58: =+VLOOKUP(A58,'2'!$A$4:$BN$74,23,FALSE) -> 6.65 | G58: =+VLOOKUP(A58,'2'!$A$4:$BN$74,28,FALSE) -> 0 | H58: =+VLOOKUP(A58,'2'!$A$4:$BN$74,34,FALSE) -> 0 | I58: =+VLOOKUP(A58,'2'!$A$4:$BN$74,39,FALSE) -> 0 | J58: =+VLOOKUP(A58,'2'!$A$4:$BN$74,45,FALSE) -> 0 | K58: =+VLOOKUP(A58,'2'!$A$4:$BN$746,50,FALSE) -> 0 | L58: =+VLOOKUP(A58,'2'!$A$4:$BN$74,55,FALSE) -> 0 | M58: =+VLOOKUP(A58,'2'!$A$4:$BN$74,61,FALSE) -> 0 | N58: =+VLOOKUP(A58,'2'!$A$4:$BN$74,66,FALSE) -> 4.27 | O58: =+C58+D58+E58+F58+G58+H58+I58+J58+K58+L58+M58+N58 -> 10.92 | P58: =+O58 -> 10.92
A59: TOTAL F | C59: =SUM(C50:C58) -> 916.23 | D59: =SUM(D50:D58) -> 973.08 | E59: =SUM(E50:E58) -> 1305.39 | F59: =SUM(F50:F58) -> 1144.58 | G59: =SUM(G50:G58) -> 970.75 | H59: =SUM(H50:H58) -> 975.45 | I59: =SUM(I50:I58) -> 763.92 | J59: =SUM(J50:J58) -> 1302.5 | ... O59: =SUM(O50:O58) -> 12817.06
A60: G1 | C60: =VLOOKUP(A60,'2'!$A$4:$BN$74,7,FALSE) -> 36.99 | D60: =+VLOOKUP(A60,'2'!$A$4:$BN$74,12,FALSE) -> 29.87 | E60: =+VLOOKUP(A60,'2'!$A$4:$BN$74,18,FALSE) -> 20.25 | F60: =+VLOOKUP(A60,'2'!$A$4:$BN$74,23,FALSE) -> 0 | G60: =+VLOOKUP(A60,'2'!$A$4:$BN$74,28,FALSE) -> 33.46 | H60: =+VLOOKUP(A60,'2'!$A$4:$BN$74,34,FALSE) -> 41.28 | I60: =+VLOOKUP(A60,'2'!$A$4:$BN$74,39,FALSE) -> 0 | J60: =+VLOOKUP(A60,'2'!$A$4:$BN$74,45,FALSE) -> 32.68 | K60: =+VLOOKUP(A60,'2'!$A$4:$BN$746,50,FALSE) -> 0 | L60: =+VLOOKUP(A60,'2'!$A$4:$BN$74,55,FALSE) -> 21.23 | M60: =+VLOOKUP(A60,'2'!$A$4:$BN$74,61,FALSE) -> 30.12 | N60: =+VLOOKUP(A60,'2'!$A$4:$BN$74,66,FALSE) -> 31.19 | O60: =+C60+D60+E60+F60+G60+H60+I60+J60+K60+L60+M60+N60 -> 277.07 | P60: =+O60 -> 277.07
A61: G2 | C61: =VLOOKUP(A61,'2'!$A$4:$BN$74,7,FALSE) -> 37.84 | D61: =+VLOOKUP(A61,'2'!$A$4:$BN$74,12,FALSE) -> 42.25 | E61: =+VLOOKUP(A61,'2'!$A$4:$BN$74,18,FALSE) -> 31.03 | F61: =+VLOOKUP(A61,'2'!$A$4:$BN$74,23,FALSE) -> 28.87 | G61: =+VLOOKUP(A61,'2'!$A$4:$BN$74,28,FALSE) -> 39.21 | H61: =+VLOOKUP(A61,'2'!$A$4:$BN$74,34,FALSE) -> 39.26 | I61: =+VLOOKUP(A61,'2'!$A$4:$BN$74,39,FALSE) -> 23.55 | J61: =+VLOOKUP(A61,'2'!$A$4:$BN$74,45,FALSE) -> 24.01 | K61: =+VLOOKUP(A61,'2'!$A$4:$BN$746,50,FALSE) -> 50.64 | L61: =+VLOOKUP(A61,'2'!$A$4:$BN$74,55,FALSE) -> 20.02 | M61: =+VLOOKUP(A61,'2'!$A$4:$BN$74,61,FALSE) -> 15.45 | N61: =+VLOOKUP(A61,'2'!$A$4:$BN$74,66,FALSE) -> 20.76 | O61: =+C61+D61+E61+F61+G61+H61+I61+J61+K61+L61+M61+N61 -> 372.89 | P61: =+O61 -> 372.89
A62: G3 | C62: =VLOOKUP(A62,'2'!$A$4:$BN$74,7,FALSE) -> 8.18 | D62: =+VLOOKUP(A62,'2'!$A$4:$BN$74,12,FALSE) -> 11.56 | E62: =+VLOOKUP(A62,'2'!$A$4:$BN$74,18,FALSE) -> 2.52 | F62: =+VLOOKUP(A62,'2'!$A$4:$BN$74,23,FALSE) -> 0 | G62: =+VLOOKUP(A62,'2'!$A$4:$BN$74,28,FALSE) -> 0 | H62: =+VLOOKUP(A62,'2'!$A$4:$BN$74,34,FALSE) -> 0 | I62: =+VLOOKUP(A62,'2'!$A$4:$BN$74,39,FALSE) -> 0 | J62: =+VLOOKUP(A62,'2'!$A$4:$BN$74,45,FALSE) -> 0 | K62: =+VLOOKUP(A62,'2'!$A$4:$BN$746,50,FALSE) -> 0 | L62: =+VLOOKUP(A62,'2'!$A$4:$BN$74,55,FALSE) -> 0 | M62: =+VLOOKUP(A62,'2'!$A$4:$BN$74,61,FALSE) -> 0 | N62: =+VLOOKUP(A62,'2'!$A$4:$BN$74,66,FALSE) -> 0 | O62: =+C62+D62+E62+F62+G62+H62+I62+J62+K62+L62+M62+N62 -> 22.26 | P62: =+O62 -> 22.26
A63: G4 | C63: =VLOOKUP(A63,'2'!$A$4:$BN$74,7,FALSE) -> 5 | D63: =+VLOOKUP(A63,'2'!$A$4:$BN$74,12,FALSE) -> 28 | E63: =+VLOOKUP(A63,'2'!$A$4:$BN$74,18,FALSE) -> 14.5 | F63: =+VLOOKUP(A63,'2'!$A$4:$BN$74,23,FALSE) -> 12.48 | G63: =+VLOOKUP(A63,'2'!$A$4:$BN$74,28,FALSE) -> 14.96 | H63: =+VLOOKUP(A63,'2'!$A$4:$BN$74,34,FALSE) -> 14.9 | I63: =+VLOOKUP(A63,'2'!$A$4:$BN$74,39,FALSE) -> 7.42 | J63: =+VLOOKUP(A63,'2'!$A$4:$BN$74,45,FALSE) -> 12.35 | K63: =+VLOOKUP(A63,'2'!$A$4:$BN$746,50,FALSE) -> 7.41 | L63: =+VLOOKUP(A63,'2'!$A$4:$BN$74,55,FALSE) -> 7.41 | M63: =+VLOOKUP(A63,'2'!$A$4:$BN$74,61,FALSE) -> 12.35 | N63: =+VLOOKUP(A63,'2'!$A$4:$BN$74,66,FALSE) -> 10.33 | O63: =+C63+D63+E63+F63+G63+H63+I63+J63+K63+L63+M63+N63 -> 147.11 | P63: =+O63 -> 147.11
A64: G5 | C64: =VLOOKUP(A64,'2'!$A$4:$BN$74,7,FALSE) -> 0 | D64: =+VLOOKUP(A64,'2'!$A$4:$BN$74,12,FALSE) -> 0 | E64: =+VLOOKUP(A64,'2'!$A$4:$BN$74,18,FALSE) -> 0 | F64: =+VLOOKUP(A64,'2'!$A$4:$BN$74,23,FALSE) -> 0 | G64: =+VLOOKUP(A64,'2'!$A$4:$BN$74,28,FALSE) -> 0 | H64: =+VLOOKUP(A64,'2'!$A$4:$BN$74,34,FALSE) -> 0 | I64: =+VLOOKUP(A64,'2'!$A$4:$BN$74,39,FALSE) -> 0 | J64: =+VLOOKUP(A64,'2'!$A$4:$BN$74,45,FALSE) -> 0 | K64: =+VLOOKUP(A64,'2'!$A$4:$BN$746,50,FALSE) -> 0 | L64: =+VLOOKUP(A64,'2'!$A$4:$BN$74,55,FALSE) -> 0 | M64: =+VLOOKUP(A64,'2'!$A$4:$BN$74,61,FALSE) -> 0 | N64: =+VLOOKUP(A64,'2'!$A$4:$BN$74,66,FALSE) -> 0 | O64: =+C64+D64+E64+F64+G64+H64+I64+J64+K64+L64+M64+N64 -> 0 | P64: =+O64 -> 0
A65: G6 | C65: =VLOOKUP(A65,'2'!$A$4:$BN$74,7,FALSE) -> 0 | D65: =+VLOOKUP(A65,'2'!$A$4:$BN$74,12,FALSE) -> 0 | E65: =+VLOOKUP(A65,'2'!$A$4:$BN$74,18,FALSE) -> 0 | F65: =+VLOOKUP(A65,'2'!$A$4:$BN$74,23,FALSE) -> 0 | G65: =+VLOOKUP(A65,'2'!$A$4:$BN$74,28,FALSE) -> 0 | H65: =+VLOOKUP(A65,'2'!$A$4:$BN$74,34,FALSE) -> 0 | I65: =+VLOOKUP(A65,'2'!$A$4:$BN$74,39,FALSE) -> 0 | J65: =+VLOOKUP(A65,'2'!$A$4:$BN$74,45,FALSE) -> 0 | K65: =+VLOOKUP(A65,'2'!$A$4:$BN$746,50,FALSE) -> 0 | L65: =+VLOOKUP(A65,'2'!$A$4:$BN$74,55,FALSE) -> 0 | M65: =+VLOOKUP(A65,'2'!$A$4:$BN$74,61,FALSE) -> 0 | N65: =+VLOOKUP(A65,'2'!$A$4:$BN$74,66,FALSE) -> 0 | O65: =+C65+D65+E65+F65+G65+H65+I65+J65+K65+L65+M65+N65 -> 0 | P65: =+O65 -> 0
A66: G7 | C66: =VLOOKUP(A66,'2'!$A$4:$BN$74,7,FALSE) -> 341.19 | D66: =+VLOOKUP(A66,'2'!$A$4:$BN$74,12,FALSE) -> 254.97 | E66: =+VLOOKUP(A66,'2'!$A$4:$BN$74,18,FALSE) -> 243.38 | F66: =+VLOOKUP(A66,'2'!$A$4:$BN$74,23,FALSE) -> 164.45 | G66: =+VLOOKUP(A66,'2'!$A$4:$BN$74,28,FALSE) -> 188.41 | H66: =+VLOOKUP(A66,'2'!$A$4:$BN$74,34,FALSE) -> 201.31 | I66: =+VLOOKUP(A66,'2'!$A$4:$BN$74,39,FALSE) -> 142.81 | J66: =+VLOOKUP(A66,'2'!$A$4:$BN$74,45,FALSE) -> 188.41 | K66: =+VLOOKUP(A66,'2'!$A$4:$BN$746,50,FALSE) -> 218.31 | L66: =+VLOOKUP(A66,'2'!$A$4:$BN$74,55,FALSE) -> 178.47 | M66: =+VLOOKUP(A66,'2'!$A$4:$BN$74,61,FALSE) -> 176.52 | N66: =+VLOOKUP(A66,'2'!$A$4:$BN$74,66,FALSE) -> 161.31 | O66: =+C66+D66+E66+F66+G66+H66+I66+J66+K66+L66+M66+N66 -> 2459.54 | P66: =+O66 -> 2459.54
A67: G8 | C67: =VLOOKUP(A67,'2'!$A$4:$BN$74,7,FALSE) -> 0 | D67: =+VLOOKUP(A67,'2'!$A$4:$BN$74,12,FALSE) -> 0 | E67: =+VLOOKUP(A67,'2'!$A$4:$BN$74,18,FALSE) -> 0 | F67: =+VLOOKUP(A67,'2'!$A$4:$BN$74,23,FALSE) -> 0 | G67: =+VLOOKUP(A67,'2'!$A$4:$BN$74,28,FALSE) -> 0 | H67: =+VLOOKUP(A67,'2'!$A$4:$BN$74,34,FALSE) -> 0 | I67: =+VLOOKUP(A67,'2'!$A$4:$BN$74,39,FALSE) -> 0 | J67: =+VLOOKUP(A67,'2'!$A$4:$BN$74,45,FALSE) -> 0 | K67: =+VLOOKUP(A67,'2'!$A$4:$BN$746,50,FALSE) -> 0 | L67: =+VLOOKUP(A67,'2'!$A$4:$BN$74,55,FALSE) -> 0 | M67: =+VLOOKUP(A67,'2'!$A$4:$BN$74,61,FALSE) -> 0 | N67: =+VLOOKUP(A67,'2'!$A$4:$BN$74,66,FALSE) -> 0 | O67: =+C67+D67+E67+F67+G67+H67+I67+J67+K67+L67+M67+N67 -> 0 | P67: =+O67 -> 0
A68: G9 | C68: =VLOOKUP(A68,'2'!$A$4:$BN$74,7,FALSE) -> 0 | D68: =+VLOOKUP(A68,'2'!$A$4:$BN$74,12,FALSE) -> 0 | E68: =+VLOOKUP(A68,'2'!$A$4:$BN$74,18,FALSE) -> 0 | F68: =+VLOOKUP(A68,'2'!$A$4:$BN$74,23,FALSE) -> 0 | G68: =+VLOOKUP(A68,'2'!$A$4:$BN$74,28,FALSE) -> 0 | H68: =+VLOOKUP(A68,'2'!$A$4:$BN$74,34,FALSE) -> 0 | I68: =+VLOOKUP(A68,'2'!$A$4:$BN$74,39,FALSE) -> 0 | J68: =+VLOOKUP(A68,'2'!$A$4:$BN$74,45,FALSE) -> 0 | K68: =+VLOOKUP(A68,'2'!$A$4:$BN$746,50,FALSE) -> 0 | L68: =+VLOOKUP(A68,'2'!$A$4:$BN$74,55,FALSE) -> 0 | M68: =+VLOOKUP(A68,'2'!$A$4:$BN$74,61,FALSE) -> 0 | N68: =+VLOOKUP(A68,'2'!$A$4:$BN$74,66,FALSE) -> 0 | O68: =+C68+D68+E68+F68+G68+H68+I68+J68+K68+L68+M68+N68 -> 0 | P68: =+O68 -> 0
A69: G10 | C69: =VLOOKUP(A69,'2'!$A$4:$BN$74,7,FALSE) -> 18.29 | D69: =+VLOOKUP(A69,'2'!$A$4:$BN$74,12,FALSE) -> 18.72 | E69: =+VLOOKUP(A69,'2'!$A$4:$BN$74,18,FALSE) -> 18.72 | F69: =+VLOOKUP(A69,'2'!$A$4:$BN$74,23,FALSE) -> 18.72 | G69: =+VLOOKUP(A69,'2'!$A$4:$BN$74,28,FALSE) -> 18.72 | H69: =+VLOOKUP(A69,'2'!$A$4:$BN$74,34,FALSE) -> 37.1 | I69: =+VLOOKUP(A69,'2'!$A$4:$BN$74,39,FALSE) -> 0 | J69: =+VLOOKUP(A69,'2'!$A$4:$BN$74,45,FALSE) -> 37.02 | K69: =+VLOOKUP(A69,'2'!$A$4:$BN$746,50,FALSE) -> 18.52 | L69: =+VLOOKUP(A69,'2'!$A$4:$BN$74,55,FALSE) -> 18.52 | M69: =+VLOOKUP(A69,'2'!$A$4:$BN$74,61,FALSE) -> 18.54 | N69: =+VLOOKUP(A69,'2'!$A$4:$BN$74,66,FALSE) -> 0 | O69: =+C69+D69+E69+F69+G69+H69+I69+J69+K69+L69+M69+N69 -> 222.87 | P69: =+O69 -> 222.87
A70: G11 | C70: =VLOOKUP(A70,'2'!$A$4:$BN$74,7,FALSE) -> 0 | D70: =+VLOOKUP(A70,'2'!$A$4:$BN$74,12,FALSE) -> 0 | E70: =+VLOOKUP(A70,'2'!$A$4:$BN$74,18,FALSE) -> 7.33 | F70: =+VLOOKUP(A70,'2'!$A$4:$BN$74,23,FALSE) -> 0 | G70: =+VLOOKUP(A70,'2'!$A$4:$BN$74,28,FALSE) -> 15.68 | H70: =+VLOOKUP(A70,'2'!$A$4:$BN$74,34,FALSE) -> 0 | I70: =+VLOOKUP(A70,'2'!$A$4:$BN$74,39,FALSE) -> 0 | J70: =+VLOOKUP(A70,'2'!$A$4:$BN$74,45,FALSE) -> 0 | K70: =+VLOOKUP(A70,'2'!$A$4:$BN$746,50,FALSE) -> 5.04 | L70: =+VLOOKUP(A70,'2'!$A$4:$BN$74,55,FALSE) -> 0 | M70: =+VLOOKUP(A70,'2'!$A$4:$BN$74,61,FALSE) -> 0 | N70: =+VLOOKUP(A70,'2'!$A$4:$BN$74,66,FALSE) -> 0 | O70: =+C70+D70+E70+F70+G70+H70+I70+J70+K70+L70+M70+N70 -> 28.05 | P70: =+O70 -> 28.05
A71: G12 | C71: =VLOOKUP(A71,'2'!$A$4:$BN$74,7,FALSE) -> 0 | D71: =+VLOOKUP(A71,'2'!$A$4:$BN$74,12,FALSE) -> 0 | E71: =+VLOOKUP(A71,'2'!$A$4:$BN$74,18,FALSE) -> 18 | F71: =+VLOOKUP(A71,'2'!$A$4:$BN$74,23,FALSE) -> 0 | G71: =+VLOOKUP(A71,'2'!$A$4:$BN$74,28,FALSE) -> 0 | H71: =+VLOOKUP(A71,'2'!$A$4:$BN$74,34,FALSE) -> 3.78 | I71: =+VLOOKUP(A71,'2'!$A$4:$BN$74,39,FALSE) -> 0 | J71: =+VLOOKUP(A71,'2'!$A$4:$BN$74,45,FALSE) -> 0 | K71: =+VLOOKUP(A71,'2'!$A$4:$BN$746,50,FALSE) -> 41.34 | L71: =+VLOOKUP(A71,'2'!$A$4:$BN$74,55,FALSE) -> 11.04 | M71: =+VLOOKUP(A71,'2'!$A$4:$BN$74,61,FALSE) -> 0 | N71: =+VLOOKUP(A71,'2'!$A$4:$BN$74,66,FALSE) -> 0 | O71: =+C71+D71+E71+F71+G71+H71+I71+J71+K71+L71+M71+N71 -> 74.16 | P71: =+O71 -> 74.16
... A73: G14 | C73: =VLOOKUP(A73,'2'!$A$4:$BN$74,7,FALSE) -> 0 | D73: =+VLOOKUP(A73,'2'!$A$4:$BN$74,12,FALSE) -> 0 | E73: =+VLOOKUP(A73,'2'!$A$4:$BN$74,18,FALSE) -> 45.53 | F73: =+VLOOKUP(A73,'2'!$A$4:$BN$74,23,FALSE) -> 0 | G73: =+VLOOKUP(A73,'2'!$A$4:$BN$74,28,FALSE) -> 29.26 | H73: =+VLOOKUP(A73,'2'!$A$4:$BN$74,34,FALSE) -> 0 | I73: =+VLOOKUP(A73,'2'!$A$4:$BN$74,39,FALSE) -> 0 | J73: =+VLOOKUP(A73,'2'!$A$4:$BN$74,45,FALSE) -> 0 | K73: =+VLOOKUP(A73,'2'!$A$4:$BN$746,50,FALSE) -> 0 | L73: =+VLOOKUP(A73,'2'!$A$4:$BN$74,55,FALSE) -> 27.23 | M73: =+VLOOKUP(A73,'2'!$A$4:$BN$74,61,FALSE) -> 0 | N73: =+VLOOKUP(A73,'2'!$A$4:$BN$74,66,FALSE) -> 0 | O73: =+C73+D73+E73+F73+G73+H73+I73+J73+K73+L73+M73+N73 -> 102.02 | P73: =+O73 -> 102.02
A74: TOTAL G | C74: =SUM(C60:C73) -> 482.24 | D74: =SUM(D60:D73) -> 402.85 | E74: =SUM(E60:E73) -> 449.94 | F74: =SUM(F60:F73) -> 242 | G74: =SUM(G60:G73) -> 374.66 | H74: =SUM(H60:H73) -> 362.39 | I74: =SUM(I60:I73) -> 207.15 | J74: =SUM(J60:J73) -> 343.82 | ... O74: =SUM(O60:O73) -> 4052.77
A75: TOTAL MENSUEL | C75: =+C7+C28+C37+C45+C49+C59+C74 -> 10331.02 | D75: =+D7+D28+D37+D45+D49+D59+D74 -> 10279.79 | E75: =+E7+E28+E37+E45+E49+E59+E74 -> 14198.7 | F75: =+F7+F28+F37+F45+F49+F59+F74 -> 10968.34 | G75: =+G7+G28+G37+G45+G49+G59+G74 -> 10762.17 | H75: =+H7+H28+H37+H45+H49+H59+H74 -> 12705.14 | I75: =+I7+I28+I37+I45+I49+I59+I74 -> 10534.98 | J75: =+J7+J28+J37+J45+J49+J59+J74 -> 12535.32 | ... O75: =+O7+O28+O37+O45+O49+O59+O74 -> 140648.2 | P75: =SUM(P4:P74) -> 140648.2
O76: =+C75+D75+E75+F75+G75+H75+I75+J75+K75+L75+M75+N75 -> 140648.2

Sheet Total mensuel
A3: MOIS | B3: MONTANT T.T.C. | C3: Contrôle | E3: Sans les G | F3: total G
A4: JANVIER | B4: =+'1'!G17+'2'!G75 -> 20692.91 | C4: =+'1 - Mensuel'!C17+'2 - Mensuel'!C75 -> 20692.91 | E4: ='1 - Mensuel'!C17+'2 - Mensuel'!C7+'2 - Mensuel'!C28+'2 - Mensuel'!C37+'2 - Mensuel'!C45+'2 - Mensuel'!C49+'2 - Mensuel'!C59 -> 20210.67
A5: FÉVRIER | B5: =+'1'!L17+'2'!L75 -> 21020.19 | C5: =+'1 - Mensuel'!D17+'2 - Mensuel'!D75 -> 21020.19 | E5: ='1 - Mensuel'!D17+'2 - Mensuel'!D7+'2 - Mensuel'!D28+'2 - Mensuel'!D37+'2 - Mensuel'!D45+'2 - Mensuel'!D49+'2 - Mensuel'!D59 -> 20617.34
A6: MARS | B6: =+'1'!R17+'2'!R75 -> 26723.03 | C6: =+'1 - Mensuel'!E17+'2 - Mensuel'!E75 -> 26723.03 | E6: ='1 - Mensuel'!E17+'2 - Mensuel'!E7+'2 - Mensuel'!E28+'2 - Mensuel'!E37+'2 - Mensuel'!E45+'2 - Mensuel'!E49+'2 - Mensuel'!E59 -> 26273.09
A7: AVRIL | B7: =+'1'!W17+'2'!W75 -> 21649.16 | C7: =+'1 - Mensuel'!F17+'2 - Mensuel'!F75 -> 21649.16 | E7: ='1 - Mensuel'!F17+'2 - Mensuel'!F7+'2 - Mensuel'!F28+'2 - Mensuel'!F37+'2 - Mensuel'!F45+'2 - Mensuel'!F49+'2 - Mensuel'!F59 -> 21407.16
A8: MAI | B8: =+'1'!AB17+'2'!AB75 -> 22317.31 | C8: =+'1 - Mensuel'!G17+'2 - Mensuel'!G75 -> 22317.31 | E8: ='1 - Mensuel'!G17+'2 - Mensuel'!G7+'2 - Mensuel'!G28+'2 - Mensuel'!G37+'2 - Mensuel'!G45+'2 - Mensuel'!G49+'2 - Mensuel'!G59 -> 21942.65
A9: JUIN | B9: =+'1'!AH17+'2'!AH75 -> 26665.08 | C9: =+'1 - Mensuel'!H17+'2 - Mensuel'!H75 -> 26665.08 | E9: ='1 - Mensuel'!H17+'2 - Mensuel'!H7+'2 - Mensuel'!H28+'2 - Mensuel'!H37+'2 - Mensuel'!H45+'2 - Mensuel'!H49+'2 - Mensuel'!H59 -> 26302.69
A10: JUILLET | B10: =+'1'!AM17+'2'!AM75 -> 21106.88 | C10: =+'1 - Mensuel'!I17+'2 - Mensuel'!I75 -> 21106.88 | E10: ='1 - Mensuel'!I17++'2 - Mensuel'!I7+'2 - Mensuel'!I28+'2 - Mensuel'!I37+'2 - Mensuel'!I45+'2 - Mensuel'!I49+'2 - Mensuel'!I59 -> 20899.73
A11: AOÛT | B11: =+'1'!AS17+'2'!AS75 -> 28606.81 | C11: =+'1 - Mensuel'!J17+'2 - Mensuel'!J75 -> 28606.81 | E11: ='1 - Mensuel'!J17+'2 - Mensuel'!J7+'2 - Mensuel'!J28+'2 - Mensuel'!J37+'2 - Mensuel'!J45+'2 - Mensuel'!J49+'2 - Mensuel'!J59 -> 28262.99
A12: SEPTEMBRE | B12: =+'1'!AX17+'2'!AX75 -> 24121.56 | C12: =+'1 - Mensuel'!K17+'2 - Mensuel'!K75 -> 24121.56 | E12: ='1 - Mensuel'!K17+'2 - Mensuel'!K7+'2 - Mensuel'!K28+'2 - Mensuel'!K37+'2 - Mensuel'!K45+'2 - Mensuel'!K49+'2 - Mensuel'!K59 -> 23755.62
A13: OCTOBRE | B13: =+'1'!BC17+'2'!BC75 -> 22828.07 | C13: =+'1 - Mensuel'!L17+'2 - Mensuel'!L75 -> 22828.07 | E13: ='1 - Mensuel'!L17+'2 - Mensuel'!L7+'2 - Mensuel'!L28+'2 - Mensuel'!L37+'2 - Mensuel'!L45+'2 - Mensuel'!L49+'2 - Mensuel'!L59 -> 22515.74
A14: NOVEMBRE | B14: =+'1'!BI17+'2'!BI75 -> 28508.56 | C14: =+'1 - Mensuel'!M17+'2 - Mensuel'!M75 -> 28508.56 | E14: ='1 - Mensuel'!M17+'2 - Mensuel'!M7+'2 - Mensuel'!M28+'2 - Mensuel'!M37+'2 - Mensuel'!M45+'2 - Mensuel'!M49+'2 - Mensuel'!M59 -> 28230.59
A15: DÉCEMBRE | B15: =+'1'!BN17+'2'!BN75 -> 24816.03 | C15: =+'1 - Mensuel'!N17+'2 - Mensuel'!N75 -> 24816.03 | E15: ='1 - Mensuel'!N17+'2 - Mensuel'!N7+'2 - Mensuel'!N28+'2 - Mensuel'!N37+'2 - Mensuel'!N45+'2 - Mensuel'!N49+'2 - Mensuel'!N59 -> 24584.55 | F15: ='2 - Mensuel'!O74 -> 4052.77
A16: TOTAL ANNUEL | B16: =SUM(B4:B15) -> 289055.59 | C16: =SUM(C4:C15) -> 289055.59 | E16: =SUM(E4:E15) -> 285002.82 | F16: =B16-E16 -> 4052.77
C17: =+IF(B16=C16,"OK","Erreur") -> OK | F17: =F16-'2 - Mensuel'!O74 -> -3.956302e-11
