Workbook

Sheet 1
A2: SERVICE | BO2: TOTAL ANNUEL
C3: 1 | D3: 2 | E3: 3 | F3: 4 | G3: JANVIER | H3: 5 | I3: 6 | J3: 7 | K3: 8 | L3: FÉVRIER | M3: 9 | N3: 10 | O3: 11 | P3: 12 | Q3: 13 | R3: MARS | S3: 14 | T3: 15 | U3: 16 | V3: 17 | W3: AVRIL | X3: 18 | Y3: 19 | Z3: 20 | AA3: 21 | AB3: MAI | AC3: 22 | AD3: 23 | AE3: 24 | AF3: 25 | AG3: 26 | AH3: JUIN | AI3: 27 | AJ3: 28 | AK3: 29 | AL3: 30 | AM3: JUILLET | AN3: 31 | AO3: 32 | AP3: 33 | AQ3: 34 | AR3: 35 | AS3: AOÛT | AT3: 36 | AU3: 37 | AV3: 38 | AW3: 39 | AX3: SEPTEMBRE | AY3: 40 | AZ3: 41 | BA3: 42 | BB3: 43 | BC3: OCTOBRE | BD3: 44 | BE3: 45 | BF3: 46 | BG3: 47 | BH3: 48 | BI3: NOVEMBRE | BJ3: 49 | BK3: 50 | BL3: 51 | BM3: 52 | BN3: DÉCEMBRE | BP3: Contrôle
A4: 1 | C4: 326.46 | D4: 295.33 | E4: 232.01 | F4: =311.59+28.59 -> 340.18 | G4: =SUM(C4:F4) -> 1193.98 | H4: 375.25 | I4: 358.8 | J4: 196.27 | K4: 327.09 | L4: =SUM(H4:K4) -> 1257.41 | M4: 332.12 | N4: 307.42 | O4: 300.16 | P4: 357.63 | Q4: 191.71 | R4: =SUM(M4:Q4) -> 1489.04 | S4: 281.48 | T4: 227.12 | U4: =344.16+0 -> 344.16 | V4: =279.45+0.28 -> 279.73 | W4: =SUM(S4:V4) -> 1132.49 | X4: 365.45 | Y4: 330.54 | Z4: 379.92 | AA4: 280.71 | AB4: =SUM(X4:AA4) -> 1356.62 | AC4: 307.54 | AD4: 314.38 | AE4: 281.52 | AF4: =254.68+16.97 -> 271.65 | AG4: =354.93+85.76 -> 440.69 | AH4: =SUM(AC4:AG4) -> 1615.78 | AI4: 234.57 | AJ4: =136.43+14.29 -> 150.72 | AK4: 197.55 | AL4: =285.21+19.65 -> 304.86 | AM4: =SUM(AI4:AL4) -> 887.7 | AN4: 234.37 | AO4: 326.63 | AP4: 386.48 | AQ4: 371.42 | AR4: 418.65 | AS4: =SUM(AN4:AR4) -> 1737.55 | AT4: =114.24+399.67 -> 513.91 | AU4: 375 | AV4: =199.61+4.2+134.83 -> 338.64 | AW4: =258.04+19.39 -> 277.43 | AX4: =SUM(AT4:AW4) -> 1504.98 | AY4: 275.45 | AZ4: =240.78+72 -> 312.78 | BA4: 304.43 | BB4: 235.87 | BC4: =SUM(AY4:BB4) -> 1128.53 | BD4: 291.89 | BE4: 286.44 | BF4: 288.89 | BG4: =271.92+14+5.04 -> 290.96 | BH4: =287.19+15.32 -> 302.51 | BI4: =SUM(BD4:BH4) -> 1460.69 | BJ4: 314.55 | BK4: =284.38+42.86 -> 327.24 | BL4: =6.12+280.62+57.14 -> 343.88 | BM4: =282.64+101.54 -> 384.18 | BN4: =SUM(BJ4:BM4) -> 1369.85 | BO4: =+G4+L4+R4+W4+AB4+AH4+AM4+AS4+AX4+BC4+BI4+BN4 -> 16134.62
A5: 2 | C5: 279.65 | D5: =272.03+71.47 -> 343.5 | E5: 201.82 | F5: =241.06+37.71 -> 278.77 | G5: =SUM(C5:F5) -> 1103.74 | H5: =301.25+4.44 -> 305.69 | I5: 254.24 | J5: 263.4 | K5: 353.37 | L5: =SUM(H5:K5) -> 1176.7 | M5: 389.63 | N5: =243.54+28 -> 271.54 | O5: 247.23 | P5: 149.71 | Q5: 266.34 | R5: =SUM(M5:Q5) -> 1324.45 | S5: 334.17 | T5: =234.61+3.2+18 -> 255.81 | U5: =302.93+6.13 -> 309.06 | V5: =310.89+9.62+1.78 -> 322.29 | W5: =SUM(S5:V5) -> 1221.33 | X5: 351.32 | Y5: =15.3+335.71 -> 351.01 | Z5: 390.38 | AA5: 375.58 | AB5: =SUM(X5:AA5) -> 1468.29 | AC5: 273.22 | AD5: 432.13 | AE5: =339.29+28.59 -> 367.88 | AF5: =429.74+20.36 -> 450.1 | AG5: 347.03 | AH5: =SUM(AC5:AG5) -> 1870.36 | AI5: 108.29 | AJ5: =150.98+56.14 -> 207.12 | AK5: =282.42+14.82+80.16 -> 377.4 | AL5: =296.31+59.45 -> 355.76 | AM5: =SUM(AI5:AL5) -> 1048.57 | AN5: 243.9 | AO5: =6.12+339.49 -> 345.61 | AP5: 375.5 | AQ5: =333.37+10.39 -> 343.76 | AR5: 334.88 | AS5: =SUM(AN5:AR5) -> 1643.65 | AT5: =114.24+341.1+43.12 -> 498.46 | AU5: 414.31 | AV5: =389.85+4.2+21.85 -> 415.9 | AW5: 328.79 | AX5: =SUM(AT5:AW5) -> 1657.46 | AY5: 309.61 | AZ5: =252.65+53.82 -> 306.47 | BA5: 396.16 | BB5: =216.16+33.64 -> 249.8 | BC5: =SUM(AY5:BB5) -> 1262.04 | BD5: =271.03+21.44 -> 292.47 | BE5: =163.68+54.39 -> 218.07 | BF5: 314.81 | BG5: 184.72 | BH5: =234.35+14 -> 248.35 | BI5: =SUM(BD5:BH5) -> 1258.42 | BJ5: 272.19 | BK5: =312.83+103.86 -> 416.69 | BL5: =6.46+316.36 -> 322.82 | BM5: =235.59+71.73+1.7 -> 309.02 | BN5: =SUM(BJ5:BM5) -> 1320.72 | BO5: =+G5+L5+R5+W5+AB5+AH5+AM5+AS5+AX5+BC5+BI5+BN5 -> 16355.73
A6: 3 | C6: 145.38 | D6: 116.08 | E6: =89.91+10.78 -> 100.69 | F6: =144.77+257.04+705.6 -> 1107.41 | G6: =SUM(C6:F6) -> 1469.56 | H6: 110.94 | I6: 175.11 | J6: 199.21 | K6: =257.04+705.6+173.88 -> 1136.52 | L6: =SUM(H6:K6) -> 1621.78 | M6: 111.9 | N6: 111.86 | O6: 146.7 | P6: 110.79 | Q6: =321.3+882+113.2 -> 1316.5 | R6: =SUM(M6:Q6) -> 1797.75 | S6: 16.92 | T6: 175.29 | U6: 177.57 | V6: =148.9+257.04+705.6 -> 1111.54 | W6: =SUM(S6:V6) -> 1481.32 | X6: 182.08 | Y6: 123.41 | Z6: 150.09 | AA6: 122.81 | AB6: =SUM(X6:AA6) -> 578.39 | AC6: 115.89 | AD6: 115.21 | AE6: 111.38 | AF6: 105.53 | AG6: =322.32+718.8+181.18 -> 1222.3 | AH6: =SUM(AC6:AG6) -> 1670.31 | AI6: =149.26+12.06 -> 161.32 | AJ6: =102.18+36.6 -> 138.78 | AK6: 104.58 | AL6: =89.35+42.88+354.96+726 -> 1213.19 | AM6: =SUM(AI6:AL6) -> 1617.87 | AN6: 104.56 | AO6: 156.42 | AP6: 132.43 | AQ6: 119.52 | AR6: =443.7+907.5+209.47 -> 1560.67 | AS6: =SUM(AN6:AR6) -> 2073.6 | AT6: 219.91 | AU6: 141.05 | AV6: 198.39 | AW6: =369.24+729.6+144.29+28.58 -> 1271.71 | AX6: =SUM(AT6:AW6) -> 1831.06 | AY6: 153.75 | AZ6: 75.61 | BA6: 185.8 | BB6: =141.77+375.36+730.8 -> 1247.93 | BC6: =SUM(AY6:BB6) -> 1663.09 | BD6: 243.31 | BE6: 112.82 | BF6: 132.31 | BG6: 170.73 | BH6: =515.1+1033.5+121.17+41.99 -> 1711.76 | BI6: =SUM(BD6:BH6) -> 2370.93 | BJ6: 121.26 | BK6: =122+42.86 -> 164.86 | BL6: 162.69 | BM6: =414.12+831.6+137.76+42.86 -> 1426.34 | BN6: =SUM(BJ6:BM6) -> 1875.15 | BO6: =+G6+L6+R6+W6+AB6+AH6+AM6+AS6+AX6+BC6+BI6+BN6 -> 20050.81
A7: 4 | C7: 221.79 | D7: 129.37 | E7: =187.92+14.5 -> 202.42 | F7: 137.02 | G7: =SUM(C7:F7) -> 690.6 | H7: 299.23 | I7: 231.44 | J7: 163.88 | K7: 246.24 | L7: =SUM(H7:K7) -> 940.79 | M7: 263.06 | N7: 95.31 | O7: 145.42 | P7: =154.1+0.5 -> 154.6 | Q7: 142.44 | R7: =SUM(M7:Q7) -> 800.83 | S7: 190.54 | T7: 255.84 | U7: 144.22 | V7: =218.89+0.07 -> 218.96 | W7: =SUM(S7:V7) -> 809.56 | X7: =167.48+21.6 -> 189.08 | Y7: 177.85 | Z7: 188.22 | AA7: =205.6+326.4+882 -> 1414 | AB7: =SUM(X7:AA7) -> 1969.15 | AC7: =259.79+7.5+16.8 -> 284.09 | AD7: 197.07 | AE7: 266.34 | AF7: 195.54 | AG7: 195.58 | AH7: =SUM(AC7:AG7) -> 1138.62 | AI7: 218.62 | AJ7: =113.68+59.09 -> 172.77 | AK7: 265.91 | AL7: =208.59+67.64 -> 276.23 | AM7: =SUM(AI7:AL7) -> 933.53 | AN7: =155.79+11.5 -> 167.29 | AO7: =280.72+7.67 -> 288.39 | AP7: 114.69 | AQ7: 258.67 | AR7: 208.51 | AS7: =SUM(AN7:AR7) -> 1037.55 | AT7: 208.61 | AU7: 310.79 | AV7: 190.47 | AW7: 338.3 | AX7: =SUM(AT7:AW7) -> 1048.17 | AY7: 170.01 | AZ7: 125.03 | BA7: 194.85 | BB7: =82.54+0.6 -> 83.14 | BC7: =SUM(AY7:BB7) -> 573.03 | BD7: =161.83+28.59 -> 190.42 | BE7: 190.31 | BF7: 159.3 | BG7: 140.72 | BH7: =173.69+55.99 -> 229.68 | BI7: =SUM(BD7:BH7) -> 910.43 | BJ7: 163.7 | BK7: 158.57 | BL7: 225.06 | BM7: 123.32 | BN7: =SUM(BJ7:BM7) -> 670.65 | BO7: =+G7+L7+R7+W7+AB7+AH7+AM7+AS7+AX7+BC7+BI7+BN7 -> 11522.91
A8: 5 | C8: 398.63 | D8: 377.41 | E8: 359.76 | F8: 372.03 | G8: =SUM(C8:F8) -> 1507.83 | H8: 401.32 | I8: 361.73 | J8: =391.58+11 -> 402.58 | K8: 448.73 | L8: =SUM(H8:K8) -> 1614.36 | M8: 443.39 | N8: 406.21 | O8: 384.62 | P8: 389.95 | Q8: 405.11 | R8: =SUM(M8:Q8) -> 2029.28 | S8: =347.77+43.2 -> 390.97 | T8: =476.25+52.92 -> 529.17 | U8: 461.83 | V8: 458.45 | W8: =SUM(S8:V8) -> 1840.42 | X8: =451.26+26.46 -> 477.72 | Y8: 476.89 | Z8: =334.39+48.96 -> 383.35 | AA8: 412.63 | AB8: =SUM(X8:AA8) -> 1750.59 | AC8: 387.58 | AD8: =466.55+24.51 -> 491.06 | AE8: =410.03+49.01 -> 459.04 | AF8: 505.89 | AG8: =498.51+23.8+73.52 -> 595.83 | AH8: =SUM(AC8:AG8) -> 2439.4 | AI8: 464.46 | AJ8: =411.54+111.56 -> 523.1 | AK8: 458.76 | AL8: =7.59+366.04+129.7 -> 503.33 | AM8: =SUM(AI8:AL8) -> 1949.65 | AN8: =376.39+23.01 -> 399.4 | AO8: 608.9 | AP8: 612.82 | AQ8: 388.42 | AR8: 615.33 | AS8: =SUM(AN8:AR8) -> 2624.87 | AT8: =418.83+53.9 -> 472.73 | AU8: 647.22 | AV8: =8.64+534.75 -> 543.39 | AW8: =248.74+285.85+20.4 -> 554.99 | AX8: =SUM(AT8:AW8) -> 2218.33 | AY8: =433.33+6 -> 439.33 | AZ8: =330.83+71.4 -> 402.23 | BA8: 451.03 | BB8: 437.81 | BC8: =SUM(AY8:BB8) -> 1730.4 | BD8: =386.74+28.8 -> 415.54 | BE8: =397.77+9.17 -> 406.94 | BF8: 512.15 | BG8: 503.84 | BH8: =4.08+346.52+55.99 -> 406.59 | BI8: =SUM(BD8:BH8) -> 2245.06 | BJ8: 411.97 | BK8: 333.72 | BL8: =359.99+63.36 -> 423.35 | BM8: =291.47+107.35 -> 398.82 | BN8: =SUM(BJ8:BM8) -> 1567.86 | BO8: =+G8+L8+R8+W8+AB8+AH8+AM8+AS8+AX8+BC8+BI8+BN8 -> 23518.05
A9: 6 | C9: 410.09 | D9: 405.15 | E9: 493.9 | F9: =304.21+100.05 -> 404.26 | G9: =SUM(C9:F9) -> 1713.4 | H9: 436.46 | I9: 420.08 | J9: =533.28+11 -> 544.28 | K9: 413.79 | L9: =SUM(H9:K9) -> 1814.61 | M9: 429.76 | N9: =289.97+100.05 -> 390.02 | O9: 471.86 | P9: =437.05+10.08 -> 447.13 | Q9: 411.59 | R9: =SUM(M9:Q9) -> 2150.36 | S9: =503.7+100.05 -> 603.75 | T9: 561.81 | U9: =458.12+100.05 -> 558.17 | V9: 16.2 | W9: =SUM(S9:V9) -> 1739.93 | X9: =365.14+139.06 -> 504.2 | Y9: =43.2+89.38+211.73 -> 344.31 | Z9: =343.49+100.05 -> 443.54 | AA9: 423.05 | AB9: =SUM(X9:AA9) -> 1715.1 | AC9: 445 | AD9: 438.59 | AE9: 452.27 | AF9: =399.13+24.4 -> 423.53 | AG9: =287.85+114.35+8.64 -> 410.84 | AH9: =SUM(AC9:AG9) -> 2170.23 | AI9: 514.3 | AJ9: =279.19+114.35 -> 393.54 | AK9: 485.57 | AL9: =353.56+71.47 -> 425.03 | AM9: =SUM(AI9:AL9) -> 1818.44 | AN9: 397.42 | AO9: =593.31+24.51 -> 617.82 | AP9: 635.74 | AQ9: 384.85 | AR9: 566.07 | AS9: =SUM(AN9:AR9) -> 2601.9 | AT9: =427.18+53.9 -> 481.08 | AU9: =32.4+782.08 -> 814.48 | AV9: 760.8 | AW9: =286.62+185.8 -> 472.42 | AX9: =SUM(AT9:AW9) -> 2528.78 | AY9: 506.67 | AZ9: =352.82+57.12 -> 409.94 | BA9: 490.16 | BB9: 426.53 | BC9: =SUM(AY9:BB9) -> 1833.3 | BD9: =344.89+28.59 -> 373.48 | BE9: =381.65+30.94 -> 412.59 | BF9: =391.11+14.91 -> 406.02 | BG9: 447.29 | BH9: =373.95+118.46 -> 492.41 | BI9: =SUM(BD9:BH9) -> 2131.79 | BJ9: 429.5 | BK9: =543.95+100 -> 643.95 | BL9: =4.08+644.94 -> 649.02 | BM9: =435.72+163.68 -> 599.4 | BN9: =SUM(BJ9:BM9) -> 2321.87 | BO9: =+G9+L9+R9+W9+AB9+AH9+AM9+AS9+AX9+BC9+BI9+BN9 -> 24539.71
A10: 7 | C10: 539.95 | D10: 475.32 | E10: =463.1+2.4 -> 465.5 | F10: 521.54 | G10: =SUM(C10:F10) -> 2002.31 | H10: 434.45 | I10: 289.14 | J10: =517.47+11 -> 528.47 | K10: 373.97 | L10: =SUM(H10:K10) -> 1626.03 | M10: 225.65 | N10: =38.6+340.64+24.51 -> 403.75 | O10: 508.74 | P10: 452.1 | Q10: =609.63+6.13 -> 615.76 | R10: =SUM(M10:Q10) -> 2206 | S10: 617.81 | T10: 611.39 | U10: =282.36+123.54 -> 405.9 | V10: 260.39 | W10: =SUM(S10:V10) -> 1895.49 | X10: =394.32+218.02 -> 612.34 | Y10: =309.77+1.81 -> 311.58 | Z10: 566.63 | AA10: 484.77 | AB10: =SUM(X10:AA10) -> 1975.32 | AC10: =306.79+3.06 -> 309.85 | AD10: 690.12 | AE10: =429.12+12.49 -> 441.61 | AF10: =523.69+40.73 -> 564.42 | AG10: =146.61+53.04 -> 199.65 | AH10: =SUM(AC10:AG10) -> 2205.65 | AI10: 539.07 | AJ10: =148.56+214.4 -> 362.96 | AK10: 348.56 | AL10: =297.94+11.51 -> 309.45 | AM10: =SUM(AI10:AL10) -> 1560.04 | AN10: =410.24+40.81 -> 451.05 | AO10: 912.16 | AP10: =284.88+57.14+0.27 -> 342.29 | AQ10: =762.48+53.67 -> 816.15 | AR10: =15.12+846.27 -> 861.39 | AS10: =SUM(AN10:AR10) -> 3383.04 | AT10: =491.58+299.88 -> 791.46 | AU10: =679.38+43.54 -> 722.92 | AV10: =176.88+61.46 -> 238.34 | AW10: =272.18+233.78 -> 505.96 | AX10: =SUM(AT10:AW10) -> 2258.68 | AY10: =286.18+357.31 -> 643.49 | AZ10: =329.58+178.5 -> 508.08 | BA10: 460.88 | BB10: 500.17 | BC10: =SUM(AY10:BB10) -> 2112.62 | BD10: =434.48+25.23 -> 459.71 | BE10: 565.45 | BF10: =343.76+214.88 -> 558.64 | BG10: 694.05 | BH10: =540.98+153.98 -> 694.96 | BI10: =SUM(BD10:BH10) -> 2972.81 | BJ10: =456.21+22.31 -> 478.52 | BK10: =448.42+315.36 -> 763.78 | BL10: 466.85 | BM10: =177.18+291.42 -> 468.6 | BN10: =SUM(BJ10:BM10) -> 2177.75 | BO10: =+G10+L10+R10+W10+AB10+AH10+AM10+AS10+AX10+BC10+BI10+BN10 -> 26375.74
A11: 8 | C11: 89.34 | D11: 93.06 | E11: 107.22 | F11: =131.58+30 -> 161.58 | G11: =SUM(C11:F11) -> 451.2 | H11: 120.82 | I11: 109.13 | J11: 143.08 | K11: 133.44 | L11: =SUM(H11:K11) -> 506.47 | M11: 134.66 | N11: 122.92 | O11: 76.77 | P11: 40.38 | Q11: =88.7+12.22 -> 100.92 | R11: =SUM(M11:Q11) -> 475.65 | S11: =4.44+125.83+1.27 -> 131.54 | T11: =148.78+6 -> 154.78 | U11: 53.27 | V11: =44.26+0.14+8.28 -> 52.68 | W11: =SUM(S11:V11) -> 392.27 | X11: =105.5+4.44 -> 109.94 | Y11: 103.44 | Z11: 133.21 | AA11: 116.13 | AB11: =SUM(X11:AA11) -> 462.72 | AC11: 140.76 | AD11: 90.94 | AE11: 123.55 | AF11: 122.32 | AG11: 122.71 | AH11: =SUM(AC11:AG11) -> 600.28 | AI11: 108.08 | AJ11: 136.48 | AK11: 34.91 | AL11: 119.51 | AM11: =SUM(AI11:AL11) -> 398.98 | AN11: 92.59 | AO11: =118.46+17.08 -> 135.54 | AP11: =142.89+6.88 -> 149.77 | AQ11: 136.38 | AR11: 96.23 | AS11: =SUM(AN11:AR11) -> 610.51 | AT11: 96.77 | AU11: =116.39+3.85 -> 120.24 | AV11: 39.45 | AW11: 75.3 | AX11: =SUM(AT11:AW11) -> 331.76 | AY11: =128.25+285.6 -> 413.85 | AZ11: 83.79 | BA11: 90.87 | BB11: 136.7 | BC11: =SUM(AY11:BB11) -> 725.21 | BD11: 99.53 | BE11: 104.79 | BF11: =113.03+11.15 -> 124.18 | BG11: =93.11+6.41 -> 99.52 | BH11: 184.35 | BI11: =SUM(BD11:BH11) -> 612.37 | BJ11: 128.3 | BK11: 84.66 | BL11: =114.29+14.29 -> 128.58 | BM11: =129.3+21.63 -> 150.93 | BN11: =SUM(BJ11:BM11) -> 492.47 | BO11: =+G11+L11+R11+W11+AB11+AH11+AM11+AS11+AX11+BC11+BI11+BN11 -> 6059.89
A12: 9 | C12: 25.7 | D12: 18.69 | E12: 21.03 | F12: 20.18 | G12: =SUM(C12:F12) -> 85.6 | H12: 30.69 | I12: 19.12 | J12: 17.45 | K12: 17.85 | L12: =SUM(H12:K12) -> 85.11 | M12: 18.04 | N12: 22.56 | O12: 21.65 | P12: 30.21 | Q12: 20.44 | R12: =SUM(M12:Q12) -> 112.9 | S12: 24.91 | T12: 21.89 | U12: =23.4+0.03 -> 23.43 | V12: 18.19 | W12: =SUM(S12:V12) -> 88.42 | X12: 32.11 | Y12: 20.43 | Z12: 27.06 | AA12: 32.87 | AB12: =SUM(X12:AA12) -> 112.47 | AC12: 22.4 | AD12: 24.94 | AE12: 13.25 | AF12: 25.57 | AG12: 23.01 | AH12: =SUM(AC12:AG12) -> 109.17 | AI12: =26.38+3 -> 29.38 | AJ12: 25.31 | AK12: 18.45 | AL12: 40.67 | AM12: =SUM(AI12:AL12) -> 113.81 | AN12: 8.83 | AO12: =23.46+6.88 -> 30.34 | AP12: 19.8 | AQ12: 25.93 | AR12: 10.65 | AS12: =SUM(AN12:AR12) -> 95.55 | AT12: =15.99+0.96 -> 16.95 | AU12: =49.98+0.6 -> 50.58 | AV12: =28.58+0.68 -> 29.26 | AW12: 19.83 | AX12: =SUM(AT12:AW12) -> 116.62 | AY12: 30.87 | AZ12: 15.99 | BA12: 21.05 | BB12: 29.2 | BC12: =SUM(AY12:BB12) -> 97.11 | BD12: 35.83 | BE12: 18.62 | BF12: 19.3 | BG12: =21.87+6.41 -> 28.28 | BH12: 29.1 | BI12: =SUM(BD12:BH12) -> 131.13 | BJ12: 20.51 | BK12: =33.55+5.29 -> 38.84 | BL12: 24.45 | BM12: 12.73 | BN12: =SUM(BJ12:BM12) -> 96.53 | BO12: =+G12+L12+R12+W12+AB12+AH12+AM12+AS12+AX12+BC12+BI12+BN12 -> 1244.42
A13: 10 | C13: 6.47 | D13: =6.54+3.2 -> 9.74 | E13: 13.57 | F13: 7.57 | G13: =SUM(C13:F13) -> 37.35 | H13: 6.35 | I13: 8.85 | J13: 16.23 | K13: 12.74 | L13: =SUM(H13:K13) -> 44.17 | M13: 3.26 | N13: 23.24 | O13: 13.79 | P13: 13.22 | Q13: 9.03 | R13: =SUM(M13:Q13) -> 62.54 | S13: 11.47 | T13: 10.93 | U13: 4.32 | V13: 6.58 | W13: =SUM(S13:V13) -> 33.3 | X13: 9.76 | Y13: 9.55 | Z13: 7.69 | AA13: 14.37 | AB13: =SUM(X13:AA13) -> 41.37 | AC13: 10.94 | AD13: 12.54 | AE13: 22.31 | AF13: 17.21 | AG13: 6.7 | AH13: =SUM(AC13:AG13) -> 69.7 | AI13: 4.35 | AK13: 12.76 | AL13: 12.52 | AM13: =SUM(AI13:AL13) -> 29.63 | AN13: 4.65 | AQ13: 21.44 | AR13: 10.68 | AS13: =SUM(AN13:AR13) -> 36.77 | AT13: =15.73+0.5 -> 16.23 | AU13: 12.81 | AV13: 13.74 | AW13: =13.13+0.48 -> 13.61 | AX13: =SUM(AT13:AW13) -> 56.39 | AY13: 13.99 | AZ13: 10.5 | BA13: 18.64 | BB13: 12.04 | BC13: =SUM(AY13:BB13) -> 55.17 | BD13: 17.08 | BE13: 4.02 | BF13: 13.02 | BG13: =16.5+4.27 -> 20.77 | BH13: 7.77 | BI13: =SUM(BD13:BH13) -> 62.66 | BJ13: 15.7 | BK13: 11.51 | BL13: 12.61 | BM13: 11.58 | BN13: =SUM(BJ13:BM13) -> 51.4 | BO13: =+G13+L13+R13+W13+AB13+AH13+AM13+AS13+AX13+BC13+BI13+BN13 -> 580.45
A14: 11 | C14: 18.38 | D14: 29.28 | E14: 11.82 | F14: 46.84 | G14: =SUM(C14:F14) -> 106.32 | I14: =51.29+1.68 -> 52.97 | L14: =SUM(H14:K14) -> 52.97 | M14: 27.95 | N14: 16.94 | P14: =27.58+3.06 -> 30.64 | R14: =SUM(M14:Q14) -> 75.53 | T14: 33.25 | U14: 13.04 | W14: =SUM(S14:V14) -> 46.29 | Z14: =82.24+42.88 -> 125.12 | AB14: =SUM(X14:AA14) -> 125.12 | AC14: 21.06 | AE14: 49.38 | AH14: =SUM(AC14:AG14) -> 70.44 | AI14: 79.71 | AJ14: =57.34+14.29+12.06 -> 83.69 | AK14: 34.13 | AL14: 16.15 | AM14: =SUM(AI14:AL14) -> 213.68 | AN14: 63.21 | AO14: 50.76 | AP14: 42.27 | AQ14: 16.8 | AR14: 53.46 | AS14: =SUM(AN14:AR14) -> 226.5 | AT14: =51.58+16.8 -> 68.38 | AV14: =25.2+114.04+8.05 -> 147.29 | AW14: 16.8 | AX14: =SUM(AT14:AW14) -> 232.47 | AY14: =16.8+81.62 -> 98.42 | AZ14: 29.19 | BA14: =44.01+16.5 -> 60.51 | BB14: =21+4.94+16.5 -> 42.44 | BC14: =SUM(AY14:BB14) -> 230.56 | BE14: =33+87.28 -> 120.28 | BF14: =17.4+87.63 -> 105.03 | BG14: =17.4+98.68+14 -> 130.08 | BH14: =21+27.96 -> 48.96 | BI14: =SUM(BD14:BH14) -> 404.35 | BJ14: =80.78+23.2 -> 103.98 | BK14: =16.98+14.29+28.12 -> 59.39 | BL14: 17.7 | BM14: =29.5+30.26 -> 59.76 | BN14: =SUM(BJ14:BM14) -> 240.83 | BO14: =+G14+L14+R14+W14+AB14+AH14+AM14+AS14+AX14+BC14+BI14+BN14 -> 2025.06
A15: 12 | G15: =SUM(C15:F15) -> 0 | L15: =SUM(H15:K15) -> 0 | R15: =SUM(M15:Q15) -> 0 | W15: =SUM(S15:V15) -> 0 | AB15: =SUM(X15:AA15) -> 0 | AH15: =SUM(AC15:AG15) -> 0 | AM15: =SUM(AI15:AL15) -> 0 | AS15: =SUM(AN15:AR15) -> 0 | AX15: =SUM(AT15:AW15) -> 0 | BC15: =SUM(AY15:BB15) -> 0 | BI15: =SUM(BD15:BH15) -> 0 | BN15: =SUM(BJ15:BM15) -> 0 | BO15: =+G15+L15+R15+W15+AB15+AH15+AM15+AS15+AX15+BC15+BI15+BN15 -> 0
A16: 13 | G16: =SUM(C16:F16) -> 0 | L16: =SUM(H16:K16) -> 0 | R16: =SUM(M16:Q16) -> 0 | W16: =SUM(S16:V16) -> 0 | AB16: =SUM(X16:AA16) -> 0 | AH16: =SUM(AC16:AG16) -> 0 | AM16: =SUM(AI16:AL16) -> 0 | AS16: =SUM(AN16:AR16) -> 0 | AX16: =SUM(AT16:AW16) -> 0 | BC16: =SUM(AY16:BB16) -> 0 | BI16: =SUM(BD16:BH16) -> 0 | BN16: =SUM(BJ16:BM16) -> 0 | BO16: =+G16+L16+R16+W16+AB16+AH16+AM16+AS16+AX16+BC16+BI16+BN16 -> 0
A17: TOTAL MENSUEL | G17: =SUM(G4:G16) -> 10361.89 | L17: =SUM(L4:L16) -> 10740.4 | R17: =SUM(R4:R16) -> 12524.33 | W17: =SUM(W4:W16) -> 10680.82 | AB17: =SUM(AB4:AB16) -> 11555.14 | AH17: =SUM(AH4:AH16) -> 13959.94 | AM17: =SUM(AM4:AM16) -> 10571.9 | AS17: =SUM(AS4:AS16) -> 16071.49 | AX17: =SUM(AX4:AX16) -> 13784.7 | BC17: =SUM(BC4:BC16) -> 11411.06 | BI17: =SUM(BI4:BI16) -> 14560.64 | BN17: =SUM(BN4:BN16) -> 12185.08 | BO17: =SUM(BO4:BO16) -> 148407.39 | BP17: =+G17+L17+R17+W17+AB17+AH17+AM17+AS17+AX17+BC17+BI17+BN17 -> 148407.39
BP18: =+IF(BO17=BP17,"OK","Erreur") -> OK

Sheet 2
A2: SERVICE | BO2: TOTAL ANNUEL
C3: 1 | D3: 2 | E3: 3 | F3: 4 | G3: JANVIER | H3: 5 | I3: 6 | J3: 7 | K3: 8 | L3: FÉVRIER | M3: 9 | N3: 10 | O3: 11 | P3: 12 | Q3: 13 | R3: MARS | S3: 14 | T3: 15 | U3: 16 | V3: 17 | W3: AVRIL | X3: 18 | Y3: 19 | Z3: 20 | AA3: 21 | AB3: MAI | AC3: 22 | AD3: 23 | AE3: 24 | AF3: 25 | AG3: 26 | AH3: JUIN | AI3: 27 | AJ3: 28 | AK3: 29 | AL3: 30 | AM3: JUILLET | AN3: 31 | AO3: 32 | AP3: 33 | AQ3: 34 | AR3: 35 | AS3: AOÛT | AT3: 36 | AU3: 37 | AV3: 38 | AW3: 39 | AX3: SEPTEMBRE | AY3: 40 | AZ3: 41 | BA3: 42 | BB3: 43 | BC3: OCTOBRE | BD3: 44 | BE3: 45 | BF3: 46 | BG3: 47 | BH3: 48 | BI3: NOVEMBRE | BJ3: 49 | BK3: 50 | BL3: 51 | BM3: 52 | BN3: DÉCEMBRE | BP3: Contrôle
A4: A1 | C4: 106.76 | D4: 110.77 | E4: 70.9 | F4: =69.45+105.84 -> 175.29 | G4: =SUM(C4:F4) -> 463.72 | H4: 146.86 | I4: 51.96 | J4: 116.02 | K4: =94.08+150.65 -> 244.73 | L4: =SUM(H4:K4) -> 559.57 | M4: 105.37 | N4: 91.83 | O4: 60.19 | P4: 125.04 | Q4: =105.84+141.4 -> 247.24 | R4: =SUM(M4:Q4) -> 629.67 | S4: 108.23 | T4: 65.71 | U4: 131.4 | V4: =106.13+105.84 -> 211.97 | W4: =SUM(S4:V4) -> 517.31 | X4: 67.91 | Y4: 98.95 | Z4: 122.53 | AA4: =133.26+105.84 -> 239.1 | AB4: =SUM(X4:AA4) -> 528.49 | AC4: 135.32 | AD4: 143.03 | AE4: 73.82 | AF4: 64.44 | AG4: =95.84+104.79 -> 200.63 | AH4: =SUM(AC4:AG4) -> 617.24 | AI4: 141.77 | AJ4: 134.33 | AK4: 81.99 | AL4: =133.19+5.27+108.9 -> 247.36 | AM4: =SUM(AI4:AL4) -> 605.45 | AN4: =67.29+15.36 -> 82.65 | AO4: =130.62+4.8 -> 135.42 | AP4: 89.51 | AQ4: 115.37 | AR4: =108.9+132.93 -> 241.83 | AS4: =SUM(AN4:AR4) -> 664.78 | AT4: 140.62 | AU4: 150.4 | AV4: =102.94+3.6 -> 106.54 | AW4: =97.28+66.31 -> 163.59 | AX4: =SUM(AT4:AW4) -> 561.15 | AY4: 97.63 | AZ4: 101.56 | BA4: 170.37 | BB4: =132.41+109.62 -> 242.03 | BC4: =SUM(AY4:BB4) -> 611.59 | BD4: 40.82 | BE4: 59.06 | BF4: 130.35 | BG4: 128.68 | BH4: =124.02+56.37 -> 180.39 | BI4: =SUM(BD4:BH4) -> 539.3 | BJ4: 145.85 | BK4: 110.45 | BL4: =125.51+48.56 -> 174.07 | BM4: =145.87+124.74 -> 270.61 | BN4: =SUM(BJ4:BM4) -> 700.98 | BO4: =+G4+L4+R4+W4+AB4+AH4+AM4+AS4+AX4+BC4+BI4+BN4 -> 6999.25 | BP4: =+BO4 -> 6999.25
A5: A2 | C5: 90.37 | D5: 97.59 | E5: 130.16 | F5: =62.32+105.84 -> 168.16 | G5: =SUM(C5:F5) -> 486.28 | H5: 48.28 | I5: 69.47 | J5: 105.56 | K5: =94.08+62.17 -> 156.25 | L5: =SUM(H5:K5) -> 379.56 | M5: 97.6 | N5: 78.68 | O5: 74.82 | P5: 60 | Q5: =105.84+71.38 -> 177.22 | R5: =SUM(M5:Q5) -> 488.32 | S5: =90.93+18.24 -> 109.17 | T5: 62.17 | U5: 88.51 | V5: =64.58+10.08+105.84 -> 180.5 | W5: =SUM(S5:V5) -> 440.35 | X5: 92 | Y5: 75.47 | Z5: 103.18 | AA5: =83.54+105.84 -> 189.38 | AB5: =SUM(X5:AA5) -> 460.03 | AC5: 104.96 | AD5: 60.79 | AE5: 91.92 | AF5: 43.87 | AG5: =95.84+95.16 -> 191 | AH5: =SUM(AC5:AG5) -> 492.54 | AI5: 119.5 | AJ5: 41.3 | AK5: 100.26 | AL5: =32.98+108.9 -> 141.88 | AM5: =SUM(AI5:AL5) -> 402.94 | AN5: =69.89+11.52 -> 81.41 | AO5: 52.39 | AP5: 107.42 | AQ5: 51.53 | AR5: =108.9+63.21 -> 172.11 | AS5: =SUM(AN5:AR5) -> 464.86 | AT5: 54.62 | AU5: =112+8.64 -> 120.64 | AV5: 107.38 | AW5: 97.28 | AX5: =SUM(AT5:AW5) -> 379.92 | AY5: 118.83 | AZ5: 74.45 | BA5: 119.82 | BB5: =61.66+109.62 -> 171.28 | BC5: =SUM(AY5:BB5) -> 484.38 | BD5: 123.42 | BE5: 34.38 | BF5: 112.31 | BG5: 45.71 | BH5: =124.02+65.16 -> 189.18 | BI5: =SUM(BD5:BH5) -> 505 | BJ5: 98.59 | BK5: 116.65 | BL5: 132.63 | BM5: =49.65+6.63+124.74 -> 181.02 | BN5: =SUM(BJ5:BM5) -> 528.89 | BO5: =+G5+L5+R5+W5+AB5+AH5+AM5+AS5+AX5+BC5+BI5+BN5 -> 5513.07 | BP5: =+BO5 -> 5513.07
A6: A3 | C6: 78.36 | D6: =74.54+2.38 -> 76.92 | E6: =73.32+10.78 -> 84.1 | F6: =100.39+10.08+52.92 -> 163.39 | G6: =SUM(C6:F6) -> 402.77 | H6: 47.29 | I6: 46.23 | J6: 125.37 | K6: =10.08+47.04+66.86 -> 123.98 | L6: =SUM(H6:K6) -> 342.87 | M6: 119.16 | N6: 48.25 | O6: 84.24 | P6: 77.01 | Q6: =12.6+52.92+48.84 -> 114.36 | R6: =SUM(M6:Q6) -> 443.02 | S6: =127.11+8.16 -> 135.27 | T6: 17.8 | V6: =67.24+10.08+23.52 -> 100.84 | W6: =SUM(S6:V6) -> 253.91 | Y6: =102.78+1.81 -> 104.59 | Z6: 98.82 | AA6: =80.15+12.8+29.4 -> 122.35 | AB6: =SUM(X6:AA6) -> 325.76 | AC6: 48.44 | AD6: 45.51 | AE6: 46.55 | AF6: 30.94 | AG6: =12.64+23.96+74.66 -> 111.26 | AH6: =SUM(AC6:AG6) -> 282.7 | AJ6: 67.75 | AL6: =6.96+12.1 -> 19.06 | AM6: =SUM(AI6:AL6) -> 86.81 | AR6: 51.24 | AS6: =SUM(AN6:AR6) -> 51.24 | AT6: 30.4 | AU6: 34.5 | AV6: =123.63+24.1+8.4 -> 156.13 | AW6: =14.48+24.32+46.83 -> 85.63 | AX6: =SUM(AT6:AW6) -> 306.66 | AZ6: 72.23 | BA6: 16.99 | BB6: =112.6+14.72+24.36 -> 151.68 | BC6: =SUM(AY6:BB6) -> 240.9 | BD6: =68.3+2.1 -> 70.4 | BE6: 41.31 | BF6: 29.95 | BG6: 99.1 | BH6: =20.2+34.45+95.14 -> 149.79 | BI6: =SUM(BD6:BH6) -> 390.55 | BJ6: 60.24 | BK6: 52.32 | BL6: =1.3+34.79 -> 36.09 | BM6: =113.54+3.59+27.72+16.24 -> 161.09 | BN6: =SUM(BJ6:BM6) -> 309.74 | BO6: =+G6+L6+R6+W6+AB6+AH6+AM6+AS6+AX6+BC6+BI6+BN6 -> 3436.93 | BP6: =+BO6 -> 3436.93
A7: Total A | G7: =SUM(G4:G6) -> 1352.77 | L7: =SUM(L4:L6) -> 1282 | R7: =SUM(R4:R6) -> 1561.01 | W7: =SUM(W4:W6) -> 1211.57 | AB7: =SUM(AB4:AB6) -> 1314.28 | AH7: =SUM(AH4:AH6) -> 1392.48 | AM7: =SUM(AM4:AM6) -> 1095.2 | AS7: =SUM(AS4:AS6) -> 1180.88 | AX7: =SUM(AX4:AX6) -> 1247.73 | BC7: =SUM(BC4:BC6) -> 1336.87 | BI7: =SUM(BI4:BI6) -> 1434.85 | BN7: =SUM(BN4:BN6) -> 1539.61 | BO7: =SUM(BO4:BO6) -> 15949.25
A8: B1 | C8: 103.88 | D8: =109.91+1.16 -> 111.07 | E8: 138.01 | F8: =128.82+52.92 -> 181.74 | G8: =SUM(C8:F8) -> 534.7 | H8: 91.99 | I8: =130.02+2.31 -> 132.33 | J8: 31.39 | K8: =47.04+39.92 -> 86.96 | L8: =SUM(H8:K8) -> 342.67 | M8: =81.17+6.6 -> 87.77 | N8: =97.44+3.5 -> 100.94 | O8: =94.9+2.53+1.2 -> 98.63 | P8: =157.21+0.23 -> 157.44 | Q8: =52.92+159.17+2.51 -> 214.6 | R8: =SUM(M8:Q8) -> 659.38 | S8: 138.84 | T8: =159.39+3.2 -> 162.59 | U8: 38.48 | V8: =44.04+0.28+4.2+52.92 -> 101.44 | W8: =SUM(S8:V8) -> 441.35 | X8: 124.86 | Y8: 107.03 | Z8: 43.8 | AA8: =122.89+52.92 -> 175.81 | AB8: =SUM(X8:AA8) -> 451.5 | AC8: 35.11 | AD8: 89.2 | AE8: 33.29 | AF8: 110.83 | AG8: =47.92+26.72 -> 74.64 | AH8: =SUM(AC8:AG8) -> 343.07 | AI8: 105.37 | AJ8: 123.45 | AK8: 123.12 | AL8: =73.81+11.2+54.45 -> 139.46 | AM8: =SUM(AI8:AL8) -> 491.4 | AN8: 45.24 | AO8: =59.53+4.08 -> 63.61 | AP8: 72.8 | AQ8: 39.46 | AR8: =54.45+104.24 -> 158.69 | AS8: =SUM(AN8:AR8) -> 379.8 | AT8: 93.25 | AU8: 30.52 | AV8: 47.14 | AW8: =48.64+63.84 -> 112.48 | AX8: =SUM(AT8:AW8) -> 283.39 | AY8: 130.18 | AZ8: =90.78+5.82 -> 96.6 | BA8: =135.8+4 -> 139.8 | BB8: =82.43+54.81 -> 137.24 | BC8: =SUM(AY8:BB8) -> 503.82 | BD8: 79.38 | BE8: 97.33 | BF8: =70.98+2 -> 72.98 | BG8: =102.8+9+1.71 -> 113.51 | BH8: =62.01+101.78+1.6+8.16 -> 173.55 | BI8: =SUM(BD8:BH8) -> 536.75 | BJ8: 119.16 | BK8: 102.7 | BL8: 148.16 | BM8: =60.39+62.37 -> 122.76 | BN8: =SUM(BJ8:BM8) -> 492.78 | BO8: =+G8+L8+R8+W8+AB8+AH8+AM8+AS8+AX8+BC8+BI8+BN8 -> 5460.61 | BP8: =+BO8 -> 5460.61
A9: B2 | C9: =57.98+5.23 -> 63.21 | D9: 117.13 | E9: 94.18 | F9: =117.67+105.84 -> 223.51 | G9: =SUM(C9:F9) -> 498.03 | H9: 118.22 | I9: 113.05 | J9: =106.95+0 -> 106.95 | K9: =94.08+87.16 -> 181.24 | L9: =SUM(H9:K9) -> 519.46 | M9: =136.57+3.94+6 -> 146.51 | N9: =149.35+13.5 -> 162.85 | O9: 138.9 | P9: 117.92 | Q9: =105.84+178.72+13.48 -> 298.04 | R9: =SUM(M9:Q9) -> 864.22 | S9: 117.12 | T9: 128.32 | U9: =77.9+4.63 -> 82.53 | V9: =56.53+0.57+2.8+105.84 -> 165.74 | W9: =SUM(S9:V9) -> 493.71 | X9: =65.94+2.68 -> 68.62 | Y9: =104.38+2.8 -> 107.18 | Z9: 90.27 | AA9: =116.93+105.84 -> 222.77 | AB9: =SUM(X9:AA9) -> 488.84 | AC9: 180.64 | AD9: =90.65+9.36 -> 100.01 | AE9: 68.82 | AF9: 47.71 | AG9: =95.84+110.31 -> 206.15 | AH9: =SUM(AC9:AG9) -> 603.33 | AI9: 81.7 | AJ9: =119.74+3.31 -> 123.05 | AK9: 96.42 | AL9: =135.67+21.05+108.9 -> 265.62 | AM9: =SUM(AI9:AL9) -> 566.79 | AN9: =102.22+5.44 -> 107.66 | AO9: =6.56+127.5+6.12 -> 140.18 | AP9: 115.04 | AQ9: =75.59+6.8 -> 82.39 | AR9: =108.9+105.06 -> 213.96 | AS9: =SUM(AN9:AR9) -> 659.23 | AT9: 120.41 | AU9: =126.31+10.56 -> 136.87 | AV9: =67.93+7.2 -> 75.13 | AW9: =97.28+5.44+139.67 -> 242.39 | AX9: =SUM(AT9:AW9) -> 574.8 | AY9: 41.52 | AZ9: =96.09+7.77 -> 103.86 | BA9: =94.04+5.76 -> 99.8 | BB9: =140.72+4.8+109.62 -> 255.14 | BC9: =SUM(AY9:BB9) -> 500.32 | BD9: 119.07 | BE9: =118.6+6 -> 124.6 | BF9: =124.47+2.4 -> 126.87 | BG9: 129.17 | BH9: =124.02+8.16+165.39+2.4 -> 299.97 | BI9: =SUM(BD9:BH9) -> 799.68 | BJ9: 112.01 | BK9: 76.34 | BL9: 145.85 | BM9: =58.1+124.74 -> 182.84 | BN9: =SUM(BJ9:BM9) -> 517.04 | BO9: =+G9+L9+R9+W9+AB9+AH9+AM9+AS9+AX9+BC9+BI9+BN9 -> 7085.45 | BP9: =+BO9 -> 7085.45
A10: B3 | G10: =SUM(C10:F10) -> 0 | L10: =SUM(H10:K10) -> 0 | N10: 10.45 | Q10: 15.31 | R10: =SUM(M10:Q10) -> 25.76 | U10: 16.31 | W10: =SUM(S10:V10) -> 16.31 | Y10: 10.55 | AB10: =SUM(X10:AA10) -> 10.55 | AC10: 13.82 | AG10: 13.92 | AH10: =SUM(AC10:AG10) -> 27.74 | AK10: 12.96 | AM10: =SUM(AI10:AL10) -> 12.96 | AN10: 14.4 | AS10: =SUM(AN10:AR10) -> 14.4 | AV10: =15.02+3 -> 18.02 | AX10: =SUM(AT10:AW10) -> 18.02 | AZ10: 8.19 | BA10: 9.08 | BC10: =SUM(AY10:BB10) -> 17.27 | BG10: 9.1 | BI10: =SUM(BD10:BH10) -> 9.1 | BL10: 26.79 | BN10: =SUM(BJ10:BM10) -> 26.79 | BO10: =+G10+L10+R10+W10+AB10+AH10+AM10+AS10+AX10+BC10+BI10+BN10 -> 178.9 | BP10: =+BO10 -> 178.9
A11: B4 | G11: =SUM(C11:F11) -> 0 | L11: =SUM(H11:K11) -> 0 | R11: =SUM(M11:Q11) -> 0 | W11: =SUM(S11:V11) -> 0 | AB11: =SUM(X11:AA11) -> 0 | AH11: =SUM(AC11:AG11) -> 0 | AM11: =SUM(AI11:AL11) -> 0 | AS11: =SUM(AN11:AR11) -> 0 | AT11: 1.94 | AW11: 3.46 | AX11: =SUM(AT11:AW11) -> 5.4 | BC11: =SUM(AY11:BB11) -> 0 | BD11: 1.94 | BI11: =SUM(BD11:BH11) -> 1.94 | BN11: =SUM(BJ11:BM11) -> 0 | BO11: =+G11+L11+R11+W11+AB11+AH11+AM11+AS11+AX11+BC11+BI11+BN11 -> 7.34 | BP11: =+BO11 -> 7.34
A12: B5 | C12: 18.48 | E12: 14.05 | F12: =15.24+34.02 -> 49.26 | G12: =SUM(C12:F12) -> 81.79 | H12: 33.52 | I12: 21.83 | J12: 33.17 | K12: =30.24+61.09 -> 91.33 | L12: =SUM(H12:K12) -> 179.85 | M12: =23.27+2.5 -> 25.77 | N12: 68.52 | O12: 37.15 | Q12: =34.02+59.56 -> 93.58 | R12: =SUM(M12:Q12) -> 225.02 | S12: 19.62 | T12: 37.77 | U12: 16.32 | V12: =24.68+0.06+34.02 -> 58.76 | W12: =SUM(S12:V12) -> 132.47 | X12: 24.91 | Z12: =7.65+5.39 -> 13.04 | AA12: =37.81+34.56 -> 72.37 | AB12: =SUM(X12:AA12) -> 110.32 | AC12: 20.57 | AD12: 68.08 | AF12: 17.75 | AG12: =37.92+16.49 -> 54.41 | AH12: =SUM(AC12:AG12) -> 160.81 | AI12: 34.65 | AJ12: 34.89 | AK12: 22.83 | AL12: =34.9+46.98 -> 81.88 | AM12: =SUM(AI12:AL12) -> 174.25 | AN12: 34.59 | AO12: 68.9 | AP12: 28.05 | AQ12: 8.16 | AR12: =46.98+25.53 -> 72.51 | AS12: =SUM(AN12:AR12) -> 212.21 | AT12: 22.4 | AU12: 28.32 | AV12: 34.07 | AW12: =43.44+23.76 -> 67.2 | AX12: =SUM(AT12:AW12) -> 151.99 | AY12: 28.7 | BA12: 67.84 | BB12: =19.82+49.68 -> 69.5 | BC12: =SUM(AY12:BB12) -> 166.04 | BD12: 30.21 | BE12: 24.32 | BF12: 27.67 | BG12: 20.67 | BH12: =54.54+60.4 -> 114.94 | BI12: =SUM(BD12:BH12) -> 217.81 | BJ12: 87.72 | BK12: =75.99+7.94 -> 83.93 | BL12: 81.86 | BM12: =20.75+54.81 -> 75.56 | BN12: =SUM(BJ12:BM12) -> 329.07 | BO12: =+G12+L12+R12+W12+AB12+AH12+AM12+AS12+AX12+BC12+BI12+BN12 -> 2141.63 | BP12: =+BO12 -> 2141.63
A13: B6 | C13: 102.53 | D13: 97.16 | E13: 105.11 | F13: =94.28+105.84 -> 200.12 | G13: =SUM(C13:F13) -> 504.92 | H13: 112.26 | I13: 80.78 | J13: 112.98 | K13: =94.08+104.49 -> 198.57 | L13: =SUM(H13:K13) -> 504.59 | M13: 111.06 | N13: 80.18 | O13: 110.28 | P13: 116.25 | Q13: =105.84+122.29 -> 228.13 | R13: =SUM(M13:Q13) -> 645.9 | S13: 124.97 | T13: 100.62 | U13: 112.01 | V13: =107.43+2.84+105.84 -> 216.11 | W13: =SUM(S13:V13) -> 553.71 | X13: 109.9 | Y13: 63.51 | Z13: 109.83 | AA13: =95.86+105.84 -> 201.7 | AB13: =SUM(X13:AA13) -> 484.94 | AD13: =104.1+4.8 -> 108.9 | AE13: =116.8+28.52 -> 145.32 | AF13: 110.7 | AG13: =95.84+108.35 -> 204.19 | AH13: =SUM(AC13:AG13) -> 569.11 | AI13: 140.46 | AJ13: 85.46 | AK13: 122.46 | AL13: =94.47+10.54+108.9 -> 213.91 | AM13: =SUM(AI13:AL13) -> 562.29 | AN13: 95.41 | AO13: =87.41+4.8 -> 92.21 | AP13: 106.97 | AQ13: 94.73 | AR13: =108.9+151.83 -> 260.73 | AS13: =SUM(AN13:AR13) -> 650.05 | AT13: 33.26 | AU13: =100.94+6 -> 106.94 | AV13: 95.82 | AW13: =97.28+55.4 -> 152.68 | AX13: =SUM(AT13:AW13) -> 388.7 | AY13: 105.76 | AZ13: 86.05 | BA13: 120.92 | BB13: =115.87+109.62 -> 225.49 | BC13: =SUM(AY13:BB13) -> 538.22 | BD13: 64.93 | BE13: 101.22 | BF13: 107.1 | BG13: =112.09+6 -> 118.09 | BH13: =124.02+108.45 -> 232.47 | BI13: =SUM(BD13:BH13) -> 623.81 | BJ13: =103.5+4.41 -> 107.91 | BK13: 106.57 | BL13: 113.9 | BM13: =134.33+2.84+124.74 -> 261.91 | BN13: =SUM(BJ13:BM13) -> 590.29 | BO13: =+G13+L13+R13+W13+AB13+AH13+AM13+AS13+AX13+BC13+BI13+BN13 -> 6616.53 | BP13: =+BO13 -> 6616.53
A14: B7 | G14: =SUM(C14:F14) -> 0 | L14: =SUM(H14:K14) -> 0 | R14: =SUM(M14:Q14) -> 0 | W14: =SUM(S14:V14) -> 0 | AB14: =SUM(X14:AA14) -> 0 | AH14: =SUM(AC14:AG14) -> 0 | AM14: =SUM(AI14:AL14) -> 0 | AS14: =SUM(AN14:AR14) -> 0 | AX14: =SUM(AT14:AW14) -> 0 | BC14: =SUM(AY14:BB14) -> 0 | BI14: =SUM(BD14:BH14) -> 0 | BN14: =SUM(BJ14:BM14) -> 0 | BO14: =+G14+L14+R14+W14+AB14+AH14+AM14+AS14+AX14+BC14+BI14+BN14 -> 0 | BP14: =+BO14 -> 0
A15: B8 | C15: 137.05 | D15: =112.59+5.79 -> 118.38 | E15: 77.26 | F15: =71.56+158.76 -> 230.32 | G15: =SUM(C15:F15) -> 563.01 | H15: 153.72 | I15: =70.39+5.79 -> 76.18 | J15: =71.11+2.31 -> 73.42 | K15: =141.12+114.66 -> 255.78 | L15: =SUM(H15:K15) -> 559.1 | M15: 157.35 | N15: 102.97 | O15: 93.99 | P15: 57.5 | Q15: =158.76+112.34 -> 271.1 | R15: =SUM(M15:Q15) -> 682.91 | S15: 159.52 | T15: 119.36 | U15: 88.78 | V15: =106.76+0.28+158.76 -> 265.8 | W15: =SUM(S15:V15) -> 633.46 | X15: 94.33 | Y15: =151.88+5.79+2.39 -> 160.06 | Z15: 101.92 | AA15: =156.26+158.76 -> 315.02 | AB15: =SUM(X15:AA15) -> 671.33 | AC15: 117.82 | AD15: 103.74 | AE15: =142.25+8.51 -> 150.76 | AF15: 99.85 | AG15: =143.76+145.96 -> 289.72 | AH15: =SUM(AC15:AG15) -> 761.89 | AI15: 87.69 | AJ15: =162.37+3.31+0.68 -> 166.36 | AK15: =130.28+0.68 -> 130.96 | AL15: =87.65+5.27+163.35 -> 256.27 | AM15: =SUM(AI15:AL15) -> 641.28 | AN15: 126.03 | AO15: 102.12 | AP15: =129.96+8.51 -> 138.47 | AQ15: 160.54 | AR15: =163.35+133.68+3.6 -> 300.63 | AS15: =SUM(AN15:AR15) -> 827.79 | AT15: 83.48 | AU15: =101.98+3.96 -> 105.94 | AV15: 160.17 | AW15: =145.92+128.58 -> 274.5 | AX15: =SUM(AT15:AW15) -> 624.09 | AY15: 101.21 | AZ15: 153.62 | BA15: 89.67 | BB15: =141.91+8.51+164.43 -> 314.85 | BC15: =SUM(AY15:BB15) -> 659.35 | BD15: =71.08+8.51 -> 79.59 | BE15: =124.17+1.7 -> 125.87 | BF15: =105.8+5.11 -> 110.91 | BG15: =96.12+2.56+44.35 -> 143.03 | BH15: =186.03+145.25+1.19 -> 332.47 | BI15: =SUM(BD15:BH15) -> 791.87 | BJ15: 109.86 | BK15: =157.34+1.54 -> 158.88 | BL15: 160.06 | BM15: =4.16+119.08+1.24+187.11 -> 311.59 | BN15: =SUM(BJ15:BM15) -> 740.39 | BO15: =+G15+L15+R15+W15+AB15+AH15+AM15+AS15+AX15+BC15+BI15+BN15 -> 8156.47 | BP15: =+BO15 -> 8156.47
A16: B9 | G16: =SUM(C16:F16) -> 0 | L16: =SUM(H16:K16) -> 0 | R16: =SUM(M16:Q16) -> 0 | W16: =SUM(S16:V16) -> 0 | AB16: =SUM(X16:AA16) -> 0 | AH16: =SUM(AC16:AG16) -> 0 | AM16: =SUM(AI16:AL16) -> 0 | AS16: =SUM(AN16:AR16) -> 0 | AX16: =SUM(AT16:AW16) -> 0 | BC16: =SUM(AY16:BB16) -> 0 | BI16: =SUM(BD16:BH16) -> 0 | BN16: =SUM(BJ16:BM16) -> 0 | BO16: =+G16+L16+R16+W16+AB16+AH16+AM16+AS16+AX16+BC16+BI16+BN16 -> 0 | BP16: =+BO16 -> 0
A17: B10 | C17: =81.13+28.54+160.02 -> 269.69 | D17: =78.81+154.26+1.16 -> 234.23 | E17: =154.93+42.97 -> 197.9 | F17: =141.63+110.64+129.36 -> 381.63 | G17: =SUM(C17:F17) -> 1083.45 | H17: =57.37+135.87 -> 193.24 | I17: =91.14+110.28 -> 201.42 | J17: =139.42+114.35+1.74 -> 255.51 | K17: =117.6+104.78+39.68 -> 262.06 | L17: =SUM(H17:K17) -> 912.23 | M17: =154.98+139.7 -> 294.68 | N17: =122.26+147.28 -> 269.54 | O17: =71.6+38.35+78.22+2.11+45.55 -> 235.83 | P17: =79.62+153.95+1.16 -> 234.73 | Q17: =135.24+140.69+164.52 -> 440.45 | R17: =SUM(M17:Q17) -> 1475.23 | S17: =101.21+143.27 -> 244.48 | T17: =88.75+137.46+5.76 -> 231.97 | U17: =40.82+1.42+138 -> 180.24 | V17: =164.14+1.72+121.8+1.42+129.36 -> 418.44 | W17: =SUM(S17:V17) -> 1075.13 | X17: =164.29+1.16+0.77+95.3+1.16 -> 262.68 | Y17: =89.83+1.16+129.69 -> 220.68 | Z17: =131.41+53.53 -> 184.94 | AA17: =126.06+83.16+1.62+135.24 -> 346.08 | AB17: =SUM(X17:AA17) -> 1014.38 | AC17: =49.97+150.66+2 -> 202.63 | AD17: =178.71+1.24+91.93+1.24 -> 273.12 | AE17: =106.8+2.38+165.57+0.85 -> 275.6 | AF17: =130.88+38.47 -> 169.35 | AG17: =119.8+135.4+15.35+84.38+4 -> 358.93 | AH17: =SUM(AC17:AG17) -> 1279.63 | AI17: =73.6+111.44 -> 185.04 | AJ17: =96.54+6.5+100.63 -> 203.67 | AK17: =91.11+104.51+59.76 -> 255.38 | AL17: =60.01+10.54+156.13+10.54+133.1 -> 370.32 | AM17: =SUM(AI17:AL17) -> 1014.41 | AN17: =65.06+181.29 -> 246.35 | AO17: =83.41+101.05+16 -> 200.46 | AP17: =108.02+1.61+106.77 -> 216.4 | AQ17: =145.07+86.27 -> 231.34 | AR17: =139.15+82.69+135.7 -> 357.54 | AS17: =SUM(AN17:AR17) -> 1252.09 | AT17: =80.78+121.69+18.8 -> 221.27 | AU17: =83.01+6+53.18+8.64+3.18+7.2 -> 161.21 | AV17: =47.9+8.64+97.54+12+41.34 -> 207.42 | AW17: =121.6+100.05+140.44+3.84 -> 365.93 | AX17: =SUM(AT17:AW17) -> 955.83 | AY17: =45.78+87.83+60.42 -> 194.03 | AZ17: =185.59+0.85+83.92+1.94 -> 272.3 | BA17: =145.36+136.71 -> 282.07 | BB17: =96.07+17.6+115.55+133.98 -> 363.2 | BC17: =SUM(AY17:BB17) -> 1111.6 | BD17: =181.24+1.7+34.54 -> 217.48 | BE17: =144.28+1.7+57.2+12.72 -> 215.9 | BF17: =82.84+141.5+1.7 -> 226.04 | BG17: =134.2+99.68+7.5+8.16 -> 249.54 | BH17: =158.47+126.48+147.36 -> 432.31 | BI17: =SUM(BD17:BH17) -> 1341.27 | BJ17: =162.62+57.65+2.64 -> 222.91 | BK17: =107.16+179.12+19.2 -> 305.48 | BL17: =49.18+122.76 -> 171.94 | BM17: =65.04+154.91+2.84+152.46 -> 375.25 | BN17: =SUM(BJ17:BM17) -> 1075.58 | BO17: =+G17+L17+R17+W17+AB17+AH17+AM17+AS17+AX17+BC17+BI17+BN17 -> 13590.83 | BP17: =+BO17 -> 13590.83
A18: B11 | G18: =SUM(C18:F18) -> 0 | L18: =SUM(H18:K18) -> 0 | R18: =SUM(M18:Q18) -> 0 | W18: =SUM(S18:V18) -> 0 | AB18: =SUM(X18:AA18) -> 0 | AH18: =SUM(AC18:AG18) -> 0 | AM18: =SUM(AI18:AL18) -> 0 | AS18: =SUM(AN18:AR18) -> 0 | AX18: =SUM(AT18:AW18) -> 0 | BC18: =SUM(AY18:BB18) -> 0 | BI18: =SUM(BD18:BH18) -> 0 | BN18: =SUM(BJ18:BM18) -> 0 | BO18: =+G18+L18+R18+W18+AB18+AH18+AM18+AS18+AX18+BC18+BI18+BN18 -> 0 | BP18: =+BO18 -> 0
A19: B12 | F19: 82.32 | G19: =SUM(C19:F19) -> 82.32 | K19: 70.56 | L19: =SUM(H19:K19) -> 70.56 | Q19: 76.44 | R19: =SUM(M19:Q19) -> 76.44 | V19: 82.32 | W19: =SUM(S19:V19) -> 82.32 | AA19: 76.44 | AB19: =SUM(X19:AA19) -> 76.44 | AG19: 71.88 | AH19: =SUM(AC19:AG19) -> 71.88 | AL19: 84.7 | AM19: =SUM(AI19:AL19) -> 84.7 | AR19: 78.65 | AS19: =SUM(AN19:AR19) -> 78.65 | AW19: 72.96 | AX19: =SUM(AT19:AW19) -> 72.96 | BB19: 85.26 | BC19: =SUM(AY19:BB19) -> 85.26 | BH19: 89.57 | BI19: =SUM(BD19:BH19) -> 89.57 | BM19: 97.02 | BN19: =SUM(BJ19:BM19) -> 97.02 | BO19: =+G19+L19+R19+W19+AB19+AH19+AM19+AS19+AX19+BC19+BI19+BN19 -> 968.12 | BP19: =+BO19 -> 968.12
A20: B13 | G20: =SUM(C20:F20) -> 0 | L20: =SUM(H20:K20) -> 0 | R20: =SUM(M20:Q20) -> 0 | W20: =SUM(S20:V20) -> 0 | AB20: =SUM(X20:AA20) -> 0 | AH20: =SUM(AC20:AG20) -> 0 | AM20: =SUM(AI20:AL20) -> 0 | AS20: =SUM(AN20:AR20) -> 0 | AX20: =SUM(AT20:AW20) -> 0 | BC20: =SUM(AY20:BB20) -> 0 | BI20: =SUM(BD20:BH20) -> 0 | BN20: =SUM(BJ20:BM20) -> 0 | BO20: =+G20+L20+R20+W20+AB20+AH20+AM20+AS20+AX20+BC20+BI20+BN20 -> 0 | BP20: =+BO20 -> 0
A21: B14 | G21: =SUM(C21:F21) -> 0 | L21: =SUM(H21:K21) -> 0 | R21: =SUM(M21:Q21) -> 0 | W21: =SUM(S21:V21) -> 0 | AB21: =SUM(X21:AA21) -> 0 | AH21: =SUM(AC21:AG21) -> 0 | AM21: =SUM(AI21:AL21) -> 0 | AS21: =SUM(AN21:AR21) -> 0 | AX21: =SUM(AT21:AW21) -> 0 | BC21: =SUM(AY21:BB21) -> 0 | BI21: =SUM(BD21:BH21) -> 0 | BN21: =SUM(BJ21:BM21) -> 0 | BO21: =+G21+L21+R21+W21+AB21+AH21+AM21+AS21+AX21+BC21+BI21+BN21 -> 0 | BP21: =+BO21 -> 0
A22: B15 | C22: 22.89 | D22: 16.64 | E22: 28.8 | F22: 61.4 | G22: =SUM(C22:F22) -> 129.73 | H22: 26.9 | I22: 22.99 | J22: 21.3 | K22: 67.07 | L22: =SUM(H22:K22) -> 138.26 | M22: =21.11+3.5 -> 24.61 | N22: 64.29 | O22: 77.14 | P22: 24.54 | Q22: 23.38 | R22: =SUM(M22:Q22) -> 213.96 | S22: 66.92 | T22: 70.54 | U22: 16.43 | V22: =20.06+35.28 -> 55.34 | W22: =SUM(S22:V22) -> 209.23 | X22: 28.85 | Y22: 17.72 | Z22: 26.56 | AA22: =70.4+41.16 -> 111.56 | AB22: =SUM(X22:AA22) -> 184.69 | AC22: 30.96 | AD22: 25.6 | AE22: 72.56 | AF22: 78.35 | AG22: =35.94+67.7 -> 103.64 | AH22: =SUM(AC22:AG22) -> 311.11 | AI22: 27.38 | AJ22: 23.62 | AK22: 21.99 | AL22: =20.86+5.27+36.3 -> 62.43 | AM22: =SUM(AI22:AL22) -> 135.42 | AN22: 76.35 | AO22: =64.19+0.8 -> 64.99 | AP22: 27 | AQ22: 20.63 | AR22: =42.35+17.33 -> 59.68 | AS22: =SUM(AN22:AR22) -> 248.65 | AT22: 23.25 | AU22: =33.04+1.65 -> 34.69 | AV22: 19.57 | AW22: =36.48+67.34 -> 103.82 | AX22: =SUM(AT22:AW22) -> 181.33 | AY22: 25.65 | AZ22: 61.59 | BA22: 33.39 | BB22: =84.2+36.54 -> 120.74 | BC22: =SUM(AY22:BB22) -> 241.37 | BD22: 24.5 | BE22: 31.35 | BF22: 21.44 | BG22: 19.1 | BH22: =48.23+23.17 -> 71.4 | BI22: =SUM(BD22:BH22) -> 167.79 | BJ22: 74.79 | BK22: 25.19 | BL22: 20.77 | BM22: =85.43+48.51 -> 133.94 | BN22: =SUM(BJ22:BM22) -> 254.69 | BO22: =+G22+L22+R22+W22+AB22+AH22+AM22+AS22+AX22+BC22+BI22+BN22 -> 2416.23 | BP22: =+BO22 -> 2416.23
A23: B16 | C23: 35.88 | D23: 29.64 | E23: 30.85 | F23: =17.21+12.12+23.52 -> 52.85 | G23: =SUM(C23:F23) -> 149.22 | H23: 23.75 | I23: =19.32+3.74 -> 23.06 | J23: =18.52+12.12 -> 30.64 | K23: =23.52+23.91 -> 47.43 | L23: =SUM(H23:K23) -> 124.88 | M23: 23.59 | N23: 57.24 | O23: =29.73+2.5 -> 32.23 | P23: 25.52 | Q23: =29.4+46.07 -> 75.47 | R23: =SUM(M23:Q23) -> 214.05 | S23: =28.31+3.2+18.18 -> 49.69 | T23: 31.01 | U23: 68.06 | V23: =74.89+5.88 -> 80.77 | W23: =SUM(S23:V23) -> 229.53 | X23: 31.36 | Y23: 42.45 | Z23: 40.81 | AA23: =50.72+29.4 -> 80.12 | AB23: =SUM(X23:AA23) -> 194.74 | AC23: 29.03 | AD23: 24.19 | AE23: 38.04 | AF23: 35.57 | AG23: =23.96+12.24+8.16+27.5+3 -> 74.86 | AH23: =SUM(AC23:AG23) -> 201.69 | AI23: =68.13+6.12 -> 74.25 | AJ23: 76.23 | AK23: 68.83 | AL23: =83.53+24.2 -> 107.73 | AM23: =SUM(AI23:AL23) -> 327.04 | AN23: 29.71 | AO23: 31.21 | AP23: 32.76 | AQ23: 31.37 | AR23: =30.25+29.03+12.24 -> 71.52 | AS23: =SUM(AN23:AR23) -> 196.57 | AT23: 27.97 | AU23: 72.56 | AV23: =70.88+3 -> 73.88 | AW23: 33.75 | AX23: =SUM(AT23:AW23) -> 208.16 | AY23: 33.81 | AZ23: =31.95+12.24 -> 44.19 | BA23: =33.47+3 -> 36.47 | BB23: =53.07+24.36 -> 77.43 | BC23: =SUM(AY23:BB23) -> 191.9 | BD23: 38.96 | BE23: 77.84 | BF23: 34.54 | BG23: 33.92 | BH23: =34.45+49.93 -> 84.38 | BI23: =SUM(BD23:BH23) -> 269.64 | BJ23: 31.13 | BK23: 29.74 | BL23: 80.33 | BM23: =33.98+27.72 -> 61.7 | BN23: =SUM(BJ23:BM23) -> 202.9 | BO23: =+G23+L23+R23+W23+AB23+AH23+AM23+AS23+AX23+BC23+BI23+BN23 -> 2510.32 | BP23: =+BO23 -> 2510.32
A24: B17 | G24: =SUM(C24:F24) -> 0 | I24: 4.34 | L24: =SUM(H24:K24) -> 4.34 | P24: 11.11 | R24: =SUM(M24:Q24) -> 11.11 | S24: 6.62 | W24: =SUM(S24:V24) -> 6.62 | AB24: =SUM(X24:AA24) -> 0 | AH24: =SUM(AC24:AG24) -> 0 | AM24: =SUM(AI24:AL24) -> 0 | AS24: =SUM(AN24:AR24) -> 0 | AX24: =SUM(AT24:AW24) -> 0 | BC24: =SUM(AY24:BB24) -> 0 | BI24: =SUM(BD24:BH24) -> 0 | BN24: =SUM(BJ24:BM24) -> 0 | BO24: =+G24+L24+R24+W24+AB24+AH24+AM24+AS24+AX24+BC24+BI24+BN24 -> 22.07 | BP24: =+BO24 -> 22.07
A25: B18 | G25: =SUM(C25:F25) -> 0 | L25: =SUM(H25:K25) -> 0 | R25: =SUM(M25:Q25) -> 0 | W25: =SUM(S25:V25) -> 0 | Y25: 38.35 | AB25: =SUM(X25:AA25) -> 38.35 | AD25: 30.02 | AG25: 67.72 | AH25: =SUM(AC25:AG25) -> 97.74 | AK25: 6.47 | AM25: =SUM(AI25:AL25) -> 6.47 | AO25: 54.11 | AS25: =SUM(AN25:AR25) -> 54.11 | AU25: =18.21+1.54 -> 19.75 | AX25: =SUM(AT25:AW25) -> 19.75 | AY25: =57.75+5 -> 62.75 | BA25: =8.01+3.98 -> 11.99 | BB25: 3.1 | BC25: =SUM(AY25:BB25) -> 77.84 | BD25: 74.91 | BG25: 20.08 | BH25: 6.54 | BI25: =SUM(BD25:BH25) -> 101.53 | BJ25: 49.53 | BK25: =12.8+0.75 -> 13.55 | BL25: 16.49 | BN25: =SUM(BJ25:BM25) -> 79.57 | BO25: =+G25+L25+R25+W25+AB25+AH25+AM25+AS25+AX25+BC25+BI25+BN25 -> 475.36 | BP25: =+BO25 -> 475.36
A26: B19 | D26: 5.48 | E26: 7.55 | G26: =SUM(C26:F26) -> 13.03 | K26: 4.5 | L26: =SUM(H26:K26) -> 4.5 | Q26: =5.75+0.75 -> 6.5 | R26: =SUM(M26:Q26) -> 6.5 | V26: 4.44 | W26: =SUM(S26:V26) -> 4.44 | AA26: 7.79 | AB26: =SUM(X26:AA26) -> 7.79 | AF26: 4.46 | AH26: =SUM(AC26:AG26) -> 4.46 | AM26: =SUM(AI26:AL26) -> 0 | AP26: 7.34 | AS26: =SUM(AN26:AR26) -> 7.34 | AW26: 7.38 | AX26: =SUM(AT26:AW26) -> 7.38 | BC26: =SUM(AY26:BB26) -> 0 | BF26: 6.86 | BI26: =SUM(BD26:BH26) -> 6.86 | BM26: 4.71 | BN26: =SUM(BJ26:BM26) -> 4.71 | BO26: =+G26+L26+R26+W26+AB26+AH26+AM26+AS26+AX26+BC26+BI26+BN26 -> 67.01 | BP26: =+BO26 -> 67.01
A27: B20 | G27: =SUM(C27:F27) -> 0 | L27: =SUM(H27:K27) -> 0 | R27: =SUM(M27:Q27) -> 0 | W27: =SUM(S27:V27) -> 0 | AB27: =SUM(X27:AA27) -> 0 | AH27: =SUM(AC27:AG27) -> 0 | AM27: =SUM(AI27:AL27) -> 0 | AS27: =SUM(AN27:AR27) -> 0 | AX27: =SUM(AT27:AW27) -> 0 | BC27: =SUM(AY27:BB27) -> 0 | BI27: =SUM(BD27:BH27) -> 0 | BN27: =SUM(BJ27:BM27) -> 0 | BO27: =+G27+L27+R27+W27+AB27+AH27+AM27+AS27+AX27+BC27+BI27+BN27 -> 0 | BP27: =+BO27 -> 0
A28: TOTAL B | G28: =SUM(G8:G27) -> 3640.2 | L28: =SUM(L8:L27) -> 3360.44 | R28: =SUM(R8:R27) -> 5100.48 | W28: =SUM(W8:W27) -> 3878.28 | AB28: =SUM(AB8:AB27) -> 3733.87 | AH28: =SUM(AH8:AH27) -> 4432.46 | AM28: =SUM(AM8:AM27) -> 4017.01 | AS28: =SUM(AS8:AS27) -> 4580.89 | AX28: =SUM(AX8:AX27) -> 3491.8 | BC28: =SUM(BC8:BC27) -> 4092.99 | BI28: =SUM(BI8:BI27) -> 4957.62 | BN28: =SUM(BN8:BN27) -> 4410.83 | BO28: =SUM(BO8:BO27) -> 49696.87
A29: C1 | C29: 91.52 | D29: =24.56+11.52 -> 36.08 | E29: 41.52 | F29: 32.38 | G29: =SUM(C29:F29) -> 201.5 | H29: 34.81 | I29: 32.39 | J29: 67.49 | K29: 35.33 | L29: =SUM(H29:K29) -> 170.02 | M29: =36.6+28.97+4 -> 69.57 | N29: 20.16 | O29: 20.73 | P29: 74.13 | Q29: 37.56 | R29: =SUM(M29:Q29) -> 222.15 | S29: 53.33 | T29: 75.46 | U29: =14.95+3 -> 17.95 | V29: 49.07 | W29: =SUM(S29:V29) -> 195.81 | X29: 33.44 | Y29: 39.19 | Z29: 48.36 | AA29: 78.67 | AB29: =SUM(X29:AA29) -> 199.66 | AC29: 39.69 | AD29: 42.05 | AE29: 71.75 | AF29: 41.45 | AG29: =88+3.6 -> 91.6 | AH29: =SUM(AC29:AG29) -> 286.54 | AI29: =33.68+40.2 -> 73.88 | AJ29: 40.45 | AK29: =44.89+7.9 -> 52.79 | AL29: 50.22 | AM29: =SUM(AI29:AL29) -> 217.34 | AN29: =78.27+1.36 -> 79.63 | AO29: 12.4 | AP29: 17.39 | AQ29: =37.83+1.8 -> 39.63 | AR29: 86.25 | AS29: =SUM(AN29:AR29) -> 235.3 | AT29: 54.4 | AU29: 36.59 | AV29: 76.38 | AW29: 37.54 | AX29: =SUM(AT29:AW29) -> 204.91 | AY29: 31.42 | AZ29: 42.11 | BA29: 101.22 | BB29: 21.54 | BC29: =SUM(AY29:BB29) -> 196.29 | BD29: 36.37 | BE29: =32.05+0.68 -> 32.73 | BF29: =41.47+9 -> 50.47 | BG29: 79.01 | BH29: 44.98 | BI29: =SUM(BD29:BH29) -> 243.56 | BJ29: 89.89 | BK29: 41.85 | BN29: =SUM(BJ29:BM29) -> 131.74 | BO29: =+G29+L29+R29+W29+AB29+AH29+AM29+AS29+AX29+BC29+BI29+BN29 -> 2504.82 | BP29: =+BO29 -> 2504.82
A30: C2 | G30: =SUM(C30:F30) -> 0 | L30: =SUM(H30:K30) -> 0 | R30: =SUM(M30:Q30) -> 0 | W30: =SUM(S30:V30) -> 0 | AB30: =SUM(X30:AA30) -> 0 | AH30: =SUM(AC30:AG30) -> 0 | AM30: =SUM(AI30:AL30) -> 0 | AS30: =SUM(AN30:AR30) -> 0 | AX30: =SUM(AT30:AW30) -> 0 | BC30: =SUM(AY30:BB30) -> 0 | BI30: =SUM(BD30:BH30) -> 0 | BN30: =SUM(BJ30:BM30) -> 0 | BO30: =+G30+L30+R30+W30+AB30+AH30+AM30+AS30+AX30+BC30+BI30+BN30 -> 0 | BP30: =+BO30 -> 0
A31: C3 | C31: 76.9 | D31: 13.5 | E31: 29.63 | F31: =56.02+52.92 -> 108.94 | G31: =SUM(C31:F31) -> 228.97 | H31: 73.07 | I31: 90.02 | J31: 91.37 | K31: =47.04+33.88 -> 80.92 | L31: =SUM(H31:K31) -> 335.38 | M31: =119.74+4.2 -> 123.94 | N31: =69.1+2.8 -> 71.9 | O31: =43.36+2.7 -> 46.06 | P31: =85.93+2.31 -> 88.24 | Q31: =52.92+106.66 -> 159.58 | R31: =SUM(M31:Q31) -> 489.72 | S31: 23.95 | T31: =58.84+4.08 -> 62.92 | U31: 107.52 | V31: =106.44+0.09+4.14+52.92 -> 163.59 | W31: =SUM(S31:V31) -> 357.98 | X31: 105.38 | Y31: =68.06+4.2 -> 72.26 | Z31: 31.25 | AA31: =71.76+52.92 -> 124.68 | AB31: =SUM(X31:AA31) -> 333.57 | AC31: =87.94+2.6+2.48 -> 93.02 | AD31: 40.84 | AE31: 64.63 | AF31: 32.85 | AG31: =47.92+25.52 -> 73.44 | AH31: =SUM(AC31:AG31) -> 304.78 | AI31: 96.48 | AJ31: 96.69 | AK31: 94.74 | AL31: =102.67+10.52+54.45 -> 167.64 | AM31: =SUM(AI31:AL31) -> 455.55 | AN31: 35.52 | AO31: =39.82+3.2+0.68 -> 43.7 | AP31: =112.98+6.63 -> 119.61 | AQ31: 38.65 | AR31: =54.45+47.51 -> 101.96 | AS31: =SUM(AN31:AR31) -> 339.44 | AT31: 25.26 | AU31: =95.03+2.4 -> 97.43 | AV31: =74.25+2.4 -> 76.65 | AW31: =48.64+2.5+36.22+1.65 -> 89.01 | AX31: =SUM(AT31:AW31) -> 288.35 | AY31: 26.22 | AZ31: 111.05 | BA31: 93.29 | BB31: =30.86+1.6+54.81 -> 87.27 | BC31: =SUM(AY31:BB31) -> 317.83 | BD31: =51.18+2.4 -> 53.58 | BE31: 90.72 | BF31: 85.43 | BG31: =48.89+3 -> 51.89 | BH31: =62.01+52.61 -> 114.62 | BI31: =SUM(BD31:BH31) -> 396.24 | BJ31: 130.47 | BK31: 106.15 | BL31: 37.28 | BM31: =47.57+1.24+62.37 -> 111.18 | BN31: =SUM(BJ31:BM31) -> 385.08 | BO31: =+G31+L31+R31+W31+AB31+AH31+AM31+AS31+AX31+BC31+BI31+BN31 -> 4232.89 | BP31: =+BO31 -> 4232.89
A32: C4 | C32: 51.98 | D32: 21.51 | E32: 78.58 | F32: =83.54+82.32 -> 165.86 | G32: =SUM(C32:F32) -> 317.93 | H32: 47.94 | I32: 47.35 | J32: 45.42 | K32: =70.56+94.14 -> 164.7 | L32: =SUM(H32:K32) -> 305.41 | M32: =115.19+2.88 -> 118.07 | N32: 96.34 | O32: 87.88 | P32: 43.85 | Q32: =76.44+86.45 -> 162.89 | R32: =SUM(M32:Q32) -> 509.03 | S32: 88.48 | T32: =44.33+6.41+4.08 -> 54.82 | U32: 67.25 | V32: =51.13+1.21+82.32 -> 134.66 | W32: =SUM(S32:V32) -> 345.21 | X32: =120.55+1.16 -> 121.71 | Y32: =58.93+5.6 -> 64.53 | Z32: 42.07 | AA32: =54.28+76.44 -> 130.72 | AB32: =SUM(X32:AA32) -> 359.03 | AC32: 98.9 | AD32: =52.27+3.9+1.24 -> 57.41 | AE32: 105.54 | AF32: 117.34 | AG32: =71.88+47.09 -> 118.97 | AH32: =SUM(AC32:AG32) -> 498.16 | AI32: 55.81 | AJ32: =82.24+6.63 -> 88.87 | AK32: 45.99 | AL32: =55.9+5.26+84.7 -> 145.86 | AM32: =SUM(AI32:AL32) -> 336.53 | AN32: =53.42+1.36 -> 54.78 | AO32: =90.45+3.2+5.37 -> 99.02 | AP32: =50.81+2.15 -> 52.96 | AQ32: 62.74 | AR32: =78.65+77.29 -> 155.94 | AS32: =SUM(AN32:AR32) -> 425.44 | AT32: 50.66 | AU32: =44.7+2.4 -> 47.1 | AV32: =104.61+3.6+41.34 -> 149.55 | AW32: =72.96+116.18 -> 189.14 | AX32: =SUM(AT32:AW32) -> 436.45 | AY32: 27.05 | AZ32: =104.19+3.88 -> 108.07 | BA32: 76.64 | BB32: =55.55+2.4+85.26 -> 143.21 | BC32: =SUM(AY32:BB32) -> 354.97 | BD32: 53.44 | BE32: 71.14 | BF32: =126.55+2 -> 128.55 | BG32: =66.23+1.8 -> 68.03 | BH32: =89.57+45.56 -> 135.13 | BI32: =SUM(BD32:BH32) -> 456.29 | BJ32: =127.82+1.44 -> 129.26 | BK32: 69.79 | BL32: 45.5 | BM32: =62.69+97.02 -> 159.71 | BN32: =SUM(BJ32:BM32) -> 404.26 | BO32: =+G32+L32+R32+W32+AB32+AH32+AM32+AS32+AX32+BC32+BI32+BN32 -> 4748.71 | BP32: =+BO32 -> 4748.71
A33: C5 | C33: 147.57 | D33: 131.73 | E33: 76.99 | F33: =88.28+105.84 -> 194.12 | G33: =SUM(C33:F33) -> 550.41 | H33: 134.03 | I33: 92.53 | J33: 121.37 | K33: =94.08+117.33 -> 211.41 | L33: =SUM(H33:K33) -> 559.34 | M33: =142.64+1.81+2.8 -> 147.25 | N33: 61.76 | O33: =51+56.73 -> 107.73 | P33: 69.96 | Q33: =105.84+96.88+15.28 -> 218 | R33: =SUM(M33:Q33) -> 604.7 | S33: 117.1 | T33: =117.01+1.92 -> 118.93 | U33: 126.14 | V33: =103.92+4.27+105.84 -> 214.03 | W33: =SUM(S33:V33) -> 576.2 | X33: =85.87+4.27 -> 90.14 | Y33: =116.15+2.8 -> 118.95 | Z33: =140.35+5.88 -> 146.23 | AA33: =58.58+105.84 -> 164.42 | AB33: =SUM(X33:AA33) -> 519.74 | AC33: 124.01 | AD33: =105.79+0 -> 105.79 | AE33: 130.7 | AF33: 123.77 | AG33: =95.84+133.12 -> 228.96 | AH33: =SUM(AC33:AG33) -> 713.23 | AI33: 82.99 | AJ33: 103.6 | AK33: =183.85+6.24 -> 190.09 | AL33: =79.94+5.26+108.9 -> 194.1 | AM33: =SUM(AI33:AL33) -> 570.78 | AN33: 132 | AO33: =94.3+3.2+2.04 -> 99.54 | AP33: =143.38+6.4 -> 149.78 | AR33: =108.9+230 -> 338.9 | AS33: =SUM(AN33:AR33) -> 720.22 | AT33: 80.12 | AU33: =63.8+2.04+1.65 -> 67.49 | AV33: =99.38+2.4+2.73+1.6 -> 106.11 | AW33: =97.28+152.71 -> 249.99 | AX33: =SUM(AT33:AW33) -> 503.71 | AY33: 180.43 | AZ33: =85.93+1.94+1.67 -> 89.54 | BA33: 132.67 | BB33: =122.3+109.62 -> 231.92 | BC33: =SUM(AY33:BB33) -> 634.56 | BD33: =120.26+1.6 -> 121.86 | BE33: 153.33 | BF33: =125.97+9.19 -> 135.16 | BG33: =107.93+3 -> 110.93 | BH33: =124.02+129.34+4.8 -> 258.16 | BI33: =SUM(BD33:BH33) -> 779.44 | BJ33: 113.66 | BK33: 138.95 | BL33: 153.68 | BM33: =63.16+124.74 -> 187.9 | BN33: =SUM(BJ33:BM33) -> 594.19 | BO33: =+G33+L33+R33+W33+AB33+AH33+AM33+AS33+AX33+BC33+BI33+BN33 -> 7326.52 | BP33: =+BO33 -> 7326.52
A34: C6 | C34: 3.57 | D34: 3.2 | E34: 4.53 | F34: 3.6 | G34: =SUM(C34:F34) -> 14.9 | H34: 4.33 | I34: 2.34 | J34: 4.51 | K34: 1.97 | L34: =SUM(H34:K34) -> 13.15 | M34: =3.64+36.6 -> 40.24 | O34: 2.5 | P34: 2.5 | Q34: 7.33 | R34: =SUM(M34:Q34) -> 52.57 | S34: =2.5+0.48 -> 2.98 | T34: 5.37 | U34: 3.22 | V34: 2.5 | W34: =SUM(S34:V34) -> 14.07 | X34: 3.23 | Y34: 6.6 | Z34: 3.22 | AA34: 2.98 | AB34: =SUM(X34:AA34) -> 16.03 | AC34: 4.51 | AD34: 3.62 | AE34: 3.39 | AF34: 4.92 | AG34: =3.2+40.2 -> 43.4 | AH34: =SUM(AC34:AG34) -> 59.84 | AI34: 4.37 | AJ34: 8.57 | AK34: 6.47 | AL34: 2.95 | AM34: =SUM(AI34:AL34) -> 22.36 | AN34: 6.47 | AO34: 5.84 | AP34: 5.33 | AQ34: 3.18 | AR34: 4.93 | AS34: =SUM(AN34:AR34) -> 25.75 | AT34: 6.5 | AU34: =3.61+39.6 -> 43.21 | AV34: 2.91 | AW34: 3.39 | AX34: =SUM(AT34:AW34) -> 56.01 | AY34: 2.47 | AZ34: 3.35 | BA34: 3.61 | BB34: 3.39 | BC34: =SUM(AY34:BB34) -> 12.82 | BD34: 2.47 | BE34: 5.06 | BF34: 2.93 | BG34: 3.39 | BH34: 2.07 | BI34: =SUM(BD34:BH34) -> 15.92 | BJ34: 3.31 | BK34: 3.69 | BL34: 3.73 | BM34: 2.41 | BN34: =SUM(BJ34:BM34) -> 13.14 | BO34: =+G34+L34+R34+W34+AB34+AH34+AM34+AS34+AX34+BC34+BI34+BN34 -> 316.56 | BP34: =+BO34 -> 316.56
A35: C7 | C35: 3.19 | D35: 5.83 | E35: 2.98 | F35: 3.23 | G35: =SUM(C35:F35) -> 15.23 | H35: 5.06 | I35: =2.4+3.74 -> 6.14 | K35: 4.23 | L35: =SUM(H35:K35) -> 15.43 | M35: 4.21 | O35: 4.47 | P35: 4.21 | R35: =SUM(M35:Q35) -> 12.89 | S35: 4.88 | T35: 3.11 | U35: 2.98 | V35: 4.21 | W35: =SUM(S35:V35) -> 15.18 | Y35: 4.63 | Z35: 3.22 | AA35: 1.97 | AB35: =SUM(X35:AA35) -> 9.82 | AC35: 3.2 | AD35: 2 | AE35: 1.85 | AF35: 1.99 | AG35: 2.95 | AH35: =SUM(AC35:AG35) -> 11.99 | AI35: 4.4 | AJ35: 3.23 | AK35: 2.95 | AL35: 2.95 | AM35: =SUM(AI35:AL35) -> 13.53 | AN35: 4.19 | AO35: 4.46 | AR35: 5.1 | AS35: =SUM(AN35:AR35) -> 13.75 | AU35: 2.47 | AV35: 2.76 | AW35: 4.63 | AX35: =SUM(AT35:AW35) -> 9.86 | AY35: 4.43 | AZ35: 4.58 | BA35: 7.32 | BB35: 3.39 | BC35: =SUM(AY35:BB35) -> 19.72 | BD35: 3.24 | BF35: 2.85 | BG35: 3.42 | BI35: =SUM(BD35:BH35) -> 9.51 | BJ35: 21 | BK35: 5.42 | BN35: =SUM(BJ35:BM35) -> 26.42 | BO35: =+G35+L35+R35+W35+AB35+AH35+AM35+AS35+AX35+BC35+BI35+BN35 -> 173.33 | BP35: =+BO35 -> 173.33
A36: C8 | C36: 13.51 | D36: 5.72 | E36: 11.73 | F36: 1.98 | G36: =SUM(C36:F36) -> 32.94 | H36: 2.97 | I36: 10.7 | J36: 5.99 | K36: 7.49 | L36: =SUM(H36:K36) -> 27.15 | M36: 6.81 | N36: 65.52 | O36: 7 | P36: 18.52 | Q36: 7.71 | R36: =SUM(M36:Q36) -> 105.56 | S36: 10.59 | T36: 9.56 | U36: 5.84 | V36: 3.43 | W36: =SUM(S36:V36) -> 29.42 | X36: 2.72 | Y36: 4.63 | Z36: 7.31 | AA36: 5.54 | AB36: =SUM(X36:AA36) -> 20.2 | AC36: 9.15 | AD36: 7.78 | AE36: =11.86+0.38 -> 12.24 | AF36: 8.36 | AG36: 6.07 | AH36: =SUM(AC36:AG36) -> 43.6 | AI36: 12.62 | AJ36: 6.21 | AK36: 8 | AL36: 11.18 | AM36: =SUM(AI36:AL36) -> 38.01 | AN36: 5.75 | AO36: 6.89 | AP36: 7.18 | AQ36: 2.38 | AR36: 1.53 | AS36: =SUM(AN36:AR36) -> 23.73 | AT36: 7.6 | AU36: 4 | AV36: 4.23 | AW36: 6.07 | AX36: =SUM(AT36:AW36) -> 21.9 | AY36: 7.27 | BA36: 2.47 | BC36: =SUM(AY36:BB36) -> 9.74 | BD36: 10.57 | BE36: 10.5 | BF36: 3.66 | BG36: 3.24 | BH36: 3.52 | BI36: =SUM(BD36:BH36) -> 31.49 | BK36: 7.86 | BL36: 7.69 | BM36: 12.44 | BN36: =SUM(BJ36:BM36) -> 27.99 | BO36: =+G36+L36+R36+W36+AB36+AH36+AM36+AS36+AX36+BC36+BI36+BN36 -> 411.73 | BP36: =+BO36 -> 411.73
A37: TOTAL C | G37: =SUM(G29:G36) -> 1361.88 | L37: =SUM(L29:L36) -> 1425.88 | R37: =SUM(R29:R36) -> 1996.62 | W37: =SUM(W29:W36) -> 1533.87 | AB37: =SUM(AB29:AB36) -> 1458.05 | AH37: =SUM(AH29:AH36) -> 1918.14 | AM37: =SUM(AM29:AM36) -> 1654.1 | AS37: =SUM(AS29:AS36) -> 1783.63 | AX37: =SUM(AX29:AX36) -> 1521.19 | BC37: =SUM(BC29:BC36) -> 1545.93 | BI37: =SUM(BI29:BI36) -> 1932.45 | BN37: =SUM(BN29:BN36) -> 1582.82 | BO37: =SUM(BO29:BO36) -> 19714.56
A38: D1 | C38: 90.9 | D38: 70.55 | E38: 37.3 | F38: =70.25+76.44 -> 146.69 | G38: =SUM(C38:F38) -> 345.44 | H38: =69.07+19.72 -> 88.79 | I38: 104.39 | J38: 126.16 | K38: =70.56+91.57+2.01 -> 164.14 | L38: =SUM(H38:K38) -> 483.48 | M38: 147.82 | N38: 100.71 | O38: 155.02 | P38: 128.16 | Q38: =82.32+139.85 -> 222.17 | R38: =SUM(M38:Q38) -> 753.88 | S38: =80.92+5.07 -> 85.99 | T38: 130.38 | U38: =134.48+1.09 -> 135.57 | V38: =67.97+0.14+23.52 -> 91.63 | W38: =SUM(S38:V38) -> 443.57 | X38: 94.79 | Y38: 136.81 | Z38: 58.96 | AA38: =106.78+64.68 -> 171.46 | AB38: =SUM(X38:AA38) -> 462.02 | AC38: 54.26 | AD38: 99.97 | AE38: 76.03 | AF38: 97.26 | AG38: =71.88+143.13 -> 215.01 | AH38: =SUM(AC38:AG38) -> 542.53 | AI38: 119.18 | AJ38: 93.9 | AK38: 103.23 | AL38: =47.33+3.31+78.65 -> 129.29 | AM38: =SUM(AI38:AL38) -> 445.6 | AN38: 141.82 | AO38: =153.95+12.72+1.36 -> 168.03 | AP38: 153.07 | AQ38: 133.7 | AR38: =84.7+105.35 -> 190.05 | AS38: =SUM(AN38:AR38) -> 786.67 | AT38: 122.14 | AU38: =162.8+1.8+3.85 -> 168.45 | AV38: =201.03+6.42 -> 207.45 | AW38: =72.96+24.39 -> 97.35 | AX38: =SUM(AT38:AW38) -> 595.39 | AY38: 86.43 | AZ38: =141.43+3.88 -> 145.31 | BA38: 85.66 | BB38: =78.48+79.17 -> 157.65 | BC38: =SUM(AY38:BB38) -> 475.05 | BD38: =87.6+15.12 -> 102.72 | BE38: =171.74+1.36+15.12 -> 188.22 | BF38: 107.91 | BG38: =159.27+6.48 -> 165.75 | BH38: =96.46+4.8+56.06+6.48 -> 163.8 | BI38: =SUM(BD38:BH38) -> 728.4 | BJ38: 151.76 | BK38: =192.88+10.58 -> 203.46 | BL38: 66.36 | BM38: =138.49+90.09 -> 228.58 | BN38: =SUM(BJ38:BM38) -> 650.16 | BO38: =+G38+L38+R38+W38+AB38+AH38+AM38+AS38+AX38+BC38+BI38+BN38 -> 6712.19 | BP38: =+BO38 -> 6712.19
A39: D2 | C39: 112.25 | D39: 52.28 | E39: 80.42 | F39: =96.21+52.92 -> 149.13 | G39: =SUM(C39:F39) -> 394.08 | H39: 145.09 | I39: 41.78 | K39: =47.04+125.98 -> 173.02 | L39: =SUM(H39:K39) -> 359.89 | M39: 113.69 | N39: =97.5+38.35 -> 135.85 | O39: 45.6 | P39: 105.95 | Q39: =52.92+96.19 -> 149.11 | R39: =SUM(M39:Q39) -> 550.2 | S39: 82.65 | T39: 77.74 | U39: =117.26+6.28 -> 123.54 | V39: =28.05+52.92 -> 80.97 | W39: =SUM(S39:V39) -> 364.9 | X39: 35.87 | Y39: 96.37 | Z39: 76.88 | AA39: =74.77+52.92 -> 127.69 | AB39: =SUM(X39:AA39) -> 336.81 | AC39: 140.25 | AD39: =132.34+5.42 -> 137.76 | AE39: 39.71 | AF39: 35.53 | AG39: =47.92+97.6 -> 145.52 | AH39: =SUM(AC39:AG39) -> 498.77 | AI39: 53.16 | AJ39: 116.14 | AK39: 84.72 | AL39: 36.3 | AM39: =SUM(AI39:AL39) -> 290.32 | AQ39: 113.4 | AR39: 18.15 | AS39: =SUM(AN39:AR39) -> 131.55 | AT39: 77.38 | AU39: 117.98 | AV39: =32+4.49 -> 36.49 | AW39: =48.64+133.81 -> 182.45 | AX39: =SUM(AT39:AW39) -> 414.3 | AY39: 50.11 | AZ39: 88.18 | BA39: 64.4 | BB39: =126.27+3.71+54.81 -> 184.79 | BC39: =SUM(AY39:BB39) -> 387.48 | BE39: 107.81 | BF39: =140.1+8.18 -> 148.28 | BG39: =161.04+1.8 -> 162.84 | BH39: =62.01+78.86 -> 140.87 | BI39: =SUM(BD39:BH39) -> 559.8 | BJ39: =56.94+6.48 -> 63.42 | BK39: =125.36+3.97 -> 129.33 | BL39: 148.23 | BM39: =125.61+6.98+62.37 -> 194.96 | BN39: =SUM(BJ39:BM39) -> 535.94 | BO39: =+G39+L39+R39+W39+AB39+AH39+AM39+AS39+AX39+BC39+BI39+BN39 -> 4824.04 | BP39: =+BO39 -> 4824.04
A40: D3 | C40: 138.32 | D40: 120.38 | E40: 95.03 | F40: =151.07+52.92 -> 203.99 | G40: =SUM(C40:F40) -> 557.72 | H40: 71.83 | I40: 95.3 | J40: =114.43+6.12 -> 120.55 | K40: =47.04+160.75 -> 207.79 | L40: =SUM(H40:K40) -> 495.47 | M40: 168.22 | N40: =26.33+9.18 -> 35.51 | O40: 99.16 | P40: 141.64 | Q40: =52.92+136.62 -> 189.54 | R40: =SUM(M40:Q40) -> 634.07 | S40: 212.48 | T40: 161.24 | U40: =105.83+2.84+1.4 -> 110.07 | V40: =122.96+52.92 -> 175.88 | W40: =SUM(S40:V40) -> 659.67 | X40: =162.19+2.42 -> 164.61 | Y40: =96.04+5.03+6.9 -> 107.97 | Z40: 132.81 | AA40: =135.33+52.92 -> 188.25 | AB40: =SUM(X40:AA40) -> 593.64 | AC40: 169.2 | AD40: 102.46 | AE40: 162.04 | AF40: 238.44 | AG40: =47.92+139.2 -> 187.12 | AH40: =SUM(AC40:AG40) -> 859.26 | AI40: 121.9 | AJ40: =5.4+18.75 -> 24.15 | AK40: 142.98 | AL40: =90.16+10.54+54.45 -> 155.15 | AM40: =SUM(AI40:AL40) -> 444.18 | AN40: 154.41 | AO40: 171.39 | AP40: 74.21 | AQ40: 146.7 | AR40: =54.45+121.14 -> 175.59 | AS40: =SUM(AN40:AR40) -> 722.3 | AT40: 166.17 | AU40: 172.06 | AV40: 56.37 | AW40: =48.64+74.82 -> 123.46 | AX40: =SUM(AT40:AW40) -> 518.06 | AY40: 201.6 | AZ40: 116.95 | BA40: 148.82 | BB40: =98.49+54.81 -> 153.3 | BC40: =SUM(AY40:BB40) -> 620.67 | BD40: 124.84 | BE40: 72.43 | BF40: =145.94+7.35 -> 153.29 | BG40: =145.52+1.5 -> 147.02 | BH40: =62.01+130.36 -> 192.37 | BI40: =SUM(BD40:BH40) -> 689.95 | BJ40: 218.13 | BK40: 124.97 | BL40: 68.19 | BM40: =139.63+5.41+62.37 -> 207.41 | BN40: =SUM(BJ40:BM40) -> 618.7 | BO40: =+G40+L40+R40+W40+AB40+AH40+AM40+AS40+AX40+BC40+BI40+BN40 -> 7413.69 | BP40: =+BO40 -> 7413.69
A41: D4 | C41: 68.32 | D41: 46.99 | F41: 77.72 | G41: =SUM(C41:F41) -> 193.03 | H41: 75.42 | I41: 63.31 | J41: 53.27 | K41: 57.46 | L41: =SUM(H41:K41) -> 249.46 | M41: 65.34 | N41: 50.08 | O41: =59.98+0.84 -> 60.82 | P41: 74.81 | Q41: 59.13 | R41: =SUM(M41:Q41) -> 310.18 | S41: 51.17 | T41: 50.89 | U41: 53.74 | V41: 2.07 | W41: =SUM(S41:V41) -> 157.87 | X41: =72.82+11.76 -> 84.58 | Y41: 80.2 | Z41: 85.98 | AA41: 80.87 | AB41: =SUM(X41:AA41) -> 331.63 | AC41: 64.33 | AD41: 58.53 | AE41: 58.09 | AF41: 72.03 | AH41: =SUM(AC41:AG41) -> 252.98 | AI41: 87.02 | AJ41: 90.48 | AK41: 82.81 | AL41: 72.91 | AM41: =SUM(AI41:AL41) -> 333.22 | AN41: 73.01 | AO41: 70.4 | AP41: 33.61 | AQ41: 58.25 | AR41: 71.57 | AS41: =SUM(AN41:AR41) -> 306.84 | AT41: 85.62 | AU41: 79 | AV41: 70.05 | AW41: 80.12 | AX41: =SUM(AT41:AW41) -> 314.79 | AY41: 90.59 | AZ41: 90.64 | BA41: 86.83 | BB41: 75.66 | BC41: =SUM(AY41:BB41) -> 343.72 | BD41: 71.25 | BE41: 83.94 | BF41: 77.83 | BG41: 61.64 | BH41: 85.15 | BI41: =SUM(BD41:BH41) -> 379.81 | BJ41: 79.16 | BK41: 97.06 | BL41: 105.84 | BN41: =SUM(BJ41:BM41) -> 282.06 | BO41: =+G41+L41+R41+W41+AB41+AH41+AM41+AS41+AX41+BC41+BI41+BN41 -> 3455.59 | BP41: =+BO41 -> 3455.59
...

Sheet 1 - Mensuel
A2: SERVICE | O2: TOTAL ANNUEL
C3: JANVIER | D3: FÉVRIER | E3: MARS | F3: AVRIL | G3: MAI | H3: JUIN | I3: JUILLET | J3: AOÛT | K3: SEPTEMBRE | L3: OCTOBRE | M3: NOVEMBRE | N3: DÉCEMBRE | P3: Contrôle
