Workbook

Sheet Feuil1
B3: Joueur 1 | C3: Joueur 2 | D3: Joueur 3 | E3: Joueur 4 | F3: totaux | H3: Joueur 5 | I3: Joueur 6 | J3: Joueur 7 | K3: Joueur 8 | L3: totaux | N3: Joueur 1 | O3: Joueur 2 | P3: Joueur 3 | Q3: Joueur 4 | T3: Joueur 5 | U3: Joueur 6 | V3: Joueur 7 | W3: Joueur 8
A5: phase 1 | B5: 6 | C5: 14 | D5: 5 | E5: 9 | F5: =SUM(B5:E5) -> 34 | H5: 1 | I5: 3 | J5: 14 | K5: 8 | L5: =SUM(H5:K5) -> 26 | N5: =IF(AND(MAX($B5:$E5,$H5:$K5)>0,B5=MAX($B5:$E5,$H5:$K5)),1,"") | O5: =IF(AND(MAX($B5:$E5,$H5:$K5)>0,C5=MAX($B5:$E5,$H5:$K5)),1,"") -> 1 | P5: =IF(AND(MAX($B5:$E5,$H5:$K5)>0,D5=MAX($B5:$E5,$H5:$K5)),1,"") | Q5: =IF(AND(MAX($B5:$E5,$H5:$K5)>0,E5=MAX($B5:$E5,$H5:$K5)),1,"") | T5: =IF(AND(MAX($B5:$E5,$H5:$K5)>0,H5=MAX($B5:$E5,$H5:$K5)),1,"") | U5: =IF(AND(MAX($B5:$E5,$H5:$K5)>0,I5=MAX($B5:$E5,$H5:$K5)),1,"") | V5: =IF(AND(MAX($B5:$E5,$H5:$K5)>0,J5=MAX($B5:$E5,$H5:$K5)),1,"") -> 1 | W5: =IF(AND(MAX($B5:$E5,$H5:$K5)>0,K5=MAX($B5:$E5,$H5:$K5)),1,"")
A6: phase 2 | F6: =SUM(B6:E6) -> 0 | L6: =SUM(H6:K6) -> 0 | N6: =IF(AND(MAX($B6:$E6,$H6:$K6)>0,B6=MAX($B6:$E6,$H6:$K6)),1,"") | O6: =IF(AND(MAX($B6:$E6,$H6:$K6)>0,C6=MAX($B6:$E6,$H6:$K6)),1,"") | P6: =IF(AND(MAX($B6:$E6,$H6:$K6)>0,D6=MAX($B6:$E6,$H6:$K6)),1,"") | Q6: =IF(AND(MAX($B6:$E6,$H6:$K6)>0,E6=MAX($B6:$E6,$H6:$K6)),1,"") | T6: =IF(AND(MAX($B6:$E6,$H6:$K6)>0,H6=MAX($B6:$E6,$H6:$K6)),1,"") | U6: =IF(AND(MAX($B6:$E6,$H6:$K6)>0,I6=MAX($B6:$E6,$H6:$K6)),1,"") | V6: =IF(AND(MAX($B6:$E6,$H6:$K6)>0,J6=MAX($B6:$E6,$H6:$K6)),1,"") | W6: =IF(AND(MAX($B6:$E6,$H6:$K6)>0,K6=MAX($B6:$E6,$H6:$K6)),1,"")
A7: phase 3 | B7: 2 | C7: 8 | D7: 1 | E7: 6 | F7: =SUM(B7:E7) -> 17 | H7: 5 | I7: 4 | J7: 7 | K7: 2 | L7: =SUM(H7:K7) -> 18 | N7: =IF(AND(MAX($B7:$E7,$H7:$K7)>0,B7=MAX($B7:$E7,$H7:$K7)),1,"") | O7: =IF(AND(MAX($B7:$E7,$H7:$K7)>0,C7=MAX($B7:$E7,$H7:$K7)),1,"") -> 1 | P7: =IF(AND(MAX($B7:$E7,$H7:$K7)>0,D7=MAX($B7:$E7,$H7:$K7)),1,"") | Q7: =IF(AND(MAX($B7:$E7,$H7:$K7)>0,E7=MAX($B7:$E7,$H7:$K7)),1,"") | T7: =IF(AND(MAX($B7:$E7,$H7:$K7)>0,H7=MAX($B7:$E7,$H7:$K7)),1,"") | U7: =IF(AND(MAX($B7:$E7,$H7:$K7)>0,I7=MAX($B7:$E7,$H7:$K7)),1,"") | V7: =IF(AND(MAX($B7:$E7,$H7:$K7)>0,J7=MAX($B7:$E7,$H7:$K7)),1,"") | W7: =IF(AND(MAX($B7:$E7,$H7:$K7)>0,K7=MAX($B7:$E7,$H7:$K7)),1,"")
A8: phase 4 | F8: =SUM(B8:E8) -> 0 | L8: =SUM(H8:K8) -> 0 | N8: =IF(AND(MAX($B8:$E8,$H8:$K8)>0,B8=MAX($B8:$E8,$H8:$K8)),1,"") | O8: =IF(AND(MAX($B8:$E8,$H8:$K8)>0,C8=MAX($B8:$E8,$H8:$K8)),1,"") | P8: =IF(AND(MAX($B8:$E8,$H8:$K8)>0,D8=MAX($B8:$E8,$H8:$K8)),1,"") | Q8: =IF(AND(MAX($B8:$E8,$H8:$K8)>0,E8=MAX($B8:$E8,$H8:$K8)),1,"") | T8: =IF(AND(MAX($B8:$E8,$H8:$K8)>0,H8=MAX($B8:$E8,$H8:$K8)),1,"") | U8: =IF(AND(MAX($B8:$E8,$H8:$K8)>0,I8=MAX($B8:$E8,$H8:$K8)),1,"") | V8: =IF(AND(MAX($B8:$E8,$H8:$K8)>0,J8=MAX($B8:$E8,$H8:$K8)),1,"") | W8: =IF(AND(MAX($B8:$E8,$H8:$K8)>0,K8=MAX($B8:$E8,$H8:$K8)),1,"")
A9: phase 5 | F9: =SUM(B9:E9) -> 0 | L9: =SUM(H9:K9) -> 0 | N9: =IF(AND(MAX($B9:$E9,$H9:$K9)>0,B9=MAX($B9:$E9,$H9:$K9)),1,"") | O9: =IF(AND(MAX($B9:$E9,$H9:$K9)>0,C9=MAX($B9:$E9,$H9:$K9)),1,"") | P9: =IF(AND(MAX($B9:$E9,$H9:$K9)>0,D9=MAX($B9:$E9,$H9:$K9)),1,"") | Q9: =IF(AND(MAX($B9:$E9,$H9:$K9)>0,E9=MAX($B9:$E9,$H9:$K9)),1,"") | T9: =IF(AND(MAX($B9:$E9,$H9:$K9)>0,H9=MAX($B9:$E9,$H9:$K9)),1,"") | U9: =IF(AND(MAX($B9:$E9,$H9:$K9)>0,I9=MAX($B9:$E9,$H9:$K9)),1,"") | V9: =IF(AND(MAX($B9:$E9,$H9:$K9)>0,J9=MAX($B9:$E9,$H9:$K9)),1,"") | W9: =IF(AND(MAX($B9:$E9,$H9:$K9)>0,K9=MAX($B9:$E9,$H9:$K9)),1,"")
A10: phase 6 | F10: =SUM(B10:E10) -> 0 | L10: =SUM(H10:K10) -> 0 | N10: =IF(AND(MAX($B10:$E10,$H10:$K10)>0,B10=MAX($B10:$E10,$H10:$K10)),1,"") | O10: =IF(AND(MAX($B10:$E10,$H10:$K10)>0,C10=MAX($B10:$E10,$H10:$K10)),1,"") | P10: =IF(AND(MAX($B10:$E10,$H10:$K10)>0,D10=MAX($B10:$E10,$H10:$K10)),1,"") | Q10: =IF(AND(MAX($B10:$E10,$H10:$K10)>0,E10=MAX($B10:$E10,$H10:$K10)),1,"") | T10: =IF(AND(MAX($B10:$E10,$H10:$K10)>0,H10=MAX($B10:$E10,$H10:$K10)),1,"") | U10: =IF(AND(MAX($B10:$E10,$H10:$K10)>0,I10=MAX($B10:$E10,$H10:$K10)),1,"") | V10: =IF(AND(MAX($B10:$E10,$H10:$K10)>0,J10=MAX($B10:$E10,$H10:$K10)),1,"") | W10: =IF(AND(MAX($B10:$E10,$H10:$K10)>0,K10=MAX($B10:$E10,$H10:$K10)),1,"")
A11: phase 7 | F11: =SUM(B11:E11) -> 0 | L11: =SUM(H11:K11) -> 0 | N11: =IF(AND(MAX($B11:$E11,$H11:$K11)>0,B11=MAX($B11:$E11,$H11:$K11)),1,"") | O11: =IF(AND(MAX($B11:$E11,$H11:$K11)>0,C11=MAX($B11:$E11,$H11:$K11)),1,"") | P11: =IF(AND(MAX($B11:$E11,$H11:$K11)>0,D11=MAX($B11:$E11,$H11:$K11)),1,"") | Q11: =IF(AND(MAX($B11:$E11,$H11:$K11)>0,E11=MAX($B11:$E11,$H11:$K11)),1,"") | T11: =IF(AND(MAX($B11:$E11,$H11:$K11)>0,H11=MAX($B11:$E11,$H11:$K11)),1,"") | U11: =IF(AND(MAX($B11:$E11,$H11:$K11)>0,I11=MAX($B11:$E11,$H11:$K11)),1,"") | V11: =IF(AND(MAX($B11:$E11,$H11:$K11)>0,J11=MAX($B11:$E11,$H11:$K11)),1,"") | W11: =IF(AND(MAX($B11:$E11,$H11:$K11)>0,K11=MAX($B11:$E11,$H11:$K11)),1,"")
A12: phase 8 | B12: 1 | C12: 2 | D12: 8 | E12: 7 | F12: =SUM(B12:E12) -> 18 | H12: 3 | I12: 5 | J12: 6 | K12: 1 | L12: =SUM(H12:K12) -> 15 | N12: =IF(AND(MAX($B12:$E12,$H12:$K12)>0,B12=MAX($B12:$E12,$H12:$K12)),1,"") | O12: =IF(AND(MAX($B12:$E12,$H12:$K12)>0,C12=MAX($B12:$E12,$H12:$K12)),1,"") | P12: =IF(AND(MAX($B12:$E12,$H12:$K12)>0,D12=MAX($B12:$E12,$H12:$K12)),1,"") -> 1 | Q12: =IF(AND(MAX($B12:$E12,$H12:$K12)>0,E12=MAX($B12:$E12,$H12:$K12)),1,"") | T12: =IF(AND(MAX($B12:$E12,$H12:$K12)>0,H12=MAX($B12:$E12,$H12:$K12)),1,"") | U12: =IF(AND(MAX($B12:$E12,$H12:$K12)>0,I12=MAX($B12:$E12,$H12:$K12)),1,"") | V12: =IF(AND(MAX($B12:$E12,$H12:$K12)>0,J12=MAX($B12:$E12,$H12:$K12)),1,"") | W12: =IF(AND(MAX($B12:$E12,$H12:$K12)>0,K12=MAX($B12:$E12,$H12:$K12)),1,"")
A13: phase 9 | F13: =SUM(B13:E13) -> 0 | L13: =SUM(H13:K13) -> 0 | N13: =IF(AND(MAX($B13:$E13,$H13:$K13)>0,B13=MAX($B13:$E13,$H13:$K13)),1,"") | O13: =IF(AND(MAX($B13:$E13,$H13:$K13)>0,C13=MAX($B13:$E13,$H13:$K13)),1,"") | P13: =IF(AND(MAX($B13:$E13,$H13:$K13)>0,D13=MAX($B13:$E13,$H13:$K13)),1,"") | Q13: =IF(AND(MAX($B13:$E13,$H13:$K13)>0,E13=MAX($B13:$E13,$H13:$K13)),1,"") | T13: =IF(AND(MAX($B13:$E13,$H13:$K13)>0,H13=MAX($B13:$E13,$H13:$K13)),1,"") | U13: =IF(AND(MAX($B13:$E13,$H13:$K13)>0,I13=MAX($B13:$E13,$H13:$K13)),1,"") | V13: =IF(AND(MAX($B13:$E13,$H13:$K13)>0,J13=MAX($B13:$E13,$H13:$K13)),1,"") | W13: =IF(AND(MAX($B13:$E13,$H13:$K13)>0,K13=MAX($B13:$E13,$H13:$K13)),1,"")
A14: phase 10 | F14: =SUM(B14:E14) -> 0 | L14: =SUM(H14:K14) -> 0 | N14: =IF(AND(MAX($B14:$E14,$H14:$K14)>0,B14=MAX($B14:$E14,$H14:$K14)),1,"") | O14: =IF(AND(MAX($B14:$E14,$H14:$K14)>0,C14=MAX($B14:$E14,$H14:$K14)),1,"") | P14: =IF(AND(MAX($B14:$E14,$H14:$K14)>0,D14=MAX($B14:$E14,$H14:$K14)),1,"") | Q14: =IF(AND(MAX($B14:$E14,$H14:$K14)>0,E14=MAX($B14:$E14,$H14:$K14)),1,"") | T14: =IF(AND(MAX($B14:$E14,$H14:$K14)>0,H14=MAX($B14:$E14,$H14:$K14)),1,"") | U14: =IF(AND(MAX($B14:$E14,$H14:$K14)>0,I14=MAX($B14:$E14,$H14:$K14)),1,"") | V14: =IF(AND(MAX($B14:$E14,$H14:$K14)>0,J14=MAX($B14:$E14,$H14:$K14)),1,"") | W14: =IF(AND(MAX($B14:$E14,$H14:$K14)>0,K14=MAX($B14:$E14,$H14:$K14)),1,"")
M19: J'aimerais inséré ici une fomule du style :
M20: Expl: | N20: SI (B5 > C5;1;0)etc avec D5,E5,H5,I5

Sheet Feuil2
C3: Rosco12 | D3: Stakula | E3: Jona22 | F3: John_islacool12 | G3: Totaux | I3: Joueur 1 | J3: Joueur 2 | K3: Joueur 3 | L3: Joueur 4 | M3: Totaux | O3: Buts | P3: Buts | R3: Score | U3: Rosco12 | V3: Stakula | W3: Jona22 | X3: John_islacool12 | Z3: Rosco12 | AA3: Stakula | AB3: Jona22 | AC3: John_islacool12
A4: Manche 1 | B4: Phase 1 | C4: 0 | D4: 0 | E4: 0 | F4: 4 | G4: =SUM(C4:F4) -> 4 | I4: 1 | J4: 0 | K4: =[1]Journée!$F$241 -> 2 | L4: =[1]Journée!$F$274 -> 1 | M4: =SUM(I4:L4) -> 4 | O4: =IF(G4>M4,1,0) -> 0 | P4: =IF(M4>G4,1,0) -> 0 | R4: =SUM(O4:O8) -> 2 | S4: =SUM(P4:P8) -> 2 | U4: =IF(AND(MAX($C4:$F4,$I4:$L4)>0,C4=MAX($C4:$F4,$I4:$L4)),1,0) -> 0 | V4: =IF(AND(MAX($C4:$F4,$I4:$L4)>0,D4=MAX($C4:$F4,$I4:$L4)),1,) -> 0 | W4: =IF(AND(MAX($C4:$F4,$I4:$L4)>0,E4=MAX($C4:$F4,$I4:$L4)),1,) -> 0 | X4: =IF(AND(MAX($C4:$F4,$I4:$L4)>0,F4=MAX($C4:$F4,$I4:$L4)),1,) -> 1 | Z4: =U4+U5+U6+U7+U8 -> 1 | AA4: =V4+V5+V6+V7+V8 -> 1 | AB4: =W4+W5+W6+W7+W8 -> 0 | AC4: =SUM(X4+X5+X6+X7+X8) -> 2
B5: Phase 2 | C5: 2 | D5: 6 | E5: 0 | F5: 3 | G5: =SUM(C5:F5) -> 11 | I5: =[1]Journée!$F$181 -> 3 | J5: 0 | K5: 2 | L5: =[1]Journée!$F$280 -> 3 | M5: =SUM(I5:L5) -> 8 | O5: =IF(G5>M5,1,0) -> 1 | P5: =IF(M5>G5,1,0) -> 0 | U5: =IF(AND(MAX($C5:$F5,$I5:$L5)>0,C5=MAX($C5:$F5,$I5:$L5)),1,0) -> 0 | V5: =IF(AND(MAX($C5:$F5,$I5:$L5)>0,D5=MAX($C5:$F5,$I5:$L5)),1,) -> 1 | W5: =IF(AND(MAX($C5:$F5,$I5:$L5)>0,E5=MAX($C5:$F5,$I5:$L5)),1,) -> 0 | X5: =IF(AND(MAX($C5:$F5,$I5:$L5)>0,F5=MAX($C5:$F5,$I5:$L5)),1,) -> 0
B6: Phase 3 | C6: 5 | D6: 0 | E6: 0 | F6: 3 | G6: =SUM(C6:F6) -> 8 | I6: 3 | J6: 0 | K6: 5 | L6: =[1]Journée!$F$286 -> 4 | M6: =SUM(I6:L6) -> 12 | O6: =IF(G6>M6,1,0) -> 0 | P6: =IF(M6>G6,1,0) -> 1 | U6: =IF(AND(MAX($C6:$F6,$I6:$L6)>0,C6=MAX($C6:$F6,$I6:$L6)),1,0) -> 1 | V6: =IF(AND(MAX($C6:$F6,$I6:$L6)>0,D6=MAX($C6:$F6,$I6:$L6)),1,) -> 0 | W6: =IF(AND(MAX($C6:$F6,$I6:$L6)>0,E6=MAX($C6:$F6,$I6:$L6)),1,) -> 0 | X6: =IF(AND(MAX($C6:$F6,$I6:$L6)>0,F6=MAX($C6:$F6,$I6:$L6)),1,) -> 0
B7: Phase 4 | C7: 3 | D7: 0 | E7: 0 | F7: 2 | G7: =SUM(C7:F7) -> 5 | I7: 1 | J7: 0 | K7: 1 | L7: =[1]Journée!$F$292 -> 4 | M7: =SUM(I7:L7) -> 6 | O7: =IF(G7>M7,1,0) -> 0 | P7: =IF(M7>G7,1,0) -> 1 | U7: =IF(AND(MAX($C7:$F7,$I7:$L7)>0,C7=MAX($C7:$F7,$I7:$L7)),1,0) -> 0 | V7: =IF(AND(MAX($C7:$F7,$I7:$L7)>0,D7=MAX($C7:$F7,$I7:$L7)),1,) -> 0 | W7: =IF(AND(MAX($C7:$F7,$I7:$L7)>0,E7=MAX($C7:$F7,$I7:$L7)),1,) -> 0 | X7: =IF(AND(MAX($C7:$F7,$I7:$L7)>0,F7=MAX($C7:$F7,$I7:$L7)),1,) -> 0
B8: Phase 5 | C8: 0 | D8: 0 | E8: 0 | F8: 4 | G8: =SUM(C8:F8) -> 4 | I8: 1 | J8: 0 | K8: 1 | L8: =[1]Journée!$F$298 -> 0 | M8: =SUM(I8:L8) -> 2 | O8: =IF(G8>M8,1,0) -> 1 | P8: =IF(M8>G8,1,0) -> 0 | U8: =IF(AND(MAX($C8:$F8,$I8:$L8)>0,C8=MAX($C8:$F8,$I8:$L8)),1,0) -> 0 | V8: =IF(AND(MAX($C8:$F8,$I8:$L8)>0,D8=MAX($C8:$F8,$I8:$L8)),1,) -> 0 | W8: =IF(AND(MAX($C8:$F8,$I8:$L8)>0,E8=MAX($C8:$F8,$I8:$L8)),1,) -> 0 | X8: =IF(AND(MAX($C8:$F8,$I8:$L8)>0,F8=MAX($C8:$F8,$I8:$L8)),1,) -> 1
A10: Manche 2 | B10: Phase 1 | C10: 2 | D10: 0 | E10: 2 | F10: 3 | G10: =SUM(C10:F10) -> 7 | I10: 0 | J10: 0 | K10: 0 | L10: 0 | M10: =SUM(I10:L10) -> 0 | O10: =IF(G10>M10,1,0) -> 1 | P10: =IF(M10>G10,1,0) -> 0 | R10: =SUM(O10:O14) -> 5 | S10: =SUM(P10:P14) -> 0 | U10: =IF(AND(MAX($C10:$F10,$I10:$L10)>0,C10=MAX($C10:$F10,$I10:$L10)),1,) -> 0 | V10: =IF(AND(MAX($C10:$F10,$I10:$L10)>0,D10=MAX($C10:$F10,$I10:$L10)),1,) -> 0 | W10: =IF(AND(MAX($C10:$F10,$I10:$L10)>0,E10=MAX($C10:$F10,$I10:$L10)),1,) -> 0 | X10: =IF(AND(MAX($C10:$F10,$I10:$L10)>0,F10=MAX($C10:$F10,$I10:$L10)),1,) -> 1 | Z10: =U10+U11+U12+U13+U14 -> 1 | AA10: =V10+V11+V12+V13+V14 -> 0 | AB10: =W10+W11+W12+W13+W14 -> 2 | AC10: =SUM(X10+X11+X12+X13+X14) -> 4
B11: Phase 2 | C11: 0 | D11: 0 | E11: 0 | F11: 2 | G11: =SUM(C11:F11) -> 2 | I11: 0 | J11: 0 | K11: 0 | L11: 0 | M11: =SUM(I11:L11) -> 0 | O11: =IF(G11>M11,1,0) -> 1 | P11: =IF(M11>G11,1,0) -> 0 | U11: =IF(AND(MAX($C11:$F11,$I11:$L11)>0,C11=MAX($C11:$F11,$I11:$L11)),1,) -> 0 | V11: =IF(AND(MAX($C11:$F11,$I11:$L11)>0,D11=MAX($C11:$F11,$I11:$L11)),1,) -> 0 | W11: =IF(AND(MAX($C11:$F11,$I11:$L11)>0,E11=MAX($C11:$F11,$I11:$L11)),1,) -> 0 | X11: =IF(AND(MAX($C11:$F11,$I11:$L11)>0,F11=MAX($C11:$F11,$I11:$L11)),1,) -> 1
B12: Phase 3 | C12: 2 | D12: 0 | E12: 0 | F12: 2 | G12: =SUM(C12:F12) -> 4 | I12: 0 | J12: 0 | K12: 0 | L12: 0 | M12: =SUM(I12:L12) -> 0 | O12: =IF(G12>M12,1,0) -> 1 | P12: =IF(M12>G12,1,0) -> 0 | U12: =IF(AND(MAX($C12:$F12,$I12:$L12)>0,C12=MAX($C12:$F12,$I12:$L12)),1,) -> 1 | V12: =IF(AND(MAX($C12:$F12,$I12:$L12)>0,D12=MAX($C12:$F12,$I12:$L12)),1,) -> 0 | W12: =IF(AND(MAX($C12:$F12,$I12:$L12)>0,E12=MAX($C12:$F12,$I12:$L12)),1,) -> 0 | X12: =IF(AND(MAX($C12:$F12,$I12:$L12)>0,F12=MAX($C12:$F12,$I12:$L12)),1,) -> 1
B13: Phase 4 | C13: 1 | D13: 0 | E13: 3 | F13: 2 | G13: =SUM(C13:F13) -> 6 | I13: 0 | J13: 0 | K13: 0 | L13: 0 | M13: =SUM(I13:L13) -> 0 | O13: =IF(G13>M13,1,0) -> 1 | P13: =IF(M13>G13,1,0) -> 0 | U13: =IF(AND(MAX($C13:$F13,$I13:$L13)>0,C13=MAX($C13:$F13,$I13:$L13)),1,) -> 0 | V13: =IF(AND(MAX($C13:$F13,$I13:$L13)>0,D13=MAX($C13:$F13,$I13:$L13)),1,) -> 0 | W13: =IF(AND(MAX($C13:$F13,$I13:$L13)>0,E13=MAX($C13:$F13,$I13:$L13)),1,) -> 1 | X13: =IF(AND(MAX($C13:$F13,$I13:$L13)>0,F13=MAX($C13:$F13,$I13:$L13)),1,) -> 0
B14: Phase 5 | C14: 2 | D14: 0 | E14: 5 | F14: 5 | G14: =SUM(C14:F14) -> 12 | I14: 0 | J14: 0 | K14: 0 | L14: 0 | M14: =SUM(I14:L14) -> 0 | O14: =IF(G14>M14,1,0) -> 1 | P14: =IF(M14>G14,1,0) -> 0 | U14: =IF(AND(MAX($C14:$F14,$I14:$L14)>0,C14=MAX($C14:$F14,$I14:$L14)),1,) -> 0 | V14: =IF(AND(MAX($C14:$F14,$I14:$L14)>0,D14=MAX($C14:$F14,$I14:$L14)),1,) -> 0 | W14: =IF(AND(MAX($C14:$F14,$I14:$L14)>0,E14=MAX($C14:$F14,$I14:$L14)),1,) -> 1 | X14: =IF(AND(MAX($C14:$F14,$I14:$L14)>0,F14=MAX($C14:$F14,$I14:$L14)),1,) -> 1
A16: Manche 3 | B16: Phase 1 | C16: 0 | D16: 0 | E16: 0 | F16: 0 | G16: =SUM(C16:F16) -> 0 | I16: 0 | J16: 0 | K16: 0 | L16: 0 | M16: =SUM(I16:L16) -> 0 | O16: =IF(G16>M16,1,0) -> 0 | P16: =IF(M16>G16,1,0) -> 0 | R16: =SUM(O16:O20) -> 0 | S16: =SUM(P16:P20) -> 0 | U16: =IF(AND(MAX($C16:$F16,$I16:$L16)>0,C16=MAX($C16:$F16,$I16:$L16)),1,) -> 0 | V16: =IF(AND(MAX($C16:$F16,$I16:$L16)>0,D16=MAX($C16:$F16,$I16:$L16)),1,) -> 0 | W16: =IF(AND(MAX($C16:$F16,$I16:$L16)>0,E16=MAX($C16:$F16,$I16:$L16)),1,) -> 0 | X16: =IF(AND(MAX($C16:$F16,$I16:$L16)>0,F16=MAX($C16:$F16,$I16:$L16)),1,) -> 0 | Z16: =U16+U17+U18+U19+U20 -> 0 | AA16: =V16+V17+V18+V19+V20 -> 0 | AB16: =W16+W17+W18+W19+W20 -> 0 | AC16: =SUM(X16+X17+X18+X19+X20) -> 0
B17: Phase 2 | C17: 0 | D17: 0 | E17: 0 | F17: 0 | G17: =SUM(C17:F17) -> 0 | I17: 0 | J17: 0 | K17: 0 | L17: 0 | M17: =SUM(I17:L17) -> 0 | O17: =IF(G17>M17,1,0) -> 0 | P17: =IF(M17>G17,1,0) -> 0 | U17: =IF(AND(MAX($C17:$F17,$I17:$L17)>0,C17=MAX($C17:$F17,$I17:$L17)),1,) -> 0 | V17: =IF(AND(MAX($C17:$F17,$I17:$L17)>0,D17=MAX($C17:$F17,$I17:$L17)),1,) -> 0 | W17: =IF(AND(MAX($C17:$F17,$I17:$L17)>0,E17=MAX($C17:$F17,$I17:$L17)),1,) -> 0 | X17: =IF(AND(MAX($C17:$F17,$I17:$L17)>0,F17=MAX($C17:$F17,$I17:$L17)),1,) -> 0
B18: Phase 3 | C18: 0 | D18: 0 | E18: 0 | F18: 0 | G18: =SUM(C18:F18) -> 0 | I18: 0 | J18: 0 | K18: 0 | L18: 0 | M18: =SUM(I18:L18) -> 0 | O18: =IF(G18>M18,1,0) -> 0 | P18: =IF(M18>G18,1,0) -> 0 | U18: =IF(AND(MAX($C18:$F18,$I18:$L18)>0,C18=MAX($C18:$F18,$I18:$L18)),1,) -> 0 | V18: =IF(AND(MAX($C18:$F18,$I18:$L18)>0,D18=MAX($C18:$F18,$I18:$L18)),1,) -> 0 | W18: =IF(AND(MAX($C18:$F18,$I18:$L18)>0,E18=MAX($C18:$F18,$I18:$L18)),1,) -> 0 | X18: =IF(AND(MAX($C18:$F18,$I18:$L18)>0,F18=MAX($C18:$F18,$I18:$L18)),1,) -> 0
B19: Phase 4 | C19: 0 | D19: 0 | E19: 0 | F19: 0 | G19: =SUM(C19:F19) -> 0 | I19: 0 | J19: 0 | K19: 0 | L19: 0 | M19: =SUM(I19:L19) -> 0 | O19: =IF(G19>M19,1,0) -> 0 | P19: =IF(M19>G19,1,0) -> 0 | U19: =IF(AND(MAX($C19:$F19,$I19:$L19)>0,C19=MAX($C19:$F19,$I19:$L19)),1,) -> 0 | V19: =IF(AND(MAX($C19:$F19,$I19:$L19)>0,D19=MAX($C19:$F19,$I19:$L19)),1,) -> 0 | W19: =IF(AND(MAX($C19:$F19,$I19:$L19)>0,E19=MAX($C19:$F19,$I19:$L19)),1,) -> 0 | X19: =IF(AND(MAX($C19:$F19,$I19:$L19)>0,F19=MAX($C19:$F19,$I19:$L19)),1,) -> 0
B20: Phase 5 | C20: 0 | D20: 0 | E20: 0 | F20: 0 | G20: =SUM(C20:F20) -> 0 | I20: 0 | J20: 0 | K20: 0 | L20: 0 | M20: =SUM(I20:L20) -> 0 | O20: =IF(G20>M20,1,0) -> 0 | P20: =IF(M20>G20,1,0) -> 0 | U20: =IF(AND(MAX($C20:$F20,$I20:$L20)>0,C20=MAX($C20:$F20,$I20:$L20)),1,) -> 0 | V20: =IF(AND(MAX($C20:$F20,$I20:$L20)>0,D20=MAX($C20:$F20,$I20:$L20)),1,) -> 0 | W20: =IF(AND(MAX($C20:$F20,$I20:$L20)>0,E20=MAX($C20:$F20,$I20:$L20)),1,) -> 0 | X20: =IF(AND(MAX($C20:$F20,$I20:$L20)>0,F20=MAX($C20:$F20,$I20:$L20)),1,) -> 0
A22: Manche 4 | B22: Phase 1 | O22: =IF(G22>M22,1,0) -> 0 | P22: =IF(M22>G22,1,0) -> 0 | R22: =SUM(O22:O26) -> 0 | S22: =SUM(P22:P26) -> 0 | U22: =IF(AND(MAX($C22:$F22,$I22:$L22)>0,C22=MAX($C22:$F22,$I22:$L22)),1,) -> 0 | V22: =IF(AND(MAX($C22:$F22,$I22:$L22)>0,D22=MAX($C22:$F22,$I22:$L22)),1,) -> 0 | W22: =IF(AND(MAX($C22:$F22,$I22:$L22)>0,E22=MAX($C22:$F22,$I22:$L22)),1,) -> 0 | X22: =IF(AND(MAX($C22:$F22,$I22:$L22)>0,F22=MAX($C22:$F22,$I22:$L22)),1,) -> 0 | Z22: =U22+U23+U24+U25+U26 -> 0 | AA22: =V22+V23+V24+V25+V26 -> 0 | AB22: =W22+W23+W24+W25+W26 -> 0 | AC22: =SUM(X22+X23+X24+X25+X26) -> 0
B23: Phase 2 | O23: =IF(G23>M23,1,0) -> 0 | P23: =IF(M23>G23,1,0) -> 0 | U23: =IF(AND(MAX($C23:$F23,$I23:$L23)>0,C23=MAX($C23:$F23,$I23:$L23)),1,) -> 0 | V23: =IF(AND(MAX($C23:$F23,$I23:$L23)>0,D23=MAX($C23:$F23,$I23:$L23)),1,) -> 0 | W23: =IF(AND(MAX($C23:$F23,$I23:$L23)>0,E23=MAX($C23:$F23,$I23:$L23)),1,) -> 0 | X23: =IF(AND(MAX($C23:$F23,$I23:$L23)>0,F23=MAX($C23:$F23,$I23:$L23)),1,) -> 0
B24: Phase 3 | O24: =IF(G24>M24,1,0) -> 0 | P24: =IF(M24>G24,1,0) -> 0 | U24: =IF(AND(MAX($C24:$F24,$I24:$L24)>0,C24=MAX($C24:$F24,$I24:$L24)),1,) -> 0 | V24: =IF(AND(MAX($C24:$F24,$I24:$L24)>0,D24=MAX($C24:$F24,$I24:$L24)),1,) -> 0 | W24: =IF(AND(MAX($C24:$F24,$I24:$L24)>0,E24=MAX($C24:$F24,$I24:$L24)),1,) -> 0 | X24: =IF(AND(MAX($C24:$F24,$I24:$L24)>0,F24=MAX($C24:$F24,$I24:$L24)),1,) -> 0
B25: Phase 4 | O25: =IF(G25>M25,1,0) -> 0 | P25: =IF(M25>G25,1,0) -> 0 | U25: =IF(AND(MAX($C25:$F25,$I25:$L25)>0,C25=MAX($C25:$F25,$I25:$L25)),1,) -> 0 | V25: =IF(AND(MAX($C25:$F25,$I25:$L25)>0,D25=MAX($C25:$F25,$I25:$L25)),1,) -> 0 | W25: =IF(AND(MAX($C25:$F25,$I25:$L25)>0,E25=MAX($C25:$F25,$I25:$L25)),1,) -> 0 | X25: =IF(AND(MAX($C25:$F25,$I25:$L25)>0,F25=MAX($C25:$F25,$I25:$L25)),1,) -> 0
B26: Phase 5 | O26: =IF(G26>M26,1,0) -> 0 | P26: =IF(M26>G26,1,0) -> 0 | U26: =IF(AND(MAX($C26:$F26,$I26:$L26)>0,C26=MAX($C26:$F26,$I26:$L26)),1,) -> 0 | V26: =IF(AND(MAX($C26:$F26,$I26:$L26)>0,D26=MAX($C26:$F26,$I26:$L26)),1,) -> 0 | W26: =IF(AND(MAX($C26:$F26,$I26:$L26)>0,E26=MAX($C26:$F26,$I26:$L26)),1,) -> 0 | X26: =IF(AND(MAX($C26:$F26,$I26:$L26)>0,F26=MAX($C26:$F26,$I26:$L26)),1,) -> 0
