Workbook

Sheet Classement
B3: 4e provinciale Hainaut I
C4: Équipes | D4: Matches | E4: Victoires | F4: Nuls | G4: Défaites | H4: Buts p. | I4: Buts c. | J4: Diff. | K4: Points
B5: 1. | C5: REC Beaumont B | D5: =E5+F5+G5 -> 0 | E5: =IF(Matches!F8>Matches!H8,1,0)+IF(Matches!F19>Matches!H19,1,0)+IF(Matches!H26>Matches!F26,1,0)+IF(Matches!F39>Matches!H39,1,0)+IF(Matches!H48>Matches!F48,1,0)+IF(Matches!F54>Matches!H54,1,0)+IF(Matches!H66>Matches!F66,1,0)+IF(Matches!F74>Matches!H74,1,0)+IF(Matches!H85>Matches!F85,1,0)+IF(Matches!F99>Matches!H99,1,0)+IF(Matches!H105>Matches!F105,1,0)+IF(Matches!F119>Matches!H119,1,0)+IF(Matches!H125>Matches!F125,1,0)+IF(Matches!H133>Matches!F133,1,0)+IF(Matches!F149>Matches!H149,1,0)+IF(Matches!N3>Matches!P3,1,0)+IF(Matches!P13>Matches!N13,1,0)+IF(Matches!N25>Matches!P25,1,0)+IF(Matches!P39>Matches!N39,1,0)+IF(Matches!N45>Matches!P45,1,0)+IF(Matches!N60>Matches!P60,1,0)+IF(Matches!P65>Matches!N65,1,0)+IF(Matches!P73>Matches!N73,1,0)+IF(Matches!N89>Matches!P89,1,0)+IF(Matches!P98>Matches!N98,1,0)+IF(Matches!P110>Matches!N110,1,0)+IF(Matches!N117>Matches!P117,1,0)+IF(Matches!P130>Matches!N130,1,0)+IF(Matches!N138>Matches!P138,1,0)+IF(Matches!P143>Matches!N143,1,0) -> 0 | F5: =IF(AND(Matches!F8<>"",Matches!H8<>"",Matches!F8=Matches!H8),1,0)+IF(AND(Matches!F19<>"",Matches!H19<>"",Matches!F19=Matches!H19),1,0)+IF(AND(Matches!H26<>"",Matches!F26<>"",Matches!H26=Matches!F26),1,0)+IF(AND(Matches!F39<>"",Matches!H39<>"",Matches!F39=Matches!H39),1,0)+IF(AND(Matches!H48<>"",Matches!F48<>"",Matches!H48=Matches!F48),1,0)+IF(AND(Matches!F54<>"",Matches!H54<>"",Matches!F54=Matches!H54),1,0)+IF(AND(Matches!H66<>"",Matches!F66<>"",Matches!H66=Matches!F66),1,0)+IF(AND(Matches!F74<>"",Matches!H74<>"",Matches!F74=Matches!H74),1,0)+IF(AND(Matches!H85<>"",Matches!F85<>"",Matches!H85=Matches!F85),1,0)+IF(AND(Matches!F99<>"",Matches!H99<>"",Matches!F99=Matches!H99),1,0)+IF(AND(Matches!H105<>"",Matches!F105<>"",Matches!H105=Matches!F105),1,0)+IF(AND(Matches!F119<>"",Matches!H119<>"",Matches!F119=Matches!H119),1,0)+IF(AND(Matches!H125<>"",Matches!F125<>"",Matches!H125=Matches!F125),1,0)+IF(AND(Matches!H133<>"",Matches!F133<>"",Matches!H133=Matches!F133),1,0)+IF(AND(Matches!F149<>"",Matches!H149<>"",Matches!F149=Matches!H149),1,0)+IF(AND(Matches!N3<>"",Matches!P3<>"",Matches!N3=Matches!P3),1,0)+IF(AND(Matches!P13<>"",Matches!N13<>"",Matches!P13=Matches!N13),1,0)+IF(AND(Matches!N25<>"",Matches!P25<>"",Matches!N25=Matches!P25),1,0)+IF(AND(Matches!P39<>"",Matches!N39<>"",Matches!P39=Matches!N39),1,0)+IF(AND(Matches!N45<>"",Matches!P45<>"",Matches!N45=Matches!P45),1,0)+IF(AND(Matches!N60<>"",Matches!P60<>"",Matches!N60=Matches!P60),1,0)+IF(AND(Matches!P65<>"",Matches!N65<>"",Matches!P65=Matches!N65),1,0)+IF(AND(Matches!P73<>"",Matches!N73<>"",Matches!P73=Matches!N73),1,0)+IF(AND(Matches!N89<>"",Matches!P89<>"",Matches!N89=Matches!P89),1,0)+IF(AND(Matches!P98<>"",Matches!N98<>"",Matches!P98=Matches!N98),1,0)+IF(AND(Matches!P110<>"",Matches!N110<>"",Matches!P110=Matches!N110),1,0)+IF(AND(Matches!N117<>"",Matches!P117<>"",Matches!N117=Matches!P117),1,0)+IF(AND(Matches!P130<>"",Matches!N130<>"",Matches!P130=Matches!N130),1,0)+IF(AND(Matches!N138<>"",Matches!P138<>"",Matches!N138=Matches!P138),1,0)+IF(AND(Matches!P143<>"",Matches!N143<>"",Matches!P143=Matches!N143),1,0) -> 0 | G5: =IF(Matches!F8<Matches!H8,1,0)+IF(Matches!F19<Matches!H19,1,0)+IF(Matches!H26<Matches!F26,1,0)+IF(Matches!F39<Matches!H39,1,0)+IF(Matches!H48<Matches!F48,1,0)+IF(Matches!F54<Matches!H54,1,0)+IF(Matches!H66<Matches!F66,1,0)+IF(Matches!F74<Matches!H74,1,0)+IF(Matches!H85<Matches!F85,1,0)+IF(Matches!F99<Matches!H99,1,0)+IF(Matches!H105<Matches!F105,1,0)+IF(Matches!F119<Matches!H119,1,0)+IF(Matches!H125<Matches!F125,1,0)+IF(Matches!H133<Matches!F133,1,0)+IF(Matches!F149<Matches!H149,1,0)+IF(Matches!N3<Matches!P3,1,0)+IF(Matches!P13<Matches!N13,1,0)+IF(Matches!N25<Matches!P25,1,0)+IF(Matches!P39<Matches!N39,1,0)+IF(Matches!N45<Matches!P45,1,0)+IF(Matches!N60<Matches!P60,1,0)+IF(Matches!P65<Matches!N65,1,0)+IF(Matches!P73<Matches!N73,1,0)+IF(Matches!N89<Matches!P89,1,0)+IF(Matches!P98<Matches!N98,1,0)+IF(Matches!P110<Matches!N110,1,0)+IF(Matches!N117<Matches!P117,1,0)+IF(Matches!P130<Matches!N130,1,0)+IF(Matches!N138<Matches!P138,1,0)+IF(Matches!P143<Matches!N143,1,0) -> 0 | H5: =Matches!F8+Matches!F19+Matches!H26+Matches!F39+Matches!H48+Matches!F54+Matches!H66+Matches!F74+Matches!H85+Matches!F99+Matches!H105+Matches!F119+Matches!H125+Matches!H133+Matches!F149+Matches!N3+Matches!P13+Matches!N25+Matches!P39+Matches!N45+Matches!N60+Matches!P65+Matches!P73+Matches!N89+Matches!P98+Matches!P110+Matches!N117+Matches!P130+Matches!N138+Matches!P143 -> 0 | I5: =Matches!H8+Matches!H19+Matches!F26+Matches!H39+Matches!F48+Matches!H54+Matches!F66+Matches!H74+Matches!F85+Matches!H99+Matches!F105+Matches!H119+Matches!F125+Matches!F133+Matches!H149+Matches!P3+Matches!N13+Matches!P25+Matches!N39+Matches!P45+Matches!P60+Matches!N65+Matches!N73+Matches!P89+Matches!N98+Matches!N110+Matches!P117+Matches!N130+Matches!P138+Matches!N143 -> 0 | J5: =H5-I5 -> 0 | K5: =E5*3+F5 -> 0
B6: 2. | C6: ES Mominoise B | D6: =E6+F6+G6 -> 0 | E6: =IF(Matches!F3>Matches!H3,1,0)+IF(Matches!H19>Matches!F19,1,0)+IF(Matches!F23>Matches!H23,1,0)+IF(Matches!F33>Matches!H33,1,0)+IF(Matches!H49>Matches!F49,1,0)+IF(Matches!F53>Matches!H53,1,0)+IF(Matches!H67>Matches!F67,1,0)+IF(Matches!F73>Matches!H73,1,0)+IF(Matches!H87>Matches!F87,1,0)+IF(Matches!F93>Matches!H93,1,0)+IF(Matches!H104>Matches!F104,1,0)+IF(Matches!F113>Matches!H113,1,0)+IF(Matches!H126>Matches!F126,1,0)+IF(Matches!H134>Matches!F134,1,0)+IF(Matches!F150>Matches!H150,1,0)+IF(Matches!N4>Matches!P4,1,0)+IF(Matches!N13>Matches!P13,1,0)+IF(Matches!P24>Matches!N24,1,0)+IF(Matches!P38>Matches!N38,1,0)+IF(Matches!N46>Matches!P46,1,0)+IF(Matches!N53>Matches!P53,1,0)+IF(Matches!P66>Matches!N66,1,0)+IF(Matches!P74>Matches!N74,1,0)+IF(Matches!N83>Matches!P83,1,0)+IF(Matches!P99>Matches!N99,1,0)+IF(Matches!P103>Matches!N103,1,0)+IF(Matches!N113>Matches!P113,1,0)+IF(Matches!P127>Matches!N127,1,0)+IF(Matches!N133>Matches!P133,1,0)+IF(Matches!P144>Matches!N144,1,0) -> 0 | F6: =IF(AND(Matches!F3<>"",Matches!H3<>"",Matches!F3=Matches!H3),1,0)+IF(AND(Matches!H19<>"",Matches!F19<>"",Matches!H19=Matches!F19),1,0)+IF(AND(Matches!F23<>"",Matches!H23<>"",Matches!F23=Matches!H23),1,0)+IF(AND(Matches!F33<>"",Matches!H33<>"",Matches!F33=Matches!H33),1,0)+IF(AND(Matches!H49<>"",Matches!F49<>"",Matches!H49=Matches!F49),1,0)+IF(AND(Matches!F53<>"",Matches!H53<>"",Matches!F53=Matches!H53),1,0)+IF(AND(Matches!H67<>"",Matches!F67<>"",Matches!H67=Matches!F67),1,0)+IF(AND(Matches!F73<>"",Matches!H73<>"",Matches!F73=Matches!H73),1,0)+IF(AND(Matches!H87<>"",Matches!F87<>"",Matches!H87=Matches!F87),1,0)+IF(AND(Matches!F93<>"",Matches!H93<>"",Matches!F93=Matches!H93),1,0)+IF(AND(Matches!H104<>"",Matches!F104<>"",Matches!H104=Matches!F104),1,0)+IF(AND(Matches!F113<>"",Matches!H113<>"",Matches!F113=Matches!H113),1,0)+IF(AND(Matches!H126<>"",Matches!F126<>"",Matches!H126=Matches!F126),1,0)+IF(AND(Matches!H134<>"",Matches!F134<>"",Matches!H134=Matches!F134),1,0)+IF(AND(Matches!F150<>"",Matches!H150<>"",Matches!F150=Matches!H150),1,0)+IF(AND(Matches!N4<>"",Matches!P4<>"",Matches!N4=Matches!P4),1,0)+IF(AND(Matches!N13<>"",Matches!P13<>"",Matches!N13=Matches!P13),1,0)+IF(AND(Matches!P24<>"",Matches!N24<>"",Matches!P24=Matches!N24),1,0)+IF(AND(Matches!P38<>"",Matches!N38<>"",Matches!P38=Matches!N38),1,0)+IF(AND(Matches!N46<>"",Matches!P46<>"",Matches!N46=Matches!P46),1,0)+IF(AND(Matches!N53<>"",Matches!P53<>"",Matches!N53=Matches!P53),1,0)+IF(AND(Matches!P66<>"",Matches!N66<>"",Matches!P66=Matches!N66),1,0)+IF(AND(Matches!P74<>"",Matches!N74<>"",Matches!P74=Matches!N74),1,0)+IF(AND(Matches!N83<>"",Matches!P83<>"",Matches!N83=Matches!P83),1,0)+IF(AND(Matches!P99<>"",Matches!N99<>"",Matches!P99=Matches!N99),1,0)+IF(AND(Matches!P103<>"",Matches!N103<>"",Matches!P103=Matches!N103),1,0)+IF(AND(Matches!N113<>"",Matches!P113<>"",Matches!N113=Matches!P113),1,0)+IF(AND(Matches!P127<>"",Matches!N127<>"",Matches!P127=Matches!N127),1,0)+IF(AND(Matches!N133<>"",Matches!P133<>"",Matches!N133=Matches!P133),1,0)+IF(AND(Matches!P144<>"",Matches!N144<>"",Matches!P144=Matches!N144),1,0) -> 0 | G6: =IF(Matches!F3<Matches!H3,1,0)+IF(Matches!H19<Matches!F19,1,0)+IF(Matches!F23<Matches!H23,1,0)+IF(Matches!F33<Matches!H33,1,0)+IF(Matches!H49<Matches!F49,1,0)+IF(Matches!F53<Matches!H53,1,0)+IF(Matches!H67<Matches!F67,1,0)+IF(Matches!F73<Matches!H73,1,0)+IF(Matches!H87<Matches!F87,1,0)+IF(Matches!F93<Matches!H93,1,0)+IF(Matches!H104<Matches!F104,1,0)+IF(Matches!F113<Matches!H113,1,0)+IF(Matches!H126<Matches!F126,1,0)+IF(Matches!H134<Matches!F134,1,0)+IF(Matches!F150<Matches!H150,1,0)+IF(Matches!N4<Matches!P4,1,0)+IF(Matches!N13<Matches!P13,1,0)+IF(Matches!P24<Matches!N24,1,0)+IF(Matches!P38<Matches!N38,1,0)+IF(Matches!N46<Matches!P46,1,0)+IF(Matches!N53<Matches!P53,1,0)+IF(Matches!P66<Matches!N66,1,0)+IF(Matches!P74<Matches!N74,1,0)+IF(Matches!N83<Matches!P83,1,0)+IF(Matches!P99<Matches!N99,1,0)+IF(Matches!P103<Matches!N103,1,0)+IF(Matches!N113<Matches!P113,1,0)+IF(Matches!P127<Matches!N127,1,0)+IF(Matches!N133<Matches!P133,1,0)+IF(Matches!P144<Matches!N144,1,0) -> 0 | H6: =Matches!F3+Matches!H19+Matches!F23+Matches!F33+Matches!H49+Matches!F53+Matches!H67+Matches!F73+Matches!H87+Matches!F93+Matches!H104+Matches!F113+Matches!H126+Matches!H134+Matches!F150+Matches!N4+Matches!N13+Matches!P24+Matches!P38+Matches!N46+Matches!N53+Matches!P66+Matches!P74+Matches!N83+Matches!P99+Matches!P103+Matches!N113+Matches!P127+Matches!N133+Matches!P144 -> 0 | I6: =Matches!H3+Matches!F19+Matches!H23+Matches!H33+Matches!F49+Matches!H53+Matches!F67+Matches!H73+Matches!F87+Matches!H93+Matches!F104+Matches!H113+Matches!P4+Matches!P13+Matches!N24+Matches!N38+Matches!P46+Matches!P53+Matches!N66+Matches!N74+Matches!P83+Matches!N99+Matches!N103+Matches!P113+Matches!N144+Matches!P133+Matches!N127 -> 0 | J6: =H6-I6 -> 0 | K6: =E6*3+F6 -> 0
B7: 3. | C7: RFC Lobbes | D7: =E7+F7+G7 -> 0 | E7: =IF(Matches!H3>Matches!F3,1,0)+IF(Matches!F20>Matches!H20,1,0)+IF(Matches!H27>Matches!F27,1,0)+IF(Matches!H40>Matches!F40,1,0)+IF(Matches!F44>Matches!H44,1,0)+IF(Matches!H58>Matches!F58,1,0)+IF(Matches!F64>Matches!H64,1,0)+IF(Matches!H76>Matches!F76,1,0)+IF(Matches!F84>Matches!H84,1,0)+IF(Matches!H99>Matches!F99,1,0)+IF(Matches!F104>Matches!H104,1,0)+IF(Matches!H118>Matches!F118,1,0)+IF(Matches!F128>Matches!H128,1,0)+IF(Matches!F138>Matches!H138,1,0)+IF(Matches!H146>Matches!F146,1,0)+IF(Matches!P9>Matches!N9,1,0)+IF(Matches!P14>Matches!N14,1,0)+IF(Matches!N23>Matches!P23,1,0)+IF(Matches!N40>Matches!P40,1,0)+IF(Matches!P48>Matches!N48,1,0)+IF(Matches!P58>Matches!N58,1,0)+IF(Matches!N67>Matches!P67,1,0)+IF(Matches!N76>Matches!P76,1,0)+IF(Matches!P90>Matches!N90,1,0)+IF(Matches!N93>Matches!P93,1,0)+IF(Matches!N110>Matches!P110,1,0)+IF(Matches!P120>Matches!N120,1,0)+IF(Matches!N124>Matches!P124,1,0)+IF(Matches!P135>Matches!N135,1,0)+IF(Matches!N149>Matches!P149,1,0) -> 0 | F7: =IF(AND(Matches!H3<>"",Matches!F3<>"",Matches!H3=Matches!F3),1,0)+IF(AND(Matches!F20<>"",Matches!H20<>"",Matches!F20=Matches!H20),1,0)+IF(AND(Matches!H27<>"",Matches!F27<>"",Matches!H27=Matches!F27),1,0)+IF(AND(Matches!H40<>"",Matches!F40<>"",Matches!H40=Matches!F40),1,0)+IF(AND(Matches!F44<>"",Matches!H44<>"",Matches!F44=Matches!H44),1,0)+IF(AND(Matches!H58<>"",Matches!F58<>"",Matches!H58=Matches!F58),1,0)+IF(AND(Matches!F64<>"",Matches!H64<>"",Matches!F64=Matches!H64),1,0)+IF(AND(Matches!H76<>"",Matches!F76<>"",Matches!H76=Matches!F76),1,0)+IF(AND(Matches!F84<>"",Matches!H84<>"",Matches!F84=Matches!H84),1,0)+IF(AND(Matches!H99<>"",Matches!F99<>"",Matches!H99=Matches!F99),1,0)+IF(AND(Matches!F104<>"",Matches!H104<>"",Matches!F104=Matches!H104),1,0)+IF(AND(Matches!H118<>"",Matches!F118<>"",Matches!H118=Matches!F118),1,0)+IF(AND(Matches!F128<>"",Matches!H128<>"",Matches!F128=Matches!H128),1,0)+IF(AND(Matches!F138<>"",Matches!H138<>"",Matches!F138=Matches!H138),1,0)+IF(AND(Matches!H146<>"",Matches!F146<>"",Matches!H146=Matches!F146),1,0)+IF(AND(Matches!P9<>"",Matches!N9<>"",Matches!P9=Matches!N9),1,0)+IF(AND(Matches!P14<>"",Matches!N14<>"",Matches!P14=Matches!N14),1,0)+IF(AND(Matches!N23<>"",Matches!P23<>"",Matches!N23=Matches!P23),1,0)+IF(AND(Matches!N40<>"",Matches!P40<>"",Matches!N40=Matches!P40),1,0)+IF(AND(Matches!P48<>"",Matches!N48<>"",Matches!P48=Matches!N48),1,0)+IF(AND(Matches!P58<>"",Matches!N58<>"",Matches!P58=Matches!N58),1,0)+IF(AND(Matches!N67<>"",Matches!P67<>"",Matches!N67=Matches!P67),1,0)+IF(AND(Matches!N76<>"",Matches!P76<>"",Matches!N76=Matches!P76),1,0)+IF(AND(Matches!P90<>"",Matches!N90<>"",Matches!P90=Matches!N90),1,0)+IF(AND(Matches!N93<>"",Matches!P93<>"",Matches!N93=Matches!P93),1,0)+IF(AND(Matches!N110<>"",Matches!P110<>"",Matches!N110=Matches!P110),1,0)+IF(AND(Matches!P120<>"",Matches!N120<>"",Matches!P120=Matches!N120),1,0)+IF(AND(Matches!N124<>"",Matches!P124<>"",Matches!N124=Matches!P124),1,0)+IF(AND(Matches!P135<>"",Matches!N135<>"",Matches!P135=Matches!N135),1,0)+IF(AND(Matches!N149<>"",Matches!P149<>"",Matches!N149=Matches!P149),1,0) -> 0 | G7: =IF(Matches!H3<Matches!F3,1,0)+IF(Matches!F20<Matches!H20,1,0)+IF(Matches!H27<Matches!F27,1,0)+IF(Matches!H40<Matches!F40,1,0)+IF(Matches!F44<Matches!H44,1,0)+IF(Matches!H58<Matches!F58,1,0)+IF(Matches!F64<Matches!H64,1,0)+IF(Matches!H76<Matches!F76,1,0)+IF(Matches!F84<Matches!H84,1,0)+IF(Matches!H99<Matches!F99,1,0)+IF(Matches!F104<Matches!H104,1,0)+IF(Matches!H118<Matches!F118,1,0)+IF(Matches!F128<Matches!H128,1,0)+IF(Matches!F138<Matches!H138,1,0)+IF(Matches!H146<Matches!F146,1,0)+IF(Matches!P9<Matches!N9,1,0)+IF(Matches!P14<Matches!N14,1,0)+IF(Matches!N23<Matches!P23,1,0)+IF(Matches!N40<Matches!P40,1,0)+IF(Matches!P48<Matches!N48,1,0)+IF(Matches!P58<Matches!N58,1,0)+IF(Matches!N67<Matches!P67,1,0)+IF(Matches!N76<Matches!P76,1,0)+IF(Matches!P90<Matches!N90,1,0)+IF(Matches!N93<Matches!P93,1,0)+IF(Matches!N110<Matches!P110,1,0)+IF(Matches!P120<Matches!N120,1,0)+IF(Matches!N124<Matches!P124,1,0)+IF(Matches!P135<Matches!N135,1,0)+IF(Matches!N149<Matches!P149,1,0) -> 0 | H7: =Matches!H3+Matches!F20+Matches!H27+Matches!H40+Matches!F44+Matches!H58+Matches!F64+Matches!H76+Matches!F84+Matches!H99+Matches!F104+Matches!H118+Matches!F128+Matches!F138+Matches!H146+Matches!P9+Matches!P14+Matches!N23+Matches!N40+Matches!P48+Matches!P58+Matches!N67+Matches!N76+Matches!P90+Matches!N93+Matches!N110+Matches!P120+Matches!N124+Matches!P135+Matches!N149 -> 0 | I7: =Matches!F3+Matches!H20+Matches!F27+Matches!F40+Matches!H44+Matches!F58+Matches!H64+Matches!F76+Matches!H84+Matches!F99+Matches!H104+Matches!F118+Matches!H128+Matches!H138+Matches!F146+Matches!N9+Matches!N14+Matches!P23+Matches!P40+Matches!N48+Matches!N58+Matches!P67+Matches!P76+Matches!N90+Matches!P93+Matches!P110+Matches!N120+Matches!P124+Matches!N135+Matches!P149 -> 0 | J7: =H7-I7 -> 0 | K7: =E7*3+F7 -> 0
B8: 4. | C8: Sivry SP | D8: =E8+F8+G8 -> 0 | E8: =IF(Matches!F9>Matches!H9,1,0)+IF(Matches!H14>Matches!F14,1,0)+IF(Matches!F26>Matches!H26,1,0)+IF(Matches!H33>Matches!F33,1,0)+IF(Matches!F50>Matches!H50,1,0)+IF(Matches!F59>Matches!H59,1,0)+IF(Matches!H68>Matches!F68,1,0)+IF(Matches!F79>Matches!H79,1,0)+IF(Matches!H88>Matches!F88,1,0)+IF(Matches!F94>Matches!H94,1,0)+IF(Matches!H103>Matches!F103,1,0)+IF(Matches!F118>Matches!H118,1,0)+IF(Matches!H127>Matches!F127,1,0)+IF(Matches!H135>Matches!F135,1,0)+IF(Matches!F148>Matches!H148,1,0)+IF(Matches!N5>Matches!P5,1,0)+IF(Matches!N19>Matches!P19,1,0)+IF(Matches!P25>Matches!N25,1,0)+IF(Matches!N38>Matches!P38,1,0)+IF(Matches!P47>Matches!N47,1,0)+IF(Matches!N56>Matches!P56,1,0)+IF(Matches!P67>Matches!N67,1,0)+IF(Matches!P75>Matches!N75,1,0)+IF(Matches!N84>Matches!P84,1,0)+IF(Matches!P96>Matches!N96,1,0)+IF(Matches!P104>Matches!N104,1,0)+IF(Matches!N118>Matches!P118,1,0)+IF(Matches!P128>Matches!N128,1,0)+IF(Matches!N137>Matches!P137,1,0)+IF(Matches!P145>Matches!N145,1,0) -> 0 | F8: =IF(AND(Matches!F9<>"",Matches!H9<>"",Matches!F9=Matches!H9),1,0)+IF(AND(Matches!H14<>"",Matches!F14<>"",Matches!H14=Matches!F14),1,0)+IF(AND(Matches!F26<>"",Matches!H26<>"",Matches!F26=Matches!H26),1,0)+IF(AND(Matches!H33<>"",Matches!F33<>"",Matches!H33=Matches!F33),1,0)+IF(AND(Matches!F50<>"",Matches!H50<>"",Matches!F50=Matches!H50),1,0)+IF(AND(Matches!F59<>"",Matches!H59<>"",Matches!F59=Matches!H59),1,0)+IF(AND(Matches!H68<>"",Matches!F68<>"",Matches!H68=Matches!F68),1,0)+IF(AND(Matches!F79<>"",Matches!H79<>"",Matches!F79=Matches!H79),1,0)+IF(AND(Matches!H88<>"",Matches!F88<>"",Matches!H88=Matches!F88),1,0)+IF(AND(Matches!F94<>"",Matches!H94<>"",Matches!F94=Matches!H94),1,0)+IF(AND(Matches!H103<>"",Matches!F103<>"",Matches!H103=Matches!F103),1,0)+IF(AND(Matches!F118<>"",Matches!H118<>"",Matches!F118=Matches!H118),1,0)+IF(AND(Matches!H127<>"",Matches!F127<>"",Matches!H127=Matches!F127),1,0)+IF(AND(Matches!H135<>"",Matches!F135<>"",Matches!H135=Matches!F135),1,0)+IF(AND(Matches!F148<>"",Matches!H148<>"",Matches!F148=Matches!H148),1,0)+IF(AND(Matches!N5<>"",Matches!P5<>"",Matches!N5=Matches!P5),1,0)+IF(AND(Matches!N19<>"",Matches!P19<>"",Matches!N19=Matches!P19),1,0)+IF(AND(Matches!P25<>"",Matches!N25<>"",Matches!P25=Matches!N25),1,0)+IF(AND(Matches!N38<>"",Matches!P38<>"",Matches!N38=Matches!P38),1,0)+IF(AND(Matches!P47<>"",Matches!N47<>"",Matches!P47=Matches!N47),1,0)+IF(AND(Matches!N56<>"",Matches!P56<>"",Matches!N56=Matches!P56),1,0)+IF(AND(Matches!P67<>"",Matches!N67<>"",Matches!P67=Matches!N67),1,0)+IF(AND(Matches!P75<>"",Matches!N75<>"",Matches!P75=Matches!N75),1,0)+IF(AND(Matches!N84<>"",Matches!P84<>"",Matches!N84=Matches!P84),1,0)+IF(AND(Matches!P96<>"",Matches!N96<>"",Matches!P96=Matches!N96),1,0)+IF(AND(Matches!P104<>"",Matches!N104<>"",Matches!P104=Matches!N104),1,0)+IF(AND(Matches!N118<>"",Matches!P118<>"",Matches!N118=Matches!P118),1,0)+IF(AND(Matches!P128<>"",Matches!N128<>"",Matches!P128=Matches!N128),1,0)+IF(AND(Matches!N137<>"",Matches!P137<>"",Matches!N137=Matches!P137),1,0)+IF(AND(Matches!P145<>"",Matches!N145<>"",Matches!P145=Matches!N145),1,0) -> 0 | G8: =IF(Matches!F9<Matches!H9,1,0)+IF(Matches!H14<Matches!F14,1,0)+IF(Matches!F26<Matches!H26,1,0)+IF(Matches!H33<Matches!F33,1,0)+IF(Matches!F50<Matches!H50,1,0)+IF(Matches!F59<Matches!H59,1,0)+IF(Matches!H68<Matches!F68,1,0)+IF(Matches!F79<Matches!H79,1,0)+IF(Matches!H88<Matches!F88,1,0)+IF(Matches!F94<Matches!H94,1,0)+IF(Matches!H103<Matches!F103,1,0)+IF(Matches!F118<Matches!H118,1,0)+IF(Matches!H127<Matches!F127,1,0)+IF(Matches!H135<Matches!F135,1,0)+IF(Matches!F148<Matches!H148,1,0)+IF(Matches!N5<Matches!P5,1,0)+IF(Matches!N19<Matches!P19,1,0)+IF(Matches!P25<Matches!N25,1,0)+IF(Matches!N38<Matches!P38,1,0)+IF(Matches!P47<Matches!N47,1,0)+IF(Matches!N56<Matches!P56,1,0)+IF(Matches!P67<Matches!N67,1,0)+IF(Matches!P75<Matches!N75,1,0)+IF(Matches!N84<Matches!P84,1,0)+IF(Matches!P96<Matches!N96,1,0)+IF(Matches!P104<Matches!N104,1,0)+IF(Matches!N118<Matches!P118,1,0)+IF(Matches!P128<Matches!N128,1,0)+IF(Matches!N137<Matches!P137,1,0)+IF(Matches!P145<Matches!N145,1,0) -> 0 | H8: =Matches!F9+Matches!H14+Matches!F26+Matches!H33+Matches!F50+Matches!F59+Matches!H68+Matches!F79+Matches!H88+Matches!F94+Matches!H103+Matches!F118+Matches!H127+Matches!H135+Matches!F148+Matches!N5+Matches!N19+Matches!P25+Matches!N38+Matches!P47+Matches!N56+Matches!P67+Matches!P75+Matches!N84+Matches!P96+Matches!P104+Matches!N118+Matches!P128+Matches!N137+Matches!P145 -> 0 | I8: =Matches!H9+Matches!F14+Matches!H26+Matches!F33+Matches!H50+Matches!H59+Matches!F68+Matches!H79+Matches!F88+Matches!H94+Matches!F103+Matches!H118+Matches!F127+Matches!F135+Matches!H148+Matches!P5+Matches!P19+Matches!N25+Matches!P38+Matches!N47+Matches!P56+Matches!N67+Matches!N75+Matches!P84+Matches!N96+Matches!N104+Matches!P118+Matches!N128+Matches!P137+Matches!N145 -> 0 | J8: =H8-I8 -> 0 | K8: =E8*3+F8 -> 0
B9: 5. | C9: Baileux SP B | D9: =E9+F9+G9 -> 0 | E9: =IF(Matches!H7>Matches!F7,1,0)+IF(Matches!F17>Matches!H17,1,0)+IF(Matches!H28>Matches!F28,1,0)+IF(Matches!F37>Matches!H37,1,0)+IF(Matches!H43>Matches!F43,1,0)+IF(Matches!F58>Matches!H58,1,0)+IF(Matches!H63>Matches!F63,1,0)+IF(Matches!H80>Matches!F80,1,0)+IF(Matches!F86>Matches!H86,1,0)+IF(Matches!H97>Matches!F97,1,0)+IF(Matches!F109>Matches!H109,1,0)+IF(Matches!H119>Matches!F119,1,0)+IF(Matches!F126>Matches!H126,1,0)+IF(Matches!F136>Matches!H136,1,0)+IF(Matches!H148>Matches!F148,1,0)+IF(Matches!P7>Matches!N7,1,0)+IF(Matches!P16>Matches!N16,1,0)+IF(Matches!N29>Matches!P29,1,0)+IF(Matches!P36>Matches!N36,1,0)+IF(Matches!N49>Matches!P49,1,0)+IF(Matches!N54>Matches!P54,1,0)+IF(Matches!N65>Matches!P65,1,0)+IF(Matches!P76>Matches!N76,1,0)+IF(Matches!P87>Matches!N87,1,0)+IF(Matches!N100>Matches!P100,1,0)+IF(Matches!N108>Matches!P108,1,0)+IF(Matches!P113>Matches!N113,1,0)+IF(Matches!N128>Matches!P128,1,0)+IF(Matches!P140>Matches!N140,1,0)+IF(Matches!N147>Matches!P147,1,0) -> 0 | F9: =IF(AND(Matches!H7<>"",Matches!F7<>"",Matches!H7=Matches!F7),1,0)+IF(AND(Matches!F17<>"",Matches!H17<>"",Matches!F17=Matches!H17),1,0)+IF(AND(Matches!H28<>"",Matches!F28<>"",Matches!H28=Matches!F28),1,0)+IF(AND(Matches!F37<>"",Matches!H37<>"",Matches!F37=Matches!H37),1,0)+IF(AND(Matches!H43<>"",Matches!F43<>"",Matches!H43=Matches!F43),1,0)+IF(AND(Matches!F58<>"",Matches!H58<>"",Matches!F58=Matches!H58),1,0)+IF(AND(Matches!H63<>"",Matches!F63<>"",Matches!H63=Matches!F63),1,0)+IF(AND(Matches!H80<>"",Matches!F80<>"",Matches!H80=Matches!F80),1,0)+IF(AND(Matches!F86<>"",Matches!H86<>"",Matches!F86=Matches!H86),1,0)+IF(AND(Matches!H97<>"",Matches!F97<>"",Matches!H97=Matches!F97),1,0)+IF(AND(Matches!F109<>"",Matches!H109<>"",Matches!F109=Matches!H109),1,0)+IF(AND(Matches!H119<>"",Matches!F119<>"",Matches!H119=Matches!F119),1,0)+IF(AND(Matches!F126<>"",Matches!H126<>"",Matches!F126=Matches!H126),1,0)+IF(AND(Matches!F136<>"",Matches!H136<>"",Matches!F136=Matches!H136),1,0)+IF(AND(Matches!H148<>"",Matches!F148<>"",Matches!H148=Matches!F148),1,0)+IF(AND(Matches!P7<>"",Matches!N7<>"",Matches!P7=Matches!N7),1,0)+IF(AND(Matches!P16<>"",Matches!N16<>"",Matches!P16=Matches!N16),1,0)+IF(AND(Matches!N29<>"",Matches!P29<>"",Matches!N29=Matches!P29),1,0)+IF(AND(Matches!P36<>"",Matches!N36<>"",Matches!P36=Matches!N36),1,0)+IF(AND(Matches!N49<>"",Matches!P49<>"",Matches!N49=Matches!P49),1,0)+IF(AND(Matches!N54<>"",Matches!P54<>"",Matches!N54=Matches!P54),1,0)+IF(AND(Matches!N65<>"",Matches!P65<>"",Matches!N65=Matches!P65),1,0)+IF(AND(Matches!P76<>"",Matches!N76<>"",Matches!P76=Matches!N76),1,0)+IF(AND(Matches!P87<>"",Matches!N87<>"",Matches!P87=Matches!N87),1,0)+IF(AND(Matches!N100<>"",Matches!P100<>"",Matches!N100=Matches!P100),1,0)+IF(AND(Matches!N108<>"",Matches!P108<>"",Matches!N108=Matches!P108),1,0)+IF(AND(Matches!P113<>"",Matches!N113<>"",Matches!P113=Matches!N113),1,0)+IF(AND(Matches!N128<>"",Matches!P128<>"",Matches!N128=Matches!P128),1,0)+IF(AND(Matches!P140<>"",Matches!N140<>"",Matches!P140=Matches!N140),1,0)+IF(AND(Matches!N147<>"",Matches!P147<>"",Matches!N147=Matches!P147),1,0) -> 0 | G9: =IF(Matches!H7<Matches!F7,1,0)+IF(Matches!F17<Matches!H17,1,0)+IF(Matches!H28<Matches!F28,1,0)+IF(Matches!F37<Matches!H37,1,0)+IF(Matches!H43<Matches!F43,1,0)+IF(Matches!F58<Matches!H58,1,0)+IF(Matches!H63<Matches!F63,1,0)+IF(Matches!H80<Matches!F80,1,0)+IF(Matches!F86<Matches!H86,1,0)+IF(Matches!H97<Matches!F97,1,0)+IF(Matches!F109<Matches!H109,1,0)+IF(Matches!H119<Matches!F119,1,0)+IF(Matches!F126<Matches!H126,1,0)+IF(Matches!F136<Matches!H136,1,0)+IF(Matches!H148<Matches!F148,1,0)+IF(Matches!P7<Matches!N7,1,0)+IF(Matches!P16<Matches!N16,1,0)+IF(Matches!N29<Matches!P29,1,0)+IF(Matches!P36<Matches!N36,1,0)+IF(Matches!N49<Matches!P49,1,0)+IF(Matches!N54<Matches!P54,1,0)+IF(Matches!N65<Matches!P65,1,0)+IF(Matches!P76<Matches!N76,1,0)+IF(Matches!P87<Matches!N87,1,0)+IF(Matches!N100<Matches!P100,1,0)+IF(Matches!N108<Matches!P108,1,0)+IF(Matches!P113<Matches!N113,1,0)+IF(Matches!N128<Matches!P128,1,0)+IF(Matches!P140<Matches!N140,1,0)+IF(Matches!N147<Matches!P147,1,0) -> 0 | H9: =Matches!H7+Matches!F17+Matches!H28+Matches!F37+Matches!H43+Matches!F58+Matches!H63+Matches!H80+Matches!F86+Matches!H97+Matches!F109+Matches!H119+Matches!F126+Matches!F136+Matches!H148+Matches!P7+Matches!P16+Matches!N29+Matches!P36+Matches!N49+Matches!N54+Matches!N65+Matches!P76+Matches!P87+Matches!N100+Matches!N108+Matches!P113+Matches!N128+Matches!P140+Matches!N147 -> 0 | I9: =Matches!F7+Matches!H17+Matches!F28+Matches!H37+Matches!F43+Matches!H58+Matches!F63+Matches!F80+Matches!H86+Matches!F97+Matches!H109+Matches!F119+Matches!H126+Matches!H136+Matches!F148+Matches!N7+Matches!N16+Matches!P29+Matches!N36+Matches!P49+Matches!P54+Matches!P65+Matches!N76+Matches!N87+Matches!P100+Matches!P108+Matches!N113+Matches!P128+Matches!N140+Matches!P147 -> 0 | J9: =H9-I9 -> 0 | K9: =E9*3+F9 -> 0
B10: 6. | C10: JS Solre-St.-Géry | D10: =E10+F10+G10 -> 0 | E10: =IF(Matches!H8>Matches!F8,1,0)+IF(Matches!F18>Matches!H18,1,0)+IF(Matches!H29>Matches!F29,1,0)+IF(Matches!F38>Matches!H38,1,0)+IF(Matches!H44>Matches!F44,1,0)+IF(Matches!H60>Matches!F60,1,0)+IF(Matches!F63>Matches!H63,1,0)+IF(Matches!H77>Matches!F77,1,0)+IF(Matches!F83>Matches!H83,1,0)+IF(Matches!H98>Matches!F98,1,0)+IF(Matches!F105>Matches!H105,1,0)+IF(Matches!H113>Matches!F113,1,0)+IF(Matches!F127>Matches!H127,1,0)+IF(Matches!F137>Matches!H137,1,0)+IF(Matches!H147>Matches!F147,1,0)+IF(Matches!P8>Matches!N8,1,0)+IF(Matches!P15>Matches!N15,1,0)+IF(Matches!N26>Matches!P26,1,0)+IF(Matches!P37>Matches!N37,1,0)+IF(Matches!N48>Matches!P48,1,0)+IF(Matches!P54>Matches!N54,1,0)+IF(Matches!N66>Matches!P66,1,0)+IF(Matches!N80>Matches!P80,1,0)+IF(Matches!P88>Matches!N88,1,0)+IF(Matches!N94>Matches!P94,1,0)+IF(Matches!N109>Matches!P109,1,0)+IF(Matches!P118>Matches!N118,1,0)+IF(Matches!N125>Matches!P125,1,0)+IF(Matches!P136>Matches!N136,1,0)+IF(Matches!N148>Matches!P148,1,0) -> 0 | F10: =IF(AND(Matches!H8<>"",Matches!F8<>"",Matches!H8=Matches!F8),1,0)+IF(AND(Matches!F18<>"",Matches!H18<>"",Matches!F18=Matches!H18),1,0)+IF(AND(Matches!H29<>"",Matches!F29<>"",Matches!H29=Matches!F29),1,0)+IF(AND(Matches!F38<>"",Matches!H38<>"",Matches!F38=Matches!H38),1,0)+IF(AND(Matches!H44<>"",Matches!F44<>"",Matches!H44=Matches!F44),1,0)+IF(AND(Matches!H60<>"",Matches!F60<>"",Matches!H60=Matches!F60),1,0)+IF(AND(Matches!F63<>"",Matches!H63<>"",Matches!F63=Matches!H63),1,0)+IF(AND(Matches!H77<>"",Matches!F77<>"",Matches!H77=Matches!F77),1,0)+IF(AND(Matches!F83<>"",Matches!H83<>"",Matches!F83=Matches!H83),1,0)+IF(AND(Matches!H98<>"",Matches!F98<>"",Matches!H98=Matches!F98),1,0)+IF(AND(Matches!F105<>"",Matches!H105<>"",Matches!F105=Matches!H105),1,0)+IF(AND(Matches!H113<>"",Matches!F113<>"",Matches!H113=Matches!F113),1,0)+IF(AND(Matches!F127<>"",Matches!H127<>"",Matches!F127=Matches!H127),1,0)+IF(AND(Matches!F137<>"",Matches!H137<>"",Matches!F137=Matches!H137),1,0)+IF(AND(Matches!H147<>"",Matches!F147<>"",Matches!H147=Matches!F147),1,0)+IF(AND(Matches!P8<>"",Matches!N8<>"",Matches!P8=Matches!N8),1,0)+IF(AND(Matches!P15<>"",Matches!N15<>"",Matches!P15=Matches!N15),1,0)+IF(AND(Matches!N26<>"",Matches!P26<>"",Matches!N26=Matches!P26),1,0)+IF(AND(Matches!P37<>"",Matches!N37<>"",Matches!P37=Matches!N37),1,0)+IF(AND(Matches!N48<>"",Matches!P48<>"",Matches!N48=Matches!P48),1,0)+IF(AND(Matches!P54<>"",Matches!N54<>"",Matches!P54=Matches!N54),1,0)+IF(AND(Matches!N66<>"",Matches!P66<>"",Matches!N66=Matches!P66),1,0)+IF(AND(Matches!N80<>"",Matches!P80<>"",Matches!N80=Matches!P80),1,0)+IF(AND(Matches!P88<>"",Matches!N88<>"",Matches!P88=Matches!N88),1,0)+IF(AND(Matches!N94<>"",Matches!P94<>"",Matches!N94=Matches!P94),1,0)+IF(AND(Matches!N109<>"",Matches!P109<>"",Matches!N109=Matches!P109),1,0)+IF(AND(Matches!P118<>"",Matches!N118<>"",Matches!P118=Matches!N118),1,0)+IF(AND(Matches!N125<>"",Matches!P125<>"",Matches!N125=Matches!P125),1,0)+IF(AND(Matches!P136<>"",Matches!N136<>"",Matches!P136=Matches!N136),1,0)+IF(AND(Matches!N148<>"",Matches!P148<>"",Matches!N148=Matches!P148),1,0) -> 0 | G10: =IF(Matches!H8<Matches!F8,1,0)+IF(Matches!F18<Matches!H18,1,0)+IF(Matches!H29<Matches!F29,1,0)+IF(Matches!F38<Matches!H38,1,0)+IF(Matches!H44<Matches!F44,1,0)+IF(Matches!H60<Matches!F60,1,0)+IF(Matches!F63<Matches!H63,1,0)+IF(Matches!H77<Matches!F77,1,0)+IF(Matches!F83<Matches!H83,1,0)+IF(Matches!H98<Matches!F98,1,0)+IF(Matches!F105<Matches!H105,1,0)+IF(Matches!H113<Matches!F113,1,0)+IF(Matches!F127<Matches!H127,1,0)+IF(Matches!F137<Matches!H137,1,0)+IF(Matches!H147<Matches!F147,1,0)+IF(Matches!P8<Matches!N8,1,0)+IF(Matches!P15<Matches!N15,1,0)+IF(Matches!N26<Matches!P26,1,0)+IF(Matches!P37<Matches!N37,1,0)+IF(Matches!N48<Matches!P48,1,0)+IF(Matches!P54<Matches!N54,1,0)+IF(Matches!N66<Matches!P66,1,0)+IF(Matches!N80<Matches!P80,1,0)+IF(Matches!P88<Matches!N88,1,0)+IF(Matches!N94<Matches!P94,1,0)+IF(Matches!N109<Matches!P109,1,0)+IF(Matches!P118<Matches!N118,1,0)+IF(Matches!N125<Matches!P125,1,0)+IF(Matches!P136<Matches!N136,1,0)+IF(Matches!N148<Matches!P148,1,0) -> 0 | H10: =Matches!H8+Matches!F18+Matches!H29+Matches!F38+Matches!H44+Matches!H60+Matches!F63+Matches!H77+Matches!F83+Matches!H98+Matches!F105+Matches!H113+Matches!F127+Matches!F137+Matches!H147+Matches!P8+Matches!P15+Matches!N26+Matches!P37+Matches!N48+Matches!P54+Matches!N66+Matches!N80+Matches!P88+Matches!N94+Matches!N109+Matches!P118+Matches!N125+Matches!P136+Matches!N148 -> 0 | I10: =Matches!F8+Matches!H18+Matches!F29+Matches!H38+Matches!F44+Matches!F60+Matches!H63+Matches!F77+Matches!H83+Matches!F98+Matches!H105+Matches!F113+Matches!H127+Matches!H137+Matches!F147+Matches!N8+Matches!N15+Matches!P26+Matches!N37+Matches!P48+Matches!N54+Matches!P66+Matches!P80+Matches!N88+Matches!P94+Matches!P109+Matches!N118+Matches!P125+Matches!N136+Matches!P148 -> 0 | J10: =H10-I10 -> 0 | K10: =E10*3+F10 -> 0
B11: 7. | C11: JS Ragnies | D11: =E11+F11+G11 -> 0 | E11: =IF(Matches!F4>Matches!H4,1,0)+IF(Matches!H16>Matches!F16,1,0)+IF(Matches!F24>Matches!H24,1,0)+IF(Matches!H34>Matches!F34,1,0)+IF(Matches!F48>Matches!H48,1,0)+IF(Matches!H53>Matches!F53,1,0)+IF(Matches!F68>Matches!H68,1,0)+IF(Matches!H78>Matches!F78,1,0)+IF(Matches!F90>Matches!H90,1,0)+IF(Matches!F96>Matches!H96,1,0)+IF(Matches!H106>Matches!F106,1,0)+IF(Matches!F116>Matches!H116,1,0)+IF(Matches!H129>Matches!F129,1,0)+IF(Matches!H137>Matches!F137,1,0)+IF(Matches!F146>Matches!H146,1,0)+IF(Matches!N7>Matches!P7,1,0)+IF(Matches!N17>Matches!P17,1,0)+IF(Matches!P27>Matches!N27,1,0)+IF(Matches!N33>Matches!P33,1,0)+IF(Matches!P45>Matches!N45,1,0)+IF(Matches!P56>Matches!N56,1,0)+IF(Matches!P68>Matches!N68,1,0)+IF(Matches!N74>Matches!P74,1,0)+IF(Matches!P86>Matches!N86,1,0)+IF(Matches!N95>Matches!P95,1,0)+IF(Matches!P106>Matches!N106,1,0)+IF(Matches!N119>Matches!P119,1,0)+IF(Matches!P124>Matches!N124,1,0)+IF(Matches!N136>Matches!P136,1,0)+IF(Matches!P147>Matches!N147,1,0) -> 0 | F11: =IF(AND(Matches!F4<>"",Matches!H4<>"",Matches!F4=Matches!H4),1,0)+IF(AND(Matches!H16<>"",Matches!F16<>"",Matches!H16=Matches!F16),1,0)+IF(AND(Matches!F24<>"",Matches!H24<>"",Matches!F24=Matches!H24),1,0)+IF(AND(Matches!H34<>"",Matches!F34<>"",Matches!H34=Matches!F34),1,0)+IF(AND(Matches!F48<>"",Matches!H48<>"",Matches!F48=Matches!H48),1,0)+IF(AND(Matches!H53<>"",Matches!F53<>"",Matches!H53=Matches!F53),1,0)+IF(AND(Matches!F68<>"",Matches!H68<>"",Matches!F68=Matches!H68),1,0)+IF(AND(Matches!H78<>"",Matches!F78<>"",Matches!H78=Matches!F78),1,0)+IF(AND(Matches!F90<>"",Matches!H90<>"",Matches!F90=Matches!H90),1,0)+IF(AND(Matches!F96<>"",Matches!H96<>"",Matches!F96=Matches!H96),1,0)+IF(AND(Matches!H106<>"",Matches!F106<>"",Matches!H106=Matches!F106),1,0)+IF(AND(Matches!F116<>"",Matches!H116<>"",Matches!F116=Matches!H116),1,0)+IF(AND(Matches!H129<>"",Matches!F129<>"",Matches!H129=Matches!F129),1,0)+IF(AND(Matches!H137<>"",Matches!F137<>"",Matches!H137=Matches!F137),1,0)+IF(AND(Matches!F146<>"",Matches!H146<>"",Matches!F146=Matches!H146),1,0)+IF(AND(Matches!N7<>"",Matches!P7<>"",Matches!N7=Matches!P7),1,0)+IF(AND(Matches!N17<>"",Matches!P17<>"",Matches!N17=Matches!P17),1,0)+IF(AND(Matches!P27<>"",Matches!N27<>"",Matches!P27=Matches!N27),1,0)+IF(AND(Matches!N33<>"",Matches!P33<>"",Matches!N33=Matches!P33),1,0)+IF(AND(Matches!P45<>"",Matches!N45<>"",Matches!P45=Matches!N45),1,0)+IF(AND(Matches!P56<>"",Matches!N56<>"",Matches!P56=Matches!N56),1,0)+IF(AND(Matches!P68<>"",Matches!N68<>"",Matches!P68=Matches!N68),1,0)+IF(AND(Matches!N74<>"",Matches!P74<>"",Matches!N74=Matches!P74),1,0)+IF(AND(Matches!P86<>"",Matches!N86<>"",Matches!P86=Matches!N86),1,0)+IF(AND(Matches!N95<>"",Matches!P95<>"",Matches!N95=Matches!P95),1,0)+IF(AND(Matches!P106<>"",Matches!N106<>"",Matches!P106=Matches!N106),1,0)+IF(AND(Matches!N119<>"",Matches!P119<>"",Matches!N119=Matches!P119),1,0)+IF(AND(Matches!P124<>"",Matches!N124<>"",Matches!P124=Matches!N124),1,0)+IF(AND(Matches!N136<>"",Matches!P136<>"",Matches!N136=Matches!P136),1,0)+IF(AND(Matches!P147<>"",Matches!N147<>"",Matches!P147=Matches!N147),1,0) -> 0 | G11: =IF(Matches!F4<Matches!H4,1,0)+IF(Matches!H16<Matches!F16,1,0)+IF(Matches!F24<Matches!H24,1,0)+IF(Matches!H34<Matches!F34,1,0)+IF(Matches!F48<Matches!H48,1,0)+IF(Matches!H53<Matches!F53,1,0)+IF(Matches!F68<Matches!H68,1,0)+IF(Matches!H78<Matches!F78,1,0)+IF(Matches!F90<Matches!H90,1,0)+IF(Matches!F96<Matches!H96,1,0)+IF(Matches!H106<Matches!F106,1,0)+IF(Matches!F116<Matches!H116,1,0)+IF(Matches!H129<Matches!F129,1,0)+IF(Matches!H137<Matches!F137,1,0)+IF(Matches!F146<Matches!H146,1,0)+IF(Matches!N7<Matches!P7,1,0)+IF(Matches!N17<Matches!P17,1,0)+IF(Matches!P27<Matches!N27,1,0)+IF(Matches!N33<Matches!P33,1,0)+IF(Matches!P45<Matches!N45,1,0)+IF(Matches!P56<Matches!N56,1,0)+IF(Matches!P68<Matches!N68,1,0)+IF(Matches!N74<Matches!P74,1,0)+IF(Matches!P86<Matches!N86,1,0)+IF(Matches!N95<Matches!P95,1,0)+IF(Matches!P106<Matches!N106,1,0)+IF(Matches!N119<Matches!P119,1,0)+IF(Matches!P124<Matches!N124,1,0)+IF(Matches!N136<Matches!P136,1,0)+IF(Matches!P147<Matches!N147,1,0) -> 0 | H11: =Matches!F4+Matches!H16+Matches!F24+Matches!H34+Matches!F48+Matches!H53+Matches!F68+Matches!H78+Matches!F90+Matches!F96+Matches!H106+Matches!F116+Matches!H129+Matches!H137+Matches!F146+Matches!N7+Matches!N17+Matches!P27+Matches!N33+Matches!P45+Matches!P56+Matches!P68+Matches!N74+Matches!P86+Matches!N95+Matches!P106+Matches!N119+Matches!P124+Matches!N136+Matches!P147 -> 0 | I11: =Matches!H4+Matches!F16+Matches!H24+Matches!F34+Matches!H48+Matches!F53+Matches!H68+Matches!F78+Matches!H90+Matches!H96+Matches!F106+Matches!H116+Matches!F129+Matches!F137+Matches!H146+Matches!P7+Matches!P17+Matches!N27+Matches!P33+Matches!N45+Matches!N56+Matches!N68+Matches!P74+Matches!N86+Matches!P95+Matches!N106+Matches!P119+Matches!N124+Matches!P136+Matches!N147 -> 0 | J11: =H11-I11 -> 0 | K11: =E11*3+F11 -> 0
B12: 8. | C12: EC Erpion B | D12: =E12+F12+G12 -> 0 | E12: =IF(Matches!H9>Matches!F9,1,0)+IF(Matches!H13>Matches!F13,1,0)+IF(Matches!F27>Matches!H27,1,0)+IF(Matches!H38>Matches!F38,1,0)+IF(Matches!F43>Matches!H43,1,0)+IF(Matches!H57>Matches!F57,1,0)+IF(Matches!F70>Matches!H70,1,0)+IF(Matches!H75>Matches!F75,1,0)+IF(Matches!F85>Matches!H85,1,0)+IF(Matches!H93>Matches!F93,1,0)+IF(Matches!F103>Matches!H103,1,0)+IF(Matches!H117>Matches!F117,1,0)+IF(Matches!F129>Matches!H129,1,0)+IF(Matches!F139>Matches!H139,1,0)+IF(Matches!H145>Matches!F145,1,0)+IF(Matches!P6>Matches!N6,1,0)+IF(Matches!N20>Matches!P20,1,0)+IF(Matches!P23>Matches!N23,1,0)+IF(Matches!N37>Matches!P37,1,0)+IF(Matches!P49>Matches!N49,1,0)+IF(Matches!P57>Matches!N57,1,0)+IF(Matches!N69>Matches!P69,1,0)+IF(Matches!N77>Matches!P77,1,0)+IF(Matches!P89>Matches!N89,1,0)+IF(Matches!N97>Matches!P97,1,0)+IF(Matches!N103>Matches!P103,1,0)+IF(Matches!P119>Matches!N119,1,0)+IF(Matches!N123>Matches!P123,1,0)+IF(Matches!P134>Matches!N134,1,0)+IF(Matches!N150>Matches!P150,1,0) -> 0 | F12: =IF(AND(Matches!H9<>"",Matches!F9<>"",Matches!H9=Matches!F9),1,0)+IF(AND(Matches!H13<>"",Matches!F13<>"",Matches!H13=Matches!F13),1,0)+IF(AND(Matches!F27<>"",Matches!H27<>"",Matches!F27=Matches!H27),1,0)+IF(AND(Matches!H38<>"",Matches!F38<>"",Matches!H38=Matches!F38),1,0)+IF(AND(Matches!F43<>"",Matches!H43<>"",Matches!F43=Matches!H43),1,0)+IF(AND(Matches!H57<>"",Matches!F57<>"",Matches!H57=Matches!F57),1,0)+IF(AND(Matches!F70<>"",Matches!H70<>"",Matches!F70=Matches!H70),1,0)+IF(AND(Matches!H75<>"",Matches!F75<>"",Matches!H75=Matches!F75),1,0)+IF(AND(Matches!F85<>"",Matches!H85<>"",Matches!F85=Matches!H85),1,0)+IF(AND(Matches!H93<>"",Matches!F93<>"",Matches!H93=Matches!F93),1,0)+IF(AND(Matches!F103<>"",Matches!H103<>"",Matches!F103=Matches!H103),1,0)+IF(AND(Matches!H117<>"",Matches!F117<>"",Matches!H117=Matches!F117),1,0)+IF(AND(Matches!F129<>"",Matches!H129<>"",Matches!F129=Matches!H129),1,0)+IF(AND(Matches!F139<>"",Matches!H139<>"",Matches!F139=Matches!H139),1,0)+IF(AND(Matches!H145<>"",Matches!F145<>"",Matches!H145=Matches!F145),1,0)+IF(AND(Matches!P6<>"",Matches!N6<>"",Matches!P6=Matches!N6),1,0)+IF(AND(Matches!N20<>"",Matches!P20<>"",Matches!N20=Matches!P20),1,0)+IF(AND(Matches!P23<>"",Matches!N23<>"",Matches!P23=Matches!N23),1,0)+IF(AND(Matches!N37<>"",Matches!P37<>"",Matches!N37=Matches!P37),1,0)+IF(AND(Matches!P49<>"",Matches!N49<>"",Matches!P49=Matches!N49),1,0)+IF(AND(Matches!P57<>"",Matches!N57<>"",Matches!P57=Matches!N57),1,0)+IF(AND(Matches!N69<>"",Matches!P69<>"",Matches!N69=Matches!P69),1,0)+IF(AND(Matches!N77<>"",Matches!P77<>"",Matches!N77=Matches!P77),1,0)+IF(AND(Matches!P89<>"",Matches!N89<>"",Matches!P89=Matches!N89),1,0)+IF(AND(Matches!N97<>"",Matches!P97<>"",Matches!N97=Matches!P97),1,0)+IF(AND(Matches!N103<>"",Matches!P103<>"",Matches!N103=Matches!P103),1,0)+IF(AND(Matches!P119<>"",Matches!N119<>"",Matches!P119=Matches!N119),1,0)+IF(AND(Matches!N123<>"",Matches!P123<>"",Matches!N123=Matches!P123),1,0)+IF(AND(Matches!P134<>"",Matches!N134<>"",Matches!P134=Matches!N134),1,0)+IF(AND(Matches!N150<>"",Matches!P150<>"",Matches!N150=Matches!P150),1,0) -> 0 | G12: =IF(Matches!H9<Matches!F9,1,0)+IF(Matches!H13<Matches!F13,1,0)+IF(Matches!F27<Matches!H27,1,0)+IF(Matches!H38<Matches!F38,1,0)+IF(Matches!F43<Matches!H43,1,0)+IF(Matches!H57<Matches!F57,1,0)+IF(Matches!F70<Matches!H70,1,0)+IF(Matches!H75<Matches!F75,1,0)+IF(Matches!F85<Matches!H85,1,0)+IF(Matches!H93<Matches!F93,1,0)+IF(Matches!F103<Matches!H103,1,0)+IF(Matches!H117<Matches!F117,1,0)+IF(Matches!F129<Matches!H129,1,0)+IF(Matches!F139<Matches!H139,1,0)+IF(Matches!H145<Matches!F145,1,0)+IF(Matches!P6<Matches!N6,1,0)+IF(Matches!N20<Matches!P20,1,0)+IF(Matches!P23<Matches!N23,1,0)+IF(Matches!N37<Matches!P37,1,0)+IF(Matches!P49<Matches!N49,1,0)+IF(Matches!P57<Matches!N57,1,0)+IF(Matches!N69<Matches!P69,1,0)+IF(Matches!N77<Matches!P77,1,0)+IF(Matches!P89<Matches!N89,1,0)+IF(Matches!N97<Matches!P97,1,0)+IF(Matches!N103<Matches!P103,1,0)+IF(Matches!P119<Matches!N119,1,0)+IF(Matches!N123<Matches!P123,1,0)+IF(Matches!P134<Matches!N134,1,0)+IF(Matches!N150<Matches!P150,1,0) -> 0 | H12: =Matches!H9+Matches!H13+Matches!F27+Matches!H38+Matches!F43+Matches!H57+Matches!F70+Matches!H75+Matches!F85+Matches!H93+Matches!F103+Matches!H117+Matches!F129+Matches!F139+Matches!H145+Matches!P6+Matches!N20+Matches!P23+Matches!N37+Matches!P49+Matches!P57+Matches!N69+Matches!N77+Matches!P89+Matches!N97+Matches!N103+Matches!P119+Matches!N123+Matches!P134+Matches!N150 -> 0 | I12: =Matches!F9+Matches!F13+Matches!H27+Matches!F38+Matches!H43+Matches!F57+Matches!H70+Matches!F75+Matches!H85+Matches!F93+Matches!H103+Matches!F117+Matches!H129+Matches!H139+Matches!F145+Matches!N6+Matches!P20+Matches!N23+Matches!P37+Matches!N49+Matches!N57+Matches!P69+Matches!P77+Matches!N89+Matches!P97+Matches!P103+Matches!N119+Matches!P123+Matches!N134+Matches!P150 -> 0 | J12: =H12-I12 -> 0 | K12: =E12*3+F12 -> 0
B13: 9. | C13: RC Rance B | D13: =E13+F13+G13 -> 0 | E13: =IF(Matches!F10>Matches!H10,1,0)+IF(Matches!H15>Matches!F15,1,0)+IF(Matches!F25>Matches!H25,1,0)+IF(Matches!H39>Matches!F39,1,0)+IF(Matches!N10>Matches!P10,1,0)+IF(Matches!N18>Matches!P18,1,0)+IF(Matches!P30>Matches!N30,1,0)+IF(Matches!N39>Matches!P39,1,0)+IF(Matches!F49>Matches!H49,1,0)+IF(Matches!H59>Matches!F59,1,0)+IF(Matches!F69>Matches!H69,1,0)+IF(Matches!F78>Matches!H78,1,0)+IF(Matches!P46>Matches!N46,1,0)+IF(Matches!P55>Matches!N55,1,0)+IF(Matches!P69>Matches!N69,1,0)+IF(Matches!N75>Matches!P75,1,0)+IF(Matches!H89>Matches!F89,1,0)+IF(Matches!F95>Matches!H95,1,0)+IF(Matches!H110>Matches!F110,1,0)+IF(Matches!F117>Matches!H117,1,0)+IF(Matches!N85>Matches!P85,1,0)+IF(Matches!P95>Matches!N95,1,0)+IF(Matches!P105>Matches!N105,1,0)+IF(Matches!N120>Matches!P120,1,0)+IF(Matches!H128>Matches!F128,1,0)+IF(Matches!H136>Matches!F136,1,0)+IF(Matches!F147>Matches!H147,1,0)+IF(Matches!P125>Matches!N125,1,0)+IF(Matches!N140>Matches!P140,1,0)+IF(Matches!P146>Matches!N146,1,0) -> 0 | F13: =IF(AND(Matches!F10<>"",Matches!H10<>"",Matches!F10=Matches!H10),1,0)+IF(AND(Matches!H15<>"",Matches!F15<>"",Matches!H15=Matches!F15),1,0)+IF(AND(Matches!F25<>"",Matches!H25<>"",Matches!F25=Matches!H25),1,0)+IF(AND(Matches!H39<>"",Matches!F39<>"",Matches!H39=Matches!F39),1,0)+IF(AND(Matches!N10<>"",Matches!P10<>"",Matches!N10=Matches!P10),1,0)+IF(AND(Matches!N18<>"",Matches!P18<>"",Matches!N18=Matches!P18),1,0)+IF(AND(Matches!P30<>"",Matches!N30<>"",Matches!P30=Matches!N30),1,0)+IF(AND(Matches!N39<>"",Matches!P39<>"",Matches!N39=Matches!P39),1,0)+IF(AND(Matches!F49<>"",Matches!H49<>"",Matches!F49=Matches!H49),1,0)+IF(AND(Matches!H59<>"",Matches!F59<>"",Matches!H59=Matches!F59),1,0)+IF(AND(Matches!F69<>"",Matches!H69<>"",Matches!F69=Matches!H69),1,0)+IF(AND(Matches!F78<>"",Matches!H78<>"",Matches!F78=Matches!H78),1,0)+IF(AND(Matches!P46<>"",Matches!N46<>"",Matches!P46=Matches!N46),1,0)+IF(AND(Matches!P55<>"",Matches!N55<>"",Matches!P55=Matches!N55),1,0)+IF(AND(Matches!P69<>"",Matches!N69<>"",Matches!P69=Matches!N69),1,0)+IF(AND(Matches!N75<>"",Matches!P75<>"",Matches!N75=Matches!P75),1,0)+IF(AND(Matches!H89<>"",Matches!F89<>"",Matches!H89=Matches!F89),1,0)+IF(AND(Matches!F95<>"",Matches!H95<>"",Matches!F95=Matches!H95),1,0)+IF(AND(Matches!H110<>"",Matches!F110<>"",Matches!H110=Matches!F110),1,0)+IF(AND(Matches!F117<>"",Matches!H117<>"",Matches!F117=Matches!H117),1,0)+IF(AND(Matches!N85<>"",Matches!P85<>"",Matches!N85=Matches!P85),1,0)+IF(AND(Matches!P95<>"",Matches!N95<>"",Matches!P95=Matches!N95),1,0)+IF(AND(Matches!P105<>"",Matches!N105<>"",Matches!P105=Matches!N105),1,0)+IF(AND(Matches!N120<>"",Matches!P120<>"",Matches!N120=Matches!P120),1,0)+IF(AND(Matches!H128<>"",Matches!F128<>"",Matches!H128=Matches!F128),1,0)+IF(AND(Matches!H136<>"",Matches!F136<>"",Matches!H136=Matches!F136),1,0)+IF(AND(Matches!F147<>"",Matches!H147<>"",Matches!F147=Matches!H147),1,0)+IF(AND(Matches!P125<>"",Matches!N125<>"",Matches!P125=Matches!N125),1,0)+IF(AND(Matches!N140<>"",Matches!P140<>"",Matches!N140=Matches!P140),1,0)+IF(AND(Matches!P146<>"",Matches!N146<>"",Matches!P146=Matches!N146),1,0) -> 0 | G13: =IF(Matches!F10<Matches!H10,1,0)+IF(Matches!H15<Matches!F15,1,0)+IF(Matches!F25<Matches!H25,1,0)+IF(Matches!H39<Matches!F39,1,0)+IF(Matches!N10<Matches!P10,1,0)+IF(Matches!N18<Matches!P18,1,0)+IF(Matches!P30<Matches!N30,1,0)+IF(Matches!N39<Matches!P39,1,0)+IF(Matches!F49<Matches!H49,1,0)+IF(Matches!H59<Matches!F59,1,0)+IF(Matches!F69<Matches!H69,1,0)+IF(Matches!F78<Matches!H78,1,0)+IF(Matches!P46<Matches!N46,1,0)+IF(Matches!P55<Matches!N55,1,0)+IF(Matches!P69<Matches!N69,1,0)+IF(Matches!N75<Matches!P75,1,0)+IF(Matches!H89<Matches!F89,1,0)+IF(Matches!F95<Matches!H95,1,0)+IF(Matches!H110<Matches!F110,1,0)+IF(Matches!F117<Matches!H117,1,0)+IF(Matches!N85<Matches!P85,1,0)+IF(Matches!P95<Matches!N95,1,0)+IF(Matches!P105<Matches!N105,1,0)+IF(Matches!N120<Matches!P120,1,0)+IF(Matches!H128<Matches!F128,1,0)+IF(Matches!H136<Matches!F136,1,0)+IF(Matches!F147<Matches!H147,1,0)+IF(Matches!P125<Matches!N125,1,0)+IF(Matches!N140<Matches!P140,1,0)+IF(Matches!P146<Matches!N146,1,0) -> 0 | J13: =H13-I13 -> 0 | K13: =E13*3+F13 -> 0
B14: 10. | C14: JS Froidchapelle | D14: =E14+F14+G14 -> 0 | E14: =IF(Matches!H5>Matches!F5,1,0)+IF(Matches!H17>Matches!F17,1,0)+IF(Matches!F30>Matches!H30,1,0)+IF(Matches!H35>Matches!F35,1,0)+IF(Matches!N8>Matches!P8,1,0)+IF(Matches!N16>Matches!P16,1,0)+IF(Matches!P28>Matches!N28,1,0)+IF(Matches!N34>Matches!P34,1,0)+IF(Matches!F47>Matches!H47,1,0)+IF(Matches!H54>Matches!F54,1,0)+IF(Matches!F67>Matches!H67,1,0)+IF(Matches!H79>Matches!F79,1,0)+IF(Matches!P44>Matches!N44,1,0)+IF(Matches!P53>Matches!N53,1,0)+IF(Matches!P70>Matches!N70,1,0)+IF(Matches!N73>Matches!P73,1,0)+IF(Matches!F89>Matches!H89,1,0)+IF(Matches!H96>Matches!F96,1,0)+IF(Matches!F107>Matches!H107,1,0)+IF(Matches!F115>Matches!H115,1,0)+IF(Matches!P85>Matches!N85,1,0)+IF(Matches!N96>Matches!P96,1,0)+IF(Matches!N106>Matches!P106,1,0)+IF(Matches!N114>Matches!P114,1,0)+IF(Matches!H130>Matches!F130,1,0)+IF(Matches!H138>Matches!F138,1,0)+IF(Matches!F145>Matches!H145,1,0)+IF(Matches!P123>Matches!N123,1,0)+IF(Matches!N135>Matches!P135,1,0)+IF(Matches!P148>Matches!N148,1,0) -> 0 | F14: =IF(AND(Matches!H5<>"",Matches!F5<>"",Matches!H5>Matches!F5),1,0)+IF(AND(Matches!H17<>"",Matches!F17<>"",Matches!H17>Matches!F17),1,0)+IF(AND(Matches!F30<>"",Matches!H30<>"",Matches!F30>Matches!H30),1,0)+IF(AND(Matches!H35<>"",Matches!F35<>"",Matches!H35>Matches!F35),1,0)+IF(AND(Matches!N8<>"",Matches!P8<>"",Matches!N8>Matches!P8),1,0)+IF(AND(Matches!N16<>"",Matches!P16<>"",Matches!N16>Matches!P16),1,0)+IF(AND(Matches!P28<>"",Matches!N28<>"",Matches!P28>Matches!N28),1,0)+IF(AND(Matches!N34<>"",Matches!P34<>"",Matches!N34>Matches!P34),1,0)+IF(AND(Matches!F47<>"",Matches!H47<>"",Matches!F47>Matches!H47),1,0)+IF(AND(Matches!H54<>"",Matches!F54<>"",Matches!H54>Matches!F54),1,0)+IF(AND(Matches!F67<>"",Matches!H67<>"",Matches!F67>Matches!H67),1,0)+IF(AND(Matches!H79<>"",Matches!F79<>"",Matches!H79>Matches!F79),1,0)+IF(AND(Matches!P44<>"",Matches!N44<>"",Matches!P44>Matches!N44),1,0)+IF(AND(Matches!P53<>"",Matches!N53<>"",Matches!P53>Matches!N53),1,0)+IF(AND(Matches!P70<>"",Matches!N70<>"",Matches!P70>Matches!N70),1,0)+IF(AND(Matches!N73<>"",Matches!P73<>"",Matches!N73>Matches!P73),1,0)+IF(AND(Matches!F89<>"",Matches!H89<>"",Matches!F89>Matches!H89),1,0)+IF(AND(Matches!H96<>"",Matches!F96<>"",Matches!H96>Matches!F96),1,0)+IF(AND(Matches!F107<>"",Matches!H107<>"",Matches!F107>Matches!H107),1,0)+IF(AND(Matches!F115<>"",Matches!H115<>"",Matches!F115>Matches!H115),1,0)+IF(AND(Matches!P85<>"",Matches!N85<>"",Matches!P85>Matches!N85),1,0)+IF(AND(Matches!N96<>"",Matches!P96<>"",Matches!N96>Matches!P96),1,0)+IF(AND(Matches!N106<>"",Matches!P106<>"",Matches!N106>Matches!P106),1,0)+IF(AND(Matches!N114<>"",Matches!P114<>"",Matches!N114>Matches!P114),1,0)+IF(AND(Matches!H130<>"",Matches!F130<>"",Matches!H130>Matches!F130),1,0)+IF(AND(Matches!H138<>"",Matches!F138<>"",Matches!H138>Matches!F138),1,0)+IF(AND(Matches!F145<>"",Matches!H145<>"",Matches!F145>Matches!H145),1,0)+IF(AND(Matches!P123<>"",Matches!N123<>"",Matches!P123>Matches!N123),1,0)+IF(AND(Matches!N135<>"",Matches!P135<>"",Matches!N135>Matches!P135),1,0)+IF(AND(Matches!P148<>"",Matches!N148<>"",Matches!P148>Matches!N148),1,0) -> 0 | G14: =IF(Matches!H5<Matches!F5,1,0)+IF(Matches!H17<Matches!F17,1,0)+IF(Matches!F30<Matches!H30,1,0)+IF(Matches!H35<Matches!F35,1,0)+IF(Matches!N8<Matches!P8,1,0)+IF(Matches!N16<Matches!P16,1,0)+IF(Matches!P28<Matches!N28,1,0)+IF(Matches!N34<Matches!P34,1,0)+IF(Matches!F47<Matches!H47,1,0)+IF(Matches!H54<Matches!F54,1,0)+IF(Matches!F67<Matches!H67,1,0)+IF(Matches!H79<Matches!F79,1,0)+IF(Matches!P44<Matches!N44,1,0)+IF(Matches!P53<Matches!N53,1,0)+IF(Matches!P70<Matches!N70,1,0)+IF(Matches!N73<Matches!P73,1,0)+IF(Matches!F89<Matches!H89,1,0)+IF(Matches!H96<Matches!F96,1,0)+IF(Matches!F107<Matches!H107,1,0)+IF(Matches!F115<Matches!H115,1,0)+IF(Matches!P85<Matches!N85,1,0)+IF(Matches!N96<Matches!P96,1,0)+IF(Matches!N106<Matches!P106,1,0)+IF(Matches!N114<Matches!P114,1,0)+IF(Matches!H130<Matches!F130,1,0)+IF(Matches!H138<Matches!F138,1,0)+IF(Matches!F145<Matches!H145,1,0)+IF(Matches!P123<Matches!N123,1,0)+IF(Matches!N135<Matches!P135,1,0)+IF(Matches!P148<Matches!N148,1,0) -> 0 | J14: =H14-I14 -> 0 | K14: =E14*3+F14 -> 0
B15: 11. | C15: FC Boussu-lez-Walcourt | D15: =E15+F15+G15 -> 0 | E15: =IF(Matches!F6>Matches!H6,1,0)+IF(Matches!F15>Matches!H15,1,0)+IF(Matches!H24>Matches!F24,1,0)+IF(Matches!F35>Matches!H35,1,0)+IF(Matches!P5>Matches!N5,1,0)+IF(Matches!P18>Matches!N18,1,0)+IF(Matches!N27>Matches!P27,1,0)+IF(Matches!P34>Matches!N34,1,0)+IF(Matches!H46>Matches!F46,1,0)+IF(Matches!F56>Matches!H56,1,0)+IF(Matches!H70>Matches!F70,1,0)+IF(Matches!F76>Matches!H76,1,0)+IF(Matches!H83>Matches!F83,1,0)+IF(Matches!N43>Matches!P43,1,0)+IF(Matches!N57>Matches!P57,1,0)+IF(Matches!N64>Matches!P64,1,0)+IF(Matches!P78>Matches!N78,1,0)+IF(Matches!F97>Matches!H97,1,0)+IF(Matches!H108>Matches!F108,1,0)+IF(Matches!H120>Matches!F120,1,0)+IF(Matches!N88>Matches!P88,1,0)+IF(Matches!P93>Matches!N93,1,0)+IF(Matches!P108>Matches!N108,1,0)+IF(Matches!P116>Matches!N116,1,0)+IF(Matches!F124>Matches!H124,1,0)+IF(Matches!F134>Matches!H134,1,0)+IF(Matches!H149>Matches!F149,1,0)+IF(Matches!N130>Matches!P130,1,0)+IF(Matches!P133>Matches!N133,1,0)+IF(Matches!N145>Matches!P145,1,0) -> 0 | F15: =IF(AND(Matches!F6<>"",Matches!H6<>"",Matches!F6=Matches!H6),1,0)+IF(AND(Matches!F15<>"",Matches!H15<>"",Matches!F15=Matches!H15),1,0)+IF(AND(Matches!H24<>"",Matches!F24<>"",Matches!H24=Matches!F24),1,0)+IF(AND(Matches!F35<>"",Matches!H35<>"",Matches!F35=Matches!H35),1,0)+IF(AND(Matches!P5<>"",Matches!N5<>"",Matches!P5=Matches!N5),1,0)+IF(AND(Matches!P18<>"",Matches!N18<>"",Matches!P18=Matches!N18),1,0)+IF(AND(Matches!N27<>"",Matches!P27<>"",Matches!N27=Matches!P27),1,0)+IF(AND(Matches!P34<>"",Matches!N34<>"",Matches!P34=Matches!N34),1,0)+IF(AND(Matches!H46<>"",Matches!F46<>"",Matches!H46=Matches!F46),1,0)+IF(AND(Matches!F56<>"",Matches!H56<>"",Matches!F56=Matches!H56),1,0)+IF(AND(Matches!H70<>"",Matches!F70<>"",Matches!H70=Matches!F70),1,0)+IF(AND(Matches!F76<>"",Matches!H76<>"",Matches!F76=Matches!H76),1,0)+IF(AND(Matches!H83<>"",Matches!F83<>"",Matches!H83=Matches!F83),1,0)+IF(AND(Matches!N43<>"",Matches!P43<>"",Matches!N43=Matches!P43),1,0)+IF(AND(Matches!N57<>"",Matches!P57<>"",Matches!N57=Matches!P57),1,0)+IF(AND(Matches!N64<>"",Matches!P64<>"",Matches!N64=Matches!P64),1,0)+IF(AND(Matches!P78<>"",Matches!N78<>"",Matches!P78=Matches!N78),1,0)+IF(AND(Matches!F97<>"",Matches!H97<>"",Matches!F97=Matches!H97),1,0)+IF(AND(Matches!H108<>"",Matches!F108<>"",Matches!H108=Matches!F108),1,0)+IF(AND(Matches!H120<>"",Matches!F120<>"",Matches!H120=Matches!F120),1,0)+IF(AND(Matches!N88<>"",Matches!P88<>"",Matches!N88=Matches!P88),1,0)+IF(AND(Matches!P93<>"",Matches!N93<>"",Matches!P93=Matches!N93),1,0)+IF(AND(Matches!P108<>"",Matches!N108<>"",Matches!P108=Matches!N108),1,0)+IF(AND(Matches!P116<>"",Matches!N116<>"",Matches!P116=Matches!N116),1,0)+IF(AND(Matches!F124<>"",Matches!H124<>"",Matches!F124=Matches!H124),1,0)+IF(AND(Matches!F134<>"",Matches!H134<>"",Matches!F134=Matches!H134),1,0)+IF(AND(Matches!H149<>"",Matches!F149<>"",Matches!H149=Matches!F149),1,0)+IF(AND(Matches!N130<>"",Matches!P130<>"",Matches!N130=Matches!P130),1,0)+IF(AND(Matches!P133<>"",Matches!N133<>"",Matches!P133=Matches!N133),1,0)+IF(AND(Matches!N145<>"",Matches!P145<>"",Matches!N145=Matches!P145),1,0) -> 0 | G15: =IF(Matches!F6<Matches!H6,1,0)+IF(Matches!F15<Matches!H15,1,0)+IF(Matches!H24<Matches!F24,1,0)+IF(Matches!F35<Matches!H35,1,0)+IF(Matches!P5<Matches!N5,1,0)+IF(Matches!P18<Matches!N18,1,0)+IF(Matches!N27<Matches!P27,1,0)+IF(Matches!P34<Matches!N34,1,0)+IF(Matches!H46<Matches!F46,1,0)+IF(Matches!F56<Matches!H56,1,0)+IF(Matches!H70<Matches!F70,1,0)+IF(Matches!F76<Matches!H76,1,0)+IF(Matches!H83<Matches!F83,1,0)+IF(Matches!N43<Matches!P43,1,0)+IF(Matches!N57<Matches!P57,1,0)+IF(Matches!N64<Matches!P64,1,0)+IF(Matches!P78<Matches!N78,1,0)+IF(Matches!F97<Matches!H97,1,0)+IF(Matches!H108<Matches!F108,1,0)+IF(Matches!H120<Matches!F120,1,0)+IF(Matches!N88<Matches!P88,1,0)+IF(Matches!P93<Matches!N93,1,0)+IF(Matches!P108<Matches!N108,1,0)+IF(Matches!P116<Matches!N116,1,0)+IF(Matches!F124<Matches!H124,1,0)+IF(Matches!F134<Matches!H134,1,0)+IF(Matches!H149<Matches!F149,1,0)+IF(Matches!N130<Matches!P130,1,0)+IF(Matches!P133<Matches!N133,1,0)+IF(Matches!N145<Matches!P145,1,0) -> 0 | J15: =H15-I15 -> 0 | K15: =E15*3+F15 -> 0
B16: 12. | C16: SC Biercée | D16: =E16+F16+G16 -> 0 | E16: =IF(Matches!H4>Matches!F4,1,0)+IF(Matches!H18>Matches!F18,1,0)+IF(Matches!F28>Matches!H28,1,0)+IF(Matches!H36>Matches!F36,1,0)+IF(Matches!N9>Matches!P9,1,0)+IF(Matches!N15>Matches!P15,1,0)+IF(Matches!P29>Matches!N29,1,0)+IF(Matches!N35>Matches!P35,1,0)+IF(Matches!F46>Matches!H46,1,0)+IF(Matches!H55>Matches!F55,1,0)+IF(Matches!F66>Matches!H66,1,0)+IF(Matches!H73>Matches!F73,1,0)+IF(Matches!P43>Matches!N43,1,0)+IF(Matches!P60>Matches!N60,1,0)+IF(Matches!N70>Matches!P70,1,0)+IF(Matches!N79>Matches!P79,1,0)+IF(Matches!F88>Matches!H88,1,0)+IF(Matches!H95>Matches!F95,1,0)+IF(Matches!F106>Matches!H106,1,0)+IF(Matches!H115>Matches!F115,1,0)+IF(Matches!P84>Matches!N84,1,0)+IF(Matches!N99>Matches!P99,1,0)+IF(Matches!N105>Matches!P105,1,0)+IF(Matches!P115>Matches!N115,1,0)+IF(Matches!F123>Matches!H123,1,0)+IF(Matches!H139>Matches!F139,1,0)+IF(Matches!F144>Matches!H144,1,0)+IF(Matches!P129>Matches!N129,1,0)+IF(Matches!N134>Matches!P134,1,0)+IF(Matches!P149>Matches!N149,1,0) -> 0 | F16: =IF(AND(Matches!H4<>"",Matches!F4<>"",Matches!H4=Matches!F4),1,0)+IF(AND(Matches!H18<>"",Matches!F18<>"",Matches!H18=Matches!F18),1,0)+IF(AND(Matches!F28<>"",Matches!H28<>"",Matches!F28=Matches!H28),1,0)+IF(AND(Matches!H36<>"",Matches!F36<>"",Matches!H36=Matches!F36),1,0)+IF(AND(Matches!N9<>"",Matches!P9<>"",Matches!N9=Matches!P9),1,0)+IF(AND(Matches!N15<>"",Matches!P15<>"",Matches!N15=Matches!P15),1,0)+IF(AND(Matches!P29<>"",Matches!N29<>"",Matches!P29=Matches!N29),1,0)+IF(AND(Matches!N35<>"",Matches!P35<>"",Matches!N35=Matches!P35),1,0)+IF(AND(Matches!F46<>"",Matches!H46<>"",Matches!F46=Matches!H46),1,0)+IF(AND(Matches!H55<>"",Matches!F55<>"",Matches!H55=Matches!F55),1,0)+IF(AND(Matches!F66<>"",Matches!H66<>"",Matches!F66=Matches!H66),1,0)+IF(AND(Matches!H73<>"",Matches!F73<>"",Matches!H73=Matches!F73),1,0)+IF(AND(Matches!P43<>"",Matches!N43<>"",Matches!P43=Matches!N43),1,0)+IF(AND(Matches!P60<>"",Matches!N60<>"",Matches!P60=Matches!N60),1,0)+IF(AND(Matches!N70<>"",Matches!P70<>"",Matches!N70=Matches!P70),1,0)+IF(AND(Matches!N79<>"",Matches!P79<>"",Matches!N79=Matches!P79),1,0)+IF(AND(Matches!F88<>"",Matches!H88<>"",Matches!F88=Matches!H88),1,0)+IF(AND(Matches!H95<>"",Matches!F95<>"",Matches!H95=Matches!F95),1,0)+IF(AND(Matches!F106<>"",Matches!H106<>"",Matches!F106=Matches!H106),1,0)+IF(AND(Matches!H115<>"",Matches!F115<>"",Matches!H115=Matches!F115),1,0)+IF(AND(Matches!P84<>"",Matches!N84<>"",Matches!P84=Matches!N84),1,0)+IF(AND(Matches!N99<>"",Matches!P99<>"",Matches!N99=Matches!P99),1,0)+IF(AND(Matches!N105<>"",Matches!P105<>"",Matches!N105=Matches!P105),1,0)+IF(AND(Matches!P115<>"",Matches!N115<>"",Matches!P115=Matches!N115),1,0)+IF(AND(Matches!F123<>"",Matches!H123<>"",Matches!F123=Matches!H123),1,0)+IF(AND(Matches!H139<>"",Matches!F139<>"",Matches!H139=Matches!F139),1,0)+IF(AND(Matches!F144<>"",Matches!H144<>"",Matches!F144=Matches!H144),1,0)+IF(AND(Matches!P129<>"",Matches!N129<>"",Matches!P129=Matches!N129),1,0)+IF(AND(Matches!N134<>"",Matches!P134<>"",Matches!N134=Matches!P134),1,0)+IF(AND(Matches!P149<>"",Matches!N149<>"",Matches!P149=Matches!N149),1,0) -> 0 | G16: =IF(Matches!H4<Matches!F4,1,0)+IF(Matches!H18<Matches!F18,1,0)+IF(Matches!F28<Matches!H28,1,0)+IF(Matches!H36<Matches!F36,1,0)+IF(Matches!N9<Matches!P9,1,0)+IF(Matches!N15<Matches!P15,1,0)+IF(Matches!P29<Matches!N29,1,0)+IF(Matches!N35<Matches!P35,1,0)+IF(Matches!F46<Matches!H46,1,0)+IF(Matches!H55<Matches!F55,1,0)+IF(Matches!F66<Matches!H66,1,0)+IF(Matches!H73<Matches!F73,1,0)+IF(Matches!P43<Matches!N43,1,0)+IF(Matches!P60<Matches!N60,1,0)+IF(Matches!N70<Matches!P70,1,0)+IF(Matches!N79<Matches!P79,1,0)+IF(Matches!F88<Matches!H88,1,0)+IF(Matches!H95<Matches!F95,1,0)+IF(Matches!F106<Matches!H106,1,0)+IF(Matches!H115<Matches!F115,1,0)+IF(Matches!P84<Matches!N84,1,0)+IF(Matches!N99<Matches!P99,1,0)+IF(Matches!N105<Matches!P105,1,0)+IF(Matches!P115<Matches!N115,1,0)+IF(Matches!F123<Matches!H123,1,0)+IF(Matches!H139<Matches!F139,1,0)+IF(Matches!F144<Matches!H144,1,0)+IF(Matches!P129<Matches!N129,1,0)+IF(Matches!N134<Matches!P134,1,0)+IF(Matches!P149<Matches!N149,1,0) -> 0 | J16: =H16-I16 -> 0 | K16: =E16*3+F16 -> 0
B17: 13. | C17: AF US St.-Amand-Brye | D17: =E17+F17+G17 -> 0 | E17: =IF(Matches!F5>Matches!H5,1,0)+IF(Matches!F13>Matches!H13,1,0)+IF(Matches!H23>Matches!F23,1,0)+IF(Matches!F40>Matches!H40,1,0)+IF(Matches!P3>Matches!N3,1,0)+IF(Matches!P20>Matches!N20,1,0)+IF(Matches!N24>Matches!P24,1,0)+IF(Matches!P40>Matches!N40,1,0)+IF(Matches!H50>Matches!F50,1,0)+IF(Matches!F60>Matches!H60,1,0)+IF(Matches!H69>Matches!F69,1,0)+IF(Matches!F80>Matches!H80,1,0)+IF(Matches!N47>Matches!P47,1,0)+IF(Matches!N55>Matches!P55,1,0)+IF(Matches!P64>Matches!N64,1,0)+IF(Matches!P80>Matches!N80,1,0)+IF(Matches!H90>Matches!F90,1,0)+IF(Matches!F100>Matches!H100,1,0)+IF(Matches!H107>Matches!F107,1,0)+IF(Matches!F120>Matches!H120,1,0)+IF(Matches!N86>Matches!P86,1,0)+IF(Matches!P100>Matches!N100,1,0)+IF(Matches!P107>Matches!N107,1,0)+IF(Matches!N115>Matches!P115,1,0)+IF(Matches!H123>Matches!F123,1,0)+IF(Matches!F140>Matches!H140,1,0)+IF(Matches!F143>Matches!H143,1,0)+IF(Matches!P126>Matches!N126,1,0)+IF(Matches!P139>Matches!N139,1,0)+IF(Matches!N143>Matches!P143,1,0) -> 0 | F17: =IF(AND(Matches!F5<>"",Matches!H5<>"",Matches!F5=Matches!H5),1,0)+IF(AND(Matches!F13<>"",Matches!H13<>"",Matches!F13=Matches!H13),1,0)+IF(AND(Matches!H23<>"",Matches!F23<>"",Matches!H23=Matches!F23),1,0)+IF(AND(Matches!F40<>"",Matches!H40<>"",Matches!F40=Matches!H40),1,0)+IF(AND(Matches!P3<>"",Matches!N3<>"",Matches!P3=Matches!N3),1,0)+IF(AND(Matches!P20<>"",Matches!N20<>"",Matches!P20=Matches!N20),1,0)+IF(AND(Matches!N24<>"",Matches!P24<>"",Matches!N24=Matches!P24),1,0)+IF(AND(Matches!P40<>"",Matches!N40<>"",Matches!P40=Matches!N40),1,0)+IF(AND(Matches!H50<>"",Matches!F50<>"",Matches!H50=Matches!F50),1,0)+IF(AND(Matches!F60<>"",Matches!H60<>"",Matches!F60=Matches!H60),1,0)+IF(AND(Matches!H69<>"",Matches!F69<>"",Matches!H69=Matches!F69),1,0)+IF(AND(Matches!F80<>"",Matches!H80<>"",Matches!F80=Matches!H80),1,0)+IF(AND(Matches!N47<>"",Matches!P47<>"",Matches!N47=Matches!P47),1,0)+IF(AND(Matches!N55<>"",Matches!P55<>"",Matches!N55=Matches!P55),1,0)+IF(AND(Matches!P64<>"",Matches!N64<>"",Matches!P64=Matches!N64),1,0)+IF(AND(Matches!P80<>"",Matches!N80<>"",Matches!P80=Matches!N80),1,0)+IF(AND(Matches!H90<>"",Matches!F90<>"",Matches!H90=Matches!F90),1,0)+IF(AND(Matches!F100<>"",Matches!H100<>"",Matches!F100=Matches!H100),1,0)+IF(AND(Matches!H107<>"",Matches!F107<>"",Matches!H107=Matches!F107),1,0)+IF(AND(Matches!F120<>"",Matches!H120<>"",Matches!F120=Matches!H120),1,0)+IF(AND(Matches!N86<>"",Matches!P86<>"",Matches!N86=Matches!P86),1,0)+IF(AND(Matches!P100<>"",Matches!N100<>"",Matches!P100=Matches!N100),1,0)+IF(AND(Matches!P107<>"",Matches!N107<>"",Matches!P107=Matches!N107),1,0)+IF(AND(Matches!N115<>"",Matches!P115<>"",Matches!N115=Matches!P115),1,0)+IF(AND(Matches!H123<>"",Matches!F123<>"",Matches!H123=Matches!F123),1,0)+IF(AND(Matches!F140<>"",Matches!H140<>"",Matches!F140=Matches!H140),1,0)+IF(AND(Matches!F143<>"",Matches!H143<>"",Matches!F143=Matches!H143),1,0)+IF(AND(Matches!P126<>"",Matches!N126<>"",Matches!P126=Matches!N126),1,0)+IF(AND(Matches!P139<>"",Matches!N139<>"",Matches!P139=Matches!N139),1,0)+IF(AND(Matches!N143<>"",Matches!P143<>"",Matches!N143=Matches!P143),1,0) -> 0 | G17: =IF(Matches!F5<Matches!H5,1,0)+IF(Matches!F13<Matches!H13,1,0)+IF(Matches!H23<Matches!F23,1,0)+IF(Matches!F40<Matches!H40,1,0)+IF(Matches!P3<Matches!N3,1,0)+IF(Matches!P20<Matches!N20,1,0)+IF(Matches!N24<Matches!P24,1,0)+IF(Matches!P40<Matches!N40,1,0)+IF(Matches!H50<Matches!F50,1,0)+IF(Matches!F60<Matches!H60,1,0)+IF(Matches!H69<Matches!F69,1,0)+IF(Matches!F80<Matches!H80,1,0)+IF(Matches!N47<Matches!P47,1,0)+IF(Matches!N55<Matches!P55,1,0)+IF(Matches!P64<Matches!N64,1,0)+IF(Matches!P80<Matches!N80,1,0)+IF(Matches!H90<Matches!F90,1,0)+IF(Matches!F100<Matches!H100,1,0)+IF(Matches!H107<Matches!F107,1,0)+IF(Matches!F120<Matches!H120,1,0)+IF(Matches!N86<Matches!P86,1,0)+IF(Matches!P100<Matches!N100,1,0)+IF(Matches!P107<Matches!N107,1,0)+IF(Matches!N115<Matches!P115,1,0)+IF(Matches!H123<Matches!F123,1,0)+IF(Matches!F140<Matches!H140,1,0)+IF(Matches!F143<Matches!H143,1,0)+IF(Matches!P126<Matches!N126,1,0)+IF(Matches!P139<Matches!N139,1,0)+IF(Matches!N143<Matches!P143,1,0) -> 0 | J17: =H17-I17 -> 0 | K17: =E17*3+F17 -> 0
B18: 14. | C18: JS Jamioulx B | D18: =E18+F18+G18 -> 0 | E18: =IF(Matches!H6>Matches!F6,1,0)+IF(Matches!F16>Matches!H16,1,0)+IF(Matches!H30>Matches!F30,1,0)+IF(Matches!F36>Matches!H36,1,0)+IF(Matches!P10>Matches!N10,1,0)+IF(Matches!P17>Matches!N17,1,0)+IF(Matches!N28>Matches!P28,1,0)+IF(Matches!P35>Matches!N35,1,0)+IF(Matches!H45>Matches!F45,1,0)+IF(Matches!F57>Matches!H57,1,0)+IF(Matches!H64>Matches!F64,1,0)+IF(Matches!F77>Matches!H77,1,0)+IF(Matches!N50>Matches!P50,1,0)+IF(Matches!N58>Matches!P58,1,0)+IF(Matches!N63>Matches!P63,1,0)+IF(Matches!P77>Matches!N77,1,0)+IF(Matches!H86>Matches!F86,1,0)+IF(Matches!H100>Matches!F100,1,0)+IF(Matches!F108>Matches!H108,1,0)+IF(Matches!H114>Matches!F114,1,0)+IF(Matches!N87>Matches!P87,1,0)+IF(Matches!P94>Matches!N94,1,0)+IF(Matches!N107>Matches!P107,1,0)+IF(Matches!P117>Matches!N117,1,0)+IF(Matches!F125>Matches!H125,1,0)+IF(Matches!F135>Matches!H135,1,0)+IF(Matches!H150>Matches!F150,1,0)+IF(Matches!N127>Matches!P127,1,0)+IF(Matches!P137>Matches!N137,1,0)+IF(Matches!N146>Matches!P146,1,0) -> 0 | F18: =IF(AND(Matches!H6<>"",Matches!F6<>"",Matches!H6=Matches!F6),1,0)+IF(AND(Matches!F16<>"",Matches!H16<>"",Matches!F16=Matches!H16),1,0)+IF(AND(Matches!H30<>"",Matches!F30<>"",Matches!H30=Matches!F30),1,0)+IF(AND(Matches!F36<>"",Matches!H36<>"",Matches!F36=Matches!H36),1,0)+IF(AND(Matches!P10<>"",Matches!N10<>"",Matches!P10=Matches!N10),1,0)+IF(AND(Matches!P17<>"",Matches!N17<>"",Matches!P17=Matches!N17),1,0)+IF(AND(Matches!N28<>"",Matches!P28<>"",Matches!N28=Matches!P28),1,0)+IF(AND(Matches!P35<>"",Matches!N35<>"",Matches!P35=Matches!N35),1,0)+IF(AND(Matches!H45<>"",Matches!F45<>"",Matches!H45=Matches!F45),1,0)+IF(AND(Matches!F57<>"",Matches!H57<>"",Matches!F57=Matches!H57),1,0)+IF(AND(Matches!H64<>"",Matches!F64<>"",Matches!H64=Matches!F64),1,0)+IF(AND(Matches!F77<>"",Matches!H77<>"",Matches!F77=Matches!H77),1,0)+IF(AND(Matches!N50<>"",Matches!P50<>"",Matches!N50=Matches!P50),1,0)+IF(AND(Matches!N58<>"",Matches!P58<>"",Matches!N58=Matches!P58),1,0)+IF(AND(Matches!N63<>"",Matches!P63<>"",Matches!N63=Matches!P63),1,0)+IF(AND(Matches!P77<>"",Matches!N77<>"",Matches!P77=Matches!N77),1,0)+IF(AND(Matches!H86<>"",Matches!F86<>"",Matches!H86=Matches!F86),1,0)+IF(AND(Matches!H100<>"",Matches!F100<>"",Matches!H100=Matches!F100),1,0)+IF(AND(Matches!F108<>"",Matches!H108<>"",Matches!F108=Matches!H108),1,0)+IF(AND(Matches!H114<>"",Matches!F114<>"",Matches!H114=Matches!F114),1,0)+IF(AND(Matches!N87<>"",Matches!P87<>"",Matches!N87=Matches!P87),1,0)+IF(AND(Matches!P94<>"",Matches!N94<>"",Matches!P94=Matches!N94),1,0)+IF(AND(Matches!N107<>"",Matches!P107<>"",Matches!N107=Matches!P107),1,0)+IF(AND(Matches!P117<>"",Matches!N117<>"",Matches!P117=Matches!N117),1,0)+IF(AND(Matches!F125<>"",Matches!H125<>"",Matches!F125=Matches!H125),1,0)+IF(AND(Matches!F135<>"",Matches!H135<>"",Matches!F135=Matches!H135),1,0)+IF(AND(Matches!H150<>"",Matches!F150<>"",Matches!H150=Matches!F150),1,0)+IF(AND(Matches!N127<>"",Matches!P127<>"",Matches!N127=Matches!P127),1,0)+IF(AND(Matches!P137<>"",Matches!N137<>"",Matches!P137=Matches!N137),1,0)+IF(AND(Matches!N146<>"",Matches!P146<>"",Matches!N146=Matches!P146),1,0) -> 0 | G18: =IF(Matches!H6<Matches!F6,1,0)+IF(Matches!F16<Matches!H16,1,0)+IF(Matches!H30<Matches!F30,1,0)+IF(Matches!F36<Matches!H36,1,0)+IF(Matches!P10<Matches!N10,1,0)+IF(Matches!P17<Matches!N17,1,0)+IF(Matches!N28<Matches!P28,1,0)+IF(Matches!P35<Matches!N35,1,0)+IF(Matches!H45<Matches!F45,1,0)+IF(Matches!F57<Matches!H57,1,0)+IF(Matches!H64<Matches!F64,1,0)+IF(Matches!F77<Matches!H77,1,0)+IF(Matches!N50<Matches!P50,1,0)+IF(Matches!N58<Matches!P58,1,0)+IF(Matches!N63<Matches!P63,1,0)+IF(Matches!P77<Matches!N77,1,0)+IF(Matches!H86<Matches!F86,1,0)+IF(Matches!H100<Matches!F100,1,0)+IF(Matches!F108<Matches!H108,1,0)+IF(Matches!H114<Matches!F114,1,0)+IF(Matches!N87<Matches!P87,1,0)+IF(Matches!P94<Matches!N94,1,0)+IF(Matches!N107<Matches!P107,1,0)+IF(Matches!P117<Matches!N117,1,0)+IF(Matches!F125<Matches!H125,1,0)+IF(Matches!F135<Matches!H135,1,0)+IF(Matches!H150<Matches!F150,1,0)+IF(Matches!N127<Matches!P127,1,0)+IF(Matches!P137<Matches!N137,1,0)+IF(Matches!N146<Matches!P146,1,0) -> 0 | J18: =H18-I18 -> 0 | K18: =E18*3+F18 -> 0
B19: 15. | C19: E Presles | D19: =E19+F19+G19 -> 0 | E19: =IF(Matches!F7>Matches!H7,1,0)+IF(Matches!F14>Matches!H14,1,0)+IF(Matches!H25>Matches!F25,1,0)+IF(Matches!F34>Matches!H34,1,0)+IF(Matches!P4>Matches!N4,1,0)+IF(Matches!P19>Matches!N19,1,0)+IF(Matches!N30>Matches!P30,1,0)+IF(Matches!P33>Matches!N33,1,0)+IF(Matches!H47>Matches!F47,1,0)+IF(Matches!F55>Matches!H55,1,0)+IF(Matches!H65>Matches!F65,1,0)+IF(Matches!F75>Matches!H75,1,0)+IF(Matches!N44>Matches!P44,1,0)+IF(Matches!N59>Matches!P59,1,0)+IF(Matches!P63>Matches!N63,1,0)+IF(Matches!P79>Matches!N79,1,0)+IF(Matches!H84>Matches!F84,1,0)+IF(Matches!F98>Matches!H98,1,0)+IF(Matches!H109>Matches!F109,1,0)+IF(Matches!F114>Matches!H114,1,0)+IF(Matches!N90>Matches!P90,1,0)+IF(Matches!P97>Matches!N97,1,0)+IF(Matches!P109>Matches!N109,1,0)+IF(Matches!N116>Matches!P116,1,0)+IF(Matches!H124>Matches!F124,1,0)+IF(Matches!F133>Matches!H133,1,0)+IF(Matches!H143>Matches!F143,1,0)+IF(Matches!N126>Matches!P126,1,0)+IF(Matches!P138>Matches!N138,1,0)+IF(Matches!N144>Matches!P144,1,0) -> 0 | F19: =IF(AND(Matches!F7<>"",Matches!H7<>"",Matches!F7=Matches!H7),1,0)+IF(AND(Matches!F14<>"",Matches!H14<>"",Matches!F14=Matches!H14),1,0)+IF(AND(Matches!H25<>"",Matches!F25<>"",Matches!H25=Matches!F25),1,0)+IF(AND(Matches!F34<>"",Matches!H34<>"",Matches!F34=Matches!H34),1,0)+IF(AND(Matches!P4<>"",Matches!N4<>"",Matches!P4=Matches!N4),1,0)+IF(AND(Matches!P19<>"",Matches!N19<>"",Matches!P19=Matches!N19),1,0)+IF(AND(Matches!N30<>"",Matches!P30<>"",Matches!N30=Matches!P30),1,0)+IF(AND(Matches!P33<>"",Matches!N33<>"",Matches!P33=Matches!N33),1,0)+IF(AND(Matches!H47<>"",Matches!F47<>"",Matches!H47=Matches!F47),1,0)+IF(AND(Matches!F55<>"",Matches!H55<>"",Matches!F55=Matches!H55),1,0)+IF(AND(Matches!H65<>"",Matches!F65<>"",Matches!H65=Matches!F65),1,0)+IF(AND(Matches!F75<>"",Matches!H75<>"",Matches!F75=Matches!H75),1,0)+IF(AND(Matches!N44<>"",Matches!P44<>"",Matches!N44=Matches!P44),1,0)+IF(AND(Matches!N59<>"",Matches!P59<>"",Matches!N59=Matches!P59),1,0)+IF(AND(Matches!P63<>"",Matches!N63<>"",Matches!P63=Matches!N63),1,0)+IF(AND(Matches!P79<>"",Matches!N79<>"",Matches!P79=Matches!N79),1,0)+IF(AND(Matches!H84<>"",Matches!F84<>"",Matches!H84=Matches!F84),1,0)+IF(AND(Matches!F98<>"",Matches!H98<>"",Matches!F98=Matches!H98),1,0)+IF(AND(Matches!H109<>"",Matches!F109<>"",Matches!H109=Matches!F109),1,0)+IF(AND(Matches!F114<>"",Matches!H114<>"",Matches!F114=Matches!H114),1,0)+IF(AND(Matches!N90<>"",Matches!P90<>"",Matches!N90=Matches!P90),1,0)+IF(AND(Matches!P97<>"",Matches!N97<>"",Matches!P97=Matches!N97),1,0)+IF(AND(Matches!P109<>"",Matches!N109<>"",Matches!P109=Matches!N109),1,0)+IF(AND(Matches!N116<>"",Matches!P116<>"",Matches!N116=Matches!P116),1,0)+IF(AND(Matches!H124<>"",Matches!F124<>"",Matches!H124=Matches!F124),1,0)+IF(AND(Matches!F133<>"",Matches!H133<>"",Matches!F133=Matches!H133),1,0)+IF(AND(Matches!H143<>"",Matches!F143<>"",Matches!H143=Matches!F143),1,0)+IF(AND(Matches!N126<>"",Matches!P126<>"",Matches!N126=Matches!P126),1,0)+IF(AND(Matches!P138<>"",Matches!N138<>"",Matches!P138=Matches!N138),1,0)+IF(AND(Matches!N144<>"",Matches!P144<>"",Matches!N144=Matches!P144),1,0) -> 0 | G19: =IF(Matches!F7<Matches!H7,1,0)+IF(Matches!F14<Matches!H14,1,0)+IF(Matches!H25<Matches!F25,1,0)+IF(Matches!F34<Matches!H34,1,0)+IF(Matches!P4<Matches!N4,1,0)+IF(Matches!P19<Matches!N19,1,0)+IF(Matches!N30<Matches!P30,1,0)+IF(Matches!P33<Matches!N33,1,0)+IF(Matches!H47<Matches!F47,1,0)+IF(Matches!F55<Matches!H55,1,0)+IF(Matches!H65<Matches!F65,1,0)+IF(Matches!F75<Matches!H75,1,0)+IF(Matches!N44<Matches!P44,1,0)+IF(Matches!N59<Matches!P59,1,0)+IF(Matches!P63<Matches!N63,1,0)+IF(Matches!P79<Matches!N79,1,0)+IF(Matches!H84<Matches!F84,1,0)+IF(Matches!F98<Matches!H98,1,0)+IF(Matches!H109<Matches!F109,1,0)+IF(Matches!F114<Matches!H114,1,0)+IF(Matches!N90<Matches!P90,1,0)+IF(Matches!P97<Matches!N97,1,0)+IF(Matches!P109<Matches!N109,1,0)+IF(Matches!N116<Matches!P116,1,0)+IF(Matches!H124<Matches!F124,1,0)+IF(Matches!F133<Matches!H133,1,0)+IF(Matches!H143<Matches!F143,1,0)+IF(Matches!N126<Matches!P126,1,0)+IF(Matches!P138<Matches!N138,1,0)+IF(Matches!N144<Matches!P144,1,0) -> 0 | J19: =H19-I19 -> 0 | K19: =E19*3+F19 -> 0
B20: 16. | C20: R Goutroux SP B | D20: =E20+F20+G20 -> 0 | E20: =IF(Matches!H10>Matches!F10,1,0)+IF(Matches!H20>Matches!F20,1,0)+IF(Matches!F29>Matches!H29,1,0)+IF(Matches!H37>Matches!F37,1,0)+IF(Matches!N6>Matches!P6,1,0)+IF(Matches!N14>Matches!P14,1,0)+IF(Matches!P26>Matches!N26,1,0)+IF(Matches!N36>Matches!P36,1,0)+IF(Matches!F45>Matches!H45,1,0)+IF(Matches!H56>Matches!F56,1,0)+IF(Matches!F65>Matches!H65,1,0)+IF(Matches!H74>Matches!F74,1,0)+IF(Matches!P50>Matches!N50,1,0)+IF(Matches!P59>Matches!N59,1,0)+IF(Matches!N68>Matches!P68,1,0)+IF(Matches!N78>Matches!P78,1,0)+IF(Matches!F87>Matches!H87,1,0)+IF(Matches!H94>Matches!F94,1,0)+IF(Matches!F110>Matches!H110,1,0)+IF(Matches!H116>Matches!F116,1,0)+IF(Matches!P83>Matches!N83,1,0)+IF(Matches!N98>Matches!P98,1,0)+IF(Matches!N104>Matches!P104,1,0)+IF(Matches!P114>Matches!N114,1,0)+IF(Matches!F130>Matches!H130,1,0)+IF(Matches!H140>Matches!F140,1,0)+IF(Matches!H144>Matches!F144,1,0)+IF(Matches!N129>Matches!P139,1,0)+IF(Matches!N139>Matches!P139,1,0)+IF(Matches!P150>Matches!N150,1,0) -> 0 | F20: =IF(AND(Matches!H10<>"",Matches!F10<>"",Matches!H10=Matches!F10),1,0)+IF(AND(Matches!H20<>"",Matches!F20<>"",Matches!H20=Matches!F20),1,0)+IF(AND(Matches!F29<>"",Matches!H29<>"",Matches!F29=Matches!H29),1,0)+IF(AND(Matches!H37<>"",Matches!F37<>"",Matches!H37=Matches!F37),1,0)+IF(AND(Matches!N6<>"",Matches!P6<>"",Matches!N6=Matches!P6),1,0)+IF(AND(Matches!N14<>"",Matches!P14<>"",Matches!N14=Matches!P14),1,0)+IF(AND(Matches!P26<>"",Matches!N26<>"",Matches!P26=Matches!N26),1,0)+IF(AND(Matches!N36<>"",Matches!P36<>"",Matches!N36=Matches!P36),1,0)+IF(AND(Matches!F45<>"",Matches!H45<>"",Matches!F45=Matches!H45),1,0)+IF(AND(Matches!H56<>"",Matches!F56<>"",Matches!H56=Matches!F56),1,0)+IF(AND(Matches!F65<>"",Matches!H65<>"",Matches!F65=Matches!H65),1,0)+IF(AND(Matches!H74<>"",Matches!F74<>"",Matches!H74=Matches!F74),1,0)+IF(AND(Matches!P50<>"",Matches!N50<>"",Matches!P50=Matches!N50),1,0)+IF(AND(Matches!P59<>"",Matches!N59<>"",Matches!P59=Matches!N59),1,0)+IF(AND(Matches!N68<>"",Matches!P68<>"",Matches!N68=Matches!P68),1,0)+IF(AND(Matches!N78<>"",Matches!P78<>"",Matches!N78=Matches!P78),1,0)+IF(AND(Matches!F87<>"",Matches!H87<>"",Matches!F87=Matches!H87),1,0)+IF(AND(Matches!H94<>"",Matches!F94<>"",Matches!H94=Matches!F94),1,0)+IF(AND(Matches!F110<>"",Matches!H110<>"",Matches!F110=Matches!H110),1,0)+IF(AND(Matches!H116<>"",Matches!F116<>"",Matches!H116=Matches!F116),1,0)+IF(AND(Matches!P83<>"",Matches!N83<>"",Matches!P83=Matches!N83),1,0)+IF(AND(Matches!N98<>"",Matches!P98<>"",Matches!N98=Matches!P98),1,0)+IF(AND(Matches!N104<>"",Matches!P104<>"",Matches!N104=Matches!P104),1,0)+IF(AND(Matches!P114<>"",Matches!N114<>"",Matches!P114=Matches!N114),1,0)+IF(AND(Matches!F130<>"",Matches!H130<>"",Matches!F130=Matches!H130),1,0)+IF(AND(Matches!H140<>"",Matches!F140<>"",Matches!H140=Matches!F140),1,0)+IF(AND(Matches!H144<>"",Matches!F144<>"",Matches!H144=Matches!F144),1,0)+IF(AND(Matches!N129<>"",Matches!P139<>"",Matches!N129=Matches!P139),1,0)+IF(AND(Matches!N139<>"",Matches!P139<>"",Matches!N139=Matches!P139),1,0)+IF(AND(Matches!P150<>"",Matches!N150<>"",Matches!P150=Matches!N150),1,0) -> 0 | G20: =IF(Matches!H10<Matches!F10,1,0)+IF(Matches!H20<Matches!F20,1,0)+IF(Matches!F29<Matches!H29,1,0)+IF(Matches!H37<Matches!F37,1,0)+IF(Matches!N6<Matches!P6,1,0)+IF(Matches!N14<Matches!P14,1,0)+IF(Matches!P26<Matches!N26,1,0)+IF(Matches!N36<Matches!P36,1,0)+IF(Matches!F45<Matches!H45,1,0)+IF(Matches!H56<Matches!F56,1,0)+IF(Matches!F65<Matches!H65,1,0)+IF(Matches!H74<Matches!F74,1,0)+IF(Matches!P50<Matches!N50,1,0)+IF(Matches!P59<Matches!N59,1,0)+IF(Matches!N68<Matches!P68,1,0)+IF(Matches!N78<Matches!P78,1,0)+IF(Matches!F87<Matches!H87,1,0)+IF(Matches!H94<Matches!F94,1,0)+IF(Matches!F110<Matches!H110,1,0)+IF(Matches!H116<Matches!F116,1,0)+IF(Matches!P83<Matches!N83,1,0)+IF(Matches!N98<Matches!P98,1,0)+IF(Matches!N104<Matches!P104,1,0)+IF(Matches!P114<Matches!N114,1,0)+IF(Matches!F130<Matches!H130,1,0)+IF(Matches!H140<Matches!F140,1,0)+IF(Matches!H144<Matches!F144,1,0)+IF(Matches!N129<Matches!P139,1,0)+IF(Matches!N139<Matches!P139,1,0)+IF(Matches!P150<Matches!N150,1,0) -> 0 | J20: =H20-I20 -> 0 | K20: =E20*3+F20 -> 0

Sheet Équipes 4I
C2: REC Beaumont B | D2: ES Mominoise B | E2: RFC Lobbes | F2: Sivry SP | G2: Baileux SP B | H2: JS Solre-St.-Géry | I2: JS Ragnies | J2: EC Erpion B | K2: RC Rance B | L2: JS Froidchapelle | M2: FC Boussu-lez-Walcourt | N2: SC Biercée | O2: AF US St.-Amand-Brye | P2: JS Jamioulx B | Q2: E Presles | R2: R Goutroux SP B
B3: REC Beaumont B
B4: ES Mominoise B
B5: RFC Lobbes
B6: Sivry SP
B7: Baileux SP B
B8: JS Solre-St.-Géry
B9: JS Ragnies
B10: EC Erpion B
B11: RC Rance B
B12: JS Froidchapelle
B13: FC Boussu-lez-Walcourt
B14: SC Biercée
... B18: R Goutroux SP B

Sheet Matches
B2: 1re journée (22/08/2010) | J2: 16e journée (05/12/2010)
B3: ES Mominoise B | C3: - | D3: RFC Lobbes | E3: : | G3: - | J3: REC Beaumont B | K3: - | L3: AF US St.-Amand-Brye | M3: : | O3: -
B4: JS Ragnies | C4: - | D4: SC Biercée | E4: : | G4: - | J4: ES Mominoise B | K4: - | L4: E Presles | M4: : | O4: -
B5: AF US St.-Amand-Brye | C5: - | D5: JS Froidchapelle | E5: : | G5: - | J5: Sivry SP | K5: - | L5: FC Boussu-lez-Walcourt | M5: : | O5: -
B6: FC Boussu-lez-Walcourt | C6: - | D6: JS Jamioulx B | E6: : | G6: - | J6: R Goutroux SP B | K6: - | L6: EC Erpion B | M6: : | O6: -
B7: E Presles | C7: - | D7: R Baileux SP B | E7: : | G7: - | J7: JS Ragnies | K7: - | L7: R Baileux SP B | M7: : | O7: -
B8: REC Beaumont B | C8: - | D8: JS Solre-St.-Géry | E8: : | G8: - | J8: JS Froidchapelle | K8: - | L8: JS Solre-St.-Géry | M8: : | O8: -
B9: Sivry SP | C9: - | D9: EC Erpion B | E9: : | G9: - | J9: SC Biercée | K9: - | L9: RFC Lobbes | M9: : | O9: -
B10: RC Rance B | C10: - | D10: R Goutroux SP B | E10: : | G10: - | J10: RC Rance B | K10: - | L10: JS Jamioulx B | M10: : | O10: -
B12: 2e journée (29/08/2010) | J12: 17e journée (12/12/2010)
B13: AF US St.-Amand-Brye | C13: - | D13: EC Erpion B | E13: : | G13: - | J13: ES Mominoise B | K13: - | L13: REC Beaumont B | M13: : | O13: -
B14: E Presles | C14: - | D14: Sivry SP | E14: : | G14: - | J14: R Goutroux SP B | K14: - | L14: RFC Lobbes | M14: : | O14: -
B15: FC Boussu-lez-Walcourt | C15: - | D15: RC Rance B | E15: : | G15: - | J15: SC Biercée | K15: - | L15: JS Solre-St.-Géry | M15: : | O15: -
B16: JS Jamioulx B | C16: - | D16: JS Ragnies | E16: : | G16: - | J16: JS Froidchapelle | K16: - | L16: R Baileux SP B | M16: : | O16: -
B17: R Baileux SP B | C17: - | D17: JS Froidchapelle | E17: : | G17: - | J17: JS Ragnies | K17: - | L17: JS Jamioulx B | M17: : | O17: -
B18: JS Solre-St.-Géry | C18: - | D18: SC Biercée | E18: : | G18: - | J18: RC Rance B | K18: - | L18: FC Boussu-lez-Walcourt | M18: : | O18: -
B19: REC Beaumont B | C19: - | D19: ES Mominoise B | E19: : | G19: - | J19: Sivry SP | K19: - | L19: E Presles | M19: : | O19: -
B20: RFC Lobbes | C20: - | D20: R Goutroux SP B | E20: : | G20: - | J20: EC Erpion B | K20: - | L20: AF US St.-Amand-Brye | M20: : | O20: -
B22: 3e journée (05/09/2010) | J22: 18e journée (19/12/2010)
B23: ES Mominoise B | C23: - | D23: AF US St.-Amand-Brye | E23: : | G23: - | J23: RFC Lobbes | K23: - | L23: EC Erpion B | M23: : | O23: -
B24: JS Ragnies | C24: - | D24: FC Boussu-lez-Walcourt | E24: : | G24: - | J24: AF US St.-Amand-Brye | K24: - | L24: ES Mominoise B | M24: : | O24: -
B25: RC Rance B | C25: - | D25: E Presles | E25: : | G25: - | J25: REC Beaumont B | K25: - | L25: Sivry SP | M25: : | O25: -
B26: Sivry SP | C26: - | D26: REC Beaumont B | E26: : | G26: - | J26: JS Solre-St.-Géry | K26: - | L26: R Goutroux SP B | M26: : | O26: -
B27: EC Erpion B | C27: - | D27: RFC Lobbes | E27: : | G27: - | J27: FC Boussu-lez-Walcourt | K27: - | L27: JS Ragnies | M27: : | O27: -
B28: SC Biercée | C28: - | D28: R Baileux SP B | E28: : | G28: - | J28: JS Jamioulx B | K28: - | L28: JS Froidchapelle | M28: : | O28: -
B29: R Goutroux SP B | C29: - | D29: JS Solre-St.-Géry | E29: : | G29: - | J29: R Baileux SP B | K29: - | L29: SC Biercée | M29: : | O29: -
B30: JS Froidchapelle | C30: - | D30: JS Jamioulx B | E30: : | G30: - | J30: E Presles | K30: - | L30: RC Rance B | M30: : | O30: -
B32: 4e journée (12/09/2010) | J32: 19e journée (09/01/2011)
B33: ES Mominoise B | C33: - | D33: Sivry SP | E33: : | G33: - | J33: JS Ragnies | K33: - | L33: E Presles | M33: : | O33: -
B34: E Presles | C34: - | D34: JS Ragnies | E34: : | G34: - | J34: JS Froidchapelle | K34: - | L34: FC Boussu-lez-Walcourt | M34: : | O34: -
B35: FC Boussu-lez-Walcourt | C35: - | D35: JS Froidchapelle | E35: : | G35: - | J35: SC Biercée | K35: - | L35: JS Jamioulx B | M35: : | O35: -
B36: JS Jamioulx B | C36: - | D36: SC Biercée | E36: : | G36: - | J36: R Goutroux SP B | K36: - | L36: R Baileux SP B | M36: : | O36: -
B37: R Baileux SP B | C37: - | D37: R Goutroux SP B | E37: : | G37: - | J37: EC Erpion B | K37: - | L37: JS Solre-St.-Géry | M37: : | O37: -
B38: JS Solre-St.-Géry | C38: - | D38: EC Erpion B | E38: : | G38: - | J38: Sivry SP | K38: - | L38: ES Mominoise B | M38: : | O38: -
B39: REC Beaumont B | C39: - | D39: RC Rance B | E39: : | G39: - | J39: RC Rance B | K39: - | L39: REC Beaumont B | M39: : | O39: -
B40: AF US St.-Amand-Brye | C40: - | D40: RFC Lobbes | E40: : | G40: - | J40: RFC Lobbes | K40: - | L40: AF US St.-Amand-Brye | M40: : | O40: -
B42: 5e journée (19/09/2010) | J42: 20e journée (16/01/2011)
B43: EC Erpion B | C43: - | D43: R Baileux SP B | E43: : | G43: - | J43: FC Boussu-lez-Walcourt | K43: - | L43: SC Biercée | M43: : | O43: -
B44: RFC Lobbes | C44: - | D44: JS Solre-St.-Géry | E44: : | G44: - | J44: E Presles | K44: - | L44: JS Froidchapelle | M44: : | O44: -
B45: R Goutroux SP B | C45: - | D45: JS Jamioulx B | E45: : | G45: - | J45: REC Beaumont B | K45: - | L45: JS Ragnies | M45: : | O45: -
B46: SC Biercée | C46: - | D46: FC Boussu-lez-Walcourt | E46: : | G46: - | J46: ES Mominoise B | K46: - | L46: RC Rance B | M46: : | O46: -
B47: JS Froidchapelle | C47: - | D47: E Presles | E47: : | G47: - | J47: AF US St.-Amand-Brye | K47: - | L47: Sivry SP | M47: : | O47: -
B48: JS Ragnies | C48: - | D48: REC Beaumont B | E48: : | G48: - | J48: JS Solre-St.-Géry | K48: - | L48: RFC Lobbes | M48: : | O48: -
B49: RC Rance B | C49: - | D49: ES Mominoise B | E49: : | G49: - | J49: R Baileux SP B | K49: - | L49: EC Erpion B | M49: : | O49: -
B50: Sivry SP | C50: - | D50: AF US St.-Amand-Brye | E50: : | G50: - | J50: JS Jamioulx B | K50: - | L50: R Goutroux SP B | M50: : | O50: -
B52: 6e journée (26/09/2010) | J52: 21e journée (23/01/2011)
B53: ES Mominoise B | C53: - | D53: JS Ragnies | E53: : | G53: - | J53: ES Mominoise B | K53: - | L53: JS Froidchapelle | M53: : | O53: -
B54: REC Beaumont B | C54: - | D54: JS Froidchapelle | E54: : | G54: - | J54: R Baileux SP B | K54: - | L54: JS Solre-St.-Géry | M54: : | O54: -
B55: E Presles | C55: - | D55: SC Biercée | E55: : | G55: - | J55: AF US St.-Amand-Brye | K55: - | L55: RC Rance B | M55: : | O55: -
B56: FC Boussu-lez-Walcourt | C56: - | D56: R Goutroux SP B | E56: : | G56: - | J56: Sivry SP | K56: - | L56: JS Ragnies | M56: : | O56: -
B57: JS Jamioulx B | C57: - | D57: EC Erpion B | E57: : | G57: - | J57: FC Boussu-lez-Walcourt | K57: - | L57: EC Erpion B | M57: : | O57: -
B58: R Baileux SP B | C58: - | D58: RFC Lobbes | E58: : | G58: - | J58: JS Jamioulx B | K58: - | L58: RFC Lobbes | M58: : | O58: -
B59: Sivry SP | C59: - | D59: RC Rance B | E59: : | G59: - | J59: E Presles | K59: - | L59: R Goutroux SP B | M59: : | O59: -
B60: AF US St.-Amand-Brye | C60: - | D60: JS Solre-St.-Géry | E60: : | G60: - | J60: REC Beaumont B | K60: - | L60: SC Biercée | M60: : | O60: -
B62: 7e journée (03/10/2010) | J62: 22e journée (30/01/2011)
B63: JS Solre-St.-Géry | C63: - | D63: R Baileux SP B | E63: : | G63: - | J63: JS Jamioulx B | K63: - | L63: E Presles | M63: : | O63: -
B64: RFC Lobbes | C64: - | D64: JS Jamioulx B | E64: : | G64: - | J64: FC Boussu-lez-Walcourt | K64: - | L64: AF US St.-Amand-Brye | M64: : | O64: -
B65: R Goutroux SP B | C65: - | D65: E Presles | E65: : | G65: - | J65: R Baileux SP B | K65: - | L65: REC Beaumont B | M65: : | O65: -
B66: SC Biercée | C66: - | D66: REC Beaumont B | E66: : | G66: - | J66: JS Solre-St.-Géry | K66: - | L66: ES Mominoise B | M66: : | O66: -
B67: JS Froidchapelle | C67: - | D67: ES Mominoise B | E67: : | G67: - | J67: RFC Lobbes | K67: - | L67: Sivry SP | M67: : | O67: -
B68: JS Ragnies | C68: - | D68: Sivry SP | E68: : | G68: - | J68: R Goutroux SP B | K68: - | L68: JS Ragnies | M68: : | O68: -
B69: RC Rance B | C69: - | D69: AF US St.-Amand-Brye | E69: : | G69: - | J69: EC Erpion B | K69: - | L69: RC Rance B | M69: : | O69: -
B70: EC Erpion B | C70: - | D70: FC Boussu-lez-Walcourt | E70: : | G70: - | J70: SC Biercée | K70: - | L70: JS Froidchapelle | M70: : | O70: -
B72: 8e journée (10/10/2010) | J72: 23e journée (06/02/2011)
B73: ES Mominoise B | C73: - | D73: SC Biercée | E73: : | G73: - | J73: JS Froidchapelle | K73: - | L73: REC Beaumont B | M73: : | O73: -
B74: REC Beaumont B | C74: - | D74: R Goutroux SP B | E74: : | G74: - | J74: JS Ragnies | K74: - | L74: ES Mominoise B | M74: : | O74: -
B75: E Presles | C75: - | D75: EC Erpion B | E75: : | G75: - | J75: RC Rance B | K75: - | L75: Sivry SP | M75: : | O75: -
B76: FC Boussu-lez-Walcourt | C76: - | D76: RFC Lobbes | E76: : | G76: - | J76: RFC Lobbes | K76: - | L76: R Baileux SP B | M76: : | O76: -
B77: JS Jamioulx B | C77: - | D77: JS Solre-St.-Géry | E77: : | G77: - | J77: EC Erpion B | K77: - | L77: JS Jamioulx B | M77: : | O77: -
B78: RC Rance B | C78: - | D78: JS Ragnies | E78: : | G78: - | J78: R Goutroux SP B | K78: - | L78: FC Boussu-lez-Walcourt | M78: : | O78: -
B79: Sivry SP | C79: - | D79: JS Froidchapelle | E79: : | G79: - | J79: SC Biercée | K79: - | L79: E Presles | M79: : | O79: -
B80: AF US St.-Amand-Brye | C80: - | D80: R Baileux SP B | E80: : | G80: - | J80: JS Solre-St.-Géry | K80: - | L80: AF US St.-Amand-Brye | M80: : | O80: -
B82: 9e journée (17/10/2010) | J82: 24e journée (20/02/2011)
B83: JS Solre-St.-Géry | C83: - | D83: FC Boussu-lez-Walcourt | E83: : | G83: - | J83: ES Mominoise B | K83: - | L83: R Goutroux SP B | M83: : | O83: -
B84: RFC Lobbes | C84: - | D84: E Presles | E84: : | G84: - | J84: Sivry SP | K84: - | L84: SC Biercée | M84: : | O84: -
B85: EC Erpion B | C85: - | D85: REC Beaumont B | E85: : | G85: - | J85: RC Rance B | K85: - | L85: JS Froidchapelle | M85: : | O85: -
B86: R Baileux SP B | C86: - | D86: JS Jamioulx B | E86: : | G86: - | J86: AF US St.-Amand-Brye | K86: - | L86: JS Ragnies | M86: : | O86: -
B87: R Goutroux SP B | C87: - | D87: ES Mominoise B | E87: : | G87: - | J87: JS Jamioulx B | K87: - | L87: R Baileux SP B | M87: : | O87: -
B88: SC Biercée | C88: - | D88: Sivry SP | E88: : | G88: - | J88: FC Boussu-lez-Walcourt | K88: - | L88: JS Solre-St.-Géry | M88: : | O88: -
B89: JS Froidchapelle | C89: - | D89: RC Rance B | E89: : | G89: - | J89: REC Beaumont B | K89: - | L89: EC Erpion B | M89: : | O89: -
B90: JS Ragnies | C90: - | D90: AF US St.-Amand-Brye | E90: : | G90: - | J90: E Presles | K90: - | L90: RFC Lobbes | M90: : | O90: -
B92: 10e journée (24/10/2010) | J92: 25e journée (27/02/2011)
B93: ES Mominoise B | C93: - | D93: EC Erpion B | E93: : | G93: - | J93: RFC Lobbes | K93: - | L93: FC Boussu-lez-Walcourt | M93: : | O93: -
B94: Sivry SP | C94: - | D94: R Goutroux SP B | E94: : | G94: - | J94: JS Solre-St.-Géry | K94: - | L94: JS Jamioulx B | M94: : | O94: -
B95: RC Rance B | C95: - | D95: SC Biercée | E95: : | G95: - | J95: JS Ragnies | K95: - | L95: RC Rance B | M95: : | O95: -
B96: JS Ragnies | C96: - | D96: JS Froidchapelle | E96: : | G96: - | J96: JS Froidchapelle | K96: - | L96: Sivry SP | M96: : | O96: -
B97: FC Boussu-lez-Walcourt | C97: - | D97: R Baileux SP B | E97: : | G97: - | J97: EC Erpion B | K97: - | L97: E Presles | M97: : | O97: -
B98: E Presles | C98: - | D98: JS Solre-St.-Géry | E98: : | G98: - | J98: R Goutroux SP B | K98: - | L98: REC Beaumont B | M98: : | O98: -
B99: REC Beaumont B | C99: - | D99: RFC Lobbes | E99: : | G99: - | J99: SC Biercée | K99: - | L99: ES Mominoise B | M99: : | O99: -
B100: AF US St.-Amand-Brye | C100: - | D100: JS Jamioulx B | E100: : | G100: - | J100: R Baileux SP B | K100: - | L100: AF US St.-Amand-Brye | M100: : | O100: -
B102: 11e journée (31/10/2010) | J102: 26e journée (20/03/2011)
B103: EC Erpion B | C103: - | D103: Sivry SP | E103: : | G103: - | J103: EC Erpion B | K103: - | L103: ES Mominoise B | M103: : | O103: -
B104: RFC Lobbes | C104: - | D104: ES Mominoise B | E104: : | G104: - | J104: R Goutroux SP B | K104: - | L104: Sivry SP | M104: : | O104: -
B105: JS Solre-St.-Géry | C105: - | D105: REC Beaumont B | E105: : | G105: - | J105: SC Biercée | K105: - | L105: RC Rance B | M105: : | O105: -
B106: SC Biercée | C106: - | D106: JS Ragnies | E106: : | G106: - | J106: JS Froidchapelle | K106: - | L106: JS Ragnies | M106: : | O106: -
B107: JS Froidchapelle | C107: - | D107: AF US St.-Amand-Brye | E107: : | G107: - | J107: JS Jamioulx B | K107: - | L107: AF US St.-Amand-Brye | M107: : | O107: -
B108: JS Jamioulx B | C108: - | D108: FC Boussu-lez-Walcourt | E108: : | G108: - | J108: R Baileux SP B | K108: - | L108: FC Boussu-lez-Walcourt | M108: : | O108: -
B109: R Baileux SP B | C109: - | D109: E Presles | E109: : | G109: - | J109: JS Solre-St.-Géry | K109: - | L109: E Presles | M109: : | O109: -
B110: R Goutroux SP B | C110: - | D110: RC Rance B | E110: : | G110: - | J110: RFC Lobbes | K110: - | L110: REC Beaumont B | M110: : | O110: -
B112: 12e journée (07/11/2010) | J112: 27e journée (27/03/2011)
...

Sheet Distances
D2: Kilométrage
B3: Départ | C3: Vieux Chemin de Charleroi, 41 - 6500 Beaumont | D3: 0
B5: EC Beaumont B | C5: Rue de l'Abattoir - 6500 Beaumont | D5: 3.3 | E5: 1 | F5: =D5*E5 -> 3.3
B6: JS Momignies B | C6: Route Verte - 6593 Macquenoise | D6: 38 | E6: 1 | F6: =D6*E6 -> 38
B7: RFC Lobbes | C7: Chemin d'Hourpes - 6540 Lobbes | D7: 18 | E7: 1 | F7: =D7*E7 -> 18
B8: Sivry SP | C8: Rue Là-Haut - 6470 Sivry | D8: 11 | E8: 1 | F8: =D8*E8 -> 11
B9: Baileux SP B | C9: Rue de Pétin - 6460 Baileux | D9: 31 | E9: 1 | F9: =D9*E9 -> 31
B10: JS Solre-saint-Géry | C10: Rue Sainte-Anne - 6500 Solre-saint-Géry | D10: 4.6 | E10: 15 | F10: =D10*E10 -> 69
B11: JS Ragnies | C11: Rue des Catias - 6532 Ragnies | D11: 9.2 | E11: 1 | F11: =D11*E11 -> 9.2
B12: EC Erpion B | C12: Rue Général Gallet - 6441 Erpion | D12: 13 | E12: 1 | F12: =D12*E12 -> 13
B13: RC Rance B | C13: Rue Pauline Hubert - 6470 Rance | D13: 14 | E13: 1 | F13: =D13*E13 -> 14
B14: JS Froidchapelle | C14: Rue des Arzillières - 6440 Froidchapelle | D14: 15 | E14: 1 | F14: =D14*E14 -> 15
B15: FC Boussu-lez-Walcourt | C15: Route de Castillon - 6440 Boussu-lez-Walcourt | D15: 11 | E15: 1 | F15: =D15*E15 -> 11
B16: SC Biercée | C16: Rue des Sarts - 6533 Biercée | D16: 15 | E16: 1 | F16: =D16*E16 -> 15
B17: AF US Saint-Amand-Brye | C17: Rue Tourne en Pierre - 6221 Saint-Amand | D17: 46 | E17: 1 | F17: =D17*E17 -> 46
B18: JS Jamioulx B | C18: Rue du Parc - 6120 Jamioulx | E18: 1 | F18: =D18*E18 -> 0
B19: Entente Presles | C19: Rue des Prêcheurs - 6200 Châtelet | E19: 1 | F19: =D19*E19 -> 0
B20: R Goutroux Sport B | C20: Rue de Leernes - 6030 Goutroux | D20: 25 | E20: 1 | F20: =D20*E20 -> 25
F21: =SUM(F5:F20) -> 318.5
