Workbook

Sheet Classement
B3: 4e provinciale Hainaut I
C4: Équipes | D4: Matches | E4: Victoires | F4: Nuls | G4: Défaites | H4: Buts p. | I4: Buts c. | J4: Diff. | K4: Points
B5: 1. | C5: REC Beaumont B | D5: =E5+F5+G5 -> 0 | E5: =IF(Matches!F8>Matches!H8,1,0)+IF(Matches!F19>Matches!H19,1,0)+IF(Matches!H26>Matches!F26,1,0)+IF(Matches!F39>Matches!H39,1,0)+IF(Matches!H48>Matches!F48,1,0)+IF(Matches!F54>Matches!H54,1,0)+IF(Matches!H66>Matches!F66,1,0)+IF(Matches!F74>Matches!H74,1,0)+IF(Matches!H85>Matches!F85,1,0)+IF(Matches!F99>Matches!H99,1,0)+IF(Matches!H105>Matches!F105,1,0)+IF(Matches!F119>Matches!H119,1,0)+IF(Matches!H125>Matches!F125,1,0)+IF(Matches!H133>Matches!F133,1,0)+IF(Matches!F149>Matches!H149,1,0)+IF(Matches!N3>Matches!P3,1,0)+IF(Matches!P13>Matches!N13,1,0)+IF(Matches!N25>Matches!P25,1,0)+IF(Matches!P39>Matches!N39,1,0)+IF(Matches!N45>Matches!P45,1,0)+IF(Matches!N60>Matches!P60,1,0)+IF(Matches!P65>Matches!N65,1,0)+IF(Matches!P73>Matches!N73,1,0)+IF(Matches!N89>Matches!P89,1,0)+IF(Matches!P98>Matches!N98,1,0)+IF(Matches!P110>Matches!N110,1,0)+IF(Matches!N117>Matches!P117,1,0)+IF(Matches!P130>Matches!N130,1,0)+IF(Matches!N138>Matches!P138,1,0)+IF(Matches!P143>Matches!N143,1,0) -> 0 | F5: =IF(AND(Matches!F8<>"",Matches!H8<>"",Matches!F8=Matches!H8),1,0)+IF(AND(Matches!F19<>"",Matches!H19<>"",Matches!F19=Matches!H19),1,0)+IF(AND(Matches!H26<>"",Matches!F26<>"",Matches!H26=Matches!F26),1,0)+IF(AND(Matches!F39<>"",Matches!H39<>"",Matches!F39=Matches!H39),1,0)+IF(AND(Matches!H48<>"",Matches!F48<>"",Matches!H48=Matches!F48),1,0)+IF(AND(Matches!F54<>"",Matches!H54<>"",Matches!F54=Matches!H54),1,0)+IF(AND(Matches!H66<>"",Matches!F66<>"",Matches!H66=Matches!F66),1,0)+IF(AND(Matches!F74<>"",Matches!H74<>"",Matches!F74=Matches!H74),1,0)+IF(AND(Matches!H85<>"",Matches!F85<>"",Matches!H85=Matches!F85),1,0)+IF(AND(Matches!F99<>"",Matches!H99<>"",Matches!F99=Matches!H99),1,0)+IF(AND(Matches!H105<>"",Matches!F105<>"",Matches!H105=Matches!F105),1,0)+IF(AND(Matches!F119<>"",Matches!H119<>"",Matches!F119=Matches!H119),1,0)+IF(AND(Matches!H125<>"",Matches!F125<>"",Matches!H125=Matches!F125),1,0)+IF(AND(Matches!H133<>"",Matches!F133<>"",Matches!H133=Matches!F133),1,0)+IF(AND(Matches!F149<>"",Matches!H149<>"",Matches!F149=Matches!H149),1,0)+IF(AND(Matches!N3<>"",Matches!P3<>"",Matches!N3=Matches!P3),1,0)+IF(AND(Matches!P13<>"",Matches!N13<>"",Matches!P13=Matches!N13),1,0)+IF(AND(Matches!N25<>"",Matches!P25<>"",Matches!N25=Matches!P25),1,0)+IF(AND(Matches!P39<>"",Matches!N39<>"",Matches!P39=Matches!N39),1,0)+IF(AND(Matches!N45<>"",Matches!P45<>"",Matches!N45=Matches!P45),1,0)+IF(AND(Matches!N60<>"",Matches!P60<>"",Matches!N60=Matches!P60),1,0)+IF(AND(Matches!P65<>"",Matches!N65<>"",Matches!P65=Matches!N65),1,0)+IF(AND(Matches!P73<>"",Matches!N73<>"",Matches!P73=Matches!N73),1,0)+IF(AND(Matches!N89<>"",Matches!P89<>"",Matches!N89=Matches!P89),1,0)+IF(AND(Matches!P98<>"",Matches!N98<>"",Matches!P98=Matches!N98),1,0)+IF(AND(Matches!P110<>"",Matches!N110<>"",Matches!P110=Matches!N110),1,0)+IF(AND(Matches!N117<>"",Matches!P117<>"",Matches!N117=Matches!P117),1,0)+IF(AND(Matches!P130<>"",Matches!N130<>"",Matches!P130=Matches!N130),1,0)+IF(AND(Matches!N138<>"",Matches!P138<>"",Matches!N138=Matches!P138),1,0)+IF(AND(Matches!P143<>"",Matches!N143<>"",Matches!P143=Matches!N143),1,0) -> 0 | G5: =IF(Matches!F8<Matches!H8,1,0)+IF(Matches!F19<Matches!H19,1,0)+IF(Matches!H26<Matches!F26,1,0)+IF(Matches!F39<Matches!H39,1,0)+IF(Matches!H48<Matches!F48,1,0)+IF(Matches!F54<Matches!H54,1,0)+IF(Matches!H66<Matches!F66,1,0)+IF(Matches!F74<Matches!H74,1,0)+IF(Matches!H85<Matches!F85,1,0)+IF(Matches!F99<Matches!H99,1,0)+IF(Matches!H105<Matches!F105,1,0)+IF(Matches!F119<Matches!H119,1,0)+IF(Matches!H125<Matches!F125,1,0)+IF(Matches!H133<Matches!F133,1,0)+IF(Matches!F149<Matches!H149,1,0)+IF(Matches!N3<Matches!P3,1,0)+IF(Matches!P13<Matches!N13,1,0)+IF(Matches!N25<Matches!P25,1,0)+IF(Matches!P39<Matches!N39,1,0)+IF(Matches!N45<Matches!P45,1,0)+IF(Matches!N60<Matches!P60,1,0)+IF(Matches!P65<Matches!N65,1,0)+IF(Matches!P73<Matches!N73,1,0)+IF(Matches!N89<Matches!P89,1,0)+IF(Matches!P98<Matches!N98,1,0)+IF(Matches!P110<Matches!N110,1,0)+IF(Matches!N117<Matches!P117,1,0)+IF(Matches!P130<Matches!N130,1,0)+IF(Matches!N138<Matches!P138,1,0)+IF(Matches!P143<Matches!N143,1,0) -> 0 | H5: =Matches!F8+Matches!F19+Matches!H26+Matches!F39+Matches!H48+Matches!F54+Matches!H66+Matches!F74+Matches!H85+Matches!F99+Matches!H105+Matches!F119+Matches!H125+Matches!H133+Matches!F149+Matches!N3+Matches!P13+Matches!N25+Matches!P39+Matches!N45+Matches!N60+Matches!P65+Matches!P73+Matches!N89+Matches!P98+Matches!P110+Matches!N117+Matches!P130+Matches!N138+Matches!P143 -> 0 | I5: =Matches!H8+Matches!H19+Matches!F26+Matches!H39+Matches!F48+Matches!H54+Matches!F66+Matches!H74+Matches!F85+Matches!H99+Matches!F105+Matches!H119+Matches!F125+Matches!F133+Matches!H149+Matches!P3+Matches!N13+Matches!P25+Matches!N39+Matches!P45+Matches!P60+Matches!N65+Matches!N73+Matches!P89+Matches!N98+Matches!N110+Matches!P117+Matches!N130+Matches!P138+Matches!N143 -> 0 | J5: =H5-I5 -> 0 | K5: =E5*3+F5 -> 0
B6: 2. | C6: ES Mominoise B | D6: =E6+F6+G6 -> 0 | E6: =IF(Matches!F3>Matches!H3,1,0)+IF(Matches!H19>Matches!F19,1,0)+IF(Matches!F23>Matches!H23,1,0)+IF(Matches!F33>Matches!H33,1,0)+IF(Matches!H49>Matches!F49,1,0)+IF(Matches!F53>Matches!H53,1,0)+IF(Matches!H67>Matches!F67,1,0)+IF(Matches!F73>Matches!H73,1,0)+IF(Matches!H87>Matches!F87,1,0)+IF(Matches!F93>Matches!H93,1,0)+IF(Matches!H104>Matches!F104,1,0)+IF(Matches!F113>Matches!H113,1,0)+IF(Matches!H126>Matches!F126,1,0)+IF(Matches!H134>Matches!F134,1,0)+IF(Matches!F150>Matches!H150,1,0)+IF(Matches!N4>Matches!P4,1,0)+IF(Matches!N13>Matches!P13,1,0)+IF(Matches!P24>Matches!N24,1,0)+IF(Matches!P38>Matches!N38,1,0)+IF(Matches!N46>Matches!P46,1,0)+IF(Matches!N53>Matches!P53,1,0)+IF(Matches!P66>Matches!N66,1,0)+IF(Matches!P74>Matches!N74,1,0)+IF(Matches!N83>Matches!P83,1,0)+IF(Matches!P99>Matches!N99,1,0)+IF(Matches!P103>Matches!N103,1,0)+IF(Matches!N113>Matches!P113,1,0)+IF(Matches!P127>Matches!N127,1,0)+IF(Matches!N133>Matches!P133,1,0)+IF(Matches!P144>Matches!N144,1,0) -> 0 | F6: =IF(AND(Matches!F3<>"",Matches!H3<>"",Matches!F3=Matches!H3),1,0)+IF(AND(Matches!H19<>"",Matches!F19<>"",Matches!H19=Matches!F19),1,0)+IF(AND(Matches!F23<>"",Matches!H23<>"",Matches!F23=Matches!H23),1,0)+IF(AND(Matches!F33<>"",Matches!H33<>"",Matches!F33=Matches!H33),1,0)+IF(AND(Matches!H49<>"",Matches!F49<>"",Matches!H49=Matches!F49),1,0)+IF(AND(Matches!F53<>"",Matches!H53<>"",Matches!F53=Matches!H53),1,0)+IF(AND(Matches!H67<>"",Matches!F67<>"",Matches!H67=Matches!F67),1,0)+IF(AND(Matches!F73<>"",Matches!H73<>"",Matches!F73=Matches!H73),1,0)+IF(AND(Matches!H87<>"",Matches!F87<>"",Matches!H87=Matches!F87),1,0)+IF(AND(Matches!F93<>"",Matches!H93<>"",Matches!F93=Matches!H93),1,0)+IF(AND(Matches!H104<>"",Matches!F104<>"",Matches!H104=Matches!F104),1,0)+IF(AND(Matches!F113<>"",Matches!H113<>"",Matches!F113=Matches!H113),1,0)+IF(AND(Matches!H126<>"",Matches!F126<>"",Matches!H126=Matches!F126),1,0)+IF(AND(Matches!H134<>"",Matches!F134<>"",Matches!H134=Matches!F134),1,0)+IF(AND(Matches!F150<>"",Matches!H150<>"",Matches!F150=Matches!H150),1,0)+IF(AND(Matches!N4<>"",Matches!P4<>"",Matches!N4=Matches!P4),1,0)+IF(AND(Matches!N13<>"",Matches!P13<>"",Matches!N13=Matches!P13),1,0)+IF(AND(Matches!P24<>"",Matches!N24<>"",Matches!P24=Matches!N24),1,0)+IF(AND(Matches!P38<>"",Matches!N38<>"",Matches!P38=Matches!N38),1,0)+IF(AND(Matches!N46<>"",Matches!P46<>"",Matches!N46=Matches!P46),1,0)+IF(AND(Matches!N53<>"",Matches!P53<>"",Matches!N53=Matches!P53),1,0)+IF(AND(Matches!P66<>"",Matches!N66<>"",Matches!P66=Matches!N66),1,0)+IF(AND(Matches!P74<>"",Matches!N74<>"",Matches!P74=Matches!N74),1,0)+IF(AND(Matches!N83<>"",Matches!P83<>"",Matches!N83=Matches!P83),1,0)+IF(AND(Matches!P99<>"",Matches!N99<>"",Matches!P99=Matches!N99),1,0)+IF(AND(Matches!P103<>"",Matches!N103<>"",Matches!P103=Matches!N103),1,0)+IF(AND(Matches!N113<>"",Matches!P113<>"",Matches!N113=Matches!P113),1,0)+IF(AND(Matches!P127<>"",Matches!N127<>"",Matches!P127=Matches!N127),1,0)+IF(AND(Matches!N133<>"",Matches!P133<>"",Matches!N133=Matches!P133),1,0)+IF(AND(Matches!P144<>"",Matches!N144<>"",Matches!P144=Matches!N144),1,0) -> 0 | G6: =IF(Matches!F3<Matches!H3,1,0)+IF(Matches!H19<Matches!F19,1,0)+IF(Matches!F23<Matches!H23,1,0)+IF(Matches!F33<Matches!H33,1,0)+IF(Matches!H49<Matches!F49,1,0)+IF(Matches!F53<Matches!H53,1,0)+IF(Matches!H67<Matches!F67,1,0)+IF(Matches!F73<Matches!H73,1,0)+IF(Matches!H87<Matches!F87,1,0)+IF(Matches!F93<Matches!H93,1,0)+IF(Matches!H104<Matches!F104,1,0)+IF(Matches!F113<Matches!H113,1,0)+IF(Matches!H126<Matches!F126,1,0)+IF(Matches!H134<Matches!F134,1,0)+IF(Matches!F150<Matches!H150,1,0)+IF(Matches!N4<Matches!P4,1,0)+IF(Matches!N13<Matches!P13,1,0)+IF(Matches!P24<Matches!N24,1,0)+IF(Matches!P38<Matches!N38,1,0)+IF(Matches!N46<Matches!P46,1,0)+IF(Matches!N53<Matches!P53,1,0)+IF(Matches!P66<Matches!N66,1,0)+IF(Matches!P74<Matches!N74,1,0)+IF(Matches!N83<Matches!P83,1,0)+IF(Matches!P99<Matches!N99,1,0)+IF(Matches!P103<Matches!N103,1,0)+IF(Matches!N113<Matches!P113,1,0)+IF(Matches!P127<Matches!N127,1,0)+IF(Matches!N133<Matches!P133,1,0)+IF(Matches!P144<Matches!N144,1,0) -> 0 | H6: =Matches!F3+Matches!H19+Matches!F23+Matches!F33+Matches!H49+Matches!F53+Matches!H67+Matches!F73+Matches!H87+Matches!F93+Matches!H104+Matches!F113+Matches!H126+Matches!H134+Matches!F150+Matches!N4+Matches!N13+Matches!P24+Matches!P38+Matches!N46+Matches!N53+Matches!P66+Matches!P74+Matches!N83+Matches!P99+Matches!P103+Matches!N113+Matches!P127+Matches!N133+Matches!P144 -> 0 | I6: =Matches!H3+Matches!F19+Matches!H23+Matches!H33+Matches!F49+Matches!H53+Matches!F67+Matches!H73+Matches!F87+Matches!H93+Matches!F104+Matches!H113+Matches!P4+Matches!P13+Matches!N24+Matches!N38+Matches!P46+Matches!P53+Matches!N66+Matches!N74+Matches!P83+Matches!N99+Matches!N103+Matches!P113+Matches!N144+Matches!P133+Matches!N127 -> 0 | J6: =H6-I6 -> 0 | K6: =E6*3+F6 -> 0
B7: 3. | C7: RFC Lobbes | D7: =E7+F7+G7 -> 0 | E7: =IF(Matches!H3>Matches!F3,1,0)+IF(Matches!F20>Matches!H20,1,0)+IF(Matches!H27>Matches!F27,1,0)+IF(Matches!H40>Matches!F40,1,0)+IF(Matches!F44>Matches!H44,1,0)+IF(Matches!H58>Matches!F58,1,0)+IF(Matches!F64>Matches!H64,1,0)+IF(Matches!H76>Matches!F76,1,0)+IF(Matches!F84>Matches!H84,1,0)+IF(Matches!H99>Matches!F99,1,0)+IF(Matches!F104>Matches!H104,1,0)+IF(Matches!H118>Matches!F118,1,0)+IF(Matches!F128>Matches!H128,1,0)+IF(Matches!F138>Matches!H138,1,0)+IF(Matches!H146>Matches!F146,1,0)+IF(Matches!P9>Matches!N9,1,0)+IF(Matches!P14>Matches!N14,1,0)+IF(Matches!N23>Matches!P23,1,0)+IF(Matches!N40>Matches!P40,1,0)+IF(Matches!P48>Matches!N48,1,0)+IF(Matches!P58>Matches!N58,1,0)+IF(Matches!N67>Matches!P67,1,0)+IF(Matches!N76>Matches!P76,1,0)+IF(Matches!P90>Matches!N90,1,0)+IF(Matches!N93>Matches!P93,1,0)+IF(Matches!N110>Matches!P110,1,0)+IF(Matches!P120>Matches!N120,1,0)+IF(Matches!N124>Matches!P124,1,0)+IF(Matches!P135>Matches!N135,1,0)+IF(Matches!N149>Matches!P149,1,0) -> 0 | F7: =IF(AND(Matches!H3<>"",Matches!F3<>"",Matches!H3=Matches!F3),1,0)+IF(AND(Matches!F20<>"",Matches!H20<>"",Matches!F20=Matches!H20),1,0)+IF(AND(Matches!H27<>"",Matches!F27<>"",Matches!H27=Matches!F27),1,0)+IF(AND(Matches!H40<>"",Matches!F40<>"",Matches!H40=Matches!F40),1,0)+IF(AND(Matches!F44<>"",Matches!H44<>"",Matches!F44=Matches!H44),1,0)+IF(AND(Matches!H58<>"",Matches!F58<>"",Matches!H58=Matches!F58),1,0)+IF(AND(Matches!F64<>"",Matches!H64<>"",Matches!F64=Matches!H64),1,0)+IF(AND(Matches!H76<>"",Matches!F76<>"",Matches!H76=Matches!F76),1,0)+IF(AND(Matches!F84<>"",Matches!H84<>"",Matches!F84=Matches!H84),1,0)+IF(AND(Matches!H99<>"",Matches!F99<>"",Matches!H99=Matches!F99),1,0)+IF(AND(Matches!F104<>"",Matches!H104<>"",Matches!F104=Matches!H104),1,0)+IF(AND(Matches!H118<>"",Matches!F118<>"",Matches!H118=Matches!F118),1,0)+IF(AND(Matches!F128<>"",Matches!H128<>"",Matches!F128=Matches!H128),1,0)+IF(AND(Matches!F138<>"",Matches!H138<>"",Matches!F138=Matches!H138),1,0)+IF(AND(Matches!H146<>"",Matches!F146<>"",Matches!H146=Matches!F146),1,0)+IF(AND(Matches!P9<>"",Matches!N9<>"",Matches!P9=Matches!N9),1,0)+IF(AND(Matches!P14<>"",Matches!N14<>"",Matches!P14=Matches!N14),1,0)+IF(AND(Matches!N23<>"",Matches!P23<>"",Matches!N23=Matches!P23),1,0)+IF(AND(Matches!N40<>"",Matches!P40<>"",Matches!N40=Matches!P40),1,0)+IF(AND(Matches!P48<>"",Matches!N48<>"",Matches!P48=Matches!N48),1,0)+IF(AND(Matches!P58<>"",Matches!N58<>"",Matches!P58=Matches!N58),1,0)+IF(AND(Matches!N67<>"",Matches!P67<>"",Matches!N67=Matches!P67),1,0)+IF(AND(Matches!N76<>"",Matches!P76<>"",Matches!N76=Matches!P76),1,0)+IF(AND(Matches!P90<>"",Matches!N90<>"",Matches!P90=Matches!N90),1,0)+IF(AND(Matches!N93<>"",Matches!P93<>"",Matches!N93=Matches!P93),1,0)+IF(AND(Matches!N110<>"",Matches!P110<>"",Matches!N110=Matches!P110),1,0)+IF(AND(Matches!P120<>"",Matches!N120<>"",Matches!P120=Matches!N120),1,0)+IF(AND(Matches!N124<>"",Matches!P124<>"",Matches!N124=Matches!P124),1,0)+IF(AND(Matches!P135<>"",Matches!N135<>"",Matches!P135=Matches!N135),1,0)+IF(AND(Matches!N149<>"",Matches!P149<>"",Matches!N149=Matches!P149),1,0) -> 0 | G7: =IF(Matches!H3<Matches!F3,1,0)+IF(Matches!F20<Matches!H20,1,0)+IF(Matches!H27<Matches!F27,1,0)+IF(Matches!H40<Matches!F40,1,0)+IF(Matches!F44<Matches!H44,1,0)+IF(Matches!H58<Matches!F58,1,0)+IF(Matches!F64<Matches!H64,1,0)+IF(Matches!H76<Matches!F76,1,0)+IF(Matches!F84<Matches!H84,1,0)+IF(Matches!H99<Matches!F99,1,0)+IF(Matches!F104<Matches!H104,1,0)+IF(Matches!H118<Matches!F118,1,0)+IF(Matches!F128<Matches!H128,1,0)+IF(Matches!F138<Matches!H138,1,0)+IF(Matches!H146<Matches!F146,1,0)+IF(Matches!P9<Matches!N9,1,0)+IF(Matches!P14<Matches!N14,1,0)+IF(Matches!N23<Matches!P23,1,0)+IF(Matches!N40<Matches!P40,1,0)+IF(Matches!P48<Matches!N48,1,0)+IF(Matches!P58<Matches!N58,1,0)+IF(Matches!N67<Matches!P67,1,0)+IF(Matches!N76<Matches!P76,1,0)+IF(Matches!P90<Matches!N90,1,0)+IF(Matches!N93<Matches!P93,1,0)+IF(Matches!N110<Matches!P110,1,0)+IF(Matches!P120<Matches!N120,1,0)+IF(Matches!N124<Matches!P124,1,0)+IF(Matches!P135<Matches!N135,1,0)+IF(Matches!N149<Matches!P149,1,0) -> 0 | H7: =Matches!H3+Matches!F20+Matches!H27+Matches!H40+Matches!F44+Matches!H58+Matches!F64+Matches!H76+Matches!F84+Matches!H99+Matches!F104+Matches!H118+Matches!F128+Matches!F138+Matches!H146+Matches!P9+Matches!P14+Matches!N23+Matches!N40+Matches!P48+Matches!P58+Matches!N67+Matches!N76+Matches!P90+Matches!N93+Matches!N110+Matches!P120+Matches!N124+Matches!P135+Matches!N149 -> 0 | I7: =Matches!F3+Matches!H20+Matches!F27+Matches!F40+Matches!H44+Matches!F58+Matches!H64+Matches!F76+Matches!H84+Matches!F99+Matches!H104+Matches!F118+Matches!H128+Matches!H138+Matches!F146+Matches!N9+Matches!N14+Matches!P23+Matches!P40+Matches!N48+Matches!N58+Matches!P67+Matches!P76+Matches!N90+Matches!P93+Matches!P110+Matches!N120+Matches!P124+Matches!N135+Matches!P149 -> 0 | J7: =H7-I7 -> 0 | K7: =E7*3+F7 -> 0
B8: 4. | C8: Sivry SP | D8: =E8+F8+G8 -> 0 | E8: =IF(Matches!F9>Matches!H9,1,0)+IF(Matches!H14>Matches!F14,1,0)+IF(Matches!F26>Matches!H26,1,0)+IF(Matches!H33>Matches!F33,1,0)+IF(Matches!F50>Matches!H50,1,0)+IF(Matches!F59>Matches!H59,1,0)+IF(Matches!H68>Matches!F68,1,0)+IF(Matches!F79>Matches!H79,1,0)+IF(Matches!H88>Matches!F88,1,0)+IF(Matches!F94>Matches!H94,1,0)+IF(Matches!H103>Matches!F103,1,0)+IF(Matches!F118>Matches!H118,1,0)+IF(Matches!H127>Matches!F127,1,0)+IF(Matches!H135>Matches!F135,1,0)+IF(Matches!F148>Matches!H148,1,0)+IF(Matches!N5>Matches!P5,1,0)+IF(Matches!N19>Matches!P19,1,0)+IF(Matches!P25>Matches!N25,1,0)+IF(Matches!N38>Matches!P38,1,0)+IF(Matches!P47>Matches!N47,1,0)+IF(Matches!N56>Matches!P56,1,0)+IF(Matches!P67>Matches!N67,1,0)+IF(Matches!P75>Matches!N75,1,0)+IF(Matches!N84>Matches!P84,1,0)+IF(Matches!P96>Matches!N96,1,0)+IF(Matches!P104>Matches!N104,1,0)+IF(Matches!N118>Matches!P118,1,0)+IF(Matches!P128>Matches!N128,1,0)+IF(Matches!N137>Matches!P137,1,0)+IF(Matches!P145>Matches!N145,1,0) -> 0 | F8: =IF(AND(Matches!F9<>"",Matches!H9<>"",Matches!F9=Matches!H9),1,0)+IF(AND(Matches!H14<>"",Matches!F14<>"",Matches!H14=Matches!F14),1,0)+IF(AND(Matches!F26<>"",Matches!H26<>"",Matches!F26=Matches!H26),1,0)+IF(AND(Matches!H33<>"",Matches!F33<>"",Matches!H33=Matches!F33),1,0)+IF(AND(Matches!F50<>"",Matches!H50<>"",Matches!F50=Matches!H50),1,0)+IF(AND(Matches!F59<>"",Matches!H59<>"",Matches!F59=Matches!H59),1,0)+IF(AND(Matches!H68<>"",Matches!F68<>"",Matches!H68=Matches!F68),1,0)+IF(AND(Matches!F79<>"",Matches!H79<>"",Matches!F79=Matches!H79),1,0)+IF(AND(Matches!H88<>"",Matches!F88<>"",Matches!H88=Matches!F88),1,0)+IF(AND(Matches!F94<>"",Matches!H94<>"",Matches!F94=Matches!H94),1,0)+IF(AND(Matches!H103<>"",Matches!F103<>"",Matches!H103=Matches!F103),1,0)+IF(AND(Matches!F118<>"",Matches!H118<>"",Matches!F118=Matches!H118),1,0)+IF(AND(Matches!H127<>"",Matches!F127<>"",Matches!H127=Matches!F127),1,0)+IF(AND(Matches!H135<>"",Matches!F135<>"",Matches!H135=Matches!F135),1,0)+IF(AND(Matches!F148<>"",Matches!H148<>"",Matches!F148=Matches!H148),1,0)+IF(AND(Matches!N5<>"",Matches!P5<>"",Matches!N5=Matches!P5),1,0)+IF(AND(Matches!N19<>"",Matches!P19<>"",Matches!N19=Matches!P19),1,0)+IF(AND(Matches!P25<>"",Matches!N25<>"",Matches!P25=Matches!N25),1,0)+IF(AND(Matches!N38<>"",Matches!P38<>"",Matches!N38=Matches!P38),1,0)+IF(AND(Matches!P47<>"",Matches!N47<>"",Matches!P47=Matches!N47),1,0)+IF(AND(Matches!N56<>"",Matches!P56<>"",Matches!N56=Matches!P56),1,0)+IF(AND(Matches!P67<>"",Matches!N67<>"",Matches!P67=Matches!N67),1,0)+IF(AND(Matches!P75<>"",Matches!N75<>"",Matches!P75=Matches!N75),1,0)+IF(AND(Matches!N84<>"",Matches!P84<>"",Matches!N84=Matches!P84),1,0)+IF(AND(Matches!P96<>"",Matches!N96<>"",Matches!P96=Matches!N96),1,0)+IF(AND(Matches!P104<>"",Matches!N104<>"",Matches!P104=Matches!N104),1,0)+IF(AND(Matches!N118<>"",Matches!P118<>"",Matches!N118=Matches!P118),1,0)+IF(AND(Matches!P128<>"",Matches!N128<>"",Matches!P128=Matches!N128),1,0)+IF(AND(Matches!N137<>"",Matches!P137<>"",Matches!N137=Matches!P137),1,0)+IF(AND(Matches!P145<>"",Matches!N145<>"",Matches!P145=Matches!N145),1,0) -> 0 | G8: =IF(Matches!F9<Matches!H9,1,0)+IF(Matches!H14<Matches!F14,1,0)+IF(Matches!F26<Matches!H26,1,0)+IF(Matches!H33<Matches!F33,1,0)+IF(Matches!F50<Matches!H50,1,0)+IF(Matches!F59<Matches!H59,1,0)+IF(Matches!H68<Matches!F68,1,0)+IF(Matches!F79<Matches!H79,1,0)+IF(Matches!H88<Matches!F88,1,0)+IF(Matches!F94<Matches!H94,1,0)+IF(Matches!H103<Matches!F103,1,0)+IF(Matches!F118<Matches!H118,1,0)+IF(Matches!H127<Matches!F127,1,0)+IF(Matches!H135<Matches!F135,1,0)+IF(Matches!F148<Matches!H148,1,0)+IF(Matches!N5<Matches!P5,1,0)+IF(Matches!N19<Matches!P19,1,0)+IF(Matches!P25<Matches!N25,1,0)+IF(Matches!N38<Matches!P38,1,0)+IF(Matches!P47<Matches!N47,1,0)+IF(Matches!N56<Matches!P56,1,0)+IF(Matches!P67<Matches!N67,1,0)+IF(Matches!P75<Matches!N75,1,0)+IF(Matches!N84<Matches!P84,1,0)+IF(Matches!P96<Matches!N96,1,0)+IF(Matches!P104<Matches!N104,1,0)+IF(Matches!N118<Matches!P118,1,0)+IF(Matches!P128<Matches!N128,1,0)+IF(Matches!N137<Matches!P137,1,0)+IF(Matches!P145<Matches!N145,1,0) -> 0 | H8: =Matches!F9+Matches!H14+Matches!F26+Matches!H33+Matches!F50+Matches!F59+Matches!H68+Matches!F79+Matches!H88+Matches!F94+Matches!H103+Matches!F118+Matches!H127+Matches!H135+Matches!F148+Matches!N5+Matches!N19+Matches!P25+Matches!N38+Matches!P47+Matches!N56+Matches!P67+Matches!P75+Matches!N84+Matches!P96+Matches!P104+Matches!N118+Matches!P128+Matches!N137+Matches!P145 -> 0 | I8: =Matches!H9+Matches!F14+Matches!H26+Matches!F33+Matches!H50+Matches!H59+Matches!F68+Matches!H79+Matches!F88+Matches!H94+Matches!F103+Matches!H118+Matches!F127+Matches!F135+Matches!H148+Matches!P5+Matches!P19+Matches!N25+Matches!P38+Matches!N47+Matches!P56+Matches!N67+Matches!N75+Matches!P84+Matches!N96+Matches!N104+Matches!P118+Matches!N128+Matches!P137+Matches!N145 -> 0 | J8: =H8-I8 -> 0 | K8: =E8*3+F8 -> 0
B9: 5. | C9: Baileux SP B | D9: =E9+F9+G9 -> 0 | E9: =IF(Matches!H7>Matches!F7,1,0)+IF(Matches!F17>Matches!H17,1,0)+IF(Matches!H28>Matches!F28,1,0)+IF(Matches!F37>Matches!H37,1,0)+IF(Matches!H43>Matches!F43,1,0)+IF(Matches!F58>Matches!H58,1,0)+IF(Matches!H63>Matches!F63,1,0)+IF(Matches!H80>Matches!F80,1,0)+IF(Matches!F86>Matches!H86,1,0)+IF(Matches!H97>Matches!F97,1,0)+IF(Matches!F109>Matches!H109,1,0)+IF(Matches!H119>Matches!F119,1,0)+IF(Matches!F126>Matches!H126,1,0)+IF(Matches!F136>Matches!H136,1,0)+IF(Matches!H148>Matches!F148,1,0)+IF(Matches!P7>Matches!N7,1,0)+IF(Matches!P16>Matches!N16,1,0)+IF(Matches!N29>Matches!P29,1,0)+IF(Matches!P36>Matches!N36,1,0)+IF(Matches!N49>Matches!P49,1,0)+IF(Matches!N54>Matches!P54,1,0)+IF(Matches!N65>Matches!P65,1,0)+IF(Matches!P76>Matches!N76,1,0)+IF(Matches!P87>Matches!N87,1,0)+IF(Matches!N100>Matches!P100,1,0)+IF(Matches!N108>Matches!P108,1,0)+IF(Matches!P113>Matches!N113,1,0)+IF(Matches!N128>Matches!P128,1,0)+IF(Matches!P140>Matches!N140,1,0)+IF(Matches!N147>Matches!P147,1,0) -> 0 | F9: =IF(AND(Matches!H7<>"",Matches!F7<>"",Matches!H7=Matches!F7),1,0)+IF(AND(Matches!F17<>"",Matches!H17<>"",Matches!F17=Matches!H17),1,0)+IF(AND(Matches!H28<>"",Matches!F28<>"",Matches!H28=Matches!F28),1,0)+IF(AND(Matches!F37<>"",Matches!H37<>"",Matches!F37=Matches!H37),1,0)+IF(AND(Matches!H43<>"",Matches!F43<>"",Matches!H43=Matches!F43),1,0)+IF(AND(Matches!F58<>"",Matches!H58<>"",Matches!F58=Matches!H58),1,0)+IF(AND(Matches!H63<>"",Matches!F63<>"",Matches!H63=Matches!F63),1,0)+IF(AND(Matches!H80<>"",Matches!F80<>"",Matches!H80=Matches!F80),1,0)+IF(AND(Matches!F86<>"",Matches!H86<>"",Matches!F86=Matches!H86),1,0)+IF(AND(Matches!H97<>"",Matches!F97<>"",Matches!H97=Matches!F97),1,0)+IF(AND(Matches!F109<>"",Matches!H109<>"",Matches!F109=Matches!H109),1,0)+IF(AND(Matches!H119<>"",Matches!F119<>"",Matches!H119=Matches!F119),1,0)+IF(AND(Matches!F126<>"",Matches!H126<>"",Matches!F126=Matches!H126),1,0)+IF(AND(Matches!F136<>"",Matches!H136<>"",Matches!F136=Matches!H136),1,0)+IF(AND(Matches!H148<>"",Matches!F148<>"",Matches!H148=Matches!F148),1,0)+IF(AND(Matches!P7<>"",Matches!N7<>"",Matches!P7=Matches!N7),1,0)+IF(AND(Matches!P16<>"",Matches!N16<>"",Matches!P16=Matches!N16),1,0)+IF(AND(Matches!N29<>"",Matches!P29<>"",Matches!N29=Matches!P29),1,0)+IF(AND(Matches!P36<>"",Matches!N36<>"",Matches!P36=Matches!N36),1,0)+IF(AND(Matches!N49<>"",Matches!P49<>"",Matches!N49=Matches!P49),1,0)+IF(AND(Matches!N54<>"",Matches!P54<>"",Matches!N54=Matches!P54),1,0)+IF(AND(Matches!N65<>"",Matches!P65<>"",Matches!N65=Matches!P65),1,0)+IF(AND(Matches!P76<>"",Matches!N76<>"",Matches!P76=Matches!N76),1,0)+IF(AND(Matches!P87<>"",Matches!N87<>"",Matches!P87=Matches!N87),1,0)+IF(AND(Matches!N100<>"",Matches!P100<>"",Matches!N100=Matches!P100),1,0)+IF(AND(Matches!N108<>"",Matches!P108<>"",Matches!N108=Matches!P108),1,0)+IF(AND(Matches!P113<>"",Matches!N113<>"",Matches!P113=Matches!N113),1,0)+IF(AND(Matches!N128<>"",Matches!P128<>"",Matches!N128=Matches!P128),1,0)+IF(AND(Matches!P140<>"",Matches!N140<>"",Matches!P140=Matches!N140),1,0)+IF(AND(Matches!N147<>"",Matches!P147<>"",Matches!N147=Matches!P147),1,0) -> 0 | G9: =IF(Matches!H7<Matches!F7,1,0)+IF(Matches!F17<Matches!H17,1,0)+IF(Matches!H28<Matches!F28,1,0)+IF(Matches!F37<Matches!H37,1,0)+IF(Matches!H43<Matches!F43,1,0)+IF(Matches!F58<Matches!H58,1,0)+IF(Matches!H63<Matches!F63,1,0)+IF(Matches!H80<Matches!F80,1,0)+IF(Matches!F86<Matches!H86,1,0)+IF(Matches!H97<Matches!F97,1,0)+IF(Matches!F109<Matches!H109,1,0)+IF(Matches!H119<Matches!F119,1,0)+IF(Matches!F126<Matches!H126,1,0)+IF(Matches!F136<Matches!H136,1,0)+IF(Matches!H148<Matches!F148,1,0)+IF(Matches!P7<Matches!N7,1,0)+IF(Matches!P16<Matches!N16,1,0)+IF(Matches!N29<Matches!P29,1,0)+IF(Matches!P36<Matches!N36,1,0)+IF(Matches!N49<Matches!P49,1,0)+IF(Matches!N54<Matches!P54,1,0)+IF(Matches!N65<Matches!P65,1,0)+IF(Matches!P76<Matches!N76,1,0)+IF(Matches!P87<Matches!N87,1,0)+IF(Matches!N100<Matches!P100,1,0)+IF(Matches!N108<Matches!P108,1,0)+IF(Matches!P113<Matches!N113,1,0)+IF(Matches!N128<Matches!P128,1,0)+IF(Matches!P140<Matches!N140,1,0)+IF(Matches!N147<Matches!P147,1,0) -> 0 | H9: =Matches!H7+Matches!F17+Matches!H28+Matches!F37+Matches!H43+Matches!F58+Matches!H63+Matches!H80+Matches!F86+Matches!H97+Matches!F109+Matches!H119+Matches!F126+Matches!F136+Matches!H148+Matches!P7+Matches!P16+Matches!N29+Matches!P36+Matches!N49+Matches!N54+Matches!N65+Matches!P76+Matches!P87+Matches!N100+Matches!N108+Matches!P113+Matches!N128+Matches!P140+Matches!N147 -> 0 | I9: =Matches!F7+Matches!H17+Matches!F28+Matches!H37+Matches!F43+Matches!H58+Matches!F63+Matches!F80+Matches!H86+Matches!F97+Matches!H109+Matches!F119+Matches!H126+Matches!H136+Matches!F148+Matches!N7+Matches!N16+Matches!P29+Matches!N36+Matches!P49+Matches!P54+Matches!P65+Matches!N76+Matches!N87+Matches!P100+Matches!P108+Matches!N113+Matches!P128+Matches!N140+Matches!P147 -> 0 | J9: =H9-I9 -> 0 | K9: =E9*3+F9 -> 0
B10: 6. | C10: JS Solre-St.-Géry | D10: =E10+F10+G10 -> 0 | E10: =IF(Matches!H8>Matches!F8,1,0)+IF(Matches!F18>Matches!H18,1,0)+IF(Matches!H29>Matches!F29,1,0)+IF(Matches!F38>Matches!H38,1,0)+IF(Matches!H44>Matches!F44,1,0)+IF(Matches!H60>Matches!F60,1,0)+IF(Matches!F63>Matches!H63,1,0)+IF(Matches!H77>Matches!F77,1,0)+IF(Matches!F83>Matches!H83,1,0)+IF(Matches!H98>Matches!F98,1,0)+IF(Matches!F105>Matches!H105,1,0)+IF(Matches!H113>Matches!F113,1,0)+IF(Matches!F127>Matches!H127,1,0)+IF(Matches!F137>Matches!H137,1,0)+IF(Matches!H147>Matches!F147,1,0)+IF(Matches!P8>Matches!N8,1,0)+IF(Matches!P15>Matches!N15,1,0)+IF(Matches!N26>Matches!P26,1,0)+IF(Matches!P37>Matches!N37,1,0)+IF(Matches!N48>Matches!P48,1,0)+IF(Matches!P54>Matches!N54,1,0)+IF(Matches!N66>Matches!P66,1,0)+IF(Matches!N80>Matches!P80,1,0)+IF(Matches!P88>Matches!N88,1,0)+IF(Matches!N94>Matches!P94,1,0)+IF(Matches!N109>Matches!P109,1,0)+IF(Matches!P118>Matches!N118,1,0)+IF(Matches!N125>Matches!P125,1,0)+IF(Matches!P136>Matches!N136,1,0)+IF(Matches!N148>Matches!P148,1,0) -> 0 | F10: =IF(AND(Matches!H8<>"",Matches!F8<>"",Matches!H8=Matches!F8),1,0)+IF(AND(Matches!F18<>"",Matches!H18<>"",Matches!F18=Matches!H18),1,0)+IF(AND(Matches!H29<>"",Matches!F29<>"",Matches!H29=Matches!F29),1,0)+IF(AND(Matches!F38<>"",Matches!H38<>"",Matches!F38=Matches!H38),1,0)+IF(AND(Matches!H44<>"",Matches!F44<>"",Matches!H44=Matches!F44),1,0)+IF(AND(Matches!H60<>"",Matches!F60<>"",Matches!H60=Matches!F60),1,0)+IF(AND(Matches!F63<>"",Matches!H63<>"",Matches!F63=Matches!H63),1,0)+IF(AND(Matches!H77<>"",Matches!F77<>"",Matches!H77=Matches!F77),1,0)+IF(AND(Matches!F83<>"",Matches!H83<>"",Matches!F83=Matches!H83),1,0)+IF(AND(Matches!H98<>"",Matches!F98<>"",Matches!H98=Matches!F98),1,0)+IF(AND(Matches!F105<>"",Matches!H105<>"",Matches!F105=Matches!H105),1,0)+IF(AND(Matches!H113<>"",Matches!F113<>"",Matches!H113=Matches!F113),1,0)+IF(AND(Matches!F127<>"",Matches!H127<>"",Matches!F127=Matches!H127),1,0)+IF(AND(Matches!F137<>"",Matches!H137<>"",Matches!F137=Matches!H137),1,0)+IF(AND(Matches!H147<>"",Matches!F147<>"",Matches!H147=Matches!F147),1,0)+IF(AND(Matches!P8<>"",Matches!N8<>"",Matches!P8=Matches!N8),1,0)+IF(AND(Matches!P15<>"",Matches!N15<>"",Matches!P15=Matches!N15),1,0)+IF(AND(Matches!N26<>"",Matches!P26<>"",Matches!N26=Matches!P26),1,0)+IF(AND(Matches!P37<>"",Matches!N37<>"",Matches!P37=Matches!N37),1,0)+IF(AND(Matches!N48<>"",Matches!P48<>"",Matches!N48=Matches!P48),1,0)+IF(AND(Matches!P54<>"",Matches!N54<>"",Matches!P54=Matches!N54),1,0)+IF(AND(Matches!N66<>"",Matches!P66<>"",Matches!N66=Matches!P66),1,0)+IF(AND(Matches!N80<>"",Matches!P80<>"",Matches!N80=Matches!P80),1,0)+IF(AND(Matches!P88<>"",Matches!N88<>"",Matches!P88=Matches!N88),1,0)+IF(AND(Matches!N94<>"",Matches!P94<>"",Matches!N94=Matches!P94),1,0)+IF(AND(Matches!N109<>"",Matches!P109<>"",Matches!N109=Matches!P109),1,0)+IF(AND(Matches!P118<>"",Matches!N118<>"",Matches!P118=Matches!N118),1,0)+IF(AND(Matches!N125<>"",Matches!P125<>"",Matches!N125=Matches!P125),1,0)+IF(AND(Matches!P136<>"",Matches!N136<>"",Matches!P136=Matches!N136),1,0)+IF(AND(Matches!N148<>"",Matches!P148<>"",Matches!N148=Matches!P148),1,0) -> 0 | G10: =IF(Matches!H8<Matches!F8,1,0)+IF(Matches!F18<Matches!H18,1,0)+IF(Matches!H29<Matches!F29,1,0)+IF(Matches!F38<Matches!H38,1,0)+IF(Matches!H44<Matches!F44,1,0)+IF(Matches!H60<Matches!F60,1,0)+IF(Matches!F63<Matches!H63,1,0)+IF(Matches!H77<Matches!F77,1,0)+IF(Matches!F83<Matches!H83,1,0)+IF(Matches!H98<Matches!F98,1,0)+IF(Matches!F105<Matches!H105,1,0)+IF(Matches!H113<Matches!F113,1,0)+IF(Matches!F127<Matches!H127,1,0)+IF(Matches!F137<Matches!H137,1,0)+IF(Matches!H147<Matches!F147,1,0)+IF(Matches!P8<Matches!N8,1,0)+IF(Matches!P15<Matches!N15,1,0)+IF(Matches!N26<Matches!P26,1,0)+IF(Matches!P37<Matches!N37,1,0)+IF(Matches!N48<Matches!P48,1,0)+IF(Matches!P54<Matches!N54,1,0)+IF(Matches!N66<Matches!P66,1,0)+IF(Matches!N80<Matches!P80,1,0)+IF(Matches!P88<Matches!N88,1,0)+IF(Matches!N94<Matches!P94,1,0)+IF(Matches!N109<Matches!P109,1,0)+IF(Matches!P118<Matches!N118,1,0)+IF(Matches!N125<Matches!P125,1,0)+IF(Matches!P136<Matches!N136,1,0)+IF(Matches!N148<Matches!P148,1,0) -> 0 | H10: =Matches!H8+Matches!F18+Matches!H29+Matches!F38+Matches!H44+Matches!H60+Matches!F63+Matches!H77+Matches!F83+Matches!H98+Matches!F105+Matches!H113+Matches!F127+Matches!F137+Matches!H147+Matches!P8+Matches!P15+Matches!N26+Matches!P37+Matches!N48+Matches!P54+Matches!N66+Matches!N80+Matches!P88+Matches!N94+Matches!N109+Matches!P118+Matches!N125+Matches!P136+Matches!N148 -> 0 | I10: =Matches!F8+Matches!H18+Matches!F29+Matches!H38+Matches!F44+Matches!F60+Matches!H63+Matches!F77+Matches!H83+Matches!F98+Matches!H105+Matches!F113+Matches!H127+Matches!H137+Matches!F147+Matches!N8+Matches!N15+Matches!P26+Matches!N37+Matches!P48+Matches!N54+Matches!P66+Matches!P80+Matches!N88+Matches!P94+Matches!P109+Matches!N118+Matches!P125+Matches!N136+Matches!P148 -> 0 | J10: =H10-I10 -> 0 | K10: =E10*3+F10 -> 0
B11: 7. | C11: JS Ragnies | D11: =E11+F11+G11 -> 0 | E11: =IF(Matches!F4>Matches!H4,1,0)+IF(Matches!H16>Matches!F16,1,0)+IF(Matches!F24>Matches!H24,1,0)+IF(Matches!H34>Matches!F34,1,0)+IF(Matches!F48>Matches!H48,1,0)+IF(Matches!H53>Matches!F53,1,0)+IF(Matches!F68>Matches!H68,1,0)+IF(Matches!H78>Matches!F78,1,0)+IF(Matches!F90>Matches!H90,1,0)+IF(Matches!F96>Matches!H96,1,0)+IF(Matches!H106>Matches!F106,1,0)+IF(Matches!F116>Matches!H116,1,0)+IF(Matches!H129>Matches!F129,1,0)+IF(Matches!H137>Matches!F137,1,0)+IF(Matches!F146>Matches!H146,1,0)+IF(Matches!N7>Matches!P7,1,0)+IF(Matches!N17>Matches!P17,1,0)+IF(Matches!P27>Matches!N27,1,0)+IF(Matches!N33>Matches!P33,1,0)+IF(Matches!P45>Matches!N45,1,0)+IF(Matches!P56>Matches!N56,1,0)+IF(Matches!P68>Matches!N68,1,0)+IF(Matches!N74>Matches!P74,1,0)+IF(Matches!P86>Matches!N86,1,0)+IF(Matches!N95>Matches!P95,1,0)+IF(Matches!P106>Matches!N106,1,0)+IF(Matches!N119>Matches!P119,1,0)+IF(Matches!P124>Matches!N124,1,0)+IF(Matches!N136>Matches!P136,1,0)+IF(Matches!P147>Matches!N147,1,0) -> 0 | F11: =IF(AND(Matches!F4<>"",Matches!H4<>"",Matches!F4=Matches!H4),1,0)+IF(AND(Matches!H16<>"",Matches!F16<>"",Matches!H16=Matches!F16),1,0)+IF(AND(Matches!F24<>"",Matches!H24<>"",Matches!F24=Matches!H24),1,0)+IF(AND(Matches!H34<>"",Matches!F34<>"",Matches!H34=Matches!F34),1,0)+IF(AND(Matches!F48<>"",Matches!H48<>"",Matches!F48=Matches!H48),1,0)+IF(AND(Matches!H53<>"",Matches!F53<>"",Matches!H53=Matches!F53),1,0)+IF(AND(Matches!F68<>"",Matches!H68<>"",Matches!F68=Matches!H68),1,0)+IF(AND(Matches!H78<>"",Matches!F78<>"",Matches!H78=Matches!F78),1,0)+IF(AND(Matches!F90<>"",Matches!H90<>"",Matches!F90=Matches!H90),1,0)+IF(AND(Matches!F96<>"",Matches!H96<>"",Matches!F96=Matches!H96),1,0)+IF(AND(Matches!H106<>"",Matches!F106<>"",Matches!H106=Matches!F106),1,0)+IF(AND(Matches!F116<>"",Matches!H116<>"",Matches!F116=Matches!H116),1,0)+IF(AND(Matches!H129<>"",Matches!F129<>"",Matches!H129=Matches!F129),1,0)+IF(AND(Matches!H137<>"",Matches!F137<>"",Matches!H137=Matches!F137),1,0)+IF(AND(Matches!F146<>"",Matches!H146<>"",Matches!F146=Matches!H146),1,0)+IF(AND(Matches!N7<>"",Matches!P7<>"",Matches!N7=Matches!P7),1,0)+IF(AND(Matches!N17<>"",Matches!P17<>"",Matches!N17=Matches!P17),1,0)+IF(AND(Matches!P27<>"",Matches!N27<>"",Matches!P27=Matches!N27),1,0)+IF(AND(Matches!N33<>"",Matches!P33<>"",Matches!N33=Matches!P33),1,0)+IF(AND(Matches!P45<>"",Matches!N45<>"",Matches!P45=Matches!N45),1,0)+IF(AND(Matches!P56<>"",Matches!N56<>"",Matches!P56=Matches!N56),1,0)+IF(AND(Matches!P68<>"",Matches!N68<>"",Matches!P68=Matches!N68),1,0)+IF(AND(Matches!N74<>"",Matches!P74<>"",Matches!N74=Matches!P74),1,0)+IF(AND(Matches!P86<>"",Matches!N86<>"",Matches!P86=Matches!N86),1,0)+IF(AND(Matches!N95<>"",Matches!P95<>"",Matches!N95=Matches!P95),1,0)+IF(AND(Matches!P106<>"",Matches!N106<>"",Matches!P106=Matches!N106),1,0)+IF(AND(Matches!N119<>"",Matches!P119<>"",Matches!N119=Matches!P119),1,0)+IF(AND(Matches!P124<>"",Matches!N124<>"",Matches!P124=Matches!N124),1,0)+IF(AND(Matches!N136<>"",Matches!P136<>"",Matches!N136=Matches!P136),1,0)+IF(AND(Matches!P147<>"",Matches!N147<>"",Matches!P147=Matches!N147),1,0) -> 0 | G11: =IF(Matches!F4<Matches!H4,1,0)+IF(Matches!H16<Matches!F16,1,0)+IF(Matches!F24<Matches!H24,1,0)+IF(Matches!H34<Matches!F34,1,0)+IF(Matches!F48<Matches!H48,1,0)+IF(Matches!H53<Matches!F53,1,0)+IF(Matches!F68<Matches!H68,1,0)+IF(Matches!H78<Matches!F78,1,0)+IF(Matches!F90<Matches!H90,1,0)+IF(Matches!F96<Matches!H96,1,0)+IF(Matches!H106<Matches!F106,1,0)+IF(Matches!F116<Matches!H116,1,0)+IF(Matches!H129<Matches!F129,1,0)+IF(Matches!H137<Matches!F137,1,0)+IF(Matches!F146<Matches!H146,1,0)+IF(Matches!N7<Matches!P7,1,0)+IF(Matches!N17<Matches!P17,1,0)+IF(Matches!P27<Matches!N27,1,0)+IF(Matches!N33<Matches!P33,1,0)+IF(Matches!P45<Matches!N45,1,0)+IF(Matches!P56<Matches!N56,1,0)+IF(Matches!P68<Matches!N68,1,0)+IF(Matches!N74<Matches!P74,1,0)+IF(Matches!P86<Matches!N86,1,0)+IF(Matches!N95<Matches!P95,1,0)+IF(Matches!P106<Matches!N106,1,0)+IF(Matches!N119<Matches!P119,1,0)+IF(Matches!P124<Matches!N124,1,0)+IF(Matches!N136<Matches!P136,1,0)+IF(Matches!P147<Matches!N147,1,0) -> 0 | H11: =Matches!F4+Matches!H16+Matches!F24+Matches!H34+Matches!F48+Matches!H53+Matches!F68+Matches!H78+Matches!F90+Matches!F96+Matches!H106+Matches!F116+Matches!H129+Matches!H137+Matches!F146+Matches!N7+Matches!N17+Matches!P27+Matches!N33+Matches!P45+Matches!P56+Matches!P68+Matches!N74+Matches!P86+Matches!N95+Matches!P106+Matches!N119+Matches!P124+Matches!N136+Matches!P147 -> 0 | I11: =Matches!H4+Matches!F16+Matches!H24+Matches!F34+Matches!H48+Matches!F53+Matches!H68+Matches!F78+Matches!H90+Matches!H96+Matches!F106+Matches!H116+Matches!F129+Matches!F137+Matches!H146+Matches!P7+Matches!P17+Matches!N27+Matches!P33+Matches!N45+Matches!N56+Matches!N68+Matches!P74+Matches!N86+Matches!P95+Matches!N106+Matches!P119+Matches!N124+Matches!P136+Matches!N147 -> 0 | J11: =H11-I11 -> 0 | K11: =E11*3+F11 -> 0
B12: 8. | C12: EC Erpion B | D12: =E12+F12+G12 -> 0 | E12: =IF(Matches!H9>Matches!F9,1,0)+IF(Matches!H13>Matches!F13,1,0)+IF(Matches!F27>Matches!H27,1,0)+IF(Matches!H38>Matches!F38,1,0)+IF(Matches!F43>Matches!H43,1,0)+IF(Matches!H57>Matches!F57,1,0)+IF(Matches!F70>Matches!H70,1,0)+IF(Matches!H75>Matches!F75,1,0)+IF(Matches!F85>Matches!H85,1,0)+IF(Matches!H93>Matches!F93,1,0)+IF(Matches!F103>Matches!H103,1,0)+IF(Matches!H117>Matches!F117,1,0)+IF(Matches!F129>Matches!H129,1,0)+IF(Matches!F139>Matches!H139,1,0)+IF(Matches!H145>Matches!F145,1,0)+IF(Matches!P6>Matches!N6,1,0)+IF(Matches!N20>Matches!P20,1,0)+IF(Matches!P23>Matches!N23,1,0)+IF(Matches!N37>Matches!P37,1,0)+IF(Matches!P49>Matches!N49,1,0)+IF(Matches!P57>Matches!N57,1,0)+IF(Matches!N69>Matches!P69,1,0)+IF(Matches!N77>Matches!P77,1,0)+IF(Matches!P89>Matches!N89,1,0)+IF(Matches!N97>Matches!P97,1,0)+IF(Matches!N103>Matches!P103,1,0)+IF(Matches!P119>Matches!N119,1,0)+IF(Matches!N123>Matches!P123,1,0)+IF(Matches!P134>Matches!N134,1,0)+IF(Matches!N150>Matches!P150,1,0) -> 0 | F12: =IF(AND(Matches!H9<>"",Matches!F9<>"",Matches!H9=Matches!F9),1,0)+IF(AND(Matches!H13<>"",Matches!F13<>"",Matches!H13=Matches!F13),1,0)+IF(AND(Matches!F27<>"",Matches!H27<>"",Matches!F27=Matches!H27),1,0)+IF(AND(Matches!H38<>"",Matches!F38<>"",Matches!H38=Matches!F38),1,0)+IF(AND(Matches!F43<>"",Matches!H43<>"",Matches!F43=Matches!H43),1,0)+IF(AND(Matches!H57<>"",Matches!F57<>"",Matches!H57=Matches!F57),1,0)+IF(AND(Matches!F70<>"",Matches!H70<>"",Matches!F70=Matches!H70),1,0)+IF(AND(Matches!H75<>"",Matches!F75<>"",Matches!H75=Matches!F75),1,0)+IF(AND(Matches!F85<>"",Matches!H85<>"",Matches!F85=Matches!H85),1,0)+IF(AND(Matches!H93<>"",Matches!F93<>"",Matches!H93=Matches!F93),1,0)+IF(AND(Matches!F103<>"",Matches!H103<>"",Matches!F103=Matches!H103),1,0)+IF(AND(Matches!H117<>"",Matches!F117<>"",Matches!H117=Matches!F117),1,0)+IF(AND(Matches!F129<>"",Matches!H129<>"",Matches!F129=Matches!H129),1,0)+IF(AND(Matches!F139<>"",Matches!H139<>"",Matches!F139=Matches!H139),1,0)+IF(AND(Matches!H145<>"",Matches!F145<>"",Matches!H145=Matches!F145),1,0)+IF(AND(Matches!P6<>"",Matches!N6<>"",Matches!P6=Matches!N6),1,0)+IF(AND(Matches!N20<>"",Matches!P20<>"",Matches!N20=Matches!P20),1,0)+IF(AND(Matches!P23<>"",Matches!N23<>"",Matches!P23=Matches!N23),1,0)+IF(AND(Matches!N37<>"",Matches!P37<>"",Matches!N37=Matches!P37),1,0)+IF(AND(Matches!P49<>"",Matches!N49<>"",Matches!P49=Matches!N49),1,0)+IF(AND(Matches!P57<>"",Matches!N57<>"",Matches!P57=Matches!N57),1,0)+IF(AND(Matches!N69<>"",Matches!P69<>"",Matches!N69=Matches!P69),1,0)+IF(AND(Matches!N77<>"",Matches!P77<>"",Matches!N77=Matches!P77),1,0)+IF(AND(Matches!P89<>"",Matches!N89<>"",Matches!P89=Matches!N89),1,0)+IF(AND(Matches!N97<>"",Matches!P97<>"",Matches!N97=Matches!P97),1,0)+IF(AND(Matches!N103<>"",Matches!P103<>"",Matches!N103=Matches!P103),1,0)+IF(AND(Matches!P119<>"",Matches!N119<>"",Matches!P119=Matches!N119),1,0)+IF(AND(Matches!N123<>"",Matches!P123<>"",Matches!N123=Matches!P123),1,0)+IF(AND(Matches!P134<>"",Matches!N134<>"",Matches!P134=Matches!N134),1,0)+IF(AND(Matches!N150<>"",Matches!P150<>"",Matches!N150=Matches!P150),1,0) -> 0 | G12: =IF(Matches!H9<Matches!F9,1,0)+IF(Matches!H13<Matches!F13,1,0)+IF(Matches!F27<Matches!H27,1,0)+IF(Matches!H38<Matches!F38,1,0)+IF(Matches!F43<Matches!H43,1,0)+IF(Matches!H57<Matches!F57,1,0)+IF(Matches!F70<Matches!H70,1,0)+IF(Matches!H75<Matches!F75,1,0)+IF(Matches!F85<Matches!H85,1,0)+IF(Matches!H93<Matches!F93,1,0)+IF(Matches!F103<Matches!H103,1,0)+IF(Matches!H117<Matches!F117,1,0)+IF(Matches!F129<Matches!H129,1,0)+IF(Matches!F139<Matches!H139,1,0)+IF(Matches!H145<Matches!F145,1,0)+IF(Matches!P6<Matches!N6,1,0)+IF(Matches!N20<Matches!P20,1,0)+IF(Matches!P23<Matches!N23,1,0)+IF(Matches!N37<Matches!P37,1,0)+IF(Matches!P49<Matches!N49,1,0)+IF(Matches!P57<Matches!N57,1,0)+IF(Matches!N69<Matches!P69,1,0)+IF(Matches!N77<Matches!P77,1,0)+IF(Matches!P89<Matches!N89,1,0)+IF(Matches!N97<Matches!P97,1,0)+IF(Matches!N103<Matches!P103,1,0)+IF(Matches!P119<Matches!N119,1,0)+IF(Matches!N123<Matches!P123,1,0)+IF(Matches!P134<Matches!N134,1,0)+IF(Matches!N150<Matches!P150,1,0) -> 0 | H12: =Matches!H9+Matches!H13+Matches!F27+Matches!H38+Matches!F43+Matches!H57+Matches!F70+Matches!H75+Matches!F85+Matches!H93+Matches!F103+Matches!H117+Matches!F129+Matches!F139+Matches!H145+Matches!P6+Matches!N20+Matches!P23+Matches!N37+Matches!P49+Matches!P57+Matches!N69+Matches!N77+Matches!P89+Matches!N97+Matches!N103+Matches!P119+Matches!N123+Matches!P134+Matches!N150 -> 0 | I12: =Matches!F9+Matches!F13+Matches!H27+Matches!F38+Matches!H43+Matches!F57+Matches!H70+Matches!F75+Matches!H85+Matches!F93+Matches!H103+Matches!F117+Matches!H129+Matches!H139+Matches!F145+Matches!N6+Matches!P20+Matches!N23+Matches!P37+Matches!N49+Matches!N57+Matches!P69+Matches!P77+Matches!N89+Matches!P97+Matches!P103+Matches!N119+Matches!P123+Matches!N134+Matches!P150 -> 0 | J12: =H12-I12 -> 0 | K12: =E12*3+F12 -> 0
B13: 9. | C13: RC Rance B | D13: =E13+F13+G13 -> 0 | E13: =IF(Matches!F10>Matches!H10,1,0)+IF(Matches!H15>Matches!F15,1,0)+IF(Matches!F25>Matches!H25,1,0)+IF(Matches!H39>Matches!F39,1,0)+IF(Matches!N10>Matches!P10,1,0)+IF(Matches!N18>Matches!P18,1,0)+IF(Matches!P30>Matches!N30,1,0)+IF(Matches!N39>Matches!P39,1,0)+IF(Matches!F49>Matches!H49,1,0)+IF(Matches!H59>Matches!F59,1,0)+IF(Matches!F69>Matches!H69,1,0)+IF(Matches!F78>Matches!H78,1,0)+IF(Matches!P46>Matches!N46,1,0)+IF(Matches!P55>Matches!N55,1,0)+IF(Matches!P69>Matches!N69,1,0)+IF(Matches!N75>Matches!P75,1,0)+IF(Matches!H89>Matches!F89,1,0)+IF(Matches!F95>Matches!H95,1,0)+IF(Matches!H110>Matches!F110,1,0)+IF(Matches!F117>Matches!H117,1,0)+IF(Matches!N85>Matches!P85,1,0)+IF(Matches!P95>Matches!N95,1,0)+IF(Matches!P105>Matches!N105,1,0)+IF(Matches!N120>Matches!P120,1,0)+IF(Matches!H128>Matches!F128,1,0)+IF(Matches!H136>Matches!F136,1,0)+IF(Matches!F147>Matches!H147,1,0)+IF(Matches!P125>Matches!N125,1,0)+IF(Matches!N140>Matches!P140,1,0)+IF(Matches!P146>Matches!N146,1,0) -> 0 | F13: =IF(AND(Matches!F10<>"",Matches!H10<>"",Matches!F10=Matches!H10),1,0)+IF(AND(Matches!H15<>"",Matches!F15<>"",Matches!H15=Matches!F15),1,0)+IF(AND(Matches!F25<>"",Matches!H25<>"",Matches!F25=Matches!H25),1,0)+IF(AND(Matches!H39<>"",Matches!F39<>"",Matches!H39=Matches!F39),1,0)+IF(AND(Matches!N10<>"",Matches!P10<>"",Matches!N10=Matches!P10),1,0)+IF(AND(Matches!N18<>"",Matches!P18<>"",Matches!N18=Matches!P18),1,0)+IF(AND(Matches!P30<>"",Matches!N30<>"",Matches!P30=Matches!N30),1,0)+IF(AND(Matches!N39<>"",Matches!P39<>"",Matches!N39=Matches!P39),1,0)+IF(AND(Matches!F49<>"",Matches!H49<>"",Matches!F49=Matches!H49),1,0)+IF(AND(Matches!H59<>"",Matches!F59<>"",Matches!H59=Matches!F59),1,0)+IF(AND(Matches!F69<>"",Matches!H69<>"",Matches!F69=Matches!H69),1,0)+IF(AND(Matches!F78<>"",Matches!H78<>"",Matches!F78=Matches!H78),1,0)+IF(AND(Matches!P46<>"",Matches!N46<>"",Matches!P46=Matches!N46),1,0)+IF(AND(Matches!P55<>"",Matches!N55<>"",Matches!P55=Matches!N55),1,0)+IF(AND(Matches!P69<>"",Matches!N69<>"",Matches!P69=Matches!N69),1,0)+IF(AND(Matches!N75<>"",Matches!P75<>"",Matches!N75=Matches!P75),1,0)+IF(AND(Matches!H89<>"",Matches!F89<>"",Matches!H89=Matches!F89),1,0)+IF(AND(Matches!F95<>"",Matches!H95<>"",Matches!F95=Matches!H95),1,0)+IF(AND(Matches!H110<>"",Matches!F110<>"",Matches!H110=Matches!F110),1,0)+IF(AND(Matches!F117<>"",Matches!H117<>"",Matches!F117=Matches!H117),1,0)+IF(AND(Matches!N85<>"",Matches!P85<>"",Matches!N85=Matches!P85),1,0)+IF(AND(Matches!P95<>"",Matches!N95<>"",Matches!P95=Matches!N95),1,0)+IF(AND(Matches!P105<>"",Matches!N105<>"",Matches!P105=Matches!N105),1,0)+IF(AND(Matches!N120<>"",Matches!P120<>"",Matches!N120=Matches!P120),1,0)+IF(AND(Matches!H128<>"",Matches!F128<>"",Matches!H128=Matches!F128),1,0)+IF(AND(Matches!H136<>"",Matches!F136<>"",Matches!H136=Matches!F136),1,0)+IF(AND(Matches!F147<>"",Matches!H147<>"",Matches!F147=Matches!H147),1,0)+IF(AND(Matches!P125<>"",Matches!N125<>"",Matches!P125=Matches!N125),1,0)+IF(AND(Matches!N140<>"",Matches!P140<>"",Matches!N140=Matches!P140),1,0)+IF(AND(Matches!P146<>"",Matches!N146<>"",Matches!P146=Matches!N146),1,0) -> 0 | G13: =IF(Matches!F10<Matches!H10,1,0)+IF(Matches!H15<Matches!F15,1,0)+IF(Matches!F25<Matches!H25,1,0)+IF(Matches!H39<Matches!F39,1,0)+IF(Matches!N10<Matches!P10,1,0)+IF(Matches!N18<Matches!P18,1,0)+IF(Matches!P30<Matches!N30,1,0)+IF(Matches!N39<Matches!P39,1,0)+IF(Matches!F49<Matches!H49,1,0)+IF(Matches!H59<Matches!F59,1,0)+IF(Matches!F69<Matches!H69,1,0)+IF(Matches!F78<Matches!H78,1,0)+IF(Matches!P46<Matches!N46,1,0)+IF(Matches!P55<Matches!N55,1,0)+IF(Matches!P69<Matches!N69,1,0)+IF(Matches!N75<Matches!P75,1,0)+IF(Matches!H89<Matches!F89,1,0)+IF(Matches!F95<Matches!H95,1,0)+IF(Matches!H110<Matches!F110,1,0)+IF(Matches!F117<Matches!H117,1,0)+IF(Matches!N85<Matches!P85,1,0)+IF(Matches!P95<Matches!N95,1,0)+IF(Matches!P105<Matches!N105,1,0)+IF(Matches!N120<Matches!P120,1,0)+IF(Matches!H128<Matches!F128,1,0)+IF(Matches!H136<Matches!F136,1,0)+IF(Matches!F147<Matches!H147,1,0)+IF(Matches!P125<Matches!N125,1,0)+IF(Matches!N140<Matches!P140,1,0)+IF(Matches!P146<Matches!N146,1,0) -> 0 | J13: =H13-I13 -> 0 | K13: =E13*3+F13 -> 0
B14: 10. | C14: JS Froidchapelle | D14: =E14+F14+G14 -> 0 | E14: =IF(Matches!H5>Matches!F5,1,0)+IF(Matches!H17>Matches!F17,1,0)+IF(Matches!F30>Matches!H30,1,0)+IF(Matches!H35>Matches!F35,1,0)+IF(Matches!N8>Matches!P8,1,0)+IF(Matches!N16>Matches!P16,1,0)+IF(Matches!P28>Matches!N28,1,0)+IF(Matches!N34>Matches!P34,1,0)+IF(Matches!F47>Matches!H47,1,0)+IF(Matches!H54>Matches!F54,1,0)+IF(Matches!F67>Matches!H67,1,0)+IF(Matches!H79>Matches!F79,1,0)+IF(Matches!P44>Matches!N44,1,0)+IF(Matches!P53>Matches!N53,1,0)+IF(Matches!P70>Matches!N70,1,0)+IF(Matches!N73>Matches!P73,1,0)+IF(Matches!F89>Matches!H89,1,0)+IF(Matches!H96>Matches!F96,1,0)+IF(Matches!F107>Matches!H107,1,0)+IF(Matches!F115>Matches!H115,1,0)+IF(Matches!P85>Matches!N85,1,0)+IF(Matches!N96>Matches!P96,1,0)+IF(Matches!N106>Matches!P106,1,0)+IF(Matches!N114>Matches!P114,1,0)+IF(Matches!H130>Matches!F130,1,0)+IF(Matches!H138>Matches!F138,1,0)+IF(Matches!F145>Matches!H145,1,0)+IF(Matches!P123>Matches!N123,1,0)+IF(Matches!N135>Matches!P135,1,0)+IF(Matches!P148>Matches!N148,1,0) -> 0 | F14: =IF(AND(Matches!H5<>"",Matches!F5<>"",Matches!H5>Matches!F5),1,0)+IF(AND(Matches!H17<>"",Matches!F17<>"",Matches!H17>Matches!F17),1,0)+IF(AND(Matches!F30<>"",Matches!H30<>"",Matches!F30>Matches!H30),1,0)+IF(AND(Matches!H35<>"",Matches!F35<>"",Matches!H35>Matches!F35),1,0)+IF(AND(Matches!N8<>"",Matches!P8<>"",Matches!N8>Matches!P8),1,0)+IF(AND(Matches!N16<>"",Matches!P16<>"",Matches!N16>Matches!P16),1,0)+IF(AND(Matches!P28<>"",Matches!N28<>"",Matches!P28>Matches!N28),1,0)+IF(AND(Matches!N34<>"",Matches!P34<>"",Matches!N34>Matches!P34),1,0)+IF(AND(Matches!F47<>"",Matches!H47<>"",Matches!F47>Matches!H47),1,0)+IF(AND(Matches!H54<>"",Matches!F54<>"",Matches!H54>Matches!F54),1,0)+IF(AND(Matches!F67<>"",Matches!H67<>"",Matches!F67>Matches!H67),1,0)+IF(AND(Matches!H79<>"",Matches!F79<>"",Matches!H79>Matches!F79),1,0)+IF(AND(Matches!P44<>"",Matches!N44<>"",Matches!P44>Matches!N44),1,0)+IF(AND(Matches!P53<>"",Matches!N53<>"",Matches!P53>Matches!N53),1,0)+IF(AND(Matches!P70<>"",Matches!N70<>"",Matches!P70>Matches!N70),1,0)+IF(AND(Matches!N73<>"",Matches!P73<>"",Matches!N73>Matches!P73),1,0)+IF(AND(Matches!F89<>"",Matches!H89<>"",Matches!F89>Matches!H89),1,0)+IF(AND(Matches!H96<>"",Matches!F96<>"",Matches!H96>Matches!F96),1,0)+IF(AND(Matches!F107<>"",Matches!H107<>"",Matches!F107>Matches!H107),1,0)+IF(AND(Matches!F115<>"",Matches!H115<>"",Matches!F115>Matches!H115),1,0)+IF(AND(Matches!P85<>"",Matches!N85<>"",Matches!P85>Matches!N85),1,0)+IF(AND(Matches!N96<>"",Matches!P96<>"",Matches!N96>Matches!P96),1,0)+IF(AND(Matches!N106<>"",Matches!P106<>"",Matches!N106>Matches!P106),1,0)+IF(AND(Matches!N114<>"",Matches!P114<>"",Matches!N114>Matches!P114),1,0)+IF(AND(Matches!H130<>"",Matches!F130<>"",Matches!H130>Matches!F130),1,0)+IF(AND(Matches!H138<>"",Matches!F138<>"",Matches!H138>Matches!F138),1,0)+IF(AND(Matches!F145<>"",Matches!H145<>"",Matches!F145>Matches!H145),1,0)+IF(AND(Matches!P123<>"",Matches!N123<>"",Matches!P123>Matches!N123),1,0)+IF(AND(Matches!N135<>"",Matches!P135<>"",Matches!N135>Matches!P135),1,0)+IF(AND(Matches!P148<>"",Matches!N148<>"",Matches!P148>Matches!N148),1,0) -> 0 | G14: =IF(Matches!H5<Matches!F5,1,0)+IF(Matches!H17<Matches!F17,1,0)+IF(Matches!F30<Matches!H30,1,0)+IF(Matches!H35<Matches!F35,1,0)+IF(Matches!N8<Matches!P8,1,0)+IF(Matches!N16<Matches!P16,1,0)+IF(Matches!P28<Matches!N28,1,0)+IF(Matches!N34<Matches!P34,1,0)+IF(Matches!F47<Matches!H47,1,0)+IF(Matches!H54<Matches!F54,1,0)+IF(Matches!F67<Matches!H67,1,0)+IF(Matches!H79<Matches!F79,1,0)+IF(Matches!P44<Matches!N44,1,0)+IF(Matches!P53<Matches!N53,1,0)+IF(Matches!P70<Matches!N70,1,0)+IF(Matches!N73<Matches!P73,1,0)+IF(Matches!F89<Matches!H89,1,0)+IF(Matches!H96<Matches!F96,1,0)+IF(Matches!F107<Matches!H107,1,0)+IF(Matches!F115<Matches!H115,1,0)+IF(Matches!P85<Matches!N85,1,0)+IF(Matches!N96<Matches!P96,1,0)+IF(Matches!N106<Matches!P106,1,0)+IF(Matches!N114<Matches!P114,1,0)+IF(Matches!H130<Matches!F130,1,0)+IF(Matches!H138<Matches!F138,1,0)+IF(Matches!F145<Matches!H145,1,0)+IF(Matches!P123<Matches!N123,1,0)+IF(Matches!N135<Matches!P135,1,0)+IF(Matches!P148<Matches!N148,1,0) -> 0 | J14: =H14-I14 -> 0 | K14: =E14*3+F14 -> 0
B15: 11. | C15: FC Boussu-lez-Walcourt | D15: =E15+F15+G15 -> 0 | E15: =IF(Matches!F6>Matches!H6,1,0)+IF(Matches!F15>Matches!H15,1,0)+IF(Matches!H24>Matches!F24,1,0)+IF(Matches!F35>Matches!H35,1,0)+IF(Matches!P5>Matches!N5,1,0)+IF(Matches!P18>Matches!N18,1,0)+IF(Matches!N27>Matches!P27,1,0)+IF(Matches!P34>Matches!N34,1,0)+IF(Matches!H46>Matches!F46,1,0)+IF(Matches!F56>Matches!H56,1,0)+IF(Matches!H70>Matches!F70,1,0)+IF(Matches!F76>Matches!H76,1,0)+IF(Matches!H83>Matches!F83,1,0)+IF(Matches!N43>Matches!P43,1,0)+IF(Matches!N57>Matches!P57,1,0)+IF(Matches!N64>Matches!P64,1,0)+IF(Matches!P78>Matches!N78,1,0)+IF(Matches!F97>Matches!H97,1,0)+IF(Matches!H108>Matches!F108,1,0)+IF(Matches!H120>Matches!F120,1,0)+IF(Matches!N88>Matches!P88,1,0)+IF(Matches!P93>Matches!N93,1,0)+IF(Matches!P108>Matches!N108,1,0)+IF(Matches!P116>Matches!N116,1,0)+IF(Matches!F124>Matches!H124,1,0)+IF(Matches!F134>Matches!H134,1,0)+IF(Matches!H149>Matches!F149,1,0)+IF(Matches!N130>Matches!P130,1,0)+IF(Matches!P133>Matches!N133,1,0)+IF(Matches!N145>Matches!P145,1,0) -> 0 | F15: =IF(AND(Matches!F6<>"",Matches!H6<>"",Matches!F6=Matches!H6),1,0)+IF(AND(Matches!F15<>"",Matches!H15<>"",Matches!F15=Matches!H15),1,0)+IF(AND(Matches!H24<>"",Matches!F24<>"",Matches!H24=Matches!F24),1,0)+IF(AND(Matches!F35<>"",Matches!H35<>"",Matches!F35=Matches!H35),1,0)+IF(AND(Matches!P5<>"",Matches!N5<>"",Matches!P5=Matches!N5),1,0)+IF(AND(Matches!P18<>"",Matches!N18<>"",Matches!P18=Matches!N18),1,0)+IF(AND(Matches!N27<>"",Matches!P27<>"",Matches!N27=Matches!P27),1,0)+IF(AND(Matches!P34<>"",Matches!N34<>"",Matches!P34=Matches!N34),1,0)+IF(AND(Matches!H46<>"",Matches!F46<>"",Matches!H46=Matches!F46),1,0)+IF(AND(Matches!F56<>"",Matches!H56<>"",Matches!F56=Matches!H56),1,0)+IF(AND(Matches!H70<>"",Matches!F70<>"",Matches!H70=Matches!F70),1,0)+IF(AND(Matches!F76<>"",Matches!H76<>"",Matches!F76=Matches!H76),1,0)+IF(AND(Matches!H83<>"",Matches!F83<>"",Matches!H83=Matches!F83),1,0)+IF(AND(Matches!N43<>"",Matches!P43<>"",Matches!N43=Matches!P43),1,0)+IF(AND(Matches!N57<>"",Matches!P57<>"",Matches!N57=Matches!P57),1,0)+IF(AND(Matches!N64<>"",Matches!P64<>"",Matches!N64=Matches!P64),1,0)+IF(AND(Matches!P78<>"",Matches!N78<>"",Matches!P78=Matches!N78),1,0)+IF(AND(Matches!F97<>"",Matches!H97<>"",Matches!F97=Matches!H97),1,0)+IF(AND(Matches!H108<>"",Matches!F108<>"",Matches!H108=Matches!F108),1,0)+IF(AND(Matches!H120<>"",Matches!F120<>"",Matches!H120=Matches!F120),1,0)+IF(AND(Matches!N88<>"",Matches!P88<>"",Matches!N88=Matches!P88),1,0)+IF(AND(Matches!P93<>"",Matches!N93<>"",Matches!P93=Matches!N93),1,0)+IF(AND(Matches!P108<>"",Matches!N108<>"",Matches!P108=Matches!N108),1,0)+IF(AND(Matches!P116<>"",Matches!N116<>"",Matches!P116=Matches!N116),1,0)+IF(AND(Matches!F124<>"",Matches!H124<>"",Matches!F124=Matches!H124),1,0)+IF(AND(Matches!F134<>"",Matches!H134<>"",Matches!F134=Matches!H134),1,0)+IF(AND(Matches!H149<>"",Matches!F149<>"",Matches!H149=Matches!F149),1,0)+IF(AND(Matches!N130<>"",Matches!P130<>"",Matches!N130=Matches!P130),1,0)+IF(AND(Matches!P133<>"",Matches!N133<>"",Matches!P133=Matches!N133),1,0)+IF(AND(Matches!N145<>"",Matches!P145<>"",Matches!N145=Matches!P145),1,0) -> 0 | G15: =IF(Matches!F6<Matches!H6,1,0)+IF(Matches!F15<Matches!H15,1,0)+IF(Matches!H24<Matches!F24,1,0)+IF(Matches!F35<Matches!H35,1,0)+IF(Matches!P5<Matches!N5,1,0)+IF(Matches!P18<Matches!N18,1,0)+IF(Matches!N27<Matches!P27,1,0)+IF(Matches!P34<Matches!N34,1,0)+IF(Matches!H46<Matches!F46,1,0)+IF(Matches!F56<Matches!H56,1,0)+IF(Matches!H70<Matches!F70,1,0)+IF(Matches!F76<Matches!H76,1,0)+IF(Matches!H83<Matches!F83,1,0)+IF(Matches!N43<Matches!P43,1,0)+IF(Matches!N57<Matches!P57,1,0)+IF(Matches!N64<Matches!P64,1,0)+IF(Matches!P78<Matches!N78,1,0)+IF(Matches!F97<Matches!H97,1,0)+IF(Matches!H108<Matches!F108,1,0)+IF(Matches!H120<Matches!F120,1,0)+IF(Matches!N88<Matches!P88,1,0)+IF(Matches!P93<Matches!N93,1,0)+IF(Matches!P108<Matches!N108,1,0)+IF(Matches!P116<Matches!N116,1,0)+IF(Matches!F124<Matches!H124,1,0)+IF(Matches!F134<Matches!H134,1,0)+IF(Matches!H149<Matches!F149,1,0)+IF(Matches!N130<Matches!P130,1,0)+IF(Matches!P133<Matches!N133,1,0)+IF(Matches!N145<Matches!P145,1,0) -> 0 | J15: =H15-I15 -> 0 | K15: =E15*3+F15 -> 0
B16: 12. | C16: SC Biercée | D16: =E16+F16+G16 -> 0 | E16: =IF(Matches!H4>Matches!F4,1,0)+IF(Matches!H18>Matches!F18,1,0)+IF(Matches!F28>Matches!H28,1,0)+IF(Matches!H36>Matches!F36,1,0)+IF(Matches!N9>Matches!P9,1,0)+IF(Matches!N15>Matches!P15,1,0)+IF(Matches!P29>Matches!N29,1,0)+IF(Matches!N35>Matches!P35,1,0)+IF(Matches!F46>Matches!H46,1,0)+IF(Matches!H55>Matches!F55,1,0)+IF(Matches!F66>Matches!H66,1,0)+IF(Matches!H73>Matches!F73,1,0)+IF(Matches!P43>Matches!N43,1,0)+IF(Matches!P60>Matches!N60,1,0)+IF(Matches!N70>Matches!P70,1,0)+IF(Matches!N79>Matches!P79,1,0)+IF(Matches!F88>Matches!H88,1,0)+IF(Matches!H95>Matches!F95,1,0)+IF(Matches!F106>Matches!H106,1,0)+IF(Matches!H115>Matches!F115,1,0)+IF(Matches!P84>Matches!N84,1,0)+IF(Matches!N99>Matches!P99,1,0)+IF(Matches!N105>Matches!P105,1,0)+IF(Matches!P115>Matches!N115,1,0)+IF(Matches!F123>Matches!H123,1,0)+IF(Matches!H139>Matches!F139,1,0)+IF(Matches!F144>Matches!H144,1,0)+IF(Matches!P129>Matches!N129,1,0)+IF(Matches!N134>Matches!P134,1,0)+IF(Matches!P149>Matches!N149,1,0) -> 0 | F16: =IF(AND(Matches!H4<>"",Matches!F4<>"",Matches!H4=Matches!F4),1,0)+IF(AND(Matches!H18<>"",Matches!F18<>"",Matches!H18=Matches!F18),1,0)+IF(AND(Matches!F28<>"",Matches!H28<>"",Matches!F28=Matches!H28),1,0)+IF(AND(Matches!H36<>"",Matches!F36<>"",Matches!H36=Matches!F36),1,0)+IF(AND(Matches!N9<>"",Matches!P9<>"",Matches!N9=Matches!P9),1,0)+IF(AND(Matches!N15<>"",Matches!P15<>"",Matches!N15=Matches!P15),1,0)+IF(AND(Matches!P29<>"",Matches!N29<>"",Matches!P29=Matches!N29),1,0)+IF(AND(Matches!N35<>"",Matches!P35<>"",Matches!N35=Matches!P35),1,0)+IF(AND(Matches!F46<>"",Matches!H46<>"",Matches!F46=Matches!H46),1,0)+IF(AND(Matches!H55<>"",Matches!F55<>"",Matches!H55=Matches!F55),1,0)+IF(AND(Matches!F66<>"",Matches!H66<>"",Matches!F66=Matches!H66),1,0)+IF(AND(Matches!H73<>"",Matches!F73<>"",Matches!H73=Matches!F73),1,0)+IF(AND(Matches!P43<>"",Matches!N43<>"",Matches!P43=Matches!N43),1,0)+IF(AND(Matches!P60<>"",Matches!N60<>"",Matches!P60=Matches!N60),1,0)+IF(AND(Matches!N70<>"",Matches!P70<>"",Matches!N70=Matches!P70),1,0)+IF(AND(Matches!N79<>"",Matches!P79<>"",Matches!N79=Matches!P79),1,0)+IF(AND(Matches!F88<>"",Matches!H88<>"",Matches!F88=Matches!H88),1,0)+IF(AND(Matches!H95<>"",Matches!F95<>"",Matches!H95=Matches!F95),1,0)+IF(AND(Matches!F106<>"",Matches!H106<>"",Matches!F106=Matches!H106),1,0)+IF(AND(Matches!H115<>"",Matches!F115<>"",Matches!H115=Matches!F115),1,0)+IF(AND(Matches!P84<>"",Matches!N84<>"",Matches!P84=Matches!N84),1,0)+IF(AND(Matches!N99<>"",Matches!P99<>"",Matches!N99=Matches!P99),1,0)+IF(AND(Matches!N105<>"",Matches!P105<>"",Matches!N105=Matches!P105),1,0)+IF(AND(Matches!P115<>"",Matches!N115<>"",Matches!P115=Matches!N115),1,0)+IF(AND(Matches!F123<>"",Matches!H123<>"",Matches!F123=Matches!H123),1,0)+IF(AND(Matches!H139<>"",Matches!F139<>"",Matches!H139=Matches!F139),1,0)+IF(AND(Matches!F144<>"",Matches!H144<>"",Matches!F144=Matches!H144),1,0)+IF(AND(Matches!P129<>"",Matches!N129<>"",Matches!P129=Matches!N129),1,0)+IF(AND(Matches!N134<>"",Matches!P134<>"",Matches!N134=Matches!P134),1,0)+IF(AND(Matches!P149<>"",Matches!N149<>"",Matches!P149=Matches!N149),1,0) -> 0 | G16: =IF(Matches!H4<Matches!F4,1,0)+IF(Matches!H18<Matches!F18,1,0)+IF(Matches!F28<Matches!H28,1,0)+IF(Matches!H36<Matches!F36,1,0)+IF(Matches!N9<Matches!P9,1,0)+IF(Matches!N15<Matches!P15,1,0)+IF(Matches!P29<Matches!N29,1,0)+IF(Matches!N35<Matches!P35,1,0)+IF(Matches!F46<Matches!H46,1,0)+IF(Matches!H55<Matches!F55,1,0)+IF(Matches!F66<Matches!H66,1,0)+IF(Matches!H73<Matches!F73,1,0)+IF(Matches!P43<Matches!N43,1,0)+IF(Matches!P60<Matches!N60,1,0)+IF(Matches!N70<Matches!P70,1,0)+IF(Matches!N79<Matches!P79,1,0)+IF(Matches!F88<Matches!H88,1,0)+IF(Matches!H95<Matches!F95,1,0)+IF(Matches!F106<Matches!H106,1,0)+IF(Matches!H115<Matches!F115,1,0)+IF(Matches!P84<Matches!N84,1,0)+IF(Matches!N99<Matches!P99,1,0)+IF(Matches!N105<Matches!P105,1,0)+IF(Matches!P115<Matches!N115,1,0)+IF(Matches!F123<Matches!H123,1,0)+IF(Matches!H139<Matches!F139,1,0)+IF(Matches!F144<Matches!H144,1,0)+IF(Matches!P129<Matches!N129,1,0)+IF(Matches!N134<Matches!P134,1,0)+IF(Matches!P149<Matches!N149,1,0) -> 0 | J16: =H16-I16 -> 0 | K16: =E16*3+F16 -> 0
