Workbook
Name d: #REF!
Name f: #REF!
Name Fériés: [1]Détails!$B$2:$L$16
Name MesFeries: Détails!$H$2:$H$16

Sheet Détails
A1: 2024 | D1: Contrat | G1: Jours fériés | J1: 2024 | K1: Jours | L1: Jours ouvrables | M1: Samedi | N1: Dimanche | O1: Week-end | P1: Jours fériés | Q1: Jours fériés le week-end
A2: Premier jour de l'année | B2: =DATE(A1,1,1) -> 45292 | D2: Journalier | E2: =E4/E3 -> 0.325 | G2: Jour de l'an | H2: =DATE(A1,1,1) -> 45292 | J2: Janvier | K2: =DAY(EOMONTH(#REF!,0)) -> #REF! | L2: =NETWORKDAYS.INTL(#REF!,EOMONTH(#REF!,0),,MesFeries) -> #REF! | M2: =NETWORKDAYS.INTL(#REF!,EOMONTH(#REF!,0),"1111101") -> #REF! | N2: =NETWORKDAYS.INTL(#REF!,EOMONTH(#REF!,0),"1111110") -> #REF! | O2: =NETWORKDAYS.INTL(#REF!,EOMONTH(#REF!,0),"1111100") -> #REF! | P2: =DAY(EOMONTH(#REF!,0))-NETWORKDAYS.INTL(#REF!,EOMONTH(#REF!,0),"0000000",MesFeries) -> #REF! | Q2: =NETWORKDAYS.INTL(#REF!,EOMONTH(#REF!,0),"1111100")-NETWORKDAYS.INTL(#REF!,EOMONTH(#REF!,0),"1111100",MesFeries) -> #REF!
A3: Dernier jour de l'année | B3: =DATE(A1,12,31) -> 45657 | D3: Jour travaillé par semaine | E3: 5 | G3: Vendredi saint | H3: =H4-2 -> 45380 | J3: Février | K3: =DAY(EOMONTH(#REF!,0)) -> #REF! | L3: =NETWORKDAYS.INTL(#REF!,EOMONTH(#REF!,0),,MesFeries) -> #REF! | M3: =NETWORKDAYS.INTL(#REF!,EOMONTH(#REF!,0),"1111101") -> #REF! | N3: =NETWORKDAYS.INTL(#REF!,EOMONTH(#REF!,0),"1111110") -> #REF! | O3: =NETWORKDAYS.INTL(#REF!,EOMONTH(#REF!,0),"1111100") -> #REF! | P3: =DAY(EOMONTH(#REF!,0))-NETWORKDAYS.INTL(#REF!,EOMONTH(#REF!,0),"0000000",MesFeries) -> #REF! | Q3: =NETWORKDAYS.INTL(#REF!,EOMONTH(#REF!,0),"1111100")-NETWORKDAYS.INTL(#REF!,EOMONTH(#REF!,0),"1111100",MesFeries) -> #REF!
A4: Nombre de jour dans l'année | B4: =+B3-B2+1 -> 366 | D4: Hedomadaire | E4: 1.625 | G4: Pâques | H4: =ROUND(DATE(A1,4,MOD(234-11*MOD($A$1,19),30))/7,)*7-6 -> 45382 | J4: Mars | K4: =DAY(EOMONTH(#REF!,0)) -> #REF! | L4: =NETWORKDAYS.INTL(#REF!,EOMONTH(#REF!,0),,MesFeries) -> #REF! | M4: =NETWORKDAYS.INTL(#REF!,EOMONTH(#REF!,0),"1111101") -> #REF! | N4: =NETWORKDAYS.INTL(#REF!,EOMONTH(#REF!,0),"1111110") -> #REF! | O4: =NETWORKDAYS.INTL(#REF!,EOMONTH(#REF!,0),"1111100") -> #REF! | P4: =DAY(EOMONTH(#REF!,0))-NETWORKDAYS.INTL(#REF!,EOMONTH(#REF!,0),"0000000",MesFeries) -> #REF! | Q4: =NETWORKDAYS.INTL(#REF!,EOMONTH(#REF!,0),"1111100")-NETWORKDAYS.INTL(#REF!,EOMONTH(#REF!,0),"1111100",MesFeries) -> #REF!
A5: Nombre de jours ouvrés | B5: =NETWORKDAYS.INTL(B2,B3,,MesFeries) -> 250 | D5: Mensuel | E5: =E4*4.33333 -> 7.0416613 | G5: Lundi de Pâques | H5: =H4+1 -> 45383 | J5: Avril | K5: =DAY(EOMONTH(#REF!,0)) -> #REF! | L5: =NETWORKDAYS.INTL(#REF!,EOMONTH(#REF!,0),,MesFeries) -> #REF! | M5: =NETWORKDAYS.INTL(#REF!,EOMONTH(#REF!,0),"1111101") -> #REF! | N5: =NETWORKDAYS.INTL(#REF!,EOMONTH(#REF!,0),"1111110") -> #REF! | O5: =NETWORKDAYS.INTL(#REF!,EOMONTH(#REF!,0),"1111100") -> #REF! | P5: =DAY(EOMONTH(#REF!,0))-NETWORKDAYS.INTL(#REF!,EOMONTH(#REF!,0),"0000000",MesFeries) -> #REF! | Q5: =NETWORKDAYS.INTL(#REF!,EOMONTH(#REF!,0),"1111100")-NETWORKDAYS.INTL(#REF!,EOMONTH(#REF!,0),"1111100",MesFeries) -> #REF!
A6: Nombre de samedi et dimanche | B6: =NETWORKDAYS.INTL(B2,B3,"1111100") -> 104 | D6: Jour de travail prévu par la convention | E6: 218 | G6: Fête du travail | H6: =DATE(A1,5,1) -> 45413 | J6: Mai | K6: =DAY(EOMONTH(#REF!,0)) -> #REF! | L6: =NETWORKDAYS.INTL(#REF!,EOMONTH(#REF!,0),,MesFeries) -> #REF! | M6: =NETWORKDAYS.INTL(#REF!,EOMONTH(#REF!,0),"1111101") -> #REF! | N6: =NETWORKDAYS.INTL(#REF!,EOMONTH(#REF!,0),"1111110") -> #REF! | O6: =NETWORKDAYS.INTL(#REF!,EOMONTH(#REF!,0),"1111100") -> #REF! | P6: =DAY(EOMONTH(#REF!,0))-NETWORKDAYS.INTL(#REF!,EOMONTH(#REF!,0),"0000000",MesFeries) -> #REF! | Q6: =NETWORKDAYS.INTL(#REF!,EOMONTH(#REF!,0),"1111100")-NETWORKDAYS.INTL(#REF!,EOMONTH(#REF!,0),"1111100",MesFeries) -> #REF!
A7: Nombre de jours fériés en semaine | B7: =NETWORKDAYS.INTL(B2,B3)-NETWORKDAYS.INTL(B2,B3,,MesFeries) -> 12 | D7: Congés annuel | E7: =E8*12 -> 25 | G7: Commémoration de la victoire de 1945 | H7: =DATE(A1,5,8) -> 45420 | J7: Juin | K7: =DAY(EOMONTH(#REF!,0)) -> #REF! | L7: =NETWORKDAYS.INTL(#REF!,EOMONTH(#REF!,0),,MesFeries) -> #REF! | M7: =NETWORKDAYS.INTL(#REF!,EOMONTH(#REF!,0),"1111101") -> #REF! | N7: =NETWORKDAYS.INTL(#REF!,EOMONTH(#REF!,0),"1111110") -> #REF! | O7: =NETWORKDAYS.INTL(#REF!,EOMONTH(#REF!,0),"1111100") -> #REF! | P7: =DAY(EOMONTH(#REF!,0))-NETWORKDAYS.INTL(#REF!,EOMONTH(#REF!,0),"0000000",MesFeries) -> #REF! | Q7: =NETWORKDAYS.INTL(#REF!,EOMONTH(#REF!,0),"1111100")-NETWORKDAYS.INTL(#REF!,EOMONTH(#REF!,0),"1111100",MesFeries) -> #REF!
A8: Nombre de jours fériés le week-end | B8: =NETWORKDAYS.INTL(B2,B3,"1111100")-NETWORKDAYS.INTL(B2,B3,"1111100",MesFeries) -> 3 | D8: Congés acquis fin de mois | E8: 2.0833333 | G8: Ascension | H8: =H4+39 -> 45421 | J8: Juillet | K8: =DAY(EOMONTH(#REF!,0)) -> #REF! | L8: =NETWORKDAYS.INTL(#REF!,EOMONTH(#REF!,0),,MesFeries) -> #REF! | M8: =NETWORKDAYS.INTL(#REF!,EOMONTH(#REF!,0),"1111101") -> #REF! | N8: =NETWORKDAYS.INTL(#REF!,EOMONTH(#REF!,0),"1111110") -> #REF! | O8: =NETWORKDAYS.INTL(#REF!,EOMONTH(#REF!,0),"1111100") -> #REF! | P8: =DAY(EOMONTH(#REF!,0))-NETWORKDAYS.INTL(#REF!,EOMONTH(#REF!,0),"0000000",MesFeries) -> #REF! | Q8: =NETWORKDAYS.INTL(#REF!,EOMONTH(#REF!,0),"1111100")-NETWORKDAYS.INTL(#REF!,EOMONTH(#REF!,0),"1111100",MesFeries) -> #REF!
G9: Pentecôte | H9: =H4+49 -> 45431 | J9: Août | K9: =DAY(EOMONTH(#REF!,0)) -> #REF! | L9: =NETWORKDAYS.INTL(#REF!,EOMONTH(#REF!,0),,MesFeries) -> #REF! | M9: =NETWORKDAYS.INTL(#REF!,EOMONTH(#REF!,0),"1111101") -> #REF! | N9: =NETWORKDAYS.INTL(#REF!,EOMONTH(#REF!,0),"1111110") -> #REF! | O9: =NETWORKDAYS.INTL(#REF!,EOMONTH(#REF!,0),"1111100") -> #REF! | P9: =DAY(EOMONTH(#REF!,0))-NETWORKDAYS.INTL(#REF!,EOMONTH(#REF!,0),"0000000",MesFeries) -> #REF! | Q9: =NETWORKDAYS.INTL(#REF!,EOMONTH(#REF!,0),"1111100")-NETWORKDAYS.INTL(#REF!,EOMONTH(#REF!,0),"1111100",MesFeries) -> #REF!
A10: Calcul entre deux dates | D10: Heures de nuit | G10: Lundi de Pentecôte | H10: =H9+1 -> 45432 | J10: Septembre | K10: =DAY(EOMONTH(#REF!,0)) -> #REF! | L10: =NETWORKDAYS.INTL(#REF!,EOMONTH(#REF!,0),,MesFeries) -> #REF! | M10: =NETWORKDAYS.INTL(#REF!,EOMONTH(#REF!,0),"1111101") -> #REF! | N10: =NETWORKDAYS.INTL(#REF!,EOMONTH(#REF!,0),"1111110") -> #REF! | O10: =NETWORKDAYS.INTL(#REF!,EOMONTH(#REF!,0),"1111100") -> #REF! | P10: =DAY(EOMONTH(#REF!,0))-NETWORKDAYS.INTL(#REF!,EOMONTH(#REF!,0),"0000000",MesFeries) -> #REF! | Q10: =NETWORKDAYS.INTL(#REF!,EOMONTH(#REF!,0),"1111100")-NETWORKDAYS.INTL(#REF!,EOMONTH(#REF!,0),"1111100",MesFeries) -> #REF!
A11: du | B11: 45413 | D11: 0.875 | E11: 0.25 | G11: Fête Nationale | H11: =DATE(A1,7,14) -> 45487 | J11: Octobre | K11: =DAY(EOMONTH(#REF!,0)) -> #REF! | L11: =NETWORKDAYS.INTL(#REF!,EOMONTH(#REF!,0),,MesFeries) -> #REF! | M11: =NETWORKDAYS.INTL(#REF!,EOMONTH(#REF!,0),"1111101") -> #REF! | N11: =NETWORKDAYS.INTL(#REF!,EOMONTH(#REF!,0),"1111110") -> #REF! | O11: =NETWORKDAYS.INTL(#REF!,EOMONTH(#REF!,0),"1111100") -> #REF! | P11: =DAY(EOMONTH(#REF!,0))-NETWORKDAYS.INTL(#REF!,EOMONTH(#REF!,0),"0000000",MesFeries) -> #REF! | Q11: =NETWORKDAYS.INTL(#REF!,EOMONTH(#REF!,0),"1111100")-NETWORKDAYS.INTL(#REF!,EOMONTH(#REF!,0),"1111100",MesFeries) -> #REF!
A12: au | B12: 45432 | G12: Assomption | H12: =DATE($A$1,8,15) -> 45519 | J12: Novembre | K12: =DAY(EOMONTH(#REF!,0)) -> #REF! | L12: =NETWORKDAYS.INTL(#REF!,EOMONTH(#REF!,0),,MesFeries) -> #REF! | M12: =NETWORKDAYS.INTL(#REF!,EOMONTH(#REF!,0),"1111101") -> #REF! | N12: =NETWORKDAYS.INTL(#REF!,EOMONTH(#REF!,0),"1111110") -> #REF! | O12: =NETWORKDAYS.INTL(#REF!,EOMONTH(#REF!,0),"1111100") -> #REF! | P12: =DAY(EOMONTH(#REF!,0))-NETWORKDAYS.INTL(#REF!,EOMONTH(#REF!,0),"0000000",MesFeries) -> #REF! | Q12: =NETWORKDAYS.INTL(#REF!,EOMONTH(#REF!,0),"1111100")-NETWORKDAYS.INTL(#REF!,EOMONTH(#REF!,0),"1111100",MesFeries) -> #REF!
A13: Nombre de jours | B13: =+B12-B11+1 -> 20 | G13: Toussaint | H13: =DATE(A1,11,1) -> 45597 | J13: Décembre | K13: =DAY(EOMONTH(#REF!,0)) -> #REF! | L13: =NETWORKDAYS.INTL(#REF!,EOMONTH(#REF!,0),,MesFeries) -> #REF! | M13: =NETWORKDAYS.INTL(#REF!,EOMONTH(#REF!,0),"1111101") -> #REF! | N13: =NETWORKDAYS.INTL(#REF!,EOMONTH(#REF!,0),"1111110") -> #REF! | O13: =NETWORKDAYS.INTL(#REF!,EOMONTH(#REF!,0),"1111100") -> #REF! | P13: =DAY(EOMONTH(#REF!,0))-NETWORKDAYS.INTL(#REF!,EOMONTH(#REF!,0),"0000000",MesFeries) -> #REF! | Q13: =NETWORKDAYS.INTL(#REF!,EOMONTH(#REF!,0),"1111100")-NETWORKDAYS.INTL(#REF!,EOMONTH(#REF!,0),"1111100",MesFeries) -> #REF!
A14: Nombre de jours ouvrés | B14: =NETWORKDAYS.INTL(B11,B12,,MesFeries) -> 10 | G14: Commémoration de la victoire de 1918 | H14: =DATE(A1,11,11) -> 45607
A15: Nombre de samedi et dimanche | B15: =NETWORKDAYS.INTL(B11,B12,"1111100") -> 6 | G15: Noël | H15: =DATE(A1,12,25) -> 45651
A16: Nombre de jours fériés en semaine | B16: =NETWORKDAYS.INTL(B11,B12)-NETWORKDAYS.INTL(B11,B12,,MesFeries) -> 4 | G16: Saint-Étienne | H16: =H15+1 -> 45652
A17: Nombre de jours fériés le week-end | B17: =NETWORKDAYS.INTL(B11,B12,"1111100")-NETWORKDAYS.INTL(B11,B12,"1111100",MesFeries) -> 1
A19: =#REF!+1 -> #REF!
A20: =A19+1 -> #REF!

Sheet Absences
A1: Congés payés | G1: Congés pour évènements familiaux | J1: 45292 | K1: 45323 | L1: 45352 | M1: 45383 | N1: 45413
A2: 45292 | B2: 45379 | C2: =NETWORKDAYS.INTL(A2,B2,1,Détails!H$2:H$16) -> 63 | D2: Congés payés pris | E2: =SUM(C2:C11) -> 120 | F2: =NETWORKDAYS.INTL(G2,H2,1,Détails!H$2:H$16) -> 0 | J2: =IF(OR($A2>EOMONTH(J$1,0),$B2<J$1),"",NETWORKDAYS.INTL(MAX($A2,J$1),MIN($B2,EOMONTH(J$1,0)),1,Détails!$H$2:$H$16)) -> 22 | K2: =IF(OR($A2>EOMONTH(K$1,0),$B2<K$1),"",NETWORKDAYS.INTL(MAX($A2,K$1),MIN($B2,EOMONTH(K$1,0)),1,Détails!$H$2:$H$16)) -> 21 | L2: =IF(OR($A2>EOMONTH(L$1,0),$B2<L$1),"",NETWORKDAYS.INTL(MAX($A2,L$1),MIN($B2,EOMONTH(L$1,0)),1,Détails!$H$2:$H$16)) -> 20 | M2: =IF(OR($A2>EOMONTH(M$1,0),$B2<M$1),"",NETWORKDAYS.INTL(MAX($A2,M$1),MIN($B2,EOMONTH(M$1,0)),1,Détails!$H$2:$H$16)) | N2: =IF(OR($A2>EOMONTH(N$1,0),$B2<N$1),"",NETWORKDAYS.INTL(MAX($A2,N$1),MIN($B2,EOMONTH(N$1,0)),1,Détails!$H$2:$H$16))
A3: 45306 | B3: 45337 | C3: =NETWORKDAYS.INTL(A3,B3,1,Détails!H$2:H$16) -> 24 | D3: Congés pour évènements familiaux pris | E3: =SUM(F2:F11) -> 0 | F3: =NETWORKDAYS.INTL(G3,H3,1,Détails!H$2:H$16) -> 0 | J3: =IF(OR($A3>EOMONTH(J$1,0),$B3<J$1),"",NETWORKDAYS.INTL(MAX($A3,J$1),MIN($B3,EOMONTH(J$1,0)),1,Détails!$H$2:$H$16)) -> 13 | K3: =IF(OR($A3>EOMONTH(K$1,0),$B3<K$1),"",NETWORKDAYS.INTL(MAX($A3,K$1),MIN($B3,EOMONTH(K$1,0)),1,Détails!$H$2:$H$16)) -> 11 | L3: =IF(OR($A3>EOMONTH(L$1,0),$B3<L$1),"",NETWORKDAYS.INTL(MAX($A3,L$1),MIN($B3,EOMONTH(L$1,0)),1,Détails!$H$2:$H$16)) | M3: =IF(OR($A3>EOMONTH(M$1,0),$B3<M$1),"",NETWORKDAYS.INTL(MAX($A3,M$1),MIN($B3,EOMONTH(M$1,0)),1,Détails!$H$2:$H$16)) | N3: =IF(OR($A3>EOMONTH(N$1,0),$B3<N$1),"",NETWORKDAYS.INTL(MAX($A3,N$1),MIN($B3,EOMONTH(N$1,0)),1,Détails!$H$2:$H$16))
A4: 45371 | B4: 45424 | C4: =NETWORKDAYS.INTL(A4,B4,1,Détails!H$2:H$16) -> 33 | F4: =NETWORKDAYS.INTL(G4,H4,1,Détails!H$2:H$16) -> 0 | J4: =IF(OR($A4>EOMONTH(J$1,0),$B4<J$1),"",NETWORKDAYS.INTL(MAX($A4,J$1),MIN($B4,EOMONTH(J$1,0)),1,Détails!$H$2:$H$16)) | K4: =IF(OR($A4>EOMONTH(K$1,0),$B4<K$1),"",NETWORKDAYS.INTL(MAX($A4,K$1),MIN($B4,EOMONTH(K$1,0)),1,Détails!$H$2:$H$16)) | L4: =IF(OR($A4>EOMONTH(L$1,0),$B4<L$1),"",NETWORKDAYS.INTL(MAX($A4,L$1),MIN($B4,EOMONTH(L$1,0)),1,Détails!$H$2:$H$16)) -> 7 | M4: =IF(OR($A4>EOMONTH(M$1,0),$B4<M$1),"",NETWORKDAYS.INTL(MAX($A4,M$1),MIN($B4,EOMONTH(M$1,0)),1,Détails!$H$2:$H$16)) -> 21 | N4: =IF(OR($A4>EOMONTH(N$1,0),$B4<N$1),"",NETWORKDAYS.INTL(MAX($A4,N$1),MIN($B4,EOMONTH(N$1,0)),1,Détails!$H$2:$H$16)) -> 5
C5: =NETWORKDAYS.INTL(A5,B5,1,Détails!H$2:H$16) -> 0 | D5: Congés payés acquis N-1 | E5: 4 | F5: =NETWORKDAYS.INTL(G5,H5,1,Détails!H$2:H$16) -> 0
C6: =NETWORKDAYS.INTL(A6,B6,1,Détails!H$2:H$16) -> 0 | D6: Solde congés payés N-1 | E6: =MAX(0,E5-E2) -> 0 | F6: =NETWORKDAYS.INTL(G6,H6,1,Détails!H$2:H$16) -> 0
C7: =NETWORKDAYS.INTL(A7,B7,1,Détails!H$2:H$16) -> 0 | D7: Nombre de jours avant la perte définitive | E7: =IFERROR(DATEDIF(TODAY(),DATE(Détails!$A$1,5,31),"d"),"Définitivement perdus") -> Définitivement perdus | F7: =NETWORKDAYS.INTL(G7,H7,1,Détails!H$2:H$16) -> 0
C8: =NETWORKDAYS.INTL(A8,B8,1,Détails!H$2:H$16) -> 0 | F8: =NETWORKDAYS.INTL(G8,H8,1,Détails!H$2:H$16) -> 0
C9: =NETWORKDAYS.INTL(A9,B9,1,Détails!H$2:H$16) -> 0 | D9: Congés payés acquis | E9: 16.12 | F9: =NETWORKDAYS.INTL(G9,H9,1,Détails!H$2:H$16) -> 0
C10: =NETWORKDAYS.INTL(A10,B10,1,Détails!H$2:H$16) -> 0 | D10: Congés en cours d'acquisition | E10: =(MONTH(TODAY())-1)*Détails!E8 -> 10.416667 | F10: =NETWORKDAYS.INTL(G10,H10,1,Détails!H$2:H$16) -> 0
C11: =NETWORKDAYS.INTL(A11,B11,1,Détails!H$2:H$16) -> 0 | D11: Solde congés payés | E11: =E9+E10-IF(E2<=E6,0,E2-E5) -> -89.463333 | F11: =NETWORKDAYS.INTL(G11,H11,1,Détails!H$2:H$16) -> 0
A13: Arrêts maladie | G13: Accidents du travail
A14: 45383 | B14: 45471 | C14: =IF(B14<>"",B14-A14+1,0) -> 89 | D14: Jours en arrêt maladie | E14: =SUM(C14:C23) -> 89 | F14: =IF(H14<>"",H14-G14+1,0) -> 0
C15: =IF(B15<>"",B15-A15+1,0) -> 0 | D15: Jours en accident du travail | E15: =SUM(F14:F23) -> 0 | F15: =IF(H15<>"",H15-G15+1,0) -> 0
C16: =IF(B16<>"",B16-A16+1,0) -> 0 | F16: =IF(H16<>"",H16-G16+1,0) -> 0
C17: =IF(B17<>"",B17-A17+1,0) -> 0 | F17: =IF(H17<>"",H17-G17+1,0) -> 0
C18: =IF(B18<>"",B18-A18+1,0) -> 0 | F18: =IF(H18<>"",H18-G18+1,0) -> 0
C19: =IF(B19<>"",B19-A19+1,0) -> 0 | F19: =IF(H19<>"",H19-G19+1,0) -> 0
C20: =IF(B20<>"",B20-A20+1,0) -> 0 | F20: =IF(H20<>"",H20-G20+1,0) -> 0
C21: =IF(B21<>"",B21-A21+1,0) -> 0 | F21: =IF(H21<>"",H21-G21+1,0) -> 0
C22: =IF(B22<>"",B22-A22+1,0) -> 0 | F22: =IF(H22<>"",H22-G22+1,0) -> 0
C23: =IF(B23<>"",B23-A23+1,0) -> 0 | F23: =IF(H23<>"",H23-G23+1,0) -> 0
