Workbook

Sheet DETAIL
A1: Date du dossier | B1: Libellé du produit | C1: Code postal destinataire | D1: Localité destinataire | E1: Pays destinataire | F1: poids | G1: Prix facturé | H1: Département | I1: Spécificité | J1: Prix transporteur 1 | K1: Prix transporteur 2 | L1: Prix transporteur 3
A2: 45261 | B2: SYSTEM France | C2: 01057 | F2: 49 | H2: =LEFT(C2,2) -> 01 | J2: =HLOOKUP(F2,Tarif!$C$3:$P$123,MATCH(H2,Tarif!$A$3:$A$123,0))*IF(F2<=100,1,_xlfn.CEILING.MATH(F2,10)/100) -> 30.65 | K2: =HLOOKUP(F2,Tarif!$C$3:$P$123,MATCH(H2,Tarif!$A$3:$A$123,0))*IF(F2<=100,1,_xlfn.CEILING.MATH(F2,IF(F2<1000,10,50))/100) -> 30.65 | L2: =HLOOKUP(F2,Tarif!$C$3:$P$123,MATCH(H2,Tarif!$A$3:$A$123,0)+(I2<>""))*IF(F2<=100,1,_xlfn.CEILING.MATH(F2,IF(F2<1000,10,50))/100) -> 30.65
A3: 45261 | B3: SYSTEM France | C3: 01057 | F3: 50 | H3: =LEFT(C3,2) -> 01 | J3: =HLOOKUP(F3,Tarif!$C$3:$P$123,MATCH(H3,Tarif!$A$3:$A$123,0))*IF(F3<=100,1,_xlfn.CEILING.MATH(F3,10)/100) -> 33.03 | K3: =HLOOKUP(F3,Tarif!$C$3:$P$123,MATCH(H3,Tarif!$A$3:$A$123,0))*IF(F3<=100,1,_xlfn.CEILING.MATH(F3,IF(F3<1000,10,50))/100) -> 33.03 | L3: =HLOOKUP(F3,Tarif!$C$3:$P$123,MATCH(H3,Tarif!$A$3:$A$123,0)+(I3<>""))*IF(F3<=100,1,_xlfn.CEILING.MATH(F3,IF(F3<1000,10,50))/100) -> 33.03
A4: 45264 | B4: SYSTEM France | C4: 01057 | F4: 51 | H4: =LEFT(C4,2) -> 01 | J4: =HLOOKUP(F4,Tarif!$C$3:$P$123,MATCH(H4,Tarif!$A$3:$A$123,0))*IF(F4<=100,1,_xlfn.CEILING.MATH(F4,10)/100) -> 33.03 | K4: =HLOOKUP(F4,Tarif!$C$3:$P$123,MATCH(H4,Tarif!$A$3:$A$123,0))*IF(F4<=100,1,_xlfn.CEILING.MATH(F4,IF(F4<1000,10,50))/100) -> 33.03 | L4: =HLOOKUP(F4,Tarif!$C$3:$P$123,MATCH(H4,Tarif!$A$3:$A$123,0)+(I4<>""))*IF(F4<=100,1,_xlfn.CEILING.MATH(F4,IF(F4<1000,10,50))/100) -> 33.03
A5: 45264 | B5: SYSTEM France | C5: 01058 | F5: 59 | H5: =LEFT(C5,2) -> 01 | J5: =HLOOKUP(F5,Tarif!$C$3:$P$123,MATCH(H5,Tarif!$A$3:$A$123,0))*IF(F5<=100,1,_xlfn.CEILING.MATH(F5,10)/100) -> 33.03 | K5: =HLOOKUP(F5,Tarif!$C$3:$P$123,MATCH(H5,Tarif!$A$3:$A$123,0))*IF(F5<=100,1,_xlfn.CEILING.MATH(F5,IF(F5<1000,10,50))/100) -> 33.03 | L5: =HLOOKUP(F5,Tarif!$C$3:$P$123,MATCH(H5,Tarif!$A$3:$A$123,0)+(I5<>""))*IF(F5<=100,1,_xlfn.CEILING.MATH(F5,IF(F5<1000,10,50))/100) -> 33.03
A6: 45264 | B6: SYSTEM France | C6: 01059 | F6: 60 | H6: =LEFT(C6,2) -> 01 | J6: =HLOOKUP(F6,Tarif!$C$3:$P$123,MATCH(H6,Tarif!$A$3:$A$123,0))*IF(F6<=100,1,_xlfn.CEILING.MATH(F6,10)/100) -> 35.42 | K6: =HLOOKUP(F6,Tarif!$C$3:$P$123,MATCH(H6,Tarif!$A$3:$A$123,0))*IF(F6<=100,1,_xlfn.CEILING.MATH(F6,IF(F6<1000,10,50))/100) -> 35.42 | L6: =HLOOKUP(F6,Tarif!$C$3:$P$123,MATCH(H6,Tarif!$A$3:$A$123,0)+(I6<>""))*IF(F6<=100,1,_xlfn.CEILING.MATH(F6,IF(F6<1000,10,50))/100) -> 35.42
A7: 45264 | B7: SYSTEM France | C7: 01060 | F7: 100 | H7: =LEFT(C7,2) -> 01 | J7: =HLOOKUP(F7,Tarif!$C$3:$P$123,MATCH(H7,Tarif!$A$3:$A$123,0))*IF(F7<=100,1,_xlfn.CEILING.MATH(F7,10)/100) -> 41.79 | K7: =HLOOKUP(F7,Tarif!$C$3:$P$123,MATCH(H7,Tarif!$A$3:$A$123,0))*IF(F7<=100,1,_xlfn.CEILING.MATH(F7,IF(F7<1000,10,50))/100) -> 41.79 | L7: =HLOOKUP(F7,Tarif!$C$3:$P$123,MATCH(H7,Tarif!$A$3:$A$123,0)+(I7<>""))*IF(F7<=100,1,_xlfn.CEILING.MATH(F7,IF(F7<1000,10,50))/100) -> 41.79
A8: 45264 | B8: SYSTEM France | C8: 01061 | F8: 102 | H8: =LEFT(C8,2) -> 01 | J8: =HLOOKUP(F8,Tarif!$C$3:$P$123,MATCH(H8,Tarif!$A$3:$A$123,0))*IF(F8<=100,1,_xlfn.CEILING.MATH(F8,10)/100) -> 43.78 | K8: =HLOOKUP(F8,Tarif!$C$3:$P$123,MATCH(H8,Tarif!$A$3:$A$123,0))*IF(F8<=100,1,_xlfn.CEILING.MATH(F8,IF(F8<1000,10,50))/100) -> 43.78 | L8: =HLOOKUP(F8,Tarif!$C$3:$P$123,MATCH(H8,Tarif!$A$3:$A$123,0)+(I8<>""))*IF(F8<=100,1,_xlfn.CEILING.MATH(F8,IF(F8<1000,10,50))/100) -> 43.78
A9: 45265 | B9: SYSTEM France | C9: 01062 | F9: 202 | H9: =LEFT(C9,2) -> 01 | J9: =HLOOKUP(F9,Tarif!$C$3:$P$123,MATCH(H9,Tarif!$A$3:$A$123,0))*IF(F9<=100,1,_xlfn.CEILING.MATH(F9,10)/100) -> 83.58 | K9: =HLOOKUP(F9,Tarif!$C$3:$P$123,MATCH(H9,Tarif!$A$3:$A$123,0))*IF(F9<=100,1,_xlfn.CEILING.MATH(F9,IF(F9<1000,10,50))/100) -> 83.58 | L9: =HLOOKUP(F9,Tarif!$C$3:$P$123,MATCH(H9,Tarif!$A$3:$A$123,0)+(I9<>""))*IF(F9<=100,1,_xlfn.CEILING.MATH(F9,IF(F9<1000,10,50))/100) -> 83.58
A10: 45265 | B10: SYSTEM France | C10: 01063 | F10: 302 | H10: =LEFT(C10,2) -> 01 | J10: =HLOOKUP(F10,Tarif!$C$3:$P$123,MATCH(H10,Tarif!$A$3:$A$123,0))*IF(F10<=100,1,_xlfn.CEILING.MATH(F10,10)/100) -> 113.491 | K10: =HLOOKUP(F10,Tarif!$C$3:$P$123,MATCH(H10,Tarif!$A$3:$A$123,0))*IF(F10<=100,1,_xlfn.CEILING.MATH(F10,IF(F10<1000,10,50))/100) -> 113.491 | L10: =HLOOKUP(F10,Tarif!$C$3:$P$123,MATCH(H10,Tarif!$A$3:$A$123,0)+(I10<>""))*IF(F10<=100,1,_xlfn.CEILING.MATH(F10,IF(F10<1000,10,50))/100) -> 113.491
A11: 45265 | B11: SYSTEM France | C11: 01064 | F11: 402 | H11: =LEFT(C11,2) -> 01 | J11: =HLOOKUP(F11,Tarif!$C$3:$P$123,MATCH(H11,Tarif!$A$3:$A$123,0))*IF(F11<=100,1,_xlfn.CEILING.MATH(F11,10)/100) -> 150.101 | K11: =HLOOKUP(F11,Tarif!$C$3:$P$123,MATCH(H11,Tarif!$A$3:$A$123,0))*IF(F11<=100,1,_xlfn.CEILING.MATH(F11,IF(F11<1000,10,50))/100) -> 150.101 | L11: =HLOOKUP(F11,Tarif!$C$3:$P$123,MATCH(H11,Tarif!$A$3:$A$123,0)+(I11<>""))*IF(F11<=100,1,_xlfn.CEILING.MATH(F11,IF(F11<1000,10,50))/100) -> 150.101
A12: 45266 | B12: SYSTEM France | C12: 01065 | F12: 502 | H12: =LEFT(C12,2) -> 01 | J12: =HLOOKUP(F12,Tarif!$C$3:$P$123,MATCH(H12,Tarif!$A$3:$A$123,0))*IF(F12<=100,1,_xlfn.CEILING.MATH(F12,10)/100) -> 172.533 | K12: =HLOOKUP(F12,Tarif!$C$3:$P$123,MATCH(H12,Tarif!$A$3:$A$123,0))*IF(F12<=100,1,_xlfn.CEILING.MATH(F12,IF(F12<1000,10,50))/100) -> 172.533 | L12: =HLOOKUP(F12,Tarif!$C$3:$P$123,MATCH(H12,Tarif!$A$3:$A$123,0)+(I12<>""))*IF(F12<=100,1,_xlfn.CEILING.MATH(F12,IF(F12<1000,10,50))/100) -> 172.533
A13: 45266 | B13: SYSTEM France | C13: 01066 | F13: 602 | H13: =LEFT(C13,2) -> 01 | J13: =HLOOKUP(F13,Tarif!$C$3:$P$123,MATCH(H13,Tarif!$A$3:$A$123,0))*IF(F13<=100,1,_xlfn.CEILING.MATH(F13,10)/100) -> 206.363 | K13: =HLOOKUP(F13,Tarif!$C$3:$P$123,MATCH(H13,Tarif!$A$3:$A$123,0))*IF(F13<=100,1,_xlfn.CEILING.MATH(F13,IF(F13<1000,10,50))/100) -> 206.363 | L13: =HLOOKUP(F13,Tarif!$C$3:$P$123,MATCH(H13,Tarif!$A$3:$A$123,0)+(I13<>""))*IF(F13<=100,1,_xlfn.CEILING.MATH(F13,IF(F13<1000,10,50))/100) -> 206.363
... A18: 45266 | B18: SYSTEM France | C18: 04000 | F18: 50 | H18: =LEFT(C18,2) -> 04 | J18: =HLOOKUP(F18,Tarif!$C$3:$P$123,MATCH(H18,Tarif!$A$3:$A$123,0))*IF(F18<=100,1,_xlfn.CEILING.MATH(F18,10)/100) -> 47.55 | K18: =HLOOKUP(F18,Tarif!$C$3:$P$123,MATCH(H18,Tarif!$A$3:$A$123,0))*IF(F18<=100,1,_xlfn.CEILING.MATH(F18,IF(F18<1000,10,50))/100) -> 47.55 | L18: =HLOOKUP(F18,Tarif!$C$3:$P$123,MATCH(H18,Tarif!$A$3:$A$123,0)+(I18<>""))*IF(F18<=100,1,_xlfn.CEILING.MATH(F18,IF(F18<1000,10,50))/100) -> 47.55
A19: 45267 | B19: SYSTEM France | C19: 04000 | F19: 50 | H19: =LEFT(C19,2) -> 04 | I19: Localités d'altitude - ST | J19: =HLOOKUP(F19,Tarif!$C$3:$P$123,MATCH(H19,Tarif!$A$3:$A$123,0))*IF(F19<=100,1,_xlfn.CEILING.MATH(F19,10)/100) -> 47.55 | K19: =HLOOKUP(F19,Tarif!$C$3:$P$123,MATCH(H19,Tarif!$A$3:$A$123,0))*IF(F19<=100,1,_xlfn.CEILING.MATH(F19,IF(F19<1000,10,50))/100) -> 47.55 | L19: =HLOOKUP(F19,Tarif!$C$3:$P$123,MATCH(H19,Tarif!$A$3:$A$123,0)+(I19<>""))*IF(F19<=100,1,_xlfn.CEILING.MATH(F19,IF(F19<1000,10,50))/100) -> 117.78
A20: 45267 | B20: SYSTEM France | C20: 17000 | F20: 70 | H20: =LEFT(C20,2) -> 17 | J20: =HLOOKUP(F20,Tarif!$C$3:$P$123,MATCH(H20,Tarif!$A$3:$A$123,0))*IF(F20<=100,1,_xlfn.CEILING.MATH(F20,10)/100) -> 33.35 | K20: =HLOOKUP(F20,Tarif!$C$3:$P$123,MATCH(H20,Tarif!$A$3:$A$123,0))*IF(F20<=100,1,_xlfn.CEILING.MATH(F20,IF(F20<1000,10,50))/100) -> 33.35 | L20: =HLOOKUP(F20,Tarif!$C$3:$P$123,MATCH(H20,Tarif!$A$3:$A$123,0)+(I20<>""))*IF(F20<=100,1,_xlfn.CEILING.MATH(F20,IF(F20<1000,10,50))/100) -> 33.35
A21: 45267 | B21: SYSTEM France | C21: 17000 | F21: 70 | H21: =LEFT(C21,2) -> 17 | I21: Iles - IL | J21: =HLOOKUP(F21,Tarif!$C$3:$P$123,MATCH(H21,Tarif!$A$3:$A$123,0))*IF(F21<=100,1,_xlfn.CEILING.MATH(F21,10)/100) -> 33.35 | K21: =HLOOKUP(F21,Tarif!$C$3:$P$123,MATCH(H21,Tarif!$A$3:$A$123,0))*IF(F21<=100,1,_xlfn.CEILING.MATH(F21,IF(F21<1000,10,50))/100) -> 33.35 | L21: =HLOOKUP(F21,Tarif!$C$3:$P$123,MATCH(H21,Tarif!$A$3:$A$123,0)+(I21<>""))*IF(F21<=100,1,_xlfn.CEILING.MATH(F21,IF(F21<1000,10,50))/100) -> 93.25
A22: 45267 | B22: SYSTEM France | C22: 27458 | F22: 91 | H22: =LEFT(C22,2) -> 27 | J22: =HLOOKUP(F22,Tarif!$C$3:$P$123,MATCH(H22,Tarif!$A$3:$A$123,0))*IF(F22<=100,1,_xlfn.CEILING.MATH(F22,10)/100) -> 18.64 | K22: =HLOOKUP(F22,Tarif!$C$3:$P$123,MATCH(H22,Tarif!$A$3:$A$123,0))*IF(F22<=100,1,_xlfn.CEILING.MATH(F22,IF(F22<1000,10,50))/100) -> 18.64 | L22: =HLOOKUP(F22,Tarif!$C$3:$P$123,MATCH(H22,Tarif!$A$3:$A$123,0)+(I22<>""))*IF(F22<=100,1,_xlfn.CEILING.MATH(F22,IF(F22<1000,10,50))/100) -> 18.64
A23: 45268 | B23: SYSTEM France | C23: 27469 | F23: 100 | H23: =LEFT(C23,2) -> 27 | J23: =HLOOKUP(F23,Tarif!$C$3:$P$123,MATCH(H23,Tarif!$A$3:$A$123,0))*IF(F23<=100,1,_xlfn.CEILING.MATH(F23,10)/100) -> 18.64 | K23: =HLOOKUP(F23,Tarif!$C$3:$P$123,MATCH(H23,Tarif!$A$3:$A$123,0))*IF(F23<=100,1,_xlfn.CEILING.MATH(F23,IF(F23<1000,10,50))/100) -> 18.64 | L23: =HLOOKUP(F23,Tarif!$C$3:$P$123,MATCH(H23,Tarif!$A$3:$A$123,0)+(I23<>""))*IF(F23<=100,1,_xlfn.CEILING.MATH(F23,IF(F23<1000,10,50))/100) -> 18.64
A24: 45268 | B24: SYSTEM France | C24: 27701 | F24: 67 | H24: =LEFT(C24,2) -> 27 | J24: =HLOOKUP(F24,Tarif!$C$3:$P$123,MATCH(H24,Tarif!$A$3:$A$123,0))*IF(F24<=100,1,_xlfn.CEILING.MATH(F24,10)/100) -> 15.8 | K24: =HLOOKUP(F24,Tarif!$C$3:$P$123,MATCH(H24,Tarif!$A$3:$A$123,0))*IF(F24<=100,1,_xlfn.CEILING.MATH(F24,IF(F24<1000,10,50))/100) -> 15.8 | L24: =HLOOKUP(F24,Tarif!$C$3:$P$123,MATCH(H24,Tarif!$A$3:$A$123,0)+(I24<>""))*IF(F24<=100,1,_xlfn.CEILING.MATH(F24,IF(F24<1000,10,50))/100) -> 15.8
A25: 45268 | B25: SYSTEM France | C25: 05000 | F25: 165 | H25: =LEFT(C25,2) -> 05 | J25: =HLOOKUP(F25,Tarif!$C$3:$P$123,MATCH(H25,Tarif!$A$3:$A$123,0))*IF(F25<=100,1,_xlfn.CEILING.MATH(F25,10)/100) -> 97.393 | K25: =HLOOKUP(F25,Tarif!$C$3:$P$123,MATCH(H25,Tarif!$A$3:$A$123,0))*IF(F25<=100,1,_xlfn.CEILING.MATH(F25,IF(F25<1000,10,50))/100) -> 97.393 | L25: =HLOOKUP(F25,Tarif!$C$3:$P$123,MATCH(H25,Tarif!$A$3:$A$123,0)+(I25<>""))*IF(F25<=100,1,_xlfn.CEILING.MATH(F25,IF(F25<1000,10,50))/100) -> 97.393
A26: 45271 | B26: SYSTEM France | C26: 05000 | F26: 165 | H26: =LEFT(C26,2) -> 05 | I26: Localités d'altitude - ST | J26: =HLOOKUP(F26,Tarif!$C$3:$P$123,MATCH(H26,Tarif!$A$3:$A$123,0))*IF(F26<=100,1,_xlfn.CEILING.MATH(F26,10)/100) -> 97.393 | K26: =HLOOKUP(F26,Tarif!$C$3:$P$123,MATCH(H26,Tarif!$A$3:$A$123,0))*IF(F26<=100,1,_xlfn.CEILING.MATH(F26,IF(F26<1000,10,50))/100) -> 97.393 | L26: =HLOOKUP(F26,Tarif!$C$3:$P$123,MATCH(H26,Tarif!$A$3:$A$123,0)+(I26<>""))*IF(F26<=100,1,_xlfn.CEILING.MATH(F26,IF(F26<1000,10,50))/100) -> 241.213
A27: 45271 | B27: SYSTEM France | C27: 22000 | F27: 105 | H27: =LEFT(C27,2) -> 22 | J27: =HLOOKUP(F27,Tarif!$C$3:$P$123,MATCH(H27,Tarif!$A$3:$A$123,0))*IF(F27<=100,1,_xlfn.CEILING.MATH(F27,10)/100) -> 37.488 | K27: =HLOOKUP(F27,Tarif!$C$3:$P$123,MATCH(H27,Tarif!$A$3:$A$123,0))*IF(F27<=100,1,_xlfn.CEILING.MATH(F27,IF(F27<1000,10,50))/100) -> 37.488 | L27: =HLOOKUP(F27,Tarif!$C$3:$P$123,MATCH(H27,Tarif!$A$3:$A$123,0)+(I27<>""))*IF(F27<=100,1,_xlfn.CEILING.MATH(F27,IF(F27<1000,10,50))/100) -> 37.488
A28: 45271 | B28: SYSTEM France | C28: 22000 | F28: 105 | H28: =LEFT(C28,2) -> 22 | I28: Iles - IL | J28: =HLOOKUP(F28,Tarif!$C$3:$P$123,MATCH(H28,Tarif!$A$3:$A$123,0))*IF(F28<=100,1,_xlfn.CEILING.MATH(F28,10)/100) -> 37.488 | K28: =HLOOKUP(F28,Tarif!$C$3:$P$123,MATCH(H28,Tarif!$A$3:$A$123,0))*IF(F28<=100,1,_xlfn.CEILING.MATH(F28,IF(F28<1000,10,50))/100) -> 37.488 | L28: =HLOOKUP(F28,Tarif!$C$3:$P$123,MATCH(H28,Tarif!$A$3:$A$123,0)+(I28<>""))*IF(F28<=100,1,_xlfn.CEILING.MATH(F28,IF(F28<1000,10,50))/100) -> 105.303
A29: 45271 | B29: SYSTEM France | C29: 22000 | F29: 1245 | H29: =LEFT(C29,2) -> 22 | J29: =HLOOKUP(F29,Tarif!$C$3:$P$123,MATCH(H29,Tarif!$A$3:$A$123,0))*IF(F29<=100,1,_xlfn.CEILING.MATH(F29,10)/100) -> 319.5 | K29: =HLOOKUP(F29,Tarif!$C$3:$P$123,MATCH(H29,Tarif!$A$3:$A$123,0))*IF(F29<=100,1,_xlfn.CEILING.MATH(F29,IF(F29<1000,10,50))/100) -> 319.5 | L29: =HLOOKUP(F29,Tarif!$C$3:$P$123,MATCH(H29,Tarif!$A$3:$A$123,0)+(I29<>""))*IF(F29<=100,1,_xlfn.CEILING.MATH(F29,IF(F29<1000,10,50))/100) -> 319.5
A30: 45271 | B30: SYSTEM France | C30: 22000 | F30: 1245 | H30: =LEFT(C30,2) -> 22 | I30: Iles - IL | J30: =HLOOKUP(F30,Tarif!$C$3:$P$123,MATCH(H30,Tarif!$A$3:$A$123,0))*IF(F30<=100,1,_xlfn.CEILING.MATH(F30,10)/100) -> 319.5 | K30: =HLOOKUP(F30,Tarif!$C$3:$P$123,MATCH(H30,Tarif!$A$3:$A$123,0))*IF(F30<=100,1,_xlfn.CEILING.MATH(F30,IF(F30<1000,10,50))/100) -> 319.5 | L30: =HLOOKUP(F30,Tarif!$C$3:$P$123,MATCH(H30,Tarif!$A$3:$A$123,0)+(I30<>""))*IF(F30<=100,1,_xlfn.CEILING.MATH(F30,IF(F30<1000,10,50))/100) -> 897.5
A31: 45271 | B31: SYSTEM France | C31: 45272 | F31: 180 | H31: =LEFT(C31,2) -> 45 | J31: =HLOOKUP(F31,Tarif!$C$3:$P$123,MATCH(H31,Tarif!$A$3:$A$123,0))*IF(F31<=100,1,_xlfn.CEILING.MATH(F31,10)/100) -> 53.91 | K31: =HLOOKUP(F31,Tarif!$C$3:$P$123,MATCH(H31,Tarif!$A$3:$A$123,0))*IF(F31<=100,1,_xlfn.CEILING.MATH(F31,IF(F31<1000,10,50))/100) -> 53.91 | L31: =HLOOKUP(F31,Tarif!$C$3:$P$123,MATCH(H31,Tarif!$A$3:$A$123,0)+(I31<>""))*IF(F31<=100,1,_xlfn.CEILING.MATH(F31,IF(F31<1000,10,50))/100) -> 53.91
A32: 45272 | B32: SYSTEM France | C32: 45272 | F32: 36 | H32: =LEFT(C32,2) -> 45 | J32: =HLOOKUP(F32,Tarif!$C$3:$P$123,MATCH(H32,Tarif!$A$3:$A$123,0))*IF(F32<=100,1,_xlfn.CEILING.MATH(F32,10)/100) -> 21.27 | K32: =HLOOKUP(F32,Tarif!$C$3:$P$123,MATCH(H32,Tarif!$A$3:$A$123,0))*IF(F32<=100,1,_xlfn.CEILING.MATH(F32,IF(F32<1000,10,50))/100) -> 21.27 | L32: =HLOOKUP(F32,Tarif!$C$3:$P$123,MATCH(H32,Tarif!$A$3:$A$123,0)+(I32<>""))*IF(F32<=100,1,_xlfn.CEILING.MATH(F32,IF(F32<1000,10,50))/100) -> 21.27
A33: 45272 | B33: SYSTEM France | C33: 49267 | F33: 105 | H33: =LEFT(C33,2) -> 49 | J33: =HLOOKUP(F33,Tarif!$C$3:$P$123,MATCH(H33,Tarif!$A$3:$A$123,0))*IF(F33<=100,1,_xlfn.CEILING.MATH(F33,10)/100) -> 30.756 | K33: =HLOOKUP(F33,Tarif!$C$3:$P$123,MATCH(H33,Tarif!$A$3:$A$123,0))*IF(F33<=100,1,_xlfn.CEILING.MATH(F33,IF(F33<1000,10,50))/100) -> 30.756 | L33: =HLOOKUP(F33,Tarif!$C$3:$P$123,MATCH(H33,Tarif!$A$3:$A$123,0)+(I33<>""))*IF(F33<=100,1,_xlfn.CEILING.MATH(F33,IF(F33<1000,10,50))/100) -> 30.756
A34: 45272 | B34: SYSTEM France | C34: 61457 | F34: 120 | H34: =LEFT(C34,2) -> 61 | J34: =HLOOKUP(F34,Tarif!$C$3:$P$123,MATCH(H34,Tarif!$A$3:$A$123,0))*IF(F34<=100,1,_xlfn.CEILING.MATH(F34,10)/100) -> 31.104 | K34: =HLOOKUP(F34,Tarif!$C$3:$P$123,MATCH(H34,Tarif!$A$3:$A$123,0))*IF(F34<=100,1,_xlfn.CEILING.MATH(F34,IF(F34<1000,10,50))/100) -> 31.104 | L34: =HLOOKUP(F34,Tarif!$C$3:$P$123,MATCH(H34,Tarif!$A$3:$A$123,0)+(I34<>""))*IF(F34<=100,1,_xlfn.CEILING.MATH(F34,IF(F34<1000,10,50))/100) -> 31.104
A35: 45272 | B35: SYSTEM France | C35: 62427 | F35: 68 | H35: =LEFT(C35,2) -> 62 | J35: =HLOOKUP(F35,Tarif!$C$3:$P$123,MATCH(H35,Tarif!$A$3:$A$123,0))*IF(F35<=100,1,_xlfn.CEILING.MATH(F35,10)/100) -> 23.97 | K35: =HLOOKUP(F35,Tarif!$C$3:$P$123,MATCH(H35,Tarif!$A$3:$A$123,0))*IF(F35<=100,1,_xlfn.CEILING.MATH(F35,IF(F35<1000,10,50))/100) -> 23.97 | L35: =HLOOKUP(F35,Tarif!$C$3:$P$123,MATCH(H35,Tarif!$A$3:$A$123,0)+(I35<>""))*IF(F35<=100,1,_xlfn.CEILING.MATH(F35,IF(F35<1000,10,50))/100) -> 23.97
A36: 45272 | B36: SYSTEM France | C36: 69264 | F36: 82 | H36: =LEFT(C36,2) -> 69 | J36: =HLOOKUP(F36,Tarif!$C$3:$P$123,MATCH(H36,Tarif!$A$3:$A$123,0))*IF(F36<=100,1,_xlfn.CEILING.MATH(F36,10)/100) -> 41.79 | K36: =HLOOKUP(F36,Tarif!$C$3:$P$123,MATCH(H36,Tarif!$A$3:$A$123,0))*IF(F36<=100,1,_xlfn.CEILING.MATH(F36,IF(F36<1000,10,50))/100) -> 41.79 | L36: =HLOOKUP(F36,Tarif!$C$3:$P$123,MATCH(H36,Tarif!$A$3:$A$123,0)+(I36<>""))*IF(F36<=100,1,_xlfn.CEILING.MATH(F36,IF(F36<1000,10,50))/100) -> 41.79
A37: 45272 | B37: SYSTEM France | C37: 72071 | F37: 70 | H37: =LEFT(C37,2) -> 72 | J37: =HLOOKUP(F37,Tarif!$C$3:$P$123,MATCH(H37,Tarif!$A$3:$A$123,0))*IF(F37<=100,1,_xlfn.CEILING.MATH(F37,10)/100) -> 24.62 | K37: =HLOOKUP(F37,Tarif!$C$3:$P$123,MATCH(H37,Tarif!$A$3:$A$123,0))*IF(F37<=100,1,_xlfn.CEILING.MATH(F37,IF(F37<1000,10,50))/100) -> 24.62 | L37: =HLOOKUP(F37,Tarif!$C$3:$P$123,MATCH(H37,Tarif!$A$3:$A$123,0)+(I37<>""))*IF(F37<=100,1,_xlfn.CEILING.MATH(F37,IF(F37<1000,10,50))/100) -> 24.62
A38: 45273 | B38: SYSTEM France | C38: 72181 | F38: 40 | H38: =LEFT(C38,2) -> 72 | J38: =HLOOKUP(F38,Tarif!$C$3:$P$123,MATCH(H38,Tarif!$A$3:$A$123,0))*IF(F38<=100,1,_xlfn.CEILING.MATH(F38,10)/100) -> 19.96 | K38: =HLOOKUP(F38,Tarif!$C$3:$P$123,MATCH(H38,Tarif!$A$3:$A$123,0))*IF(F38<=100,1,_xlfn.CEILING.MATH(F38,IF(F38<1000,10,50))/100) -> 19.96 | L38: =HLOOKUP(F38,Tarif!$C$3:$P$123,MATCH(H38,Tarif!$A$3:$A$123,0)+(I38<>""))*IF(F38<=100,1,_xlfn.CEILING.MATH(F38,IF(F38<1000,10,50))/100) -> 19.96
A39: 45273 | B39: SYSTEM France | C39: 72071 | F39: 58 | H39: =LEFT(C39,2) -> 72 | J39: =HLOOKUP(F39,Tarif!$C$3:$P$123,MATCH(H39,Tarif!$A$3:$A$123,0))*IF(F39<=100,1,_xlfn.CEILING.MATH(F39,10)/100) -> 21.51 | K39: =HLOOKUP(F39,Tarif!$C$3:$P$123,MATCH(H39,Tarif!$A$3:$A$123,0))*IF(F39<=100,1,_xlfn.CEILING.MATH(F39,IF(F39<1000,10,50))/100) -> 21.51 | L39: =HLOOKUP(F39,Tarif!$C$3:$P$123,MATCH(H39,Tarif!$A$3:$A$123,0)+(I39<>""))*IF(F39<=100,1,_xlfn.CEILING.MATH(F39,IF(F39<1000,10,50))/100) -> 21.51
A40: 45273 | B40: SYSTEM France | C40: 72071 | F40: 240 | H40: =LEFT(C40,2) -> 72 | J40: =HLOOKUP(F40,Tarif!$C$3:$P$123,MATCH(H40,Tarif!$A$3:$A$123,0))*IF(F40<=100,1,_xlfn.CEILING.MATH(F40,10)/100) -> 62.208 | K40: =HLOOKUP(F40,Tarif!$C$3:$P$123,MATCH(H40,Tarif!$A$3:$A$123,0))*IF(F40<=100,1,_xlfn.CEILING.MATH(F40,IF(F40<1000,10,50))/100) -> 62.208 | L40: =HLOOKUP(F40,Tarif!$C$3:$P$123,MATCH(H40,Tarif!$A$3:$A$123,0)+(I40<>""))*IF(F40<=100,1,_xlfn.CEILING.MATH(F40,IF(F40<1000,10,50))/100) -> 62.208
A41: 45273 | B41: SYSTEM France | C41: 74081 | F41: 150 | H41: =LEFT(C41,2) -> 74 | J41: =HLOOKUP(F41,Tarif!$C$3:$P$123,MATCH(H41,Tarif!$A$3:$A$123,0))*IF(F41<=100,1,_xlfn.CEILING.MATH(F41,10)/100) -> 67.905 | K41: =HLOOKUP(F41,Tarif!$C$3:$P$123,MATCH(H41,Tarif!$A$3:$A$123,0))*IF(F41<=100,1,_xlfn.CEILING.MATH(F41,IF(F41<1000,10,50))/100) -> 67.905 | L41: =HLOOKUP(F41,Tarif!$C$3:$P$123,MATCH(H41,Tarif!$A$3:$A$123,0)+(I41<>""))*IF(F41<=100,1,_xlfn.CEILING.MATH(F41,IF(F41<1000,10,50))/100) -> 67.905
A42: 45273 | B42: SYSTEM France | C42: 76157 | F42: 90 | H42: =LEFT(C42,2) -> 76 | J42: =HLOOKUP(F42,Tarif!$C$3:$P$123,MATCH(H42,Tarif!$A$3:$A$123,0))*IF(F42<=100,1,_xlfn.CEILING.MATH(F42,10)/100) -> 18.64 | K42: =HLOOKUP(F42,Tarif!$C$3:$P$123,MATCH(H42,Tarif!$A$3:$A$123,0))*IF(F42<=100,1,_xlfn.CEILING.MATH(F42,IF(F42<1000,10,50))/100) -> 18.64 | L42: =HLOOKUP(F42,Tarif!$C$3:$P$123,MATCH(H42,Tarif!$A$3:$A$123,0)+(I42<>""))*IF(F42<=100,1,_xlfn.CEILING.MATH(F42,IF(F42<1000,10,50))/100) -> 18.64
... A65: 45265 | B65: DIRECT France | C65: 95572 | F65: 271 | H65: =LEFT(C65,2) -> 95 | J65: =HLOOKUP(F65,Tarif!$C$3:$P$123,MATCH(H65,Tarif!$A$3:$A$123,0))*IF(F65<=100,1,_xlfn.CEILING.MATH(F65,10)/100) -> 74.704 | K65: =HLOOKUP(F65,Tarif!$C$3:$P$123,MATCH(H65,Tarif!$A$3:$A$123,0))*IF(F65<=100,1,_xlfn.CEILING.MATH(F65,IF(F65<1000,10,50))/100) -> 74.704 | L65: =HLOOKUP(F65,Tarif!$C$3:$P$123,MATCH(H65,Tarif!$A$3:$A$123,0)+(I65<>""))*IF(F65<=100,1,_xlfn.CEILING.MATH(F65,IF(F65<1000,10,50))/100) -> 74.704

Sheet Tarif
A1: Application | C1: [type_tranche]
A2: Tranches de unité taxation | C2: Forfait par expédition | L2: Aux 100 KG | M2: Aux 100 KG | N2: Aux 100 KG | O2: Aux 100 KG | P2: Aux 100 KG
A3: Tranches de poids | C3: 1 | D3: 10 | E3: 20 | F3: 30 | G3: 40 | H3: 50 | I3: 60 | J3: 70 | K3: 80 | L3: 101 | M3: 300 | N3: 500 | O3: 700 | P3: 1000
C4: à 9 | D4: à 19 | E4: à 29 | F4: à 39 | G4: à 49 | H4: à 59 | I4: à 69 | J4: à 79 | K4: à 100 | L4: à 299 | M4: à 499 | N4: à 699 | O4: à 999 | P4: à 3000
A5: Arrondi unité taxation | L5: 10.0 KG | M5: 10.0 KG | N5: 10.0 KG | O5: 10.0 KG | P5: 50.0 KG
A6: Départements | B6: Zones
A7: 01 | B7: AIN | C7: 19.9 | D7: 22.68 | E7: 25.47 | F7: 28.26 | G7: 30.65 | H7: 33.03 | I7: 35.42 | J7: 37.81 | K7: 41.79 | L7: 39.8 | M7: 36.61 | N7: 33.83 | O7: 31.84 | P7: 29.85
A8: 02 | B8: AISNE | C8: 13.98 | D8: 15.94 | E8: 17.89 | F8: 19.85 | G8: 21.53 | H8: 23.21 | I8: 24.88 | J8: 26.56 | K8: 29.36 | L8: 27.96 | M8: 25.72 | N8: 23.77 | O8: 22.37 | P8: 20.97
A9: 03 | B9: ALLIER | C9: 18.81 | D9: 21.44 | E9: 24.07 | F9: 26.7 | G9: 28.96 | H9: 31.22 | I9: 33.47 | J9: 35.73 | K9: 39.49 | L9: 37.61 | M9: 34.6 | N9: 31.97 | O9: 30.09 | P9: 28.21
A10: 04 | B10: ALPES DE HAUTE-PROV | C10: 28.65 | D10: 32.66 | E10: 36.67 | F10: 40.68 | G10: 44.12 | H10: 47.55 | I10: 50.99 | J10: 54.43 | K10: 60.16 | L10: 57.29 | M10: 52.71 | N10: 48.7 | O10: 45.84 | P10: 42.97
A11: 04 | B11: Localités d'altitude - ST | C11: 70.95 | D11: 80.88 | E11: 90.82 | F11: 100.75 | G11: 109.26 | H11: 117.78 | I11: 126.29 | J11: 134.8 | K11: 148.99 | L11: 141.89 | M11: 130.55 | N11: 120.61 | O11: 113.52 | P11: 106.42
A12: 05 | B12: ALPES (HAUTES-) | C12: 28.65 | D12: 32.66 | E12: 36.67 | F12: 40.68 | G12: 44.12 | H12: 47.55 | I12: 50.99 | J12: 54.43 | K12: 60.16 | L12: 57.29 | M12: 52.71 | N12: 48.7 | O12: 45.84 | P12: 42.97
A13: 05 | B13: Localités d'altitude - ST | C13: 70.95 | D13: 80.88 | E13: 90.82 | F13: 100.75 | G13: 109.26 | H13: 117.78 | I13: 126.29 | J13: 134.8 | K13: 148.99 | L13: 141.89 | M13: 130.55 | N13: 120.61 | O13: 113.52 | P13: 106.42
A14: 06 | B14: ALPES-MARITIMES | C14: 31.93 | D14: 36.4 | E14: 40.87 | F14: 45.34 | G14: 49.17 | H14: 53 | I14: 56.83 | J14: 60.66 | K14: 67.05 | L14: 63.85 | M14: 58.75 | N14: 54.27 | O14: 51.08 | P14: 47.89
A15: 06 | B15: Localités d'altitude - ST | C15: 78.24 | D15: 89.19 | E15: 100.14 | F15: 111.09 | G15: 120.49 | H15: 129.88 | I15: 139.26 | J15: 148.65 | K15: 164.3 | L15: 156.48 | M15: 143.95 | N15: 133 | O15: 125.18 | P15: 117.35
A16: 07 | B16: ARDECHE | C16: 23.72 | D16: 27.05 | E16: 30.37 | F16: 33.69 | G16: 36.54 | H16: 39.38 | I16: 42.23 | J16: 45.08 | K16: 49.82 | L16: 47.45 | M16: 43.65 | N16: 40.33 | O16: 37.96 | P16: 35.59
A17: 08 | B17: ARDENNES | C17: 17.71 | D17: 20.19 | E17: 22.67 | F17: 25.15 | G17: 27.27 | H17: 29.4 | I17: 31.53 | J17: 33.66 | K17: 37.2 | L17: 35.42 | M17: 32.59 | N17: 30.11 | O17: 28.34 | P17: 26.57
A18: 09 | B18: ARIEGE | C18: 27.55 | D18: 31.41 | E18: 35.27 | F18: 39.12 | G18: 42.43 | H18: 45.74 | I18: 49.05 | J18: 52.35 | K18: 57.86 | L18: 55.11 | M18: 50.7 | N18: 46.84 | O18: 44.09 | P18: 41.33
... A123: 98 | B123: 98 MONACO | C123: 78.24 | D123: 89.19 | E123: 100.14 | F123: 111.09 | G123: 120.49 | H123: 129.88 | I123: 139.26 | J123: 148.65 | K123: 164.3 | L123: 156.48 | M123: 143.95 | N123: 133 | O123: 125.18 | P123: 117.35
