Workbook

Sheet Novembre
G4: FEUILLE DE TEMPS
B7: Programme concerné
B8: Numéro du projet cofinancé et intitulé
B9: Organisme bénéficiaire
B10: Nom / Prénom du salarié | D10: =VLOOKUP(Totaux!U12,'Liste salarié'!F:J,5,FALSE) -> Mr X
B11: Fonction du salarié
B13: Indiquer le temps de travail en prorata d'un ETP
B14: Date de début et fin du projet | D14: 01/07/2022 - 31/12/2024
B15: Date de début d'affectation | D15: 44743
B16: Date de fin d'affectation | D16: 45657
B18: Merci de répartir le nombre d'heures total effectué par jour entre les différentes tâches.
E19: 44866 | F19: 44867 | G19: 44868 | H19: 44869 | I19: 44870 | J19: 44871 | K19: 44872 | L19: 44873 | M19: 44874 | N19: 44875 | O19: 44876 | P19: 44877 | Q19: 44878 | R19: 44879 | S19: 44880 | T19: 44881 | U19: 44882 | V19: 44883 | W19: 44884 | X19: 44885 | Y19: 44886 | Z19: 44887 | AA19: 44888 | AB19: 44889 | AC19: 44890 | AD19: 44891 | AE19: 44892 | AF19: 44893 | AG19: 44894 | AH19: 44895
B20: 44866 | E20: Jour | AJ20: Total heures / jours
E21: 1 | F21: 2 | G21: 3 | H21: 4 | I21: 5 | J21: 6 | K21: 7 | L21: 8 | M21: 9 | N21: 10 | O21: 11 | P21: 12 | Q21: 13 | R21: 14 | S21: 15 | T21: 16 | U21: 17 | V21: 18 | W21: 19 | X21: 20 | Y21: 21 | Z21: 22 | AA21: 23 | AB21: 24 | AC21: 25 | AD21: 26 | AE21: 27 | AF21: 28 | AG21: 29 | AH21: 30 | AI21: 31
B22: A) Tâches relatives au projet¹ | E22: =E23 -> 0 | F22: =F23 -> 0 | G22: =G23 -> 0 | H22: =H23 -> 0 | I22: =I23 -> 0 | J22: =J23 -> 0 | K22: =K23 -> 4.5 | L22: =L23 -> 4.5 | ... AI22: =AI23 -> 0 | AJ22: =SUM(E22:AI22) -> 31.5 | AK22: A
E23: =SUMIFS('Liste salarié'!$I:$I,'Liste salarié'!$F:$F,Totaux!$U$12,'Liste salarié'!$B:$B,Novembre!E19) -> 0 | F23: =SUMIFS('Liste salarié'!$I:$I,'Liste salarié'!$F:$F,Totaux!$U$12,'Liste salarié'!$B:$B,Novembre!F19) -> 0 | G23: =SUMIFS('Liste salarié'!$I:$I,'Liste salarié'!$F:$F,Totaux!$U$12,'Liste salarié'!$B:$B,Novembre!G19) -> 0 | H23: =SUMIFS('Liste salarié'!$I:$I,'Liste salarié'!$F:$F,Totaux!$U$12,'Liste salarié'!$B:$B,Novembre!H19) -> 0 | I23: =SUMIFS('Liste salarié'!$I:$I,'Liste salarié'!$F:$F,Totaux!$U$12,'Liste salarié'!$B:$B,Novembre!I19) -> 0 | J23: =SUMIFS('Liste salarié'!$I:$I,'Liste salarié'!$F:$F,Totaux!$U$12,'Liste salarié'!$B:$B,Novembre!J19) -> 0 | K23: =SUMIFS('Liste salarié'!$I:$I,'Liste salarié'!$F:$F,Totaux!$U$12,'Liste salarié'!$B:$B,Novembre!K19) -> 4.5 | L23: =SUMIFS('Liste salarié'!$I:$I,'Liste salarié'!$F:$F,Totaux!$U$12,'Liste salarié'!$B:$B,Novembre!L19) -> 4.5 | ... AI23: =SUMIFS('Liste salarié'!$I:$I,'Liste salarié'!$F:$F,Totaux!$U$12,'Liste salarié'!$B:$B,Novembre!AI19) -> 0
B26: B) Tâches relatives à un autre projet européen² | AJ26: =SUM(E26:AI26) -> 0 | AK26: B
B27: C) Autres tâches³ | AJ27: =SUM(E27:AI27) -> 0 | AK27: C
U28: D) Total 1 : nombre d'heures total travaillées | AJ28: =SUM(AJ22:AJ27) -> 31.5 | AK28: D=A+B+C
B30: E) Congés payés (dont RTT et congés exceptionnels) | AJ30: =SUM(E30:AI30) -> 0 | AK30: E
B31: F) Arrêt maladie financé par l'organisme bénéficiaire | AJ31: =SUM(E31:AI31) -> 0 | AK31: F
U32: G) Total 2: nombre d'heures total non travaillées rémunérées par l'employeur | AJ32: =AJ30+AJ31 -> 0 | AK32: G=E+F
B34: H) Temps d'absence non rémunéré par l'organisme bénéficiaire. Nature de l'absence (congés sans soldes, temps d’arrêts maladie non financés par l’organisme bénéficiaire, etc.) | AJ34: =SUM(E34:AI34) -> 0 | AK34: H
AI36: J) Coût total de la rémunération selon feuille de paye (salaire + charges) | AK36: J
C38: Dont nombre d'heures supplémentaires effectués
B40: Lieu | T40: Lieu
B41: Date | T41: Date
B43: Signature du salarié | T43: Signature et qualité du responsable héirarchique, et cachet
B50: ¹ Il s'agit de toute l'activité passée par le salarié sur le projet cofinancé, à décliner ensuite selon les diverses tâches accomplies (listées dans des documents tels que lettre de mission ou contrat de travail)
B51: ² Il s'agit de l'activité passée par le salarié sur un autre projet européen (qu'il soit financé par le FAMI, l'IGFV ou par un autre fonds européen) durant la période de réalisation du projet cofinancé faisant l'objet du suivi. Dans le cas où le salarié est affecté à plusieurs projets européens, il ne doit utiliser qu'une seule et même feuille de temps pour tous les projets, en ajoutant une ligne de suivi par projet.
B52: ³ Il s'agit du reste de l'activité du salarié qui ne peut être affectée au projet cofinancé, objet du suivi, ou à un autre projet cofinancé par un fonds européen.

Sheet Totaux
F4: FEUILLE DE TEMPS
A8: Programme concerné :
A9: Numéro du projet cofinancé et intitulé
A10: Organisme bénéficiaire
A11: Nom / Prénom du salarié
A12: Fonction du salarié | C12: Médiateur social | T12: Matricule | U12: 3742
A14: Temps travaillé en prorata d'un ETP
A15: Date de début et fin du projet | C15: 01/07/2022 - 31/12/2024
A16: Date de début d'affectation | C16: 44743
A17: Date de fin d'affectation
A19: Synthèse annuelle des heures déclarées
A21: Année (à préciser : AAAA) | D21: Mois | P21: Total annuel heures/jours
D22: Jan | E22: Fev | F22: Mars | G22: Avril | H22: Mai | I22: Juin | J22: Juil. | K22: Août | L22: Sept. | M22: Oct. | N22: Nov. | O22: Déc.
A23: A) Tâches relatives au projet¹ | D23: =#REF! -> #REF! | E23: =#REF! -> #REF! | F23: =#REF! -> #REF! | G23: =#REF! -> #REF! | H23: =#REF! -> #REF! | I23: =#REF! -> #REF! | J23: =#REF! -> #REF! | K23: =#REF! -> #REF! | ... M23: =#REF! -> #REF! | N23: =Novembre!AJ22 -> 31.5 | O23: =#REF! -> #REF! | P23: =SUM(D23:O23) -> #REF! | Q23: A
A24: Tâche … | D24: =#REF! -> #REF! | E24: =#REF! -> #REF! | F24: =#REF! -> #REF! | G24: =#REF! -> #REF! | H24: =#REF! -> #REF! | I24: =#REF! -> #REF! | J24: =#REF! -> #REF! | K24: =#REF! -> #REF! | ... M24: =#REF! -> #REF! | N24: =Novembre!AJ23 -> 0 | O24: =#REF! -> #REF! | P24: =SUM(D24:O24) -> #REF!
A25: Tâche … | D25: =#REF! -> #REF! | E25: =#REF! -> #REF! | F25: =#REF! -> #REF! | G25: =#REF! -> #REF! | H25: =#REF! -> #REF! | I25: =#REF! -> #REF! | J25: =#REF! -> #REF! | K25: =#REF! -> #REF! | ... M25: =#REF! -> #REF! | N25: =Novembre!AJ24 -> 0 | O25: =#REF! -> #REF! | P25: =SUM(D25:O25) -> #REF!
A26: Tâche … | D26: =#REF! -> #REF! | E26: =#REF! -> #REF! | F26: =#REF! -> #REF! | G26: =#REF! -> #REF! | H26: =#REF! -> #REF! | I26: =#REF! -> #REF! | J26: =#REF! -> #REF! | K26: =#REF! -> #REF! | ... M26: =#REF! -> #REF! | N26: =Novembre!AJ25 -> 0 | O26: =#REF! -> #REF! | P26: =SUM(D26:O26) -> #REF!
A27: B) Tâches relatives à un autre projet européen² | D27: =#REF! -> #REF! | E27: =#REF! -> #REF! | F27: =#REF! -> #REF! | G27: =#REF! -> #REF! | H27: =#REF! -> #REF! | I27: =#REF! -> #REF! | J27: =#REF! -> #REF! | K27: =#REF! -> #REF! | ... M27: =#REF! -> #REF! | N27: =Novembre!AJ26 -> 0 | O27: =#REF! -> #REF! | P27: =SUM(D27:O27) -> #REF! | Q27: B
A28: C) Autres tâches³ | D28: =#REF! -> #REF! | E28: =#REF! -> #REF! | F28: =#REF! -> #REF! | G28: =#REF! -> #REF! | H28: =#REF! -> #REF! | I28: =#REF! -> #REF! | J28: =#REF! -> #REF! | K28: =#REF! -> #REF! | ... M28: =#REF! -> #REF! | N28: =Novembre!AJ27 -> 0 | O28: =#REF! -> #REF! | P28: =SUM(D28:O28) -> #REF! | Q28: C
A29: D) TOTAL 1 : nombre d'heures total travaillées | D29: =#REF! -> #REF! | E29: =#REF! -> #REF! | F29: =#REF! -> #REF! | G29: =#REF! -> #REF! | H29: =#REF! -> #REF! | I29: =#REF! -> #REF! | J29: =#REF! -> #REF! | K29: =#REF! -> #REF! | ... M29: =#REF! -> #REF! | N29: =Novembre!AJ28 -> 31.5 | O29: =#REF! -> #REF! | P29: =SUM(D29:O29) -> #REF! | Q29: D=A+B+C
A31: E) Congés payés (dont RTT et congés exceptionnels) | D31: =#REF! -> #REF! | E31: =#REF! -> #REF! | F31: =#REF! -> #REF! | G31: =#REF! -> #REF! | H31: =#REF! -> #REF! | I31: =#REF! -> #REF! | J31: =#REF! -> #REF! | K31: =#REF! -> #REF! | ... M31: =#REF! -> #REF! | N31: =Novembre!AJ30 -> 0 | O31: =#REF! -> #REF! | P31: =SUM(D31:O31) -> #REF! | Q31: E
A32: F) Arrêt maladie financé par l'organisme bénéficiaire | D32: =#REF! -> #REF! | E32: =#REF! -> #REF! | F32: =#REF! -> #REF! | G32: =#REF! -> #REF! | H32: =#REF! -> #REF! | I32: =#REF! -> #REF! | J32: =#REF! -> #REF! | K32: =#REF! -> #REF! | ... M32: =#REF! -> #REF! | N32: =Novembre!AJ31 -> 0 | O32: =#REF! -> #REF! | P32: =SUM(D32:O32) -> #REF! | Q32: F
A33: G) TOTAL 2: nombre d'heures total non travaillées rémunérées par l'employeur | D33: =#REF! -> #REF! | E33: =#REF! -> #REF! | F33: =#REF! -> #REF! | G33: =#REF! -> #REF! | H33: =#REF! -> #REF! | I33: =#REF! -> #REF! | J33: =#REF! -> #REF! | K33: =#REF! -> #REF! | ... M33: =#REF! -> #REF! | N33: =Novembre!AJ32 -> 0 | O33: =#REF! -> #REF! | P33: =SUM(D33:O33) -> #REF! | Q33: G=E+F
A35: H) Temps d'absence non rémunéré par l'organisme bénéficiaire. Nature de l'absence (congés sans soldes, temps d’arrêts maladie non financés par l’organisme bénéficiaire, etc.) | D35: =#REF! -> #REF! | E35: =#REF! -> #REF! | F35: =#REF! -> #REF! | G35: =#REF! -> #REF! | H35: =#REF! -> #REF! | I35: =#REF! -> #REF! | J35: =#REF! -> #REF! | K35: =#REF! -> #REF! | ... M35: =#REF! -> #REF! | N35: =Novembre!AJ34 -> 0 | O35: =#REF! -> #REF! | P35: =SUM(D35:O35) -> #REF! | Q35: H
A37: Dont nombre d'heures supplémentaires effectuées | D37: =#REF! -> #REF! | E37: =#REF! -> #REF! | F37: =#REF! -> #REF! | G37: =#REF! -> #REF! | H37: =#REF! -> #REF! | I37: =#REF! -> #REF! | J37: =#REF! -> #REF! | K37: =#REF! -> #REF! | ... M37: =#REF! -> #REF! | N37: =Novembre!D38 -> 0 | O37: =#REF! -> #REF! | P37: =SUM(D37:O37) -> #REF!
O41: I) Pourcentage du temps passé sur le projet cofinancé au cours de l'année | P41: =P23/P29 -> #REF! | Q41: I=A/D
O43: J) Coût total de la rémunération selon feuilles de paye (salaire + charges) | P43: =(#REF!+#REF!+#REF!+#REF!+#REF!+#REF!+#REF!+#REF!+#REF!+#REF!+Novembre!AJ36+#REF!) -> #REF! | Q43: J
O45: K) Montant éligible au cofinancement FAMI IGFV | P45: =P43*P41 -> #REF! | Q45: K=JxI
A48: Lieu | I48: Lieu
A49: Date | I49: Date
A51: Signature du salarié | I51: Signature et qualité du responsable héirarchique, et cachet
A58: ¹ Il s'agit de toute l'activité passée par le salarié sur le projet cofinancé, à décliner ensuite selon les diverses tâches accomplies (listées dans des documents tels que lettre de mission ou contrat de travail)
A59: ² Il s'agit de l'activité passée par le salarié sur un autre projet européen (qu'il soit financé par le FAMI, le IGFV ou par un autre fonds européen) durant la période de réalisation du projet cofinancé faisant l'objet du suivi. Dans le cas où le salarié est affecté à plusieurs projets européens, il ne doit utiliser qu'une seule et même feuille de temps pour tous les projets, en ajoutant une ligne de suivi par projet.
A60: ³ Il s'agit du reste de l'activité du salarié qui ne peut être affectée au projet cofinancé, objet du suivi, ou à un autre projet cofinancé par un fonds européen.

Sheet Calendrier MEDIATEUR
A1: Date | B1: Jours sem | C1: Horaire médiateur
A2: 44562 | B2: =WEEKDAY(A2,2) -> 6 | C2: =IFERROR(IF(VLOOKUP(A2,$I$15:$I$49,1,FALSE)>0,0,VLOOKUP(B2,$H$4:$J$10,3,FALSE)),VLOOKUP(B2,$H$4:$J$10,3,FALSE)) -> 0 | H2: Horaire MEDIATEUR
A3: 44563 | B3: =WEEKDAY(A3,2) -> 7 | C3: =IFERROR(IF(VLOOKUP(A3,$I$15:$I$49,1,FALSE)>0,0,VLOOKUP(B3,$H$4:$J$10,3,FALSE)),VLOOKUP(B3,$H$4:$J$10,3,FALSE)) -> 0
A4: 44564 | B4: =WEEKDAY(A4,2) -> 1 | C4: =IFERROR(IF(VLOOKUP(A4,$I$15:$I$49,1,FALSE)>0,0,VLOOKUP(B4,$H$4:$J$10,3,FALSE)),VLOOKUP(B4,$H$4:$J$10,3,FALSE)) -> 9 | H4: 1 | I4: Lundi | J4: 9
A5: 44565 | B5: =WEEKDAY(A5,2) -> 2 | C5: =IFERROR(IF(VLOOKUP(A5,$I$15:$I$49,1,FALSE)>0,0,VLOOKUP(B5,$H$4:$J$10,3,FALSE)),VLOOKUP(B5,$H$4:$J$10,3,FALSE)) -> 7 | H5: 2 | I5: Mardi | J5: 7
A6: 44566 | B6: =WEEKDAY(A6,2) -> 3 | C6: =IFERROR(IF(VLOOKUP(A6,$I$15:$I$49,1,FALSE)>0,0,VLOOKUP(B6,$H$4:$J$10,3,FALSE)),VLOOKUP(B6,$H$4:$J$10,3,FALSE)) -> 3 | H6: 3 | I6: Mercredi | J6: 3
A7: 44567 | B7: =WEEKDAY(A7,2) -> 4 | C7: =IFERROR(IF(VLOOKUP(A7,$I$15:$I$49,1,FALSE)>0,0,VLOOKUP(B7,$H$4:$J$10,3,FALSE)),VLOOKUP(B7,$H$4:$J$10,3,FALSE)) -> 9 | H7: 4 | I7: Jeudi | J7: 9
A8: 44568 | B8: =WEEKDAY(A8,2) -> 5 | C8: =IFERROR(IF(VLOOKUP(A8,$I$15:$I$49,1,FALSE)>0,0,VLOOKUP(B8,$H$4:$J$10,3,FALSE)),VLOOKUP(B8,$H$4:$J$10,3,FALSE)) -> 7 | H8: 5 | I8: Vendredi | J8: 7
A9: 44569 | B9: =WEEKDAY(A9,2) -> 6 | C9: =IFERROR(IF(VLOOKUP(A9,$I$15:$I$49,1,FALSE)>0,0,VLOOKUP(B9,$H$4:$J$10,3,FALSE)),VLOOKUP(B9,$H$4:$J$10,3,FALSE)) -> 0 | H9: 6 | I9: Samedi | J9: 0
A10: 44570 | B10: =WEEKDAY(A10,2) -> 7 | C10: =IFERROR(IF(VLOOKUP(A10,$I$15:$I$49,1,FALSE)>0,0,VLOOKUP(B10,$H$4:$J$10,3,FALSE)),VLOOKUP(B10,$H$4:$J$10,3,FALSE)) -> 0 | H10: 7 | I10: Dimanche | J10: 0
A11: 44571 | B11: =WEEKDAY(A11,2) -> 1 | C11: =IFERROR(IF(VLOOKUP(A11,$I$15:$I$49,1,FALSE)>0,0,VLOOKUP(B11,$H$4:$J$10,3,FALSE)),VLOOKUP(B11,$H$4:$J$10,3,FALSE)) -> 9
A12: 44572 | B12: =WEEKDAY(A12,2) -> 2 | C12: =IFERROR(IF(VLOOKUP(A12,$I$15:$I$49,1,FALSE)>0,0,VLOOKUP(B12,$H$4:$J$10,3,FALSE)),VLOOKUP(B12,$H$4:$J$10,3,FALSE)) -> 7 | H12: Liste jours fériés
A13: 44573 | B13: =WEEKDAY(A13,2) -> 3 | C13: =IFERROR(IF(VLOOKUP(A13,$I$15:$I$49,1,FALSE)>0,0,VLOOKUP(B13,$H$4:$J$10,3,FALSE)),VLOOKUP(B13,$H$4:$J$10,3,FALSE)) -> 3
A14: 44574 | B14: =WEEKDAY(A14,2) -> 4 | C14: =IFERROR(IF(VLOOKUP(A14,$I$15:$I$49,1,FALSE)>0,0,VLOOKUP(B14,$H$4:$J$10,3,FALSE)),VLOOKUP(B14,$H$4:$J$10,3,FALSE)) -> 9 | H14: 2022
A15: 44575 | B15: =WEEKDAY(A15,2) -> 5 | C15: =IFERROR(IF(VLOOKUP(A15,$I$15:$I$49,1,FALSE)>0,0,VLOOKUP(B15,$H$4:$J$10,3,FALSE)),VLOOKUP(B15,$H$4:$J$10,3,FALSE)) -> 7 | I15: 44562 | J15: Jour de l'an
A16: 44576 | B16: =WEEKDAY(A16,2) -> 6 | C16: =IFERROR(IF(VLOOKUP(A16,$I$15:$I$49,1,FALSE)>0,0,VLOOKUP(B16,$H$4:$J$10,3,FALSE)),VLOOKUP(B16,$H$4:$J$10,3,FALSE)) -> 0 | I16: 44669 | J16: Pâques
A17: 44577 | B17: =WEEKDAY(A17,2) -> 7 | C17: =IFERROR(IF(VLOOKUP(A17,$I$15:$I$49,1,FALSE)>0,0,VLOOKUP(B17,$H$4:$J$10,3,FALSE)),VLOOKUP(B17,$H$4:$J$10,3,FALSE)) -> 0 | I17: 44682 | J17: Fête du travail
A18: 44578 | B18: =WEEKDAY(A18,2) -> 1 | C18: =IFERROR(IF(VLOOKUP(A18,$I$15:$I$49,1,FALSE)>0,0,VLOOKUP(B18,$H$4:$J$10,3,FALSE)),VLOOKUP(B18,$H$4:$J$10,3,FALSE)) -> 9 | I18: 44689
A19: 44579 | B19: =WEEKDAY(A19,2) -> 2 | C19: =IFERROR(IF(VLOOKUP(A19,$I$15:$I$49,1,FALSE)>0,0,VLOOKUP(B19,$H$4:$J$10,3,FALSE)),VLOOKUP(B19,$H$4:$J$10,3,FALSE)) -> 7 | I19: 44707
A20: 44580 | B20: =WEEKDAY(A20,2) -> 3 | C20: =IFERROR(IF(VLOOKUP(A20,$I$15:$I$49,1,FALSE)>0,0,VLOOKUP(B20,$H$4:$J$10,3,FALSE)),VLOOKUP(B20,$H$4:$J$10,3,FALSE)) -> 3 | I20: 44718 | J20: 08/05/2022 - Eclure car un CP est posé sur ce jour
A21: 44581 | B21: =WEEKDAY(A21,2) -> 4 | C21: =IFERROR(IF(VLOOKUP(A21,$I$15:$I$49,1,FALSE)>0,0,VLOOKUP(B21,$H$4:$J$10,3,FALSE)),VLOOKUP(B21,$H$4:$J$10,3,FALSE)) -> 9 | I21: 44756
A22: 44582 | B22: =WEEKDAY(A22,2) -> 5 | C22: =IFERROR(IF(VLOOKUP(A22,$I$15:$I$49,1,FALSE)>0,0,VLOOKUP(B22,$H$4:$J$10,3,FALSE)),VLOOKUP(B22,$H$4:$J$10,3,FALSE)) -> 7 | I22: 44788
A23: 44583 | B23: =WEEKDAY(A23,2) -> 6 | C23: =IFERROR(IF(VLOOKUP(A23,$I$15:$I$49,1,FALSE)>0,0,VLOOKUP(B23,$H$4:$J$10,3,FALSE)),VLOOKUP(B23,$H$4:$J$10,3,FALSE)) -> 0 | I23: 44866
A24: 44584 | B24: =WEEKDAY(A24,2) -> 7 | C24: =IFERROR(IF(VLOOKUP(A24,$I$15:$I$49,1,FALSE)>0,0,VLOOKUP(B24,$H$4:$J$10,3,FALSE)),VLOOKUP(B24,$H$4:$J$10,3,FALSE)) -> 0 | I24: 44876
A25: 44585 | B25: =WEEKDAY(A25,2) -> 1 | C25: =IFERROR(IF(VLOOKUP(A25,$I$15:$I$49,1,FALSE)>0,0,VLOOKUP(B25,$H$4:$J$10,3,FALSE)),VLOOKUP(B25,$H$4:$J$10,3,FALSE)) -> 9 | I25: 44920
A26: 44586 | B26: =WEEKDAY(A26,2) -> 2 | C26: =IFERROR(IF(VLOOKUP(A26,$I$15:$I$49,1,FALSE)>0,0,VLOOKUP(B26,$H$4:$J$10,3,FALSE)),VLOOKUP(B26,$H$4:$J$10,3,FALSE)) -> 7 | H26: 2023
A27: 44587 | B27: =WEEKDAY(A27,2) -> 3 | C27: =IFERROR(IF(VLOOKUP(A27,$I$15:$I$49,1,FALSE)>0,0,VLOOKUP(B27,$H$4:$J$10,3,FALSE)),VLOOKUP(B27,$H$4:$J$10,3,FALSE)) -> 3 | I27: 44927 | J27: Jour de l'an
A28: 44588 | B28: =WEEKDAY(A28,2) -> 4 | C28: =IFERROR(IF(VLOOKUP(A28,$I$15:$I$49,1,FALSE)>0,0,VLOOKUP(B28,$H$4:$J$10,3,FALSE)),VLOOKUP(B28,$H$4:$J$10,3,FALSE)) -> 9 | I28: 45026 | J28: Pâques
A29: 44589 | B29: =WEEKDAY(A29,2) -> 5 | C29: =IFERROR(IF(VLOOKUP(A29,$I$15:$I$49,1,FALSE)>0,0,VLOOKUP(B29,$H$4:$J$10,3,FALSE)),VLOOKUP(B29,$H$4:$J$10,3,FALSE)) -> 7 | I29: 45047 | J29: Fête du travail
A30: 44590 | B30: =WEEKDAY(A30,2) -> 6 | C30: =IFERROR(IF(VLOOKUP(A30,$I$15:$I$49,1,FALSE)>0,0,VLOOKUP(B30,$H$4:$J$10,3,FALSE)),VLOOKUP(B30,$H$4:$J$10,3,FALSE)) -> 0 | I30: 45054
A31: 44591 | B31: =WEEKDAY(A31,2) -> 7 | C31: =IFERROR(IF(VLOOKUP(A31,$I$15:$I$49,1,FALSE)>0,0,VLOOKUP(B31,$H$4:$J$10,3,FALSE)),VLOOKUP(B31,$H$4:$J$10,3,FALSE)) -> 0 | I31: 45064
A32: 44592 | B32: =WEEKDAY(A32,2) -> 1 | C32: =IFERROR(IF(VLOOKUP(A32,$I$15:$I$49,1,FALSE)>0,0,VLOOKUP(B32,$H$4:$J$10,3,FALSE)),VLOOKUP(B32,$H$4:$J$10,3,FALSE)) -> 9 | I32: 45075 | J32: 08/05/2022 - Eclure car un CP est posé sur ce jour
A33: 44593 | B33: =WEEKDAY(A33,2) -> 2 | C33: =IFERROR(IF(VLOOKUP(A33,$I$15:$I$49,1,FALSE)>0,0,VLOOKUP(B33,$H$4:$J$10,3,FALSE)),VLOOKUP(B33,$H$4:$J$10,3,FALSE)) -> 7 | I33: 45121
A34: 44594 | B34: =WEEKDAY(A34,2) -> 3 | C34: =IFERROR(IF(VLOOKUP(A34,$I$15:$I$49,1,FALSE)>0,0,VLOOKUP(B34,$H$4:$J$10,3,FALSE)),VLOOKUP(B34,$H$4:$J$10,3,FALSE)) -> 3 | I34: 45122
A35: 44595 | B35: =WEEKDAY(A35,2) -> 4 | C35: =IFERROR(IF(VLOOKUP(A35,$I$15:$I$49,1,FALSE)>0,0,VLOOKUP(B35,$H$4:$J$10,3,FALSE)),VLOOKUP(B35,$H$4:$J$10,3,FALSE)) -> 9 | I35: 45231
A36: 44596 | B36: =WEEKDAY(A36,2) -> 5 | C36: =IFERROR(IF(VLOOKUP(A36,$I$15:$I$49,1,FALSE)>0,0,VLOOKUP(B36,$H$4:$J$10,3,FALSE)),VLOOKUP(B36,$H$4:$J$10,3,FALSE)) -> 7 | I36: 45241
A37: 44597 | B37: =WEEKDAY(A37,2) -> 6 | C37: =IFERROR(IF(VLOOKUP(A37,$I$15:$I$49,1,FALSE)>0,0,VLOOKUP(B37,$H$4:$J$10,3,FALSE)),VLOOKUP(B37,$H$4:$J$10,3,FALSE)) -> 0 | I37: 45285
A38: 44598 | B38: =WEEKDAY(A38,2) -> 7 | C38: =IFERROR(IF(VLOOKUP(A38,$I$15:$I$49,1,FALSE)>0,0,VLOOKUP(B38,$H$4:$J$10,3,FALSE)),VLOOKUP(B38,$H$4:$J$10,3,FALSE)) -> 0 | H38: 2024
A39: 44599 | B39: =WEEKDAY(A39,2) -> 1 | C39: =IFERROR(IF(VLOOKUP(A39,$I$15:$I$49,1,FALSE)>0,0,VLOOKUP(B39,$H$4:$J$10,3,FALSE)),VLOOKUP(B39,$H$4:$J$10,3,FALSE)) -> 9 | I39: 45292 | J39: Jour de l'an
A40: 44600 | B40: =WEEKDAY(A40,2) -> 2 | C40: =IFERROR(IF(VLOOKUP(A40,$I$15:$I$49,1,FALSE)>0,0,VLOOKUP(B40,$H$4:$J$10,3,FALSE)),VLOOKUP(B40,$H$4:$J$10,3,FALSE)) -> 7 | I40: 45383 | J40: Pâques
A41: 44601 | B41: =WEEKDAY(A41,2) -> 3 | C41: =IFERROR(IF(VLOOKUP(A41,$I$15:$I$49,1,FALSE)>0,0,VLOOKUP(B41,$H$4:$J$10,3,FALSE)),VLOOKUP(B41,$H$4:$J$10,3,FALSE)) -> 3 | I41: 45413 | J41: Fête du travail
A42: 44602 | B42: =WEEKDAY(A42,2) -> 4 | C42: =IFERROR(IF(VLOOKUP(A42,$I$15:$I$49,1,FALSE)>0,0,VLOOKUP(B42,$H$4:$J$10,3,FALSE)),VLOOKUP(B42,$H$4:$J$10,3,FALSE)) -> 9 | I42: 45420
A43: 44603 | B43: =WEEKDAY(A43,2) -> 5 | C43: =IFERROR(IF(VLOOKUP(A43,$I$15:$I$49,1,FALSE)>0,0,VLOOKUP(B43,$H$4:$J$10,3,FALSE)),VLOOKUP(B43,$H$4:$J$10,3,FALSE)) -> 7 | I43: 45421
A44: 44604 | B44: =WEEKDAY(A44,2) -> 6 | C44: =IFERROR(IF(VLOOKUP(A44,$I$15:$I$49,1,FALSE)>0,0,VLOOKUP(B44,$H$4:$J$10,3,FALSE)),VLOOKUP(B44,$H$4:$J$10,3,FALSE)) -> 0 | I44: 45432 | J44: 08/05/2022 - Eclure car un CP est posé sur ce jour
A45: 44605 | B45: =WEEKDAY(A45,2) -> 7 | C45: =IFERROR(IF(VLOOKUP(A45,$I$15:$I$49,1,FALSE)>0,0,VLOOKUP(B45,$H$4:$J$10,3,FALSE)),VLOOKUP(B45,$H$4:$J$10,3,FALSE)) -> 0 | I45: 45487
A46: 44606 | B46: =WEEKDAY(A46,2) -> 1 | C46: =IFERROR(IF(VLOOKUP(A46,$I$15:$I$49,1,FALSE)>0,0,VLOOKUP(B46,$H$4:$J$10,3,FALSE)),VLOOKUP(B46,$H$4:$J$10,3,FALSE)) -> 9 | I46: 45488
A47: 44607 | B47: =WEEKDAY(A47,2) -> 2 | C47: =IFERROR(IF(VLOOKUP(A47,$I$15:$I$49,1,FALSE)>0,0,VLOOKUP(B47,$H$4:$J$10,3,FALSE)),VLOOKUP(B47,$H$4:$J$10,3,FALSE)) -> 7 | I47: 45597
A48: 44608 | B48: =WEEKDAY(A48,2) -> 3 | C48: =IFERROR(IF(VLOOKUP(A48,$I$15:$I$49,1,FALSE)>0,0,VLOOKUP(B48,$H$4:$J$10,3,FALSE)),VLOOKUP(B48,$H$4:$J$10,3,FALSE)) -> 3 | I48: 45607
A49: 44609 | B49: =WEEKDAY(A49,2) -> 4 | C49: =IFERROR(IF(VLOOKUP(A49,$I$15:$I$49,1,FALSE)>0,0,VLOOKUP(B49,$H$4:$J$10,3,FALSE)),VLOOKUP(B49,$H$4:$J$10,3,FALSE)) -> 9 | I49: 45651
A50: 44610 | B50: =WEEKDAY(A50,2) -> 5 | C50: =IFERROR(IF(VLOOKUP(A50,$I$15:$I$49,1,FALSE)>0,0,VLOOKUP(B50,$H$4:$J$10,3,FALSE)),VLOOKUP(B50,$H$4:$J$10,3,FALSE)) -> 7
A51: 44611 | B51: =WEEKDAY(A51,2) -> 6 | C51: =IFERROR(IF(VLOOKUP(A51,$I$15:$I$49,1,FALSE)>0,0,VLOOKUP(B51,$H$4:$J$10,3,FALSE)),VLOOKUP(B51,$H$4:$J$10,3,FALSE)) -> 0
A52: 44612 | B52: =WEEKDAY(A52,2) -> 7 | C52: =IFERROR(IF(VLOOKUP(A52,$I$15:$I$49,1,FALSE)>0,0,VLOOKUP(B52,$H$4:$J$10,3,FALSE)),VLOOKUP(B52,$H$4:$J$10,3,FALSE)) -> 0
A53: 44613 | B53: =WEEKDAY(A53,2) -> 1 | C53: =IFERROR(IF(VLOOKUP(A53,$I$15:$I$49,1,FALSE)>0,0,VLOOKUP(B53,$H$4:$J$10,3,FALSE)),VLOOKUP(B53,$H$4:$J$10,3,FALSE)) -> 9
A54: 44614 | B54: =WEEKDAY(A54,2) -> 2 | C54: =IFERROR(IF(VLOOKUP(A54,$I$15:$I$49,1,FALSE)>0,0,VLOOKUP(B54,$H$4:$J$10,3,FALSE)),VLOOKUP(B54,$H$4:$J$10,3,FALSE)) -> 7
A55: 44615 | B55: =WEEKDAY(A55,2) -> 3 | C55: =IFERROR(IF(VLOOKUP(A55,$I$15:$I$49,1,FALSE)>0,0,VLOOKUP(B55,$H$4:$J$10,3,FALSE)),VLOOKUP(B55,$H$4:$J$10,3,FALSE)) -> 3
A56: 44616 | B56: =WEEKDAY(A56,2) -> 4 | C56: =IFERROR(IF(VLOOKUP(A56,$I$15:$I$49,1,FALSE)>0,0,VLOOKUP(B56,$H$4:$J$10,3,FALSE)),VLOOKUP(B56,$H$4:$J$10,3,FALSE)) -> 9
A57: 44617 | B57: =WEEKDAY(A57,2) -> 5 | C57: =IFERROR(IF(VLOOKUP(A57,$I$15:$I$49,1,FALSE)>0,0,VLOOKUP(B57,$H$4:$J$10,3,FALSE)),VLOOKUP(B57,$H$4:$J$10,3,FALSE)) -> 7
A58: 44618 | B58: =WEEKDAY(A58,2) -> 6 | C58: =IFERROR(IF(VLOOKUP(A58,$I$15:$I$49,1,FALSE)>0,0,VLOOKUP(B58,$H$4:$J$10,3,FALSE)),VLOOKUP(B58,$H$4:$J$10,3,FALSE)) -> 0
A59: 44619 | B59: =WEEKDAY(A59,2) -> 7 | C59: =IFERROR(IF(VLOOKUP(A59,$I$15:$I$49,1,FALSE)>0,0,VLOOKUP(B59,$H$4:$J$10,3,FALSE)),VLOOKUP(B59,$H$4:$J$10,3,FALSE)) -> 0
A60: 44620 | B60: =WEEKDAY(A60,2) -> 1 | C60: =IFERROR(IF(VLOOKUP(A60,$I$15:$I$49,1,FALSE)>0,0,VLOOKUP(B60,$H$4:$J$10,3,FALSE)),VLOOKUP(B60,$H$4:$J$10,3,FALSE)) -> 9
A61: 44621 | B61: =WEEKDAY(A61,2) -> 2 | C61: =IFERROR(IF(VLOOKUP(A61,$I$15:$I$49,1,FALSE)>0,0,VLOOKUP(B61,$H$4:$J$10,3,FALSE)),VLOOKUP(B61,$H$4:$J$10,3,FALSE)) -> 7
... A381: 44941 | B381: =WEEKDAY(A381,2) -> 7 | C381: =IFERROR(IF(VLOOKUP(A381,$I$15:$I$49,1,FALSE)>0,0,VLOOKUP(B381,$H$4:$J$10,3,FALSE)),VLOOKUP(B381,$H$4:$J$10,3,FALSE)) -> 0

Sheet Liste salarié
B4: Date | C4: Code ESO | D4: Etab | E4: Médiateur | F4: Matricule | G4: Nbre de résidants vus | H4: Type de permanence | I4: Nbre d'heures PM | J4: Médiateur (Renvoie vers formule
B5: 44896 | C5: 162 | D5: A | E5: Mr X | F5: 3742 | G5: 2 | H5: Permanence | I5: =IF(H5="Permanence",4.5,0) -> 4.5 | J5: =E5 -> Mr X
B6: 44897 | C6: 162 | D6: A | E6: Mr X | F6: 3742 | G6: 3 | H6: Rendez vous individuel | I6: =IF(H6="Permanence",4.5,0) -> 0 | J6: =E6 -> Mr X
B7: 44903 | C7: 162 | D7: A | E7: Mr X | F7: 3742 | G7: 4 | H7: Permanence | I7: =IF(H7="Permanence",4.5,0) -> 4.5 | J7: =E7 -> Mr X
B8: 44910 | C8: 162 | D8: A | E8: Mr X | F8: 3742 | G8: 0 | H8: Permanence | I8: =IF(H8="Permanence",4.5,0) -> 4.5 | J8: =E8 -> Mr X
B9: 44917 | C9: 162 | D9: A | E9: Mr X | F9: 3742 | G9: 0 | H9: Permanence | I9: =IF(H9="Permanence",4.5,0) -> 4.5 | J9: =E9 -> Mr X
B10: 44924 | C10: 162 | D10: A | E10: Mr X | F10: 3742 | G10: 0 | H10: Permanence | I10: =IF(H10="Permanence",4.5,0) -> 4.5 | J10: =E10 -> Mr X
B11: 44925 | C11: 162 | D11: A | E11: Mr X | F11: 3742 | G11: 1 | H11: Rendez vous individuel | I11: =IF(H11="Permanence",4.5,0) -> 0 | J11: =E11 -> Mr X
B12: 44889 | C12: 162 | D12: A | E12: Mr X | F12: 3742 | G12: 4 | H12: Permanence | I12: =IF(H12="Permanence",4.5,0) -> 4.5 | J12: =E12 -> Mr X
B13: 44883 | C13: 162 | D13: A | E13: Mr X | F13: 3742 | G13: 1 | H13: Rendez vous individuel | I13: =IF(H13="Permanence",4.5,0) -> 0 | J13: =E13 -> Mr X
B14: 44875 | C14: 162 | D14: A | E14: Mr X | F14: 3742 | G14: 2 | H14: Permanence | I14: =IF(H14="Permanence",4.5,0) -> 4.5 | J14: =E14 -> Mr X
B15: 44873 | C15: 162 | D15: A | E15: Mr X | F15: 3742 | G15: 2 | H15: Permanence | I15: =IF(H15="Permanence",4.5,0) -> 4.5 | J15: =E15 -> Mr X
B16: 44872 | C16: 166 | D16: B | E16: Mr X | F16: 3742 | G16: 1 | H16: Rendez vous individuel | I16: =IF(H16="Permanence",4.5,0) -> 0 | J16: =E16 -> Mr X
... B21: 44872 | C21: 123 | D21: C | E21: Mr Y | F21: 3645 | G21: 2 | H21: Permanence | I21: =IF(H21="Permanence",4.5,0) -> 4.5 | J21: =E21 -> Mr Y
B22: 44879 | C22: 123 | D22: C | E22: =E21 -> Mr Y | F22: =F21 -> 3645 | G22: 1 | H22: Rendez vous individuel | I22: =IF(H22="Permanence",4.5,0) -> 0 | J22: =E22 -> Mr Y
B23: 44889 | C23: 123 | D23: C | E23: =E22 -> Mr Y | F23: =F22 -> 3645 | G23: 4 | H23: Permanence | I23: =IF(H23="Permanence",4.5,0) -> 4.5 | J23: =E23 -> Mr Y
B24: 44889 | C24: 123 | D24: C | E24: =E23 -> Mr Y | F24: =F23 -> 3645 | G24: 1 | H24: Rendez vous individuel | I24: =IF(H24="Permanence",4.5,0) -> 0 | J24: =E24 -> Mr Y
B25: 44868 | C25: 144 | D25: D | E25: Mr Z | F25: 3843 | G25: 5 | H25: Permanence | I25: =IF(H25="Permanence",4.5,0) -> 4.5 | J25: =E25 -> Mr Z
B26: 44874 | C26: 144 | D26: =D25 -> D | E26: =E25 -> Mr Z | F26: 3843 | G26: 1 | H26: Rendez vous individuel | I26: =IF(H26="Permanence",4.5,0) -> 0 | J26: =E26 -> Mr Z
B27: 44875 | C27: 144 | D27: =D26 -> D | E27: =E26 -> Mr Z | F27: 3843 | G27: 6 | H27: Permanence | I27: =IF(H27="Permanence",4.5,0) -> 4.5 | J27: =E27 -> Mr Z
B28: 44882 | C28: 144 | D28: =D27 -> D | E28: =E27 -> Mr Z | F28: 3843 | G28: 7 | H28: Permanence | I28: =IF(H28="Permanence",4.5,0) -> 4.5 | J28: =E28 -> Mr Z
B29: 44883 | C29: 144 | D29: =D28 -> D | E29: =E28 -> Mr Z | F29: 3843 | G29: 1 | H29: Rendez vous individuel | I29: =IF(H29="Permanence",4.5,0) -> 0 | J29: =E29 -> Mr Z
B30: 44887 | C30: 144 | D30: =D29 -> D | E30: =E29 -> Mr Z | F30: 3843 | G30: 1 | H30: Rendez vous individuel | I30: =IF(H30="Permanence",4.5,0) -> 0 | J30: =E30 -> Mr Z
B31: 44889 | C31: 144 | D31: =D30 -> D | E31: =E30 -> Mr Z | F31: 3843 | G31: 10 | H31: Permanence | I31: =IF(H31="Permanence",4.5,0) -> 4.5 | J31: =E31 -> Mr Z
B32: 44890 | C32: 144 | D32: =D31 -> D | E32: =E31 -> Mr Z | F32: 3843 | G32: 4 | H32: Rendez vous individuel | I32: =IF(H32="Permanence",4.5,0) -> 0 | J32: =E32 -> Mr Z
B33: 44895 | C33: 144 | D33: =D32 -> D | E33: =E32 -> Mr Z | F33: 3843 | G33: 1 | H33: Rendez vous individuel | I33: =IF(H33="Permanence",4.5,0) -> 0 | J33: =E33 -> Mr Z
