Workbook

Sheet Compte 1
A1: Banque 1 - Compte Courant
A3: Solde: | B3: 40392 | D3: 300 | E3: EUR
A5: Date d'opération | B5: Date valeur | C5: Opération | D5: Débit (€) | E5: Crédit (€) | F5: Solde (€)
A6: 40392 | B6: 40392 | C6: VIR Gestion | E6: 250 | F6: =D3 -> 300
A7: 40392 | B7: 40392 | C7: RETRAIT | D7: -20 | F7: =F6-IF(ISNUMBER(D6),D6,0)-IF(ISNUMBER(E6),E6,0) -> 50
A8: 29/07/2010 | B8: 40388 | C8: ACHAT | D8: -6.7 | F8: =F7-IF(ISNUMBER(D7),D7,0)-IF(ISNUMBER(E7),E7,0) -> 70
A9: 29/07/2010 | B9: 40388 | C9: RETRAIT | D9: -20 | F9: =F8-IF(ISNUMBER(D8),D8,0)-IF(ISNUMBER(E8),E8,0) -> 76.7
A10: 28/07/2010 | B10: 40387 | C10: CHQ. | D10: -5.7 | F10: =F9-IF(ISNUMBER(D9),D9,0)-IF(ISNUMBER(E9),E9,0) -> 96.7

Sheet Compte 2
A1: Banque 1 - Compte sur Livret
A3: Solde: | B3: 40392 | D3: 200 | E3: EUR
A5: Date d'opération | B5: Date valeur | C5: Opération | D5: Débit (€) | E5: Crédit (€) | F5: Solde (€)
A6: 02/08/2010 | B6: 40392 | C6: VIR Gestion | D6: -250 | F6: =D3 -> 200
A7: 30/07/2010 | B7: 40389 | C7: VIR Loyer Poumailloux | D7: -380 | F7: =F6-IF(ISNUMBER(D6),D6,0)-IF(ISNUMBER(E6),E6,0) -> 450
A8: 20/07/2010 | B8: 40379 | C8: VIR Julien UTC | D8: -52.57 | F8: =F7-IF(ISNUMBER(D7),D7,0)-IF(ISNUMBER(E7),E7,0) -> 830
A9: 19/07/2010 | B9: 40378 | C9: VIR Gestion | E9: 200 | F9: =F8-IF(ISNUMBER(D8),D8,0)-IF(ISNUMBER(E8),E8,0) -> 882.57
A10: 16/07/2010 | B10: 40375 | C10: VIR Gestion | D10: -70 | F10: =F9-IF(ISNUMBER(D9),D9,0)-IF(ISNUMBER(E9),E9,0) -> 682.57
A11: 40358 | B11: 40358 | C11: VIR Loyer Poumailloux | D11: -380 | F11: =F10-IF(ISNUMBER(D10),D10,0)-IF(ISNUMBER(E10),E10,0) -> 752.57
A12: 17/06/2010 | B12: 40346 | C12: VIR Gestion | D12: -157.81 | F12: =F11-IF(ISNUMBER(D11),D11,0)-IF(ISNUMBER(E11),E11,0) -> 1132.57

Sheet Compte 3
A1: Banque 2 - Compte Courant
A3: Solde: | B3: 40392 | D3: 100 | E3: EUR
A5: Date | B5: Libellé | C5: Débit (€) | D5: Crédit (€) | E5: Solde (€)
A6: 15/07/2010 | B6: Paiement Carte | C6: -57.1 | E6: =D3 -> 100
A7: 15/07/2010 | B7: Paiement Carte | C7: -6.5 | E7: =E6-IF(ISNUMBER(C6),C6,0)-IF(ISNUMBER(D6),D6,0) -> 157.1
A8: 15/07/2010 | B8: Paiement Carte | C8: -12 | E8: =E7-IF(ISNUMBER(C7),C7,0)-IF(ISNUMBER(D7),D7,0) -> 163.6
A9: 15/07/2010 | B9: Virement | C9: -200 | E9: =E8-IF(ISNUMBER(C8),C8,0)-IF(ISNUMBER(D8),D8,0) -> 175.6
A10: 13/07/2010 | B10: Vrt | D10: 152 | E10: =E9-IF(ISNUMBER(C9),C9,0)-IF(ISNUMBER(D9),D9,0) -> 375.6
A11: 12/07/2010 | B11: Paiement Carte | C11: -10.1 | E11: =E10-IF(ISNUMBER(C10),C10,0)-IF(ISNUMBER(D10),D10,0) -> 223.6

Sheet Total
A4: ='Compte 1'!A1:F1 -> Banque 1 - Compte Courant | E4: ='Compte 1'!D3 -> 300
A5: ='Compte 2'!$A$1:$F$1 -> Banque 1 - Compte sur Livret | E5: ='Compte 2'!$D$3 -> 200
A6: ='Compte 3'!A1:F1 -> Banque 2 - Compte Courant | E6: ='Compte 3'!D3 -> 100
A8: Somme: | E8: =SUM(E4:E6) -> 600
