Workbook

Sheet Liste 
B1: Départ | C1: nombre de paiement | D1: montant total
A2: Dépense 1 | B2: Mars 2023 | C2: 5 | D2: 2000
A3: Dépense 2 | B3: Août 2023 | C3: 12 | D3: 12000
A4: Dépense 3 | B4: Avril 2024 | C4: 3 | D4: 600

Sheet Tableau 
B1: 1 | C1: 2 | D1: 3 | E1: 4 | F1: 5 | G1: 6 | H1: 7 | I1: 8 | J1: 9 | K1: 10 | L1: 11 | M1: 12 | N1: 13 | O1: 14 | P1: 15 | Q1: 16 | R1: 17 | S1: 18 | T1: 19 | U1: 20 | V1: 21 | W1: 22 | X1: 23 | Y1: 24
B2: 2023 | C2: 2023 | D2: 2023 | E2: 2023 | F2: 2023 | G2: 2023 | H2: 2023 | I2: 2023 | J2: 2023 | K2: 2023 | L2: 2023 | M2: 2023 | N2: 2024 | O2: 2024 | P2: 2024 | Q2: 2024 | R2: 2024 | S2: 2024 | T2: 2024 | U2: 2024 | V2: 2024 | W2: 2024 | X2: 2024 | Y2: 2024
B3: Janvier | C3: Février | D3: Mars | E3: Avril | F3: Mai | G3: Juin | H3: Juillet | I3: Août | J3: Septembre | K3: Octobre | L3: Novembre | M3: Décembre | N3: Janvier | O3: Février | P3: Mars | Q3: Avril | R3: Mai | S3: Juin | T3: Juillet | U3: Août | V3: Septembre | W3: Octobre | X3: Novembre | Y3: Décembre
A4: =IF(ISBLANK('Liste '!A2),"",'Liste '!A2) -> Dépense 1 | D4: =2000/5 -> 400 | E4: =2000/5 -> 400 | F4: =2000/5 -> 400 | G4: =2000/5 -> 400 | H4: =2000/5 -> 400
A5: =IF(ISBLANK('Liste '!A3),"",'Liste '!A3) -> Dépense 2 | I5: =12000/12 -> 1000 | J5: =12000/12 -> 1000 | K5: =12000/12 -> 1000 | L5: =12000/12 -> 1000 | M5: =12000/12 -> 1000 | N5: =12000/12 -> 1000 | O5: =12000/12 -> 1000 | P5: =12000/12 -> 1000 | ... U5: =12000/12 -> 1000
A6: =IF(ISBLANK('Liste '!A4),"",'Liste '!A4) -> Dépense 3 | Q6: =600/3 -> 200 | R6: =600/3 -> 200 | S6: =600/3 -> 200
A7: =IF(ISBLANK('Liste '!A5),"",'Liste '!A5)
A8: =IF(ISBLANK('Liste '!A6),"",'Liste '!A6)
A9: =IF(ISBLANK('Liste '!A7),"",'Liste '!A7)
A10: =IF(ISBLANK('Liste '!A8),"",'Liste '!A8)
A11: =IF(ISBLANK('Liste '!A9),"",'Liste '!A9)
A12: =IF(ISBLANK('Liste '!A10),"",'Liste '!A10)

Sheet Dates
A1: {=TRANSPOSE('Tableau '!B2:Y3)} -> 2023 | B1: Janvier | C1: =CONCATENATE(B1," ",A1) -> Janvier 2023 | D1: 1 | E1: =CONCATENATE("01/01/",A1) -> 01/01/2023
A2: 2023 | B2: Février | C2: =CONCATENATE(B2," ",A2) -> Février 2023 | D2: =D1+1 -> 2 | E2: =EDATE(E1,1) -> 44958
A3: 2023 | B3: Mars | C3: =CONCATENATE(B3," ",A3) -> Mars 2023 | D3: =D2+1 -> 3 | E3: =EDATE(E2,1) -> 44986
A4: 2023 | B4: Avril | C4: =CONCATENATE(B4," ",A4) -> Avril 2023 | D4: =D3+1 -> 4 | E4: =EDATE(E3,1) -> 45017
A5: 2023 | B5: Mai | C5: =CONCATENATE(B5," ",A5) -> Mai 2023 | D5: =D4+1 -> 5 | E5: =EDATE(E4,1) -> 45047
A6: 2023 | B6: Juin | C6: =CONCATENATE(B6," ",A6) -> Juin 2023 | D6: =D5+1 -> 6 | E6: =EDATE(E5,1) -> 45078
A7: 2023 | B7: Juillet | C7: =CONCATENATE(B7," ",A7) -> Juillet 2023 | D7: =D6+1 -> 7 | E7: =EDATE(E6,1) -> 45108
A8: 2023 | B8: Août | C8: =CONCATENATE(B8," ",A8) -> Août 2023 | D8: =D7+1 -> 8 | E8: =EDATE(E7,1) -> 45139
A9: 2023 | B9: Septembre | C9: =CONCATENATE(B9," ",A9) -> Septembre 2023 | D9: =D8+1 -> 9 | E9: =EDATE(E8,1) -> 45170
A10: 2023 | B10: Octobre | C10: =CONCATENATE(B10," ",A10) -> Octobre 2023 | D10: =D9+1 -> 10 | E10: =EDATE(E9,1) -> 45200
A11: 2023 | B11: Novembre | C11: =CONCATENATE(B11," ",A11) -> Novembre 2023 | D11: =D10+1 -> 11 | E11: =EDATE(E10,1) -> 45231
A12: 2023 | B12: Décembre | C12: =CONCATENATE(B12," ",A12) -> Décembre 2023 | D12: =D11+1 -> 12 | E12: =EDATE(E11,1) -> 45261
A13: 2024 | B13: Janvier | C13: =CONCATENATE(B13," ",A13) -> Janvier 2024 | D13: =D12+1 -> 13 | E13: =EDATE(E12,1) -> 45292
... A24: 2024 | B24: Décembre | C24: =CONCATENATE(B24," ",A24) -> Décembre 2024 | D24: =D23+1 -> 24 | E24: =EDATE(E23,1) -> 45627
