Workbook

Sheet Listing

Sheet Trimestre 1
A2: Classe 1
A3: Nom elève | B3: matière 1 | C3: matière 2 | D3: matière 3 | E3: matière 4 | F3: matière 5 | G3: Absence | H3: Moyenne | J3: Moyenne annuelle
A4: Elève 1-1 | B4: 5 | C4: 12 | D4: 14 | E4: 13 | F4: 7 | G4: =COUNTIF(B4:F4,"abs") -> 0 | H4: =AVERAGE(B4:F4) -> 10.2 | J4: =H4 -> 10.2
A5: Elève 1-2 | B5: 18 | C5: 9 | D5: abs | E5: 2 | F5: 10 | G5: =COUNTIF(B5:F5,"abs") -> 1 | H5: =AVERAGE(B5:F5) -> 9.75 | J5: =H5 -> 9.75
A6: Elève 1-3 | B6: 13 | C6: 15 | G6: =COUNTIF(B6:F6,"abs") -> 0 | H6: =AVERAGE(B6:F6) -> 14 | J6: =H6 -> 14
A7: Elève 1-4 | B7: 14 | C7: 16 | E7: abs | F7: abs | G7: =COUNTIF(B7:F7,"abs") -> 2 | H7: =AVERAGE(B7:F7) -> 15 | J7: =H7 -> 15
A8: Elève 1-5 | B8: 7 | C8: 5 | G8: =COUNTIF(B8:F8,"abs") -> 0 | H8: =AVERAGE(B8:F8) -> 6 | J8: =H8 -> 6
A13: Classe 2
A14: Nom elève | B14: matière 1 | C14: matière 2 | D14: matière 3 | E14: matière 4 | F14: matière 5 | G14: Absence | H14: Moyenne | J14: Moyenne annuelle
A15: Elève 2-1 | B15: 5 | C15: 12 | D15: 14 | E15: 13 | F15: 7 | G15: =COUNTIF(B15:F15,"abs") -> 0 | H15: =AVERAGE(B15:F15) -> 10.2 | J15: =H15 -> 10.2
A16: Elève 2-2 | B16: 18 | C16: 9 | D16: abs | E16: 2 | F16: 10 | G16: =COUNTIF(B16:F16,"abs") -> 1 | H16: =AVERAGE(B16:F16) -> 9.75 | J16: =H16 -> 9.75
A17: Elève 2-3 | B17: 13 | C17: abs | D17: 4 | F17: 19 | G17: =COUNTIF(B17:F17,"abs") -> 1 | H17: =AVERAGE(B17:F17) -> 12 | J17: =H17 -> 12
A18: Elève 2-4 | B18: 14 | C18: 16 | E18: 0 | F18: 19 | G18: =COUNTIF(B18:F18,"abs") -> 0 | H18: =AVERAGE(B18:F18) -> 12.25 | J18: =H18 -> 12.25
A19: Elève 2-5 | B19: 7 | C19: 5 | E19: 10 | F19: 11 | G19: =COUNTIF(B19:F19,"abs") -> 0 | H19: =AVERAGE(B19:F19) -> 8.25 | J19: =H19 -> 8.25
A23: Classe 3
A24: Nom elève | B24: matière 1 | C24: matière 2 | D24: matière 3 | E24: matière 4 | F24: matière 5 | G24: Absence | H24: Moyenne | J24: Moyenne annuelle
A25: Elève 3-1 | B25: 5 | C25: 1 | D25: 14 | E25: 18 | F25: 7 | G25: =COUNTIF(B25:F25,"abs") -> 0 | H25: =AVERAGE(B25:F25) -> 9 | J25: =H25 -> 9
A26: Elève 3-2 | B26: 18 | C26: 9 | D26: abs | E26: 2 | F26: 10 | G26: =COUNTIF(B26:F26,"abs") -> 1 | H26: =AVERAGE(B26:F26) -> 9.75 | J26: =H26 -> 9.75
A27: Elève 3-3 | B27: 10 | C27: abs | D27: 4 | F27: 19 | G27: 13 | H27: =AVERAGE(B27:F27) -> 11 | J27: =H27 -> 11
A28: Elève 3-4 | B28: 14 | C28: 16 | E28: 0 | F28: 19 | G28: =COUNTIF(B28:F28,"abs") -> 0 | H28: =AVERAGE(B28:F28) -> 12.25 | J28: =H28 -> 12.25
A29: Elève 3-5 | B29: abs | C29: abs | D29: abs | E29: 10 | F29: 11 | G29: =COUNTIF(B29:F29,"abs") -> 3 | H29: =AVERAGE(B29:F29) -> 10.5 | J29: =H29 -> 10.5

Sheet Trimestre 2
A2: Classe 1
A3: Nom elève | B3: matière 1 | C3: matière 2 | D3: matière 3 | E3: matière 4 | F3: matière 5 | G3: Absence | H3: Moyenne | J3: Moyenne annuelle
A4: Elève 1-1 | B4: 5 | C4: 5 | D4: 14 | E4: 9 | F4: 7 | G4: =COUNTIF(B4:F4,"abs") -> 0 | H4: =AVERAGE(B4:F4) -> 8 | J4: =AVERAGE(H4,'Trimestre 1'!J4) -> 9.1
A5: Elève 1-2 | B5: 9 | C5: 9 | D5: 15 | E5: 20 | F5: 11 | G5: =COUNTIF(B5:F5,"abs") -> 0 | H5: =AVERAGE(B5:F5) -> 12.8 | J5: =AVERAGE(H5,'Trimestre 1'!J5) -> 11.275
A6: Elève 1-3 | B6: 13 | C6: 15 | G6: =COUNTIF(B6:F6,"abs") -> 0 | H6: =AVERAGE(B6:F6) -> 14 | J6: =AVERAGE(H6,'Trimestre 1'!J6) -> 14
A7: Elève 1-4 | B7: 14 | C7: 16 | E7: abs | F7: abs | G7: =COUNTIF(B7:F7,"abs") -> 2 | H7: =AVERAGE(B7:F7) -> 15 | J7: =AVERAGE(H7,'Trimestre 1'!J7) -> 15
A8: Elève 1-5 | B8: 7 | C8: 5 | G8: =COUNTIF(B8:F8,"abs") -> 0 | H8: =AVERAGE(B8:F8) -> 6 | J8: =AVERAGE(H8,'Trimestre 1'!J8) -> 6
A13: Classe 2
A14: Nom elève | B14: matière 1 | C14: matière 2 | D14: matière 3 | E14: matière 4 | F14: matière 5 | G14: Absence | H14: Moyenne | J14: Moyenne annuelle
A15: Elève 2-1 | B15: 5 | C15: 12 | D15: 20 | E15: 13 | F15: 18 | G15: =COUNTIF(B15:F15,"abs") -> 0 | H15: =AVERAGE(B15:F15) -> 13.6 | J15: =AVERAGE(H15,'Trimestre 1'!J15) -> 11.9
A16: Elève 2-2 | B16: 18 | C16: 9 | D16: abs | E16: 2 | F16: 10 | G16: =COUNTIF(B16:F16,"abs") -> 1 | H16: =AVERAGE(B16:F16) -> 9.75 | J16: =AVERAGE(H16,'Trimestre 1'!J16) -> 9.75
A17: Elève 2-3 | B17: 13 | C17: abs | D17: 4 | F17: 19 | G17: =COUNTIF(B17:F17,"abs") -> 1 | H17: =AVERAGE(B17:F17) -> 12 | J17: =AVERAGE(H17,'Trimestre 1'!J17) -> 12
A18: Elève 2-4 | B18: 14 | C18: 16 | E18: 0 | F18: 19 | G18: =COUNTIF(B18:F18,"abs") -> 0 | H18: =AVERAGE(B18:F18) -> 12.25 | J18: =AVERAGE(H18,'Trimestre 1'!J18) -> 12.25
A19: Elève 2-5 | B19: 7 | C19: 5 | E19: 10 | F19: 11 | G19: =COUNTIF(B19:F19,"abs") -> 0 | H19: =AVERAGE(B19:F19) -> 8.25 | J19: =AVERAGE(H19,'Trimestre 1'!J19) -> 8.25
A23: Classe 3
A24: Nom elève | B24: matière 1 | C24: matière 2 | D24: matière 3 | E24: matière 4 | F24: matière 5 | G24: Absence | H24: Moyenne | J24: Moyenne annuelle
A25: Elève 3-1 | B25: 5 | C25: 1 | D25: 14 | E25: 18 | F25: 7 | G25: =COUNTIF(B25:F25,"abs") -> 0 | H25: =AVERAGE(B25:F25) -> 9 | J25: =AVERAGE(H25,'Trimestre 1'!J25) -> 9
A26: Elève 3-2 | B26: 18 | C26: 9 | D26: abs | E26: 2 | F26: 10 | G26: =COUNTIF(B26:F26,"abs") -> 1 | H26: =AVERAGE(B26:F26) -> 9.75 | J26: =AVERAGE(H26,'Trimestre 1'!J26) -> 9.75
A27: Elève 3-3 | B27: 10 | C27: abs | D27: 14 | E27: 15 | F27: 19 | G27: =COUNTIF(B27:F27,"abs") -> 1 | H27: =AVERAGE(B27:F27) -> 14.5 | J27: =AVERAGE(H27,'Trimestre 1'!J27) -> 12.75
A28: Elève 3-4 | B28: 20 | C28: 18 | E28: 15 | F28: 19 | G28: =COUNTIF(B28:F28,"abs") -> 0 | H28: =AVERAGE(B28:F28) -> 18 | J28: =AVERAGE(H28,'Trimestre 1'!J28) -> 15.125
A29: Elève 3-5 | B29: abs | C29: abs | D29: abs | E29: abs | F29: 9 | G29: =COUNTIF(B29:F29,"abs") -> 4 | H29: =AVERAGE(B29:F29) -> 9 | J29: =AVERAGE(H29,'Trimestre 1'!J29) -> 9.75
