Workbook

Sheet STOCK ACTUEL
A1: MATERIEL | B1: QUANTITE
A2: Boite | B2: ='Détails STOCK'!E2 -> 155
A3: Télécommande | B3: ='Détails STOCK'!E3 -> 7
A4: Adaptateur | B4: ='Détails STOCK'!E4 -> 10
A5: Tour de cou | B5: ='Détails STOCK'!E5 -> 7
A6: Petites pochettes transparence à bulles | B6: ='Détails STOCK'!E6 -> 22
A7: Carton télécommande | B7: ='Détails STOCK'!E7 -> 27
A8: Enveloppes bulles boitiers | B8: ='Détails STOCK'!E8 -> 40
A9: Stickers rassemblement | B9: ='Détails STOCK'!E9 -> 15
A10: Stickers portes | B10: ='Détails STOCK'!E10 -> 14
A11: Stickers vitrophanie portes | B11: ='Détails STOCK'!E11 -> 14
A12: Notice de communication | B12: ='Détails STOCK'!E12 -> 17
A13: Notice de montage/utilisation | B13: ='Détails STOCK'!E13 -> 17
... A23: Flyer A5 caisse plastifié | B23: ='Détails STOCK'!E23 -> 10
A24: Enveloppes A5 | B24: 10

Sheet Détails STOCK
A1: MATERIEL | B1: QUANTITE initiale | C1: Quantité reçue | D1: Quantité envoyée | E1: Quantité actuelle
A2: Boite | B2: 10 | C2: 150 | D2: =SUMIF('Détails COLIS'!$A$2:$A$24,'Détails STOCK'!$A2,'Détails COLIS'!$B$2:$B$24)*SUMIF(COLIS!$B$2:$B$28,'Détails COLIS'!$B$1,COLIS!$C$2:$C$28)+SUMIF('Détails COLIS'!$A$2:$A$24,'Détails STOCK'!$A2,'Détails COLIS'!$C$2:$C$24)*SUMIF(COLIS!$B$2:$B$28,'Détails COLIS'!$C$1,COLIS!$C$2:$C$28) -> 5 | E2: =B2+C2-D2 -> 155
A3: Télécommande | B3: 10 | D3: =SUMIF('Détails COLIS'!$A$2:$A$24,'Détails STOCK'!$A3,'Détails COLIS'!$B$2:$B$24)*SUMIF(COLIS!$B$2:$B$28,'Détails COLIS'!$B$1,COLIS!$C$2:$C$28)+SUMIF('Détails COLIS'!$A$2:$A$24,'Détails STOCK'!$A3,'Détails COLIS'!$C$2:$C$24)*SUMIF(COLIS!$B$2:$B$28,'Détails COLIS'!$C$1,COLIS!$C$2:$C$28) -> 3 | E3: =B3+C3-D3 -> 7
A4: Adaptateur | B4: 10 | D4: =SUMIF('Détails COLIS'!$A$2:$A$24,'Détails STOCK'!$A4,'Détails COLIS'!$B$2:$B$24)*SUMIF(COLIS!$B$2:$B$28,'Détails COLIS'!$B$1,COLIS!$C$2:$C$28)+SUMIF('Détails COLIS'!$A$2:$A$24,'Détails STOCK'!$A4,'Détails COLIS'!$C$2:$C$24)*SUMIF(COLIS!$B$2:$B$28,'Détails COLIS'!$C$1,COLIS!$C$2:$C$28) -> 0 | E4: =B4+C4-D4 -> 10
A5: Tour de cou | B5: 10 | D5: =SUMIF('Détails COLIS'!$A$2:$A$24,'Détails STOCK'!$A5,'Détails COLIS'!$B$2:$B$24)*SUMIF(COLIS!$B$2:$B$28,'Détails COLIS'!$B$1,COLIS!$C$2:$C$28)+SUMIF('Détails COLIS'!$A$2:$A$24,'Détails STOCK'!$A5,'Détails COLIS'!$C$2:$C$24)*SUMIF(COLIS!$B$2:$B$28,'Détails COLIS'!$C$1,COLIS!$C$2:$C$28) -> 3 | E5: =B5+C5-D5 -> 7
A6: Petites pochettes transparence à bulles | B6: 25 | D6: =SUMIF('Détails COLIS'!$A$2:$A$24,'Détails STOCK'!$A6,'Détails COLIS'!$B$2:$B$24)*SUMIF(COLIS!$B$2:$B$28,'Détails COLIS'!$B$1,COLIS!$C$2:$C$28)+SUMIF('Détails COLIS'!$A$2:$A$24,'Détails STOCK'!$A6,'Détails COLIS'!$C$2:$C$24)*SUMIF(COLIS!$B$2:$B$28,'Détails COLIS'!$C$1,COLIS!$C$2:$C$28) -> 3 | E6: =B6+C6-D6 -> 22
A7: Carton télécommande | B7: 30 | D7: =SUMIF('Détails COLIS'!$A$2:$A$24,'Détails STOCK'!$A7,'Détails COLIS'!$B$2:$B$24)*SUMIF(COLIS!$B$2:$B$28,'Détails COLIS'!$B$1,COLIS!$C$2:$C$28)+SUMIF('Détails COLIS'!$A$2:$A$24,'Détails STOCK'!$A7,'Détails COLIS'!$C$2:$C$24)*SUMIF(COLIS!$B$2:$B$28,'Détails COLIS'!$C$1,COLIS!$C$2:$C$28) -> 3 | E7: =B7+C7-D7 -> 27
A8: Enveloppes bulles boitiers | B8: 45 | D8: =SUMIF('Détails COLIS'!$A$2:$A$24,'Détails STOCK'!$A8,'Détails COLIS'!$B$2:$B$24)*SUMIF(COLIS!$B$2:$B$28,'Détails COLIS'!$B$1,COLIS!$C$2:$C$28)+SUMIF('Détails COLIS'!$A$2:$A$24,'Détails STOCK'!$A8,'Détails COLIS'!$C$2:$C$24)*SUMIF(COLIS!$B$2:$B$28,'Détails COLIS'!$C$1,COLIS!$C$2:$C$28) -> 5 | E8: =B8+C8-D8 -> 40
A9: Stickers rassemblement | B9: 15 | D9: =SUMIF('Détails COLIS'!$A$2:$A$24,'Détails STOCK'!$A9,'Détails COLIS'!$B$2:$B$24)*SUMIF(COLIS!$B$2:$B$28,'Détails COLIS'!$B$1,COLIS!$C$2:$C$28)+SUMIF('Détails COLIS'!$A$2:$A$24,'Détails STOCK'!$A9,'Détails COLIS'!$C$2:$C$24)*SUMIF(COLIS!$B$2:$B$28,'Détails COLIS'!$C$1,COLIS!$C$2:$C$28) -> 0 | E9: =B9+C9-D9 -> 15
A10: Stickers portes | B10: 20 | D10: =SUMIF('Détails COLIS'!$A$2:$A$24,'Détails STOCK'!$A10,'Détails COLIS'!$B$2:$B$24)*SUMIF(COLIS!$B$2:$B$28,'Détails COLIS'!$B$1,COLIS!$C$2:$C$28)+SUMIF('Détails COLIS'!$A$2:$A$24,'Détails STOCK'!$A10,'Détails COLIS'!$C$2:$C$24)*SUMIF(COLIS!$B$2:$B$28,'Détails COLIS'!$C$1,COLIS!$C$2:$C$28) -> 6 | E10: =B10+C10-D10 -> 14
A11: Stickers vitrophanie portes | B11: 20 | D11: =SUMIF('Détails COLIS'!$A$2:$A$24,'Détails STOCK'!$A11,'Détails COLIS'!$B$2:$B$24)*SUMIF(COLIS!$B$2:$B$28,'Détails COLIS'!$B$1,COLIS!$C$2:$C$28)+SUMIF('Détails COLIS'!$A$2:$A$24,'Détails STOCK'!$A11,'Détails COLIS'!$C$2:$C$24)*SUMIF(COLIS!$B$2:$B$28,'Détails COLIS'!$C$1,COLIS!$C$2:$C$28) -> 6 | E11: =B11+C11-D11 -> 14
A12: Notice de communication | B12: 20 | D12: =SUMIF('Détails COLIS'!$A$2:$A$24,'Détails STOCK'!$A12,'Détails COLIS'!$B$2:$B$24)*SUMIF(COLIS!$B$2:$B$28,'Détails COLIS'!$B$1,COLIS!$C$2:$C$28)+SUMIF('Détails COLIS'!$A$2:$A$24,'Détails STOCK'!$A12,'Détails COLIS'!$C$2:$C$24)*SUMIF(COLIS!$B$2:$B$28,'Détails COLIS'!$C$1,COLIS!$C$2:$C$28) -> 3 | E12: =B12+C12-D12 -> 17
A13: Notice de montage/utilisation | B13: 20 | D13: =SUMIF('Détails COLIS'!$A$2:$A$24,'Détails STOCK'!$A13,'Détails COLIS'!$B$2:$B$24)*SUMIF(COLIS!$B$2:$B$28,'Détails COLIS'!$B$1,COLIS!$C$2:$C$28)+SUMIF('Détails COLIS'!$A$2:$A$24,'Détails STOCK'!$A13,'Détails COLIS'!$C$2:$C$24)*SUMIF(COLIS!$B$2:$B$28,'Détails COLIS'!$C$1,COLIS!$C$2:$C$28) -> 3 | E13: =B13+C13-D13 -> 17
A14: Pochettes perforés transparantes | B14: 20 | D14: =SUMIF('Détails COLIS'!$A$2:$A$24,'Détails STOCK'!$A14,'Détails COLIS'!$B$2:$B$24)*SUMIF(COLIS!$B$2:$B$28,'Détails COLIS'!$B$1,COLIS!$C$2:$C$28)+SUMIF('Détails COLIS'!$A$2:$A$24,'Détails STOCK'!$A14,'Détails COLIS'!$C$2:$C$24)*SUMIF(COLIS!$B$2:$B$28,'Détails COLIS'!$C$1,COLIS!$C$2:$C$28) -> 0 | E14: =B14+C14-D14 -> 20
... A23: Flyer A5 caisse plastifié | B23: 15 | D23: =SUMIF('Détails COLIS'!$A$2:$A$24,'Détails STOCK'!$A23,'Détails COLIS'!$B$2:$B$24)*SUMIF(COLIS!$B$2:$B$28,'Détails COLIS'!$B$1,COLIS!$C$2:$C$28)+SUMIF('Détails COLIS'!$A$2:$A$24,'Détails STOCK'!$A23,'Détails COLIS'!$C$2:$C$24)*SUMIF(COLIS!$B$2:$B$28,'Détails COLIS'!$C$1,COLIS!$C$2:$C$28) -> 5 | E23: =B23+C23-D23 -> 10
A24: Enveloppes A5 | D24: =SUMIF('Détails COLIS'!$A$2:$A$24,'Détails STOCK'!$A24,'Détails COLIS'!$B$2:$B$24)*SUMIF(COLIS!$B$2:$B$28,'Détails COLIS'!$B$1,COLIS!$C$2:$C$28)+SUMIF('Détails COLIS'!$A$2:$A$24,'Détails STOCK'!$A24,'Détails COLIS'!$C$2:$C$24)*SUMIF(COLIS!$B$2:$B$28,'Détails COLIS'!$C$1,COLIS!$C$2:$C$28) -> 3 | E24: =B24+C24-D24 -> -3

Sheet Détails COLIS
A1: MATERIEL | B1: Pour 1 dispostif | C1: Pour 2 dispositifs
A2: Boite | B2: 1 | C2: 2
A3: Télécommande | B3: 1 | C3: 1
A4: Adaptateur
A5: Tour de cou | B5: 1 | C5: 1
A6: Petites pochettes transparence à bulles | B6: 1 | C6: 1
A7: Carton télécommande | B7: 1 | C7: 1
A8: Enveloppes bulles boitiers | B8: 1 | C8: 2
A9: Stickers rassemblement
A10: Stickers portes | B10: 2 | C10: 2
A11: Stickers vitrophanie portes | B11: 2 | C11: 2
A12: Notice de communication | B12: 1 | C12: 1
A13: Notice de montage/utilisation | B13: 1 | C13: 1
A14: Pochettes perforés transparantes
A15: Support boitier aimanté | B15: 1 | C15: 2
A16: Support sur pied
A17: Support pince rotative
A18: Etiquettes chronopost
A19: Pochettes transparente perforées | B19: 1 | C19: 1
A20: carton taille S
A21: carton taille XS
A22: Enveloppe carton
A23: Flyer A5 caisse plastifié | B23: 1 | C23: 2
A24: Enveloppes A5 | B24: 1 | C24: 1

Sheet COLIS
A1: Date d'envoi | B1: Type de colis | C1: Qté
A2: 45643 | B2: Pour 1 dispostif | C2: 1
A3: 45643 | B3: Pour 2 dispositifs | C3: 2
