Workbook

Sheet Feuille vacation
F2: Société X
A4: ETAT DES HEURES EFFECTUEES - PERSONNEL VACATAIRE
B7: Nom, Prénom: | E7: Alex DUPOND | K7: Mois de: | M7: Année:
B9: N° Matricule: | E9: =VLOOKUP($E$7,'Liste des vacataires'!$B$1:$D$57,2,FALSE) -> 042580
B11: Nature de l'emploi: | F11: =VLOOKUP($E$7,'Liste des vacataires'!$B$1:$D$57,3,FALSE) -> Commercial | K11: =DATE(M11+2022,L11,1) -> 44958 | L11: 2 | M11: 1
K12: =WEEKDAY(A17,2)>5 -> FALSE
C13: HORAIRES DE TRAVAIL | I13: TOTAUX DES HEURES TRAVAILLEES | M13: =NOT(ISNA(VLOOKUP(A31,'Jours fériés'!B:B,1,FALSE))) -> FALSE
C14: MATIN | E14: APRES-MIDI | G14: AUTRES | I14: heures | J14: heures | K14: heures de
A15: Jour Date | G15: (de 22h à 7h) | I15: normales | J15: de | K15: nuit | L15: Justificatif | M15: Justificatif | N15: Justificatif
C16: de | D16: à | E16: de | F16: à | G16: de | H16: à | I16: (de 7h à 22h) | J16: dimanche | K16: (de 22h à 7h) | L16: Justificatif | M16: Justificatif | N16: Justificatif
A17: =K11 -> 44958 | C17: =SUMPRODUCT(('Tableau remplacement'!$H$5:$H$37='Feuille vacation'!$E$7)*('Tableau remplacement'!$A$5:$A$37='Feuille vacation'!$A17)*('Tableau remplacement'!$K$5:$K$37)) -> 0 | D17: =SUMPRODUCT(('Tableau remplacement'!$H$5:$H$37='Feuille vacation'!$E$7)*('Tableau remplacement'!$A$5:$A$37='Feuille vacation'!$A17)*('Tableau remplacement'!$L$5:$L$37)) -> 0 | E17: =SUMPRODUCT(('Tableau remplacement'!$H$5:$H$37='Feuille vacation'!$E$7)*('Tableau remplacement'!$A$5:$A$37='Feuille vacation'!$A17)*('Tableau remplacement'!$M$5:$M$37)) -> 0 | F17: =SUMPRODUCT(('Tableau remplacement'!$H$5:$H$37='Feuille vacation'!$E$7)*('Tableau remplacement'!$A$5:$A$37='Feuille vacation'!$A17)*('Tableau remplacement'!$N$5:$N$37)) -> 0 | I17: =IF(WEEKDAY(A17)<>1,D17-C17+F17-E17,0)*24 -> 0 | J17: =IF(WEEKDAY(A17)=1,D17-C17+F17-E17,0)*24 -> 0 | K17: =H17-G17 -> 0
A18: =A17+1 -> 44959 | C18: =SUMPRODUCT(('Tableau remplacement'!$H$5:$H$37='Feuille vacation'!$E$7)*('Tableau remplacement'!$A$5:$A$37='Feuille vacation'!$A18)*('Tableau remplacement'!$K$5:$K$37)) -> 0 | D18: =SUMPRODUCT(('Tableau remplacement'!$H$5:$H$37='Feuille vacation'!$E$7)*('Tableau remplacement'!$A$5:$A$37='Feuille vacation'!$A18)*('Tableau remplacement'!$L$5:$L$37)) -> 0 | E18: =SUMPRODUCT(('Tableau remplacement'!$H$5:$H$37='Feuille vacation'!$E$7)*('Tableau remplacement'!$A$5:$A$37='Feuille vacation'!$A18)*('Tableau remplacement'!$M$5:$M$37)) -> 0 | F18: =SUMPRODUCT(('Tableau remplacement'!$H$5:$H$37='Feuille vacation'!$E$7)*('Tableau remplacement'!$A$5:$A$37='Feuille vacation'!$A18)*('Tableau remplacement'!$N$5:$N$37)) -> 0 | I18: =IF(WEEKDAY(A18)<>1,D18-C18+F18-E18,0)*24 -> 0 | J18: =IF(WEEKDAY(A18)=1,D18-C18+F18-E18,0)*24 -> 0 | K18: =H18-G18 -> 0
A19: =A18+1 -> 44960 | C19: =SUMPRODUCT(('Tableau remplacement'!$H$5:$H$37='Feuille vacation'!$E$7)*('Tableau remplacement'!$A$5:$A$37='Feuille vacation'!$A19)*('Tableau remplacement'!$K$5:$K$37)) -> 0 | D19: =SUMPRODUCT(('Tableau remplacement'!$H$5:$H$37='Feuille vacation'!$E$7)*('Tableau remplacement'!$A$5:$A$37='Feuille vacation'!$A19)*('Tableau remplacement'!$L$5:$L$37)) -> 0 | E19: =SUMPRODUCT(('Tableau remplacement'!$H$5:$H$37='Feuille vacation'!$E$7)*('Tableau remplacement'!$A$5:$A$37='Feuille vacation'!$A19)*('Tableau remplacement'!$M$5:$M$37)) -> 0 | F19: =SUMPRODUCT(('Tableau remplacement'!$H$5:$H$37='Feuille vacation'!$E$7)*('Tableau remplacement'!$A$5:$A$37='Feuille vacation'!$A19)*('Tableau remplacement'!$N$5:$N$37)) -> 0 | I19: =IF(WEEKDAY(A19)<>1,D19-C19+F19-E19,0)*24 -> 0 | J19: =IF(WEEKDAY(A19)=1,D19-C19+F19-E19,0)*24 -> 0 | K19: =H19-G19 -> 0
A20: =A19+1 -> 44961 | C20: =SUMPRODUCT(('Tableau remplacement'!$H$5:$H$37='Feuille vacation'!$E$7)*('Tableau remplacement'!$A$5:$A$37='Feuille vacation'!$A20)*('Tableau remplacement'!$K$5:$K$37)) -> 0 | D20: =SUMPRODUCT(('Tableau remplacement'!$H$5:$H$37='Feuille vacation'!$E$7)*('Tableau remplacement'!$A$5:$A$37='Feuille vacation'!$A20)*('Tableau remplacement'!$L$5:$L$37)) -> 0 | E20: =SUMPRODUCT(('Tableau remplacement'!$H$5:$H$37='Feuille vacation'!$E$7)*('Tableau remplacement'!$A$5:$A$37='Feuille vacation'!$A20)*('Tableau remplacement'!$M$5:$M$37)) -> 0 | F20: =SUMPRODUCT(('Tableau remplacement'!$H$5:$H$37='Feuille vacation'!$E$7)*('Tableau remplacement'!$A$5:$A$37='Feuille vacation'!$A20)*('Tableau remplacement'!$N$5:$N$37)) -> 0 | I20: =IF(WEEKDAY(A20)<>1,D20-C20+F20-E20,0)*24 -> 0 | J20: =IF(WEEKDAY(A20)=1,D20-C20+F20-E20,0)*24 -> 0 | K20: =H20-G20 -> 0
A21: =A20+1 -> 44962 | C21: =SUMPRODUCT(('Tableau remplacement'!$H$5:$H$37='Feuille vacation'!$E$7)*('Tableau remplacement'!$A$5:$A$37='Feuille vacation'!$A21)*('Tableau remplacement'!$K$5:$K$37)) -> 0 | D21: =SUMPRODUCT(('Tableau remplacement'!$H$5:$H$37='Feuille vacation'!$E$7)*('Tableau remplacement'!$A$5:$A$37='Feuille vacation'!$A21)*('Tableau remplacement'!$L$5:$L$37)) -> 0 | E21: =SUMPRODUCT(('Tableau remplacement'!$H$5:$H$37='Feuille vacation'!$E$7)*('Tableau remplacement'!$A$5:$A$37='Feuille vacation'!$A21)*('Tableau remplacement'!$M$5:$M$37)) -> 0 | F21: =SUMPRODUCT(('Tableau remplacement'!$H$5:$H$37='Feuille vacation'!$E$7)*('Tableau remplacement'!$A$5:$A$37='Feuille vacation'!$A21)*('Tableau remplacement'!$N$5:$N$37)) -> 0 | I21: =IF(WEEKDAY(A21)<>1,D21-C21+F21-E21,0)*24 -> 0 | J21: =IF(WEEKDAY(A21)=1,D21-C21+F21-E21,0)*24 -> 0 | K21: =H21-G21 -> 0
A22: =A21+1 -> 44963 | C22: =SUMPRODUCT(('Tableau remplacement'!$H$5:$H$37='Feuille vacation'!$E$7)*('Tableau remplacement'!$A$5:$A$37='Feuille vacation'!$A22)*('Tableau remplacement'!$K$5:$K$37)) -> 0 | D22: =SUMPRODUCT(('Tableau remplacement'!$H$5:$H$37='Feuille vacation'!$E$7)*('Tableau remplacement'!$A$5:$A$37='Feuille vacation'!$A22)*('Tableau remplacement'!$L$5:$L$37)) -> 0 | E22: =SUMPRODUCT(('Tableau remplacement'!$H$5:$H$37='Feuille vacation'!$E$7)*('Tableau remplacement'!$A$5:$A$37='Feuille vacation'!$A22)*('Tableau remplacement'!$M$5:$M$37)) -> 0 | F22: =SUMPRODUCT(('Tableau remplacement'!$H$5:$H$37='Feuille vacation'!$E$7)*('Tableau remplacement'!$A$5:$A$37='Feuille vacation'!$A22)*('Tableau remplacement'!$N$5:$N$37)) -> 0 | I22: =IF(WEEKDAY(A22)<>1,D22-C22+F22-E22,0)*24 -> 0 | J22: =IF(WEEKDAY(A22)=1,D22-C22+F22-E22,0)*24 -> 0 | K22: =H22-G22 -> 0
A23: =A22+1 -> 44964 | C23: =SUMPRODUCT(('Tableau remplacement'!$H$5:$H$37='Feuille vacation'!$E$7)*('Tableau remplacement'!$A$5:$A$37='Feuille vacation'!$A23)*('Tableau remplacement'!$K$5:$K$37)) -> 0 | D23: =SUMPRODUCT(('Tableau remplacement'!$H$5:$H$37='Feuille vacation'!$E$7)*('Tableau remplacement'!$A$5:$A$37='Feuille vacation'!$A23)*('Tableau remplacement'!$L$5:$L$37)) -> 0 | E23: =SUMPRODUCT(('Tableau remplacement'!$H$5:$H$37='Feuille vacation'!$E$7)*('Tableau remplacement'!$A$5:$A$37='Feuille vacation'!$A23)*('Tableau remplacement'!$M$5:$M$37)) -> 0 | F23: =SUMPRODUCT(('Tableau remplacement'!$H$5:$H$37='Feuille vacation'!$E$7)*('Tableau remplacement'!$A$5:$A$37='Feuille vacation'!$A23)*('Tableau remplacement'!$N$5:$N$37)) -> 0 | I23: =IF(WEEKDAY(A23)<>1,D23-C23+F23-E23,0)*24 -> 0 | J23: =IF(WEEKDAY(A23)=1,D23-C23+F23-E23,0)*24 -> 0 | K23: =H23-G23 -> 0
A24: =A23+1 -> 44965 | C24: =SUMPRODUCT(('Tableau remplacement'!$H$5:$H$37='Feuille vacation'!$E$7)*('Tableau remplacement'!$A$5:$A$37='Feuille vacation'!$A24)*('Tableau remplacement'!$K$5:$K$37)) -> 0 | D24: =SUMPRODUCT(('Tableau remplacement'!$H$5:$H$37='Feuille vacation'!$E$7)*('Tableau remplacement'!$A$5:$A$37='Feuille vacation'!$A24)*('Tableau remplacement'!$L$5:$L$37)) -> 0 | E24: =SUMPRODUCT(('Tableau remplacement'!$H$5:$H$37='Feuille vacation'!$E$7)*('Tableau remplacement'!$A$5:$A$37='Feuille vacation'!$A24)*('Tableau remplacement'!$M$5:$M$37)) -> 0 | F24: =SUMPRODUCT(('Tableau remplacement'!$H$5:$H$37='Feuille vacation'!$E$7)*('Tableau remplacement'!$A$5:$A$37='Feuille vacation'!$A24)*('Tableau remplacement'!$N$5:$N$37)) -> 0 | I24: =IF(WEEKDAY(A24)<>1,D24-C24+F24-E24,0)*24 -> 0 | J24: =IF(WEEKDAY(A24)=1,D24-C24+F24-E24,0)*24 -> 0 | K24: =H24-G24 -> 0
A25: =A24+1 -> 44966 | C25: =SUMPRODUCT(('Tableau remplacement'!$H$5:$H$37='Feuille vacation'!$E$7)*('Tableau remplacement'!$A$5:$A$37='Feuille vacation'!$A25)*('Tableau remplacement'!$K$5:$K$37)) -> 0 | D25: =SUMPRODUCT(('Tableau remplacement'!$H$5:$H$37='Feuille vacation'!$E$7)*('Tableau remplacement'!$A$5:$A$37='Feuille vacation'!$A25)*('Tableau remplacement'!$L$5:$L$37)) -> 0 | E25: =SUMPRODUCT(('Tableau remplacement'!$H$5:$H$37='Feuille vacation'!$E$7)*('Tableau remplacement'!$A$5:$A$37='Feuille vacation'!$A25)*('Tableau remplacement'!$M$5:$M$37)) -> 0 | F25: =SUMPRODUCT(('Tableau remplacement'!$H$5:$H$37='Feuille vacation'!$E$7)*('Tableau remplacement'!$A$5:$A$37='Feuille vacation'!$A25)*('Tableau remplacement'!$N$5:$N$37)) -> 0 | I25: =IF(WEEKDAY(A25)<>1,D25-C25+F25-E25,0)*24 -> 0 | J25: =IF(WEEKDAY(A25)=1,D25-C25+F25-E25,0)*24 -> 0 | K25: =H25-G25 -> 0
A26: =A25+1 -> 44967 | C26: =SUMPRODUCT(('Tableau remplacement'!$H$5:$H$37='Feuille vacation'!$E$7)*('Tableau remplacement'!$A$5:$A$37='Feuille vacation'!$A26)*('Tableau remplacement'!$K$5:$K$37)) -> 0 | D26: =SUMPRODUCT(('Tableau remplacement'!$H$5:$H$37='Feuille vacation'!$E$7)*('Tableau remplacement'!$A$5:$A$37='Feuille vacation'!$A26)*('Tableau remplacement'!$L$5:$L$37)) -> 0 | E26: =SUMPRODUCT(('Tableau remplacement'!$H$5:$H$37='Feuille vacation'!$E$7)*('Tableau remplacement'!$A$5:$A$37='Feuille vacation'!$A26)*('Tableau remplacement'!$M$5:$M$37)) -> 0 | F26: =SUMPRODUCT(('Tableau remplacement'!$H$5:$H$37='Feuille vacation'!$E$7)*('Tableau remplacement'!$A$5:$A$37='Feuille vacation'!$A26)*('Tableau remplacement'!$N$5:$N$37)) -> 0 | I26: =IF(WEEKDAY(A26)<>1,D26-C26+F26-E26,0)*24 -> 0 | J26: =IF(WEEKDAY(A26)=1,D26-C26+F26-E26,0)*24 -> 0 | K26: =H26-G26 -> 0
A27: =A26+1 -> 44968 | C27: =SUMPRODUCT(('Tableau remplacement'!$H$5:$H$37='Feuille vacation'!$E$7)*('Tableau remplacement'!$A$5:$A$37='Feuille vacation'!$A27)*('Tableau remplacement'!$K$5:$K$37)) -> 0 | D27: =SUMPRODUCT(('Tableau remplacement'!$H$5:$H$37='Feuille vacation'!$E$7)*('Tableau remplacement'!$A$5:$A$37='Feuille vacation'!$A27)*('Tableau remplacement'!$L$5:$L$37)) -> 0 | E27: =SUMPRODUCT(('Tableau remplacement'!$H$5:$H$37='Feuille vacation'!$E$7)*('Tableau remplacement'!$A$5:$A$37='Feuille vacation'!$A27)*('Tableau remplacement'!$M$5:$M$37)) -> 0 | F27: =SUMPRODUCT(('Tableau remplacement'!$H$5:$H$37='Feuille vacation'!$E$7)*('Tableau remplacement'!$A$5:$A$37='Feuille vacation'!$A27)*('Tableau remplacement'!$N$5:$N$37)) -> 0 | I27: =IF(WEEKDAY(A27)<>1,D27-C27+F27-E27,0)*24 -> 0 | J27: =IF(WEEKDAY(A27)=1,D27-C27+F27-E27,0)*24 -> 0 | K27: =H27-G27 -> 0
A28: =A27+1 -> 44969 | C28: =SUMPRODUCT(('Tableau remplacement'!$H$5:$H$37='Feuille vacation'!$E$7)*('Tableau remplacement'!$A$5:$A$37='Feuille vacation'!$A28)*('Tableau remplacement'!$K$5:$K$37)) -> 0.34375 | D28: =SUMPRODUCT(('Tableau remplacement'!$H$5:$H$37='Feuille vacation'!$E$7)*('Tableau remplacement'!$A$5:$A$37='Feuille vacation'!$A28)*('Tableau remplacement'!$L$5:$L$37)) -> 0.5 | E28: =SUMPRODUCT(('Tableau remplacement'!$H$5:$H$37='Feuille vacation'!$E$7)*('Tableau remplacement'!$A$5:$A$37='Feuille vacation'!$A28)*('Tableau remplacement'!$M$5:$M$37)) -> 0 | F28: =SUMPRODUCT(('Tableau remplacement'!$H$5:$H$37='Feuille vacation'!$E$7)*('Tableau remplacement'!$A$5:$A$37='Feuille vacation'!$A28)*('Tableau remplacement'!$N$5:$N$37)) -> 0 | I28: =IF(WEEKDAY(A28)<>1,D28-C28+F28-E28,0)*24 -> 0 | J28: =IF(WEEKDAY(A28)=1,D28-C28+F28-E28,0)*24 -> 3.75 | K28: =H28-G28 -> 0
A29: =A28+1 -> 44970 | C29: =SUMPRODUCT(('Tableau remplacement'!$H$5:$H$37='Feuille vacation'!$E$7)*('Tableau remplacement'!$A$5:$A$37='Feuille vacation'!$A29)*('Tableau remplacement'!$K$5:$K$37)) -> 0 | D29: =SUMPRODUCT(('Tableau remplacement'!$H$5:$H$37='Feuille vacation'!$E$7)*('Tableau remplacement'!$A$5:$A$37='Feuille vacation'!$A29)*('Tableau remplacement'!$L$5:$L$37)) -> 0 | E29: =SUMPRODUCT(('Tableau remplacement'!$H$5:$H$37='Feuille vacation'!$E$7)*('Tableau remplacement'!$A$5:$A$37='Feuille vacation'!$A29)*('Tableau remplacement'!$M$5:$M$37)) -> 0 | F29: =SUMPRODUCT(('Tableau remplacement'!$H$5:$H$37='Feuille vacation'!$E$7)*('Tableau remplacement'!$A$5:$A$37='Feuille vacation'!$A29)*('Tableau remplacement'!$N$5:$N$37)) -> 0 | I29: =IF(WEEKDAY(A29)<>1,D29-C29+F29-E29,0)*24 -> 0 | J29: =IF(WEEKDAY(A29)=1,D29-C29+F29-E29,0)*24 -> 0 | K29: =H29-G29 -> 0
... A47: =A46+1 -> 44988 | C47: =SUMPRODUCT(('Tableau remplacement'!$H$5:$H$37='Feuille vacation'!$E$7)*('Tableau remplacement'!$A$5:$A$37='Feuille vacation'!$A47)*('Tableau remplacement'!$K$5:$K$37)) -> 0 | D47: =SUMPRODUCT(('Tableau remplacement'!$H$5:$H$37='Feuille vacation'!$E$7)*('Tableau remplacement'!$A$5:$A$37='Feuille vacation'!$A47)*('Tableau remplacement'!$L$5:$L$37)) -> 0 | E47: =SUMPRODUCT(('Tableau remplacement'!$H$5:$H$37='Feuille vacation'!$E$7)*('Tableau remplacement'!$A$5:$A$37='Feuille vacation'!$A47)*('Tableau remplacement'!$M$5:$M$37)) -> 0 | F47: =SUMPRODUCT(('Tableau remplacement'!$H$5:$H$37='Feuille vacation'!$E$7)*('Tableau remplacement'!$A$5:$A$37='Feuille vacation'!$A47)*('Tableau remplacement'!$N$5:$N$37)) -> 0 | I47: =IF(WEEKDAY(A47)<>1,D47-C47+F47-E47,0)*24 -> 0 | J47: =IF(WEEKDAY(A47)=1,D47-C47+F47-E47,0)*24 -> 0 | K47: =H47-G47 -> 0
B48: Vu et certifié exact par : | G48: TOTAUX | I48: =SUM(I17:I47) -> 0 | J48: =SUM(J17:J47) -> 3.75 | K48: =SUM(K17:K47) -> 0 | L48: Visa de la DP / Visa du Directeur
L49: Recrutement du Personnel
G50: Cadre réservé à la DP
B51: date : | G51: A PAYER
G52: Heures normales
B53: (Visa du chef de service) | G53: Heures majorées 25%
G54: Heures dimanche 66,66%
G55: Heures nuit 100%

Sheet Tableau remplacement
C2: Horaires de Travail | K2: Horaires Remplacement
B3: Agent absent: | C3: Matin | E3: Après-midi | H3: Remplacé par: | K3: Matin | M3: Après-midi
A4: Date (jj/mm): | B4: Nom, Prénom: | C4: De | D4: à | E4: De | F4: à | G4: Raison absence: | H4: Nom, Prénom: | I4: Matricule: | J4: Nature de l'emploi: | K4: De | L4: à | M4: De | N4: à | O4: Justification des vacations
A5: 44960 | B5: Jean PAPERASSE | E5: 0.57291667 | F5: 0.79166667 | G5: Formation | H5: Jean DUPONT | I5: =IFERROR(VLOOKUP(H5,'Liste des vacataires'!$B$1:$C$57,2,FALSE),"") -> 043368 | M5: 0.57291667 | N5: 0.79166667 | O5: F POSS
A6: 44961 | B6: Sylvie ROUTE | E6: 0.58333333 | F6: 0.79861111 | G6: Congé Annuel | H6: Jean DUPONT | I6: =IFERROR(VLOOKUP(H6,'Liste des vacataires'!$B$1:$C$57,2,FALSE),"") -> 043368 | M6: 0.70138889 | N6: 0.79861111
A7: 44962 | H7: Jean DUPONT | I7: =IFERROR(VLOOKUP(H7,'Liste des vacataires'!$B$1:$C$57,2,FALSE),"") -> 043368 | K7: 0.35416667 | L7: 0.47916667
A8: 44963 | H8: Jean DUPONT | I8: =IFERROR(VLOOKUP(H8,'Liste des vacataires'!$B$1:$C$57,2,FALSE),"") -> 043368 | M8: 0.625 | N8: 0.79166667
A9: 44969 | H9: Alex DUPOND | I9: =IFERROR(VLOOKUP(H9,'Liste des vacataires'!$B$1:$C$57,2,FALSE),"") -> 042580 | K9: 0.34375 | L9: 0.5
I10: =IFERROR(VLOOKUP(H10,'Liste des vacataires'!$B$1:$C$57,2,FALSE),"")
I11: =IFERROR(VLOOKUP(H11,'Liste des vacataires'!$B$1:$C$57,2,FALSE),"")
I12: =IFERROR(VLOOKUP(H12,'Liste des vacataires'!$B$1:$C$57,2,FALSE),"")
I13: =IFERROR(VLOOKUP(H13,'Liste des vacataires'!$B$1:$C$57,2,FALSE),"")
I14: =IFERROR(VLOOKUP(H14,'Liste des vacataires'!$B$1:$C$57,2,FALSE),"")
I15: =IFERROR(VLOOKUP(H15,'Liste des vacataires'!$B$1:$C$57,2,FALSE),"")
I16: =IFERROR(VLOOKUP(H16,'Liste des vacataires'!$B$1:$C$57,2,FALSE),"")
I17: =IFERROR(VLOOKUP(H17,'Liste des vacataires'!$B$1:$C$57,2,FALSE),"")
I18: =IFERROR(VLOOKUP(H18,'Liste des vacataires'!$B$1:$C$57,2,FALSE),"")
I19: =IFERROR(VLOOKUP(H19,'Liste des vacataires'!$B$1:$C$57,2,FALSE),"")
I20: =IFERROR(VLOOKUP(H20,'Liste des vacataires'!$B$1:$C$57,2,FALSE),"")
I21: =IFERROR(VLOOKUP(H21,'Liste des vacataires'!$B$1:$C$57,2,FALSE),"")
... I37: =IFERROR(VLOOKUP(H37,'Liste des vacataires'!$B$1:$C$57,2,FALSE),"")

Sheet Liste des agents Titulaire
A1: Jean PAPERASSE
A2: Sylvie ROUTE

Sheet Jours fériés
A2: Année | B2: ='Feuille vacation'!M11+2022 -> 2023
A4: 1er Janvier | B4: =DATE($B$2,1,1) -> 44927
A5: Pâques | B5: =ROUND(DATE($B$2,4,MOD(234-11*MOD($B$2,19),30))/7,)*7-6 -> 45025
A6: Lundi de Pâques | B6: =$B$5+1 -> 45026
A7: 1er Mai | B7: =DATE($B$2,5,1) -> 45047
A8: 8 Mai | B8: =DATE($B$2,5,8) -> 45054
A9: Ascension | B9: =$B$5+39 -> 45064
A10: Lundi de Pentecôte | B10: =$B$5+50 -> 45075
A11: 14 Juillet | B11: =DATE($B$2,7,14) -> 45121
A12: 15 Août | B12: =DATE($B$2,8,15) -> 45153
A13: 1er Novembre | B13: =DATE($B$2,11,1) -> 45231
A14: 11 Novembre | B14: =DATE($B$2,11,11) -> 45241
A15: 25 Décembre | B15: =DATE($B$2,12,25) -> 45285

Sheet Liste des vacataires
B1: Jean DUPONT | C1: 043368 | D1: Acheteur
B2: Alex DUPOND | C2: 042580 | D2: Commercial

Sheet Raisons absences
A1: Arrêt maladie
A2: ASA
A3: Congé annuel
A4: Congé parentalité
A5: Formation
A6: Journée Agent
A7: Médecine du travail
A8: Récupération
A9: Réunion Service
A10: Réunion syndicale

Sheet Raisons vacations
A2: F POSS
A3: R EMN
A4: R SCO
A5: RENF

Sheet Feuil2
A1: Janvier | B1: 2023
A2: Février | B2: 2024
A3: Mars | B3: 2025
A4: Avril | B4: 2026
A5: Mai | B5: 2027
A6: Juin | B6: 2028
A7: Juillet | B7: 2029
A8: Août | B8: 2030
A9: Septembre
A10: Octobre
A11: Novembre
A12: Décembre
