Workbook

Sheet Test
A2: N° Devis | B2: Nom du client | C2: N° bon de commande | D2: Fournisseurs | E2: DATE | F2: MONTANT
A3: AA230101 | B3: TEST | C3: 2301AA01 | D3: TRIMO | E3: 44928 | F3: 50000
A4: AA230101 | B4: TEST | C4: 2301AA02 | D4: PORTISO | E4: 44929 | F4: 25000
A5: AA220506 | B5: TEST 3 | C5: 2301AA03 | D5: CEPI | E5: 44930 | F5: 10000
C6: 2301AA04
C7: 2301AA05
C8: 2301AA06
C9: 2301AA07

Sheet JANVIER
A2: N° Devis | B2: Nom du client | C2: N° bon de commande | D2: Colonne2 | E2: Fournisseurs | F2: DATE | G2: MONTANT | I2: PANNEAUX | K2: PROFILS | M2: QUINCAILLERIE | O2: ETANCHEITE
I3: ISOCAB | J3: =SUMIF(Tab_Janvier[Fournisseurs],I3,Tab_Janvier[MONTANT]) -> 0 | K3: ETS SIX | L3: =SUMIF(Tab_Janvier[Fournisseurs],K3,Tab_Janvier[MONTANT]) -> 0 | M3: FIXONE | N3: =SUMIF(Tab_Janvier[Fournisseurs],M3,Tab_Janvier[MONTANT]) -> 0 | O3: SIL3TEC | P3: =SUMIF(Tab_Janvier[Fournisseurs],O3,Tab_Janvier[MONTANT]) -> 0
I4: ARCELOR | J4: =SUMIF(Tab_Janvier[Fournisseurs],I4,Tab_Janvier[MONTANT]) -> 0 | K4: COMAT | L4: =SUMIF(Tab_Janvier[Fournisseurs],K4,Tab_Janvier[MONTANT]) -> 0 | M4: BAUDELET | N4: =SUMIF(Tab_Janvier[Fournisseurs],M4,Tab_Janvier[MONTANT]) -> 0 | O4: FIXONE COLLE | P4: =SUMIF(Tab_Janvier[Fournisseurs],O4,Tab_Janvier[MONTANT]) -> 0
I5: TRIMO | J5: =SUMIF(Tab_Janvier[Fournisseurs],I5,Tab_Janvier[MONTANT]) -> 0 | K5: PLIOUEST | L5: =SUMIF(Tab_Janvier[Fournisseurs],K5,Tab_Janvier[MONTANT]) -> 0 | M5: DFI | N5: =SUMIF(Tab_Janvier[Fournisseurs],M5,Tab_Janvier[MONTANT]) -> 0 | O5: DFI COLLE | P5: =SUMIF(Tab_Janvier[Fournisseurs],O5,Tab_Janvier[MONTANT]) -> 0
J6: =SUMIF(Tab_Janvier[Fournisseurs],I6,Tab_Janvier[MONTANT]) -> 0 | M6: TRENOIS | N6: =SUMIF(Tab_Janvier[Fournisseurs],M6,Tab_Janvier[MONTANT]) -> 0
A7: Total | G7: =SUBTOTAL(109,Tab_Janvier[MONTANT]) -> 0 | J7: =SUMIF(Tab_Janvier[Fournisseurs],I7,Tab_Janvier[MONTANT]) -> 0 | M7: MILBLED | N7: =SUMIF(Tab_Janvier[Fournisseurs],M7,Tab_Janvier[MONTANT]) -> 0
I8: CEPI | J8: =SUMIF(Tab_Janvier[Fournisseurs],I8,Tab_Janvier[MONTANT]) -> 0
I12: PORTES ET CHASSIS | K12: TRANSPORTEUR / LOUEUR | M12: DIVERS / PLASTIQUE
I13: ACORA | J13: =SUMIF(Tab_Janvier[Fournisseurs],I13,Tab_Janvier[MONTANT]) -> 0 | K13: DIRECT FRET | L13: =SUMIF(Tab_Janvier[Fournisseurs],K13,Tab_Janvier[MONTANT]) -> 0 | M13: PLASTIQUE | N13: =SUMIF(Tab_Janvier[Fournisseurs],M13,Tab_Janvier[MONTANT]) -> 0
I14: PORTISO | J14: =SUMIF(Tab_Janvier[Fournisseurs],I14,Tab_Janvier[MONTANT]) -> 0 | K14: COURSIER SERVICE | L14: =SUMIF(Tab_Janvier[Fournisseurs],K14,Tab_Janvier[MONTANT]) -> 0 | M14: ALU CB | N14: =SUMIF(Tab_Janvier[Fournisseurs],M14,Tab_Janvier[MONTANT]) -> 0
I15: TELEWIG | J15: =SUMIF(Tab_Janvier[Fournisseurs],I15,Tab_Janvier[MONTANT]) -> 0 | K15: MARISSAEL | L15: =SUMIF(Tab_Janvier[Fournisseurs],K15,Tab_Janvier[MONTANT]) -> 0 | M15: REXEL | N15: =SUMIF(Tab_Janvier[Fournisseurs],M15,Tab_Janvier[MONTANT]) -> 0
I16: MICADO | J16: =SUMIF(Tab_Janvier[Fournisseurs],I16,Tab_Janvier[MONTANT]) -> 0 | K16: ACCES | L16: =SUMIF(Tab_Janvier[Fournisseurs],K16,Tab_Janvier[MONTANT]) -> 0 | M16: WURTH | N16: =SUMIF(Tab_Janvier[Fournisseurs],M16,Tab_Janvier[MONTANT]) -> 0
K17: KILOUTOU | L17: =SUMIF(Tab_Janvier[Fournisseurs],K17,Tab_Janvier[MONTANT]) -> 0 | N17: =SUMIF(Tab_Janvier[Fournisseurs],M17,Tab_Janvier[MONTANT]) -> 0
M18: AUTRE | N18: =SUMIF(Tab_Janvier[Fournisseurs],M18,Tab_Janvier[MONTANT]) -> 0
I20: Vérification | J20: =SUM(J3:J8,L3:L8,N3:N8,P3:P8,J13:J18,L13:L18,N13:N18) -> 0

Sheet FEVRIER
A2: N° Devis | B2: Nom du client | C2: N° bon de commande | D2: Colonne2 | E2: Fournisseurs | F2: DATE | G2: MONTANT | I2: PANNEAUX | K2: PROFILS | M2: QUINCAILLERIE | O2: ETANCHEITE
C3: 2302JA01 | I3: ISOCAB | J3: =SUMIF(Tab_Fevrier[Fournisseurs],I3,Tab_Fevrier[MONTANT]) -> 0 | K3: ETS SIX | L3: =SUMIF(Tab_Fevrier[Fournisseurs],K3,Tab_Fevrier[MONTANT]) -> 0 | M3: FIXONE | N3: =SUMIF(Tab_Fevrier[Fournisseurs],M3,Tab_Fevrier[MONTANT]) -> 0 | O3: SIL3TEC | P3: =SUMIF(Tab_Fevrier[Fournisseurs],O3,Tab_Fevrier[MONTANT]) -> 0
A4: Total | G4: =SUBTOTAL(103,Tab_Fevrier[MONTANT]) -> 0 | I4: ARCELOR | J4: =SUMIF(Tab_Fevrier[Fournisseurs],I4,Tab_Fevrier[MONTANT]) -> 0 | K4: COMAT | L4: =SUMIF(Tab_Fevrier[Fournisseurs],K4,Tab_Fevrier[MONTANT]) -> 0 | M4: BAUDELET | N4: =SUMIF(Tab_Fevrier[Fournisseurs],M4,Tab_Fevrier[MONTANT]) -> 0 | O4: FIXONE COLLE | P4: =SUMIF(Tab_Fevrier[Fournisseurs],O4,Tab_Fevrier[MONTANT]) -> 0
I5: TRIMO | J5: =SUMIF(Tab_Fevrier[Fournisseurs],I5,Tab_Fevrier[MONTANT]) -> 0 | K5: PLIOUEST | L5: =SUMIF(Tab_Fevrier[Fournisseurs],K5,Tab_Fevrier[MONTANT]) -> 0 | M5: DFI | N5: =SUMIF(Tab_Fevrier[Fournisseurs],M5,Tab_Fevrier[MONTANT]) -> 0 | O5: DFI COLLE | P5: =SUMIF(Tab_Fevrier[Fournisseurs],O5,Tab_Fevrier[MONTANT]) -> 0
J6: =SUMIF(Tab_Fevrier[Fournisseurs],I6,Tab_Fevrier[MONTANT]) -> 0 | L6: =SUMIF(Tab_Fevrier[Fournisseurs],K6,Tab_Fevrier[MONTANT]) -> 0 | M6: TRENOIS | N6: =SUMIF(Tab_Fevrier[Fournisseurs],M6,Tab_Fevrier[MONTANT]) -> 0 | P6: =SUMIF(Tab_Fevrier[Fournisseurs],O6,Tab_Fevrier[MONTANT]) -> 0
J7: =SUMIF(Tab_Fevrier[Fournisseurs],I7,Tab_Fevrier[MONTANT]) -> 0 | L7: =SUMIF(Tab_Fevrier[Fournisseurs],K7,Tab_Fevrier[MONTANT]) -> 0 | M7: MILBLED | N7: =SUMIF(Tab_Fevrier[Fournisseurs],M7,Tab_Fevrier[MONTANT]) -> 0 | P7: =SUMIF(Tab_Fevrier[Fournisseurs],O7,Tab_Fevrier[MONTANT]) -> 0
I8: CEPI | J8: =SUMIF(Tab_Fevrier[Fournisseurs],I8,Tab_Fevrier[MONTANT]) -> 0 | L8: =SUMIF(Tab_Fevrier[Fournisseurs],K8,Tab_Fevrier[MONTANT]) -> 0 | N8: =SUMIF(Tab_Fevrier[Fournisseurs],M8,Tab_Fevrier[MONTANT]) -> 0 | P8: =SUMIF(Tab_Fevrier[Fournisseurs],O8,Tab_Fevrier[MONTANT]) -> 0
I12: PORTES ET CHASSIS | K12: TRANSPORTEUR / LOUEUR | M12: DIVERS / PLASTIQUE
I13: ACORA | J13: =SUMIF(Tab_Fevrier[Fournisseurs],I13,Tab_Fevrier[MONTANT]) -> 0 | K13: DIRECT FRET | L13: =SUMIF(Tab_Fevrier[Fournisseurs],K13,Tab_Fevrier[MONTANT]) -> 0 | M13: PLASTIQUE | N13: =SUMIF(Tab_Fevrier[Fournisseurs],M13,Tab_Fevrier[MONTANT]) -> 0
I14: PORTISO | J14: =SUMIF(Tab_Fevrier[Fournisseurs],I14,Tab_Fevrier[MONTANT]) -> 0 | K14: COURSIER SERVICE | L14: =SUMIF(Tab_Fevrier[Fournisseurs],K14,Tab_Fevrier[MONTANT]) -> 0 | M14: ALU CB | N14: =SUMIF(Tab_Fevrier[Fournisseurs],M14,Tab_Fevrier[MONTANT]) -> 0
I15: TELEWIG | J15: =SUMIF(Tab_Fevrier[Fournisseurs],I15,Tab_Fevrier[MONTANT]) -> 0 | K15: MARISSAEL | L15: =SUMIF(Tab_Fevrier[Fournisseurs],K15,Tab_Fevrier[MONTANT]) -> 0 | M15: REXEL | N15: =SUMIF(Tab_Fevrier[Fournisseurs],M15,Tab_Fevrier[MONTANT]) -> 0
I16: MICADO | J16: =SUMIF(Tab_Fevrier[Fournisseurs],I16,Tab_Fevrier[MONTANT]) -> 0 | K16: ACCES | L16: =SUMIF(Tab_Fevrier[Fournisseurs],K16,Tab_Fevrier[MONTANT]) -> 0 | M16: WURTH | N16: =SUMIF(Tab_Fevrier[Fournisseurs],M16,Tab_Fevrier[MONTANT]) -> 0
J17: =SUMIF(Tab_Fevrier[Fournisseurs],I17,Tab_Fevrier[MONTANT]) -> 0 | K17: KILOUTOU | L17: =SUMIF(Tab_Fevrier[Fournisseurs],K17,Tab_Fevrier[MONTANT]) -> 0 | N17: =SUMIF(Tab_Fevrier[Fournisseurs],M17,Tab_Fevrier[MONTANT]) -> 0
J18: =SUMIF(Tab_Fevrier[Fournisseurs],I18,Tab_Fevrier[MONTANT]) -> 0 | L18: =SUMIF(Tab_Fevrier[Fournisseurs],K18,Tab_Fevrier[MONTANT]) -> 0 | M18: AUTRE | N18: =SUMIF(Tab_Fevrier[Fournisseurs],M18,Tab_Fevrier[MONTANT]) -> 0
I20: Vérification | J20: =SUM(J3:J8,L3:L8,N3:N8,P3:P8,J13:J18,L13:L18,N13:N18) -> 0

Sheet MARS
A2: N° Devis | B2: Nom du client | C2: N° bon de commande | D2: Colonne2 | E2: Fournisseurs | F2: DATE | G2: MONTANT | I2: PANNEAUX | K2: PROFILS | M2: QUINCAILLERIE | O2: ETANCHEITE
C3: 2303JA01 | I3: ISOCAB | J3: =SUMIF(Tab_Mars[Fournisseurs],I3,Tab_Mars[MONTANT]) -> 0 | K3: ETS SIX | L3: =SUMIF(Tab_Mars[Fournisseurs],K3,Tab_Mars[MONTANT]) -> 0 | M3: FIXONE | N3: =SUMIF(Tab_Mars[Fournisseurs],M3,Tab_Mars[MONTANT]) -> 0 | O3: SIL3TEC | P3: =SUMIF(Tab_Mars[Fournisseurs],O3,Tab_Mars[MONTANT]) -> 0
A4: Total | G4: =SUBTOTAL(103,Tab_Mars[MONTANT]) -> 0 | I4: ARCELOR | J4: =SUMIF(Tab_Mars[Fournisseurs],I4,Tab_Mars[MONTANT]) -> 0 | K4: COMAT | L4: =SUMIF(Tab_Mars[Fournisseurs],K4,Tab_Mars[MONTANT]) -> 0 | M4: BAUDELET | N4: =SUMIF(Tab_Mars[Fournisseurs],M4,Tab_Mars[MONTANT]) -> 0 | O4: FIXONE COLLE | P4: =SUMIF(Tab_Mars[Fournisseurs],O4,Tab_Mars[MONTANT]) -> 0
I5: TRIMO | J5: =SUMIF(Tab_Mars[Fournisseurs],I5,Tab_Mars[MONTANT]) -> 0 | K5: PLIOUEST | L5: =SUMIF(Tab_Mars[Fournisseurs],K5,Tab_Mars[MONTANT]) -> 0 | M5: DFI | N5: =SUMIF(Tab_Mars[Fournisseurs],M5,Tab_Mars[MONTANT]) -> 0 | O5: DFI COLLE | P5: =SUMIF(Tab_Mars[Fournisseurs],O5,Tab_Mars[MONTANT]) -> 0
J6: =SUMIF(Tab_Mars[Fournisseurs],I6,Tab_Mars[MONTANT]) -> 0 | L6: =SUMIF(Tab_Mars[Fournisseurs],K6,Tab_Mars[MONTANT]) -> 0 | M6: TRENOIS | N6: =SUMIF(Tab_Mars[Fournisseurs],M6,Tab_Mars[MONTANT]) -> 0 | P6: =SUMIF(Tab_Mars[Fournisseurs],O6,Tab_Mars[MONTANT]) -> 0
J7: =SUMIF(Tab_Mars[Fournisseurs],I7,Tab_Mars[MONTANT]) -> 0 | L7: =SUMIF(Tab_Mars[Fournisseurs],K7,Tab_Mars[MONTANT]) -> 0 | M7: MILBLED | N7: =SUMIF(Tab_Mars[Fournisseurs],M7,Tab_Mars[MONTANT]) -> 0 | P7: =SUMIF(Tab_Mars[Fournisseurs],O7,Tab_Mars[MONTANT]) -> 0
I8: CEPI | J8: =SUMIF(Tab_Mars[Fournisseurs],I8,Tab_Mars[MONTANT]) -> 0 | L8: =SUMIF(Tab_Mars[Fournisseurs],K8,Tab_Mars[MONTANT]) -> 0 | N8: =SUMIF(Tab_Mars[Fournisseurs],M8,Tab_Mars[MONTANT]) -> 0 | P8: =SUMIF(Tab_Mars[Fournisseurs],O8,Tab_Mars[MONTANT]) -> 0
I12: PORTES ET CHASSIS | K12: TRANSPORTEUR / LOUEUR | M12: DIVERS / PLASTIQUE
I13: ACORA | J13: =SUMIF(Tab_Mars[Fournisseurs],I13,Tab_Mars[MONTANT]) -> 0 | K13: DIRECT FRET | L13: =SUMIF(Tab_Mars[Fournisseurs],K13,Tab_Mars[MONTANT]) -> 0 | M13: PLASTIQUE | N13: =SUMIF(Tab_Mars[Fournisseurs],M13,Tab_Mars[MONTANT]) -> 0
I14: PORTISO | J14: =SUMIF(Tab_Mars[Fournisseurs],I14,Tab_Mars[MONTANT]) -> 0 | K14: COURSIER SERVICE | L14: =SUMIF(Tab_Mars[Fournisseurs],K14,Tab_Mars[MONTANT]) -> 0 | M14: ALU CB | N14: =SUMIF(Tab_Mars[Fournisseurs],M14,Tab_Mars[MONTANT]) -> 0
I15: TELEWIG | J15: =SUMIF(Tab_Mars[Fournisseurs],I15,Tab_Mars[MONTANT]) -> 0 | K15: MARISSAEL | L15: =SUMIF(Tab_Mars[Fournisseurs],K15,Tab_Mars[MONTANT]) -> 0 | M15: REXEL | N15: =SUMIF(Tab_Mars[Fournisseurs],M15,Tab_Mars[MONTANT]) -> 0
I16: MICADO | J16: =SUMIF(Tab_Mars[Fournisseurs],I16,Tab_Mars[MONTANT]) -> 0 | K16: ACCES | L16: =SUMIF(Tab_Mars[Fournisseurs],K16,Tab_Mars[MONTANT]) -> 0 | M16: WURTH | N16: =SUMIF(Tab_Mars[Fournisseurs],M16,Tab_Mars[MONTANT]) -> 0
J17: =SUMIF(Tab_Mars[Fournisseurs],I17,Tab_Mars[MONTANT]) -> 0 | K17: KILOUTOU | L17: =SUMIF(Tab_Mars[Fournisseurs],K17,Tab_Mars[MONTANT]) -> 0 | N17: =SUMIF(Tab_Mars[Fournisseurs],M17,Tab_Mars[MONTANT]) -> 0
J18: =SUMIF(Tab_Mars[Fournisseurs],I18,Tab_Mars[MONTANT]) -> 0 | L18: =SUMIF(Tab_Mars[Fournisseurs],K18,Tab_Mars[MONTANT]) -> 0 | M18: AUTRE | N18: =SUMIF(Tab_Mars[Fournisseurs],M18,Tab_Mars[MONTANT]) -> 0
I20: Vérification | J20: =SUM(J3:J8,L3:L8,N3:N8,P3:P8,J13:J18,L13:L18,N13:N18) -> 0

Sheet AVRIL
A2: N° Devis | B2: Nom du client | C2: N° bon de commande | D2: Colonne2 | E2: Fournisseurs | F2: DATE | G2: MONTANT | I2: PANNEAUX | K2: PROFILS | M2: QUINCAILLERIE | O2: ETANCHEITE
C3: 2304JA01 | I3: ISOCAB | J3: =SUMIF(Tab_Avril[Fournisseurs],I3,Tab_Avril[MONTANT]) -> 0 | K3: ETS SIX | L3: =SUMIF(Tab_Avril[Fournisseurs],K3,Tab_Avril[MONTANT]) -> 0 | M3: FIXONE | N3: =SUMIF(Tab_Avril[Fournisseurs],M3,Tab_Avril[MONTANT]) -> 0 | O3: SIL3TEC | P3: =SUMIF(Tab_Avril[Fournisseurs],O3,Tab_Avril[MONTANT]) -> 0
A4: Total | G4: =SUBTOTAL(103,Tab_Avril[MONTANT]) -> 0 | I4: ARCELOR | J4: =SUMIF(Tab_Avril[Fournisseurs],I4,Tab_Avril[MONTANT]) -> 0 | K4: COMAT | L4: =SUMIF(Tab_Avril[Fournisseurs],K4,Tab_Avril[MONTANT]) -> 0 | M4: BAUDELET | N4: =SUMIF(Tab_Avril[Fournisseurs],M4,Tab_Avril[MONTANT]) -> 0 | O4: FIXONE COLLE | P4: =SUMIF(Tab_Avril[Fournisseurs],O4,Tab_Avril[MONTANT]) -> 0
I5: TRIMO | J5: =SUMIF(Tab_Avril[Fournisseurs],I5,Tab_Avril[MONTANT]) -> 0 | K5: PLIOUEST | L5: =SUMIF(Tab_Avril[Fournisseurs],K5,Tab_Avril[MONTANT]) -> 0 | M5: DFI | N5: =SUMIF(Tab_Avril[Fournisseurs],M5,Tab_Avril[MONTANT]) -> 0 | O5: DFI COLLE | P5: =SUMIF(Tab_Avril[Fournisseurs],O5,Tab_Avril[MONTANT]) -> 0
J6: =SUMIF(Tab_Avril[Fournisseurs],I6,Tab_Avril[MONTANT]) -> 0 | L6: =SUMIF(Tab_Avril[Fournisseurs],K6,Tab_Avril[MONTANT]) -> 0 | M6: TRENOIS | N6: =SUMIF(Tab_Avril[Fournisseurs],M6,Tab_Avril[MONTANT]) -> 0 | P6: =SUMIF(Tab_Avril[Fournisseurs],O6,Tab_Avril[MONTANT]) -> 0
J7: =SUMIF(Tab_Avril[Fournisseurs],I7,Tab_Avril[MONTANT]) -> 0 | L7: =SUMIF(Tab_Avril[Fournisseurs],K7,Tab_Avril[MONTANT]) -> 0 | M7: MILBLED | N7: =SUMIF(Tab_Avril[Fournisseurs],M7,Tab_Avril[MONTANT]) -> 0 | P7: =SUMIF(Tab_Avril[Fournisseurs],O7,Tab_Avril[MONTANT]) -> 0
I8: CEPI | J8: =SUMIF(Tab_Avril[Fournisseurs],I8,Tab_Avril[MONTANT]) -> 0 | L8: =SUMIF(Tab_Avril[Fournisseurs],K8,Tab_Avril[MONTANT]) -> 0 | N8: =SUMIF(Tab_Avril[Fournisseurs],M8,Tab_Avril[MONTANT]) -> 0 | P8: =SUMIF(Tab_Avril[Fournisseurs],O8,Tab_Avril[MONTANT]) -> 0
I12: PORTES ET CHASSIS | K12: TRANSPORTEUR / LOUEUR | M12: DIVERS / PLASTIQUE
I13: ACORA | J13: =SUMIF(Tab_Avril[Fournisseurs],I13,Tab_Avril[MONTANT]) -> 0 | K13: DIRECT FRET | L13: =SUMIF(Tab_Avril[Fournisseurs],K13,Tab_Avril[MONTANT]) -> 0 | M13: PLASTIQUE | N13: =SUMIF(Tab_Avril[Fournisseurs],M13,Tab_Avril[MONTANT]) -> 0
I14: PORTISO | J14: =SUMIF(Tab_Avril[Fournisseurs],I14,Tab_Avril[MONTANT]) -> 0 | K14: COURSIER SERVICE | L14: =SUMIF(Tab_Avril[Fournisseurs],K14,Tab_Avril[MONTANT]) -> 0 | M14: ALU CB | N14: =SUMIF(Tab_Avril[Fournisseurs],M14,Tab_Avril[MONTANT]) -> 0
I15: TELEWIG | J15: =SUMIF(Tab_Avril[Fournisseurs],I15,Tab_Avril[MONTANT]) -> 0 | K15: MARISSAEL | L15: =SUMIF(Tab_Avril[Fournisseurs],K15,Tab_Avril[MONTANT]) -> 0 | M15: REXEL | N15: =SUMIF(Tab_Avril[Fournisseurs],M15,Tab_Avril[MONTANT]) -> 0
I16: MICADO | J16: =SUMIF(Tab_Avril[Fournisseurs],I16,Tab_Avril[MONTANT]) -> 0 | K16: ACCES | L16: =SUMIF(Tab_Avril[Fournisseurs],K16,Tab_Avril[MONTANT]) -> 0 | M16: WURTH | N16: =SUMIF(Tab_Avril[Fournisseurs],M16,Tab_Avril[MONTANT]) -> 0
J17: =SUMIF(Tab_Avril[Fournisseurs],I17,Tab_Avril[MONTANT]) -> 0 | K17: KILOUTOU | L17: =SUMIF(Tab_Avril[Fournisseurs],K17,Tab_Avril[MONTANT]) -> 0 | N17: =SUMIF(Tab_Avril[Fournisseurs],M17,Tab_Avril[MONTANT]) -> 0
J18: =SUMIF(Tab_Avril[Fournisseurs],I18,Tab_Avril[MONTANT]) -> 0 | L18: =SUMIF(Tab_Avril[Fournisseurs],K18,Tab_Avril[MONTANT]) -> 0 | M18: AUTRE | N18: =SUMIF(Tab_Avril[Fournisseurs],M18,Tab_Avril[MONTANT]) -> 0
I20: Vérification | J20: =SUM(J3:J8,L3:L8,N3:N8,P3:P8,J13:J18,L13:L18,N13:N18) -> 0

Sheet MAI
A2: N° Devis | B2: Nom du client | C2: N° bon de commande | D2: Colonne2 | E2: Fournisseurs | F2: DATE | G2: MONTANT | I2: PANNEAUX | K2: PROFILS | M2: QUINCAILLERIE | O2: ETANCHEITE
C3: 2305JA01 | I3: ISOCAB | J3: =SUMIF(Tab_Mai[Fournisseurs],I3,Tab_Mai[MONTANT]) -> 0 | K3: ETS SIX | L3: =SUMIF(Tab_Mai[Fournisseurs],K3,Tab_Mai[MONTANT]) -> 0 | M3: FIXONE | N3: =SUMIF(Tab_Mai[Fournisseurs],M3,Tab_Mai[MONTANT]) -> 0 | O3: SIL3TEC | P3: =SUMIF(Tab_Mai[Fournisseurs],O3,Tab_Mai[MONTANT]) -> 0
A4: Total | G4: =SUBTOTAL(103,Tab_Mai[MONTANT]) -> 0 | I4: ARCELOR | J4: =SUMIF(Tab_Mai[Fournisseurs],I4,Tab_Mai[MONTANT]) -> 0 | K4: COMAT | L4: =SUMIF(Tab_Mai[Fournisseurs],K4,Tab_Mai[MONTANT]) -> 0 | M4: BAUDELET | N4: =SUMIF(Tab_Mai[Fournisseurs],M4,Tab_Mai[MONTANT]) -> 0 | O4: FIXONE COLLE | P4: =SUMIF(Tab_Mai[Fournisseurs],O4,Tab_Mai[MONTANT]) -> 0
I5: TRIMO | J5: =SUMIF(Tab_Mai[Fournisseurs],I5,Tab_Mai[MONTANT]) -> 0 | K5: PLIOUEST | L5: =SUMIF(Tab_Mai[Fournisseurs],K5,Tab_Mai[MONTANT]) -> 0 | M5: DFI | N5: =SUMIF(Tab_Mai[Fournisseurs],M5,Tab_Mai[MONTANT]) -> 0 | O5: DFI COLLE | P5: =SUMIF(Tab_Mai[Fournisseurs],O5,Tab_Mai[MONTANT]) -> 0
J6: =SUMIF(Tab_Mai[Fournisseurs],I6,Tab_Mai[MONTANT]) -> 0 | L6: =SUMIF(Tab_Mai[Fournisseurs],K6,Tab_Mai[MONTANT]) -> 0 | M6: TRENOIS | N6: =SUMIF(Tab_Mai[Fournisseurs],M6,Tab_Mai[MONTANT]) -> 0 | P6: =SUMIF(Tab_Mai[Fournisseurs],O6,Tab_Mai[MONTANT]) -> 0
J7: =SUMIF(Tab_Mai[Fournisseurs],I7,Tab_Mai[MONTANT]) -> 0 | L7: =SUMIF(Tab_Mai[Fournisseurs],K7,Tab_Mai[MONTANT]) -> 0 | M7: MILBLED | N7: =SUMIF(Tab_Mai[Fournisseurs],M7,Tab_Mai[MONTANT]) -> 0 | P7: =SUMIF(Tab_Mai[Fournisseurs],O7,Tab_Mai[MONTANT]) -> 0
I8: CEPI | J8: =SUMIF(Tab_Mai[Fournisseurs],I8,Tab_Mai[MONTANT]) -> 0 | L8: =SUMIF(Tab_Mai[Fournisseurs],K8,Tab_Mai[MONTANT]) -> 0 | N8: =SUMIF(Tab_Mai[Fournisseurs],M8,Tab_Mai[MONTANT]) -> 0 | P8: =SUMIF(Tab_Mai[Fournisseurs],O8,Tab_Mai[MONTANT]) -> 0
I12: PORTES ET CHASSIS | K12: TRANSPORTEUR / LOUEUR | M12: DIVERS / PLASTIQUE
I13: ACORA | J13: =SUMIF(Tab_Mai[Fournisseurs],I13,Tab_Mai[MONTANT]) -> 0 | K13: DIRECT FRET | L13: =SUMIF(Tab_Mai[Fournisseurs],K13,Tab_Mai[MONTANT]) -> 0 | M13: PLASTIQUE | N13: =SUMIF(Tab_Mai[Fournisseurs],M13,Tab_Mai[MONTANT]) -> 0
I14: PORTISO | J14: =SUMIF(Tab_Mai[Fournisseurs],I14,Tab_Mai[MONTANT]) -> 0 | K14: COURSIER SERVICE | L14: =SUMIF(Tab_Mai[Fournisseurs],K14,Tab_Mai[MONTANT]) -> 0 | M14: ALU CB | N14: =SUMIF(Tab_Mai[Fournisseurs],M14,Tab_Mai[MONTANT]) -> 0
I15: TELEWIG | J15: =SUMIF(Tab_Mai[Fournisseurs],I15,Tab_Mai[MONTANT]) -> 0 | K15: MARISSAEL | L15: =SUMIF(Tab_Mai[Fournisseurs],K15,Tab_Mai[MONTANT]) -> 0 | M15: REXEL | N15: =SUMIF(Tab_Mai[Fournisseurs],M15,Tab_Mai[MONTANT]) -> 0
I16: MICADO | J16: =SUMIF(Tab_Mai[Fournisseurs],I16,Tab_Mai[MONTANT]) -> 0 | K16: ACCES | L16: =SUMIF(Tab_Mai[Fournisseurs],K16,Tab_Mai[MONTANT]) -> 0 | M16: WURTH | N16: =SUMIF(Tab_Mai[Fournisseurs],M16,Tab_Mai[MONTANT]) -> 0
J17: =SUMIF(Tab_Mai[Fournisseurs],I17,Tab_Mai[MONTANT]) -> 0 | K17: KILOUTOU | L17: =SUMIF(Tab_Mai[Fournisseurs],K17,Tab_Mai[MONTANT]) -> 0 | N17: =SUMIF(Tab_Mai[Fournisseurs],M17,Tab_Mai[MONTANT]) -> 0
J18: =SUMIF(Tab_Mai[Fournisseurs],I18,Tab_Mai[MONTANT]) -> 0 | L18: =SUMIF(Tab_Mai[Fournisseurs],K18,Tab_Mai[MONTANT]) -> 0 | M18: AUTRE | N18: =SUMIF(Tab_Mai[Fournisseurs],M18,Tab_Mai[MONTANT]) -> 0
I20: Vérification | J20: =SUM(J3:J8,L3:L8,N3:N8,P3:P8,J13:J18,L13:L18,N13:N18) -> 0

Sheet JUIN
A2: N° Devis | B2: Nom du client | C2: N° bon de commande | D2: Colonne2 | E2: Fournisseurs | F2: DATE | G2: MONTANT | I2: PANNEAUX | K2: PROFILS | M2: QUINCAILLERIE | O2: ETANCHEITE
C3: 2306JA01 | I3: ISOCAB | J3: =SUMIF(Tab_Juin[Fournisseurs],I3,Tab_Juin[MONTANT]) -> 0 | K3: ETS SIX | L3: =SUMIF(Tab_Juin[Fournisseurs],K3,Tab_Juin[MONTANT]) -> 0 | M3: FIXONE | N3: =SUMIF(Tab_Juin[Fournisseurs],M3,Tab_Juin[MONTANT]) -> 0 | O3: SIL3TEC | P3: =SUMIF(Tab_Juin[Fournisseurs],O3,Tab_Juin[MONTANT]) -> 0
A4: Total | G4: =SUBTOTAL(103,Tab_Juin[MONTANT]) -> 0 | I4: ARCELOR | J4: =SUMIF(Tab_Juin[Fournisseurs],I4,Tab_Juin[MONTANT]) -> 0 | K4: COMAT | L4: =SUMIF(Tab_Juin[Fournisseurs],K4,Tab_Juin[MONTANT]) -> 0 | M4: BAUDELET | N4: =SUMIF(Tab_Juin[Fournisseurs],M4,Tab_Juin[MONTANT]) -> 0 | O4: FIXONE COLLE | P4: =SUMIF(Tab_Juin[Fournisseurs],O4,Tab_Juin[MONTANT]) -> 0
I5: TRIMO | J5: =SUMIF(Tab_Juin[Fournisseurs],I5,Tab_Juin[MONTANT]) -> 0 | K5: PLIOUEST | L5: =SUMIF(Tab_Juin[Fournisseurs],K5,Tab_Juin[MONTANT]) -> 0 | M5: DFI | N5: =SUMIF(Tab_Juin[Fournisseurs],M5,Tab_Juin[MONTANT]) -> 0 | O5: DFI COLLE | P5: =SUMIF(Tab_Juin[Fournisseurs],O5,Tab_Juin[MONTANT]) -> 0
J6: =SUMIF(Tab_Juin[Fournisseurs],I6,Tab_Juin[MONTANT]) -> 0 | L6: =SUMIF(Tab_Juin[Fournisseurs],K6,Tab_Juin[MONTANT]) -> 0 | M6: TRENOIS | N6: =SUMIF(Tab_Juin[Fournisseurs],M6,Tab_Juin[MONTANT]) -> 0 | P6: =SUMIF(Tab_Juin[Fournisseurs],O6,Tab_Juin[MONTANT]) -> 0
J7: =SUMIF(Tab_Juin[Fournisseurs],I7,Tab_Juin[MONTANT]) -> 0 | L7: =SUMIF(Tab_Juin[Fournisseurs],K7,Tab_Juin[MONTANT]) -> 0 | M7: MILBLED | N7: =SUMIF(Tab_Juin[Fournisseurs],M7,Tab_Juin[MONTANT]) -> 0 | P7: =SUMIF(Tab_Juin[Fournisseurs],O7,Tab_Juin[MONTANT]) -> 0
I8: CEPI | J8: =SUMIF(Tab_Juin[Fournisseurs],I8,Tab_Juin[MONTANT]) -> 0 | L8: =SUMIF(Tab_Juin[Fournisseurs],K8,Tab_Juin[MONTANT]) -> 0 | N8: =SUMIF(Tab_Juin[Fournisseurs],M8,Tab_Juin[MONTANT]) -> 0 | P8: =SUMIF(Tab_Juin[Fournisseurs],O8,Tab_Juin[MONTANT]) -> 0
I12: PORTES ET CHASSIS | K12: TRANSPORTEUR / LOUEUR | M12: DIVERS / PLASTIQUE
I13: ACORA | J13: =SUMIF(Tab_Juin[Fournisseurs],I13,Tab_Juin[MONTANT]) -> 0 | K13: DIRECT FRET | L13: =SUMIF(Tab_Juin[Fournisseurs],K13,Tab_Juin[MONTANT]) -> 0 | M13: PLASTIQUE | N13: =SUMIF(Tab_Juin[Fournisseurs],M13,Tab_Juin[MONTANT]) -> 0
I14: PORTISO | J14: =SUMIF(Tab_Juin[Fournisseurs],I14,Tab_Juin[MONTANT]) -> 0 | K14: COURSIER SERVICE | L14: =SUMIF(Tab_Juin[Fournisseurs],K14,Tab_Juin[MONTANT]) -> 0 | M14: ALU CB | N14: =SUMIF(Tab_Juin[Fournisseurs],M14,Tab_Juin[MONTANT]) -> 0
I15: TELEWIG | J15: =SUMIF(Tab_Juin[Fournisseurs],I15,Tab_Juin[MONTANT]) -> 0 | K15: MARISSAEL | L15: =SUMIF(Tab_Juin[Fournisseurs],K15,Tab_Juin[MONTANT]) -> 0 | M15: REXEL | N15: =SUMIF(Tab_Juin[Fournisseurs],M15,Tab_Juin[MONTANT]) -> 0
I16: MICADO | J16: =SUMIF(Tab_Juin[Fournisseurs],I16,Tab_Juin[MONTANT]) -> 0 | K16: ACCES | L16: =SUMIF(Tab_Juin[Fournisseurs],K16,Tab_Juin[MONTANT]) -> 0 | M16: WURTH | N16: =SUMIF(Tab_Juin[Fournisseurs],M16,Tab_Juin[MONTANT]) -> 0
J17: =SUMIF(Tab_Juin[Fournisseurs],I17,Tab_Juin[MONTANT]) -> 0 | K17: KILOUTOU | L17: =SUMIF(Tab_Juin[Fournisseurs],K17,Tab_Juin[MONTANT]) -> 0 | N17: =SUMIF(Tab_Juin[Fournisseurs],M17,Tab_Juin[MONTANT]) -> 0
J18: =SUMIF(Tab_Juin[Fournisseurs],I18,Tab_Juin[MONTANT]) -> 0 | L18: =SUMIF(Tab_Juin[Fournisseurs],K18,Tab_Juin[MONTANT]) -> 0 | M18: AUTRE | N18: =SUMIF(Tab_Juin[Fournisseurs],M18,Tab_Juin[MONTANT]) -> 0
I20: Vérification | J20: =SUM(J3:J8,L3:L8,N3:N8,P3:P8,J13:J18,L13:L18,N13:N18) -> 0

Sheet JUILLET
A2: N° Devis | B2: Nom du client | C2: N° bon de commande | D2: Colonne1 | E2: Fournisseurs | F2: DATE | G2: MONTANT | I2: PANNEAUX | K2: PROFILS | M2: QUINCAILLERIE | O2: ETANCHEITE
C3: 2307JA01 | I3: ISOCAB | J3: =SUMIF(Tab_Juillet[Fournisseurs],I3,Tab_Juillet[MONTANT]) -> 0 | K3: ETS SIX | L3: =SUMIF(Tab_Juillet[Fournisseurs],K3,Tab_Juillet[MONTANT]) -> 0 | M3: FIXONE | N3: =SUMIF(Tab_Juillet[Fournisseurs],M3,Tab_Juillet[MONTANT]) -> 0 | O3: SIL3TEC | P3: =SUMIF(Tab_Juillet[Fournisseurs],O3,Tab_Juillet[MONTANT]) -> 0
A4: Total | G4: =SUBTOTAL(103,Tab_Juillet[MONTANT]) -> 0 | I4: ARCELOR | J4: =SUMIF(Tab_Juillet[Fournisseurs],I4,Tab_Juillet[MONTANT]) -> 0 | K4: COMAT | L4: =SUMIF(Tab_Juillet[Fournisseurs],K4,Tab_Juillet[MONTANT]) -> 0 | M4: BAUDELET | N4: =SUMIF(Tab_Juillet[Fournisseurs],M4,Tab_Juillet[MONTANT]) -> 0 | O4: FIXONE COLLE | P4: =SUMIF(Tab_Juillet[Fournisseurs],O4,Tab_Juillet[MONTANT]) -> 0
I5: TRIMO | J5: =SUMIF(Tab_Juillet[Fournisseurs],I5,Tab_Juillet[MONTANT]) -> 0 | K5: PLIOUEST | L5: =SUMIF(Tab_Juillet[Fournisseurs],K5,Tab_Juillet[MONTANT]) -> 0 | M5: DFI | N5: =SUMIF(Tab_Juillet[Fournisseurs],M5,Tab_Juillet[MONTANT]) -> 0 | O5: DFI COLLE | P5: =SUMIF(Tab_Juillet[Fournisseurs],O5,Tab_Juillet[MONTANT]) -> 0
J6: =SUMIF(Tab_Juillet[Fournisseurs],I6,Tab_Juillet[MONTANT]) -> 0 | L6: =SUMIF(Tab_Juillet[Fournisseurs],K6,Tab_Juillet[MONTANT]) -> 0 | M6: TRENOIS | N6: =SUMIF(Tab_Juillet[Fournisseurs],M6,Tab_Juillet[MONTANT]) -> 0 | P6: =SUMIF(Tab_Juillet[Fournisseurs],O6,Tab_Juillet[MONTANT]) -> 0
J7: =SUMIF(Tab_Juillet[Fournisseurs],I7,Tab_Juillet[MONTANT]) -> 0 | L7: =SUMIF(Tab_Juillet[Fournisseurs],K7,Tab_Juillet[MONTANT]) -> 0 | M7: MILBLED | N7: =SUMIF(Tab_Juillet[Fournisseurs],M7,Tab_Juillet[MONTANT]) -> 0 | P7: =SUMIF(Tab_Juillet[Fournisseurs],O7,Tab_Juillet[MONTANT]) -> 0
I8: CEPI | J8: =SUMIF(Tab_Juillet[Fournisseurs],I8,Tab_Juillet[MONTANT]) -> 0 | L8: =SUMIF(Tab_Juillet[Fournisseurs],K8,Tab_Juillet[MONTANT]) -> 0 | N8: =SUMIF(Tab_Juillet[Fournisseurs],M8,Tab_Juillet[MONTANT]) -> 0 | P8: =SUMIF(Tab_Juillet[Fournisseurs],O8,Tab_Juillet[MONTANT]) -> 0
I12: PORTES ET CHASSIS | K12: TRANSPORTEUR / LOUEUR | M12: DIVERS / PLASTIQUE
I13: ACORA | J13: =SUMIF(Tab_Juillet[Fournisseurs],I13,Tab_Juillet[MONTANT]) -> 0 | K13: DIRECT FRET | L13: =SUMIF(Tab_Juillet[Fournisseurs],K13,Tab_Juillet[MONTANT]) -> 0 | M13: PLASTIQUE | N13: =SUMIF(Tab_Juillet[Fournisseurs],M13,Tab_Juillet[MONTANT]) -> 0
I14: PORTISO | J14: =SUMIF(Tab_Juillet[Fournisseurs],I14,Tab_Juillet[MONTANT]) -> 0 | K14: COURSIER SERVICE | L14: =SUMIF(Tab_Juillet[Fournisseurs],K14,Tab_Juillet[MONTANT]) -> 0 | M14: ALU CB | N14: =SUMIF(Tab_Juillet[Fournisseurs],M14,Tab_Juillet[MONTANT]) -> 0
I15: TELEWIG | J15: =SUMIF(Tab_Juillet[Fournisseurs],I15,Tab_Juillet[MONTANT]) -> 0 | K15: MARISSAEL | L15: =SUMIF(Tab_Juillet[Fournisseurs],K15,Tab_Juillet[MONTANT]) -> 0 | M15: REXEL | N15: =SUMIF(Tab_Juillet[Fournisseurs],M15,Tab_Juillet[MONTANT]) -> 0
I16: MICADO | J16: =SUMIF(Tab_Juillet[Fournisseurs],I16,Tab_Juillet[MONTANT]) -> 0 | K16: ACCES | L16: =SUMIF(Tab_Juillet[Fournisseurs],K16,Tab_Juillet[MONTANT]) -> 0 | M16: WURTH | N16: =SUMIF(Tab_Juillet[Fournisseurs],M16,Tab_Juillet[MONTANT]) -> 0
J17: =SUMIF(Tab_Juillet[Fournisseurs],I17,Tab_Juillet[MONTANT]) -> 0 | K17: KILOUTOU | L17: =SUMIF(Tab_Juillet[Fournisseurs],K17,Tab_Juillet[MONTANT]) -> 0 | N17: =SUMIF(Tab_Juillet[Fournisseurs],M17,Tab_Juillet[MONTANT]) -> 0
J18: =SUMIF(Tab_Juillet[Fournisseurs],I18,Tab_Juillet[MONTANT]) -> 0 | L18: =SUMIF(Tab_Juillet[Fournisseurs],K18,Tab_Juillet[MONTANT]) -> 0 | M18: AUTRE | N18: =SUMIF(Tab_Juillet[Fournisseurs],M18,Tab_Juillet[MONTANT]) -> 0
I20: Vérification | J20: =SUM(J3:J8,L3:L8,N3:N8,P3:P8,J13:J18,L13:L18,N13:N18) -> 0

Sheet AOUT
A2: N° Devis | B2: Nom du client | C2: N° bon de commande | D2: Colonne1 | E2: Fournisseurs | F2: DATE | G2: MONTANT | I2: PANNEAUX | K2: PROFILS | M2: QUINCAILLERIE | O2: ETANCHEITE
C3: 2308JA01 | I3: ISOCAB | J3: =SUMIF(Tab_Aout[Fournisseurs],I3,Tab_Aout[MONTANT]) -> 0 | K3: ETS SIX | L3: =SUMIF(Tab_Aout[Fournisseurs],K3,Tab_Aout[MONTANT]) -> 0 | M3: FIXONE | N3: =SUMIF(Tab_Aout[Fournisseurs],M3,Tab_Aout[MONTANT]) -> 0 | O3: SIL3TEC | P3: =SUMIF(Tab_Aout[Fournisseurs],O3,Tab_Aout[MONTANT]) -> 0
A4: Total | G4: =SUBTOTAL(103,Tab_Aout[MONTANT]) -> 0 | I4: ARCELOR | J4: =SUMIF(Tab_Aout[Fournisseurs],I4,Tab_Aout[MONTANT]) -> 0 | K4: COMAT | L4: =SUMIF(Tab_Aout[Fournisseurs],K4,Tab_Aout[MONTANT]) -> 0 | M4: BAUDELET | N4: =SUMIF(Tab_Aout[Fournisseurs],M4,Tab_Aout[MONTANT]) -> 0 | O4: FIXONE COLLE | P4: =SUMIF(Tab_Aout[Fournisseurs],O4,Tab_Aout[MONTANT]) -> 0
I5: TRIMO | J5: =SUMIF(Tab_Aout[Fournisseurs],I5,Tab_Aout[MONTANT]) -> 0 | K5: PLIOUEST | L5: =SUMIF(Tab_Aout[Fournisseurs],K5,Tab_Aout[MONTANT]) -> 0 | M5: DFI | N5: =SUMIF(Tab_Aout[Fournisseurs],M5,Tab_Aout[MONTANT]) -> 0 | O5: DFI COLLE | P5: =SUMIF(Tab_Aout[Fournisseurs],O5,Tab_Aout[MONTANT]) -> 0
J6: =SUMIF(Tab_Aout[Fournisseurs],I6,Tab_Aout[MONTANT]) -> 0 | L6: =SUMIF(Tab_Aout[Fournisseurs],K6,Tab_Aout[MONTANT]) -> 0 | M6: TRENOIS | N6: =SUMIF(Tab_Aout[Fournisseurs],M6,Tab_Aout[MONTANT]) -> 0 | P6: =SUMIF(Tab_Aout[Fournisseurs],O6,Tab_Aout[MONTANT]) -> 0
J7: =SUMIF(Tab_Aout[Fournisseurs],I7,Tab_Aout[MONTANT]) -> 0 | L7: =SUMIF(Tab_Aout[Fournisseurs],K7,Tab_Aout[MONTANT]) -> 0 | M7: MILBLED | N7: =SUMIF(Tab_Aout[Fournisseurs],M7,Tab_Aout[MONTANT]) -> 0 | P7: =SUMIF(Tab_Aout[Fournisseurs],O7,Tab_Aout[MONTANT]) -> 0
I8: CEPI | J8: =SUMIF(Tab_Aout[Fournisseurs],I8,Tab_Aout[MONTANT]) -> 0 | L8: =SUMIF(Tab_Aout[Fournisseurs],K8,Tab_Aout[MONTANT]) -> 0 | N8: =SUMIF(Tab_Aout[Fournisseurs],M8,Tab_Aout[MONTANT]) -> 0 | P8: =SUMIF(Tab_Aout[Fournisseurs],O8,Tab_Aout[MONTANT]) -> 0
I12: PORTES ET CHASSIS | K12: TRANSPORTEUR / LOUEUR | M12: DIVERS / PLASTIQUE
I13: ACORA | J13: =SUMIF(Tab_Aout[Fournisseurs],I13,Tab_Aout[MONTANT]) -> 0 | K13: DIRECT FRET | L13: =SUMIF(Tab_Aout[Fournisseurs],K13,Tab_Aout[MONTANT]) -> 0 | M13: PLASTIQUE | N13: =SUMIF(Tab_Aout[Fournisseurs],M13,Tab_Aout[MONTANT]) -> 0
I14: PORTISO | J14: =SUMIF(Tab_Aout[Fournisseurs],I14,Tab_Aout[MONTANT]) -> 0 | K14: COURSIER SERVICE | L14: =SUMIF(Tab_Aout[Fournisseurs],K14,Tab_Aout[MONTANT]) -> 0 | M14: ALU CB | N14: =SUMIF(Tab_Aout[Fournisseurs],M14,Tab_Aout[MONTANT]) -> 0
I15: TELEWIG | J15: =SUMIF(Tab_Aout[Fournisseurs],I15,Tab_Aout[MONTANT]) -> 0 | K15: MARISSAEL | L15: =SUMIF(Tab_Aout[Fournisseurs],K15,Tab_Aout[MONTANT]) -> 0 | M15: REXEL | N15: =SUMIF(Tab_Aout[Fournisseurs],M15,Tab_Aout[MONTANT]) -> 0
I16: MICADO | J16: =SUMIF(Tab_Aout[Fournisseurs],I16,Tab_Aout[MONTANT]) -> 0 | K16: ACCES | L16: =SUMIF(Tab_Aout[Fournisseurs],K16,Tab_Aout[MONTANT]) -> 0 | M16: WURTH | N16: =SUMIF(Tab_Aout[Fournisseurs],M16,Tab_Aout[MONTANT]) -> 0
J17: =SUMIF(Tab_Aout[Fournisseurs],I17,Tab_Aout[MONTANT]) -> 0 | K17: KILOUTOU | L17: =SUMIF(Tab_Aout[Fournisseurs],K17,Tab_Aout[MONTANT]) -> 0 | N17: =SUMIF(Tab_Aout[Fournisseurs],M17,Tab_Aout[MONTANT]) -> 0
J18: =SUMIF(Tab_Aout[Fournisseurs],I18,Tab_Aout[MONTANT]) -> 0 | L18: =SUMIF(Tab_Aout[Fournisseurs],K18,Tab_Aout[MONTANT]) -> 0 | M18: AUTRE | N18: =SUMIF(Tab_Aout[Fournisseurs],M18,Tab_Aout[MONTANT]) -> 0
I20: Vérification | J20: =SUM(J3:J8,L3:L8,N3:N8,P3:P8,J13:J18,L13:L18,N13:N18) -> 0

Sheet SEPTEMBRE
A2: N° Devis | B2: Nom du client | C2: N° bon de commande | D2: Colonne1 | E2: Fournisseurs | F2: DATE | G2: MONTANT | I2: PANNEAUX | K2: PROFILS | M2: QUINCAILLERIE | O2: ETANCHEITE
C3: 2309JA01 | I3: ISOCAB | J3: =SUMIF(Tab_Septembre[Fournisseurs],I3,Tab_Septembre[MONTANT]) -> 0 | K3: ETS SIX | L3: =SUMIF(Tab_Septembre[Fournisseurs],K3,Tab_Septembre[MONTANT]) -> 0 | M3: FIXONE | N3: =SUMIF(Tab_Septembre[Fournisseurs],M3,Tab_Septembre[MONTANT]) -> 0 | O3: SIL3TEC | P3: =SUMIF(Tab_Septembre[Fournisseurs],O3,Tab_Septembre[MONTANT]) -> 0
A4: Total | G4: =SUBTOTAL(103,Tab_Septembre[MONTANT]) -> 0 | I4: ARCELOR | J4: =SUMIF(Tab_Septembre[Fournisseurs],I4,Tab_Septembre[MONTANT]) -> 0 | K4: COMAT | L4: =SUMIF(Tab_Septembre[Fournisseurs],K4,Tab_Septembre[MONTANT]) -> 0 | M4: BAUDELET | N4: =SUMIF(Tab_Septembre[Fournisseurs],M4,Tab_Septembre[MONTANT]) -> 0 | O4: FIXONE COLLE | P4: =SUMIF(Tab_Septembre[Fournisseurs],O4,Tab_Septembre[MONTANT]) -> 0
I5: TRIMO | J5: =SUMIF(Tab_Septembre[Fournisseurs],I5,Tab_Septembre[MONTANT]) -> 0 | K5: PLIOUEST | L5: =SUMIF(Tab_Septembre[Fournisseurs],K5,Tab_Septembre[MONTANT]) -> 0 | M5: DFI | N5: =SUMIF(Tab_Septembre[Fournisseurs],M5,Tab_Septembre[MONTANT]) -> 0 | O5: DFI COLLE | P5: =SUMIF(Tab_Septembre[Fournisseurs],O5,Tab_Septembre[MONTANT]) -> 0
J6: =SUMIF(Tab_Septembre[Fournisseurs],I6,Tab_Septembre[MONTANT]) -> 0 | L6: =SUMIF(Tab_Septembre[Fournisseurs],K6,Tab_Septembre[MONTANT]) -> 0 | M6: TRENOIS | N6: =SUMIF(Tab_Septembre[Fournisseurs],M6,Tab_Septembre[MONTANT]) -> 0 | P6: =SUMIF(Tab_Septembre[Fournisseurs],O6,Tab_Septembre[MONTANT]) -> 0
J7: =SUMIF(Tab_Septembre[Fournisseurs],I7,Tab_Septembre[MONTANT]) -> 0 | L7: =SUMIF(Tab_Septembre[Fournisseurs],K7,Tab_Septembre[MONTANT]) -> 0 | M7: MILBLED | N7: =SUMIF(Tab_Septembre[Fournisseurs],M7,Tab_Septembre[MONTANT]) -> 0 | P7: =SUMIF(Tab_Septembre[Fournisseurs],O7,Tab_Septembre[MONTANT]) -> 0
I8: CEPI | J8: =SUMIF(Tab_Septembre[Fournisseurs],I8,Tab_Septembre[MONTANT]) -> 0 | L8: =SUMIF(Tab_Septembre[Fournisseurs],K8,Tab_Septembre[MONTANT]) -> 0 | N8: =SUMIF(Tab_Septembre[Fournisseurs],M8,Tab_Septembre[MONTANT]) -> 0 | P8: =SUMIF(Tab_Septembre[Fournisseurs],O8,Tab_Septembre[MONTANT]) -> 0
I12: PORTES ET CHASSIS | K12: TRANSPORTEUR / LOUEUR | M12: DIVERS / PLASTIQUE
I13: ACORA | J13: =SUMIF(Tab_Septembre[Fournisseurs],I13,Tab_Septembre[MONTANT]) -> 0 | K13: DIRECT FRET | L13: =SUMIF(Tab_Septembre[Fournisseurs],K13,Tab_Septembre[MONTANT]) -> 0 | M13: PLASTIQUE | N13: =SUMIF(Tab_Septembre[Fournisseurs],M13,Tab_Septembre[MONTANT]) -> 0
I14: PORTISO | J14: =SUMIF(Tab_Septembre[Fournisseurs],I14,Tab_Septembre[MONTANT]) -> 0 | K14: COURSIER SERVICE | L14: =SUMIF(Tab_Septembre[Fournisseurs],K14,Tab_Septembre[MONTANT]) -> 0 | M14: ALU CB | N14: =SUMIF(Tab_Septembre[Fournisseurs],M14,Tab_Septembre[MONTANT]) -> 0
I15: TELEWIG | J15: =SUMIF(Tab_Septembre[Fournisseurs],I15,Tab_Septembre[MONTANT]) -> 0 | K15: MARISSAEL | L15: =SUMIF(Tab_Septembre[Fournisseurs],K15,Tab_Septembre[MONTANT]) -> 0 | M15: REXEL | N15: =SUMIF(Tab_Septembre[Fournisseurs],M15,Tab_Septembre[MONTANT]) -> 0
I16: MICADO | J16: =SUMIF(Tab_Septembre[Fournisseurs],I16,Tab_Septembre[MONTANT]) -> 0 | K16: ACCES | L16: =SUMIF(Tab_Septembre[Fournisseurs],K16,Tab_Septembre[MONTANT]) -> 0 | M16: WURTH | N16: =SUMIF(Tab_Septembre[Fournisseurs],M16,Tab_Septembre[MONTANT]) -> 0
J17: =SUMIF(Tab_Septembre[Fournisseurs],I17,Tab_Septembre[MONTANT]) -> 0 | K17: KILOUTOU | L17: =SUMIF(Tab_Septembre[Fournisseurs],K17,Tab_Septembre[MONTANT]) -> 0 | N17: =SUMIF(Tab_Septembre[Fournisseurs],M17,Tab_Septembre[MONTANT]) -> 0
J18: =SUMIF(Tab_Septembre[Fournisseurs],I18,Tab_Septembre[MONTANT]) -> 0 | L18: =SUMIF(Tab_Septembre[Fournisseurs],K18,Tab_Septembre[MONTANT]) -> 0 | M18: AUTRE | N18: =SUMIF(Tab_Septembre[Fournisseurs],M18,Tab_Septembre[MONTANT]) -> 0
I20: Vérification | J20: =SUM(J3:J8,L3:L8,N3:N8,P3:P8,J13:J18,L13:L18,N13:N18) -> 0

Sheet OCTOBRE
A2: N° Devis | B2: Nom du client | C2: N° bon de commande | D2: Colonne1 | E2: Fournisseurs | F2: DATE | G2: MONTANT | I2: PANNEAUX | K2: PROFILS | M2: QUINCAILLERIE | O2: ETANCHEITE
C3: 2310JA01 | I3: ISOCAB | J3: =SUMIF(Tab_Octobre[Fournisseurs],I3,Tab_Octobre[MONTANT]) -> 0 | K3: ETS SIX | L3: =SUMIF(Tab_Octobre[Fournisseurs],K3,Tab_Octobre[MONTANT]) -> 0 | M3: FIXONE | N3: =SUMIF(Tab_Octobre[Fournisseurs],M3,Tab_Octobre[MONTANT]) -> 0 | O3: SIL3TEC | P3: =SUMIF(Tab_Octobre[Fournisseurs],O3,Tab_Octobre[MONTANT]) -> 0
A4: Total | G4: =SUBTOTAL(103,Tab_Octobre[MONTANT]) -> 0 | I4: ARCELOR | J4: =SUMIF(Tab_Octobre[Fournisseurs],I4,Tab_Octobre[MONTANT]) -> 0 | K4: COMAT | L4: =SUMIF(Tab_Octobre[Fournisseurs],K4,Tab_Octobre[MONTANT]) -> 0 | M4: BAUDELET | N4: =SUMIF(Tab_Octobre[Fournisseurs],M4,Tab_Octobre[MONTANT]) -> 0 | O4: FIXONE COLLE | P4: =SUMIF(Tab_Octobre[Fournisseurs],O4,Tab_Octobre[MONTANT]) -> 0
I5: TRIMO | J5: =SUMIF(Tab_Octobre[Fournisseurs],I5,Tab_Octobre[MONTANT]) -> 0 | K5: PLIOUEST | L5: =SUMIF(Tab_Octobre[Fournisseurs],K5,Tab_Octobre[MONTANT]) -> 0 | M5: DFI | N5: =SUMIF(Tab_Octobre[Fournisseurs],M5,Tab_Octobre[MONTANT]) -> 0 | O5: DFI COLLE | P5: =SUMIF(Tab_Octobre[Fournisseurs],O5,Tab_Octobre[MONTANT]) -> 0
J6: =SUMIF(Tab_Octobre[Fournisseurs],I6,Tab_Octobre[MONTANT]) -> 0 | L6: =SUMIF(Tab_Octobre[Fournisseurs],K6,Tab_Octobre[MONTANT]) -> 0 | M6: TRENOIS | N6: =SUMIF(Tab_Octobre[Fournisseurs],M6,Tab_Octobre[MONTANT]) -> 0 | P6: =SUMIF(Tab_Octobre[Fournisseurs],O6,Tab_Octobre[MONTANT]) -> 0
J7: =SUMIF(Tab_Octobre[Fournisseurs],I7,Tab_Octobre[MONTANT]) -> 0 | L7: =SUMIF(Tab_Octobre[Fournisseurs],K7,Tab_Octobre[MONTANT]) -> 0 | M7: MILBLED | N7: =SUMIF(Tab_Octobre[Fournisseurs],M7,Tab_Octobre[MONTANT]) -> 0 | P7: =SUMIF(Tab_Octobre[Fournisseurs],O7,Tab_Octobre[MONTANT]) -> 0
I8: CEPI | J8: =SUMIF(Tab_Octobre[Fournisseurs],I8,Tab_Octobre[MONTANT]) -> 0 | L8: =SUMIF(Tab_Octobre[Fournisseurs],K8,Tab_Octobre[MONTANT]) -> 0 | N8: =SUMIF(Tab_Octobre[Fournisseurs],M8,Tab_Octobre[MONTANT]) -> 0 | P8: =SUMIF(Tab_Octobre[Fournisseurs],O8,Tab_Octobre[MONTANT]) -> 0
I12: PORTES ET CHASSIS | K12: TRANSPORTEUR / LOUEUR | M12: DIVERS / PLASTIQUE
I13: ACORA | J13: =SUMIF(Tab_Octobre[Fournisseurs],I13,Tab_Octobre[MONTANT]) -> 0 | K13: DIRECT FRET | L13: =SUMIF(Tab_Octobre[Fournisseurs],K13,Tab_Octobre[MONTANT]) -> 0 | M13: PLASTIQUE | N13: =SUMIF(Tab_Octobre[Fournisseurs],M13,Tab_Octobre[MONTANT]) -> 0
I14: PORTISO | J14: =SUMIF(Tab_Octobre[Fournisseurs],I14,Tab_Octobre[MONTANT]) -> 0 | K14: COURSIER SERVICE | L14: =SUMIF(Tab_Octobre[Fournisseurs],K14,Tab_Octobre[MONTANT]) -> 0 | M14: ALU CB | N14: =SUMIF(Tab_Octobre[Fournisseurs],M14,Tab_Octobre[MONTANT]) -> 0
I15: TELEWIG | J15: =SUMIF(Tab_Octobre[Fournisseurs],I15,Tab_Octobre[MONTANT]) -> 0 | K15: MARISSAEL | L15: =SUMIF(Tab_Octobre[Fournisseurs],K15,Tab_Octobre[MONTANT]) -> 0 | M15: REXEL | N15: =SUMIF(Tab_Octobre[Fournisseurs],M15,Tab_Octobre[MONTANT]) -> 0
I16: MICADO | J16: =SUMIF(Tab_Octobre[Fournisseurs],I16,Tab_Octobre[MONTANT]) -> 0 | K16: ACCES | L16: =SUMIF(Tab_Octobre[Fournisseurs],K16,Tab_Octobre[MONTANT]) -> 0 | M16: WURTH | N16: =SUMIF(Tab_Octobre[Fournisseurs],M16,Tab_Octobre[MONTANT]) -> 0
J17: =SUMIF(Tab_Octobre[Fournisseurs],I17,Tab_Octobre[MONTANT]) -> 0 | K17: KILOUTOU | L17: =SUMIF(Tab_Octobre[Fournisseurs],K17,Tab_Octobre[MONTANT]) -> 0 | N17: =SUMIF(Tab_Octobre[Fournisseurs],M17,Tab_Octobre[MONTANT]) -> 0
J18: =SUMIF(Tab_Octobre[Fournisseurs],I18,Tab_Octobre[MONTANT]) -> 0 | L18: =SUMIF(Tab_Octobre[Fournisseurs],K18,Tab_Octobre[MONTANT]) -> 0 | M18: AUTRE | N18: =SUMIF(Tab_Octobre[Fournisseurs],M18,Tab_Octobre[MONTANT]) -> 0
I20: Vérification | J20: =SUM(J3:J8,L3:L8,N3:N8,P3:P8,J13:J18,L13:L18,N13:N18) -> 0

Sheet NOVEMBRE
A2: N° Devis | B2: Nom du client | C2: N° bon de commande | D2: Colonne1 | E2: Fournisseurs | F2: DATE | G2: MONTANT | I2: PANNEAUX | K2: PROFILS | M2: QUINCAILLERIE | O2: ETANCHEITE
C3: 2311JA01 | I3: ISOCAB | J3: =SUMIF(Tab_Novembre[Fournisseurs],I3,Tab_Novembre[MONTANT]) -> 0 | K3: ETS SIX | L3: =SUMIF(Tab_Novembre[Fournisseurs],K3,Tab_Novembre[MONTANT]) -> 0 | M3: FIXONE | N3: =SUMIF(Tab_Novembre[Fournisseurs],M3,Tab_Novembre[MONTANT]) -> 0 | O3: SIL3TEC | P3: =SUMIF(Tab_Novembre[Fournisseurs],O3,Tab_Novembre[MONTANT]) -> 0
A4: Total | G4: =SUBTOTAL(103,Tab_Novembre[MONTANT]) -> 0 | I4: ARCELOR | J4: =SUMIF(Tab_Novembre[Fournisseurs],I4,Tab_Novembre[MONTANT]) -> 0 | K4: COMAT | L4: =SUMIF(Tab_Novembre[Fournisseurs],K4,Tab_Novembre[MONTANT]) -> 0 | M4: BAUDELET | N4: =SUMIF(Tab_Novembre[Fournisseurs],M4,Tab_Novembre[MONTANT]) -> 0 | O4: FIXONE COLLE | P4: =SUMIF(Tab_Novembre[Fournisseurs],O4,Tab_Novembre[MONTANT]) -> 0
I5: TRIMO | J5: =SUMIF(Tab_Novembre[Fournisseurs],I5,Tab_Novembre[MONTANT]) -> 0 | K5: PLIOUEST | L5: =SUMIF(Tab_Novembre[Fournisseurs],K5,Tab_Novembre[MONTANT]) -> 0 | M5: DFI | N5: =SUMIF(Tab_Novembre[Fournisseurs],M5,Tab_Novembre[MONTANT]) -> 0 | O5: DFI COLLE | P5: =SUMIF(Tab_Novembre[Fournisseurs],O5,Tab_Novembre[MONTANT]) -> 0
J6: =SUMIF(Tab_Novembre[Fournisseurs],I6,Tab_Novembre[MONTANT]) -> 0 | L6: =SUMIF(Tab_Novembre[Fournisseurs],K6,Tab_Novembre[MONTANT]) -> 0 | M6: TRENOIS | N6: =SUMIF(Tab_Novembre[Fournisseurs],M6,Tab_Novembre[MONTANT]) -> 0 | P6: =SUMIF(Tab_Novembre[Fournisseurs],O6,Tab_Novembre[MONTANT]) -> 0
J7: =SUMIF(Tab_Novembre[Fournisseurs],I7,Tab_Novembre[MONTANT]) -> 0 | L7: =SUMIF(Tab_Novembre[Fournisseurs],K7,Tab_Novembre[MONTANT]) -> 0 | M7: MILBLED | N7: =SUMIF(Tab_Novembre[Fournisseurs],M7,Tab_Novembre[MONTANT]) -> 0 | P7: =SUMIF(Tab_Novembre[Fournisseurs],O7,Tab_Novembre[MONTANT]) -> 0
I8: CEPI | J8: =SUMIF(Tab_Novembre[Fournisseurs],I8,Tab_Novembre[MONTANT]) -> 0 | L8: =SUMIF(Tab_Novembre[Fournisseurs],K8,Tab_Novembre[MONTANT]) -> 0 | N8: =SUMIF(Tab_Novembre[Fournisseurs],M8,Tab_Novembre[MONTANT]) -> 0 | P8: =SUMIF(Tab_Novembre[Fournisseurs],O8,Tab_Novembre[MONTANT]) -> 0
I12: PORTES ET CHASSIS | K12: TRANSPORTEUR / LOUEUR | M12: DIVERS / PLASTIQUE
I13: ACORA | J13: =SUMIF(Tab_Novembre[Fournisseurs],I13,Tab_Novembre[MONTANT]) -> 0 | K13: DIRECT FRET | L13: =SUMIF(Tab_Novembre[Fournisseurs],K13,Tab_Novembre[MONTANT]) -> 0 | M13: PLASTIQUE | N13: =SUMIF(Tab_Novembre[Fournisseurs],M13,Tab_Novembre[MONTANT]) -> 0
I14: PORTISO | J14: =SUMIF(Tab_Novembre[Fournisseurs],I14,Tab_Novembre[MONTANT]) -> 0 | K14: COURSIER SERVICE | L14: =SUMIF(Tab_Novembre[Fournisseurs],K14,Tab_Novembre[MONTANT]) -> 0 | M14: ALU CB | N14: =SUMIF(Tab_Novembre[Fournisseurs],M14,Tab_Novembre[MONTANT]) -> 0
I15: TELEWIG | J15: =SUMIF(Tab_Novembre[Fournisseurs],I15,Tab_Novembre[MONTANT]) -> 0 | K15: MARISSAEL | L15: =SUMIF(Tab_Novembre[Fournisseurs],K15,Tab_Novembre[MONTANT]) -> 0 | M15: REXEL | N15: =SUMIF(Tab_Novembre[Fournisseurs],M15,Tab_Novembre[MONTANT]) -> 0
I16: MICADO | J16: =SUMIF(Tab_Novembre[Fournisseurs],I16,Tab_Novembre[MONTANT]) -> 0 | K16: ACCES | L16: =SUMIF(Tab_Novembre[Fournisseurs],K16,Tab_Novembre[MONTANT]) -> 0 | M16: WURTH | N16: =SUMIF(Tab_Novembre[Fournisseurs],M16,Tab_Novembre[MONTANT]) -> 0
J17: =SUMIF(Tab_Novembre[Fournisseurs],I17,Tab_Novembre[MONTANT]) -> 0 | K17: KILOUTOU | L17: =SUMIF(Tab_Novembre[Fournisseurs],K17,Tab_Novembre[MONTANT]) -> 0 | N17: =SUMIF(Tab_Novembre[Fournisseurs],M17,Tab_Novembre[MONTANT]) -> 0
J18: =SUMIF(Tab_Novembre[Fournisseurs],I18,Tab_Novembre[MONTANT]) -> 0 | L18: =SUMIF(Tab_Novembre[Fournisseurs],K18,Tab_Novembre[MONTANT]) -> 0 | M18: AUTRE | N18: =SUMIF(Tab_Novembre[Fournisseurs],M18,Tab_Novembre[MONTANT]) -> 0
I20: Vérification | J20: =SUM(J3:J8,L3:L8,N3:N8,P3:P8,J13:J18,L13:L18,N13:N18) -> 0

Sheet DECEMBRE
A2: N° Devis | B2: Nom du client | C2: N° bon de commande | D2: Colonne1 | E2: Fournisseurs | F2: DATE | G2: MONTANT | I2: PANNEAUX | K2: PROFILS | M2: QUINCAILLERIE | O2: ETANCHEITE
C3: 2312JA01 | I3: ISOCAB | J3: =SUMIF(Tab_Decembre[Fournisseurs],I3,Tab_Decembre[MONTANT]) -> 0 | K3: ETS SIX | L3: =SUMIF(Tab_Decembre[Fournisseurs],K3,Tab_Decembre[MONTANT]) -> 0 | M3: FIXONE | N3: =SUMIF(Tab_Decembre[Fournisseurs],M3,Tab_Decembre[MONTANT]) -> 0 | O3: SIL3TEC | P3: =SUMIF(Tab_Decembre[Fournisseurs],O3,Tab_Decembre[MONTANT]) -> 0
A4: Total | G4: =SUBTOTAL(103,Tab_Decembre[MONTANT]) -> 0 | I4: ARCELOR | J4: =SUMIF(Tab_Decembre[Fournisseurs],I4,Tab_Decembre[MONTANT]) -> 0 | K4: COMAT | L4: =SUMIF(Tab_Decembre[Fournisseurs],K4,Tab_Decembre[MONTANT]) -> 0 | M4: BAUDELET | N4: =SUMIF(Tab_Decembre[Fournisseurs],M4,Tab_Decembre[MONTANT]) -> 0 | O4: FIXONE COLLE | P4: =SUMIF(Tab_Decembre[Fournisseurs],O4,Tab_Decembre[MONTANT]) -> 0
I5: TRIMO | J5: =SUMIF(Tab_Decembre[Fournisseurs],I5,Tab_Decembre[MONTANT]) -> 0 | K5: PLIOUEST | L5: =SUMIF(Tab_Decembre[Fournisseurs],K5,Tab_Decembre[MONTANT]) -> 0 | M5: DFI | N5: =SUMIF(Tab_Decembre[Fournisseurs],M5,Tab_Decembre[MONTANT]) -> 0 | O5: DFI COLLE | P5: =SUMIF(Tab_Decembre[Fournisseurs],O5,Tab_Decembre[MONTANT]) -> 0
J6: =SUMIF(Tab_Decembre[Fournisseurs],I6,Tab_Decembre[MONTANT]) -> 0 | L6: =SUMIF(Tab_Decembre[Fournisseurs],K6,Tab_Decembre[MONTANT]) -> 0 | M6: TRENOIS | N6: =SUMIF(Tab_Decembre[Fournisseurs],M6,Tab_Decembre[MONTANT]) -> 0 | P6: =SUMIF(Tab_Decembre[Fournisseurs],O6,Tab_Decembre[MONTANT]) -> 0
J7: =SUMIF(Tab_Decembre[Fournisseurs],I7,Tab_Decembre[MONTANT]) -> 0 | L7: =SUMIF(Tab_Decembre[Fournisseurs],K7,Tab_Decembre[MONTANT]) -> 0 | M7: MILBLED | N7: =SUMIF(Tab_Decembre[Fournisseurs],M7,Tab_Decembre[MONTANT]) -> 0 | P7: =SUMIF(Tab_Decembre[Fournisseurs],O7,Tab_Decembre[MONTANT]) -> 0
I8: CEPI | J8: =SUMIF(Tab_Decembre[Fournisseurs],I8,Tab_Decembre[MONTANT]) -> 0 | L8: =SUMIF(Tab_Decembre[Fournisseurs],K8,Tab_Decembre[MONTANT]) -> 0 | N8: =SUMIF(Tab_Decembre[Fournisseurs],M8,Tab_Decembre[MONTANT]) -> 0 | P8: =SUMIF(Tab_Decembre[Fournisseurs],O8,Tab_Decembre[MONTANT]) -> 0
I12: PORTES ET CHASSIS | K12: TRANSPORTEUR / LOUEUR | M12: DIVERS / PLASTIQUE
I13: ACORA | J13: =SUMIF(Tab_Decembre[Fournisseurs],I13,Tab_Decembre[MONTANT]) -> 0 | K13: DIRECT FRET | L13: =SUMIF(Tab_Decembre[Fournisseurs],K13,Tab_Decembre[MONTANT]) -> 0 | M13: PLASTIQUE | N13: =SUMIF(Tab_Decembre[Fournisseurs],M13,Tab_Decembre[MONTANT]) -> 0
I14: PORTISO | J14: =SUMIF(Tab_Decembre[Fournisseurs],I14,Tab_Decembre[MONTANT]) -> 0 | K14: COURSIER SERVICE | L14: =SUMIF(Tab_Decembre[Fournisseurs],K14,Tab_Decembre[MONTANT]) -> 0 | M14: ALU CB | N14: =SUMIF(Tab_Decembre[Fournisseurs],M14,Tab_Decembre[MONTANT]) -> 0
I15: TELEWIG | J15: =SUMIF(Tab_Decembre[Fournisseurs],I15,Tab_Decembre[MONTANT]) -> 0 | K15: MARISSAEL | L15: =SUMIF(Tab_Decembre[Fournisseurs],K15,Tab_Decembre[MONTANT]) -> 0 | M15: REXEL | N15: =SUMIF(Tab_Decembre[Fournisseurs],M15,Tab_Decembre[MONTANT]) -> 0
I16: MICADO | J16: =SUMIF(Tab_Decembre[Fournisseurs],I16,Tab_Decembre[MONTANT]) -> 0 | K16: ACCES | L16: =SUMIF(Tab_Decembre[Fournisseurs],K16,Tab_Decembre[MONTANT]) -> 0 | M16: WURTH | N16: =SUMIF(Tab_Decembre[Fournisseurs],M16,Tab_Decembre[MONTANT]) -> 0
J17: =SUMIF(Tab_Decembre[Fournisseurs],I17,Tab_Decembre[MONTANT]) -> 0 | K17: KILOUTOU | L17: =SUMIF(Tab_Decembre[Fournisseurs],K17,Tab_Decembre[MONTANT]) -> 0 | N17: =SUMIF(Tab_Decembre[Fournisseurs],M17,Tab_Decembre[MONTANT]) -> 0
J18: =SUMIF(Tab_Decembre[Fournisseurs],I18,Tab_Decembre[MONTANT]) -> 0 | L18: =SUMIF(Tab_Decembre[Fournisseurs],K18,Tab_Decembre[MONTANT]) -> 0 | M18: AUTRE | N18: =SUMIF(Tab_Decembre[Fournisseurs],M18,Tab_Decembre[MONTANT]) -> 0
I20: Vérification | J20: =SUM(J3:J8,L3:L8,N3:N8,P3:P8,J13:J18,L13:L18,N13:N18) -> 0

Sheet TOTAL ANNEE
B2: PANNEAUX | D2: Dépense/mois | E2: PROFILS | G2: Dépense/mois | H2: QUINCAILLERIE | J2: Dépense/mois | K2: ETANCHEITE | M2: Dépense/mois
B3: ISOCAB | C3: =JANVIER!J3+FEVRIER!J3+MARS!J3+AVRIL!J3+MAI!J3+JUIN!J3+JUILLET!J3+AOUT!J3+SEPTEMBRE!J3+OCTOBRE!J3+NOVEMBRE!J3+DECEMBRE!J3 -> 0 | D3: =C3/12 -> 0 | E3: ETS SIX | F3: =JANVIER!L3+FEVRIER!L3+MARS!L3+AVRIL!L3+MAI!L3+JUIN!L3+JUILLET!L3+AOUT!L3+SEPTEMBRE!L3+OCTOBRE!L3+NOVEMBRE!L3+DECEMBRE!L3 -> 0 | G3: =F3/12 -> 0 | H3: FIXONE | I3: =JANVIER!N3+FEVRIER!N3+MARS!N3+AVRIL!N3+MAI!N3+JUIN!N3+JUILLET!N3+AOUT!N3+SEPTEMBRE!N3+OCTOBRE!N3+NOVEMBRE!N3+DECEMBRE!N3 -> 0 | J3: =I3/12 -> 0 | K3: SIL3TEC | L3: =JANVIER!P3+FEVRIER!P3+MARS!P3+AVRIL!P3+MAI!P3+JUIN!P3+JUILLET!P3+AOUT!P3+SEPTEMBRE!P3+OCTOBRE!P3+NOVEMBRE!P3+DECEMBRE!P3 -> 0 | M3: =L3/12 -> 0
B4: ARCELOR | C4: =JANVIER!J4+FEVRIER!J4+MARS!J4+AVRIL!J4+MAI!J4+JUIN!J4+JUILLET!J4+AOUT!J4+SEPTEMBRE!J4+OCTOBRE!J4+NOVEMBRE!J4+DECEMBRE!J4 -> 0 | D4: =C4/12 -> 0 | E4: COMAT | F4: =JANVIER!L4+FEVRIER!L4+MARS!L4+AVRIL!L4+MAI!L4+JUIN!L4+JUILLET!L4+AOUT!L4+SEPTEMBRE!L4+OCTOBRE!L4+NOVEMBRE!L4+DECEMBRE!L4 -> 0 | G4: =F4/12 -> 0 | H4: BAUDELET | I4: =JANVIER!N4+FEVRIER!N4+MARS!N4+AVRIL!N4+MAI!N4+JUIN!N4+JUILLET!N4+AOUT!N4+SEPTEMBRE!N4+OCTOBRE!N4+NOVEMBRE!N4+DECEMBRE!N4 -> 0 | J4: =I4/12 -> 0 | K4: FIXONE | L4: =JANVIER!P4+FEVRIER!P4+MARS!P4+AVRIL!P4+MAI!P4+JUIN!P4+JUILLET!P4+AOUT!P4+SEPTEMBRE!P4+OCTOBRE!P4+NOVEMBRE!P4+DECEMBRE!P4 -> 0 | M4: =L4/12 -> 0
B5: TRIMO | C5: =JANVIER!J5+FEVRIER!J5+MARS!J5+AVRIL!J5+MAI!J5+JUIN!J5+JUILLET!J5+AOUT!J5+SEPTEMBRE!J5+OCTOBRE!J5+NOVEMBRE!J5+DECEMBRE!J5 -> 0 | D5: =C5/12 -> 0 | E5: PLIOUEST | F5: =JANVIER!L5+FEVRIER!L5+MARS!L5+AVRIL!L5+MAI!L5+JUIN!L5+JUILLET!L5+AOUT!L5+SEPTEMBRE!L5+OCTOBRE!L5+NOVEMBRE!L5+DECEMBRE!L5 -> 0 | G5: =F5/12 -> 0 | H5: DFI | I5: =JANVIER!N5+FEVRIER!N5+MARS!N5+AVRIL!N5+MAI!N5+JUIN!N5+JUILLET!N5+AOUT!N5+SEPTEMBRE!N5+OCTOBRE!N5+NOVEMBRE!N5+DECEMBRE!N5 -> 0 | J5: =I5/12 -> 0 | K5: DFI | L5: =JANVIER!P5+FEVRIER!P5+MARS!P5+AVRIL!P5+MAI!P5+JUIN!P5+JUILLET!P5+AOUT!P5+SEPTEMBRE!P5+OCTOBRE!P5+NOVEMBRE!P5+DECEMBRE!P5 -> 0 | M5: =L5/12 -> 0
H6: TRENOIS | I6: =JANVIER!N6+FEVRIER!N6+MARS!N6+AVRIL!N6+MAI!N6+JUIN!N6+JUILLET!N6+AOUT!N6+SEPTEMBRE!N6+OCTOBRE!N6+NOVEMBRE!N6+DECEMBRE!N6 -> 0 | J6: =I6/12 -> 0 | M6: =L6/12 -> 0
H7: MILBLED | I7: =JANVIER!N7+FEVRIER!N7+MARS!N7+AVRIL!N7+MAI!N7+JUIN!N7+JUILLET!N7+AOUT!N7+SEPTEMBRE!N7+OCTOBRE!N7+NOVEMBRE!N7+DECEMBRE!N7 -> 0 | J7: =I7/12 -> 0
B8: CEPI | C8: =JANVIER!J8+FEVRIER!J8+MARS!J8+AVRIL!J8+MAI!J8+JUIN!J8+JUILLET!J8+AOUT!J8+SEPTEMBRE!J8+OCTOBRE!J8+NOVEMBRE!J8+DECEMBRE!J8 -> 0
B12: PORTES ET CHASSIS | D12: Dépense/mois | E12: TRANSPORTEUR / LOUEUR | G12: Dépense/mois | H12: DIVERS / PLASTIQUE | J12: Dépense/mois
B13: ACORA | C13: =JANVIER!J13+FEVRIER!J13+MARS!J13+AVRIL!J13+MAI!J13+JUIN!J13+JUILLET!J13+AOUT!J13+SEPTEMBRE!J13+OCTOBRE!J13+NOVEMBRE!J13+DECEMBRE!J13 -> 0 | D13: =C13/12 -> 0 | E13: DIRECT FRET | F13: =JANVIER!L13+FEVRIER!L13+MARS!L13+AVRIL!L13+MAI!L13+JUIN!L13+JUILLET!L13+AOUT!L13+SEPTEMBRE!L13+OCTOBRE!L13+NOVEMBRE!L13+DECEMBRE!L13 -> 0 | G13: =F13/12 -> 0 | H13: PLASTIQUE | I13: =JANVIER!N13+FEVRIER!N13+MARS!N13+AVRIL!N13+MAI!N13+JUIN!N13+JUILLET!N13+AOUT!N13+SEPTEMBRE!N13+OCTOBRE!N13+NOVEMBRE!N13+DECEMBRE!N13 -> 0 | J13: =I13/12 -> 0
B14: PORTISO | C14: =JANVIER!J14+FEVRIER!J14+MARS!J14+AVRIL!J14+MAI!J14+JUIN!J14+JUILLET!J14+AOUT!J14+SEPTEMBRE!J14+OCTOBRE!J14+NOVEMBRE!J14+DECEMBRE!J14 -> 0 | D14: =C14/12 -> 0 | E14: COURSIERSERVICE | F14: =JANVIER!L14+FEVRIER!L14+MARS!L14+AVRIL!L14+MAI!L14+JUIN!L14+JUILLET!L14+AOUT!L14+SEPTEMBRE!L14+OCTOBRE!L14+NOVEMBRE!L14+DECEMBRE!L14 -> 0 | G14: =F14/12 -> 0 | H14: ALU CB | I14: =JANVIER!N14+FEVRIER!N14+MARS!N14+AVRIL!N14+MAI!N14+JUIN!N14+JUILLET!N14+AOUT!N14+SEPTEMBRE!N14+OCTOBRE!N14+NOVEMBRE!N14+DECEMBRE!N14 -> 0 | J14: =I14/12 -> 0
B15: TELEWIG | C15: =JANVIER!J15+FEVRIER!J15+MARS!J15+AVRIL!J15+MAI!J15+JUIN!J15+JUILLET!J15+AOUT!J15+SEPTEMBRE!J15+OCTOBRE!J15+NOVEMBRE!J15+DECEMBRE!J15 -> 0 | D15: =C15/12 -> 0 | E15: MARISSAEL | F15: =JANVIER!L15+FEVRIER!L15+MARS!L15+AVRIL!L15+MAI!L15+JUIN!L15+JUILLET!L15+AOUT!L15+SEPTEMBRE!L15+OCTOBRE!L15+NOVEMBRE!L15+DECEMBRE!L15 -> 0 | G15: =F15/12 -> 0 | H15: REXEL | I15: =JANVIER!N15+FEVRIER!N15+MARS!N15+AVRIL!N15+MAI!N15+JUIN!N15+JUILLET!N15+AOUT!N15+SEPTEMBRE!N15+OCTOBRE!N15+NOVEMBRE!N15+DECEMBRE!N15 -> 0 | J15: =I15/12 -> 0
B16: MICADO | C16: =JANVIER!J16+FEVRIER!J16+MARS!J16+AVRIL!J16+MAI!J16+JUIN!J16+JUILLET!J16+AOUT!J16+SEPTEMBRE!J16+OCTOBRE!J16+NOVEMBRE!J16+DECEMBRE!J16 -> 0 | D16: =C16/12 -> 0 | E16: ACCES | F16: =JANVIER!L16+FEVRIER!L16+MARS!L16+AVRIL!L16+MAI!L16+JUIN!L16+JUILLET!L16+AOUT!L16+SEPTEMBRE!L16+OCTOBRE!L16+NOVEMBRE!L16+DECEMBRE!L16 -> 0 | G16: =F16/12 -> 0 | H16: WURTH | I16: =JANVIER!N16+FEVRIER!N16+MARS!N16+AVRIL!N16+MAI!N16+JUIN!N16+JUILLET!N16+AOUT!N16+SEPTEMBRE!N16+OCTOBRE!N16+NOVEMBRE!N16+DECEMBRE!N16 -> 0 | J16: =I16/12 -> 0
E17: KILOUTOU | F17: =JANVIER!L17+FEVRIER!L17+MARS!L17+AVRIL!L17+MAI!L17+JUIN!L17+JUILLET!L17+AOUT!L17+SEPTEMBRE!L17+OCTOBRE!L17+NOVEMBRE!L17+DECEMBRE!L17 -> 0 | G17: =F17/12 -> 0
H18: AUTRE | I18: =JANVIER!N18+FEVRIER!N18+MARS!N18+AVRIL!N18+MAI!N18+JUIN!N18+JUILLET!N18+AOUT!N18+SEPTEMBRE!N18+OCTOBRE!N18+NOVEMBRE!N18+DECEMBRE!N18 -> 0
B23: TOTAL | C23: =SUM(C3:C8,F3:F8,I3:I8,L3:L8,C13:C18,F13:F18,I13:I18) -> 0
