Workbook

Sheet Matrice
A1: REF. INTERNE | B1: PROPRIETAIRE | C1: PLAQUE | D1: TYPE | E1: MARQUE | F1: MODELE | G1: N° ID / SERIE | H1: CB / LEASEUR | I1: FACTURE | J1: DATE ACHAT | K1: VALEUR ACHAT | L1: DEVENIR | M1: MONTANT PEC APRES AMORT. | N1: ASSIETTE DE CALCUL | O1: DUREE CB | P1: FDCB | Q1: FLOCAGE | R1: REHAUSSE JPM | S1: ENTRETIEN | T1: AMORT. | U1: ANNEE ACQT | V1: FIN AMORT. A | W1: 2023 | X1: 2024 | Y1: 2025 | Z1: 2026 | AA1: 2027 | AB1: 2028 | AC1: 2029 | AD1: 2030 | AE1: 2031 | AF1: 2032 | AG1: 2033 | AH1: 2034 | AI1: 2035 | AJ1: 2036 | AK1: 2037
A2: BEN 01 | D2: BENNE | E2: IVECO | F2: DAYLY | J2: 41864 | K2: 32600 | L2: vendu le 15/10/2019 | M2: 17500 | N2: =T_BASE[[#This Row],[MONTANT PEC APRES AMORT.]] -> 17500 | O2: 60 | P2: 43709 | Q2: 585 | R2: 0 | S2: 120 | T2: =$O2/12 -> 5 | U2: =YEAR(J2) -> 2014 | V2: =T_BASE[[#This Row],[ANNEE ACQT]]+T_BASE[[#This Row],[AMORT.]] -> 2019 | W2: =$N2-IF(W$1<=$V2,0,IF(W$1>IF($V2<2022,2022,$V2),IF(W$1-IF($V2<2022,2022,$V2)=1,$N2*VLOOKUP(LEFT($A2,3),Paramétres!A:D,3,0),$N2*VLOOKUP(LEFT($A2,3),Paramétres!A:D,4)),0)) -> 17386.25 | X2: =IF(W2<$N2,W2,$N2)-IF(X$1<=$U2,0,IF(X$1>IF($U2<2022,2022,$U2),IF(X$1-IF($U2<2022,2022,$U2)=1,IF(W2<$N2,W2,$N2)*VLOOKUP(LEFT($A2,3),Paramétres!$A:$D,3,0),IF(W2<$N2,W2,$N2)*VLOOKUP(LEFT($A2,3),Paramétres!$A:$D,4)),0)) -> 16516.938 | Y2: =IF(X2<$N2,X2,$N2)-IF(Y$1<=$U2,0,IF(Y$1>IF($U2<2022,2022,$U2),IF(Y$1-IF($U2<2022,2022,$U2)=1,IF(X2<$N2,X2,$N2)*VLOOKUP(LEFT($A2,3),Paramétres!$A:$D,3,0),IF(X2<$N2,X2,$N2)*VLOOKUP(LEFT($A2,3),Paramétres!$A:$D,4)),0)) -> 15691.091 | Z2: =IF(Y2<$N2,Y2,$N2)-IF(Z$1<=$U2,0,IF(Z$1>IF($U2<2022,2022,$U2),IF(Z$1-IF($U2<2022,2022,$U2)=1,IF(Y2<$N2,Y2,$N2)*VLOOKUP(LEFT($A2,3),Paramétres!$A:$D,3,0),IF(Y2<$N2,Y2,$N2)*VLOOKUP(LEFT($A2,3),Paramétres!$A:$D,4)),0)) -> 14906.536 | AA2: =IF(Z2<$N2,Z2,$N2)-IF(AA$1<=$U2,0,IF(AA$1>IF($U2<2022,2022,$U2),IF(AA$1-IF($U2<2022,2022,$U2)=1,IF(Z2<$N2,Z2,$N2)*VLOOKUP(LEFT($A2,3),Paramétres!$A:$D,3,0),IF(Z2<$N2,Z2,$N2)*VLOOKUP(LEFT($A2,3),Paramétres!$A:$D,4)),0)) -> 14161.209 | AB2: =IF(AA2<$N2,AA2,$N2)-IF(AB$1<=$U2,0,IF(AB$1>IF($U2<2022,2022,$U2),IF(AB$1-IF($U2<2022,2022,$U2)=1,IF(AA2<$N2,AA2,$N2)*VLOOKUP(LEFT($A2,3),Paramétres!$A:$D,3,0),IF(AA2<$N2,AA2,$N2)*VLOOKUP(LEFT($A2,3),Paramétres!$A:$D,4)),0)) -> 13453.149 | AC2: =IF(AB2<$N2,AB2,$N2)-IF(AC$1<=$U2,0,IF(AC$1>IF($U2<2022,2022,$U2),IF(AC$1-IF($U2<2022,2022,$U2)=1,IF(AB2<$N2,AB2,$N2)*VLOOKUP(LEFT($A2,3),Paramétres!$A:$D,3,0),IF(AB2<$N2,AB2,$N2)*VLOOKUP(LEFT($A2,3),Paramétres!$A:$D,4)),0)) -> 12780.491 | AD2: =IF(AC2<$N2,AC2,$N2)-IF(AD$1<=$U2,0,IF(AD$1>IF($U2<2022,2022,$U2),IF(AD$1-IF($U2<2022,2022,$U2)=1,IF(AC2<$N2,AC2,$N2)*VLOOKUP(LEFT($A2,3),Paramétres!$A:$D,3,0),IF(AC2<$N2,AC2,$N2)*VLOOKUP(LEFT($A2,3),Paramétres!$A:$D,4)),0)) -> 12141.467 | AE2: =IF(AD2<$N2,AD2,$N2)-IF(AE$1<=$U2,0,IF(AE$1>IF($U2<2022,2022,$U2),IF(AE$1-IF($U2<2022,2022,$U2)=1,IF(AD2<$N2,AD2,$N2)*VLOOKUP(LEFT($A2,3),Paramétres!$A:$D,3,0),IF(AD2<$N2,AD2,$N2)*VLOOKUP(LEFT($A2,3),Paramétres!$A:$D,4)),0)) -> 11534.393 | ... AK2: =IF(AJ2<$N2,AJ2,$N2)-IF(AK$1<=$U2,0,IF(AK$1>IF($U2<2022,2022,$U2),IF(AK$1-IF($U2<2022,2022,$U2)=1,IF(AJ2<$N2,AJ2,$N2)*VLOOKUP(LEFT($A2,3),Paramétres!$A:$D,3,0),IF(AJ2<$N2,AJ2,$N2)*VLOOKUP(LEFT($A2,3),Paramétres!$A:$D,4)),0)) -> 8478.8391
A3: BEN 02 | D3: BENNE | E3: RENAULT | F3: MAXITY | J3: 42108 | K3: 29100 | L3: cédé le 14/03/2020 | M3: =T_BASE[[#This Row],[VALEUR ACHAT]] -> 29100 | N3: =T_BASE[[#This Row],[MONTANT PEC APRES AMORT.]] -> 29100 | O3: 60 | P3: 43935 | Q3: 405 | R3: 0 | S3: 120 | T3: =$O3/12 -> 5 | U3: =YEAR(J3) -> 2015 | V3: =T_BASE[[#This Row],[ANNEE ACQT]]+T_BASE[[#This Row],[AMORT.]] -> 2020 | W3: =$N3-IF(W$1<=$V3,0,IF(W$1>IF($V3<2022,2022,$V3),IF(W$1-IF($V3<2022,2022,$V3)=1,$N3*VLOOKUP(LEFT($A3,3),Paramétres!A:D,3,0),$N3*VLOOKUP(LEFT($A3,3),Paramétres!A:D,4)),0)) -> 28910.85 | X3: =IF(W3<$N3,W3,$N3)-IF(X$1<=$U3,0,IF(X$1>IF($U3<2022,2022,$U3),IF(X$1-IF($U3<2022,2022,$U3)=1,IF(W3<$N3,W3,$N3)*VLOOKUP(LEFT($A3,3),Paramétres!$A:$D,3,0),IF(W3<$N3,W3,$N3)*VLOOKUP(LEFT($A3,3),Paramétres!$A:$D,4)),0)) -> 27465.307 | Y3: =IF(X3<$N3,X3,$N3)-IF(Y$1<=$U3,0,IF(Y$1>IF($U3<2022,2022,$U3),IF(Y$1-IF($U3<2022,2022,$U3)=1,IF(X3<$N3,X3,$N3)*VLOOKUP(LEFT($A3,3),Paramétres!$A:$D,3,0),IF(X3<$N3,X3,$N3)*VLOOKUP(LEFT($A3,3),Paramétres!$A:$D,4)),0)) -> 26092.042 | Z3: =IF(Y3<$N3,Y3,$N3)-IF(Z$1<=$U3,0,IF(Z$1>IF($U3<2022,2022,$U3),IF(Z$1-IF($U3<2022,2022,$U3)=1,IF(Y3<$N3,Y3,$N3)*VLOOKUP(LEFT($A3,3),Paramétres!$A:$D,3,0),IF(Y3<$N3,Y3,$N3)*VLOOKUP(LEFT($A3,3),Paramétres!$A:$D,4)),0)) -> 24787.44 | AA3: =IF(Z3<$N3,Z3,$N3)-IF(AA$1<=$U3,0,IF(AA$1>IF($U3<2022,2022,$U3),IF(AA$1-IF($U3<2022,2022,$U3)=1,IF(Z3<$N3,Z3,$N3)*VLOOKUP(LEFT($A3,3),Paramétres!$A:$D,3,0),IF(Z3<$N3,Z3,$N3)*VLOOKUP(LEFT($A3,3),Paramétres!$A:$D,4)),0)) -> 23548.068 | AB3: =IF(AA3<$N3,AA3,$N3)-IF(AB$1<=$U3,0,IF(AB$1>IF($U3<2022,2022,$U3),IF(AB$1-IF($U3<2022,2022,$U3)=1,IF(AA3<$N3,AA3,$N3)*VLOOKUP(LEFT($A3,3),Paramétres!$A:$D,3,0),IF(AA3<$N3,AA3,$N3)*VLOOKUP(LEFT($A3,3),Paramétres!$A:$D,4)),0)) -> 22370.665 | AC3: =IF(AB3<$N3,AB3,$N3)-IF(AC$1<=$U3,0,IF(AC$1>IF($U3<2022,2022,$U3),IF(AC$1-IF($U3<2022,2022,$U3)=1,IF(AB3<$N3,AB3,$N3)*VLOOKUP(LEFT($A3,3),Paramétres!$A:$D,3,0),IF(AB3<$N3,AB3,$N3)*VLOOKUP(LEFT($A3,3),Paramétres!$A:$D,4)),0)) -> 21252.131 | AD3: =IF(AC3<$N3,AC3,$N3)-IF(AD$1<=$U3,0,IF(AD$1>IF($U3<2022,2022,$U3),IF(AD$1-IF($U3<2022,2022,$U3)=1,IF(AC3<$N3,AC3,$N3)*VLOOKUP(LEFT($A3,3),Paramétres!$A:$D,3,0),IF(AC3<$N3,AC3,$N3)*VLOOKUP(LEFT($A3,3),Paramétres!$A:$D,4)),0)) -> 20189.525 | AE3: =IF(AD3<$N3,AD3,$N3)-IF(AE$1<=$U3,0,IF(AE$1>IF($U3<2022,2022,$U3),IF(AE$1-IF($U3<2022,2022,$U3)=1,IF(AD3<$N3,AD3,$N3)*VLOOKUP(LEFT($A3,3),Paramétres!$A:$D,3,0),IF(AD3<$N3,AD3,$N3)*VLOOKUP(LEFT($A3,3),Paramétres!$A:$D,4)),0)) -> 19180.049 | ... AK3: =IF(AJ3<$N3,AJ3,$N3)-IF(AK$1<=$U3,0,IF(AK$1>IF($U3<2022,2022,$U3),IF(AK$1-IF($U3<2022,2022,$U3)=1,IF(AJ3<$N3,AJ3,$N3)*VLOOKUP(LEFT($A3,3),Paramétres!$A:$D,3,0),IF(AJ3<$N3,AJ3,$N3)*VLOOKUP(LEFT($A3,3),Paramétres!$A:$D,4)),0)) -> 14099.098
A4: BEN 03 | D4: BENNE | E4: RENAULT | F4: MAXITY | J4: 42563 | K4: 29700 | M4: =T_BASE[[#This Row],[VALEUR ACHAT]] -> 29700 | N4: =T_BASE[[#This Row],[MONTANT PEC APRES AMORT.]] -> 29700 | O4: 66 | P4: 44542 | Q4: 405 | R4: 0 | S4: 120 | T4: =$O4/12 -> 5.5 | U4: =YEAR(J4) -> 2016 | V4: =T_BASE[[#This Row],[ANNEE ACQT]]+T_BASE[[#This Row],[AMORT.]] -> 2021.5 | W4: =$N4-IF(W$1<=$V4,0,IF(W$1>IF($V4<2022,2022,$V4),IF(W$1-IF($V4<2022,2022,$V4)=1,$N4*VLOOKUP(LEFT($A4,3),Paramétres!A:D,3,0),$N4*VLOOKUP(LEFT($A4,3),Paramétres!A:D,4)),0)) -> 29506.95 | X4: =IF(W4<$N4,W4,$N4)-IF(X$1<=$U4,0,IF(X$1>IF($U4<2022,2022,$U4),IF(X$1-IF($U4<2022,2022,$U4)=1,IF(W4<$N4,W4,$N4)*VLOOKUP(LEFT($A4,3),Paramétres!$A:$D,3,0),IF(W4<$N4,W4,$N4)*VLOOKUP(LEFT($A4,3),Paramétres!$A:$D,4)),0)) -> 28031.603 | Y4: =IF(X4<$N4,X4,$N4)-IF(Y$1<=$U4,0,IF(Y$1>IF($U4<2022,2022,$U4),IF(Y$1-IF($U4<2022,2022,$U4)=1,IF(X4<$N4,X4,$N4)*VLOOKUP(LEFT($A4,3),Paramétres!$A:$D,3,0),IF(X4<$N4,X4,$N4)*VLOOKUP(LEFT($A4,3),Paramétres!$A:$D,4)),0)) -> 26630.022 | Z4: =IF(Y4<$N4,Y4,$N4)-IF(Z$1<=$U4,0,IF(Z$1>IF($U4<2022,2022,$U4),IF(Z$1-IF($U4<2022,2022,$U4)=1,IF(Y4<$N4,Y4,$N4)*VLOOKUP(LEFT($A4,3),Paramétres!$A:$D,3,0),IF(Y4<$N4,Y4,$N4)*VLOOKUP(LEFT($A4,3),Paramétres!$A:$D,4)),0)) -> 25298.521 | AA4: =IF(Z4<$N4,Z4,$N4)-IF(AA$1<=$U4,0,IF(AA$1>IF($U4<2022,2022,$U4),IF(AA$1-IF($U4<2022,2022,$U4)=1,IF(Z4<$N4,Z4,$N4)*VLOOKUP(LEFT($A4,3),Paramétres!$A:$D,3,0),IF(Z4<$N4,Z4,$N4)*VLOOKUP(LEFT($A4,3),Paramétres!$A:$D,4)),0)) -> 24033.595 | AB4: =IF(AA4<$N4,AA4,$N4)-IF(AB$1<=$U4,0,IF(AB$1>IF($U4<2022,2022,$U4),IF(AB$1-IF($U4<2022,2022,$U4)=1,IF(AA4<$N4,AA4,$N4)*VLOOKUP(LEFT($A4,3),Paramétres!$A:$D,3,0),IF(AA4<$N4,AA4,$N4)*VLOOKUP(LEFT($A4,3),Paramétres!$A:$D,4)),0)) -> 22831.915 | AC4: =IF(AB4<$N4,AB4,$N4)-IF(AC$1<=$U4,0,IF(AC$1>IF($U4<2022,2022,$U4),IF(AC$1-IF($U4<2022,2022,$U4)=1,IF(AB4<$N4,AB4,$N4)*VLOOKUP(LEFT($A4,3),Paramétres!$A:$D,3,0),IF(AB4<$N4,AB4,$N4)*VLOOKUP(LEFT($A4,3),Paramétres!$A:$D,4)),0)) -> 21690.32 | AD4: =IF(AC4<$N4,AC4,$N4)-IF(AD$1<=$U4,0,IF(AD$1>IF($U4<2022,2022,$U4),IF(AD$1-IF($U4<2022,2022,$U4)=1,IF(AC4<$N4,AC4,$N4)*VLOOKUP(LEFT($A4,3),Paramétres!$A:$D,3,0),IF(AC4<$N4,AC4,$N4)*VLOOKUP(LEFT($A4,3),Paramétres!$A:$D,4)),0)) -> 20605.804 | AE4: =IF(AD4<$N4,AD4,$N4)-IF(AE$1<=$U4,0,IF(AE$1>IF($U4<2022,2022,$U4),IF(AE$1-IF($U4<2022,2022,$U4)=1,IF(AD4<$N4,AD4,$N4)*VLOOKUP(LEFT($A4,3),Paramétres!$A:$D,3,0),IF(AD4<$N4,AD4,$N4)*VLOOKUP(LEFT($A4,3),Paramétres!$A:$D,4)),0)) -> 19575.513 | ... AK4: =IF(AJ4<$N4,AJ4,$N4)-IF(AK$1<=$U4,0,IF(AK$1>IF($U4<2022,2022,$U4),IF(AK$1-IF($U4<2022,2022,$U4)=1,IF(AJ4<$N4,AJ4,$N4)*VLOOKUP(LEFT($A4,3),Paramétres!$A:$D,3,0),IF(AJ4<$N4,AJ4,$N4)*VLOOKUP(LEFT($A4,3),Paramétres!$A:$D,4)),0)) -> 14389.801
A5: BEN 04 | D5: BENNE | E5: FIAT | F5: DUCATO | J5: 43074 | K5: 16241.67 | M5: =T_BASE[[#This Row],[VALEUR ACHAT]] -> 16241.67 | N5: =T_BASE[[#This Row],[MONTANT PEC APRES AMORT.]] -> 16241.67 | O5: 60 | P5: 44880 | Q5: 405 | R5: 0 | S5: 120 | T5: =$O5/12 -> 5 | U5: =YEAR(J5) -> 2017 | V5: =T_BASE[[#This Row],[ANNEE ACQT]]+T_BASE[[#This Row],[AMORT.]] -> 2022 | W5: =$N5-IF(W$1<=$V5,0,IF(W$1>IF($V5<2022,2022,$V5),IF(W$1-IF($V5<2022,2022,$V5)=1,$N5*VLOOKUP(LEFT($A5,3),Paramétres!A:D,3,0),$N5*VLOOKUP(LEFT($A5,3),Paramétres!A:D,4)),0)) -> 16136.099 | X5: =IF(W5<$N5,W5,$N5)-IF(X$1<=$U5,0,IF(X$1>IF($U5<2022,2022,$U5),IF(X$1-IF($U5<2022,2022,$U5)=1,IF(W5<$N5,W5,$N5)*VLOOKUP(LEFT($A5,3),Paramétres!$A:$D,3,0),IF(W5<$N5,W5,$N5)*VLOOKUP(LEFT($A5,3),Paramétres!$A:$D,4)),0)) -> 15329.294 | Y5: =IF(X5<$N5,X5,$N5)-IF(Y$1<=$U5,0,IF(Y$1>IF($U5<2022,2022,$U5),IF(Y$1-IF($U5<2022,2022,$U5)=1,IF(X5<$N5,X5,$N5)*VLOOKUP(LEFT($A5,3),Paramétres!$A:$D,3,0),IF(X5<$N5,X5,$N5)*VLOOKUP(LEFT($A5,3),Paramétres!$A:$D,4)),0)) -> 14562.829 | Z5: =IF(Y5<$N5,Y5,$N5)-IF(Z$1<=$U5,0,IF(Z$1>IF($U5<2022,2022,$U5),IF(Z$1-IF($U5<2022,2022,$U5)=1,IF(Y5<$N5,Y5,$N5)*VLOOKUP(LEFT($A5,3),Paramétres!$A:$D,3,0),IF(Y5<$N5,Y5,$N5)*VLOOKUP(LEFT($A5,3),Paramétres!$A:$D,4)),0)) -> 13834.688 | AA5: =IF(Z5<$N5,Z5,$N5)-IF(AA$1<=$U5,0,IF(AA$1>IF($U5<2022,2022,$U5),IF(AA$1-IF($U5<2022,2022,$U5)=1,IF(Z5<$N5,Z5,$N5)*VLOOKUP(LEFT($A5,3),Paramétres!$A:$D,3,0),IF(Z5<$N5,Z5,$N5)*VLOOKUP(LEFT($A5,3),Paramétres!$A:$D,4)),0)) -> 13142.954 | AB5: =IF(AA5<$N5,AA5,$N5)-IF(AB$1<=$U5,0,IF(AB$1>IF($U5<2022,2022,$U5),IF(AB$1-IF($U5<2022,2022,$U5)=1,IF(AA5<$N5,AA5,$N5)*VLOOKUP(LEFT($A5,3),Paramétres!$A:$D,3,0),IF(AA5<$N5,AA5,$N5)*VLOOKUP(LEFT($A5,3),Paramétres!$A:$D,4)),0)) -> 12485.806 | AC5: =IF(AB5<$N5,AB5,$N5)-IF(AC$1<=$U5,0,IF(AC$1>IF($U5<2022,2022,$U5),IF(AC$1-IF($U5<2022,2022,$U5)=1,IF(AB5<$N5,AB5,$N5)*VLOOKUP(LEFT($A5,3),Paramétres!$A:$D,3,0),IF(AB5<$N5,AB5,$N5)*VLOOKUP(LEFT($A5,3),Paramétres!$A:$D,4)),0)) -> 11861.516 | AD5: =IF(AC5<$N5,AC5,$N5)-IF(AD$1<=$U5,0,IF(AD$1>IF($U5<2022,2022,$U5),IF(AD$1-IF($U5<2022,2022,$U5)=1,IF(AC5<$N5,AC5,$N5)*VLOOKUP(LEFT($A5,3),Paramétres!$A:$D,3,0),IF(AC5<$N5,AC5,$N5)*VLOOKUP(LEFT($A5,3),Paramétres!$A:$D,4)),0)) -> 11268.44 | AE5: =IF(AD5<$N5,AD5,$N5)-IF(AE$1<=$U5,0,IF(AE$1>IF($U5<2022,2022,$U5),IF(AE$1-IF($U5<2022,2022,$U5)=1,IF(AD5<$N5,AD5,$N5)*VLOOKUP(LEFT($A5,3),Paramétres!$A:$D,3,0),IF(AD5<$N5,AD5,$N5)*VLOOKUP(LEFT($A5,3),Paramétres!$A:$D,4)),0)) -> 10705.018 | ... AK5: =IF(AJ5<$N5,AJ5,$N5)-IF(AK$1<=$U5,0,IF(AK$1>IF($U5<2022,2022,$U5),IF(AK$1-IF($U5<2022,2022,$U5)=1,IF(AJ5<$N5,AJ5,$N5)*VLOOKUP(LEFT($A5,3),Paramétres!$A:$D,3,0),IF(AJ5<$N5,AJ5,$N5)*VLOOKUP(LEFT($A5,3),Paramétres!$A:$D,4)),0)) -> 7869.1718
A6: BEN 05 | D6: BENNE | E6: IVECO | F6: DAILY | J6: 43165 | K6: 36300 | M6: =T_BASE[[#This Row],[VALEUR ACHAT]] -> 36300 | N6: =T_BASE[[#This Row],[MONTANT PEC APRES AMORT.]] -> 36300 | O6: 60 | P6: 45017 | Q6: 585 | R6: 0 | S6: 120 | T6: =$O6/12 -> 5 | U6: =YEAR(J6) -> 2018 | V6: =T_BASE[[#This Row],[ANNEE ACQT]]+T_BASE[[#This Row],[AMORT.]] -> 2023 | W6: =$N6-IF(W$1<=$V6,0,IF(W$1>IF($V6<2022,2022,$V6),IF(W$1-IF($V6<2022,2022,$V6)=1,$N6*VLOOKUP(LEFT($A6,3),Paramétres!A:D,3,0),$N6*VLOOKUP(LEFT($A6,3),Paramétres!A:D,4)),0)) -> 34485 | X6: =IF(W6<$N6,W6,$N6)-IF(X$1<=$U6,0,IF(X$1>IF($U6<2022,2022,$U6),IF(X$1-IF($U6<2022,2022,$U6)=1,IF(W6<$N6,W6,$N6)*VLOOKUP(LEFT($A6,3),Paramétres!$A:$D,3,0),IF(W6<$N6,W6,$N6)*VLOOKUP(LEFT($A6,3),Paramétres!$A:$D,4)),0)) -> 32760.75 | Y6: =IF(X6<$N6,X6,$N6)-IF(Y$1<=$U6,0,IF(Y$1>IF($U6<2022,2022,$U6),IF(Y$1-IF($U6<2022,2022,$U6)=1,IF(X6<$N6,X6,$N6)*VLOOKUP(LEFT($A6,3),Paramétres!$A:$D,3,0),IF(X6<$N6,X6,$N6)*VLOOKUP(LEFT($A6,3),Paramétres!$A:$D,4)),0)) -> 31122.713 | Z6: =IF(Y6<$N6,Y6,$N6)-IF(Z$1<=$U6,0,IF(Z$1>IF($U6<2022,2022,$U6),IF(Z$1-IF($U6<2022,2022,$U6)=1,IF(Y6<$N6,Y6,$N6)*VLOOKUP(LEFT($A6,3),Paramétres!$A:$D,3,0),IF(Y6<$N6,Y6,$N6)*VLOOKUP(LEFT($A6,3),Paramétres!$A:$D,4)),0)) -> 29566.577 | AA6: =IF(Z6<$N6,Z6,$N6)-IF(AA$1<=$U6,0,IF(AA$1>IF($U6<2022,2022,$U6),IF(AA$1-IF($U6<2022,2022,$U6)=1,IF(Z6<$N6,Z6,$N6)*VLOOKUP(LEFT($A6,3),Paramétres!$A:$D,3,0),IF(Z6<$N6,Z6,$N6)*VLOOKUP(LEFT($A6,3),Paramétres!$A:$D,4)),0)) -> 28088.248 | AB6: =IF(AA6<$N6,AA6,$N6)-IF(AB$1<=$U6,0,IF(AB$1>IF($U6<2022,2022,$U6),IF(AB$1-IF($U6<2022,2022,$U6)=1,IF(AA6<$N6,AA6,$N6)*VLOOKUP(LEFT($A6,3),Paramétres!$A:$D,3,0),IF(AA6<$N6,AA6,$N6)*VLOOKUP(LEFT($A6,3),Paramétres!$A:$D,4)),0)) -> 26683.836 | AC6: =IF(AB6<$N6,AB6,$N6)-IF(AC$1<=$U6,0,IF(AC$1>IF($U6<2022,2022,$U6),IF(AC$1-IF($U6<2022,2022,$U6)=1,IF(AB6<$N6,AB6,$N6)*VLOOKUP(LEFT($A6,3),Paramétres!$A:$D,3,0),IF(AB6<$N6,AB6,$N6)*VLOOKUP(LEFT($A6,3),Paramétres!$A:$D,4)),0)) -> 25349.644 | AD6: =IF(AC6<$N6,AC6,$N6)-IF(AD$1<=$U6,0,IF(AD$1>IF($U6<2022,2022,$U6),IF(AD$1-IF($U6<2022,2022,$U6)=1,IF(AC6<$N6,AC6,$N6)*VLOOKUP(LEFT($A6,3),Paramétres!$A:$D,3,0),IF(AC6<$N6,AC6,$N6)*VLOOKUP(LEFT($A6,3),Paramétres!$A:$D,4)),0)) -> 24082.162 | AE6: =IF(AD6<$N6,AD6,$N6)-IF(AE$1<=$U6,0,IF(AE$1>IF($U6<2022,2022,$U6),IF(AE$1-IF($U6<2022,2022,$U6)=1,IF(AD6<$N6,AD6,$N6)*VLOOKUP(LEFT($A6,3),Paramétres!$A:$D,3,0),IF(AD6<$N6,AD6,$N6)*VLOOKUP(LEFT($A6,3),Paramétres!$A:$D,4)),0)) -> 22878.054 | ... AK6: =IF(AJ6<$N6,AJ6,$N6)-IF(AK$1<=$U6,0,IF(AK$1>IF($U6<2022,2022,$U6),IF(AK$1-IF($U6<2022,2022,$U6)=1,IF(AJ6<$N6,AJ6,$N6)*VLOOKUP(LEFT($A6,3),Paramétres!$A:$D,3,0),IF(AJ6<$N6,AJ6,$N6)*VLOOKUP(LEFT($A6,3),Paramétres!$A:$D,4)),0)) -> 16817.472
A7: BEN 06 | D7: BENNE | E7: FIAT | F7: DUCATO | J7: 43276 | K7: 24490 | M7: =T_BASE[[#This Row],[VALEUR ACHAT]] -> 24490 | N7: =T_BASE[[#This Row],[MONTANT PEC APRES AMORT.]] -> 24490 | O7: 60 | P7: 45071 | Q7: 405 | R7: 2608 | S7: 120 | T7: =$O7/12 -> 5 | U7: =YEAR(J7) -> 2018 | V7: =T_BASE[[#This Row],[ANNEE ACQT]]+T_BASE[[#This Row],[AMORT.]] -> 2023 | W7: =$N7-IF(W$1<=$V7,0,IF(W$1>IF($V7<2022,2022,$V7),IF(W$1-IF($V7<2022,2022,$V7)=1,$N7*VLOOKUP(LEFT($A7,3),Paramétres!A:D,3,0),$N7*VLOOKUP(LEFT($A7,3),Paramétres!A:D,4)),0)) -> 23265.5 | X7: =IF(W7<$N7,W7,$N7)-IF(X$1<=$U7,0,IF(X$1>IF($U7<2022,2022,$U7),IF(X$1-IF($U7<2022,2022,$U7)=1,IF(W7<$N7,W7,$N7)*VLOOKUP(LEFT($A7,3),Paramétres!$A:$D,3,0),IF(W7<$N7,W7,$N7)*VLOOKUP(LEFT($A7,3),Paramétres!$A:$D,4)),0)) -> 22102.225 | Y7: =IF(X7<$N7,X7,$N7)-IF(Y$1<=$U7,0,IF(Y$1>IF($U7<2022,2022,$U7),IF(Y$1-IF($U7<2022,2022,$U7)=1,IF(X7<$N7,X7,$N7)*VLOOKUP(LEFT($A7,3),Paramétres!$A:$D,3,0),IF(X7<$N7,X7,$N7)*VLOOKUP(LEFT($A7,3),Paramétres!$A:$D,4)),0)) -> 20997.114 | Z7: =IF(Y7<$N7,Y7,$N7)-IF(Z$1<=$U7,0,IF(Z$1>IF($U7<2022,2022,$U7),IF(Z$1-IF($U7<2022,2022,$U7)=1,IF(Y7<$N7,Y7,$N7)*VLOOKUP(LEFT($A7,3),Paramétres!$A:$D,3,0),IF(Y7<$N7,Y7,$N7)*VLOOKUP(LEFT($A7,3),Paramétres!$A:$D,4)),0)) -> 19947.258 | AA7: =IF(Z7<$N7,Z7,$N7)-IF(AA$1<=$U7,0,IF(AA$1>IF($U7<2022,2022,$U7),IF(AA$1-IF($U7<2022,2022,$U7)=1,IF(Z7<$N7,Z7,$N7)*VLOOKUP(LEFT($A7,3),Paramétres!$A:$D,3,0),IF(Z7<$N7,Z7,$N7)*VLOOKUP(LEFT($A7,3),Paramétres!$A:$D,4)),0)) -> 18949.895 | AB7: =IF(AA7<$N7,AA7,$N7)-IF(AB$1<=$U7,0,IF(AB$1>IF($U7<2022,2022,$U7),IF(AB$1-IF($U7<2022,2022,$U7)=1,IF(AA7<$N7,AA7,$N7)*VLOOKUP(LEFT($A7,3),Paramétres!$A:$D,3,0),IF(AA7<$N7,AA7,$N7)*VLOOKUP(LEFT($A7,3),Paramétres!$A:$D,4)),0)) -> 18002.4 | AC7: =IF(AB7<$N7,AB7,$N7)-IF(AC$1<=$U7,0,IF(AC$1>IF($U7<2022,2022,$U7),IF(AC$1-IF($U7<2022,2022,$U7)=1,IF(AB7<$N7,AB7,$N7)*VLOOKUP(LEFT($A7,3),Paramétres!$A:$D,3,0),IF(AB7<$N7,AB7,$N7)*VLOOKUP(LEFT($A7,3),Paramétres!$A:$D,4)),0)) -> 17102.28 | AD7: =IF(AC7<$N7,AC7,$N7)-IF(AD$1<=$U7,0,IF(AD$1>IF($U7<2022,2022,$U7),IF(AD$1-IF($U7<2022,2022,$U7)=1,IF(AC7<$N7,AC7,$N7)*VLOOKUP(LEFT($A7,3),Paramétres!$A:$D,3,0),IF(AC7<$N7,AC7,$N7)*VLOOKUP(LEFT($A7,3),Paramétres!$A:$D,4)),0)) -> 16247.166 | AE7: =IF(AD7<$N7,AD7,$N7)-IF(AE$1<=$U7,0,IF(AE$1>IF($U7<2022,2022,$U7),IF(AE$1-IF($U7<2022,2022,$U7)=1,IF(AD7<$N7,AD7,$N7)*VLOOKUP(LEFT($A7,3),Paramétres!$A:$D,3,0),IF(AD7<$N7,AD7,$N7)*VLOOKUP(LEFT($A7,3),Paramétres!$A:$D,4)),0)) -> 15434.808 | ... AK7: =IF(AJ7<$N7,AJ7,$N7)-IF(AK$1<=$U7,0,IF(AK$1>IF($U7<2022,2022,$U7),IF(AK$1-IF($U7<2022,2022,$U7)=1,IF(AJ7<$N7,AJ7,$N7)*VLOOKUP(LEFT($A7,3),Paramétres!$A:$D,3,0),IF(AJ7<$N7,AJ7,$N7)*VLOOKUP(LEFT($A7,3),Paramétres!$A:$D,4)),0)) -> 11346.002
A8: BEN 07 | D8: BENNE | E8: FIAT | F8: DUCATO | J8: 43273 | K8: 19990 | M8: =T_BASE[[#This Row],[VALEUR ACHAT]] -> 19990 | N8: =T_BASE[[#This Row],[MONTANT PEC APRES AMORT.]] -> 19990 | O8: 60 | P8: 45098 | Q8: 354 | R8: 2608 | S8: 120 | T8: =$O8/12 -> 5 | U8: =YEAR(J8) -> 2018 | V8: =T_BASE[[#This Row],[ANNEE ACQT]]+T_BASE[[#This Row],[AMORT.]] -> 2023 | W8: =$N8-IF(W$1<=$V8,0,IF(W$1>IF($V8<2022,2022,$V8),IF(W$1-IF($V8<2022,2022,$V8)=1,$N8*VLOOKUP(LEFT($A8,3),Paramétres!A:D,3,0),$N8*VLOOKUP(LEFT($A8,3),Paramétres!A:D,4)),0)) -> 18990.5 | X8: =IF(W8<$N8,W8,$N8)-IF(X$1<=$U8,0,IF(X$1>IF($U8<2022,2022,$U8),IF(X$1-IF($U8<2022,2022,$U8)=1,IF(W8<$N8,W8,$N8)*VLOOKUP(LEFT($A8,3),Paramétres!$A:$D,3,0),IF(W8<$N8,W8,$N8)*VLOOKUP(LEFT($A8,3),Paramétres!$A:$D,4)),0)) -> 18040.975 | Y8: =IF(X8<$N8,X8,$N8)-IF(Y$1<=$U8,0,IF(Y$1>IF($U8<2022,2022,$U8),IF(Y$1-IF($U8<2022,2022,$U8)=1,IF(X8<$N8,X8,$N8)*VLOOKUP(LEFT($A8,3),Paramétres!$A:$D,3,0),IF(X8<$N8,X8,$N8)*VLOOKUP(LEFT($A8,3),Paramétres!$A:$D,4)),0)) -> 17138.926 | Z8: =IF(Y8<$N8,Y8,$N8)-IF(Z$1<=$U8,0,IF(Z$1>IF($U8<2022,2022,$U8),IF(Z$1-IF($U8<2022,2022,$U8)=1,IF(Y8<$N8,Y8,$N8)*VLOOKUP(LEFT($A8,3),Paramétres!$A:$D,3,0),IF(Y8<$N8,Y8,$N8)*VLOOKUP(LEFT($A8,3),Paramétres!$A:$D,4)),0)) -> 16281.98 | AA8: =IF(Z8<$N8,Z8,$N8)-IF(AA$1<=$U8,0,IF(AA$1>IF($U8<2022,2022,$U8),IF(AA$1-IF($U8<2022,2022,$U8)=1,IF(Z8<$N8,Z8,$N8)*VLOOKUP(LEFT($A8,3),Paramétres!$A:$D,3,0),IF(Z8<$N8,Z8,$N8)*VLOOKUP(LEFT($A8,3),Paramétres!$A:$D,4)),0)) -> 15467.881 | AB8: =IF(AA8<$N8,AA8,$N8)-IF(AB$1<=$U8,0,IF(AB$1>IF($U8<2022,2022,$U8),IF(AB$1-IF($U8<2022,2022,$U8)=1,IF(AA8<$N8,AA8,$N8)*VLOOKUP(LEFT($A8,3),Paramétres!$A:$D,3,0),IF(AA8<$N8,AA8,$N8)*VLOOKUP(LEFT($A8,3),Paramétres!$A:$D,4)),0)) -> 14694.487 | AC8: =IF(AB8<$N8,AB8,$N8)-IF(AC$1<=$U8,0,IF(AC$1>IF($U8<2022,2022,$U8),IF(AC$1-IF($U8<2022,2022,$U8)=1,IF(AB8<$N8,AB8,$N8)*VLOOKUP(LEFT($A8,3),Paramétres!$A:$D,3,0),IF(AB8<$N8,AB8,$N8)*VLOOKUP(LEFT($A8,3),Paramétres!$A:$D,4)),0)) -> 13959.763 | AD8: =IF(AC8<$N8,AC8,$N8)-IF(AD$1<=$U8,0,IF(AD$1>IF($U8<2022,2022,$U8),IF(AD$1-IF($U8<2022,2022,$U8)=1,IF(AC8<$N8,AC8,$N8)*VLOOKUP(LEFT($A8,3),Paramétres!$A:$D,3,0),IF(AC8<$N8,AC8,$N8)*VLOOKUP(LEFT($A8,3),Paramétres!$A:$D,4)),0)) -> 13261.774 | AE8: =IF(AD8<$N8,AD8,$N8)-IF(AE$1<=$U8,0,IF(AE$1>IF($U8<2022,2022,$U8),IF(AE$1-IF($U8<2022,2022,$U8)=1,IF(AD8<$N8,AD8,$N8)*VLOOKUP(LEFT($A8,3),Paramétres!$A:$D,3,0),IF(AD8<$N8,AD8,$N8)*VLOOKUP(LEFT($A8,3),Paramétres!$A:$D,4)),0)) -> 12598.686 | ... AK8: =IF(AJ8<$N8,AJ8,$N8)-IF(AK$1<=$U8,0,IF(AK$1>IF($U8<2022,2022,$U8),IF(AK$1-IF($U8<2022,2022,$U8)=1,IF(AJ8<$N8,AJ8,$N8)*VLOOKUP(LEFT($A8,3),Paramétres!$A:$D,3,0),IF(AJ8<$N8,AJ8,$N8)*VLOOKUP(LEFT($A8,3),Paramétres!$A:$D,4)),0)) -> 9261.1917
A9: BEN 08 | D9: BENNE | E9: FIAT | F9: DUCATO | J9: 43770 | K9: 22574.76 | M9: =T_BASE[[#This Row],[VALEUR ACHAT]] -> 22574.76 | N9: =T_BASE[[#This Row],[MONTANT PEC APRES AMORT.]] -> 22574.76 | O9: 63 | P9: 45566 | Q9: 177 | R9: 2868.26 | S9: 120 | T9: =$O9/12 -> 5.25 | U9: =YEAR(J9) -> 2019 | V9: =T_BASE[[#This Row],[ANNEE ACQT]]+T_BASE[[#This Row],[AMORT.]] -> 2024.25 | W9: =$N9-IF(W$1<=$V9,0,IF(W$1>IF($V9<2022,2022,$V9),IF(W$1-IF($V9<2022,2022,$V9)=1,$N9*VLOOKUP(LEFT($A9,3),Paramétres!A:D,3,0),$N9*VLOOKUP(LEFT($A9,3),Paramétres!A:D,4)),0)) -> 21446.022 | X9: =IF(W9<$N9,W9,$N9)-IF(X$1<=$U9,0,IF(X$1>IF($U9<2022,2022,$U9),IF(X$1-IF($U9<2022,2022,$U9)=1,IF(W9<$N9,W9,$N9)*VLOOKUP(LEFT($A9,3),Paramétres!$A:$D,3,0),IF(W9<$N9,W9,$N9)*VLOOKUP(LEFT($A9,3),Paramétres!$A:$D,4)),0)) -> 20373.721 | Y9: =IF(X9<$N9,X9,$N9)-IF(Y$1<=$U9,0,IF(Y$1>IF($U9<2022,2022,$U9),IF(Y$1-IF($U9<2022,2022,$U9)=1,IF(X9<$N9,X9,$N9)*VLOOKUP(LEFT($A9,3),Paramétres!$A:$D,3,0),IF(X9<$N9,X9,$N9)*VLOOKUP(LEFT($A9,3),Paramétres!$A:$D,4)),0)) -> 19355.035 | Z9: =IF(Y9<$N9,Y9,$N9)-IF(Z$1<=$U9,0,IF(Z$1>IF($U9<2022,2022,$U9),IF(Z$1-IF($U9<2022,2022,$U9)=1,IF(Y9<$N9,Y9,$N9)*VLOOKUP(LEFT($A9,3),Paramétres!$A:$D,3,0),IF(Y9<$N9,Y9,$N9)*VLOOKUP(LEFT($A9,3),Paramétres!$A:$D,4)),0)) -> 18387.283 | AA9: =IF(Z9<$N9,Z9,$N9)-IF(AA$1<=$U9,0,IF(AA$1>IF($U9<2022,2022,$U9),IF(AA$1-IF($U9<2022,2022,$U9)=1,IF(Z9<$N9,Z9,$N9)*VLOOKUP(LEFT($A9,3),Paramétres!$A:$D,3,0),IF(Z9<$N9,Z9,$N9)*VLOOKUP(LEFT($A9,3),Paramétres!$A:$D,4)),0)) -> 17467.919 | AB9: =IF(AA9<$N9,AA9,$N9)-IF(AB$1<=$U9,0,IF(AB$1>IF($U9<2022,2022,$U9),IF(AB$1-IF($U9<2022,2022,$U9)=1,IF(AA9<$N9,AA9,$N9)*VLOOKUP(LEFT($A9,3),Paramétres!$A:$D,3,0),IF(AA9<$N9,AA9,$N9)*VLOOKUP(LEFT($A9,3),Paramétres!$A:$D,4)),0)) -> 16594.523 | AC9: =IF(AB9<$N9,AB9,$N9)-IF(AC$1<=$U9,0,IF(AC$1>IF($U9<2022,2022,$U9),IF(AC$1-IF($U9<2022,2022,$U9)=1,IF(AB9<$N9,AB9,$N9)*VLOOKUP(LEFT($A9,3),Paramétres!$A:$D,3,0),IF(AB9<$N9,AB9,$N9)*VLOOKUP(LEFT($A9,3),Paramétres!$A:$D,4)),0)) -> 15764.797 | AD9: =IF(AC9<$N9,AC9,$N9)-IF(AD$1<=$U9,0,IF(AD$1>IF($U9<2022,2022,$U9),IF(AD$1-IF($U9<2022,2022,$U9)=1,IF(AC9<$N9,AC9,$N9)*VLOOKUP(LEFT($A9,3),Paramétres!$A:$D,3,0),IF(AC9<$N9,AC9,$N9)*VLOOKUP(LEFT($A9,3),Paramétres!$A:$D,4)),0)) -> 14976.557 | AE9: =IF(AD9<$N9,AD9,$N9)-IF(AE$1<=$U9,0,IF(AE$1>IF($U9<2022,2022,$U9),IF(AE$1-IF($U9<2022,2022,$U9)=1,IF(AD9<$N9,AD9,$N9)*VLOOKUP(LEFT($A9,3),Paramétres!$A:$D,3,0),IF(AD9<$N9,AD9,$N9)*VLOOKUP(LEFT($A9,3),Paramétres!$A:$D,4)),0)) -> 14227.729 | ... AK9: =IF(AJ9<$N9,AJ9,$N9)-IF(AK$1<=$U9,0,IF(AK$1>IF($U9<2022,2022,$U9),IF(AK$1-IF($U9<2022,2022,$U9)=1,IF(AJ9<$N9,AJ9,$N9)*VLOOKUP(LEFT($A9,3),Paramétres!$A:$D,3,0),IF(AJ9<$N9,AJ9,$N9)*VLOOKUP(LEFT($A9,3),Paramétres!$A:$D,4)),0)) -> 10458.688
A10: BEN 09 | D10: BENNE | E10: FIAT | F10: DUCATO | J10: 43770 | K10: 22574.76 | M10: =T_BASE[[#This Row],[VALEUR ACHAT]] -> 22574.76 | N10: =T_BASE[[#This Row],[MONTANT PEC APRES AMORT.]] -> 22574.76 | O10: 63 | P10: 45566 | Q10: 177 | R10: 2868.26 | S10: 120 | T10: =$O10/12 -> 5.25 | U10: =YEAR(J10) -> 2019 | V10: =T_BASE[[#This Row],[ANNEE ACQT]]+T_BASE[[#This Row],[AMORT.]] -> 2024.25 | W10: =$N10-IF(W$1<=$V10,0,IF(W$1>IF($V10<2022,2022,$V10),IF(W$1-IF($V10<2022,2022,$V10)=1,$N10*VLOOKUP(LEFT($A10,3),Paramétres!A:D,3,0),$N10*VLOOKUP(LEFT($A10,3),Paramétres!A:D,4)),0)) -> 21446.022 | X10: =IF(W10<$N10,W10,$N10)-IF(X$1<=$U10,0,IF(X$1>IF($U10<2022,2022,$U10),IF(X$1-IF($U10<2022,2022,$U10)=1,IF(W10<$N10,W10,$N10)*VLOOKUP(LEFT($A10,3),Paramétres!$A:$D,3,0),IF(W10<$N10,W10,$N10)*VLOOKUP(LEFT($A10,3),Paramétres!$A:$D,4)),0)) -> 20373.721 | Y10: =IF(X10<$N10,X10,$N10)-IF(Y$1<=$U10,0,IF(Y$1>IF($U10<2022,2022,$U10),IF(Y$1-IF($U10<2022,2022,$U10)=1,IF(X10<$N10,X10,$N10)*VLOOKUP(LEFT($A10,3),Paramétres!$A:$D,3,0),IF(X10<$N10,X10,$N10)*VLOOKUP(LEFT($A10,3),Paramétres!$A:$D,4)),0)) -> 19355.035 | Z10: =IF(Y10<$N10,Y10,$N10)-IF(Z$1<=$U10,0,IF(Z$1>IF($U10<2022,2022,$U10),IF(Z$1-IF($U10<2022,2022,$U10)=1,IF(Y10<$N10,Y10,$N10)*VLOOKUP(LEFT($A10,3),Paramétres!$A:$D,3,0),IF(Y10<$N10,Y10,$N10)*VLOOKUP(LEFT($A10,3),Paramétres!$A:$D,4)),0)) -> 18387.283 | AA10: =IF(Z10<$N10,Z10,$N10)-IF(AA$1<=$U10,0,IF(AA$1>IF($U10<2022,2022,$U10),IF(AA$1-IF($U10<2022,2022,$U10)=1,IF(Z10<$N10,Z10,$N10)*VLOOKUP(LEFT($A10,3),Paramétres!$A:$D,3,0),IF(Z10<$N10,Z10,$N10)*VLOOKUP(LEFT($A10,3),Paramétres!$A:$D,4)),0)) -> 17467.919 | AB10: =IF(AA10<$N10,AA10,$N10)-IF(AB$1<=$U10,0,IF(AB$1>IF($U10<2022,2022,$U10),IF(AB$1-IF($U10<2022,2022,$U10)=1,IF(AA10<$N10,AA10,$N10)*VLOOKUP(LEFT($A10,3),Paramétres!$A:$D,3,0),IF(AA10<$N10,AA10,$N10)*VLOOKUP(LEFT($A10,3),Paramétres!$A:$D,4)),0)) -> 16594.523 | AC10: =IF(AB10<$N10,AB10,$N10)-IF(AC$1<=$U10,0,IF(AC$1>IF($U10<2022,2022,$U10),IF(AC$1-IF($U10<2022,2022,$U10)=1,IF(AB10<$N10,AB10,$N10)*VLOOKUP(LEFT($A10,3),Paramétres!$A:$D,3,0),IF(AB10<$N10,AB10,$N10)*VLOOKUP(LEFT($A10,3),Paramétres!$A:$D,4)),0)) -> 15764.797 | AD10: =IF(AC10<$N10,AC10,$N10)-IF(AD$1<=$U10,0,IF(AD$1>IF($U10<2022,2022,$U10),IF(AD$1-IF($U10<2022,2022,$U10)=1,IF(AC10<$N10,AC10,$N10)*VLOOKUP(LEFT($A10,3),Paramétres!$A:$D,3,0),IF(AC10<$N10,AC10,$N10)*VLOOKUP(LEFT($A10,3),Paramétres!$A:$D,4)),0)) -> 14976.557 | AE10: =IF(AD10<$N10,AD10,$N10)-IF(AE$1<=$U10,0,IF(AE$1>IF($U10<2022,2022,$U10),IF(AE$1-IF($U10<2022,2022,$U10)=1,IF(AD10<$N10,AD10,$N10)*VLOOKUP(LEFT($A10,3),Paramétres!$A:$D,3,0),IF(AD10<$N10,AD10,$N10)*VLOOKUP(LEFT($A10,3),Paramétres!$A:$D,4)),0)) -> 14227.729 | ... AK10: =IF(AJ10<$N10,AJ10,$N10)-IF(AK$1<=$U10,0,IF(AK$1>IF($U10<2022,2022,$U10),IF(AK$1-IF($U10<2022,2022,$U10)=1,IF(AJ10<$N10,AJ10,$N10)*VLOOKUP(LEFT($A10,3),Paramétres!$A:$D,3,0),IF(AJ10<$N10,AJ10,$N10)*VLOOKUP(LEFT($A10,3),Paramétres!$A:$D,4)),0)) -> 10458.688
A11: BEN 10 | D11: BENNE | E11: FIAT | F11: DUCATO | J11: 44298 | K11: 24584 | M11: =T_BASE[[#This Row],[VALEUR ACHAT]] -> 24584 | N11: =T_BASE[[#This Row],[MONTANT PEC APRES AMORT.]] -> 24584 | O11: 60 | P11: 46093 | Q11: 523.8 | R11: 3058 | S11: 120 | T11: =$O11/12 -> 5 | U11: =YEAR(J11) -> 2021 | V11: =T_BASE[[#This Row],[ANNEE ACQT]]+T_BASE[[#This Row],[AMORT.]] -> 2026 | W11: =$N11-IF(W$1<=$V11,0,IF(W$1>IF($V11<2022,2022,$V11),IF(W$1-IF($V11<2022,2022,$V11)=1,$N11*VLOOKUP(LEFT($A11,3),Paramétres!A:D,3,0),$N11*VLOOKUP(LEFT($A11,3),Paramétres!A:D,4)),0)) -> 23354.8 | X11: =IF(W11<$N11,W11,$N11)-IF(X$1<=$U11,0,IF(X$1>IF($U11<2022,2022,$U11),IF(X$1-IF($U11<2022,2022,$U11)=1,IF(W11<$N11,W11,$N11)*VLOOKUP(LEFT($A11,3),Paramétres!$A:$D,3,0),IF(W11<$N11,W11,$N11)*VLOOKUP(LEFT($A11,3),Paramétres!$A:$D,4)),0)) -> 22187.06 | Y11: =IF(X11<$N11,X11,$N11)-IF(Y$1<=$U11,0,IF(Y$1>IF($U11<2022,2022,$U11),IF(Y$1-IF($U11<2022,2022,$U11)=1,IF(X11<$N11,X11,$N11)*VLOOKUP(LEFT($A11,3),Paramétres!$A:$D,3,0),IF(X11<$N11,X11,$N11)*VLOOKUP(LEFT($A11,3),Paramétres!$A:$D,4)),0)) -> 21077.707 | Z11: =IF(Y11<$N11,Y11,$N11)-IF(Z$1<=$U11,0,IF(Z$1>IF($U11<2022,2022,$U11),IF(Z$1-IF($U11<2022,2022,$U11)=1,IF(Y11<$N11,Y11,$N11)*VLOOKUP(LEFT($A11,3),Paramétres!$A:$D,3,0),IF(Y11<$N11,Y11,$N11)*VLOOKUP(LEFT($A11,3),Paramétres!$A:$D,4)),0)) -> 20023.822 | AA11: =IF(Z11<$N11,Z11,$N11)-IF(AA$1<=$U11,0,IF(AA$1>IF($U11<2022,2022,$U11),IF(AA$1-IF($U11<2022,2022,$U11)=1,IF(Z11<$N11,Z11,$N11)*VLOOKUP(LEFT($A11,3),Paramétres!$A:$D,3,0),IF(Z11<$N11,Z11,$N11)*VLOOKUP(LEFT($A11,3),Paramétres!$A:$D,4)),0)) -> 19022.631 | AB11: =IF(AA11<$N11,AA11,$N11)-IF(AB$1<=$U11,0,IF(AB$1>IF($U11<2022,2022,$U11),IF(AB$1-IF($U11<2022,2022,$U11)=1,IF(AA11<$N11,AA11,$N11)*VLOOKUP(LEFT($A11,3),Paramétres!$A:$D,3,0),IF(AA11<$N11,AA11,$N11)*VLOOKUP(LEFT($A11,3),Paramétres!$A:$D,4)),0)) -> 18071.499 | AC11: =IF(AB11<$N11,AB11,$N11)-IF(AC$1<=$U11,0,IF(AC$1>IF($U11<2022,2022,$U11),IF(AC$1-IF($U11<2022,2022,$U11)=1,IF(AB11<$N11,AB11,$N11)*VLOOKUP(LEFT($A11,3),Paramétres!$A:$D,3,0),IF(AB11<$N11,AB11,$N11)*VLOOKUP(LEFT($A11,3),Paramétres!$A:$D,4)),0)) -> 17167.924 | AD11: =IF(AC11<$N11,AC11,$N11)-IF(AD$1<=$U11,0,IF(AD$1>IF($U11<2022,2022,$U11),IF(AD$1-IF($U11<2022,2022,$U11)=1,IF(AC11<$N11,AC11,$N11)*VLOOKUP(LEFT($A11,3),Paramétres!$A:$D,3,0),IF(AC11<$N11,AC11,$N11)*VLOOKUP(LEFT($A11,3),Paramétres!$A:$D,4)),0)) -> 16309.528 | AE11: =IF(AD11<$N11,AD11,$N11)-IF(AE$1<=$U11,0,IF(AE$1>IF($U11<2022,2022,$U11),IF(AE$1-IF($U11<2022,2022,$U11)=1,IF(AD11<$N11,AD11,$N11)*VLOOKUP(LEFT($A11,3),Paramétres!$A:$D,3,0),IF(AD11<$N11,AD11,$N11)*VLOOKUP(LEFT($A11,3),Paramétres!$A:$D,4)),0)) -> 15494.051 | ... AK11: =IF(AJ11<$N11,AJ11,$N11)-IF(AK$1<=$U11,0,IF(AK$1>IF($U11<2022,2022,$U11),IF(AK$1-IF($U11<2022,2022,$U11)=1,IF(AJ11<$N11,AJ11,$N11)*VLOOKUP(LEFT($A11,3),Paramétres!$A:$D,3,0),IF(AJ11<$N11,AJ11,$N11)*VLOOKUP(LEFT($A11,3),Paramétres!$A:$D,4)),0)) -> 11389.552
A12: BEN 11 | D12: BENNE | E12: FIAT | F12: DUCATO | J12: 44298 | K12: 24584 | M12: =T_BASE[[#This Row],[VALEUR ACHAT]] -> 24584 | N12: =T_BASE[[#This Row],[MONTANT PEC APRES AMORT.]] -> 24584 | O12: 60 | P12: 46093 | Q12: 523.8 | R12: 3058 | S12: 120 | T12: =$O12/12 -> 5 | U12: =YEAR(J12) -> 2021 | V12: =T_BASE[[#This Row],[ANNEE ACQT]]+T_BASE[[#This Row],[AMORT.]] -> 2026 | W12: =$N12-IF(W$1<=$V12,0,IF(W$1>IF($V12<2022,2022,$V12),IF(W$1-IF($V12<2022,2022,$V12)=1,$N12*VLOOKUP(LEFT($A12,3),Paramétres!A:D,3,0),$N12*VLOOKUP(LEFT($A12,3),Paramétres!A:D,4)),0)) -> 23354.8 | X12: =IF(W12<$N12,W12,$N12)-IF(X$1<=$U12,0,IF(X$1>IF($U12<2022,2022,$U12),IF(X$1-IF($U12<2022,2022,$U12)=1,IF(W12<$N12,W12,$N12)*VLOOKUP(LEFT($A12,3),Paramétres!$A:$D,3,0),IF(W12<$N12,W12,$N12)*VLOOKUP(LEFT($A12,3),Paramétres!$A:$D,4)),0)) -> 22187.06 | Y12: =IF(X12<$N12,X12,$N12)-IF(Y$1<=$U12,0,IF(Y$1>IF($U12<2022,2022,$U12),IF(Y$1-IF($U12<2022,2022,$U12)=1,IF(X12<$N12,X12,$N12)*VLOOKUP(LEFT($A12,3),Paramétres!$A:$D,3,0),IF(X12<$N12,X12,$N12)*VLOOKUP(LEFT($A12,3),Paramétres!$A:$D,4)),0)) -> 21077.707 | Z12: =IF(Y12<$N12,Y12,$N12)-IF(Z$1<=$U12,0,IF(Z$1>IF($U12<2022,2022,$U12),IF(Z$1-IF($U12<2022,2022,$U12)=1,IF(Y12<$N12,Y12,$N12)*VLOOKUP(LEFT($A12,3),Paramétres!$A:$D,3,0),IF(Y12<$N12,Y12,$N12)*VLOOKUP(LEFT($A12,3),Paramétres!$A:$D,4)),0)) -> 20023.822 | AA12: =IF(Z12<$N12,Z12,$N12)-IF(AA$1<=$U12,0,IF(AA$1>IF($U12<2022,2022,$U12),IF(AA$1-IF($U12<2022,2022,$U12)=1,IF(Z12<$N12,Z12,$N12)*VLOOKUP(LEFT($A12,3),Paramétres!$A:$D,3,0),IF(Z12<$N12,Z12,$N12)*VLOOKUP(LEFT($A12,3),Paramétres!$A:$D,4)),0)) -> 19022.631 | AB12: =IF(AA12<$N12,AA12,$N12)-IF(AB$1<=$U12,0,IF(AB$1>IF($U12<2022,2022,$U12),IF(AB$1-IF($U12<2022,2022,$U12)=1,IF(AA12<$N12,AA12,$N12)*VLOOKUP(LEFT($A12,3),Paramétres!$A:$D,3,0),IF(AA12<$N12,AA12,$N12)*VLOOKUP(LEFT($A12,3),Paramétres!$A:$D,4)),0)) -> 18071.499 | AC12: =IF(AB12<$N12,AB12,$N12)-IF(AC$1<=$U12,0,IF(AC$1>IF($U12<2022,2022,$U12),IF(AC$1-IF($U12<2022,2022,$U12)=1,IF(AB12<$N12,AB12,$N12)*VLOOKUP(LEFT($A12,3),Paramétres!$A:$D,3,0),IF(AB12<$N12,AB12,$N12)*VLOOKUP(LEFT($A12,3),Paramétres!$A:$D,4)),0)) -> 17167.924 | AD12: =IF(AC12<$N12,AC12,$N12)-IF(AD$1<=$U12,0,IF(AD$1>IF($U12<2022,2022,$U12),IF(AD$1-IF($U12<2022,2022,$U12)=1,IF(AC12<$N12,AC12,$N12)*VLOOKUP(LEFT($A12,3),Paramétres!$A:$D,3,0),IF(AC12<$N12,AC12,$N12)*VLOOKUP(LEFT($A12,3),Paramétres!$A:$D,4)),0)) -> 16309.528 | AE12: =IF(AD12<$N12,AD12,$N12)-IF(AE$1<=$U12,0,IF(AE$1>IF($U12<2022,2022,$U12),IF(AE$1-IF($U12<2022,2022,$U12)=1,IF(AD12<$N12,AD12,$N12)*VLOOKUP(LEFT($A12,3),Paramétres!$A:$D,3,0),IF(AD12<$N12,AD12,$N12)*VLOOKUP(LEFT($A12,3),Paramétres!$A:$D,4)),0)) -> 15494.051 | ... AK12: =IF(AJ12<$N12,AJ12,$N12)-IF(AK$1<=$U12,0,IF(AK$1>IF($U12<2022,2022,$U12),IF(AK$1-IF($U12<2022,2022,$U12)=1,IF(AJ12<$N12,AJ12,$N12)*VLOOKUP(LEFT($A12,3),Paramétres!$A:$D,3,0),IF(AJ12<$N12,AJ12,$N12)*VLOOKUP(LEFT($A12,3),Paramétres!$A:$D,4)),0)) -> 11389.552
A13: BEN 12 | D13: BENNE | E13: RENAULT | F13: MASTER | J13: 44847 | K13: 37497 | M13: =T_BASE[[#This Row],[VALEUR ACHAT]] -> 37497 | N13: =T_BASE[[#This Row],[MONTANT PEC APRES AMORT.]] -> 37497 | O13: 60 | Q13: 582 | R13: 0 | S13: 120 | T13: =$O13/12 -> 5 | U13: =YEAR(J13) -> 2022 | V13: =T_BASE[[#This Row],[ANNEE ACQT]]+T_BASE[[#This Row],[AMORT.]] -> 2027 | W13: =$N13-IF(W$1<=$V13,0,IF(W$1>IF($V13<2022,2022,$V13),IF(W$1-IF($V13<2022,2022,$V13)=1,$N13*VLOOKUP(LEFT($A13,3),Paramétres!A:D,3,0),$N13*VLOOKUP(LEFT($A13,3),Paramétres!A:D,4)),0)) -> 35622.15 | X13: =IF(W13<$N13,W13,$N13)-IF(X$1<=$U13,0,IF(X$1>IF($U13<2022,2022,$U13),IF(X$1-IF($U13<2022,2022,$U13)=1,IF(W13<$N13,W13,$N13)*VLOOKUP(LEFT($A13,3),Paramétres!$A:$D,3,0),IF(W13<$N13,W13,$N13)*VLOOKUP(LEFT($A13,3),Paramétres!$A:$D,4)),0)) -> 33841.043 | Y13: =IF(X13<$N13,X13,$N13)-IF(Y$1<=$U13,0,IF(Y$1>IF($U13<2022,2022,$U13),IF(Y$1-IF($U13<2022,2022,$U13)=1,IF(X13<$N13,X13,$N13)*VLOOKUP(LEFT($A13,3),Paramétres!$A:$D,3,0),IF(X13<$N13,X13,$N13)*VLOOKUP(LEFT($A13,3),Paramétres!$A:$D,4)),0)) -> 32148.99 | Z13: =IF(Y13<$N13,Y13,$N13)-IF(Z$1<=$U13,0,IF(Z$1>IF($U13<2022,2022,$U13),IF(Z$1-IF($U13<2022,2022,$U13)=1,IF(Y13<$N13,Y13,$N13)*VLOOKUP(LEFT($A13,3),Paramétres!$A:$D,3,0),IF(Y13<$N13,Y13,$N13)*VLOOKUP(LEFT($A13,3),Paramétres!$A:$D,4)),0)) -> 30541.541 | AA13: =IF(Z13<$N13,Z13,$N13)-IF(AA$1<=$U13,0,IF(AA$1>IF($U13<2022,2022,$U13),IF(AA$1-IF($U13<2022,2022,$U13)=1,IF(Z13<$N13,Z13,$N13)*VLOOKUP(LEFT($A13,3),Paramétres!$A:$D,3,0),IF(Z13<$N13,Z13,$N13)*VLOOKUP(LEFT($A13,3),Paramétres!$A:$D,4)),0)) -> 29014.464 | AB13: =IF(AA13<$N13,AA13,$N13)-IF(AB$1<=$U13,0,IF(AB$1>IF($U13<2022,2022,$U13),IF(AB$1-IF($U13<2022,2022,$U13)=1,IF(AA13<$N13,AA13,$N13)*VLOOKUP(LEFT($A13,3),Paramétres!$A:$D,3,0),IF(AA13<$N13,AA13,$N13)*VLOOKUP(LEFT($A13,3),Paramétres!$A:$D,4)),0)) -> 27563.741 | AC13: =IF(AB13<$N13,AB13,$N13)-IF(AC$1<=$U13,0,IF(AC$1>IF($U13<2022,2022,$U13),IF(AC$1-IF($U13<2022,2022,$U13)=1,IF(AB13<$N13,AB13,$N13)*VLOOKUP(LEFT($A13,3),Paramétres!$A:$D,3,0),IF(AB13<$N13,AB13,$N13)*VLOOKUP(LEFT($A13,3),Paramétres!$A:$D,4)),0)) -> 26185.554 | AD13: =IF(AC13<$N13,AC13,$N13)-IF(AD$1<=$U13,0,IF(AD$1>IF($U13<2022,2022,$U13),IF(AD$1-IF($U13<2022,2022,$U13)=1,IF(AC13<$N13,AC13,$N13)*VLOOKUP(LEFT($A13,3),Paramétres!$A:$D,3,0),IF(AC13<$N13,AC13,$N13)*VLOOKUP(LEFT($A13,3),Paramétres!$A:$D,4)),0)) -> 24876.276 | AE13: =IF(AD13<$N13,AD13,$N13)-IF(AE$1<=$U13,0,IF(AE$1>IF($U13<2022,2022,$U13),IF(AE$1-IF($U13<2022,2022,$U13)=1,IF(AD13<$N13,AD13,$N13)*VLOOKUP(LEFT($A13,3),Paramétres!$A:$D,3,0),IF(AD13<$N13,AD13,$N13)*VLOOKUP(LEFT($A13,3),Paramétres!$A:$D,4)),0)) -> 23632.462 | ... AK13: =IF(AJ13<$N13,AJ13,$N13)-IF(AK$1<=$U13,0,IF(AK$1>IF($U13<2022,2022,$U13),IF(AK$1-IF($U13<2022,2022,$U13)=1,IF(AJ13<$N13,AJ13,$N13)*VLOOKUP(LEFT($A13,3),Paramétres!$A:$D,3,0),IF(AJ13<$N13,AJ13,$N13)*VLOOKUP(LEFT($A13,3),Paramétres!$A:$D,4)),0)) -> 17372.031
A14: BEN 13 | D14: BENNE | E14: PIAGGIO | F14: PORTER NP6 | J14: 44834 | K14: 28330 | M14: =T_BASE[[#This Row],[VALEUR ACHAT]] -> 28330 | N14: =T_BASE[[#This Row],[MONTANT PEC APRES AMORT.]] -> 28330 | O14: 60 | P14: 46629 | Q14: 495 | R14: 111.6 | S14: 120 | T14: =$O14/12 -> 5 | U14: =YEAR(J14) -> 2022 | V14: =T_BASE[[#This Row],[ANNEE ACQT]]+T_BASE[[#This Row],[AMORT.]] -> 2027 | W14: =$N14-IF(W$1<=$V14,0,IF(W$1>IF($V14<2022,2022,$V14),IF(W$1-IF($V14<2022,2022,$V14)=1,$N14*VLOOKUP(LEFT($A14,3),Paramétres!A:D,3,0),$N14*VLOOKUP(LEFT($A14,3),Paramétres!A:D,4)),0)) -> 26913.5 | X14: =IF(W14<$N14,W14,$N14)-IF(X$1<=$U14,0,IF(X$1>IF($U14<2022,2022,$U14),IF(X$1-IF($U14<2022,2022,$U14)=1,IF(W14<$N14,W14,$N14)*VLOOKUP(LEFT($A14,3),Paramétres!$A:$D,3,0),IF(W14<$N14,W14,$N14)*VLOOKUP(LEFT($A14,3),Paramétres!$A:$D,4)),0)) -> 25567.825 | Y14: =IF(X14<$N14,X14,$N14)-IF(Y$1<=$U14,0,IF(Y$1>IF($U14<2022,2022,$U14),IF(Y$1-IF($U14<2022,2022,$U14)=1,IF(X14<$N14,X14,$N14)*VLOOKUP(LEFT($A14,3),Paramétres!$A:$D,3,0),IF(X14<$N14,X14,$N14)*VLOOKUP(LEFT($A14,3),Paramétres!$A:$D,4)),0)) -> 24289.434 | Z14: =IF(Y14<$N14,Y14,$N14)-IF(Z$1<=$U14,0,IF(Z$1>IF($U14<2022,2022,$U14),IF(Z$1-IF($U14<2022,2022,$U14)=1,IF(Y14<$N14,Y14,$N14)*VLOOKUP(LEFT($A14,3),Paramétres!$A:$D,3,0),IF(Y14<$N14,Y14,$N14)*VLOOKUP(LEFT($A14,3),Paramétres!$A:$D,4)),0)) -> 23074.962 | AA14: =IF(Z14<$N14,Z14,$N14)-IF(AA$1<=$U14,0,IF(AA$1>IF($U14<2022,2022,$U14),IF(AA$1-IF($U14<2022,2022,$U14)=1,IF(Z14<$N14,Z14,$N14)*VLOOKUP(LEFT($A14,3),Paramétres!$A:$D,3,0),IF(Z14<$N14,Z14,$N14)*VLOOKUP(LEFT($A14,3),Paramétres!$A:$D,4)),0)) -> 21921.214 | AB14: =IF(AA14<$N14,AA14,$N14)-IF(AB$1<=$U14,0,IF(AB$1>IF($U14<2022,2022,$U14),IF(AB$1-IF($U14<2022,2022,$U14)=1,IF(AA14<$N14,AA14,$N14)*VLOOKUP(LEFT($A14,3),Paramétres!$A:$D,3,0),IF(AA14<$N14,AA14,$N14)*VLOOKUP(LEFT($A14,3),Paramétres!$A:$D,4)),0)) -> 20825.153 | AC14: =IF(AB14<$N14,AB14,$N14)-IF(AC$1<=$U14,0,IF(AC$1>IF($U14<2022,2022,$U14),IF(AC$1-IF($U14<2022,2022,$U14)=1,IF(AB14<$N14,AB14,$N14)*VLOOKUP(LEFT($A14,3),Paramétres!$A:$D,3,0),IF(AB14<$N14,AB14,$N14)*VLOOKUP(LEFT($A14,3),Paramétres!$A:$D,4)),0)) -> 19783.896 | AD14: =IF(AC14<$N14,AC14,$N14)-IF(AD$1<=$U14,0,IF(AD$1>IF($U14<2022,2022,$U14),IF(AD$1-IF($U14<2022,2022,$U14)=1,IF(AC14<$N14,AC14,$N14)*VLOOKUP(LEFT($A14,3),Paramétres!$A:$D,3,0),IF(AC14<$N14,AC14,$N14)*VLOOKUP(LEFT($A14,3),Paramétres!$A:$D,4)),0)) -> 18794.701 | AE14: =IF(AD14<$N14,AD14,$N14)-IF(AE$1<=$U14,0,IF(AE$1>IF($U14<2022,2022,$U14),IF(AE$1-IF($U14<2022,2022,$U14)=1,IF(AD14<$N14,AD14,$N14)*VLOOKUP(LEFT($A14,3),Paramétres!$A:$D,3,0),IF(AD14<$N14,AD14,$N14)*VLOOKUP(LEFT($A14,3),Paramétres!$A:$D,4)),0)) -> 17854.966 | ... AK14: =IF(AJ14<$N14,AJ14,$N14)-IF(AK$1<=$U14,0,IF(AK$1>IF($U14<2022,2022,$U14),IF(AK$1-IF($U14<2022,2022,$U14)=1,IF(AJ14<$N14,AJ14,$N14)*VLOOKUP(LEFT($A14,3),Paramétres!$A:$D,3,0),IF(AJ14<$N14,AJ14,$N14)*VLOOKUP(LEFT($A14,3),Paramétres!$A:$D,4)),0)) -> 13125.041
A15: BEN 14 | D15: BENNE | E15: RENAULT | F15: MASTER | M15: =T_BASE[[#This Row],[VALEUR ACHAT]] -> 0 | N15: =T_BASE[[#This Row],[MONTANT PEC APRES AMORT.]] -> 0 | R15: 0 | S15: 120 | T15: =$O15/12 -> 0 | U15: =YEAR(J15) -> 1900 | V15: =T_BASE[[#This Row],[ANNEE ACQT]]+T_BASE[[#This Row],[AMORT.]] -> 1900 | W15: =$N15-IF(W$1<=$V15,0,IF(W$1>IF($V15<2022,2022,$V15),IF(W$1-IF($V15<2022,2022,$V15)=1,$N15*VLOOKUP(LEFT($A15,3),Paramétres!A:D,3,0),$N15*VLOOKUP(LEFT($A15,3),Paramétres!A:D,4)),0)) -> 0 | X15: =IF(W15<$N15,W15,$N15)-IF(X$1<=$U15,0,IF(X$1>IF($U15<2022,2022,$U15),IF(X$1-IF($U15<2022,2022,$U15)=1,IF(W15<$N15,W15,$N15)*VLOOKUP(LEFT($A15,3),Paramétres!$A:$D,3,0),IF(W15<$N15,W15,$N15)*VLOOKUP(LEFT($A15,3),Paramétres!$A:$D,4)),0)) -> 0 | Y15: =IF(X15<$N15,X15,$N15)-IF(Y$1<=$U15,0,IF(Y$1>IF($U15<2022,2022,$U15),IF(Y$1-IF($U15<2022,2022,$U15)=1,IF(X15<$N15,X15,$N15)*VLOOKUP(LEFT($A15,3),Paramétres!$A:$D,3,0),IF(X15<$N15,X15,$N15)*VLOOKUP(LEFT($A15,3),Paramétres!$A:$D,4)),0)) -> 0 | Z15: =IF(Y15<$N15,Y15,$N15)-IF(Z$1<=$U15,0,IF(Z$1>IF($U15<2022,2022,$U15),IF(Z$1-IF($U15<2022,2022,$U15)=1,IF(Y15<$N15,Y15,$N15)*VLOOKUP(LEFT($A15,3),Paramétres!$A:$D,3,0),IF(Y15<$N15,Y15,$N15)*VLOOKUP(LEFT($A15,3),Paramétres!$A:$D,4)),0)) -> 0 | AA15: =IF(Z15<$N15,Z15,$N15)-IF(AA$1<=$U15,0,IF(AA$1>IF($U15<2022,2022,$U15),IF(AA$1-IF($U15<2022,2022,$U15)=1,IF(Z15<$N15,Z15,$N15)*VLOOKUP(LEFT($A15,3),Paramétres!$A:$D,3,0),IF(Z15<$N15,Z15,$N15)*VLOOKUP(LEFT($A15,3),Paramétres!$A:$D,4)),0)) -> 0 | AB15: =IF(AA15<$N15,AA15,$N15)-IF(AB$1<=$U15,0,IF(AB$1>IF($U15<2022,2022,$U15),IF(AB$1-IF($U15<2022,2022,$U15)=1,IF(AA15<$N15,AA15,$N15)*VLOOKUP(LEFT($A15,3),Paramétres!$A:$D,3,0),IF(AA15<$N15,AA15,$N15)*VLOOKUP(LEFT($A15,3),Paramétres!$A:$D,4)),0)) -> 0 | AC15: =IF(AB15<$N15,AB15,$N15)-IF(AC$1<=$U15,0,IF(AC$1>IF($U15<2022,2022,$U15),IF(AC$1-IF($U15<2022,2022,$U15)=1,IF(AB15<$N15,AB15,$N15)*VLOOKUP(LEFT($A15,3),Paramétres!$A:$D,3,0),IF(AB15<$N15,AB15,$N15)*VLOOKUP(LEFT($A15,3),Paramétres!$A:$D,4)),0)) -> 0 | AD15: =IF(AC15<$N15,AC15,$N15)-IF(AD$1<=$U15,0,IF(AD$1>IF($U15<2022,2022,$U15),IF(AD$1-IF($U15<2022,2022,$U15)=1,IF(AC15<$N15,AC15,$N15)*VLOOKUP(LEFT($A15,3),Paramétres!$A:$D,3,0),IF(AC15<$N15,AC15,$N15)*VLOOKUP(LEFT($A15,3),Paramétres!$A:$D,4)),0)) -> 0 | AE15: =IF(AD15<$N15,AD15,$N15)-IF(AE$1<=$U15,0,IF(AE$1>IF($U15<2022,2022,$U15),IF(AE$1-IF($U15<2022,2022,$U15)=1,IF(AD15<$N15,AD15,$N15)*VLOOKUP(LEFT($A15,3),Paramétres!$A:$D,3,0),IF(AD15<$N15,AD15,$N15)*VLOOKUP(LEFT($A15,3),Paramétres!$A:$D,4)),0)) -> 0 | ... AK15: =IF(AJ15<$N15,AJ15,$N15)-IF(AK$1<=$U15,0,IF(AK$1>IF($U15<2022,2022,$U15),IF(AK$1-IF($U15<2022,2022,$U15)=1,IF(AJ15<$N15,AJ15,$N15)*VLOOKUP(LEFT($A15,3),Paramétres!$A:$D,3,0),IF(AJ15<$N15,AJ15,$N15)*VLOOKUP(LEFT($A15,3),Paramétres!$A:$D,4)),0)) -> 0
A16: BEN 15 | D16: BENNE | E16: RENAULT | F16: MASTER | M16: =T_BASE[[#This Row],[VALEUR ACHAT]] -> 0 | N16: =T_BASE[[#This Row],[MONTANT PEC APRES AMORT.]] -> 0 | R16: 0 | S16: 120 | T16: =$O16/12 -> 0 | U16: =YEAR(J16) -> 1900 | V16: =T_BASE[[#This Row],[ANNEE ACQT]]+T_BASE[[#This Row],[AMORT.]] -> 1900 | W16: =$N16-IF(W$1<=$V16,0,IF(W$1>IF($V16<2022,2022,$V16),IF(W$1-IF($V16<2022,2022,$V16)=1,$N16*VLOOKUP(LEFT($A16,3),Paramétres!A:D,3,0),$N16*VLOOKUP(LEFT($A16,3),Paramétres!A:D,4)),0)) -> 0 | X16: =IF(W16<$N16,W16,$N16)-IF(X$1<=$U16,0,IF(X$1>IF($U16<2022,2022,$U16),IF(X$1-IF($U16<2022,2022,$U16)=1,IF(W16<$N16,W16,$N16)*VLOOKUP(LEFT($A16,3),Paramétres!$A:$D,3,0),IF(W16<$N16,W16,$N16)*VLOOKUP(LEFT($A16,3),Paramétres!$A:$D,4)),0)) -> 0 | Y16: =IF(X16<$N16,X16,$N16)-IF(Y$1<=$U16,0,IF(Y$1>IF($U16<2022,2022,$U16),IF(Y$1-IF($U16<2022,2022,$U16)=1,IF(X16<$N16,X16,$N16)*VLOOKUP(LEFT($A16,3),Paramétres!$A:$D,3,0),IF(X16<$N16,X16,$N16)*VLOOKUP(LEFT($A16,3),Paramétres!$A:$D,4)),0)) -> 0 | Z16: =IF(Y16<$N16,Y16,$N16)-IF(Z$1<=$U16,0,IF(Z$1>IF($U16<2022,2022,$U16),IF(Z$1-IF($U16<2022,2022,$U16)=1,IF(Y16<$N16,Y16,$N16)*VLOOKUP(LEFT($A16,3),Paramétres!$A:$D,3,0),IF(Y16<$N16,Y16,$N16)*VLOOKUP(LEFT($A16,3),Paramétres!$A:$D,4)),0)) -> 0 | AA16: =IF(Z16<$N16,Z16,$N16)-IF(AA$1<=$U16,0,IF(AA$1>IF($U16<2022,2022,$U16),IF(AA$1-IF($U16<2022,2022,$U16)=1,IF(Z16<$N16,Z16,$N16)*VLOOKUP(LEFT($A16,3),Paramétres!$A:$D,3,0),IF(Z16<$N16,Z16,$N16)*VLOOKUP(LEFT($A16,3),Paramétres!$A:$D,4)),0)) -> 0 | AB16: =IF(AA16<$N16,AA16,$N16)-IF(AB$1<=$U16,0,IF(AB$1>IF($U16<2022,2022,$U16),IF(AB$1-IF($U16<2022,2022,$U16)=1,IF(AA16<$N16,AA16,$N16)*VLOOKUP(LEFT($A16,3),Paramétres!$A:$D,3,0),IF(AA16<$N16,AA16,$N16)*VLOOKUP(LEFT($A16,3),Paramétres!$A:$D,4)),0)) -> 0 | AC16: =IF(AB16<$N16,AB16,$N16)-IF(AC$1<=$U16,0,IF(AC$1>IF($U16<2022,2022,$U16),IF(AC$1-IF($U16<2022,2022,$U16)=1,IF(AB16<$N16,AB16,$N16)*VLOOKUP(LEFT($A16,3),Paramétres!$A:$D,3,0),IF(AB16<$N16,AB16,$N16)*VLOOKUP(LEFT($A16,3),Paramétres!$A:$D,4)),0)) -> 0 | AD16: =IF(AC16<$N16,AC16,$N16)-IF(AD$1<=$U16,0,IF(AD$1>IF($U16<2022,2022,$U16),IF(AD$1-IF($U16<2022,2022,$U16)=1,IF(AC16<$N16,AC16,$N16)*VLOOKUP(LEFT($A16,3),Paramétres!$A:$D,3,0),IF(AC16<$N16,AC16,$N16)*VLOOKUP(LEFT($A16,3),Paramétres!$A:$D,4)),0)) -> 0 | AE16: =IF(AD16<$N16,AD16,$N16)-IF(AE$1<=$U16,0,IF(AE$1>IF($U16<2022,2022,$U16),IF(AE$1-IF($U16<2022,2022,$U16)=1,IF(AD16<$N16,AD16,$N16)*VLOOKUP(LEFT($A16,3),Paramétres!$A:$D,3,0),IF(AD16<$N16,AD16,$N16)*VLOOKUP(LEFT($A16,3),Paramétres!$A:$D,4)),0)) -> 0 | ... AK16: =IF(AJ16<$N16,AJ16,$N16)-IF(AK$1<=$U16,0,IF(AK$1>IF($U16<2022,2022,$U16),IF(AK$1-IF($U16<2022,2022,$U16)=1,IF(AJ16<$N16,AJ16,$N16)*VLOOKUP(LEFT($A16,3),Paramétres!$A:$D,3,0),IF(AJ16<$N16,AJ16,$N16)*VLOOKUP(LEFT($A16,3),Paramétres!$A:$D,4)),0)) -> 0
A17: BEN 16 | D17: BENNE | M17: =T_BASE[[#This Row],[VALEUR ACHAT]] -> 0 | N17: =T_BASE[[#This Row],[MONTANT PEC APRES AMORT.]] -> 0 | R17: 0 | S17: 120 | T17: =$O17/12 -> 0 | U17: =YEAR(J17) -> 1900 | V17: =T_BASE[[#This Row],[ANNEE ACQT]]+T_BASE[[#This Row],[AMORT.]] -> 1900 | W17: =$N17-IF(W$1<=$V17,0,IF(W$1>IF($V17<2022,2022,$V17),IF(W$1-IF($V17<2022,2022,$V17)=1,$N17*VLOOKUP(LEFT($A17,3),Paramétres!A:D,3,0),$N17*VLOOKUP(LEFT($A17,3),Paramétres!A:D,4)),0)) -> 0 | X17: =IF(W17<$N17,W17,$N17)-IF(X$1<=$U17,0,IF(X$1>IF($U17<2022,2022,$U17),IF(X$1-IF($U17<2022,2022,$U17)=1,IF(W17<$N17,W17,$N17)*VLOOKUP(LEFT($A17,3),Paramétres!$A:$D,3,0),IF(W17<$N17,W17,$N17)*VLOOKUP(LEFT($A17,3),Paramétres!$A:$D,4)),0)) -> 0 | Y17: =IF(X17<$N17,X17,$N17)-IF(Y$1<=$U17,0,IF(Y$1>IF($U17<2022,2022,$U17),IF(Y$1-IF($U17<2022,2022,$U17)=1,IF(X17<$N17,X17,$N17)*VLOOKUP(LEFT($A17,3),Paramétres!$A:$D,3,0),IF(X17<$N17,X17,$N17)*VLOOKUP(LEFT($A17,3),Paramétres!$A:$D,4)),0)) -> 0 | Z17: =IF(Y17<$N17,Y17,$N17)-IF(Z$1<=$U17,0,IF(Z$1>IF($U17<2022,2022,$U17),IF(Z$1-IF($U17<2022,2022,$U17)=1,IF(Y17<$N17,Y17,$N17)*VLOOKUP(LEFT($A17,3),Paramétres!$A:$D,3,0),IF(Y17<$N17,Y17,$N17)*VLOOKUP(LEFT($A17,3),Paramétres!$A:$D,4)),0)) -> 0 | AA17: =IF(Z17<$N17,Z17,$N17)-IF(AA$1<=$U17,0,IF(AA$1>IF($U17<2022,2022,$U17),IF(AA$1-IF($U17<2022,2022,$U17)=1,IF(Z17<$N17,Z17,$N17)*VLOOKUP(LEFT($A17,3),Paramétres!$A:$D,3,0),IF(Z17<$N17,Z17,$N17)*VLOOKUP(LEFT($A17,3),Paramétres!$A:$D,4)),0)) -> 0 | AB17: =IF(AA17<$N17,AA17,$N17)-IF(AB$1<=$U17,0,IF(AB$1>IF($U17<2022,2022,$U17),IF(AB$1-IF($U17<2022,2022,$U17)=1,IF(AA17<$N17,AA17,$N17)*VLOOKUP(LEFT($A17,3),Paramétres!$A:$D,3,0),IF(AA17<$N17,AA17,$N17)*VLOOKUP(LEFT($A17,3),Paramétres!$A:$D,4)),0)) -> 0 | AC17: =IF(AB17<$N17,AB17,$N17)-IF(AC$1<=$U17,0,IF(AC$1>IF($U17<2022,2022,$U17),IF(AC$1-IF($U17<2022,2022,$U17)=1,IF(AB17<$N17,AB17,$N17)*VLOOKUP(LEFT($A17,3),Paramétres!$A:$D,3,0),IF(AB17<$N17,AB17,$N17)*VLOOKUP(LEFT($A17,3),Paramétres!$A:$D,4)),0)) -> 0 | AD17: =IF(AC17<$N17,AC17,$N17)-IF(AD$1<=$U17,0,IF(AD$1>IF($U17<2022,2022,$U17),IF(AD$1-IF($U17<2022,2022,$U17)=1,IF(AC17<$N17,AC17,$N17)*VLOOKUP(LEFT($A17,3),Paramétres!$A:$D,3,0),IF(AC17<$N17,AC17,$N17)*VLOOKUP(LEFT($A17,3),Paramétres!$A:$D,4)),0)) -> 0 | AE17: =IF(AD17<$N17,AD17,$N17)-IF(AE$1<=$U17,0,IF(AE$1>IF($U17<2022,2022,$U17),IF(AE$1-IF($U17<2022,2022,$U17)=1,IF(AD17<$N17,AD17,$N17)*VLOOKUP(LEFT($A17,3),Paramétres!$A:$D,3,0),IF(AD17<$N17,AD17,$N17)*VLOOKUP(LEFT($A17,3),Paramétres!$A:$D,4)),0)) -> 0 | ... AK17: =IF(AJ17<$N17,AJ17,$N17)-IF(AK$1<=$U17,0,IF(AK$1>IF($U17<2022,2022,$U17),IF(AK$1-IF($U17<2022,2022,$U17)=1,IF(AJ17<$N17,AJ17,$N17)*VLOOKUP(LEFT($A17,3),Paramétres!$A:$D,3,0),IF(AJ17<$N17,AJ17,$N17)*VLOOKUP(LEFT($A17,3),Paramétres!$A:$D,4)),0)) -> 0
A18: VL 001 | D18: VEHICULE LEGER | E18: RENAULT | F18: CLIO | J18: 42753 | K18: 1900 | L18: cédé le 31/12/2021 | M18: =T_BASE[[#This Row],[VALEUR ACHAT]] -> 1900 | N18: =T_BASE[[#This Row],[MONTANT PEC APRES AMORT.]] -> 1900 | O18: 36 | P18: 44561 | Q18: 445.5 | R18: 0 | S18: 120 | T18: =$O18/12 -> 3 | U18: =YEAR(J18) -> 2017 | V18: =T_BASE[[#This Row],[ANNEE ACQT]]+T_BASE[[#This Row],[AMORT.]] -> 2020 | W18: =$N18-IF(W$1<=$V18,0,IF(W$1>IF($V18<2022,2022,$V18),IF(W$1-IF($V18<2022,2022,$V18)=1,$N18*VLOOKUP(LEFT($A18,3),Paramétres!A:D,3,0),$N18*VLOOKUP(LEFT($A18,3),Paramétres!A:D,4)),0)) -> 1890.5 | X18: =IF(W18<$N18,W18,$N18)-IF(X$1<=$U18,0,IF(X$1>IF($U18<2022,2022,$U18),IF(X$1-IF($U18<2022,2022,$U18)=1,IF(W18<$N18,W18,$N18)*VLOOKUP(LEFT($A18,3),Paramétres!$A:$D,3,0),IF(W18<$N18,W18,$N18)*VLOOKUP(LEFT($A18,3),Paramétres!$A:$D,4)),0)) -> 1758.165 | Y18: =IF(X18<$N18,X18,$N18)-IF(Y$1<=$U18,0,IF(Y$1>IF($U18<2022,2022,$U18),IF(Y$1-IF($U18<2022,2022,$U18)=1,IF(X18<$N18,X18,$N18)*VLOOKUP(LEFT($A18,3),Paramétres!$A:$D,3,0),IF(X18<$N18,X18,$N18)*VLOOKUP(LEFT($A18,3),Paramétres!$A:$D,4)),0)) -> 1635.0934 | Z18: =IF(Y18<$N18,Y18,$N18)-IF(Z$1<=$U18,0,IF(Z$1>IF($U18<2022,2022,$U18),IF(Z$1-IF($U18<2022,2022,$U18)=1,IF(Y18<$N18,Y18,$N18)*VLOOKUP(LEFT($A18,3),Paramétres!$A:$D,3,0),IF(Y18<$N18,Y18,$N18)*VLOOKUP(LEFT($A18,3),Paramétres!$A:$D,4)),0)) -> 1520.6369 | AA18: =IF(Z18<$N18,Z18,$N18)-IF(AA$1<=$U18,0,IF(AA$1>IF($U18<2022,2022,$U18),IF(AA$1-IF($U18<2022,2022,$U18)=1,IF(Z18<$N18,Z18,$N18)*VLOOKUP(LEFT($A18,3),Paramétres!$A:$D,3,0),IF(Z18<$N18,Z18,$N18)*VLOOKUP(LEFT($A18,3),Paramétres!$A:$D,4)),0)) -> 1414.1923 | AB18: =IF(AA18<$N18,AA18,$N18)-IF(AB$1<=$U18,0,IF(AB$1>IF($U18<2022,2022,$U18),IF(AB$1-IF($U18<2022,2022,$U18)=1,IF(AA18<$N18,AA18,$N18)*VLOOKUP(LEFT($A18,3),Paramétres!$A:$D,3,0),IF(AA18<$N18,AA18,$N18)*VLOOKUP(LEFT($A18,3),Paramétres!$A:$D,4)),0)) -> 1315.1989 | AC18: =IF(AB18<$N18,AB18,$N18)-IF(AC$1<=$U18,0,IF(AC$1>IF($U18<2022,2022,$U18),IF(AC$1-IF($U18<2022,2022,$U18)=1,IF(AB18<$N18,AB18,$N18)*VLOOKUP(LEFT($A18,3),Paramétres!$A:$D,3,0),IF(AB18<$N18,AB18,$N18)*VLOOKUP(LEFT($A18,3),Paramétres!$A:$D,4)),0)) -> 1223.1349 | AD18: =IF(AC18<$N18,AC18,$N18)-IF(AD$1<=$U18,0,IF(AD$1>IF($U18<2022,2022,$U18),IF(AD$1-IF($U18<2022,2022,$U18)=1,IF(AC18<$N18,AC18,$N18)*VLOOKUP(LEFT($A18,3),Paramétres!$A:$D,3,0),IF(AC18<$N18,AC18,$N18)*VLOOKUP(LEFT($A18,3),Paramétres!$A:$D,4)),0)) -> 1137.5155 | AE18: =IF(AD18<$N18,AD18,$N18)-IF(AE$1<=$U18,0,IF(AE$1>IF($U18<2022,2022,$U18),IF(AE$1-IF($U18<2022,2022,$U18)=1,IF(AD18<$N18,AD18,$N18)*VLOOKUP(LEFT($A18,3),Paramétres!$A:$D,3,0),IF(AD18<$N18,AD18,$N18)*VLOOKUP(LEFT($A18,3),Paramétres!$A:$D,4)),0)) -> 1057.8894 | ... AK18: =IF(AJ18<$N18,AJ18,$N18)-IF(AK$1<=$U18,0,IF(AK$1>IF($U18<2022,2022,$U18),IF(AK$1-IF($U18<2022,2022,$U18)=1,IF(AJ18<$N18,AJ18,$N18)*VLOOKUP(LEFT($A18,3),Paramétres!$A:$D,3,0),IF(AJ18<$N18,AJ18,$N18)*VLOOKUP(LEFT($A18,3),Paramétres!$A:$D,4)),0)) -> 684.44406
A19: VL 002 | D19: VEHICULE LEGER | E19: RENAULT | F19: KANGOO | J19: 42856 | K19: 5495 | L19: cédé le 18/06/2021 | M19: =T_BASE[[#This Row],[VALEUR ACHAT]] -> 5495 | N19: =T_BASE[[#This Row],[MONTANT PEC APRES AMORT.]] -> 5495 | O19: 48 | P19: 44290 | Q19: 445.5 | R19: 0 | S19: 120 | T19: =$O19/12 -> 4 | U19: =YEAR(J19) -> 2017 | V19: =T_BASE[[#This Row],[ANNEE ACQT]]+T_BASE[[#This Row],[AMORT.]] -> 2021 | W19: =$N19-IF(W$1<=$V19,0,IF(W$1>IF($V19<2022,2022,$V19),IF(W$1-IF($V19<2022,2022,$V19)=1,$N19*VLOOKUP(LEFT($A19,3),Paramétres!A:D,3,0),$N19*VLOOKUP(LEFT($A19,3),Paramétres!A:D,4)),0)) -> 5467.525 | X19: =IF(W19<$N19,W19,$N19)-IF(X$1<=$U19,0,IF(X$1>IF($U19<2022,2022,$U19),IF(X$1-IF($U19<2022,2022,$U19)=1,IF(W19<$N19,W19,$N19)*VLOOKUP(LEFT($A19,3),Paramétres!$A:$D,3,0),IF(W19<$N19,W19,$N19)*VLOOKUP(LEFT($A19,3),Paramétres!$A:$D,4)),0)) -> 5084.7982 | Y19: =IF(X19<$N19,X19,$N19)-IF(Y$1<=$U19,0,IF(Y$1>IF($U19<2022,2022,$U19),IF(Y$1-IF($U19<2022,2022,$U19)=1,IF(X19<$N19,X19,$N19)*VLOOKUP(LEFT($A19,3),Paramétres!$A:$D,3,0),IF(X19<$N19,X19,$N19)*VLOOKUP(LEFT($A19,3),Paramétres!$A:$D,4)),0)) -> 4728.8624 | Z19: =IF(Y19<$N19,Y19,$N19)-IF(Z$1<=$U19,0,IF(Z$1>IF($U19<2022,2022,$U19),IF(Z$1-IF($U19<2022,2022,$U19)=1,IF(Y19<$N19,Y19,$N19)*VLOOKUP(LEFT($A19,3),Paramétres!$A:$D,3,0),IF(Y19<$N19,Y19,$N19)*VLOOKUP(LEFT($A19,3),Paramétres!$A:$D,4)),0)) -> 4397.842 | AA19: =IF(Z19<$N19,Z19,$N19)-IF(AA$1<=$U19,0,IF(AA$1>IF($U19<2022,2022,$U19),IF(AA$1-IF($U19<2022,2022,$U19)=1,IF(Z19<$N19,Z19,$N19)*VLOOKUP(LEFT($A19,3),Paramétres!$A:$D,3,0),IF(Z19<$N19,Z19,$N19)*VLOOKUP(LEFT($A19,3),Paramétres!$A:$D,4)),0)) -> 4089.9931 | AB19: =IF(AA19<$N19,AA19,$N19)-IF(AB$1<=$U19,0,IF(AB$1>IF($U19<2022,2022,$U19),IF(AB$1-IF($U19<2022,2022,$U19)=1,IF(AA19<$N19,AA19,$N19)*VLOOKUP(LEFT($A19,3),Paramétres!$A:$D,3,0),IF(AA19<$N19,AA19,$N19)*VLOOKUP(LEFT($A19,3),Paramétres!$A:$D,4)),0)) -> 3803.6936 | AC19: =IF(AB19<$N19,AB19,$N19)-IF(AC$1<=$U19,0,IF(AC$1>IF($U19<2022,2022,$U19),IF(AC$1-IF($U19<2022,2022,$U19)=1,IF(AB19<$N19,AB19,$N19)*VLOOKUP(LEFT($A19,3),Paramétres!$A:$D,3,0),IF(AB19<$N19,AB19,$N19)*VLOOKUP(LEFT($A19,3),Paramétres!$A:$D,4)),0)) -> 3537.435 | AD19: =IF(AC19<$N19,AC19,$N19)-IF(AD$1<=$U19,0,IF(AD$1>IF($U19<2022,2022,$U19),IF(AD$1-IF($U19<2022,2022,$U19)=1,IF(AC19<$N19,AC19,$N19)*VLOOKUP(LEFT($A19,3),Paramétres!$A:$D,3,0),IF(AC19<$N19,AC19,$N19)*VLOOKUP(LEFT($A19,3),Paramétres!$A:$D,4)),0)) -> 3289.8146 | AE19: =IF(AD19<$N19,AD19,$N19)-IF(AE$1<=$U19,0,IF(AE$1>IF($U19<2022,2022,$U19),IF(AE$1-IF($U19<2022,2022,$U19)=1,IF(AD19<$N19,AD19,$N19)*VLOOKUP(LEFT($A19,3),Paramétres!$A:$D,3,0),IF(AD19<$N19,AD19,$N19)*VLOOKUP(LEFT($A19,3),Paramétres!$A:$D,4)),0)) -> 3059.5275 | ... AK19: =IF(AJ19<$N19,AJ19,$N19)-IF(AK$1<=$U19,0,IF(AK$1>IF($U19<2022,2022,$U19),IF(AK$1-IF($U19<2022,2022,$U19)=1,IF(AJ19<$N19,AJ19,$N19)*VLOOKUP(LEFT($A19,3),Paramétres!$A:$D,3,0),IF(AJ19<$N19,AJ19,$N19)*VLOOKUP(LEFT($A19,3),Paramétres!$A:$D,4)),0)) -> 1979.4843
A20: VL 003 | D20: VEHICULE LEGER | E20: PEUGEOT | F20: EXPERT | J20: 43069 | K20: 19906.9 | L20: cédé le 31/12/2021 | M20: =T_BASE[[#This Row],[VALEUR ACHAT]] -> 19906.9 | N20: =T_BASE[[#This Row],[MONTANT PEC APRES AMORT.]] -> 19906.9 | O20: 48 | P20: 44500 | Q20: 445.5 | R20: 0 | S20: 120 | T20: =$O20/12 -> 4 | U20: =YEAR(J20) -> 2017 | V20: =T_BASE[[#This Row],[ANNEE ACQT]]+T_BASE[[#This Row],[AMORT.]] -> 2021 | W20: =$N20-IF(W$1<=$V20,0,IF(W$1>IF($V20<2022,2022,$V20),IF(W$1-IF($V20<2022,2022,$V20)=1,$N20*VLOOKUP(LEFT($A20,3),Paramétres!A:D,3,0),$N20*VLOOKUP(LEFT($A20,3),Paramétres!A:D,4)),0)) -> 19807.365 | X20: =IF(W20<$N20,W20,$N20)-IF(X$1<=$U20,0,IF(X$1>IF($U20<2022,2022,$U20),IF(X$1-IF($U20<2022,2022,$U20)=1,IF(W20<$N20,W20,$N20)*VLOOKUP(LEFT($A20,3),Paramétres!$A:$D,3,0),IF(W20<$N20,W20,$N20)*VLOOKUP(LEFT($A20,3),Paramétres!$A:$D,4)),0)) -> 18420.85 | Y20: =IF(X20<$N20,X20,$N20)-IF(Y$1<=$U20,0,IF(Y$1>IF($U20<2022,2022,$U20),IF(Y$1-IF($U20<2022,2022,$U20)=1,IF(X20<$N20,X20,$N20)*VLOOKUP(LEFT($A20,3),Paramétres!$A:$D,3,0),IF(X20<$N20,X20,$N20)*VLOOKUP(LEFT($A20,3),Paramétres!$A:$D,4)),0)) -> 17131.39 | Z20: =IF(Y20<$N20,Y20,$N20)-IF(Z$1<=$U20,0,IF(Z$1>IF($U20<2022,2022,$U20),IF(Z$1-IF($U20<2022,2022,$U20)=1,IF(Y20<$N20,Y20,$N20)*VLOOKUP(LEFT($A20,3),Paramétres!$A:$D,3,0),IF(Y20<$N20,Y20,$N20)*VLOOKUP(LEFT($A20,3),Paramétres!$A:$D,4)),0)) -> 15932.193 | AA20: =IF(Z20<$N20,Z20,$N20)-IF(AA$1<=$U20,0,IF(AA$1>IF($U20<2022,2022,$U20),IF(AA$1-IF($U20<2022,2022,$U20)=1,IF(Z20<$N20,Z20,$N20)*VLOOKUP(LEFT($A20,3),Paramétres!$A:$D,3,0),IF(Z20<$N20,Z20,$N20)*VLOOKUP(LEFT($A20,3),Paramétres!$A:$D,4)),0)) -> 14816.94 | AB20: =IF(AA20<$N20,AA20,$N20)-IF(AB$1<=$U20,0,IF(AB$1>IF($U20<2022,2022,$U20),IF(AB$1-IF($U20<2022,2022,$U20)=1,IF(AA20<$N20,AA20,$N20)*VLOOKUP(LEFT($A20,3),Paramétres!$A:$D,3,0),IF(AA20<$N20,AA20,$N20)*VLOOKUP(LEFT($A20,3),Paramétres!$A:$D,4)),0)) -> 13779.754 | AC20: =IF(AB20<$N20,AB20,$N20)-IF(AC$1<=$U20,0,IF(AC$1>IF($U20<2022,2022,$U20),IF(AC$1-IF($U20<2022,2022,$U20)=1,IF(AB20<$N20,AB20,$N20)*VLOOKUP(LEFT($A20,3),Paramétres!$A:$D,3,0),IF(AB20<$N20,AB20,$N20)*VLOOKUP(LEFT($A20,3),Paramétres!$A:$D,4)),0)) -> 12815.171 | AD20: =IF(AC20<$N20,AC20,$N20)-IF(AD$1<=$U20,0,IF(AD$1>IF($U20<2022,2022,$U20),IF(AD$1-IF($U20<2022,2022,$U20)=1,IF(AC20<$N20,AC20,$N20)*VLOOKUP(LEFT($A20,3),Paramétres!$A:$D,3,0),IF(AC20<$N20,AC20,$N20)*VLOOKUP(LEFT($A20,3),Paramétres!$A:$D,4)),0)) -> 11918.109 | AE20: =IF(AD20<$N20,AD20,$N20)-IF(AE$1<=$U20,0,IF(AE$1>IF($U20<2022,2022,$U20),IF(AE$1-IF($U20<2022,2022,$U20)=1,IF(AD20<$N20,AD20,$N20)*VLOOKUP(LEFT($A20,3),Paramétres!$A:$D,3,0),IF(AD20<$N20,AD20,$N20)*VLOOKUP(LEFT($A20,3),Paramétres!$A:$D,4)),0)) -> 11083.841 | ... AK20: =IF(AJ20<$N20,AJ20,$N20)-IF(AK$1<=$U20,0,IF(AK$1>IF($U20<2022,2022,$U20),IF(AK$1-IF($U20<2022,2022,$U20)=1,IF(AJ20<$N20,AJ20,$N20)*VLOOKUP(LEFT($A20,3),Paramétres!$A:$D,3,0),IF(AJ20<$N20,AJ20,$N20)*VLOOKUP(LEFT($A20,3),Paramétres!$A:$D,4)),0)) -> 7171.1366
A21: VL 004 | D21: VEHICULE LEGER | E21: RENAULT | F21: MASTER | J21: 43553 | K21: 17306.67 | M21: =T_BASE[[#This Row],[VALEUR ACHAT]] -> 17306.67 | N21: =T_BASE[[#This Row],[MONTANT PEC APRES AMORT.]] -> 17306.67 | O21: 48 | P21: 45077 | Q21: 540 | R21: 0 | S21: 120 | T21: =$O21/12 -> 4 | U21: =YEAR(J21) -> 2019 | V21: =T_BASE[[#This Row],[ANNEE ACQT]]+T_BASE[[#This Row],[AMORT.]] -> 2023 | W21: =$N21-IF(W$1<=$V21,0,IF(W$1>IF($V21<2022,2022,$V21),IF(W$1-IF($V21<2022,2022,$V21)=1,$N21*VLOOKUP(LEFT($A21,3),Paramétres!A:D,3,0),$N21*VLOOKUP(LEFT($A21,3),Paramétres!A:D,4)),0)) -> 16095.203 | X21: =IF(W21<$N21,W21,$N21)-IF(X$1<=$U21,0,IF(X$1>IF($U21<2022,2022,$U21),IF(X$1-IF($U21<2022,2022,$U21)=1,IF(W21<$N21,W21,$N21)*VLOOKUP(LEFT($A21,3),Paramétres!$A:$D,3,0),IF(W21<$N21,W21,$N21)*VLOOKUP(LEFT($A21,3),Paramétres!$A:$D,4)),0)) -> 14968.539 | Y21: =IF(X21<$N21,X21,$N21)-IF(Y$1<=$U21,0,IF(Y$1>IF($U21<2022,2022,$U21),IF(Y$1-IF($U21<2022,2022,$U21)=1,IF(X21<$N21,X21,$N21)*VLOOKUP(LEFT($A21,3),Paramétres!$A:$D,3,0),IF(X21<$N21,X21,$N21)*VLOOKUP(LEFT($A21,3),Paramétres!$A:$D,4)),0)) -> 13920.741 | Z21: =IF(Y21<$N21,Y21,$N21)-IF(Z$1<=$U21,0,IF(Z$1>IF($U21<2022,2022,$U21),IF(Z$1-IF($U21<2022,2022,$U21)=1,IF(Y21<$N21,Y21,$N21)*VLOOKUP(LEFT($A21,3),Paramétres!$A:$D,3,0),IF(Y21<$N21,Y21,$N21)*VLOOKUP(LEFT($A21,3),Paramétres!$A:$D,4)),0)) -> 12946.289 | AA21: =IF(Z21<$N21,Z21,$N21)-IF(AA$1<=$U21,0,IF(AA$1>IF($U21<2022,2022,$U21),IF(AA$1-IF($U21<2022,2022,$U21)=1,IF(Z21<$N21,Z21,$N21)*VLOOKUP(LEFT($A21,3),Paramétres!$A:$D,3,0),IF(Z21<$N21,Z21,$N21)*VLOOKUP(LEFT($A21,3),Paramétres!$A:$D,4)),0)) -> 12040.049 | AB21: =IF(AA21<$N21,AA21,$N21)-IF(AB$1<=$U21,0,IF(AB$1>IF($U21<2022,2022,$U21),IF(AB$1-IF($U21<2022,2022,$U21)=1,IF(AA21<$N21,AA21,$N21)*VLOOKUP(LEFT($A21,3),Paramétres!$A:$D,3,0),IF(AA21<$N21,AA21,$N21)*VLOOKUP(LEFT($A21,3),Paramétres!$A:$D,4)),0)) -> 11197.246 | AC21: =IF(AB21<$N21,AB21,$N21)-IF(AC$1<=$U21,0,IF(AC$1>IF($U21<2022,2022,$U21),IF(AC$1-IF($U21<2022,2022,$U21)=1,IF(AB21<$N21,AB21,$N21)*VLOOKUP(LEFT($A21,3),Paramétres!$A:$D,3,0),IF(AB21<$N21,AB21,$N21)*VLOOKUP(LEFT($A21,3),Paramétres!$A:$D,4)),0)) -> 10413.438 | AD21: =IF(AC21<$N21,AC21,$N21)-IF(AD$1<=$U21,0,IF(AD$1>IF($U21<2022,2022,$U21),IF(AD$1-IF($U21<2022,2022,$U21)=1,IF(AC21<$N21,AC21,$N21)*VLOOKUP(LEFT($A21,3),Paramétres!$A:$D,3,0),IF(AC21<$N21,AC21,$N21)*VLOOKUP(LEFT($A21,3),Paramétres!$A:$D,4)),0)) -> 9684.4977 | AE21: =IF(AD21<$N21,AD21,$N21)-IF(AE$1<=$U21,0,IF(AE$1>IF($U21<2022,2022,$U21),IF(AE$1-IF($U21<2022,2022,$U21)=1,IF(AD21<$N21,AD21,$N21)*VLOOKUP(LEFT($A21,3),Paramétres!$A:$D,3,0),IF(AD21<$N21,AD21,$N21)*VLOOKUP(LEFT($A21,3),Paramétres!$A:$D,4)),0)) -> 9006.5829 | ... AK21: =IF(AJ21<$N21,AJ21,$N21)-IF(AK$1<=$U21,0,IF(AK$1>IF($U21<2022,2022,$U21),IF(AK$1-IF($U21<2022,2022,$U21)=1,IF(AJ21<$N21,AJ21,$N21)*VLOOKUP(LEFT($A21,3),Paramétres!$A:$D,3,0),IF(AJ21<$N21,AJ21,$N21)*VLOOKUP(LEFT($A21,3),Paramétres!$A:$D,4)),0)) -> 5827.1707
