Workbook
Name REFERENCE: 'Véhicules MAJ 20012022'!$A:$A

Sheet Véhicules MAJ 20012022
A1: REF. interne | B1: Propriétaire | C1: Plaque | D1: Type | E1: Marque | F1: Modèle | G1: N° Série | H1: CB / Leaseur | I1: Date achat | J1: Valeur achat | K1: Devenir | L1: Durée | M1: FDC | N1: Frais dossier | O1: ass deces | P1: greffe | Q1: FRAIS ANNEXE | R1: FLOCAGE | S1: REHAUSSE JPM | T1: MAINTENANCE | X1: Dureée de vie estimée | Y1: En compta | Z1: Amort (A) | AA1: Amort (M) | AB1: Année acq | AC1: Année Fin Amort. | AD1: Assiette de calcul initiale | AE1: 2033 | AF1: 2032 | AG1: 2031 | AH1: 2030 | AI1: 2029 | AJ1: 2028 | AK1: 2027 | AL1: 2026 | AM1: 2025 | AN1: 2024 | AO1: 2023 | AQ1: =$AD3/$Z3/12*IF(OR(AO$1<$AB3,AO$1-$AB3>=2*$Z3),0,IF(AO$1-$AB3<$Z3,1,POWER(1-VLOOKUP($V3,TBL_Décote[[#This Row],[suivants]],4),AO$1-$AB3-$Z3)*VLOOKUP($V3,TBL_Décote[année1],3,0))) -> 0 | AR1: formule originale
A2: BEN 01 | B2: GPDG | D2: BENNE | E2: IVECO | F2: DAYLY | I2: 42107 | J2: 17500 | L2: 60 | M2: 43709 | R2: 585 | T2: 120 | V2: =MID(A3,1,3) -> BEN | W2: {=_xlfn.IFS(LEFT(A2)="B",1,LEFT(A2)="R",2,LEFT(A2)="T",2,LEFT(A2)="V",2,LEFT(A2)="","")} -> 1 | X2: 10 | Z2: 4 | AA2: =12*Z2 -> 48 | AB2: =YEAR(I2) -> 2015 | AC2: =ROUND(Z2+AB2,0) -> 2019 | AD2: 17500 | AE2: =IF(AF2<$AD2,AF2,$AD2)-IF(AE$1<=$AC2,0,IF(AE$1>IF($AC2<2022,2022,$AC2),IF(AE$1-IF($AC2<2022,2022,$AC2)=1,IF(AF2<$AD2,AF2,$AD2)*VLOOKUP(LEFT($A2,3),Feuil2!$A:$D,3,0),IF(AF2<$AD2,AF2,$AD2)*VLOOKUP(LEFT($A2,3),Feuil2!$A:$D,4)),0)) -> 6810.6327 | AF2: =IF(AG2<$AD2,AG2,$AD2)-IF(AF$1<=$AC2,0,IF(AF$1>IF($AC2<2022,2022,$AC2),IF(AF$1-IF($AC2<2022,2022,$AC2)=1,IF(AG2<$AD2,AG2,$AD2)*VLOOKUP(LEFT($A2,3),Feuil2!$A:$D,3,0),IF(AG2<$AD2,AG2,$AD2)*VLOOKUP(LEFT($A2,3),Feuil2!$A:$D,4)),0)) -> 7169.087 | AG2: =IF(AH2<$AD2,AH2,$AD2)-IF(AG$1<=$AC2,0,IF(AG$1>IF($AC2<2022,2022,$AC2),IF(AG$1-IF($AC2<2022,2022,$AC2)=1,IF(AH2<$AD2,AH2,$AD2)*VLOOKUP(LEFT($A2,3),Feuil2!$A:$D,3,0),IF(AH2<$AD2,AH2,$AD2)*VLOOKUP(LEFT($A2,3),Feuil2!$A:$D,4)),0)) -> 7546.4074 | AH2: =IF(AI2<$AD2,AI2,$AD2)-IF(AH$1<=$AC2,0,IF(AH$1>IF($AC2<2022,2022,$AC2),IF(AH$1-IF($AC2<2022,2022,$AC2)=1,IF(AI2<$AD2,AI2,$AD2)*VLOOKUP(LEFT($A2,3),Feuil2!$A:$D,3,0),IF(AI2<$AD2,AI2,$AD2)*VLOOKUP(LEFT($A2,3),Feuil2!$A:$D,4)),0)) -> 7943.5867 | AI2: =IF(AJ2<$AD2,AJ2,$AD2)-IF(AI$1<=$AC2,0,IF(AI$1>IF($AC2<2022,2022,$AC2),IF(AI$1-IF($AC2<2022,2022,$AC2)=1,IF(AJ2<$AD2,AJ2,$AD2)*VLOOKUP(LEFT($A2,3),Feuil2!$A:$D,3,0),IF(AJ2<$AD2,AJ2,$AD2)*VLOOKUP(LEFT($A2,3),Feuil2!$A:$D,4)),0)) -> 8361.6703 | AJ2: =IF(AK2<$AD2,AK2,$AD2)-IF(AJ$1<=$AC2,0,IF(AJ$1>IF($AC2<2022,2022,$AC2),IF(AJ$1-IF($AC2<2022,2022,$AC2)=1,IF(AK2<$AD2,AK2,$AD2)*VLOOKUP(LEFT($A2,3),Feuil2!$A:$D,3,0),IF(AK2<$AD2,AK2,$AD2)*VLOOKUP(LEFT($A2,3),Feuil2!$A:$D,4)),0)) -> 8801.7582 | AK2: =IF(AL2<$AD2,AL2,$AD2)-IF(AK$1<=$AC2,0,IF(AK$1>IF($AC2<2022,2022,$AC2),IF(AK$1-IF($AC2<2022,2022,$AC2)=1,IF(AL2<$AD2,AL2,$AD2)*VLOOKUP(LEFT($A2,3),Feuil2!$A:$D,3,0),IF(AL2<$AD2,AL2,$AD2)*VLOOKUP(LEFT($A2,3),Feuil2!$A:$D,4)),0)) -> 9265.0086 | AL2: =IF(AM2<$AD2,AM2,$AD2)-IF(AL$1<=$AC2,0,IF(AL$1>IF($AC2<2022,2022,$AC2),IF(AL$1-IF($AC2<2022,2022,$AC2)=1,IF(AM2<$AD2,AM2,$AD2)*VLOOKUP(LEFT($A2,3),Feuil2!$A:$D,3,0),IF(AM2<$AD2,AM2,$AD2)*VLOOKUP(LEFT($A2,3),Feuil2!$A:$D,4)),0)) -> 9752.6406 | ... AN2: =IF(AO2<$AD2,AO2,$AD2)-IF(AN$1<=$AC2,0,IF(AN$1>IF($AC2<2022,2022,$AC2),IF(AN$1-IF($AC2<2022,2022,$AC2)=1,IF(AO2<$AD2,AO2,$AD2)*VLOOKUP(LEFT($A2,3),Feuil2!$A:$D,3,0),IF(AO2<$AD2,AO2,$AD2)*VLOOKUP(LEFT($A2,3),Feuil2!$A:$D,4)),0)) -> 10806.25 | AO2: =$AD2-IF(AO$1<=$AC2,0,IF(AO$1>IF($AC2<2022,2022,$AC2),IF(AO$1-IF($AC2<2022,2022,$AC2)=1,$AD2*VLOOKUP(LEFT($A2,3),Feuil2!$A:$D,3,0),$AD2*VLOOKUP(LEFT($A2,3),Feuil2!$A:$D,4)),0)) -> 11375
A3: BEN 02 | B3: GPDG | D3: BENNE | E3: RENAULT | F3: MAXITY | I3: 42108 | J3: 29100 | L3: 60 | M3: 43935 | N3: 150 | O3: 764.4 | P3: 23 | R3: 405 | T3: 120 | V3: =MID(A4,1,3) -> BEN | W3: {=_xlfn.IFS(LEFT(A3)="B",1,LEFT(A3)="R",2,LEFT(A3)="T",2,LEFT(A3)="V",2,LEFT(A3)="","")} -> 1 | X3: 10 | Z3: 3 | AA3: =12*Z3 -> 36 | AB3: =YEAR(I3) -> 2015 | AC3: =ROUND(Z3+AB3,0) -> 2018 | AD3: 29100 | AE3: =IF(AF3<$AD3,AF3,$AD3)-IF(AE$1<=$AC3,0,IF(AE$1>IF($AC3<2022,2022,$AC3),IF(AE$1-IF($AC3<2022,2022,$AC3)=1,IF(AF3<$AD3,AF3,$AD3)*VLOOKUP(LEFT($A3,3),Feuil2!$A:$D,3,0),IF(AF3<$AD3,AF3,$AD3)*VLOOKUP(LEFT($A3,3),Feuil2!$A:$D,4)),0)) -> 11325.109 | AF3: =IF(AG3<$AD3,AG3,$AD3)-IF(AF$1<=$AC3,0,IF(AF$1>IF($AC3<2022,2022,$AC3),IF(AF$1-IF($AC3<2022,2022,$AC3)=1,IF(AG3<$AD3,AG3,$AD3)*VLOOKUP(LEFT($A3,3),Feuil2!$A:$D,3,0),IF(AG3<$AD3,AG3,$AD3)*VLOOKUP(LEFT($A3,3),Feuil2!$A:$D,4)),0)) -> 11921.168 | AG3: =IF(AH3<$AD3,AH3,$AD3)-IF(AG$1<=$AC3,0,IF(AG$1>IF($AC3<2022,2022,$AC3),IF(AG$1-IF($AC3<2022,2022,$AC3)=1,IF(AH3<$AD3,AH3,$AD3)*VLOOKUP(LEFT($A3,3),Feuil2!$A:$D,3,0),IF(AH3<$AD3,AH3,$AD3)*VLOOKUP(LEFT($A3,3),Feuil2!$A:$D,4)),0)) -> 12548.597 | AH3: =IF(AI3<$AD3,AI3,$AD3)-IF(AH$1<=$AC3,0,IF(AH$1>IF($AC3<2022,2022,$AC3),IF(AH$1-IF($AC3<2022,2022,$AC3)=1,IF(AI3<$AD3,AI3,$AD3)*VLOOKUP(LEFT($A3,3),Feuil2!$A:$D,3,0),IF(AI3<$AD3,AI3,$AD3)*VLOOKUP(LEFT($A3,3),Feuil2!$A:$D,4)),0)) -> 13209.05 | AI3: =IF(AJ3<$AD3,AJ3,$AD3)-IF(AI$1<=$AC3,0,IF(AI$1>IF($AC3<2022,2022,$AC3),IF(AI$1-IF($AC3<2022,2022,$AC3)=1,IF(AJ3<$AD3,AJ3,$AD3)*VLOOKUP(LEFT($A3,3),Feuil2!$A:$D,3,0),IF(AJ3<$AD3,AJ3,$AD3)*VLOOKUP(LEFT($A3,3),Feuil2!$A:$D,4)),0)) -> 13904.263 | AJ3: =IF(AK3<$AD3,AK3,$AD3)-IF(AJ$1<=$AC3,0,IF(AJ$1>IF($AC3<2022,2022,$AC3),IF(AJ$1-IF($AC3<2022,2022,$AC3)=1,IF(AK3<$AD3,AK3,$AD3)*VLOOKUP(LEFT($A3,3),Feuil2!$A:$D,3,0),IF(AK3<$AD3,AK3,$AD3)*VLOOKUP(LEFT($A3,3),Feuil2!$A:$D,4)),0)) -> 14636.066 | AK3: =IF(AL3<$AD3,AL3,$AD3)-IF(AK$1<=$AC3,0,IF(AK$1>IF($AC3<2022,2022,$AC3),IF(AK$1-IF($AC3<2022,2022,$AC3)=1,IF(AL3<$AD3,AL3,$AD3)*VLOOKUP(LEFT($A3,3),Feuil2!$A:$D,3,0),IF(AL3<$AD3,AL3,$AD3)*VLOOKUP(LEFT($A3,3),Feuil2!$A:$D,4)),0)) -> 15406.386 | AL3: =IF(AM3<$AD3,AM3,$AD3)-IF(AL$1<=$AC3,0,IF(AL$1>IF($AC3<2022,2022,$AC3),IF(AL$1-IF($AC3<2022,2022,$AC3)=1,IF(AM3<$AD3,AM3,$AD3)*VLOOKUP(LEFT($A3,3),Feuil2!$A:$D,3,0),IF(AM3<$AD3,AM3,$AD3)*VLOOKUP(LEFT($A3,3),Feuil2!$A:$D,4)),0)) -> 16217.248 | ... AN3: =IF(AO3<$AD3,AO3,$AD3)-IF(AN$1<=$AC3,0,IF(AN$1>IF($AC3<2022,2022,$AC3),IF(AN$1-IF($AC3<2022,2022,$AC3)=1,IF(AO3<$AD3,AO3,$AD3)*VLOOKUP(LEFT($A3,3),Feuil2!$A:$D,3,0),IF(AO3<$AD3,AO3,$AD3)*VLOOKUP(LEFT($A3,3),Feuil2!$A:$D,4)),0)) -> 17969.25 | AO3: =$AD3-IF(AO$1<=$AC3,0,IF(AO$1>IF($AC3<2022,2022,$AC3),IF(AO$1-IF($AC3<2022,2022,$AC3)=1,$AD3*VLOOKUP(LEFT($A3,3),Feuil2!$A:$D,3,0),$AD3*VLOOKUP(LEFT($A3,3),Feuil2!$A:$D,4)),0)) -> 18915
A4: BEN 03 | B4: GPDG | D4: BENNE- | E4: RENAULT | F4: MAXITY | I4: 42627 | J4: 29700 | L4: 66 | M4: 44542 | R4: 405 | T4: 120 | V4: =MID(A5,1,3) -> BEN | W4: {=_xlfn.IFS(LEFT(A4)="B",1,LEFT(A4)="R",2,LEFT(A4)="T",2,LEFT(A4)="V",2,LEFT(A4)="","")} -> 1 | X4: 10 | Z4: 5.5 | AA4: =12*Z4 -> 66 | AB4: =YEAR(I4) -> 2016 | AC4: =ROUND(Z4+AB4,0) -> 2022 | AD4: 29700 | AE4: =IF(AF4<$AD4,AF4,$AD4)-IF(AE$1<=$AC4,0,IF(AE$1>IF($AC4<2022,2022,$AC4),IF(AE$1-IF($AC4<2022,2022,$AC4)=1,IF(AF4<$AD4,AF4,$AD4)*VLOOKUP(LEFT($A4,3),Feuil2!$A:$D,3,0),IF(AF4<$AD4,AF4,$AD4)*VLOOKUP(LEFT($A4,3),Feuil2!$A:$D,4)),0)) -> 11558.617 | AF4: =IF(AG4<$AD4,AG4,$AD4)-IF(AF$1<=$AC4,0,IF(AF$1>IF($AC4<2022,2022,$AC4),IF(AF$1-IF($AC4<2022,2022,$AC4)=1,IF(AG4<$AD4,AG4,$AD4)*VLOOKUP(LEFT($A4,3),Feuil2!$A:$D,3,0),IF(AG4<$AD4,AG4,$AD4)*VLOOKUP(LEFT($A4,3),Feuil2!$A:$D,4)),0)) -> 12166.965 | AG4: =IF(AH4<$AD4,AH4,$AD4)-IF(AG$1<=$AC4,0,IF(AG$1>IF($AC4<2022,2022,$AC4),IF(AG$1-IF($AC4<2022,2022,$AC4)=1,IF(AH4<$AD4,AH4,$AD4)*VLOOKUP(LEFT($A4,3),Feuil2!$A:$D,3,0),IF(AH4<$AD4,AH4,$AD4)*VLOOKUP(LEFT($A4,3),Feuil2!$A:$D,4)),0)) -> 12807.331 | AH4: =IF(AI4<$AD4,AI4,$AD4)-IF(AH$1<=$AC4,0,IF(AH$1>IF($AC4<2022,2022,$AC4),IF(AH$1-IF($AC4<2022,2022,$AC4)=1,IF(AI4<$AD4,AI4,$AD4)*VLOOKUP(LEFT($A4,3),Feuil2!$A:$D,3,0),IF(AI4<$AD4,AI4,$AD4)*VLOOKUP(LEFT($A4,3),Feuil2!$A:$D,4)),0)) -> 13481.402 | AI4: =IF(AJ4<$AD4,AJ4,$AD4)-IF(AI$1<=$AC4,0,IF(AI$1>IF($AC4<2022,2022,$AC4),IF(AI$1-IF($AC4<2022,2022,$AC4)=1,IF(AJ4<$AD4,AJ4,$AD4)*VLOOKUP(LEFT($A4,3),Feuil2!$A:$D,3,0),IF(AJ4<$AD4,AJ4,$AD4)*VLOOKUP(LEFT($A4,3),Feuil2!$A:$D,4)),0)) -> 14190.949 | AJ4: =IF(AK4<$AD4,AK4,$AD4)-IF(AJ$1<=$AC4,0,IF(AJ$1>IF($AC4<2022,2022,$AC4),IF(AJ$1-IF($AC4<2022,2022,$AC4)=1,IF(AK4<$AD4,AK4,$AD4)*VLOOKUP(LEFT($A4,3),Feuil2!$A:$D,3,0),IF(AK4<$AD4,AK4,$AD4)*VLOOKUP(LEFT($A4,3),Feuil2!$A:$D,4)),0)) -> 14937.841 | AK4: =IF(AL4<$AD4,AL4,$AD4)-IF(AK$1<=$AC4,0,IF(AK$1>IF($AC4<2022,2022,$AC4),IF(AK$1-IF($AC4<2022,2022,$AC4)=1,IF(AL4<$AD4,AL4,$AD4)*VLOOKUP(LEFT($A4,3),Feuil2!$A:$D,3,0),IF(AL4<$AD4,AL4,$AD4)*VLOOKUP(LEFT($A4,3),Feuil2!$A:$D,4)),0)) -> 15724.043 | AL4: =IF(AM4<$AD4,AM4,$AD4)-IF(AL$1<=$AC4,0,IF(AL$1>IF($AC4<2022,2022,$AC4),IF(AL$1-IF($AC4<2022,2022,$AC4)=1,IF(AM4<$AD4,AM4,$AD4)*VLOOKUP(LEFT($A4,3),Feuil2!$A:$D,3,0),IF(AM4<$AD4,AM4,$AD4)*VLOOKUP(LEFT($A4,3),Feuil2!$A:$D,4)),0)) -> 16551.624 | ... AN4: =IF(AO4<$AD4,AO4,$AD4)-IF(AN$1<=$AC4,0,IF(AN$1>IF($AC4<2022,2022,$AC4),IF(AN$1-IF($AC4<2022,2022,$AC4)=1,IF(AO4<$AD4,AO4,$AD4)*VLOOKUP(LEFT($A4,3),Feuil2!$A:$D,3,0),IF(AO4<$AD4,AO4,$AD4)*VLOOKUP(LEFT($A4,3),Feuil2!$A:$D,4)),0)) -> 18339.75 | AO4: =$AD4-IF(AO$1<=$AC4,0,IF(AO$1>IF($AC4<2022,2022,$AC4),IF(AO$1-IF($AC4<2022,2022,$AC4)=1,$AD4*VLOOKUP(LEFT($A4,3),Feuil2!$A:$D,3,0),$AD4*VLOOKUP(LEFT($A4,3),Feuil2!$A:$D,4)),0)) -> 19305
A5: BEN 04 | B5: PDG | D5: BENNE- | E5: FIAT | F5: DUCATO | I5: 43074 | J5: 16241.67 | L5: 60 | M5: 44880 | R5: 405 | T5: 120 | V5: =MID(A6,1,3) -> BEN | W5: {=_xlfn.IFS(LEFT(A5)="B",1,LEFT(A5)="R",2,LEFT(A5)="T",2,LEFT(A5)="V",2,LEFT(A5)="","")} -> 1 | X5: 10 | Z5: 5.5 | AA5: =12*Z5 -> 66 | AB5: =YEAR(I5) -> 2017 | AC5: =ROUND(Z5+AB5,0) -> 2023 | AD5: 16241.27 | AE5: =IF(AF5<$AD5,AF5,$AD5)-IF(AE$1<=$AC5,0,IF(AE$1>IF($AC5<2022,2022,$AC5),IF(AE$1-IF($AC5<2022,2022,$AC5)=1,IF(AF5<$AD5,AF5,$AD5)*VLOOKUP(LEFT($A5,3),Feuil2!$A:$D,3,0),IF(AF5<$AD5,AF5,$AD5)*VLOOKUP(LEFT($A5,3),Feuil2!$A:$D,4)),0)) -> 6653.433 | AF5: =IF(AG5<$AD5,AG5,$AD5)-IF(AF$1<=$AC5,0,IF(AF$1>IF($AC5<2022,2022,$AC5),IF(AF$1-IF($AC5<2022,2022,$AC5)=1,IF(AG5<$AD5,AG5,$AD5)*VLOOKUP(LEFT($A5,3),Feuil2!$A:$D,3,0),IF(AG5<$AD5,AG5,$AD5)*VLOOKUP(LEFT($A5,3),Feuil2!$A:$D,4)),0)) -> 7003.6137 | AG5: =IF(AH5<$AD5,AH5,$AD5)-IF(AG$1<=$AC5,0,IF(AG$1>IF($AC5<2022,2022,$AC5),IF(AG$1-IF($AC5<2022,2022,$AC5)=1,IF(AH5<$AD5,AH5,$AD5)*VLOOKUP(LEFT($A5,3),Feuil2!$A:$D,3,0),IF(AH5<$AD5,AH5,$AD5)*VLOOKUP(LEFT($A5,3),Feuil2!$A:$D,4)),0)) -> 7372.225 | AH5: =IF(AI5<$AD5,AI5,$AD5)-IF(AH$1<=$AC5,0,IF(AH$1>IF($AC5<2022,2022,$AC5),IF(AH$1-IF($AC5<2022,2022,$AC5)=1,IF(AI5<$AD5,AI5,$AD5)*VLOOKUP(LEFT($A5,3),Feuil2!$A:$D,3,0),IF(AI5<$AD5,AI5,$AD5)*VLOOKUP(LEFT($A5,3),Feuil2!$A:$D,4)),0)) -> 7760.2368 | AI5: =IF(AJ5<$AD5,AJ5,$AD5)-IF(AI$1<=$AC5,0,IF(AI$1>IF($AC5<2022,2022,$AC5),IF(AI$1-IF($AC5<2022,2022,$AC5)=1,IF(AJ5<$AD5,AJ5,$AD5)*VLOOKUP(LEFT($A5,3),Feuil2!$A:$D,3,0),IF(AJ5<$AD5,AJ5,$AD5)*VLOOKUP(LEFT($A5,3),Feuil2!$A:$D,4)),0)) -> 8168.6703 | AJ5: =IF(AK5<$AD5,AK5,$AD5)-IF(AJ$1<=$AC5,0,IF(AJ$1>IF($AC5<2022,2022,$AC5),IF(AJ$1-IF($AC5<2022,2022,$AC5)=1,IF(AK5<$AD5,AK5,$AD5)*VLOOKUP(LEFT($A5,3),Feuil2!$A:$D,3,0),IF(AK5<$AD5,AK5,$AD5)*VLOOKUP(LEFT($A5,3),Feuil2!$A:$D,4)),0)) -> 8598.6003 | AK5: =IF(AL5<$AD5,AL5,$AD5)-IF(AK$1<=$AC5,0,IF(AK$1>IF($AC5<2022,2022,$AC5),IF(AK$1-IF($AC5<2022,2022,$AC5)=1,IF(AL5<$AD5,AL5,$AD5)*VLOOKUP(LEFT($A5,3),Feuil2!$A:$D,3,0),IF(AL5<$AD5,AL5,$AD5)*VLOOKUP(LEFT($A5,3),Feuil2!$A:$D,4)),0)) -> 9051.1583 | AL5: =IF(AM5<$AD5,AM5,$AD5)-IF(AL$1<=$AC5,0,IF(AL$1>IF($AC5<2022,2022,$AC5),IF(AL$1-IF($AC5<2022,2022,$AC5)=1,IF(AM5<$AD5,AM5,$AD5)*VLOOKUP(LEFT($A5,3),Feuil2!$A:$D,3,0),IF(AM5<$AD5,AM5,$AD5)*VLOOKUP(LEFT($A5,3),Feuil2!$A:$D,4)),0)) -> 9527.535 | ... AN5: =IF(AO5<$AD5,AO5,$AD5)-IF(AN$1<=$AC5,0,IF(AN$1>IF($AC5<2022,2022,$AC5),IF(AN$1-IF($AC5<2022,2022,$AC5)=1,IF(AO5<$AD5,AO5,$AD5)*VLOOKUP(LEFT($A5,3),Feuil2!$A:$D,3,0),IF(AO5<$AD5,AO5,$AD5)*VLOOKUP(LEFT($A5,3),Feuil2!$A:$D,4)),0)) -> 10556.826 | AO5: =$AD5-IF(AO$1<=$AC5,0,IF(AO$1>IF($AC5<2022,2022,$AC5),IF(AO$1-IF($AC5<2022,2022,$AC5)=1,$AD5*VLOOKUP(LEFT($A5,3),Feuil2!$A:$D,3,0),$AD5*VLOOKUP(LEFT($A5,3),Feuil2!$A:$D,4)),0)) -> 16241.27
A6: BEN 05 | B6: GPDG | D6: BENNE | E6: IVECO | F6: DAILY | I6: 43165 | J6: 36300 | L6: 60 | M6: 45017 | N6: 120 | R6: 585 | T6: 120 | V6: =MID(A7,1,3) -> BEN | W6: {=_xlfn.IFS(LEFT(A6)="B",1,LEFT(A6)="R",2,LEFT(A6)="T",2,LEFT(A6)="V",2,LEFT(A6)="","")} -> 1 | X6: 10 | Z6: 5 | AA6: =12*Z6 -> 60 | AB6: =YEAR(I6) -> 2018 | AC6: =ROUND(Z6+AB6,0) -> 2023 | AD6: 36300 | AE6: =IF(AF6<$AD6,AF6,$AD6)-IF(AE$1<=$AC6,0,IF(AE$1>IF($AC6<2022,2022,$AC6),IF(AE$1-IF($AC6<2022,2022,$AC6)=1,IF(AF6<$AD6,AF6,$AD6)*VLOOKUP(LEFT($A6,3),Feuil2!$A:$D,3,0),IF(AF6<$AD6,AF6,$AD6)*VLOOKUP(LEFT($A6,3),Feuil2!$A:$D,4)),0)) -> 14870.735 | AF6: =IF(AG6<$AD6,AG6,$AD6)-IF(AF$1<=$AC6,0,IF(AF$1>IF($AC6<2022,2022,$AC6),IF(AF$1-IF($AC6<2022,2022,$AC6)=1,IF(AG6<$AD6,AG6,$AD6)*VLOOKUP(LEFT($A6,3),Feuil2!$A:$D,3,0),IF(AG6<$AD6,AG6,$AD6)*VLOOKUP(LEFT($A6,3),Feuil2!$A:$D,4)),0)) -> 15653.405 | AG6: =IF(AH6<$AD6,AH6,$AD6)-IF(AG$1<=$AC6,0,IF(AG$1>IF($AC6<2022,2022,$AC6),IF(AG$1-IF($AC6<2022,2022,$AC6)=1,IF(AH6<$AD6,AH6,$AD6)*VLOOKUP(LEFT($A6,3),Feuil2!$A:$D,3,0),IF(AH6<$AD6,AH6,$AD6)*VLOOKUP(LEFT($A6,3),Feuil2!$A:$D,4)),0)) -> 16477.269 | AH6: =IF(AI6<$AD6,AI6,$AD6)-IF(AH$1<=$AC6,0,IF(AH$1>IF($AC6<2022,2022,$AC6),IF(AH$1-IF($AC6<2022,2022,$AC6)=1,IF(AI6<$AD6,AI6,$AD6)*VLOOKUP(LEFT($A6,3),Feuil2!$A:$D,3,0),IF(AI6<$AD6,AI6,$AD6)*VLOOKUP(LEFT($A6,3),Feuil2!$A:$D,4)),0)) -> 17344.493 | AI6: =IF(AJ6<$AD6,AJ6,$AD6)-IF(AI$1<=$AC6,0,IF(AI$1>IF($AC6<2022,2022,$AC6),IF(AI$1-IF($AC6<2022,2022,$AC6)=1,IF(AJ6<$AD6,AJ6,$AD6)*VLOOKUP(LEFT($A6,3),Feuil2!$A:$D,3,0),IF(AJ6<$AD6,AJ6,$AD6)*VLOOKUP(LEFT($A6,3),Feuil2!$A:$D,4)),0)) -> 18257.361 | AJ6: =IF(AK6<$AD6,AK6,$AD6)-IF(AJ$1<=$AC6,0,IF(AJ$1>IF($AC6<2022,2022,$AC6),IF(AJ$1-IF($AC6<2022,2022,$AC6)=1,IF(AK6<$AD6,AK6,$AD6)*VLOOKUP(LEFT($A6,3),Feuil2!$A:$D,3,0),IF(AK6<$AD6,AK6,$AD6)*VLOOKUP(LEFT($A6,3),Feuil2!$A:$D,4)),0)) -> 19218.275 | AK6: =IF(AL6<$AD6,AL6,$AD6)-IF(AK$1<=$AC6,0,IF(AK$1>IF($AC6<2022,2022,$AC6),IF(AK$1-IF($AC6<2022,2022,$AC6)=1,IF(AL6<$AD6,AL6,$AD6)*VLOOKUP(LEFT($A6,3),Feuil2!$A:$D,3,0),IF(AL6<$AD6,AL6,$AD6)*VLOOKUP(LEFT($A6,3),Feuil2!$A:$D,4)),0)) -> 20229.763 | AL6: =IF(AM6<$AD6,AM6,$AD6)-IF(AL$1<=$AC6,0,IF(AL$1>IF($AC6<2022,2022,$AC6),IF(AL$1-IF($AC6<2022,2022,$AC6)=1,IF(AM6<$AD6,AM6,$AD6)*VLOOKUP(LEFT($A6,3),Feuil2!$A:$D,3,0),IF(AM6<$AD6,AM6,$AD6)*VLOOKUP(LEFT($A6,3),Feuil2!$A:$D,4)),0)) -> 21294.487 | ... AN6: =IF(AO6<$AD6,AO6,$AD6)-IF(AN$1<=$AC6,0,IF(AN$1>IF($AC6<2022,2022,$AC6),IF(AN$1-IF($AC6<2022,2022,$AC6)=1,IF(AO6<$AD6,AO6,$AD6)*VLOOKUP(LEFT($A6,3),Feuil2!$A:$D,3,0),IF(AO6<$AD6,AO6,$AD6)*VLOOKUP(LEFT($A6,3),Feuil2!$A:$D,4)),0)) -> 23595 | AO6: =$AD6-IF(AO$1<=$AC6,0,IF(AO$1>IF($AC6<2022,2022,$AC6),IF(AO$1-IF($AC6<2022,2022,$AC6)=1,$AD6*VLOOKUP(LEFT($A6,3),Feuil2!$A:$D,3,0),$AD6*VLOOKUP(LEFT($A6,3),Feuil2!$A:$D,4)),0)) -> 36300
A7: BEN 06 | B7: GPDG | D7: BENNE | E7: FIAT | F7: DUCATO | I7: 43276 | J7: 24490 | L7: 60 | M7: 45071 | R7: 405 | S7: 2608 | T7: 120 | V7: =MID(A8,1,3) -> BEN | W7: {=_xlfn.IFS(LEFT(A7)="B",1,LEFT(A7)="R",2,LEFT(A7)="T",2,LEFT(A7)="V",2,LEFT(A7)="","")} -> 1 | X7: 10 | AA7: =12*Z7 -> 0 | AB7: =YEAR(I7) -> 2018 | AC7: =ROUND(Z7+AB7,0) -> 2018 | AD7: 24490 | AE7: =IF(AF7<$AD7,AF7,$AD7)-IF(AE$1<=$AC7,0,IF(AE$1>IF($AC7<2022,2022,$AC7),IF(AE$1-IF($AC7<2022,2022,$AC7)=1,IF(AF7<$AD7,AF7,$AD7)*VLOOKUP(LEFT($A7,3),Feuil2!$A:$D,3,0),IF(AF7<$AD7,AF7,$AD7)*VLOOKUP(LEFT($A7,3),Feuil2!$A:$D,4)),0)) -> 9530.994 | AF7: =IF(AG7<$AD7,AG7,$AD7)-IF(AF$1<=$AC7,0,IF(AF$1>IF($AC7<2022,2022,$AC7),IF(AF$1-IF($AC7<2022,2022,$AC7)=1,IF(AG7<$AD7,AG7,$AD7)*VLOOKUP(LEFT($A7,3),Feuil2!$A:$D,3,0),IF(AG7<$AD7,AG7,$AD7)*VLOOKUP(LEFT($A7,3),Feuil2!$A:$D,4)),0)) -> 10032.625 | AG7: =IF(AH7<$AD7,AH7,$AD7)-IF(AG$1<=$AC7,0,IF(AG$1>IF($AC7<2022,2022,$AC7),IF(AG$1-IF($AC7<2022,2022,$AC7)=1,IF(AH7<$AD7,AH7,$AD7)*VLOOKUP(LEFT($A7,3),Feuil2!$A:$D,3,0),IF(AH7<$AD7,AH7,$AD7)*VLOOKUP(LEFT($A7,3),Feuil2!$A:$D,4)),0)) -> 10560.658 | AH7: =IF(AI7<$AD7,AI7,$AD7)-IF(AH$1<=$AC7,0,IF(AH$1>IF($AC7<2022,2022,$AC7),IF(AH$1-IF($AC7<2022,2022,$AC7)=1,IF(AI7<$AD7,AI7,$AD7)*VLOOKUP(LEFT($A7,3),Feuil2!$A:$D,3,0),IF(AI7<$AD7,AI7,$AD7)*VLOOKUP(LEFT($A7,3),Feuil2!$A:$D,4)),0)) -> 11116.482 | AI7: =IF(AJ7<$AD7,AJ7,$AD7)-IF(AI$1<=$AC7,0,IF(AI$1>IF($AC7<2022,2022,$AC7),IF(AI$1-IF($AC7<2022,2022,$AC7)=1,IF(AJ7<$AD7,AJ7,$AD7)*VLOOKUP(LEFT($A7,3),Feuil2!$A:$D,3,0),IF(AJ7<$AD7,AJ7,$AD7)*VLOOKUP(LEFT($A7,3),Feuil2!$A:$D,4)),0)) -> 11701.56 | AJ7: =IF(AK7<$AD7,AK7,$AD7)-IF(AJ$1<=$AC7,0,IF(AJ$1>IF($AC7<2022,2022,$AC7),IF(AJ$1-IF($AC7<2022,2022,$AC7)=1,IF(AK7<$AD7,AK7,$AD7)*VLOOKUP(LEFT($A7,3),Feuil2!$A:$D,3,0),IF(AK7<$AD7,AK7,$AD7)*VLOOKUP(LEFT($A7,3),Feuil2!$A:$D,4)),0)) -> 12317.432 | AK7: =IF(AL7<$AD7,AL7,$AD7)-IF(AK$1<=$AC7,0,IF(AK$1>IF($AC7<2022,2022,$AC7),IF(AK$1-IF($AC7<2022,2022,$AC7)=1,IF(AL7<$AD7,AL7,$AD7)*VLOOKUP(LEFT($A7,3),Feuil2!$A:$D,3,0),IF(AL7<$AD7,AL7,$AD7)*VLOOKUP(LEFT($A7,3),Feuil2!$A:$D,4)),0)) -> 12965.718 | AL7: =IF(AM7<$AD7,AM7,$AD7)-IF(AL$1<=$AC7,0,IF(AL$1>IF($AC7<2022,2022,$AC7),IF(AL$1-IF($AC7<2022,2022,$AC7)=1,IF(AM7<$AD7,AM7,$AD7)*VLOOKUP(LEFT($A7,3),Feuil2!$A:$D,3,0),IF(AM7<$AD7,AM7,$AD7)*VLOOKUP(LEFT($A7,3),Feuil2!$A:$D,4)),0)) -> 13648.124 | ... AN7: =IF(AO7<$AD7,AO7,$AD7)-IF(AN$1<=$AC7,0,IF(AN$1>IF($AC7<2022,2022,$AC7),IF(AN$1-IF($AC7<2022,2022,$AC7)=1,IF(AO7<$AD7,AO7,$AD7)*VLOOKUP(LEFT($A7,3),Feuil2!$A:$D,3,0),IF(AO7<$AD7,AO7,$AD7)*VLOOKUP(LEFT($A7,3),Feuil2!$A:$D,4)),0)) -> 15122.575 | AO7: =$AD7-IF(AO$1<=$AC7,0,IF(AO$1>IF($AC7<2022,2022,$AC7),IF(AO$1-IF($AC7<2022,2022,$AC7)=1,$AD7*VLOOKUP(LEFT($A7,3),Feuil2!$A:$D,3,0),$AD7*VLOOKUP(LEFT($A7,3),Feuil2!$A:$D,4)),0)) -> 15918.5
A8: BEN 07 | B8: GPDG | D8: BENNE | E8: FIAT | F8: DUCATO | I8: 43276 | J8: 19990 | L8: 60 | M8: 45098 | R8: 354 | S8: 2608 | T8: 120 | V8: =MID(A9,1,3) -> BEN | W8: {=_xlfn.IFS(LEFT(A8)="B",1,LEFT(A8)="R",2,LEFT(A8)="T",2,LEFT(A8)="V",2,LEFT(A8)="","")} -> 1 | X8: 10 | AA8: =12*Z8 -> 0 | AB8: =YEAR(I8) -> 2018 | AC8: =ROUND(Z8+AB8,0) -> 2018 | AD8: 19990 | AE8: =IF(AF8<$AD8,AF8,$AD8)-IF(AE$1<=$AC8,0,IF(AE$1>IF($AC8<2022,2022,$AC8),IF(AE$1-IF($AC8<2022,2022,$AC8)=1,IF(AF8<$AD8,AF8,$AD8)*VLOOKUP(LEFT($A8,3),Feuil2!$A:$D,3,0),IF(AF8<$AD8,AF8,$AD8)*VLOOKUP(LEFT($A8,3),Feuil2!$A:$D,4)),0)) -> 7779.6884 | AF8: =IF(AG8<$AD8,AG8,$AD8)-IF(AF$1<=$AC8,0,IF(AF$1>IF($AC8<2022,2022,$AC8),IF(AF$1-IF($AC8<2022,2022,$AC8)=1,IF(AG8<$AD8,AG8,$AD8)*VLOOKUP(LEFT($A8,3),Feuil2!$A:$D,3,0),IF(AG8<$AD8,AG8,$AD8)*VLOOKUP(LEFT($A8,3),Feuil2!$A:$D,4)),0)) -> 8189.1457 | AG8: =IF(AH8<$AD8,AH8,$AD8)-IF(AG$1<=$AC8,0,IF(AG$1>IF($AC8<2022,2022,$AC8),IF(AG$1-IF($AC8<2022,2022,$AC8)=1,IF(AH8<$AD8,AH8,$AD8)*VLOOKUP(LEFT($A8,3),Feuil2!$A:$D,3,0),IF(AH8<$AD8,AH8,$AD8)*VLOOKUP(LEFT($A8,3),Feuil2!$A:$D,4)),0)) -> 8620.1534 | AH8: =IF(AI8<$AD8,AI8,$AD8)-IF(AH$1<=$AC8,0,IF(AH$1>IF($AC8<2022,2022,$AC8),IF(AH$1-IF($AC8<2022,2022,$AC8)=1,IF(AI8<$AD8,AI8,$AD8)*VLOOKUP(LEFT($A8,3),Feuil2!$A:$D,3,0),IF(AI8<$AD8,AI8,$AD8)*VLOOKUP(LEFT($A8,3),Feuil2!$A:$D,4)),0)) -> 9073.8457 | AI8: =IF(AJ8<$AD8,AJ8,$AD8)-IF(AI$1<=$AC8,0,IF(AI$1>IF($AC8<2022,2022,$AC8),IF(AI$1-IF($AC8<2022,2022,$AC8)=1,IF(AJ8<$AD8,AJ8,$AD8)*VLOOKUP(LEFT($A8,3),Feuil2!$A:$D,3,0),IF(AJ8<$AD8,AJ8,$AD8)*VLOOKUP(LEFT($A8,3),Feuil2!$A:$D,4)),0)) -> 9551.4165 | AJ8: =IF(AK8<$AD8,AK8,$AD8)-IF(AJ$1<=$AC8,0,IF(AJ$1>IF($AC8<2022,2022,$AC8),IF(AJ$1-IF($AC8<2022,2022,$AC8)=1,IF(AK8<$AD8,AK8,$AD8)*VLOOKUP(LEFT($A8,3),Feuil2!$A:$D,3,0),IF(AK8<$AD8,AK8,$AD8)*VLOOKUP(LEFT($A8,3),Feuil2!$A:$D,4)),0)) -> 10054.123 | AK8: =IF(AL8<$AD8,AL8,$AD8)-IF(AK$1<=$AC8,0,IF(AK$1>IF($AC8<2022,2022,$AC8),IF(AK$1-IF($AC8<2022,2022,$AC8)=1,IF(AL8<$AD8,AL8,$AD8)*VLOOKUP(LEFT($A8,3),Feuil2!$A:$D,3,0),IF(AL8<$AD8,AL8,$AD8)*VLOOKUP(LEFT($A8,3),Feuil2!$A:$D,4)),0)) -> 10583.287 | AL8: =IF(AM8<$AD8,AM8,$AD8)-IF(AL$1<=$AC8,0,IF(AL$1>IF($AC8<2022,2022,$AC8),IF(AL$1-IF($AC8<2022,2022,$AC8)=1,IF(AM8<$AD8,AM8,$AD8)*VLOOKUP(LEFT($A8,3),Feuil2!$A:$D,3,0),IF(AM8<$AD8,AM8,$AD8)*VLOOKUP(LEFT($A8,3),Feuil2!$A:$D,4)),0)) -> 11140.302 | ... AN8: =IF(AO8<$AD8,AO8,$AD8)-IF(AN$1<=$AC8,0,IF(AN$1>IF($AC8<2022,2022,$AC8),IF(AN$1-IF($AC8<2022,2022,$AC8)=1,IF(AO8<$AD8,AO8,$AD8)*VLOOKUP(LEFT($A8,3),Feuil2!$A:$D,3,0),IF(AO8<$AD8,AO8,$AD8)*VLOOKUP(LEFT($A8,3),Feuil2!$A:$D,4)),0)) -> 12343.825 | AO8: =$AD8-IF(AO$1<=$AC8,0,IF(AO$1>IF($AC8<2022,2022,$AC8),IF(AO$1-IF($AC8<2022,2022,$AC8)=1,$AD8*VLOOKUP(LEFT($A8,3),Feuil2!$A:$D,3,0),$AD8*VLOOKUP(LEFT($A8,3),Feuil2!$A:$D,4)),0)) -> 12993.5
A9: BEN 08 | B9: GPDG | D9: BENNE | E9: FIAT | F9: DUCATO | I9: 43279 | J9: 22000 | L9: 60 | M9: 45658 | R9: 177 | S9: 2578 | T9: 120 | V9: =MID(A10,1,3) -> BEN | W9: {=_xlfn.IFS(LEFT(A9)="B",1,LEFT(A9)="R",2,LEFT(A9)="T",2,LEFT(A9)="V",2,LEFT(A9)="","")} -> 1 | X9: 10 | AA9: =12*Z9 -> 0 | AB9: =YEAR(I9) -> 2018 | AC9: =ROUND(Z9+AB9,0) -> 2018 | AD9: 22000 | AE9: =IF(AF9<$AD9,AF9,$AD9)-IF(AE$1<=$AC9,0,IF(AE$1>IF($AC9<2022,2022,$AC9),IF(AE$1-IF($AC9<2022,2022,$AC9)=1,IF(AF9<$AD9,AF9,$AD9)*VLOOKUP(LEFT($A9,3),Feuil2!$A:$D,3,0),IF(AF9<$AD9,AF9,$AD9)*VLOOKUP(LEFT($A9,3),Feuil2!$A:$D,4)),0)) -> 8561.9382 | AF9: =IF(AG9<$AD9,AG9,$AD9)-IF(AF$1<=$AC9,0,IF(AF$1>IF($AC9<2022,2022,$AC9),IF(AF$1-IF($AC9<2022,2022,$AC9)=1,IF(AG9<$AD9,AG9,$AD9)*VLOOKUP(LEFT($A9,3),Feuil2!$A:$D,3,0),IF(AG9<$AD9,AG9,$AD9)*VLOOKUP(LEFT($A9,3),Feuil2!$A:$D,4)),0)) -> 9012.5666 | AG9: =IF(AH9<$AD9,AH9,$AD9)-IF(AG$1<=$AC9,0,IF(AG$1>IF($AC9<2022,2022,$AC9),IF(AG$1-IF($AC9<2022,2022,$AC9)=1,IF(AH9<$AD9,AH9,$AD9)*VLOOKUP(LEFT($A9,3),Feuil2!$A:$D,3,0),IF(AH9<$AD9,AH9,$AD9)*VLOOKUP(LEFT($A9,3),Feuil2!$A:$D,4)),0)) -> 9486.9122 | AH9: =IF(AI9<$AD9,AI9,$AD9)-IF(AH$1<=$AC9,0,IF(AH$1>IF($AC9<2022,2022,$AC9),IF(AH$1-IF($AC9<2022,2022,$AC9)=1,IF(AI9<$AD9,AI9,$AD9)*VLOOKUP(LEFT($A9,3),Feuil2!$A:$D,3,0),IF(AI9<$AD9,AI9,$AD9)*VLOOKUP(LEFT($A9,3),Feuil2!$A:$D,4)),0)) -> 9986.2233 | AI9: =IF(AJ9<$AD9,AJ9,$AD9)-IF(AI$1<=$AC9,0,IF(AI$1>IF($AC9<2022,2022,$AC9),IF(AI$1-IF($AC9<2022,2022,$AC9)=1,IF(AJ9<$AD9,AJ9,$AD9)*VLOOKUP(LEFT($A9,3),Feuil2!$A:$D,3,0),IF(AJ9<$AD9,AJ9,$AD9)*VLOOKUP(LEFT($A9,3),Feuil2!$A:$D,4)),0)) -> 10511.814 | AJ9: =IF(AK9<$AD9,AK9,$AD9)-IF(AJ$1<=$AC9,0,IF(AJ$1>IF($AC9<2022,2022,$AC9),IF(AJ$1-IF($AC9<2022,2022,$AC9)=1,IF(AK9<$AD9,AK9,$AD9)*VLOOKUP(LEFT($A9,3),Feuil2!$A:$D,3,0),IF(AK9<$AD9,AK9,$AD9)*VLOOKUP(LEFT($A9,3),Feuil2!$A:$D,4)),0)) -> 11065.067 | AK9: =IF(AL9<$AD9,AL9,$AD9)-IF(AK$1<=$AC9,0,IF(AK$1>IF($AC9<2022,2022,$AC9),IF(AK$1-IF($AC9<2022,2022,$AC9)=1,IF(AL9<$AD9,AL9,$AD9)*VLOOKUP(LEFT($A9,3),Feuil2!$A:$D,3,0),IF(AL9<$AD9,AL9,$AD9)*VLOOKUP(LEFT($A9,3),Feuil2!$A:$D,4)),0)) -> 11647.439 | AL9: =IF(AM9<$AD9,AM9,$AD9)-IF(AL$1<=$AC9,0,IF(AL$1>IF($AC9<2022,2022,$AC9),IF(AL$1-IF($AC9<2022,2022,$AC9)=1,IF(AM9<$AD9,AM9,$AD9)*VLOOKUP(LEFT($A9,3),Feuil2!$A:$D,3,0),IF(AM9<$AD9,AM9,$AD9)*VLOOKUP(LEFT($A9,3),Feuil2!$A:$D,4)),0)) -> 12260.462 | ... AN9: =IF(AO9<$AD9,AO9,$AD9)-IF(AN$1<=$AC9,0,IF(AN$1>IF($AC9<2022,2022,$AC9),IF(AN$1-IF($AC9<2022,2022,$AC9)=1,IF(AO9<$AD9,AO9,$AD9)*VLOOKUP(LEFT($A9,3),Feuil2!$A:$D,3,0),IF(AO9<$AD9,AO9,$AD9)*VLOOKUP(LEFT($A9,3),Feuil2!$A:$D,4)),0)) -> 13585 | AO9: =$AD9-IF(AO$1<=$AC9,0,IF(AO$1>IF($AC9<2022,2022,$AC9),IF(AO$1-IF($AC9<2022,2022,$AC9)=1,$AD9*VLOOKUP(LEFT($A9,3),Feuil2!$A:$D,3,0),$AD9*VLOOKUP(LEFT($A9,3),Feuil2!$A:$D,4)),0)) -> 14300
A10: BEN 09 | B10: GPDG | D10: BENNE | E10: FIAT | F10: DUCATO | I10: 43645 | J10: 22000 | L10: 60 | M10: 45658 | R10: 177 | S10: 2578 | T10: 120 | V10: =MID(A11,1,3) -> BEN | W10: {=_xlfn.IFS(LEFT(A10)="B",1,LEFT(A10)="R",2,LEFT(A10)="T",2,LEFT(A10)="V",2,LEFT(A10)="","")} -> 1 | X10: 10 | AA10: =12*Z10 -> 0 | AB10: =YEAR(I10) -> 2019 | AC10: =ROUND(Z10+AB10,0) -> 2019 | AD10: 22000 | AE10: =IF(AF10<$AD10,AF10,$AD10)-IF(AE$1<=$AC10,0,IF(AE$1>IF($AC10<2022,2022,$AC10),IF(AE$1-IF($AC10<2022,2022,$AC10)=1,IF(AF10<$AD10,AF10,$AD10)*VLOOKUP(LEFT($A10,3),Feuil2!$A:$D,3,0),IF(AF10<$AD10,AF10,$AD10)*VLOOKUP(LEFT($A10,3),Feuil2!$A:$D,4)),0)) -> 8561.9382 | AF10: =IF(AG10<$AD10,AG10,$AD10)-IF(AF$1<=$AC10,0,IF(AF$1>IF($AC10<2022,2022,$AC10),IF(AF$1-IF($AC10<2022,2022,$AC10)=1,IF(AG10<$AD10,AG10,$AD10)*VLOOKUP(LEFT($A10,3),Feuil2!$A:$D,3,0),IF(AG10<$AD10,AG10,$AD10)*VLOOKUP(LEFT($A10,3),Feuil2!$A:$D,4)),0)) -> 9012.5666 | AG10: =IF(AH10<$AD10,AH10,$AD10)-IF(AG$1<=$AC10,0,IF(AG$1>IF($AC10<2022,2022,$AC10),IF(AG$1-IF($AC10<2022,2022,$AC10)=1,IF(AH10<$AD10,AH10,$AD10)*VLOOKUP(LEFT($A10,3),Feuil2!$A:$D,3,0),IF(AH10<$AD10,AH10,$AD10)*VLOOKUP(LEFT($A10,3),Feuil2!$A:$D,4)),0)) -> 9486.9122 | AH10: =IF(AI10<$AD10,AI10,$AD10)-IF(AH$1<=$AC10,0,IF(AH$1>IF($AC10<2022,2022,$AC10),IF(AH$1-IF($AC10<2022,2022,$AC10)=1,IF(AI10<$AD10,AI10,$AD10)*VLOOKUP(LEFT($A10,3),Feuil2!$A:$D,3,0),IF(AI10<$AD10,AI10,$AD10)*VLOOKUP(LEFT($A10,3),Feuil2!$A:$D,4)),0)) -> 9986.2233 | AI10: =IF(AJ10<$AD10,AJ10,$AD10)-IF(AI$1<=$AC10,0,IF(AI$1>IF($AC10<2022,2022,$AC10),IF(AI$1-IF($AC10<2022,2022,$AC10)=1,IF(AJ10<$AD10,AJ10,$AD10)*VLOOKUP(LEFT($A10,3),Feuil2!$A:$D,3,0),IF(AJ10<$AD10,AJ10,$AD10)*VLOOKUP(LEFT($A10,3),Feuil2!$A:$D,4)),0)) -> 10511.814 | AJ10: =IF(AK10<$AD10,AK10,$AD10)-IF(AJ$1<=$AC10,0,IF(AJ$1>IF($AC10<2022,2022,$AC10),IF(AJ$1-IF($AC10<2022,2022,$AC10)=1,IF(AK10<$AD10,AK10,$AD10)*VLOOKUP(LEFT($A10,3),Feuil2!$A:$D,3,0),IF(AK10<$AD10,AK10,$AD10)*VLOOKUP(LEFT($A10,3),Feuil2!$A:$D,4)),0)) -> 11065.067 | AK10: =IF(AL10<$AD10,AL10,$AD10)-IF(AK$1<=$AC10,0,IF(AK$1>IF($AC10<2022,2022,$AC10),IF(AK$1-IF($AC10<2022,2022,$AC10)=1,IF(AL10<$AD10,AL10,$AD10)*VLOOKUP(LEFT($A10,3),Feuil2!$A:$D,3,0),IF(AL10<$AD10,AL10,$AD10)*VLOOKUP(LEFT($A10,3),Feuil2!$A:$D,4)),0)) -> 11647.439 | AL10: =IF(AM10<$AD10,AM10,$AD10)-IF(AL$1<=$AC10,0,IF(AL$1>IF($AC10<2022,2022,$AC10),IF(AL$1-IF($AC10<2022,2022,$AC10)=1,IF(AM10<$AD10,AM10,$AD10)*VLOOKUP(LEFT($A10,3),Feuil2!$A:$D,3,0),IF(AM10<$AD10,AM10,$AD10)*VLOOKUP(LEFT($A10,3),Feuil2!$A:$D,4)),0)) -> 12260.462 | ... AN10: =IF(AO10<$AD10,AO10,$AD10)-IF(AN$1<=$AC10,0,IF(AN$1>IF($AC10<2022,2022,$AC10),IF(AN$1-IF($AC10<2022,2022,$AC10)=1,IF(AO10<$AD10,AO10,$AD10)*VLOOKUP(LEFT($A10,3),Feuil2!$A:$D,3,0),IF(AO10<$AD10,AO10,$AD10)*VLOOKUP(LEFT($A10,3),Feuil2!$A:$D,4)),0)) -> 13585 | AO10: =$AD10-IF(AO$1<=$AC10,0,IF(AO$1>IF($AC10<2022,2022,$AC10),IF(AO$1-IF($AC10<2022,2022,$AC10)=1,$AD10*VLOOKUP(LEFT($A10,3),Feuil2!$A:$D,3,0),$AD10*VLOOKUP(LEFT($A10,3),Feuil2!$A:$D,4)),0)) -> 14300
A11: BEN 10 | B11: GPDG | D11: BENNE | E11: FIAT | F11: DUCATO | I11: 44298 | J11: 24584 | L11: 60 | M11: 46093 | R11: 523.8 | S11: 3058 | T11: 120 | V11: =MID(A12,1,3) -> BEN | W11: {=_xlfn.IFS(LEFT(A11)="B",1,LEFT(A11)="R",2,LEFT(A11)="T",2,LEFT(A11)="V",2,LEFT(A11)="","")} -> 1 | X11: 10 | Z11: 5 | AA11: =12*Z11 -> 60 | AB11: =YEAR(I11) -> 2021 | AC11: =ROUND(Z11+AB11,0) -> 2026 | AD11: 24854 | AE11: =IF(AF11<$AD11,AF11,$AD11)-IF(AE$1<=$AC11,0,IF(AE$1>IF($AC11<2022,2022,$AC11),IF(AE$1-IF($AC11<2022,2022,$AC11)=1,IF(AF11<$AD11,AF11,$AD11)*VLOOKUP(LEFT($A11,3),Feuil2!$A:$D,3,0),IF(AF11<$AD11,AF11,$AD11)*VLOOKUP(LEFT($A11,3),Feuil2!$A:$D,4)),0)) -> 11875.483 | AF11: =IF(AG11<$AD11,AG11,$AD11)-IF(AF$1<=$AC11,0,IF(AF$1>IF($AC11<2022,2022,$AC11),IF(AF$1-IF($AC11<2022,2022,$AC11)=1,IF(AG11<$AD11,AG11,$AD11)*VLOOKUP(LEFT($A11,3),Feuil2!$A:$D,3,0),IF(AG11<$AD11,AG11,$AD11)*VLOOKUP(LEFT($A11,3),Feuil2!$A:$D,4)),0)) -> 12500.508 | AG11: =IF(AH11<$AD11,AH11,$AD11)-IF(AG$1<=$AC11,0,IF(AG$1>IF($AC11<2022,2022,$AC11),IF(AG$1-IF($AC11<2022,2022,$AC11)=1,IF(AH11<$AD11,AH11,$AD11)*VLOOKUP(LEFT($A11,3),Feuil2!$A:$D,3,0),IF(AH11<$AD11,AH11,$AD11)*VLOOKUP(LEFT($A11,3),Feuil2!$A:$D,4)),0)) -> 13158.43 | AH11: =IF(AI11<$AD11,AI11,$AD11)-IF(AH$1<=$AC11,0,IF(AH$1>IF($AC11<2022,2022,$AC11),IF(AH$1-IF($AC11<2022,2022,$AC11)=1,IF(AI11<$AD11,AI11,$AD11)*VLOOKUP(LEFT($A11,3),Feuil2!$A:$D,3,0),IF(AI11<$AD11,AI11,$AD11)*VLOOKUP(LEFT($A11,3),Feuil2!$A:$D,4)),0)) -> 13850.979 | AI11: =IF(AJ11<$AD11,AJ11,$AD11)-IF(AI$1<=$AC11,0,IF(AI$1>IF($AC11<2022,2022,$AC11),IF(AI$1-IF($AC11<2022,2022,$AC11)=1,IF(AJ11<$AD11,AJ11,$AD11)*VLOOKUP(LEFT($A11,3),Feuil2!$A:$D,3,0),IF(AJ11<$AD11,AJ11,$AD11)*VLOOKUP(LEFT($A11,3),Feuil2!$A:$D,4)),0)) -> 14579.978 | AJ11: =IF(AK11<$AD11,AK11,$AD11)-IF(AJ$1<=$AC11,0,IF(AJ$1>IF($AC11<2022,2022,$AC11),IF(AJ$1-IF($AC11<2022,2022,$AC11)=1,IF(AK11<$AD11,AK11,$AD11)*VLOOKUP(LEFT($A11,3),Feuil2!$A:$D,3,0),IF(AK11<$AD11,AK11,$AD11)*VLOOKUP(LEFT($A11,3),Feuil2!$A:$D,4)),0)) -> 15347.345 | AK11: =IF(AL11<$AD11,AL11,$AD11)-IF(AK$1<=$AC11,0,IF(AK$1>IF($AC11<2022,2022,$AC11),IF(AK$1-IF($AC11<2022,2022,$AC11)=1,IF(AL11<$AD11,AL11,$AD11)*VLOOKUP(LEFT($A11,3),Feuil2!$A:$D,3,0),IF(AL11<$AD11,AL11,$AD11)*VLOOKUP(LEFT($A11,3),Feuil2!$A:$D,4)),0)) -> 16155.1 | AL11: =IF(AM11<$AD11,AM11,$AD11)-IF(AL$1<=$AC11,0,IF(AL$1>IF($AC11<2022,2022,$AC11),IF(AL$1-IF($AC11<2022,2022,$AC11)=1,IF(AM11<$AD11,AM11,$AD11)*VLOOKUP(LEFT($A11,3),Feuil2!$A:$D,3,0),IF(AM11<$AD11,AM11,$AD11)*VLOOKUP(LEFT($A11,3),Feuil2!$A:$D,4)),0)) -> 24854 | ... AN11: =IF(AO11<$AD11,AO11,$AD11)-IF(AN$1<=$AC11,0,IF(AN$1>IF($AC11<2022,2022,$AC11),IF(AN$1-IF($AC11<2022,2022,$AC11)=1,IF(AO11<$AD11,AO11,$AD11)*VLOOKUP(LEFT($A11,3),Feuil2!$A:$D,3,0),IF(AO11<$AD11,AO11,$AD11)*VLOOKUP(LEFT($A11,3),Feuil2!$A:$D,4)),0)) -> 24854 | AO11: =$AD11-IF(AO$1<=$AC11,0,IF(AO$1>IF($AC11<2022,2022,$AC11),IF(AO$1-IF($AC11<2022,2022,$AC11)=1,$AD11*VLOOKUP(LEFT($A11,3),Feuil2!$A:$D,3,0),$AD11*VLOOKUP(LEFT($A11,3),Feuil2!$A:$D,4)),0)) -> 24854
A12: BEN 11 | B12: GPDG | D12: BENNE | E12: FIAT | F12: DUCATO | I12: 44298 | J12: 24584 | L12: 60 | M12: 46093 | R12: 523.8 | S12: 3058 | T12: 120 | V12: =MID(A13,1,3) -> BEN | W12: {=_xlfn.IFS(LEFT(A12)="B",1,LEFT(A12)="R",2,LEFT(A12)="T",2,LEFT(A12)="V",2,LEFT(A12)="","")} -> 1 | X12: 10 | Z12: 5 | AA12: =12*Z12 -> 60 | AB12: =YEAR(I12) -> 2021 | AC12: =ROUND(Z12+AB12,0) -> 2026 | AD12: 24854 | AE12: =IF(AF12<$AD12,AF12,$AD12)-IF(AE$1<=$AC12,0,IF(AE$1>IF($AC12<2022,2022,$AC12),IF(AE$1-IF($AC12<2022,2022,$AC12)=1,IF(AF12<$AD12,AF12,$AD12)*VLOOKUP(LEFT($A12,3),Feuil2!$A:$D,3,0),IF(AF12<$AD12,AF12,$AD12)*VLOOKUP(LEFT($A12,3),Feuil2!$A:$D,4)),0)) -> 11875.483 | AF12: =IF(AG12<$AD12,AG12,$AD12)-IF(AF$1<=$AC12,0,IF(AF$1>IF($AC12<2022,2022,$AC12),IF(AF$1-IF($AC12<2022,2022,$AC12)=1,IF(AG12<$AD12,AG12,$AD12)*VLOOKUP(LEFT($A12,3),Feuil2!$A:$D,3,0),IF(AG12<$AD12,AG12,$AD12)*VLOOKUP(LEFT($A12,3),Feuil2!$A:$D,4)),0)) -> 12500.508 | AG12: =IF(AH12<$AD12,AH12,$AD12)-IF(AG$1<=$AC12,0,IF(AG$1>IF($AC12<2022,2022,$AC12),IF(AG$1-IF($AC12<2022,2022,$AC12)=1,IF(AH12<$AD12,AH12,$AD12)*VLOOKUP(LEFT($A12,3),Feuil2!$A:$D,3,0),IF(AH12<$AD12,AH12,$AD12)*VLOOKUP(LEFT($A12,3),Feuil2!$A:$D,4)),0)) -> 13158.43 | AH12: =IF(AI12<$AD12,AI12,$AD12)-IF(AH$1<=$AC12,0,IF(AH$1>IF($AC12<2022,2022,$AC12),IF(AH$1-IF($AC12<2022,2022,$AC12)=1,IF(AI12<$AD12,AI12,$AD12)*VLOOKUP(LEFT($A12,3),Feuil2!$A:$D,3,0),IF(AI12<$AD12,AI12,$AD12)*VLOOKUP(LEFT($A12,3),Feuil2!$A:$D,4)),0)) -> 13850.979 | AI12: =IF(AJ12<$AD12,AJ12,$AD12)-IF(AI$1<=$AC12,0,IF(AI$1>IF($AC12<2022,2022,$AC12),IF(AI$1-IF($AC12<2022,2022,$AC12)=1,IF(AJ12<$AD12,AJ12,$AD12)*VLOOKUP(LEFT($A12,3),Feuil2!$A:$D,3,0),IF(AJ12<$AD12,AJ12,$AD12)*VLOOKUP(LEFT($A12,3),Feuil2!$A:$D,4)),0)) -> 14579.978 | AJ12: =IF(AK12<$AD12,AK12,$AD12)-IF(AJ$1<=$AC12,0,IF(AJ$1>IF($AC12<2022,2022,$AC12),IF(AJ$1-IF($AC12<2022,2022,$AC12)=1,IF(AK12<$AD12,AK12,$AD12)*VLOOKUP(LEFT($A12,3),Feuil2!$A:$D,3,0),IF(AK12<$AD12,AK12,$AD12)*VLOOKUP(LEFT($A12,3),Feuil2!$A:$D,4)),0)) -> 15347.345 | AK12: =IF(AL12<$AD12,AL12,$AD12)-IF(AK$1<=$AC12,0,IF(AK$1>IF($AC12<2022,2022,$AC12),IF(AK$1-IF($AC12<2022,2022,$AC12)=1,IF(AL12<$AD12,AL12,$AD12)*VLOOKUP(LEFT($A12,3),Feuil2!$A:$D,3,0),IF(AL12<$AD12,AL12,$AD12)*VLOOKUP(LEFT($A12,3),Feuil2!$A:$D,4)),0)) -> 16155.1 | AL12: =IF(AM12<$AD12,AM12,$AD12)-IF(AL$1<=$AC12,0,IF(AL$1>IF($AC12<2022,2022,$AC12),IF(AL$1-IF($AC12<2022,2022,$AC12)=1,IF(AM12<$AD12,AM12,$AD12)*VLOOKUP(LEFT($A12,3),Feuil2!$A:$D,3,0),IF(AM12<$AD12,AM12,$AD12)*VLOOKUP(LEFT($A12,3),Feuil2!$A:$D,4)),0)) -> 24854 | ... AN12: =IF(AO12<$AD12,AO12,$AD12)-IF(AN$1<=$AC12,0,IF(AN$1>IF($AC12<2022,2022,$AC12),IF(AN$1-IF($AC12<2022,2022,$AC12)=1,IF(AO12<$AD12,AO12,$AD12)*VLOOKUP(LEFT($A12,3),Feuil2!$A:$D,3,0),IF(AO12<$AD12,AO12,$AD12)*VLOOKUP(LEFT($A12,3),Feuil2!$A:$D,4)),0)) -> 24854 | AO12: =$AD12-IF(AO$1<=$AC12,0,IF(AO$1>IF($AC12<2022,2022,$AC12),IF(AO$1-IF($AC12<2022,2022,$AC12)=1,$AD12*VLOOKUP(LEFT($A12,3),Feuil2!$A:$D,3,0),$AD12*VLOOKUP(LEFT($A12,3),Feuil2!$A:$D,4)),0)) -> 24854
A13: BEN 12 | B13: GPDG | D13: BENNE | E13: RENAULT | F13: MASTER | I13: 44847 | J13: 37497 | L13: 60 | R13: 582 | T13: 120 | V13: =MID(A14,1,3) -> BEN | W13: {=_xlfn.IFS(LEFT(A13)="B",1,LEFT(A13)="R",2,LEFT(A13)="T",2,LEFT(A13)="V",2,LEFT(A13)="","")} -> 1 | X13: 10 | AA13: =12*Z13 -> 0 | AB13: =YEAR(I13) -> 2022 | AC13: =ROUND(Z13+AB13,0) -> 2022 | AD13: 37497 | AE13: =IF(AF13<$AD13,AF13,$AD13)-IF(AE$1<=$AC13,0,IF(AE$1>IF($AC13<2022,2022,$AC13),IF(AE$1-IF($AC13<2022,2022,$AC13)=1,IF(AF13<$AD13,AF13,$AD13)*VLOOKUP(LEFT($A13,3),Feuil2!$A:$D,3,0),IF(AF13<$AD13,AF13,$AD13)*VLOOKUP(LEFT($A13,3),Feuil2!$A:$D,4)),0)) -> 14593.045 | AF13: =IF(AG13<$AD13,AG13,$AD13)-IF(AF$1<=$AC13,0,IF(AF$1>IF($AC13<2022,2022,$AC13),IF(AF$1-IF($AC13<2022,2022,$AC13)=1,IF(AG13<$AD13,AG13,$AD13)*VLOOKUP(LEFT($A13,3),Feuil2!$A:$D,3,0),IF(AG13<$AD13,AG13,$AD13)*VLOOKUP(LEFT($A13,3),Feuil2!$A:$D,4)),0)) -> 15361.1 | AG13: =IF(AH13<$AD13,AH13,$AD13)-IF(AG$1<=$AC13,0,IF(AG$1>IF($AC13<2022,2022,$AC13),IF(AG$1-IF($AC13<2022,2022,$AC13)=1,IF(AH13<$AD13,AH13,$AD13)*VLOOKUP(LEFT($A13,3),Feuil2!$A:$D,3,0),IF(AH13<$AD13,AH13,$AD13)*VLOOKUP(LEFT($A13,3),Feuil2!$A:$D,4)),0)) -> 16169.579 | AH13: =IF(AI13<$AD13,AI13,$AD13)-IF(AH$1<=$AC13,0,IF(AH$1>IF($AC13<2022,2022,$AC13),IF(AH$1-IF($AC13<2022,2022,$AC13)=1,IF(AI13<$AD13,AI13,$AD13)*VLOOKUP(LEFT($A13,3),Feuil2!$A:$D,3,0),IF(AI13<$AD13,AI13,$AD13)*VLOOKUP(LEFT($A13,3),Feuil2!$A:$D,4)),0)) -> 17020.61 | AI13: =IF(AJ13<$AD13,AJ13,$AD13)-IF(AI$1<=$AC13,0,IF(AI$1>IF($AC13<2022,2022,$AC13),IF(AI$1-IF($AC13<2022,2022,$AC13)=1,IF(AJ13<$AD13,AJ13,$AD13)*VLOOKUP(LEFT($A13,3),Feuil2!$A:$D,3,0),IF(AJ13<$AD13,AJ13,$AD13)*VLOOKUP(LEFT($A13,3),Feuil2!$A:$D,4)),0)) -> 17916.431 | AJ13: =IF(AK13<$AD13,AK13,$AD13)-IF(AJ$1<=$AC13,0,IF(AJ$1>IF($AC13<2022,2022,$AC13),IF(AJ$1-IF($AC13<2022,2022,$AC13)=1,IF(AK13<$AD13,AK13,$AD13)*VLOOKUP(LEFT($A13,3),Feuil2!$A:$D,3,0),IF(AK13<$AD13,AK13,$AD13)*VLOOKUP(LEFT($A13,3),Feuil2!$A:$D,4)),0)) -> 18859.401 | AK13: =IF(AL13<$AD13,AL13,$AD13)-IF(AK$1<=$AC13,0,IF(AK$1>IF($AC13<2022,2022,$AC13),IF(AK$1-IF($AC13<2022,2022,$AC13)=1,IF(AL13<$AD13,AL13,$AD13)*VLOOKUP(LEFT($A13,3),Feuil2!$A:$D,3,0),IF(AL13<$AD13,AL13,$AD13)*VLOOKUP(LEFT($A13,3),Feuil2!$A:$D,4)),0)) -> 19852.002 | AL13: =IF(AM13<$AD13,AM13,$AD13)-IF(AL$1<=$AC13,0,IF(AL$1>IF($AC13<2022,2022,$AC13),IF(AL$1-IF($AC13<2022,2022,$AC13)=1,IF(AM13<$AD13,AM13,$AD13)*VLOOKUP(LEFT($A13,3),Feuil2!$A:$D,3,0),IF(AM13<$AD13,AM13,$AD13)*VLOOKUP(LEFT($A13,3),Feuil2!$A:$D,4)),0)) -> 20896.844 | ... AN13: =IF(AO13<$AD13,AO13,$AD13)-IF(AN$1<=$AC13,0,IF(AN$1>IF($AC13<2022,2022,$AC13),IF(AN$1-IF($AC13<2022,2022,$AC13)=1,IF(AO13<$AD13,AO13,$AD13)*VLOOKUP(LEFT($A13,3),Feuil2!$A:$D,3,0),IF(AO13<$AD13,AO13,$AD13)*VLOOKUP(LEFT($A13,3),Feuil2!$A:$D,4)),0)) -> 23154.398 | AO13: =$AD13-IF(AO$1<=$AC13,0,IF(AO$1>IF($AC13<2022,2022,$AC13),IF(AO$1-IF($AC13<2022,2022,$AC13)=1,$AD13*VLOOKUP(LEFT($A13,3),Feuil2!$A:$D,3,0),$AD13*VLOOKUP(LEFT($A13,3),Feuil2!$A:$D,4)),0)) -> 24373.05
A14: BEN 13 | B14: GPDG | D14: BENNE | E14: PIAGGIO | F14: PORTER NP6 | I14: 44834 | J14: 28330 | L14: 60 | M14: 46629 | R14: 495 | T14: 120 | V14: =MID(A15,1,3) -> BEN | W14: {=_xlfn.IFS(LEFT(A14)="B",1,LEFT(A14)="R",2,LEFT(A14)="T",2,LEFT(A14)="V",2,LEFT(A14)="","")} -> 1 | X14: 10 | Z14: 5 | AA14: =12*Z14 -> 60 | AB14: =YEAR(I14) -> 2022 | AC14: =ROUND(Z14+AB14,0) -> 2027 | AD14: 28330 | AE14: =IF(AF14<$AD14,AF14,$AD14)-IF(AE$1<=$AC14,0,IF(AE$1>IF($AC14<2022,2022,$AC14),IF(AE$1-IF($AC14<2022,2022,$AC14)=1,IF(AF14<$AD14,AF14,$AD14)*VLOOKUP(LEFT($A14,3),Feuil2!$A:$D,3,0),IF(AF14<$AD14,AF14,$AD14)*VLOOKUP(LEFT($A14,3),Feuil2!$A:$D,4)),0)) -> 14248.789 | AF14: =IF(AG14<$AD14,AG14,$AD14)-IF(AF$1<=$AC14,0,IF(AF$1>IF($AC14<2022,2022,$AC14),IF(AF$1-IF($AC14<2022,2022,$AC14)=1,IF(AG14<$AD14,AG14,$AD14)*VLOOKUP(LEFT($A14,3),Feuil2!$A:$D,3,0),IF(AG14<$AD14,AG14,$AD14)*VLOOKUP(LEFT($A14,3),Feuil2!$A:$D,4)),0)) -> 14998.725 | AG14: =IF(AH14<$AD14,AH14,$AD14)-IF(AG$1<=$AC14,0,IF(AG$1>IF($AC14<2022,2022,$AC14),IF(AG$1-IF($AC14<2022,2022,$AC14)=1,IF(AH14<$AD14,AH14,$AD14)*VLOOKUP(LEFT($A14,3),Feuil2!$A:$D,3,0),IF(AH14<$AD14,AH14,$AD14)*VLOOKUP(LEFT($A14,3),Feuil2!$A:$D,4)),0)) -> 15788.132 | AH14: =IF(AI14<$AD14,AI14,$AD14)-IF(AH$1<=$AC14,0,IF(AH$1>IF($AC14<2022,2022,$AC14),IF(AH$1-IF($AC14<2022,2022,$AC14)=1,IF(AI14<$AD14,AI14,$AD14)*VLOOKUP(LEFT($A14,3),Feuil2!$A:$D,3,0),IF(AI14<$AD14,AI14,$AD14)*VLOOKUP(LEFT($A14,3),Feuil2!$A:$D,4)),0)) -> 16619.086 | AI14: =IF(AJ14<$AD14,AJ14,$AD14)-IF(AI$1<=$AC14,0,IF(AI$1>IF($AC14<2022,2022,$AC14),IF(AI$1-IF($AC14<2022,2022,$AC14)=1,IF(AJ14<$AD14,AJ14,$AD14)*VLOOKUP(LEFT($A14,3),Feuil2!$A:$D,3,0),IF(AJ14<$AD14,AJ14,$AD14)*VLOOKUP(LEFT($A14,3),Feuil2!$A:$D,4)),0)) -> 17493.775 | AJ14: =IF(AK14<$AD14,AK14,$AD14)-IF(AJ$1<=$AC14,0,IF(AJ$1>IF($AC14<2022,2022,$AC14),IF(AJ$1-IF($AC14<2022,2022,$AC14)=1,IF(AK14<$AD14,AK14,$AD14)*VLOOKUP(LEFT($A14,3),Feuil2!$A:$D,3,0),IF(AK14<$AD14,AK14,$AD14)*VLOOKUP(LEFT($A14,3),Feuil2!$A:$D,4)),0)) -> 18414.5 | AK14: =IF(AL14<$AD14,AL14,$AD14)-IF(AK$1<=$AC14,0,IF(AK$1>IF($AC14<2022,2022,$AC14),IF(AK$1-IF($AC14<2022,2022,$AC14)=1,IF(AL14<$AD14,AL14,$AD14)*VLOOKUP(LEFT($A14,3),Feuil2!$A:$D,3,0),IF(AL14<$AD14,AL14,$AD14)*VLOOKUP(LEFT($A14,3),Feuil2!$A:$D,4)),0)) -> 28330 | AL14: =IF(AM14<$AD14,AM14,$AD14)-IF(AL$1<=$AC14,0,IF(AL$1>IF($AC14<2022,2022,$AC14),IF(AL$1-IF($AC14<2022,2022,$AC14)=1,IF(AM14<$AD14,AM14,$AD14)*VLOOKUP(LEFT($A14,3),Feuil2!$A:$D,3,0),IF(AM14<$AD14,AM14,$AD14)*VLOOKUP(LEFT($A14,3),Feuil2!$A:$D,4)),0)) -> 28330 | ... AN14: =IF(AO14<$AD14,AO14,$AD14)-IF(AN$1<=$AC14,0,IF(AN$1>IF($AC14<2022,2022,$AC14),IF(AN$1-IF($AC14<2022,2022,$AC14)=1,IF(AO14<$AD14,AO14,$AD14)*VLOOKUP(LEFT($A14,3),Feuil2!$A:$D,3,0),IF(AO14<$AD14,AO14,$AD14)*VLOOKUP(LEFT($A14,3),Feuil2!$A:$D,4)),0)) -> 28330 | AO14: =$AD14-IF(AO$1<=$AC14,0,IF(AO$1>IF($AC14<2022,2022,$AC14),IF(AO$1-IF($AC14<2022,2022,$AC14)=1,$AD14*VLOOKUP(LEFT($A14,3),Feuil2!$A:$D,3,0),$AD14*VLOOKUP(LEFT($A14,3),Feuil2!$A:$D,4)),0)) -> 28330
A15: BEN 14 | B15: GPDG | D15: BENNE | E15: RENAULT | F15: MASTER | T15: 120 | V15: =MID(A16,1,3) -> BEN | W15: {=_xlfn.IFS(LEFT(A15)="B",1,LEFT(A15)="R",2,LEFT(A15)="T",2,LEFT(A15)="V",2,LEFT(A15)="","")} -> 1 | X15: 10 | AA15: =12*Z15 -> 0 | AB15: =YEAR(I15) -> 1900 | AC15: =ROUND(Z15+AB15,0) -> 1900 | AN15: =$AD15-IF(AN$1<=$AC15,0,IF(AN$1>IF($AC15<2022,2022,$AC15),IF(AN$1-IF($AC15<2022,2022,$AC15)=1,$AD15*VLOOKUP(LEFT($A15,3),Feuil2!$A:$D,3,0),$AD15*VLOOKUP(LEFT($A15,3),Feuil2!$A:$D,4)),0)) -> 0 | AO15: =$AD15-IF(AO$1<=$AC15,0,IF(AO$1>IF($AC15<2022,2022,$AC15),IF(AO$1-IF($AC15<2022,2022,$AC15)=1,$AD15*VLOOKUP(LEFT($A15,3),Feuil2!$A:$D,3,0),$AD15*VLOOKUP(LEFT($A15,3),Feuil2!$A:$D,4)),0)) -> 0
A16: BEN 15 | B16: GPDG | D16: BENNE | E16: RENAULT | F16: MASTER | T16: 120 | V16: =MID(A17,1,3) -> BEN | W16: {=_xlfn.IFS(LEFT(A16)="B",1,LEFT(A16)="R",2,LEFT(A16)="T",2,LEFT(A16)="V",2,LEFT(A16)="","")} -> 1 | X16: 10 | AA16: =12*Z16 -> 0 | AB16: =YEAR(I16) -> 1900 | AC16: =ROUND(Z16+AB16,0) -> 1900 | AN16: =$AD16-IF(AN$1<=$AC16,0,IF(AN$1>IF($AC16<2022,2022,$AC16),IF(AN$1-IF($AC16<2022,2022,$AC16)=1,$AD16*VLOOKUP(LEFT($A16,3),Feuil2!$A:$D,3,0),$AD16*VLOOKUP(LEFT($A16,3),Feuil2!$A:$D,4)),0)) -> 0 | AO16: =$AD16-IF(AO$1<=$AC16,0,IF(AO$1>IF($AC16<2022,2022,$AC16),IF(AO$1-IF($AC16<2022,2022,$AC16)=1,$AD16*VLOOKUP(LEFT($A16,3),Feuil2!$A:$D,3,0),$AD16*VLOOKUP(LEFT($A16,3),Feuil2!$A:$D,4)),0)) -> 0
A17: BEN 16 | B17: GPDG | D17: BENNE | E17: PIAGGIO | F17: PORTER NP6 | T17: 120 | V17: =MID(A18,1,3) | W17: {=_xlfn.IFS(LEFT(A17)="B",1,LEFT(A17)="R",2,LEFT(A17)="T",2,LEFT(A17)="V",2,LEFT(A17)="","")} -> 1 | X17: 10 | AA17: =12*Z17 -> 0 | AB17: =YEAR(I17) -> 1900 | AC17: =ROUND(Z17+AB17,0) -> 1900 | AN17: =$AD17-IF(AN$1<=$AC17,0,IF(AN$1>IF($AC17<2022,2022,$AC17),IF(AN$1-IF($AC17<2022,2022,$AC17)=1,$AD17*VLOOKUP(LEFT($A17,3),Feuil2!$A:$D,3,0),$AD17*VLOOKUP(LEFT($A17,3),Feuil2!$A:$D,4)),0)) -> 0 | AO17: =$AD17-IF(AO$1<=$AC17,0,IF(AO$1>IF($AC17<2022,2022,$AC17),IF(AO$1-IF($AC17<2022,2022,$AC17)=1,$AD17*VLOOKUP(LEFT($A17,3),Feuil2!$A:$D,3,0),$AD17*VLOOKUP(LEFT($A17,3),Feuil2!$A:$D,4)),0)) -> 0
V18: =MID(A19,1,3) -> PL | W18: {=_xlfn.IFS(LEFT(A18)="B",1,LEFT(A18)="R",2,LEFT(A18)="T",2,LEFT(A18)="V",2,LEFT(A18)="","")}
A19: PL 001 | B19: GPDG | D19: POID LOURD | E19: RENAULT | F19: S180 | J19: 17000 | L19: 48 | R19: 642.24 | T19: 120 | V19: =MID(A20,1,3)
V20: =MID(A21,1,3) -> VL | W20: {=_xlfn.IFS(LEFT(A20)="B",1,LEFT(A20)="R",2,LEFT(A20)="T",2,LEFT(A20)="V",2,LEFT(A20)="","")}
A21: VL 001 | B21: GPDG | D21: VEHICULE LEGER | E21: RENAULT | F21: CLIO | I21: 42753 | J21: 1900 | L21: 36 | T21: 120 | V21: =MID(A22,1,3) -> VL | W21: {=_xlfn.IFS(LEFT(A21)="B",1,LEFT(A21)="R",2,LEFT(A21)="T",2,LEFT(A21)="V",2,LEFT(A21)="","")} -> 2 | X21: 10 | Z21: 3 | AA21: =12*Z21 -> 36 | AB21: =YEAR(I21) -> 2017 | AC21: =Z21+AB21 -> 2020 | AD21: 1900
A22: VL 002 | B22: GPDG | D22: VEHICULE LEGER | E22: RENAULT | F22: KANGOO | I22: 42856 | J22: 5495 | L22: 48 | M22: 44290 | R22: 445.5 | T22: 120 | V22: =MID(A23,1,3) -> VL | W22: {=_xlfn.IFS(LEFT(A22)="B",1,LEFT(A22)="R",2,LEFT(A22)="T",2,LEFT(A22)="V",2,LEFT(A22)="","")} -> 2 | X22: 10 | Z22: 3 | AA22: =12*Z22 -> 36 | AB22: =YEAR(I22) -> 2017 | AC22: =Z22+AB22 -> 2020 | AD22: 12461
A23: VL 003 | B23: GPDG | D23: VEHICULE LEGER | E23: PEUGEOT | F23: EXPERT | I23: 43069 | J23: 19906.9 | L23: 48 | M23: 44500 | R23: 445.5 | T23: 120 | V23: =MID(A24,1,3) -> VL | W23: {=_xlfn.IFS(LEFT(A23)="B",1,LEFT(A23)="R",2,LEFT(A23)="T",2,LEFT(A23)="V",2,LEFT(A23)="","")} -> 2 | X23: 10 | Z23: 5 | AA23: =12*Z23 -> 60 | AB23: =YEAR(I23) -> 2017 | AC23: =Z23+AB23 -> 2022 | AD23: 15000
A24: VL 004 | B24: GPDG | D24: VEHICULE LEGER | E24: RENAULT | F24: MASTER | I24: 43553 | J24: 17306.67 | L24: 48 | M24: 45077 | R24: 540 | T24: 120 | V24: =MID(A25,1,3) -> VL | W24: {=_xlfn.IFS(LEFT(A24)="B",1,LEFT(A24)="R",2,LEFT(A24)="T",2,LEFT(A24)="V",2,LEFT(A24)="","")} -> 2 | X24: 10 | Z24: 5 | AA24: =12*Z24 -> 60 | AB24: =YEAR(I24) -> 2019 | AC24: =Z24+AB24 -> 2024 | AD24: 17306.67
A25: VL 005 | B25: GPDG | D25: VEHICULE LEGER | E25: IVECO | F25: DAILY | I25: 43701 | J25: 23750 | L25: 62 | M25: 45540 | R25: 585 | T25: 120 | V25: =MID(A26,1,3) -> VL | W25: {=_xlfn.IFS(LEFT(A25)="B",1,LEFT(A25)="R",2,LEFT(A25)="T",2,LEFT(A25)="V",2,LEFT(A25)="","")} -> 2 | X25: 10 | Z25: 5.166666 | AA25: =12*Z25 -> 61.999992 | AB25: =YEAR(I25) -> 2019 | AC25: =Z25+AB25 -> 2024.1667 | AD25: 23750
A26: VL 006 | B26: GPDG | D26: VEHICULE LEGER | E26: RENAULT | F26: CLIO | I26: 43929 | J26: 4302.79 | L26: 48 | M26: 45448 | R26: 396 | T26: 120 | V26: =MID(A27,1,3) -> VL | W26: {=_xlfn.IFS(LEFT(A26)="B",1,LEFT(A26)="R",2,LEFT(A26)="T",2,LEFT(A26)="V",2,LEFT(A26)="","")} -> 2 | X26: 10 | Z26: 5 | AA26: =12*Z26 -> 60 | AB26: =YEAR(I26) -> 2020 | AC26: =Z26+AB26 -> 2025 | AD26: 4302.79
A27: VL 007 | B27: GPDG | D27: VEHICULE LEGER | E27: FIAT | F27: TALENTO | I27: 44279 | J27: 21541.88 | L27: 48 | M27: 45728 | R27: 445.5 | T27: 120 | V27: =MID(A28,1,3) -> VL | W27: {=_xlfn.IFS(LEFT(A27)="B",1,LEFT(A27)="R",2,LEFT(A27)="T",2,LEFT(A27)="V",2,LEFT(A27)="","")} -> 2 | X27: 10 | Z27: 4 | AA27: =12*Z27 -> 48 | AB27: =YEAR(I27) -> 2021 | AC27: =Z27+AB27 -> 2025 | AD27: 21541.88
A28: VL 008 | B28: GPDG | D28: VEHICULE LEGER | E28: TOYOTA | F28: PRAOCE CITY | I28: 44535 | J28: 17799.16 | L28: 48 | M28: 45959 | R28: 445.5 | S28: 0 | T28: 120 | V28: =MID(A29,1,3) -> VL | W28: {=_xlfn.IFS(LEFT(A28)="B",1,LEFT(A28)="R",2,LEFT(A28)="T",2,LEFT(A28)="V",2,LEFT(A28)="","")} -> 2 | X28: 10 | Z28: 4 | AA28: =12*Z28 -> 48 | AB28: =YEAR(I28) -> 2021 | AC28: =Z28+AB28 -> 2025 | AD28: 20209.38
A29: VL 009 | B29: GPDG | D29: VEHICULE LEGER | E29: TOYOTA | F29: YARIS | I29: 44376 | J29: 22801.28 | L29: 49 | R29: 180 | T29: 120 | V29: =MID(A30,1,3) -> VL | W29: {=_xlfn.IFS(LEFT(A29)="B",1,LEFT(A29)="R",2,LEFT(A29)="T",2,LEFT(A29)="V",2,LEFT(A29)="","")} -> 2 | X29: 10 | Z29: 4.083 | AA29: 49 | AB29: =YEAR(I29) -> 2021 | AC29: =Z29+AB29 -> 2025.083 | AD29: 22801.28
A30: VL 010 | B30: GPDG | D30: VEHICULE LEGER | E30: RENAULT | F30: ZOE | I30: 44999 | J30: 22918.96 | L30: 60 | S30: 0 | T30: 120 | V30: =MID(A31,1,3) -> vP. | W30: {=_xlfn.IFS(LEFT(A30)="B",1,LEFT(A30)="R",2,LEFT(A30)="T",2,LEFT(A30)="V",2,LEFT(A30)="","")} -> 2 | X30: 10 | Z30: 5 | AA30: =12*Z30 -> 60 | AB30: =YEAR(I30) -> 2023 | AC30: =Z30+AB30 -> 2028 | AD30: 22918.96
A31: vP.UP 1 | D31: VEHICULE LEGER | E31: TOYOTA | F31: HILUX | I31: 42885 | J31: 28533.4 | L31: 66 | M31: 44867 | R31: 405 | T31: 120 | V31: =MID(A32,1,3) | W31: {=_xlfn.IFS(LEFT(A31)="B",1,LEFT(A31)="R",2,LEFT(A31)="T",2,LEFT(A31)="V",2,LEFT(A31)="","")} -> 2 | X31: 10 | Z31: 3 | AA31: =12*Z31 -> 36 | AB31: =YEAR(I31) -> 2017 | AC31: =Z31+AB31 -> 2020 | AD31: 28533.4
V32: =MID(A33,1,3) -> REM | W32: {=_xlfn.IFS(LEFT(A32)="B",1,LEFT(A32)="R",2,LEFT(A32)="T",2,LEFT(A32)="V",2,LEFT(A32)="","")}
A33: REM XX | D33: REMORQUE / BROYEUR | E33: LIDER | F33: CADIX | T33: 80 | V33: =MID(A34,1,3) -> REM | W33: {=_xlfn.IFS(LEFT(A33)="B",1,LEFT(A33)="R",2,LEFT(A33)="T",2,LEFT(A33)="V",2,LEFT(A33)="","")} -> 2 | X33: 5 | AA33: =12*Z33 -> 0 | AB33: =YEAR(I33) -> 1900 | AC33: =Z33+AB33 -> 1900 | AE33: =IF(AE$1<$AC33,0,IF(AE$1>$AC33,IF('Véhicules MAJ 20012022'!AE$1-'Véhicules MAJ 20012022'!$AC33=1,$AD33*VLOOKUP(LEFT($A33,3),Feuil2!$A:$D,3,0),$AD33*VLOOKUP(LEFT($A33,3),Feuil2!$A:$D,4)),0)) -> 0 | AF33: =IF(AF$1<$AC33,0,IF(AF$1>$AC33,IF('Véhicules MAJ 20012022'!AF$1-'Véhicules MAJ 20012022'!$AC33=1,$AD33*VLOOKUP(LEFT($A33,3),Feuil2!$A:$D,3,0),$AD33*VLOOKUP(LEFT($A33,3),Feuil2!$A:$D,4)),0)) -> 0 | AG33: =IF(AG$1<$AC33,0,IF(AG$1>$AC33,IF('Véhicules MAJ 20012022'!AG$1-'Véhicules MAJ 20012022'!$AC33=1,$AD33*VLOOKUP(LEFT($A33,3),Feuil2!$A:$D,3,0),$AD33*VLOOKUP(LEFT($A33,3),Feuil2!$A:$D,4)),0)) -> 0 | AH33: =IF(AH$1<$AC33,0,IF(AH$1>$AC33,IF('Véhicules MAJ 20012022'!AH$1-'Véhicules MAJ 20012022'!$AC33=1,$AD33*VLOOKUP(LEFT($A33,3),Feuil2!$A:$D,3,0),$AD33*VLOOKUP(LEFT($A33,3),Feuil2!$A:$D,4)),0)) -> 0 | AI33: =IF(AI$1<$AC33,0,IF(AI$1>$AC33,IF('Véhicules MAJ 20012022'!AI$1-'Véhicules MAJ 20012022'!$AC33=1,$AD33*VLOOKUP(LEFT($A33,3),Feuil2!$A:$D,3,0),$AD33*VLOOKUP(LEFT($A33,3),Feuil2!$A:$D,4)),0)) -> 0 | AJ33: =IF(AJ$1<$AC33,0,IF(AJ$1>$AC33,IF('Véhicules MAJ 20012022'!AJ$1-'Véhicules MAJ 20012022'!$AC33=1,$AD33*VLOOKUP(LEFT($A33,3),Feuil2!$A:$D,3,0),$AD33*VLOOKUP(LEFT($A33,3),Feuil2!$A:$D,4)),0)) -> 0 | AK33: =IF(AK$1<$AC33,0,IF(AK$1>$AC33,IF('Véhicules MAJ 20012022'!AK$1-'Véhicules MAJ 20012022'!$AC33=1,$AD33*VLOOKUP(LEFT($A33,3),Feuil2!$A:$D,3,0),$AD33*VLOOKUP(LEFT($A33,3),Feuil2!$A:$D,4)),0)) -> 0 | AL33: =IF(AL$1<$AC33,0,IF(AL$1>$AC33,IF('Véhicules MAJ 20012022'!AL$1-'Véhicules MAJ 20012022'!$AC33=1,$AD33*VLOOKUP(LEFT($A33,3),Feuil2!$A:$D,3,0),$AD33*VLOOKUP(LEFT($A33,3),Feuil2!$A:$D,4)),0)) -> 0 | ... AP33: =IF(AP$1<$AC33,0,IF(AP$1>$AC33,IF('Véhicules MAJ 20012022'!AP$1-'Véhicules MAJ 20012022'!$AC33=1,$AD33*VLOOKUP(LEFT($A33,3),Feuil2!$A:$D,3,0),$AD33*VLOOKUP(LEFT($A33,3),Feuil2!$A:$D,4)),0)) -> 0
A34: REM 01 | D34: REMORQUE / BROYEUR | E34: LIDER | F34: GRILLAGE | J34: 1200 | T34: 80 | V34: =MID(A35,1,3) -> REM | W34: {=_xlfn.IFS(LEFT(A34)="B",1,LEFT(A34)="R",2,LEFT(A34)="T",2,LEFT(A34)="V",2,LEFT(A34)="","")} -> 2 | X34: 5 | AA34: =12*Z34 -> 0 | AB34: =YEAR(I34) -> 1900 | AC34: =Z34+AB34 -> 1900 | AD34: 1200 | AE34: =IF(AE$1<$AC34,0,IF(AE$1>$AC34,IF('Véhicules MAJ 20012022'!AE$1-'Véhicules MAJ 20012022'!$AC34=1,$AD34*VLOOKUP(LEFT($A34,3),Feuil2!$A:$D,3,0),$AD34*VLOOKUP(LEFT($A34,3),Feuil2!$A:$D,4)),0)) -> 84 | AF34: =IF(AF$1<$AC34,0,IF(AF$1>$AC34,IF('Véhicules MAJ 20012022'!AF$1-'Véhicules MAJ 20012022'!$AC34=1,$AD34*VLOOKUP(LEFT($A34,3),Feuil2!$A:$D,3,0),$AD34*VLOOKUP(LEFT($A34,3),Feuil2!$A:$D,4)),0)) -> 84 | AG34: =IF(AG$1<$AC34,0,IF(AG$1>$AC34,IF('Véhicules MAJ 20012022'!AG$1-'Véhicules MAJ 20012022'!$AC34=1,$AD34*VLOOKUP(LEFT($A34,3),Feuil2!$A:$D,3,0),$AD34*VLOOKUP(LEFT($A34,3),Feuil2!$A:$D,4)),0)) -> 84 | AH34: =IF(AH$1<$AC34,0,IF(AH$1>$AC34,IF('Véhicules MAJ 20012022'!AH$1-'Véhicules MAJ 20012022'!$AC34=1,$AD34*VLOOKUP(LEFT($A34,3),Feuil2!$A:$D,3,0),$AD34*VLOOKUP(LEFT($A34,3),Feuil2!$A:$D,4)),0)) -> 84 | AI34: =IF(AI$1<$AC34,0,IF(AI$1>$AC34,IF('Véhicules MAJ 20012022'!AI$1-'Véhicules MAJ 20012022'!$AC34=1,$AD34*VLOOKUP(LEFT($A34,3),Feuil2!$A:$D,3,0),$AD34*VLOOKUP(LEFT($A34,3),Feuil2!$A:$D,4)),0)) -> 84 | AJ34: =IF(AJ$1<$AC34,0,IF(AJ$1>$AC34,IF('Véhicules MAJ 20012022'!AJ$1-'Véhicules MAJ 20012022'!$AC34=1,$AD34*VLOOKUP(LEFT($A34,3),Feuil2!$A:$D,3,0),$AD34*VLOOKUP(LEFT($A34,3),Feuil2!$A:$D,4)),0)) -> 84 | AK34: =IF(AK$1<$AC34,0,IF(AK$1>$AC34,IF('Véhicules MAJ 20012022'!AK$1-'Véhicules MAJ 20012022'!$AC34=1,$AD34*VLOOKUP(LEFT($A34,3),Feuil2!$A:$D,3,0),$AD34*VLOOKUP(LEFT($A34,3),Feuil2!$A:$D,4)),0)) -> 84 | AL34: =IF(AL$1<$AC34,0,IF(AL$1>$AC34,IF('Véhicules MAJ 20012022'!AL$1-'Véhicules MAJ 20012022'!$AC34=1,$AD34*VLOOKUP(LEFT($A34,3),Feuil2!$A:$D,3,0),$AD34*VLOOKUP(LEFT($A34,3),Feuil2!$A:$D,4)),0)) -> 84 | ... AP34: =IF(AP$1<$AC34,0,IF(AP$1>$AC34,IF('Véhicules MAJ 20012022'!AP$1-'Véhicules MAJ 20012022'!$AC34=1,$AD34*VLOOKUP(LEFT($A34,3),Feuil2!$A:$D,3,0),$AD34*VLOOKUP(LEFT($A34,3),Feuil2!$A:$D,4)),0)) -> 0
A35: REM 02 | D35: REMORQUE / BROYEUR | E35: ECIM | F35: TRI BENNE | G35: VNC2AF350DV000644 | J35: 1024.25 | T35: 80 | U35: X | V35: =MID(A36,1,3) -> REM | W35: {=_xlfn.IFS(LEFT(A35)="B",1,LEFT(A35)="R",2,LEFT(A35)="T",2,LEFT(A35)="V",2,LEFT(A35)="","")} -> 2 | X35: 5 | AA35: =12*Z35 -> 0 | AB35: =YEAR(I35) -> 1900 | AC35: =Z35+AB35 -> 1900 | AD35: 1024.25 | AE35: =IF(AE$1<$AC35,0,IF(AE$1>$AC35,IF('Véhicules MAJ 20012022'!AE$1-'Véhicules MAJ 20012022'!$AC35=1,$AD35*VLOOKUP(LEFT($A35,3),Feuil2!$A:$D,3,0),$AD35*VLOOKUP(LEFT($A35,3),Feuil2!$A:$D,4)),0)) -> 71.6975 | AF35: =IF(AF$1<$AC35,0,IF(AF$1>$AC35,IF('Véhicules MAJ 20012022'!AF$1-'Véhicules MAJ 20012022'!$AC35=1,$AD35*VLOOKUP(LEFT($A35,3),Feuil2!$A:$D,3,0),$AD35*VLOOKUP(LEFT($A35,3),Feuil2!$A:$D,4)),0)) -> 71.6975 | AG35: =IF(AG$1<$AC35,0,IF(AG$1>$AC35,IF('Véhicules MAJ 20012022'!AG$1-'Véhicules MAJ 20012022'!$AC35=1,$AD35*VLOOKUP(LEFT($A35,3),Feuil2!$A:$D,3,0),$AD35*VLOOKUP(LEFT($A35,3),Feuil2!$A:$D,4)),0)) -> 71.6975 | AH35: =IF(AH$1<$AC35,0,IF(AH$1>$AC35,IF('Véhicules MAJ 20012022'!AH$1-'Véhicules MAJ 20012022'!$AC35=1,$AD35*VLOOKUP(LEFT($A35,3),Feuil2!$A:$D,3,0),$AD35*VLOOKUP(LEFT($A35,3),Feuil2!$A:$D,4)),0)) -> 71.6975 | AI35: =IF(AI$1<$AC35,0,IF(AI$1>$AC35,IF('Véhicules MAJ 20012022'!AI$1-'Véhicules MAJ 20012022'!$AC35=1,$AD35*VLOOKUP(LEFT($A35,3),Feuil2!$A:$D,3,0),$AD35*VLOOKUP(LEFT($A35,3),Feuil2!$A:$D,4)),0)) -> 71.6975 | AJ35: =IF(AJ$1<$AC35,0,IF(AJ$1>$AC35,IF('Véhicules MAJ 20012022'!AJ$1-'Véhicules MAJ 20012022'!$AC35=1,$AD35*VLOOKUP(LEFT($A35,3),Feuil2!$A:$D,3,0),$AD35*VLOOKUP(LEFT($A35,3),Feuil2!$A:$D,4)),0)) -> 71.6975 | AK35: =IF(AK$1<$AC35,0,IF(AK$1>$AC35,IF('Véhicules MAJ 20012022'!AK$1-'Véhicules MAJ 20012022'!$AC35=1,$AD35*VLOOKUP(LEFT($A35,3),Feuil2!$A:$D,3,0),$AD35*VLOOKUP(LEFT($A35,3),Feuil2!$A:$D,4)),0)) -> 71.6975 | AL35: =IF(AL$1<$AC35,0,IF(AL$1>$AC35,IF('Véhicules MAJ 20012022'!AL$1-'Véhicules MAJ 20012022'!$AC35=1,$AD35*VLOOKUP(LEFT($A35,3),Feuil2!$A:$D,3,0),$AD35*VLOOKUP(LEFT($A35,3),Feuil2!$A:$D,4)),0)) -> 71.6975 | ... AP35: =IF(AP$1<$AC35,0,IF(AP$1>$AC35,IF('Véhicules MAJ 20012022'!AP$1-'Véhicules MAJ 20012022'!$AC35=1,$AD35*VLOOKUP(LEFT($A35,3),Feuil2!$A:$D,3,0),$AD35*VLOOKUP(LEFT($A35,3),Feuil2!$A:$D,4)),0)) -> 0
A36: REM 03 | D36: REMORQUE / BROYEUR | E36: LIDER | F36: GRD PLATEAU | G36: VN52L266020140161 | J36: 4329 | L36: 60 | T36: 80 | U36: X | V36: =MID(A37,1,3) -> REM | W36: {=_xlfn.IFS(LEFT(A36)="B",1,LEFT(A36)="R",2,LEFT(A36)="T",2,LEFT(A36)="V",2,LEFT(A36)="","")} -> 2 | X36: 5 | Z36: 5 | AA36: =12*Z36 -> 60 | AB36: =YEAR(I36) -> 1900 | AC36: =Z36+AB36 -> 1905 | AD36: 4329 | AE36: =IF(AE$1<$AC36,0,IF(AE$1>$AC36,IF('Véhicules MAJ 20012022'!AE$1-'Véhicules MAJ 20012022'!$AC36=1,$AD36*VLOOKUP(LEFT($A36,3),Feuil2!$A:$D,3,0),$AD36*VLOOKUP(LEFT($A36,3),Feuil2!$A:$D,4)),0)) -> 303.03 | AF36: =IF(AF$1<$AC36,0,IF(AF$1>$AC36,IF('Véhicules MAJ 20012022'!AF$1-'Véhicules MAJ 20012022'!$AC36=1,$AD36*VLOOKUP(LEFT($A36,3),Feuil2!$A:$D,3,0),$AD36*VLOOKUP(LEFT($A36,3),Feuil2!$A:$D,4)),0)) -> 303.03 | AG36: =IF(AG$1<$AC36,0,IF(AG$1>$AC36,IF('Véhicules MAJ 20012022'!AG$1-'Véhicules MAJ 20012022'!$AC36=1,$AD36*VLOOKUP(LEFT($A36,3),Feuil2!$A:$D,3,0),$AD36*VLOOKUP(LEFT($A36,3),Feuil2!$A:$D,4)),0)) -> 303.03 | AH36: =IF(AH$1<$AC36,0,IF(AH$1>$AC36,IF('Véhicules MAJ 20012022'!AH$1-'Véhicules MAJ 20012022'!$AC36=1,$AD36*VLOOKUP(LEFT($A36,3),Feuil2!$A:$D,3,0),$AD36*VLOOKUP(LEFT($A36,3),Feuil2!$A:$D,4)),0)) -> 303.03 | AI36: =IF(AI$1<$AC36,0,IF(AI$1>$AC36,IF('Véhicules MAJ 20012022'!AI$1-'Véhicules MAJ 20012022'!$AC36=1,$AD36*VLOOKUP(LEFT($A36,3),Feuil2!$A:$D,3,0),$AD36*VLOOKUP(LEFT($A36,3),Feuil2!$A:$D,4)),0)) -> 303.03 | AJ36: =IF(AJ$1<$AC36,0,IF(AJ$1>$AC36,IF('Véhicules MAJ 20012022'!AJ$1-'Véhicules MAJ 20012022'!$AC36=1,$AD36*VLOOKUP(LEFT($A36,3),Feuil2!$A:$D,3,0),$AD36*VLOOKUP(LEFT($A36,3),Feuil2!$A:$D,4)),0)) -> 303.03 | AK36: =IF(AK$1<$AC36,0,IF(AK$1>$AC36,IF('Véhicules MAJ 20012022'!AK$1-'Véhicules MAJ 20012022'!$AC36=1,$AD36*VLOOKUP(LEFT($A36,3),Feuil2!$A:$D,3,0),$AD36*VLOOKUP(LEFT($A36,3),Feuil2!$A:$D,4)),0)) -> 303.03 | AL36: =IF(AL$1<$AC36,0,IF(AL$1>$AC36,IF('Véhicules MAJ 20012022'!AL$1-'Véhicules MAJ 20012022'!$AC36=1,$AD36*VLOOKUP(LEFT($A36,3),Feuil2!$A:$D,3,0),$AD36*VLOOKUP(LEFT($A36,3),Feuil2!$A:$D,4)),0)) -> 303.03 | ... AP36: =IF(AP$1<$AC36,0,IF(AP$1>$AC36,IF('Véhicules MAJ 20012022'!AP$1-'Véhicules MAJ 20012022'!$AC36=1,$AD36*VLOOKUP(LEFT($A36,3),Feuil2!$A:$D,3,0),$AD36*VLOOKUP(LEFT($A36,3),Feuil2!$A:$D,4)),0)) -> 0
A37: REM 04 | D37: REMORQUE / BROYEUR | E37: LIDER | F37: PETIT PLATEAU | G37: VN52L138520150077 | T37: 80 | U37: X | V37: =MID(A38,1,3) -> REM | W37: {=_xlfn.IFS(LEFT(A37)="B",1,LEFT(A37)="R",2,LEFT(A37)="T",2,LEFT(A37)="V",2,LEFT(A37)="","")} -> 2 | X37: 5 | AA37: =12*Z37 -> 0 | AB37: =YEAR(I37) -> 1900 | AC37: =Z37+AB37 -> 1900 | AE37: =IF(AE$1<$AC37,0,IF(AE$1>$AC37,IF('Véhicules MAJ 20012022'!AE$1-'Véhicules MAJ 20012022'!$AC37=1,$AD37*VLOOKUP(LEFT($A37,3),Feuil2!$A:$D,3,0),$AD37*VLOOKUP(LEFT($A37,3),Feuil2!$A:$D,4)),0)) -> 0 | AF37: =IF(AF$1<$AC37,0,IF(AF$1>$AC37,IF('Véhicules MAJ 20012022'!AF$1-'Véhicules MAJ 20012022'!$AC37=1,$AD37*VLOOKUP(LEFT($A37,3),Feuil2!$A:$D,3,0),$AD37*VLOOKUP(LEFT($A37,3),Feuil2!$A:$D,4)),0)) -> 0 | AG37: =IF(AG$1<$AC37,0,IF(AG$1>$AC37,IF('Véhicules MAJ 20012022'!AG$1-'Véhicules MAJ 20012022'!$AC37=1,$AD37*VLOOKUP(LEFT($A37,3),Feuil2!$A:$D,3,0),$AD37*VLOOKUP(LEFT($A37,3),Feuil2!$A:$D,4)),0)) -> 0 | AH37: =IF(AH$1<$AC37,0,IF(AH$1>$AC37,IF('Véhicules MAJ 20012022'!AH$1-'Véhicules MAJ 20012022'!$AC37=1,$AD37*VLOOKUP(LEFT($A37,3),Feuil2!$A:$D,3,0),$AD37*VLOOKUP(LEFT($A37,3),Feuil2!$A:$D,4)),0)) -> 0 | AI37: =IF(AI$1<$AC37,0,IF(AI$1>$AC37,IF('Véhicules MAJ 20012022'!AI$1-'Véhicules MAJ 20012022'!$AC37=1,$AD37*VLOOKUP(LEFT($A37,3),Feuil2!$A:$D,3,0),$AD37*VLOOKUP(LEFT($A37,3),Feuil2!$A:$D,4)),0)) -> 0 | AJ37: =IF(AJ$1<$AC37,0,IF(AJ$1>$AC37,IF('Véhicules MAJ 20012022'!AJ$1-'Véhicules MAJ 20012022'!$AC37=1,$AD37*VLOOKUP(LEFT($A37,3),Feuil2!$A:$D,3,0),$AD37*VLOOKUP(LEFT($A37,3),Feuil2!$A:$D,4)),0)) -> 0 | AK37: =IF(AK$1<$AC37,0,IF(AK$1>$AC37,IF('Véhicules MAJ 20012022'!AK$1-'Véhicules MAJ 20012022'!$AC37=1,$AD37*VLOOKUP(LEFT($A37,3),Feuil2!$A:$D,3,0),$AD37*VLOOKUP(LEFT($A37,3),Feuil2!$A:$D,4)),0)) -> 0 | AL37: =IF(AL$1<$AC37,0,IF(AL$1>$AC37,IF('Véhicules MAJ 20012022'!AL$1-'Véhicules MAJ 20012022'!$AC37=1,$AD37*VLOOKUP(LEFT($A37,3),Feuil2!$A:$D,3,0),$AD37*VLOOKUP(LEFT($A37,3),Feuil2!$A:$D,4)),0)) -> 0 | ... AP37: =IF(AP$1<$AC37,0,IF(AP$1>$AC37,IF('Véhicules MAJ 20012022'!AP$1-'Véhicules MAJ 20012022'!$AC37=1,$AD37*VLOOKUP(LEFT($A37,3),Feuil2!$A:$D,3,0),$AD37*VLOOKUP(LEFT($A37,3),Feuil2!$A:$D,4)),0)) -> 0
A38: REM 05 | D38: REMORQUE / BROYEUR | E38: LIDER | F38: PETIT PLATEAU | G38: VN52L1630J1000067 | J38: 2426 | L38: 24 | T38: 80 | V38: =MID(A39,1,3) -> REM | W38: {=_xlfn.IFS(LEFT(A38)="B",1,LEFT(A38)="R",2,LEFT(A38)="T",2,LEFT(A38)="V",2,LEFT(A38)="","")} -> 2 | X38: 10 | Z38: 10 | AA38: =12*Z38 -> 120 | AB38: =YEAR(I38) -> 1900 | AC38: =Z38+AB38 -> 1910 | AD38: 2426 | AE38: =IF(AE$1<$AC38,0,IF(AE$1>$AC38,IF('Véhicules MAJ 20012022'!AE$1-'Véhicules MAJ 20012022'!$AC38=1,$AD38*VLOOKUP(LEFT($A38,3),Feuil2!$A:$D,3,0),$AD38*VLOOKUP(LEFT($A38,3),Feuil2!$A:$D,4)),0)) -> 169.82 | AF38: =IF(AF$1<$AC38,0,IF(AF$1>$AC38,IF('Véhicules MAJ 20012022'!AF$1-'Véhicules MAJ 20012022'!$AC38=1,$AD38*VLOOKUP(LEFT($A38,3),Feuil2!$A:$D,3,0),$AD38*VLOOKUP(LEFT($A38,3),Feuil2!$A:$D,4)),0)) -> 169.82 | AG38: =IF(AG$1<$AC38,0,IF(AG$1>$AC38,IF('Véhicules MAJ 20012022'!AG$1-'Véhicules MAJ 20012022'!$AC38=1,$AD38*VLOOKUP(LEFT($A38,3),Feuil2!$A:$D,3,0),$AD38*VLOOKUP(LEFT($A38,3),Feuil2!$A:$D,4)),0)) -> 169.82 | AH38: =IF(AH$1<$AC38,0,IF(AH$1>$AC38,IF('Véhicules MAJ 20012022'!AH$1-'Véhicules MAJ 20012022'!$AC38=1,$AD38*VLOOKUP(LEFT($A38,3),Feuil2!$A:$D,3,0),$AD38*VLOOKUP(LEFT($A38,3),Feuil2!$A:$D,4)),0)) -> 169.82 | AI38: =IF(AI$1<$AC38,0,IF(AI$1>$AC38,IF('Véhicules MAJ 20012022'!AI$1-'Véhicules MAJ 20012022'!$AC38=1,$AD38*VLOOKUP(LEFT($A38,3),Feuil2!$A:$D,3,0),$AD38*VLOOKUP(LEFT($A38,3),Feuil2!$A:$D,4)),0)) -> 169.82 | AJ38: =IF(AJ$1<$AC38,0,IF(AJ$1>$AC38,IF('Véhicules MAJ 20012022'!AJ$1-'Véhicules MAJ 20012022'!$AC38=1,$AD38*VLOOKUP(LEFT($A38,3),Feuil2!$A:$D,3,0),$AD38*VLOOKUP(LEFT($A38,3),Feuil2!$A:$D,4)),0)) -> 169.82 | AK38: =IF(AK$1<$AC38,0,IF(AK$1>$AC38,IF('Véhicules MAJ 20012022'!AK$1-'Véhicules MAJ 20012022'!$AC38=1,$AD38*VLOOKUP(LEFT($A38,3),Feuil2!$A:$D,3,0),$AD38*VLOOKUP(LEFT($A38,3),Feuil2!$A:$D,4)),0)) -> 169.82 | AL38: =IF(AL$1<$AC38,0,IF(AL$1>$AC38,IF('Véhicules MAJ 20012022'!AL$1-'Véhicules MAJ 20012022'!$AC38=1,$AD38*VLOOKUP(LEFT($A38,3),Feuil2!$A:$D,3,0),$AD38*VLOOKUP(LEFT($A38,3),Feuil2!$A:$D,4)),0)) -> 169.82 | ... AP38: =IF(AP$1<$AC38,0,IF(AP$1>$AC38,IF('Véhicules MAJ 20012022'!AP$1-'Véhicules MAJ 20012022'!$AC38=1,$AD38*VLOOKUP(LEFT($A38,3),Feuil2!$A:$D,3,0),$AD38*VLOOKUP(LEFT($A38,3),Feuil2!$A:$D,4)),0)) -> 0
A39: REM 06 | D39: REMORQUE / BROYEUR | E39: LIDER | F39: PETIT PLATEAU | G39: VN52L1631J1000246 | J39: 2400 | L39: 12 | T39: 80 | V39: =MID(A40,1,3) -> REM | W39: {=_xlfn.IFS(LEFT(A39)="B",1,LEFT(A39)="R",2,LEFT(A39)="T",2,LEFT(A39)="V",2,LEFT(A39)="","")} -> 2 | X39: 5 | Z39: 5 | AA39: =12*Z39 -> 60 | AB39: =YEAR(I39) -> 1900 | AC39: =Z39+AB39 -> 1905 | AD39: 2400 | AE39: =IF(AE$1<$AC39,0,IF(AE$1>$AC39,IF('Véhicules MAJ 20012022'!AE$1-'Véhicules MAJ 20012022'!$AC39=1,$AD39*VLOOKUP(LEFT($A39,3),Feuil2!$A:$D,3,0),$AD39*VLOOKUP(LEFT($A39,3),Feuil2!$A:$D,4)),0)) -> 168 | AF39: =IF(AF$1<$AC39,0,IF(AF$1>$AC39,IF('Véhicules MAJ 20012022'!AF$1-'Véhicules MAJ 20012022'!$AC39=1,$AD39*VLOOKUP(LEFT($A39,3),Feuil2!$A:$D,3,0),$AD39*VLOOKUP(LEFT($A39,3),Feuil2!$A:$D,4)),0)) -> 168 | AG39: =IF(AG$1<$AC39,0,IF(AG$1>$AC39,IF('Véhicules MAJ 20012022'!AG$1-'Véhicules MAJ 20012022'!$AC39=1,$AD39*VLOOKUP(LEFT($A39,3),Feuil2!$A:$D,3,0),$AD39*VLOOKUP(LEFT($A39,3),Feuil2!$A:$D,4)),0)) -> 168 | AH39: =IF(AH$1<$AC39,0,IF(AH$1>$AC39,IF('Véhicules MAJ 20012022'!AH$1-'Véhicules MAJ 20012022'!$AC39=1,$AD39*VLOOKUP(LEFT($A39,3),Feuil2!$A:$D,3,0),$AD39*VLOOKUP(LEFT($A39,3),Feuil2!$A:$D,4)),0)) -> 168 | AI39: =IF(AI$1<$AC39,0,IF(AI$1>$AC39,IF('Véhicules MAJ 20012022'!AI$1-'Véhicules MAJ 20012022'!$AC39=1,$AD39*VLOOKUP(LEFT($A39,3),Feuil2!$A:$D,3,0),$AD39*VLOOKUP(LEFT($A39,3),Feuil2!$A:$D,4)),0)) -> 168 | AJ39: =IF(AJ$1<$AC39,0,IF(AJ$1>$AC39,IF('Véhicules MAJ 20012022'!AJ$1-'Véhicules MAJ 20012022'!$AC39=1,$AD39*VLOOKUP(LEFT($A39,3),Feuil2!$A:$D,3,0),$AD39*VLOOKUP(LEFT($A39,3),Feuil2!$A:$D,4)),0)) -> 168 | AK39: =IF(AK$1<$AC39,0,IF(AK$1>$AC39,IF('Véhicules MAJ 20012022'!AK$1-'Véhicules MAJ 20012022'!$AC39=1,$AD39*VLOOKUP(LEFT($A39,3),Feuil2!$A:$D,3,0),$AD39*VLOOKUP(LEFT($A39,3),Feuil2!$A:$D,4)),0)) -> 168 | AL39: =IF(AL$1<$AC39,0,IF(AL$1>$AC39,IF('Véhicules MAJ 20012022'!AL$1-'Véhicules MAJ 20012022'!$AC39=1,$AD39*VLOOKUP(LEFT($A39,3),Feuil2!$A:$D,3,0),$AD39*VLOOKUP(LEFT($A39,3),Feuil2!$A:$D,4)),0)) -> 168 | ... AP39: =IF(AP$1<$AC39,0,IF(AP$1>$AC39,IF('Véhicules MAJ 20012022'!AP$1-'Véhicules MAJ 20012022'!$AC39=1,$AD39*VLOOKUP(LEFT($A39,3),Feuil2!$A:$D,3,0),$AD39*VLOOKUP(LEFT($A39,3),Feuil2!$A:$D,4)),0)) -> 0
A40: REM 07 | D40: REMORQUE / BROYEUR | E40: LIDER | F40: GRILLAGE | G40: VN51L2B23J1001231 | J40: 875 | L40: 12 | T40: 80 | V40: =MID(A41,1,3) -> REM | W40: {=_xlfn.IFS(LEFT(A40)="B",1,LEFT(A40)="R",2,LEFT(A40)="T",2,LEFT(A40)="V",2,LEFT(A40)="","")} -> 2 | X40: 5 | Z40: 3 | AA40: =12*Z40 -> 36 | AB40: =YEAR(I40) -> 1900 | AC40: =Z40+AB40 -> 1903 | AD40: 875 | AE40: =IF(AE$1<$AC40,0,IF(AE$1>$AC40,IF('Véhicules MAJ 20012022'!AE$1-'Véhicules MAJ 20012022'!$AC40=1,$AD40*VLOOKUP(LEFT($A40,3),Feuil2!$A:$D,3,0),$AD40*VLOOKUP(LEFT($A40,3),Feuil2!$A:$D,4)),0)) -> 61.25 | AF40: =IF(AF$1<$AC40,0,IF(AF$1>$AC40,IF('Véhicules MAJ 20012022'!AF$1-'Véhicules MAJ 20012022'!$AC40=1,$AD40*VLOOKUP(LEFT($A40,3),Feuil2!$A:$D,3,0),$AD40*VLOOKUP(LEFT($A40,3),Feuil2!$A:$D,4)),0)) -> 61.25 | AG40: =IF(AG$1<$AC40,0,IF(AG$1>$AC40,IF('Véhicules MAJ 20012022'!AG$1-'Véhicules MAJ 20012022'!$AC40=1,$AD40*VLOOKUP(LEFT($A40,3),Feuil2!$A:$D,3,0),$AD40*VLOOKUP(LEFT($A40,3),Feuil2!$A:$D,4)),0)) -> 61.25 | AH40: =IF(AH$1<$AC40,0,IF(AH$1>$AC40,IF('Véhicules MAJ 20012022'!AH$1-'Véhicules MAJ 20012022'!$AC40=1,$AD40*VLOOKUP(LEFT($A40,3),Feuil2!$A:$D,3,0),$AD40*VLOOKUP(LEFT($A40,3),Feuil2!$A:$D,4)),0)) -> 61.25 | AI40: =IF(AI$1<$AC40,0,IF(AI$1>$AC40,IF('Véhicules MAJ 20012022'!AI$1-'Véhicules MAJ 20012022'!$AC40=1,$AD40*VLOOKUP(LEFT($A40,3),Feuil2!$A:$D,3,0),$AD40*VLOOKUP(LEFT($A40,3),Feuil2!$A:$D,4)),0)) -> 61.25 | AJ40: =IF(AJ$1<$AC40,0,IF(AJ$1>$AC40,IF('Véhicules MAJ 20012022'!AJ$1-'Véhicules MAJ 20012022'!$AC40=1,$AD40*VLOOKUP(LEFT($A40,3),Feuil2!$A:$D,3,0),$AD40*VLOOKUP(LEFT($A40,3),Feuil2!$A:$D,4)),0)) -> 61.25 | AK40: =IF(AK$1<$AC40,0,IF(AK$1>$AC40,IF('Véhicules MAJ 20012022'!AK$1-'Véhicules MAJ 20012022'!$AC40=1,$AD40*VLOOKUP(LEFT($A40,3),Feuil2!$A:$D,3,0),$AD40*VLOOKUP(LEFT($A40,3),Feuil2!$A:$D,4)),0)) -> 61.25 | AL40: =IF(AL$1<$AC40,0,IF(AL$1>$AC40,IF('Véhicules MAJ 20012022'!AL$1-'Véhicules MAJ 20012022'!$AC40=1,$AD40*VLOOKUP(LEFT($A40,3),Feuil2!$A:$D,3,0),$AD40*VLOOKUP(LEFT($A40,3),Feuil2!$A:$D,4)),0)) -> 61.25 | ... AP40: =IF(AP$1<$AC40,0,IF(AP$1>$AC40,IF('Véhicules MAJ 20012022'!AP$1-'Véhicules MAJ 20012022'!$AC40=1,$AD40*VLOOKUP(LEFT($A40,3),Feuil2!$A:$D,3,0),$AD40*VLOOKUP(LEFT($A40,3),Feuil2!$A:$D,4)),0)) -> 0
A41: REM 08 | D41: REMORQUE / BROYEUR | E41: MECANOREM | F41: PLATEAU | G41: VHT1101LNK0007532 | T41: 80 | V41: =MID(A42,1,3) -> REM | W41: {=_xlfn.IFS(LEFT(A41)="B",1,LEFT(A41)="R",2,LEFT(A41)="T",2,LEFT(A41)="V",2,LEFT(A41)="","")} -> 2 | X41: 5 | AE41: =IF(AE$1<$AC41,0,IF(AE$1>$AC41,IF('Véhicules MAJ 20012022'!AE$1-'Véhicules MAJ 20012022'!$AC41=1,$AD41*VLOOKUP(LEFT($A41,3),Feuil2!$A:$D,3,0),$AD41*VLOOKUP(LEFT($A41,3),Feuil2!$A:$D,4)),0)) -> 0 | AF41: =IF(AF$1<$AC41,0,IF(AF$1>$AC41,IF('Véhicules MAJ 20012022'!AF$1-'Véhicules MAJ 20012022'!$AC41=1,$AD41*VLOOKUP(LEFT($A41,3),Feuil2!$A:$D,3,0),$AD41*VLOOKUP(LEFT($A41,3),Feuil2!$A:$D,4)),0)) -> 0 | AG41: =IF(AG$1<$AC41,0,IF(AG$1>$AC41,IF('Véhicules MAJ 20012022'!AG$1-'Véhicules MAJ 20012022'!$AC41=1,$AD41*VLOOKUP(LEFT($A41,3),Feuil2!$A:$D,3,0),$AD41*VLOOKUP(LEFT($A41,3),Feuil2!$A:$D,4)),0)) -> 0 | AH41: =IF(AH$1<$AC41,0,IF(AH$1>$AC41,IF('Véhicules MAJ 20012022'!AH$1-'Véhicules MAJ 20012022'!$AC41=1,$AD41*VLOOKUP(LEFT($A41,3),Feuil2!$A:$D,3,0),$AD41*VLOOKUP(LEFT($A41,3),Feuil2!$A:$D,4)),0)) -> 0 | AI41: =IF(AI$1<$AC41,0,IF(AI$1>$AC41,IF('Véhicules MAJ 20012022'!AI$1-'Véhicules MAJ 20012022'!$AC41=1,$AD41*VLOOKUP(LEFT($A41,3),Feuil2!$A:$D,3,0),$AD41*VLOOKUP(LEFT($A41,3),Feuil2!$A:$D,4)),0)) -> 0 | AJ41: =IF(AJ$1<$AC41,0,IF(AJ$1>$AC41,IF('Véhicules MAJ 20012022'!AJ$1-'Véhicules MAJ 20012022'!$AC41=1,$AD41*VLOOKUP(LEFT($A41,3),Feuil2!$A:$D,3,0),$AD41*VLOOKUP(LEFT($A41,3),Feuil2!$A:$D,4)),0)) -> 0 | AK41: =IF(AK$1<$AC41,0,IF(AK$1>$AC41,IF('Véhicules MAJ 20012022'!AK$1-'Véhicules MAJ 20012022'!$AC41=1,$AD41*VLOOKUP(LEFT($A41,3),Feuil2!$A:$D,3,0),$AD41*VLOOKUP(LEFT($A41,3),Feuil2!$A:$D,4)),0)) -> 0 | AL41: =IF(AL$1<$AC41,0,IF(AL$1>$AC41,IF('Véhicules MAJ 20012022'!AL$1-'Véhicules MAJ 20012022'!$AC41=1,$AD41*VLOOKUP(LEFT($A41,3),Feuil2!$A:$D,3,0),$AD41*VLOOKUP(LEFT($A41,3),Feuil2!$A:$D,4)),0)) -> 0 | ... AP41: =IF(AP$1<$AC41,0,IF(AP$1>$AC41,IF('Véhicules MAJ 20012022'!AP$1-'Véhicules MAJ 20012022'!$AC41=1,$AD41*VLOOKUP(LEFT($A41,3),Feuil2!$A:$D,3,0),$AD41*VLOOKUP(LEFT($A41,3),Feuil2!$A:$D,4)),0)) -> 0
A42: REM 09 | D42: REMORQUE / BROYEUR | E42: MECANOREM | F42: PLATEAU | G42: VHT1101LNK0007638 | J42: 1158.33 | L42: 24 | T42: 80 | U42: X | V42: =MID(A43,1,3) -> REM | W42: {=_xlfn.IFS(LEFT(A42)="B",1,LEFT(A42)="R",2,LEFT(A42)="T",2,LEFT(A42)="V",2,LEFT(A42)="","")} -> 2 | X42: 5 | Z42: 5 | AA42: =12*Z42 -> 60 | AB42: =YEAR(I42) -> 1900 | AC42: =Z42+AB42 -> 1905 | AD42: 1158.33 | AE42: =IF(AE$1<$AC42,0,IF(AE$1>$AC42,IF('Véhicules MAJ 20012022'!AE$1-'Véhicules MAJ 20012022'!$AC42=1,$AD42*VLOOKUP(LEFT($A42,3),Feuil2!$A:$D,3,0),$AD42*VLOOKUP(LEFT($A42,3),Feuil2!$A:$D,4)),0)) -> 81.0831 | AF42: =IF(AF$1<$AC42,0,IF(AF$1>$AC42,IF('Véhicules MAJ 20012022'!AF$1-'Véhicules MAJ 20012022'!$AC42=1,$AD42*VLOOKUP(LEFT($A42,3),Feuil2!$A:$D,3,0),$AD42*VLOOKUP(LEFT($A42,3),Feuil2!$A:$D,4)),0)) -> 81.0831 | AG42: =IF(AG$1<$AC42,0,IF(AG$1>$AC42,IF('Véhicules MAJ 20012022'!AG$1-'Véhicules MAJ 20012022'!$AC42=1,$AD42*VLOOKUP(LEFT($A42,3),Feuil2!$A:$D,3,0),$AD42*VLOOKUP(LEFT($A42,3),Feuil2!$A:$D,4)),0)) -> 81.0831 | AH42: =IF(AH$1<$AC42,0,IF(AH$1>$AC42,IF('Véhicules MAJ 20012022'!AH$1-'Véhicules MAJ 20012022'!$AC42=1,$AD42*VLOOKUP(LEFT($A42,3),Feuil2!$A:$D,3,0),$AD42*VLOOKUP(LEFT($A42,3),Feuil2!$A:$D,4)),0)) -> 81.0831 | AI42: =IF(AI$1<$AC42,0,IF(AI$1>$AC42,IF('Véhicules MAJ 20012022'!AI$1-'Véhicules MAJ 20012022'!$AC42=1,$AD42*VLOOKUP(LEFT($A42,3),Feuil2!$A:$D,3,0),$AD42*VLOOKUP(LEFT($A42,3),Feuil2!$A:$D,4)),0)) -> 81.0831 | AJ42: =IF(AJ$1<$AC42,0,IF(AJ$1>$AC42,IF('Véhicules MAJ 20012022'!AJ$1-'Véhicules MAJ 20012022'!$AC42=1,$AD42*VLOOKUP(LEFT($A42,3),Feuil2!$A:$D,3,0),$AD42*VLOOKUP(LEFT($A42,3),Feuil2!$A:$D,4)),0)) -> 81.0831 | AK42: =IF(AK$1<$AC42,0,IF(AK$1>$AC42,IF('Véhicules MAJ 20012022'!AK$1-'Véhicules MAJ 20012022'!$AC42=1,$AD42*VLOOKUP(LEFT($A42,3),Feuil2!$A:$D,3,0),$AD42*VLOOKUP(LEFT($A42,3),Feuil2!$A:$D,4)),0)) -> 81.0831 | AL42: =IF(AL$1<$AC42,0,IF(AL$1>$AC42,IF('Véhicules MAJ 20012022'!AL$1-'Véhicules MAJ 20012022'!$AC42=1,$AD42*VLOOKUP(LEFT($A42,3),Feuil2!$A:$D,3,0),$AD42*VLOOKUP(LEFT($A42,3),Feuil2!$A:$D,4)),0)) -> 81.0831 | ... AP42: =IF(AP$1<$AC42,0,IF(AP$1>$AC42,IF('Véhicules MAJ 20012022'!AP$1-'Véhicules MAJ 20012022'!$AC42=1,$AD42*VLOOKUP(LEFT($A42,3),Feuil2!$A:$D,3,0),$AD42*VLOOKUP(LEFT($A42,3),Feuil2!$A:$D,4)),0)) -> 0
A43: REM 10 | D43: REMORQUE / BROYEUR | E43: MECANOREM | F43: PLATEAU | G43: VHT1101LNL0008177 | J43: 1158.33 | L43: 24 | T43: 80 | U43: X | V43: =MID(A44,1,3) -> REM | W43: {=_xlfn.IFS(LEFT(A43)="B",1,LEFT(A43)="R",2,LEFT(A43)="T",2,LEFT(A43)="V",2,LEFT(A43)="","")} -> 2 | X43: 5 | Z43: 5 | AA43: =12*Z43 -> 60 | AB43: =YEAR(I43) -> 1900 | AC43: =Z43+AB43 -> 1905 | AD43: 1158.33 | AE43: =IF(AE$1<$AC43,0,IF(AE$1>$AC43,IF('Véhicules MAJ 20012022'!AE$1-'Véhicules MAJ 20012022'!$AC43=1,$AD43*VLOOKUP(LEFT($A43,3),Feuil2!$A:$D,3,0),$AD43*VLOOKUP(LEFT($A43,3),Feuil2!$A:$D,4)),0)) -> 81.0831 | AF43: =IF(AF$1<$AC43,0,IF(AF$1>$AC43,IF('Véhicules MAJ 20012022'!AF$1-'Véhicules MAJ 20012022'!$AC43=1,$AD43*VLOOKUP(LEFT($A43,3),Feuil2!$A:$D,3,0),$AD43*VLOOKUP(LEFT($A43,3),Feuil2!$A:$D,4)),0)) -> 81.0831 | AG43: =IF(AG$1<$AC43,0,IF(AG$1>$AC43,IF('Véhicules MAJ 20012022'!AG$1-'Véhicules MAJ 20012022'!$AC43=1,$AD43*VLOOKUP(LEFT($A43,3),Feuil2!$A:$D,3,0),$AD43*VLOOKUP(LEFT($A43,3),Feuil2!$A:$D,4)),0)) -> 81.0831 | AH43: =IF(AH$1<$AC43,0,IF(AH$1>$AC43,IF('Véhicules MAJ 20012022'!AH$1-'Véhicules MAJ 20012022'!$AC43=1,$AD43*VLOOKUP(LEFT($A43,3),Feuil2!$A:$D,3,0),$AD43*VLOOKUP(LEFT($A43,3),Feuil2!$A:$D,4)),0)) -> 81.0831 | AI43: =IF(AI$1<$AC43,0,IF(AI$1>$AC43,IF('Véhicules MAJ 20012022'!AI$1-'Véhicules MAJ 20012022'!$AC43=1,$AD43*VLOOKUP(LEFT($A43,3),Feuil2!$A:$D,3,0),$AD43*VLOOKUP(LEFT($A43,3),Feuil2!$A:$D,4)),0)) -> 81.0831 | AJ43: =IF(AJ$1<$AC43,0,IF(AJ$1>$AC43,IF('Véhicules MAJ 20012022'!AJ$1-'Véhicules MAJ 20012022'!$AC43=1,$AD43*VLOOKUP(LEFT($A43,3),Feuil2!$A:$D,3,0),$AD43*VLOOKUP(LEFT($A43,3),Feuil2!$A:$D,4)),0)) -> 81.0831 | AK43: =IF(AK$1<$AC43,0,IF(AK$1>$AC43,IF('Véhicules MAJ 20012022'!AK$1-'Véhicules MAJ 20012022'!$AC43=1,$AD43*VLOOKUP(LEFT($A43,3),Feuil2!$A:$D,3,0),$AD43*VLOOKUP(LEFT($A43,3),Feuil2!$A:$D,4)),0)) -> 81.0831 | AL43: =IF(AL$1<$AC43,0,IF(AL$1>$AC43,IF('Véhicules MAJ 20012022'!AL$1-'Véhicules MAJ 20012022'!$AC43=1,$AD43*VLOOKUP(LEFT($A43,3),Feuil2!$A:$D,3,0),$AD43*VLOOKUP(LEFT($A43,3),Feuil2!$A:$D,4)),0)) -> 81.0831 | ... AP43: =IF(AP$1<$AC43,0,IF(AP$1>$AC43,IF('Véhicules MAJ 20012022'!AP$1-'Véhicules MAJ 20012022'!$AC43=1,$AD43*VLOOKUP(LEFT($A43,3),Feuil2!$A:$D,3,0),$AD43*VLOOKUP(LEFT($A43,3),Feuil2!$A:$D,4)),0)) -> 0
A44: REM 11 | D44: REMORQUE / BROYEUR | E44: SOGEWALOT | F44: PLATEAU | G44: SVRS1AMA1LP020346 | J44: 1525.01 | L44: 24 | T44: 80 | U44: X | V44: =MID(A45,1,3) -> REM | W44: {=_xlfn.IFS(LEFT(A44)="B",1,LEFT(A44)="R",2,LEFT(A44)="T",2,LEFT(A44)="V",2,LEFT(A44)="","")} -> 2 | X44: 5 | Z44: 5 | AA44: =12*Z44 -> 60 | AB44: =YEAR(I44) -> 1900 | AC44: =Z44+AB44 -> 1905 | AD44: 1525.01 | AE44: =IF(AE$1<$AC44,0,IF(AE$1>$AC44,IF('Véhicules MAJ 20012022'!AE$1-'Véhicules MAJ 20012022'!$AC44=1,$AD44*VLOOKUP(LEFT($A44,3),Feuil2!$A:$D,3,0),$AD44*VLOOKUP(LEFT($A44,3),Feuil2!$A:$D,4)),0)) -> 106.7507 | AF44: =IF(AF$1<$AC44,0,IF(AF$1>$AC44,IF('Véhicules MAJ 20012022'!AF$1-'Véhicules MAJ 20012022'!$AC44=1,$AD44*VLOOKUP(LEFT($A44,3),Feuil2!$A:$D,3,0),$AD44*VLOOKUP(LEFT($A44,3),Feuil2!$A:$D,4)),0)) -> 106.7507 | AG44: =IF(AG$1<$AC44,0,IF(AG$1>$AC44,IF('Véhicules MAJ 20012022'!AG$1-'Véhicules MAJ 20012022'!$AC44=1,$AD44*VLOOKUP(LEFT($A44,3),Feuil2!$A:$D,3,0),$AD44*VLOOKUP(LEFT($A44,3),Feuil2!$A:$D,4)),0)) -> 106.7507 | AH44: =IF(AH$1<$AC44,0,IF(AH$1>$AC44,IF('Véhicules MAJ 20012022'!AH$1-'Véhicules MAJ 20012022'!$AC44=1,$AD44*VLOOKUP(LEFT($A44,3),Feuil2!$A:$D,3,0),$AD44*VLOOKUP(LEFT($A44,3),Feuil2!$A:$D,4)),0)) -> 106.7507 | AI44: =IF(AI$1<$AC44,0,IF(AI$1>$AC44,IF('Véhicules MAJ 20012022'!AI$1-'Véhicules MAJ 20012022'!$AC44=1,$AD44*VLOOKUP(LEFT($A44,3),Feuil2!$A:$D,3,0),$AD44*VLOOKUP(LEFT($A44,3),Feuil2!$A:$D,4)),0)) -> 106.7507 | AJ44: =IF(AJ$1<$AC44,0,IF(AJ$1>$AC44,IF('Véhicules MAJ 20012022'!AJ$1-'Véhicules MAJ 20012022'!$AC44=1,$AD44*VLOOKUP(LEFT($A44,3),Feuil2!$A:$D,3,0),$AD44*VLOOKUP(LEFT($A44,3),Feuil2!$A:$D,4)),0)) -> 106.7507 | AK44: =IF(AK$1<$AC44,0,IF(AK$1>$AC44,IF('Véhicules MAJ 20012022'!AK$1-'Véhicules MAJ 20012022'!$AC44=1,$AD44*VLOOKUP(LEFT($A44,3),Feuil2!$A:$D,3,0),$AD44*VLOOKUP(LEFT($A44,3),Feuil2!$A:$D,4)),0)) -> 106.7507 | AL44: =IF(AL$1<$AC44,0,IF(AL$1>$AC44,IF('Véhicules MAJ 20012022'!AL$1-'Véhicules MAJ 20012022'!$AC44=1,$AD44*VLOOKUP(LEFT($A44,3),Feuil2!$A:$D,3,0),$AD44*VLOOKUP(LEFT($A44,3),Feuil2!$A:$D,4)),0)) -> 106.7507 | ... AP44: =IF(AP$1<$AC44,0,IF(AP$1>$AC44,IF('Véhicules MAJ 20012022'!AP$1-'Véhicules MAJ 20012022'!$AC44=1,$AD44*VLOOKUP(LEFT($A44,3),Feuil2!$A:$D,3,0),$AD44*VLOOKUP(LEFT($A44,3),Feuil2!$A:$D,4)),0)) -> 0
A45: REM 12 | D45: REMORQUE / BROYEUR | E45: MECANOREM | F45: PLATEAU | G45: VTH1101LNL0008217 | J45: 1158.33 | L45: 24 | T45: 80 | U45: X | V45: =MID(A46,1,3) -> REM | W45: {=_xlfn.IFS(LEFT(A45)="B",1,LEFT(A45)="R",2,LEFT(A45)="T",2,LEFT(A45)="V",2,LEFT(A45)="","")} -> 2 | X45: 5 | Z45: 5 | AA45: =12*Z45 -> 60 | AB45: =YEAR(I45) -> 1900 | AC45: =Z45+AB45 -> 1905 | AD45: 1158.33 | AE45: =IF(AE$1<$AC45,0,IF(AE$1>$AC45,IF('Véhicules MAJ 20012022'!AE$1-'Véhicules MAJ 20012022'!$AC45=1,$AD45*VLOOKUP(LEFT($A45,3),Feuil2!$A:$D,3,0),$AD45*VLOOKUP(LEFT($A45,3),Feuil2!$A:$D,4)),0)) -> 81.0831 | AF45: =IF(AF$1<$AC45,0,IF(AF$1>$AC45,IF('Véhicules MAJ 20012022'!AF$1-'Véhicules MAJ 20012022'!$AC45=1,$AD45*VLOOKUP(LEFT($A45,3),Feuil2!$A:$D,3,0),$AD45*VLOOKUP(LEFT($A45,3),Feuil2!$A:$D,4)),0)) -> 81.0831 | AG45: =IF(AG$1<$AC45,0,IF(AG$1>$AC45,IF('Véhicules MAJ 20012022'!AG$1-'Véhicules MAJ 20012022'!$AC45=1,$AD45*VLOOKUP(LEFT($A45,3),Feuil2!$A:$D,3,0),$AD45*VLOOKUP(LEFT($A45,3),Feuil2!$A:$D,4)),0)) -> 81.0831 | AH45: =IF(AH$1<$AC45,0,IF(AH$1>$AC45,IF('Véhicules MAJ 20012022'!AH$1-'Véhicules MAJ 20012022'!$AC45=1,$AD45*VLOOKUP(LEFT($A45,3),Feuil2!$A:$D,3,0),$AD45*VLOOKUP(LEFT($A45,3),Feuil2!$A:$D,4)),0)) -> 81.0831 | AI45: =IF(AI$1<$AC45,0,IF(AI$1>$AC45,IF('Véhicules MAJ 20012022'!AI$1-'Véhicules MAJ 20012022'!$AC45=1,$AD45*VLOOKUP(LEFT($A45,3),Feuil2!$A:$D,3,0),$AD45*VLOOKUP(LEFT($A45,3),Feuil2!$A:$D,4)),0)) -> 81.0831 | AJ45: =IF(AJ$1<$AC45,0,IF(AJ$1>$AC45,IF('Véhicules MAJ 20012022'!AJ$1-'Véhicules MAJ 20012022'!$AC45=1,$AD45*VLOOKUP(LEFT($A45,3),Feuil2!$A:$D,3,0),$AD45*VLOOKUP(LEFT($A45,3),Feuil2!$A:$D,4)),0)) -> 81.0831 | AK45: =IF(AK$1<$AC45,0,IF(AK$1>$AC45,IF('Véhicules MAJ 20012022'!AK$1-'Véhicules MAJ 20012022'!$AC45=1,$AD45*VLOOKUP(LEFT($A45,3),Feuil2!$A:$D,3,0),$AD45*VLOOKUP(LEFT($A45,3),Feuil2!$A:$D,4)),0)) -> 81.0831 | AL45: =IF(AL$1<$AC45,0,IF(AL$1>$AC45,IF('Véhicules MAJ 20012022'!AL$1-'Véhicules MAJ 20012022'!$AC45=1,$AD45*VLOOKUP(LEFT($A45,3),Feuil2!$A:$D,3,0),$AD45*VLOOKUP(LEFT($A45,3),Feuil2!$A:$D,4)),0)) -> 81.0831 | ... AP45: =IF(AP$1<$AC45,0,IF(AP$1>$AC45,IF('Véhicules MAJ 20012022'!AP$1-'Véhicules MAJ 20012022'!$AC45=1,$AD45*VLOOKUP(LEFT($A45,3),Feuil2!$A:$D,3,0),$AD45*VLOOKUP(LEFT($A45,3),Feuil2!$A:$D,4)),0)) -> 0
A46: REM 13 | D46: REMORQUE / BROYEUR | E46: MECANOREM | F46: PLATEAU | G46: VHT1101LNM0008785 | J46: 1316.67 | L46: 24 | T46: 80 | U46: X | V46: =MID(A47,1,3) -> REM | W46: {=_xlfn.IFS(LEFT(A46)="B",1,LEFT(A46)="R",2,LEFT(A46)="T",2,LEFT(A46)="V",2,LEFT(A46)="","")} -> 2 | X46: 5 | Z46: 5 | AA46: =12*Z46 -> 60 | AB46: =YEAR(I46) -> 1900 | AC46: =Z46+AB46 -> 1905 | AD46: 1316.67 | AE46: =IF(AE$1<$AC46,0,IF(AE$1>$AC46,IF('Véhicules MAJ 20012022'!AE$1-'Véhicules MAJ 20012022'!$AC46=1,$AD46*VLOOKUP(LEFT($A46,3),Feuil2!$A:$D,3,0),$AD46*VLOOKUP(LEFT($A46,3),Feuil2!$A:$D,4)),0)) -> 92.1669 | AF46: =IF(AF$1<$AC46,0,IF(AF$1>$AC46,IF('Véhicules MAJ 20012022'!AF$1-'Véhicules MAJ 20012022'!$AC46=1,$AD46*VLOOKUP(LEFT($A46,3),Feuil2!$A:$D,3,0),$AD46*VLOOKUP(LEFT($A46,3),Feuil2!$A:$D,4)),0)) -> 92.1669 | AG46: =IF(AG$1<$AC46,0,IF(AG$1>$AC46,IF('Véhicules MAJ 20012022'!AG$1-'Véhicules MAJ 20012022'!$AC46=1,$AD46*VLOOKUP(LEFT($A46,3),Feuil2!$A:$D,3,0),$AD46*VLOOKUP(LEFT($A46,3),Feuil2!$A:$D,4)),0)) -> 92.1669 | AH46: =IF(AH$1<$AC46,0,IF(AH$1>$AC46,IF('Véhicules MAJ 20012022'!AH$1-'Véhicules MAJ 20012022'!$AC46=1,$AD46*VLOOKUP(LEFT($A46,3),Feuil2!$A:$D,3,0),$AD46*VLOOKUP(LEFT($A46,3),Feuil2!$A:$D,4)),0)) -> 92.1669 | AI46: =IF(AI$1<$AC46,0,IF(AI$1>$AC46,IF('Véhicules MAJ 20012022'!AI$1-'Véhicules MAJ 20012022'!$AC46=1,$AD46*VLOOKUP(LEFT($A46,3),Feuil2!$A:$D,3,0),$AD46*VLOOKUP(LEFT($A46,3),Feuil2!$A:$D,4)),0)) -> 92.1669 | AJ46: =IF(AJ$1<$AC46,0,IF(AJ$1>$AC46,IF('Véhicules MAJ 20012022'!AJ$1-'Véhicules MAJ 20012022'!$AC46=1,$AD46*VLOOKUP(LEFT($A46,3),Feuil2!$A:$D,3,0),$AD46*VLOOKUP(LEFT($A46,3),Feuil2!$A:$D,4)),0)) -> 92.1669 | AK46: =IF(AK$1<$AC46,0,IF(AK$1>$AC46,IF('Véhicules MAJ 20012022'!AK$1-'Véhicules MAJ 20012022'!$AC46=1,$AD46*VLOOKUP(LEFT($A46,3),Feuil2!$A:$D,3,0),$AD46*VLOOKUP(LEFT($A46,3),Feuil2!$A:$D,4)),0)) -> 92.1669 | AL46: =IF(AL$1<$AC46,0,IF(AL$1>$AC46,IF('Véhicules MAJ 20012022'!AL$1-'Véhicules MAJ 20012022'!$AC46=1,$AD46*VLOOKUP(LEFT($A46,3),Feuil2!$A:$D,3,0),$AD46*VLOOKUP(LEFT($A46,3),Feuil2!$A:$D,4)),0)) -> 92.1669 | ... AP46: =IF(AP$1<$AC46,0,IF(AP$1>$AC46,IF('Véhicules MAJ 20012022'!AP$1-'Véhicules MAJ 20012022'!$AC46=1,$AD46*VLOOKUP(LEFT($A46,3),Feuil2!$A:$D,3,0),$AD46*VLOOKUP(LEFT($A46,3),Feuil2!$A:$D,4)),0)) -> 0
A47: REM 14 | D47: REMORQUE / BROYEUR | E47: MECANOREM | F47: PLATEAU | G47: VHT1101LNM0008786 | J47: 1316.67 | L47: 24 | T47: 80 | U47: X | V47: =MID(A48,1,3) -> RBR | W47: {=_xlfn.IFS(LEFT(A47)="B",1,LEFT(A47)="R",2,LEFT(A47)="T",2,LEFT(A47)="V",2,LEFT(A47)="","")} -> 2 | X47: 5 | Z47: 5 | AA47: =12*Z47 -> 60 | AB47: =YEAR(I47) -> 1900 | AC47: =Z47+AB47 -> 1905 | AD47: 1316.67 | AE47: =IF(AE$1<$AC47,0,IF(AE$1>$AC47,IF('Véhicules MAJ 20012022'!AE$1-'Véhicules MAJ 20012022'!$AC47=1,$AD47*VLOOKUP(LEFT($A47,3),Feuil2!$A:$D,3,0),$AD47*VLOOKUP(LEFT($A47,3),Feuil2!$A:$D,4)),0)) -> 92.1669 | AF47: =IF(AF$1<$AC47,0,IF(AF$1>$AC47,IF('Véhicules MAJ 20012022'!AF$1-'Véhicules MAJ 20012022'!$AC47=1,$AD47*VLOOKUP(LEFT($A47,3),Feuil2!$A:$D,3,0),$AD47*VLOOKUP(LEFT($A47,3),Feuil2!$A:$D,4)),0)) -> 92.1669 | AG47: =IF(AG$1<$AC47,0,IF(AG$1>$AC47,IF('Véhicules MAJ 20012022'!AG$1-'Véhicules MAJ 20012022'!$AC47=1,$AD47*VLOOKUP(LEFT($A47,3),Feuil2!$A:$D,3,0),$AD47*VLOOKUP(LEFT($A47,3),Feuil2!$A:$D,4)),0)) -> 92.1669 | AH47: =IF(AH$1<$AC47,0,IF(AH$1>$AC47,IF('Véhicules MAJ 20012022'!AH$1-'Véhicules MAJ 20012022'!$AC47=1,$AD47*VLOOKUP(LEFT($A47,3),Feuil2!$A:$D,3,0),$AD47*VLOOKUP(LEFT($A47,3),Feuil2!$A:$D,4)),0)) -> 92.1669 | AI47: =IF(AI$1<$AC47,0,IF(AI$1>$AC47,IF('Véhicules MAJ 20012022'!AI$1-'Véhicules MAJ 20012022'!$AC47=1,$AD47*VLOOKUP(LEFT($A47,3),Feuil2!$A:$D,3,0),$AD47*VLOOKUP(LEFT($A47,3),Feuil2!$A:$D,4)),0)) -> 92.1669 | AJ47: =IF(AJ$1<$AC47,0,IF(AJ$1>$AC47,IF('Véhicules MAJ 20012022'!AJ$1-'Véhicules MAJ 20012022'!$AC47=1,$AD47*VLOOKUP(LEFT($A47,3),Feuil2!$A:$D,3,0),$AD47*VLOOKUP(LEFT($A47,3),Feuil2!$A:$D,4)),0)) -> 92.1669 | AK47: =IF(AK$1<$AC47,0,IF(AK$1>$AC47,IF('Véhicules MAJ 20012022'!AK$1-'Véhicules MAJ 20012022'!$AC47=1,$AD47*VLOOKUP(LEFT($A47,3),Feuil2!$A:$D,3,0),$AD47*VLOOKUP(LEFT($A47,3),Feuil2!$A:$D,4)),0)) -> 92.1669 | AL47: =IF(AL$1<$AC47,0,IF(AL$1>$AC47,IF('Véhicules MAJ 20012022'!AL$1-'Véhicules MAJ 20012022'!$AC47=1,$AD47*VLOOKUP(LEFT($A47,3),Feuil2!$A:$D,3,0),$AD47*VLOOKUP(LEFT($A47,3),Feuil2!$A:$D,4)),0)) -> 92.1669 | ... AP47: =IF(AP$1<$AC47,0,IF(AP$1>$AC47,IF('Véhicules MAJ 20012022'!AP$1-'Véhicules MAJ 20012022'!$AC47=1,$AD47*VLOOKUP(LEFT($A47,3),Feuil2!$A:$D,3,0),$AD47*VLOOKUP(LEFT($A47,3),Feuil2!$A:$D,4)),0)) -> 0
A48: RBRO 02 | B48: PDG | D48: REMORQUE / BROYEUR | E48: TIMBERWOLF | F48: TW230DHB | G48: VN52L138520150077 | I48: 42885 | J48: 23900 | L48: 60 | T48: 80 | U48: X | V48: =MID(A49,1,3) -> RBR | W48: {=_xlfn.IFS(LEFT(A48)="B",1,LEFT(A48)="R",2,LEFT(A48)="T",2,LEFT(A48)="V",2,LEFT(A48)="","")} -> 2 | X48: 10 | AA48: =12*Z48 -> 0 | AB48: =YEAR(I48) -> 2017 | AC48: =Z48+AB48 -> 2017 | AD48: 23900 | AE48: =IF(AE$1<$AC48,0,IF(AE$1>$AC48,IF('Véhicules MAJ 20012022'!AE$1-'Véhicules MAJ 20012022'!$AC48=1,$AD48*VLOOKUP(LEFT($A48,3),Feuil2!$A:$D,3,0),$AD48*VLOOKUP(LEFT($A48,3),Feuil2!$A:$D,4)),0)) -> 1195 | AF48: =IF(AF$1<$AC48,0,IF(AF$1>$AC48,IF('Véhicules MAJ 20012022'!AF$1-'Véhicules MAJ 20012022'!$AC48=1,$AD48*VLOOKUP(LEFT($A48,3),Feuil2!$A:$D,3,0),$AD48*VLOOKUP(LEFT($A48,3),Feuil2!$A:$D,4)),0)) -> 1195 | AG48: =IF(AG$1<$AC48,0,IF(AG$1>$AC48,IF('Véhicules MAJ 20012022'!AG$1-'Véhicules MAJ 20012022'!$AC48=1,$AD48*VLOOKUP(LEFT($A48,3),Feuil2!$A:$D,3,0),$AD48*VLOOKUP(LEFT($A48,3),Feuil2!$A:$D,4)),0)) -> 1195 | AH48: =IF(AH$1<$AC48,0,IF(AH$1>$AC48,IF('Véhicules MAJ 20012022'!AH$1-'Véhicules MAJ 20012022'!$AC48=1,$AD48*VLOOKUP(LEFT($A48,3),Feuil2!$A:$D,3,0),$AD48*VLOOKUP(LEFT($A48,3),Feuil2!$A:$D,4)),0)) -> 1195 | AI48: =IF(AI$1<$AC48,0,IF(AI$1>$AC48,IF('Véhicules MAJ 20012022'!AI$1-'Véhicules MAJ 20012022'!$AC48=1,$AD48*VLOOKUP(LEFT($A48,3),Feuil2!$A:$D,3,0),$AD48*VLOOKUP(LEFT($A48,3),Feuil2!$A:$D,4)),0)) -> 1195 | AJ48: =IF(AJ$1<$AC48,0,IF(AJ$1>$AC48,IF('Véhicules MAJ 20012022'!AJ$1-'Véhicules MAJ 20012022'!$AC48=1,$AD48*VLOOKUP(LEFT($A48,3),Feuil2!$A:$D,3,0),$AD48*VLOOKUP(LEFT($A48,3),Feuil2!$A:$D,4)),0)) -> 1195 | AK48: =IF(AK$1<$AC48,0,IF(AK$1>$AC48,IF('Véhicules MAJ 20012022'!AK$1-'Véhicules MAJ 20012022'!$AC48=1,$AD48*VLOOKUP(LEFT($A48,3),Feuil2!$A:$D,3,0),$AD48*VLOOKUP(LEFT($A48,3),Feuil2!$A:$D,4)),0)) -> 1195 | AL48: =IF(AL$1<$AC48,0,IF(AL$1>$AC48,IF('Véhicules MAJ 20012022'!AL$1-'Véhicules MAJ 20012022'!$AC48=1,$AD48*VLOOKUP(LEFT($A48,3),Feuil2!$A:$D,3,0),$AD48*VLOOKUP(LEFT($A48,3),Feuil2!$A:$D,4)),0)) -> 1195 | ... AP48: =IF(AP$1<$AC48,0,IF(AP$1>$AC48,IF('Véhicules MAJ 20012022'!AP$1-'Véhicules MAJ 20012022'!$AC48=1,$AD48*VLOOKUP(LEFT($A48,3),Feuil2!$A:$D,3,0),$AD48*VLOOKUP(LEFT($A48,3),Feuil2!$A:$D,4)),0)) -> 0
A49: RBRO 03 | B49: GPDG | D49: REMORQUE / BROYEUR | E49: GREENMECH | F49: EVO165TD | G49: SKHDKCA000C210706 | I49: 44439 | J49: 28800 | L49: 48 | T49: 80 | V49: =MID(A50,1,3) | W49: {=_xlfn.IFS(LEFT(A49)="B",1,LEFT(A49)="R",2,LEFT(A49)="T",2,LEFT(A49)="V",2,LEFT(A49)="","")} -> 2 | X49: 10 | AA49: =12*Z49 -> 0 | AB49: =YEAR(I49) -> 2021 | AC49: =Z49+AB49 -> 2021 | AD49: 28800 | AE49: =IF(AE$1<$AC49,0,IF(AE$1>$AC49,IF('Véhicules MAJ 20012022'!AE$1-'Véhicules MAJ 20012022'!$AC49=1,$AD49*VLOOKUP(LEFT($A49,3),Feuil2!$A:$D,3,0),$AD49*VLOOKUP(LEFT($A49,3),Feuil2!$A:$D,4)),0)) -> 1440 | AF49: =IF(AF$1<$AC49,0,IF(AF$1>$AC49,IF('Véhicules MAJ 20012022'!AF$1-'Véhicules MAJ 20012022'!$AC49=1,$AD49*VLOOKUP(LEFT($A49,3),Feuil2!$A:$D,3,0),$AD49*VLOOKUP(LEFT($A49,3),Feuil2!$A:$D,4)),0)) -> 1440 | AG49: =IF(AG$1<$AC49,0,IF(AG$1>$AC49,IF('Véhicules MAJ 20012022'!AG$1-'Véhicules MAJ 20012022'!$AC49=1,$AD49*VLOOKUP(LEFT($A49,3),Feuil2!$A:$D,3,0),$AD49*VLOOKUP(LEFT($A49,3),Feuil2!$A:$D,4)),0)) -> 1440 | AH49: =IF(AH$1<$AC49,0,IF(AH$1>$AC49,IF('Véhicules MAJ 20012022'!AH$1-'Véhicules MAJ 20012022'!$AC49=1,$AD49*VLOOKUP(LEFT($A49,3),Feuil2!$A:$D,3,0),$AD49*VLOOKUP(LEFT($A49,3),Feuil2!$A:$D,4)),0)) -> 1440 | AI49: =IF(AI$1<$AC49,0,IF(AI$1>$AC49,IF('Véhicules MAJ 20012022'!AI$1-'Véhicules MAJ 20012022'!$AC49=1,$AD49*VLOOKUP(LEFT($A49,3),Feuil2!$A:$D,3,0),$AD49*VLOOKUP(LEFT($A49,3),Feuil2!$A:$D,4)),0)) -> 1440 | AJ49: =IF(AJ$1<$AC49,0,IF(AJ$1>$AC49,IF('Véhicules MAJ 20012022'!AJ$1-'Véhicules MAJ 20012022'!$AC49=1,$AD49*VLOOKUP(LEFT($A49,3),Feuil2!$A:$D,3,0),$AD49*VLOOKUP(LEFT($A49,3),Feuil2!$A:$D,4)),0)) -> 1440 | AK49: =IF(AK$1<$AC49,0,IF(AK$1>$AC49,IF('Véhicules MAJ 20012022'!AK$1-'Véhicules MAJ 20012022'!$AC49=1,$AD49*VLOOKUP(LEFT($A49,3),Feuil2!$A:$D,3,0),$AD49*VLOOKUP(LEFT($A49,3),Feuil2!$A:$D,4)),0)) -> 1440 | AL49: =IF(AL$1<$AC49,0,IF(AL$1>$AC49,IF('Véhicules MAJ 20012022'!AL$1-'Véhicules MAJ 20012022'!$AC49=1,$AD49*VLOOKUP(LEFT($A49,3),Feuil2!$A:$D,3,0),$AD49*VLOOKUP(LEFT($A49,3),Feuil2!$A:$D,4)),0)) -> 1440 | ... AP49: =IF(AP$1<$AC49,0,IF(AP$1>$AC49,IF('Véhicules MAJ 20012022'!AP$1-'Véhicules MAJ 20012022'!$AC49=1,$AD49*VLOOKUP(LEFT($A49,3),Feuil2!$A:$D,3,0),$AD49*VLOOKUP(LEFT($A49,3),Feuil2!$A:$D,4)),0)) -> 0
V50: =MID(A51,1,3) -> TRA | W50: {=_xlfn.IFS(LEFT(A50)="B",1,LEFT(A50)="R",2,LEFT(A50)="T",2,LEFT(A50)="V",2,LEFT(A50)="","")}
A51: TRAXX | B51: GPDG | D51: ENGIN AGRICOLE | E51: CASE | F51: MXU100 PRO | G51: EKP007766 | I51: 44298 | J51: 32000 | T51: 120 | U51: X | V51: =MID(A52,1,3) -> TRA | W51: {=_xlfn.IFS(LEFT(A51)="B",1,LEFT(A51)="R",2,LEFT(A51)="T",2,LEFT(A51)="V",2,LEFT(A51)="","")} -> 2 | X51: 5 | Z51: 5 | AA51: =12*Z51 -> 60 | AB51: =YEAR(I51) -> 2021 | AC51: =Z51+AB51 -> 2026 | AD51: 32000 | AO51: =IF(AO$1<$AC51,0,IF(AO$1>$AC51,IF('Véhicules MAJ 20012022'!AO$1-'Véhicules MAJ 20012022'!$AC51=1,$AD51*VLOOKUP(LEFT($A51,3),Feuil2!$A:$D,3,0),$AD51*VLOOKUP(LEFT($A51,3),Feuil2!$A:$D,4)),0)) -> 0 | AP51: =IF(AP$1<$AC51,0,IF(AP$1>$AC51,IF('Véhicules MAJ 20012022'!AP$1-'Véhicules MAJ 20012022'!$AC51=1,$AD51*VLOOKUP(LEFT($A51,3),Feuil2!$A:$D,3,0),$AD51*VLOOKUP(LEFT($A51,3),Feuil2!$A:$D,4)),0)) -> 0
A52: TRA 01 | B52: PDG | D52: ENGIN AGRICOLE | F52: BX2200 | I52: 41061 | J52: 5500 | V52: =MID(A53,1,3) -> TRA | W52: {=_xlfn.IFS(LEFT(A52)="B",1,LEFT(A52)="R",2,LEFT(A52)="T",2,LEFT(A52)="V",2,LEFT(A52)="","")} -> 2 | X52: 5 | AA52: =12*Z52 -> 0 | AB52: =YEAR(I52) -> 2012 | AC52: =Z52+AB52 -> 2012 | AD52: 5500 | AO52: =IF(AO$1<$AC52,0,IF(AO$1>$AC52,IF('Véhicules MAJ 20012022'!AO$1-'Véhicules MAJ 20012022'!$AC52=1,$AD52*VLOOKUP(LEFT($A52,3),Feuil2!$A:$D,3,0),$AD52*VLOOKUP(LEFT($A52,3),Feuil2!$A:$D,4)),0)) -> 385 | AP52: =IF(AP$1<$AC52,0,IF(AP$1>$AC52,IF('Véhicules MAJ 20012022'!AP$1-'Véhicules MAJ 20012022'!$AC52=1,$AD52*VLOOKUP(LEFT($A52,3),Feuil2!$A:$D,3,0),$AD52*VLOOKUP(LEFT($A52,3),Feuil2!$A:$D,4)),0)) -> 0
A53: TRA 02 | B53: PDG | D53: ENGIN AGRICOLE | E53: KUBOTA | F53: G23 | G53: 20058 | I53: 41275 | V53: =MID(A54,1,3) -> TRA | W53: {=_xlfn.IFS(LEFT(A53)="B",1,LEFT(A53)="R",2,LEFT(A53)="T",2,LEFT(A53)="V",2,LEFT(A53)="","")} -> 2 | X53: 5 | AA53: =12*Z53 -> 0 | AB53: =YEAR(I53) -> 2013 | AC53: =Z53+AB53 -> 2013 | AO53: =IF(AO$1<$AC53,0,IF(AO$1>$AC53,IF('Véhicules MAJ 20012022'!AO$1-'Véhicules MAJ 20012022'!$AC53=1,$AD53*VLOOKUP(LEFT($A53,3),Feuil2!$A:$D,3,0),$AD53*VLOOKUP(LEFT($A53,3),Feuil2!$A:$D,4)),0)) -> 0 | AP53: =IF(AP$1<$AC53,0,IF(AP$1>$AC53,IF('Véhicules MAJ 20012022'!AP$1-'Véhicules MAJ 20012022'!$AC53=1,$AD53*VLOOKUP(LEFT($A53,3),Feuil2!$A:$D,3,0),$AD53*VLOOKUP(LEFT($A53,3),Feuil2!$A:$D,4)),0)) -> 0
A54: TRA 03 | B54: PDG | D54: ENGIN AGRICOLE | F54: MK5000 | J54: 20000 | V54: =MID(A55,1,3) -> TRA | W54: {=_xlfn.IFS(LEFT(A54)="B",1,LEFT(A54)="R",2,LEFT(A54)="T",2,LEFT(A54)="V",2,LEFT(A54)="","")} -> 2 | X54: 5 | AA54: =12*Z54 -> 0 | AB54: =YEAR(I54) -> 1900 | AC54: =Z54+AB54 -> 1900 | AD54: 20000 | AO54: =IF(AO$1<$AC54,0,IF(AO$1>$AC54,IF('Véhicules MAJ 20012022'!AO$1-'Véhicules MAJ 20012022'!$AC54=1,$AD54*VLOOKUP(LEFT($A54,3),Feuil2!$A:$D,3,0),$AD54*VLOOKUP(LEFT($A54,3),Feuil2!$A:$D,4)),0)) -> 1400 | AP54: =IF(AP$1<$AC54,0,IF(AP$1>$AC54,IF('Véhicules MAJ 20012022'!AP$1-'Véhicules MAJ 20012022'!$AC54=1,$AD54*VLOOKUP(LEFT($A54,3),Feuil2!$A:$D,3,0),$AD54*VLOOKUP(LEFT($A54,3),Feuil2!$A:$D,4)),0)) -> 0
A55: TRA 04 | B55: GPDG | D55: ENGIN AGRICOLE | E55: KUBOTA | F55: G23HD n°2 | G55: 64891 | I55: 43101 | J55: 17100 | L55: 48 | T55: 120 | V55: =MID(A56,1,3) -> TRA | W55: {=_xlfn.IFS(LEFT(A55)="B",1,LEFT(A55)="R",2,LEFT(A55)="T",2,LEFT(A55)="V",2,LEFT(A55)="","")} -> 2 | X55: 5 | Z55: 3 | AA55: =12*Z55 -> 36 | AB55: =YEAR(I55) -> 2018 | AC55: =Z55+AB55 -> 2021 | AD55: 17100 | AO55: =IF(AO$1<$AC55,0,IF(AO$1>$AC55,IF('Véhicules MAJ 20012022'!AO$1-'Véhicules MAJ 20012022'!$AC55=1,$AD55*VLOOKUP(LEFT($A55,3),Feuil2!$A:$D,3,0),$AD55*VLOOKUP(LEFT($A55,3),Feuil2!$A:$D,4)),0)) -> 1197 | AP55: =IF(AP$1<$AC55,0,IF(AP$1>$AC55,IF('Véhicules MAJ 20012022'!AP$1-'Véhicules MAJ 20012022'!$AC55=1,$AD55*VLOOKUP(LEFT($A55,3),Feuil2!$A:$D,3,0),$AD55*VLOOKUP(LEFT($A55,3),Feuil2!$A:$D,4)),0)) -> 0
A56: TRA 05 | D56: ENGIN AGRICOLE | E56: KUBOTA | F56: F280 | G56: 31370 | T56: 120 | V56: =MID(A57,1,3) -> TRA | W56: {=_xlfn.IFS(LEFT(A56)="B",1,LEFT(A56)="R",2,LEFT(A56)="T",2,LEFT(A56)="V",2,LEFT(A56)="","")} -> 2 | X56: 5 | AA56: =12*Z56 -> 0 | AB56: =YEAR(I56) -> 1900 | AC56: =Z56+AB56 -> 1900 | AO56: =IF(AO$1<$AC56,0,IF(AO$1>$AC56,IF('Véhicules MAJ 20012022'!AO$1-'Véhicules MAJ 20012022'!$AC56=1,$AD56*VLOOKUP(LEFT($A56,3),Feuil2!$A:$D,3,0),$AD56*VLOOKUP(LEFT($A56,3),Feuil2!$A:$D,4)),0)) -> 0 | AP56: =IF(AP$1<$AC56,0,IF(AP$1>$AC56,IF('Véhicules MAJ 20012022'!AP$1-'Véhicules MAJ 20012022'!$AC56=1,$AD56*VLOOKUP(LEFT($A56,3),Feuil2!$A:$D,3,0),$AD56*VLOOKUP(LEFT($A56,3),Feuil2!$A:$D,4)),0)) -> 0
A57: TRA 06 | B57: GPDG | D57: ENGIN AGRICOLE | E57: KUBOTA | F57: G23HD n°3 | G57: 66021 | I57: 43101 | J57: 17100 | L57: 36 | T57: 120 | V57: =MID(A58,1,3) -> TRA | W57: {=_xlfn.IFS(LEFT(A57)="B",1,LEFT(A57)="R",2,LEFT(A57)="T",2,LEFT(A57)="V",2,LEFT(A57)="","")} -> 2 | X57: 5 | Z57: 5 | AA57: =12*Z57 -> 60 | AB57: =YEAR(I57) -> 2018 | AC57: =Z57+AB57 -> 2023 | AD57: 17100 | AO57: =IF(AO$1<$AC57,0,IF(AO$1>$AC57,IF('Véhicules MAJ 20012022'!AO$1-'Véhicules MAJ 20012022'!$AC57=1,$AD57*VLOOKUP(LEFT($A57,3),Feuil2!$A:$D,3,0),$AD57*VLOOKUP(LEFT($A57,3),Feuil2!$A:$D,4)),0)) -> 0 | AP57: =IF(AP$1<$AC57,0,IF(AP$1>$AC57,IF('Véhicules MAJ 20012022'!AP$1-'Véhicules MAJ 20012022'!$AC57=1,$AD57*VLOOKUP(LEFT($A57,3),Feuil2!$A:$D,3,0),$AD57*VLOOKUP(LEFT($A57,3),Feuil2!$A:$D,4)),0)) -> 0
A58: TRA 07 | B58: PDG | D58: ENGIN AGRICOLE- | E58: KUBOTA | F58: BX2350 | G58: 80259 | I58: 43003 | J58: 12850 | L58: 60 | T58: 120 | V58: =MID(A59,1,3) -> TRA | W58: {=_xlfn.IFS(LEFT(A58)="B",1,LEFT(A58)="R",2,LEFT(A58)="T",2,LEFT(A58)="V",2,LEFT(A58)="","")} -> 2 | X58: 5 | Z58: 5 | AA58: =12*Z58 -> 60 | AB58: =YEAR(I58) -> 2017 | AC58: =Z58+AB58 -> 2022 | AD58: 12850 | AO58: =IF(AO$1<$AC58,0,IF(AO$1>$AC58,IF('Véhicules MAJ 20012022'!AO$1-'Véhicules MAJ 20012022'!$AC58=1,$AD58*VLOOKUP(LEFT($A58,3),Feuil2!$A:$D,3,0),$AD58*VLOOKUP(LEFT($A58,3),Feuil2!$A:$D,4)),0)) -> 6425 | AP58: =IF(AP$1<$AC58,0,IF(AP$1>$AC58,IF('Véhicules MAJ 20012022'!AP$1-'Véhicules MAJ 20012022'!$AC58=1,$AD58*VLOOKUP(LEFT($A58,3),Feuil2!$A:$D,3,0),$AD58*VLOOKUP(LEFT($A58,3),Feuil2!$A:$D,4)),0)) -> 0
A59: TRA 08 | B59: GPDG | D59: ENGIN AGRICOLE | E59: TORO | F59: TORO ZD | G59: 402208029 | J59: 2800 | L59: 36 | T59: 120 | V59: =MID(A60,1,3) -> TRA | W59: {=_xlfn.IFS(LEFT(A59)="B",1,LEFT(A59)="R",2,LEFT(A59)="T",2,LEFT(A59)="V",2,LEFT(A59)="","")} -> 2 | X59: 5 | AA59: =12*Z59 -> 0 | AB59: =YEAR(I59) -> 1900 | AC59: =Z59+AB59 -> 1900 | AD59: 2800 | AO59: =IF(AO$1<$AC59,0,IF(AO$1>$AC59,IF('Véhicules MAJ 20012022'!AO$1-'Véhicules MAJ 20012022'!$AC59=1,$AD59*VLOOKUP(LEFT($A59,3),Feuil2!$A:$D,3,0),$AD59*VLOOKUP(LEFT($A59,3),Feuil2!$A:$D,4)),0)) -> 196 | AP59: =IF(AP$1<$AC59,0,IF(AP$1>$AC59,IF('Véhicules MAJ 20012022'!AP$1-'Véhicules MAJ 20012022'!$AC59=1,$AD59*VLOOKUP(LEFT($A59,3),Feuil2!$A:$D,3,0),$AD59*VLOOKUP(LEFT($A59,3),Feuil2!$A:$D,4)),0)) -> 0
A60: TRA 09 | B60: GPDG | D60: ENGIN AGRICOLE | E60: KUBOTA | F60: KUB Z122R | G60: 11454 | I60: 44639 | J60: 6270.6 | L60: 38 | T60: 120 | V60: =MID(A61,1,3) -> TRA | W60: {=_xlfn.IFS(LEFT(A60)="B",1,LEFT(A60)="R",2,LEFT(A60)="T",2,LEFT(A60)="V",2,LEFT(A60)="","")} -> 2 | X60: 5 | AA60: =12*Z60 -> 0 | AB60: =YEAR(I60) -> 2022 | AC60: =Z60+AB60 -> 2022 | AD60: 6270.6 | AN60: =IF(AN$1<$AC60,0,IF(AN$1>$AC60,IF('Véhicules MAJ 20012022'!AN$1-'Véhicules MAJ 20012022'!$AC60=1,$AD60*VLOOKUP(LEFT($A60,3),Feuil2!$A:$D,3,0),$AD60*VLOOKUP(LEFT($A60,3),Feuil2!$A:$D,4)),0)) -> 438.942 | AO60: =IF(AO$1<$AC60,0,IF(AO$1>$AC60,IF('Véhicules MAJ 20012022'!AO$1-'Véhicules MAJ 20012022'!$AC60=1,$AD60*VLOOKUP(LEFT($A60,3),Feuil2!$A:$D,3,0),$AD60*VLOOKUP(LEFT($A60,3),Feuil2!$A:$D,4)),0)) -> 3135.3 | AP60: =IF(AP$1<$AC60,0,IF(AP$1>$AC60,IF('Véhicules MAJ 20012022'!AP$1-'Véhicules MAJ 20012022'!$AC60=1,$AD60*VLOOKUP(LEFT($A60,3),Feuil2!$A:$D,3,0),$AD60*VLOOKUP(LEFT($A60,3),Feuil2!$A:$D,4)),0)) -> 0
A61: TRA 10 | B61: GPDG | D61: ENGIN AGRICOLE | E61: KUBOTA | F61: KUB Z122R 2 | G61: 11444 | I61: 44639 | J61: 6270.6 | L61: 38 | T61: 120 | V61: =MID(A62,1,3) -> TRA | W61: {=_xlfn.IFS(LEFT(A61)="B",1,LEFT(A61)="R",2,LEFT(A61)="T",2,LEFT(A61)="V",2,LEFT(A61)="","")} -> 2 | X61: 5 | AA61: =12*Z61 -> 0 | AB61: =YEAR(I61) -> 2022 | AC61: =Z61+AB61 -> 2022 | AD61: 6270.6 | AO61: =IF(AO$1<$AC61,0,IF(AO$1>$AC61,IF('Véhicules MAJ 20012022'!AO$1-'Véhicules MAJ 20012022'!$AC61=1,$AD61*VLOOKUP(LEFT($A61,3),Feuil2!$A:$D,3,0),$AD61*VLOOKUP(LEFT($A61,3),Feuil2!$A:$D,4)),0)) -> 3135.3 | AP61: =IF(AP$1<$AC61,0,IF(AP$1>$AC61,IF('Véhicules MAJ 20012022'!AP$1-'Véhicules MAJ 20012022'!$AC61=1,$AD61*VLOOKUP(LEFT($A61,3),Feuil2!$A:$D,3,0),$AD61*VLOOKUP(LEFT($A61,3),Feuil2!$A:$D,4)),0)) -> 0
A62: TRA 11 | B62: GPDG | D62: ENGIN AGRICOLE | E62: KUBOTA | F62: G23 N° 4 | G62: 70814 | I62: 43833 | J62: 15190 | L62: 36 | T62: 120 | V62: =MID(A63,1,3) -> TRA | W62: {=_xlfn.IFS(LEFT(A62)="B",1,LEFT(A62)="R",2,LEFT(A62)="T",2,LEFT(A62)="V",2,LEFT(A62)="","")} -> 2 | X62: 5 | AA62: =12*Z62 -> 0 | AB62: =YEAR(I62) -> 2020 | AC62: =Z62+AB62 -> 2020 | AD62: 15190 | AO62: =IF(AO$1<$AC62,0,IF(AO$1>$AC62,IF('Véhicules MAJ 20012022'!AO$1-'Véhicules MAJ 20012022'!$AC62=1,$AD62*VLOOKUP(LEFT($A62,3),Feuil2!$A:$D,3,0),$AD62*VLOOKUP(LEFT($A62,3),Feuil2!$A:$D,4)),0)) -> 1063.3 | AP62: =IF(AP$1<$AC62,0,IF(AP$1>$AC62,IF('Véhicules MAJ 20012022'!AP$1-'Véhicules MAJ 20012022'!$AC62=1,$AD62*VLOOKUP(LEFT($A62,3),Feuil2!$A:$D,3,0),$AD62*VLOOKUP(LEFT($A62,3),Feuil2!$A:$D,4)),0)) -> 0
A63: TRA 12 | B63: GPDG | D63: ENGIN AGRICOLE | E63: KUBOTA | F63: KUB Z122R 3 | G63: 11553 | I63: 43833 | J63: 4710 | L63: 36 | T63: 120 | V63: =MID(A64,1,3) -> TRA | W63: {=_xlfn.IFS(LEFT(A63)="B",1,LEFT(A63)="R",2,LEFT(A63)="T",2,LEFT(A63)="V",2,LEFT(A63)="","")} -> 2 | X63: 5 | AA63: =12*Z63 -> 0 | AB63: =YEAR(I63) -> 2020 | AC63: =Z63+AB63 -> 2020 | AD63: 4710 | AO63: =IF(AO$1<$AC63,0,IF(AO$1>$AC63,IF('Véhicules MAJ 20012022'!AO$1-'Véhicules MAJ 20012022'!$AC63=1,$AD63*VLOOKUP(LEFT($A63,3),Feuil2!$A:$D,3,0),$AD63*VLOOKUP(LEFT($A63,3),Feuil2!$A:$D,4)),0)) -> 329.7 | AP63: =IF(AP$1<$AC63,0,IF(AP$1>$AC63,IF('Véhicules MAJ 20012022'!AP$1-'Véhicules MAJ 20012022'!$AC63=1,$AD63*VLOOKUP(LEFT($A63,3),Feuil2!$A:$D,3,0),$AD63*VLOOKUP(LEFT($A63,3),Feuil2!$A:$D,4)),0)) -> 0
A64: TRA 13 | B64: GPDG | D64: ENGIN AGRICOLE | E64: KUBOTA | F64: KUB Z122R 4 | G64: 11978 | I64: 44368 | J64: 5089 | L64: 36 | T64: 120 | V64: =MID(A65,1,3) -> TRA | W64: {=_xlfn.IFS(LEFT(A64)="B",1,LEFT(A64)="R",2,LEFT(A64)="T",2,LEFT(A64)="V",2,LEFT(A64)="","")} -> 2 | X64: 5 | AA64: =12*Z64 -> 0 | AB64: =YEAR(I64) -> 2021 | AC64: =Z64+AB64 -> 2021 | AD64: 5089 | AO64: =IF(AO$1<$AC64,0,IF(AO$1>$AC64,IF('Véhicules MAJ 20012022'!AO$1-'Véhicules MAJ 20012022'!$AC64=1,$AD64*VLOOKUP(LEFT($A64,3),Feuil2!$A:$D,3,0),$AD64*VLOOKUP(LEFT($A64,3),Feuil2!$A:$D,4)),0)) -> 356.23 | AP64: =IF(AP$1<$AC64,0,IF(AP$1>$AC64,IF('Véhicules MAJ 20012022'!AP$1-'Véhicules MAJ 20012022'!$AC64=1,$AD64*VLOOKUP(LEFT($A64,3),Feuil2!$A:$D,3,0),$AD64*VLOOKUP(LEFT($A64,3),Feuil2!$A:$D,4)),0)) -> 0
A65: TRA 14 | B65: GPDG | D65: ENGIN AGRICOLE | E65: KUBOTA | F65: KUB Z122R 5 | G65: 12089 | I65: 44368 | J65: 5089 | L65: 36 | T65: 120 | V65: =MID(A66,1,3) | W65: {=_xlfn.IFS(LEFT(A65)="B",1,LEFT(A65)="R",2,LEFT(A65)="T",2,LEFT(A65)="V",2,LEFT(A65)="","")} -> 2 | X65: 5 | AA65: =12*Z65 -> 0 | AB65: =YEAR(I65) -> 2021 | AC65: =Z65+AB65 -> 2021 | AD65: 5089 | AO65: =IF(AO$1<$AC65,0,IF(AO$1>$AC65,IF('Véhicules MAJ 20012022'!AO$1-'Véhicules MAJ 20012022'!$AC65=1,$AD65*VLOOKUP(LEFT($A65,3),Feuil2!$A:$D,3,0),$AD65*VLOOKUP(LEFT($A65,3),Feuil2!$A:$D,4)),0)) -> 356.23 | AP65: =IF(AP$1<$AC65,0,IF(AP$1>$AC65,IF('Véhicules MAJ 20012022'!AP$1-'Véhicules MAJ 20012022'!$AC65=1,$AD65*VLOOKUP(LEFT($A65,3),Feuil2!$A:$D,3,0),$AD65*VLOOKUP(LEFT($A65,3),Feuil2!$A:$D,4)),0)) -> 0
V66: =MID(A67,1,3) | AA66: =12*Z66 -> 0 | AB66: =YEAR(I66) -> 1900 | AC66: =Z66+AB66 -> 1900
A120: JANVIER | C120: 2020
A121: FÉVRIER | C121: 2021
A122: MARS | C122: 2022
A123: AVRIL | C123: 2023
A124: MAI | C124: 2024
A125: JUIN | C125: 2025
A126: JUILLET | C126: 2026
A127: AOÛT | C127: 2027
A128: SEPTEMBRE | C128: 2028
A129: OCTOBRE | C129: 2029
A130: NOVEMBRE | C130: 2030
A131: DÉCEMBRE | C131: 2031

Sheet Assurances 
A1: REFERENCE | D1: MARQUE | E1: MODELE | F1: TYPE | J1: A/M | K1: BANQUE | L1: MOIS TR | M1: ECH. 2024 | N1: ECH. 2023 | O1: ECH. 2022 | P1: ECH. 2021 | Q1: ECH. 2020 | R1: ECH. 2019 | S1: ECH. 2018 | T1: ECH. 2017 | U1: ECH. 2016 | V1: ECH. 2015
A2: BEN 01 | D2: IVECO | E2: DAYLY | F2: AUTOMOBILE | J2: A | K2: CEAPC | L2: AVRIL | M2: 1401.29 | N2: 1342.37 | O2: 1272.38 | P2: 1262.42 | Q2: 1249.93 | R2: 1214.32
A3: BEN 02 | D3: RENAULT | E3: MAXITY | F3: AUTOMOBILE | J3: A | K3: CEAPC | L3: AVRIL | M3: 1518.22 | N3: 1471.01 | O3: 1448.41 | P3: 1439.06 | Q3: 1427.02 | R3: 1374.59 | S3: 1337.27 | T3: 1181.36 | U3: 1100.99
A4: BEN 03 | D4: RENAULT | E4: MAXITY | F4: BENNE | J4: A | K4: CEAPC | L4: JUILLET | M4: 993.01
A5: BEN 04 | D5: FIAT | E5: DUCATO | F5: BENNE | J5: A | K5: CEAPC | L5: NOV.
A6: BEN 05 | D6: IVECO | E6: DAILY | F6: BENNE | J6: A | K6: BC | L6: MARS | M6: 1412.55 | N6: 1365.12 | O6: 1311.53 | P6: 1258.67 | Q6: 1246.66 | R6: 1192.14
A7: BEN 06 | D7: FIAT | E7: DUCATO | F7: BENNE | J7: A | K7: BC | L7: JUIN | M7: 1511.94 | N7: 1163.02 | O7: 1145.38 | P7: 1115.82 | Q7: 882.09 | R7: 799.34
A8: BEN 07 | D8: FIAT | E8: DUCATO | F8: BENNE | J8: A | K8: BC | L8: JUIN | M8: 1063.63 | N8: 1020.06 | O8: 1002.11 | P8: 967.73 | Q8: 950.07 | R8: 716.68
A9: BEN 08 | D9: FIAT | E9: DUCATO | F9: BENNE | J9: A | K9: BC | L9: AOUT | M9: 1140.61 | N9: 1051.24 | O9: 1023.71 | P9: 994.27 | Q9: 915.09
A10: BEN 09 | D10: FIAT | E10: DUCATO | F10: BENNE | J10: A | K10: BC | L10: AOUT | M10: 1096.03 | N10: 1046.03 | O10: 1012.14 | P10: 1004.42 | Q10: 915.09
A11: BEN 10 | D11: FIAT | E11: DUCATO | F11: BENNE | J11: A | K11: BC | L11: MARS | M11: 889.49 | N11: 850.88 | O11: 793.61
A12: BEN 11 | D12: FIAT | E12: DUCATO | F12: BENNE | J12: A | K12: BC | L12: MARS | M12: 1109.86 | N12: 853.72 | O12: 793.91
A13: BEN 12 | D13: RENAULT | E13: MASTER | F13: BENNE | J13: A | K13: BC | L13: NOV. | N13: 822.57
A14: BEN 13 | D14: PIAGGIO | E14: PORTER NP6 | F14: BENNE | J14: A | K14: BC | L14: NOV. | N14: 771.26
A15: BEN 14 | D15: RENAULT | E15: MASTER | F15: BENNE
A16: BEN 15 | D16: RENAULT | E16: MASTER | F16: BENNE
A17: BEN 16 | D17: PIAGGIO | E17: PORTER NP6 | F17: BENNE
A19: PL 001 | D19: RENAULT | E19: S180 | F19: POID LOURD
A21: VL 001 | D21: RENAULT | E21: CLIO | F21: AUTOMOBILE | J21: A | K21: CEAPC | N21: 587.96 | O21: 576.59 | P21: 573.08 | Q21: 569.28 | S21: 666.18 | T21: 610.53
A22: VL 002 | D22: RENAULT | E22: KANGOO | F22: AUTOMOBILE | J22: A | K22: CEAPC | L22: MAI | N22: 610.52 | O22: 602.38 | P22: 586.4 | Q22: 572.31 | R22: 611.52 | S22: 613.35
A23: VL 003 | D23: PEUGEOT | E23: EXPERT | F23: AUTOMOBILE | J23: A | K23: CEAPC | N23: 1130.16 | O23: 1099.33 | P23: 1090.73 | Q23: 871.14 | R23: 859.15 | S23: 763.89
A24: VL 004 | D24: RENAULT | E24: MASTER | F24: AUTOMOBILE | J24: A | K24: BC | L24: MARS | M24: 925.49 | N24: 883.94 | O24: 838.35 | P24: 808.1 | Q24: 736.18
A25: VL 005 | D25: IVECO | E25: DAILY | F25: AUTOMOBILE | J25: A | K25: CEAPC | L25: AOUT | M25: 983.04 | N25: 939.28 | O25: 919.6 | P25: 907.81 | Q25: 837.09
A26: VL 006 | D26: RENAULT | E26: CLIO | F26: AUTOMOBILE | J26: A | K26: BC | L26: AVRIL | M26: 775.28 | N26: 741.3 | O26: 715.61 | P26: 669.93
A27: VL 007 | D27: FIAT | E27: TALENTO | F27: AUTOMOBILE | J27: A | K27: BC | L27: MARS | M27: 951.92 | N27: 908.41 | O27: 827.69
A28: VL 008 | D28: TOYOTA | E28: PRAOCE CITY | F28: AUTOMOBILE | J28: A | K28: BC | L28: NOV. | N28: 1112.34 | O28: 986.46
A29: VL 009 | D29: TOYOTA | E29: YARIS | F29: AUTOMOBILE | J29: A | K29: BC | L29: JUILLET | M29: 1056.34 | N29: 1013.43 | O29: 975.76
A30: VL 010 | D30: RENAULT | E30: ZOE | F30: AUTOMOBILE | J30: A | K30: BC | L30: MARS | M30: 604.43
A31: P.UP 1 | D31: TOYOTA | E31: HILUX | F31: AUTOMOBILE | J31: A | K31: CEAPC | N31: 1071.38 | O31: 1063.23 | P31: 1007.79 | Q31: 1010.29 | R31: 996.45 | S31: 951.99
A33: REM XX | D33: LIDER | E33: CADIX | F33: REMORQUE
A34: REM 01 | D34: LIDER | E34: GRILLAGE | F34: REMORQUE | J34: A | K34: BC NB | L34: AVRIL | M34: X | N34: 118.86 | O34: 114.94 | P34: 111.23 | Q34: 109.07 | R34: 106.96 | S34: 104.91 | T34: 101.27 | U34: 98.314
A35: REM 02 | D35: TRELGO | E35: TRIGANEAU | F35: REMORQUE | J35: A | K35: CEAPC | L35: JUILLET | M35: 216.66 | N35: 211.42 | O35: 206.33 | P35: 201.4 | Q35: 196.61 | R35: 191.93 | S35: 187.45 | T35: 181.38 | U35: 176.08 | V35: 171.76
A36: REM 03 | D36: LIDER | E36: PLATEAU 2L2011660 | F36: REMORQUE | J36: A | K36: CEAPC | L36: JUILLET | M36: 230.4 | N36: 220.86 | O36: 212.11 | P36: 207 | Q36: 202.06 | R36: 197.25 | S36: 192.58 | T36: 183.48 | U36: 175.37 | V36: 165.31
A37: REM 04 | D37: LIDER | E37: PLATEAU | F37: REMORQUE | J37: A | K37: CEAPC | L37: MARS | M37: 144.9 | N37: 141.78 | O37: 136.76 | P37: 131.97 | Q37: 127.48 | R37: 124.82 | S37: 122.26 | T37: 114.28
A38: REM 05 | D38: LIDER | E38: PETIT PLATEAU | F38: REMORQUE | J38: A | K38: BC | L38: MARS | M38: 217.36 | N38: 208.77 | O38: 200.57 | P38: 192.78 | Q38: 188.26 | R38: 171.71
A39: REM 06 | D39: LIDER | E39: PETIT PLATEAU | F39: REMORQUE | J39: M | K39: BC | L39: SEPT. | N39: 161.23 | O39: 157.62 | P39: 154.1 | Q39: 150.7 | R39: 139.72
A40: REM 07 | D40: LIDER | E40: GRILLAGE | F40: REMORQUE | J40: A | K40: BC | L40: OCT. | N40: 158.49 | O40: 154.95 | P40: 151.52 | Q40: 148.18 | R40: 138.06
A41: REM 08 | D41: MECANOREM | E41: PLATEAU | F41: REMORQUE | J41: A | K41: BC | O41: 158.76 | P41: 148.61
A42: REM 09 | D42: MECANOREM | E42: PLATEAU | F42: REMORQUE | J42: A | K42: BC | L42: MARS | M42: 163.74 | N42: 160.03 | O42: 156.45 | P42: 148.61
A43: REM 10 | D43: MECANOREM | E43: PLATEAU | F43: REMORQUE | J43: A | K43: BC | L43: OCT. | N43: 162.45 | O43: 156.45 | P43: 147.93
A44: REM 11 | D44: SOGEWALOT | E44: PLATEAU | F44: REMORQUE | J44: A | K44: CEAPC | L44: NOV. | N44: 157.31 | O44: 153.79 | P44: 149.75
A45: REM 12 | D45: MECANOREM | E45: PLATEAU | F45: REMORQUE | J45: A | K45: BC | L45: NOV. | N45: 157.31 | O45: 153.79 | P45: 142.53
A46: REM 13 | D46: MECANOREM | E46: PLATEAU | F46: REMORQUE | J46: A | K46: BC | L46: JUIN | M46: 159.74 | N46: 156.15 | O46: 145.01
A47: REM 14 | D47: MECANOREM | E47: PLATEAU | F47: REMORQUE | J47: A | K47: BC | L47: JUIN | M47: 164.56 | N47: 158.46 | O47: 145.01
A48: BRO 02 | D48: TIMBERWOLF | E48: TW230DHB | F48: REMORQUE / BROYEUR | J48: A | K48: CEAPC | L48: NOV. | N48: 623.05 | O48: 605.97 | P48: 589.39 | Q48: 573.32 | R48: 557.66 | S48: 542.5
A49: BRO 03 | D49: GREENMECH | E49: EVO165-45D | F49: REMORQUE / BROYEUR | J49: A | K49: BC | L49: AOUT | N49: 482.25 | O49: 462.09
A51: TRA XX | D51: CASE | E51: MXU100 PRO | F51: ENGIN AGRICOLE | J51: A | K51: BC | L51: AVRIL | M51: 580.17 | N51: 517.69 | O51: 491.79
A52: TRA 01 | D52: KUBOTA | E52: BX220E | F52: ENGIN AGRICOLE | J52: A | K52: CEAPC | L52: JUIN | M52: 426.38 | N52: 397.78 | O52: 389.02 | P52: 375.56 | Q52: 375.6 | R52: 306.16 | S52: 293.44 | T52: 279.71 | U52: 270.97 | V52: 258.53
A53: TRA 02 | D53: KUBOTA | E53: G23HD n°1 | F53: ENGIN AGRICOLE | J53: A | K53: CEAPC | L53: JUILLET | M53: 388.89 | N53: 363.08 | O53: 354.56 | P53: 336.41 | Q53: 336.47 | R53: 308.87 | S53: 291 | T53: 266.01 | U53: 257.71 | V53: 245.95
A54: TRA 03 | D54: KUBOTA | E54: MK5000 | F54: ENGIN AGRICOLE | J54: A | K54: BC | L54: DEC. | N54: 419.77 | O54: 410.47 | P54: 396.17 | Q54: 396.06 | R54: 362.91 | S54: 347.47 | T54: 331.17 | U54: 312.2
A55: TRA 04 | D55: KUBOTA | E55: G23HD n°2 | F55: ENGIN AGRICOLE | J55: A | K55: BC | L55: MARS | M55: 354.3 | N55: 325.35 | O55: 305.08 | P55: 297.34 | Q55: 293.61 | R55: 251.13
A56: TRA 05 | D56: KUBOTA | E56: F2880EC | F56: ENGIN AGRICOLE | J56: A | K56: CEAPC | L56: AOUT | M56: 451.39 | N56: 420.53 | O56: 411.21 | P56: 396.87 | Q56: 397 | R56: 311.77 | S56: 267.65
A57: TRA 06 | D57: KUBOTA | E57: G23HD n°3 | F57: ENGIN AGRICOLE | J57: A | K57: BC | L57: MARS | M57: 350.21 | N57: 325.01 | O57: 312.6 | P57: 270.03 | Q57: 247.33
A58: TRA 07 | D58: KUBOTA | E58: BX2350 | F58: ENGIN AGRICOLE | J58: A | K58: CEAPC | L58: SEPT. | N58: 304.62 | O58: 296.11 | P58: 286.25 | Q58: 286.33 | R58: 274.57 | S58: 248.19
A59: TRA 08 | D59: TORO | E59: TORO ZD | F59: ENGIN AGRICOLE | J59: A | K59: BC | L59: JUILLET | M59: 333.98 | N59: 312.19 | O59: 303.72 | P59: 293.53 | Q59: 293.61 | R59: 253.07
A60: TRA 09 | D60: KUBOTA | E60: Z122R | F60: ENGIN AGRICOLE | J60: A | K60: BC | L60: MARS | M60: 344.31 | N60: 315.98 | O60: 307.58 | P60: 290.25
A61: TRA 10 | D61: KUBOTA | E61: KUB Z122R 2 | F61: ENGIN AGRICOLE | J61: A | K61: BC | L61: MARS | M61: 338.38 | N61: 315.98 | O61: 307.58 | P61: 290.25
A62: TRA 11 | D62: KUBOTA | E62: G23 N° 4 | F62: ENGIN AGRICOLE | J62: A | K62: CEAPC | L62: NOV. | N62: 317.69 | O62: 309.33 | P62: 292.65
A63: TRA 12 | D63: KUBOTA | E63: KUB Z122R 3 | F63: ENGIN AGRICOLE | J63: A | K63: CEAPC | L63: NOV. | N63: 266.19 | O63: 257.85 | P63: 243.71
A64: TRA 13 | D64: KUBOTA | E64: KUB Z122R 4 | F64: ENGIN AGRICOLE | J64: A | K64: BC | L64: JUIN | N64: 317.78 | O64: 292.02
A65: TRA 14 | D65: KUBOTA | E65: KUB Z122R 5 | F65: ENGIN AGRICOLE | J65: A | K65: BC | L65: JUIN | M65: 339.91 | N65: 317.78 | O65: 292.02
A66: TRA 15 | D66: OREC | E66: RMK150 | F66: ENGIN AGRICOLE | J66: A | K66: BC | L66: JUILLET | M66: 126.89 | N66: 271.83 | O66: 261.74 | P66: 242.96 | Q66: 242.89 | R66: 220.31

Sheet Feuil1
G8: Relevé d'information du | J8: =TODAY() -> 45142
B17: REFERENCE INTERNE | C17: : | D17: VL 001 | G17: TYPE | H17: : | I17: =VLOOKUP($D$17,'Véhicules MAJ 20012022'!$A$1:$T$118,4,FALSE) -> VEHICULE LEGER
B18: MARQUE | C18: : | D18: =VLOOKUP($D$17,'Véhicules MAJ 20012022'!A1:T98,5,FALSE) -> RENAULT | G18: MODELE | H18: : | I18: =VLOOKUP($D$17,'Véhicules MAJ 20012022'!$A$1:$T$118,6,FALSE) -> CLIO
B19: PLAQUE D'IMMAT. | C19: : | D19: =VLOOKUP($D$17,'Véhicules MAJ 20012022'!$A$1:$T$118,3,FALSE) -> 0 | G19: N° SERIE / ID | H19: : | I19: =VLOOKUP($D$17,'Véhicules MAJ 20012022'!$A$1:$T$118,7,FALSE) -> 0
B23: Financement / Financeur | C23: : | D23: =VLOOKUP($D$17,'Véhicules MAJ 20012022'!$A$1:$T$118,8,FALSE) -> 0 | G23: FDC | H23: : | I23: =VLOOKUP($D$17,'Véhicules MAJ 20012022'!$A$1:$T$118,13,FALSE) -> 0
B24: Devenir | C24: : | D24: =VLOOKUP($D$17,'Véhicules MAJ 20012022'!$A$1:$T$118,11,FALSE) -> 0
B25: montant à l'acquisition | C25: : | D25: =VLOOKUP($D$17,'Véhicules MAJ 20012022'!$A$1:$T$118,10,FALSE) -> 1900 | F25: Durée du financement | H25: : | I25: =VLOOKUP($D$17,'Véhicules MAJ 20012022'!$A$1:$T$118,12,FALSE) -> 36
I27: Montant HT | J27: taux taxe | K27: Montant taxe
B28: Valeur d'achat après décote | C28: : | I28: =D25/12 -> 158.33333 | J28: 0.2 | K28: =I28*J28 -> 31.666667
B30: Réhausses | C30: : | D30: =VLOOKUP($D$17,'Véhicules MAJ 20012022'!$A$1:$T$118,19,FALSE) -> 0 | I30: =D30/I25 -> 0 | J30: 0.2 | K30: =I30*J30 -> 0
B31: Contrat de maintenance | C31: : | D31: =VLOOKUP($D$17,'Véhicules MAJ 20012022'!$A$1:$T$118,20,FALSE) -> 120 | I31: =D31 -> 120 | J31: 0.2 | K31: =I31*J31 -> 24
B32: Flocage | C32: : | D32: =VLOOKUP($D$17,'Véhicules MAJ 20012022'!$A$1:$T$118,18,FALSE) -> 0 | I32: =D32/I25 -> 0 | J32: 0.2 | K32: =I32*J32 -> 0
B33: *Assurance n° | C33: : | D33: =VLOOKUP($D$17,'Assurances '!1:1048576,8,FALSE) -> 0 | F33: Cotis. / an : | G33: =IF(ISBLANK(VLOOKUP($D$17,'Assurances '!$A:$V,13,FALSE))=TRUE,VLOOKUP($D$17,'Assurances '!$A:$V,14,FALSE)) -> 587.96 | I33: =G33/12 -> 48.996667 | K33: =I33*J33 -> 0
B34: *Assurance n° | C34: : | D34: =VLOOKUP($D$17,'Assurances '!1:1048576,8,FALSE) -> 0 | F34: Cotis. / an : | G34: 0 | I34: =G34/12 -> 0 | K34: =I34*J34 -> 0
B35: (les montant sont exprimés en HT) | D35: * Exempté de TVA | G35: TOTAL | I35: =SUM(I28:I34) -> 327.33 | K35: =SUM(K28:K34) -> 55.666667
G36: TOTAL TTC | K36: =SUM(K35+I35) -> 382.99667
B39: *Moyenne de jour travaillés dans le mois : | F39: 11
B40: Prix HT du véhicule moyen par mois : | F40: =I35*(52/50) -> 340.4232
B41: Prix HT du véhicule moyen par jour : | F41: =F40/F39 -> 30.947564
G43: Prix HT du véhicule moyen par jour avec marge de l'entreprise | K43: =F41*(0.4+1) -> 43.326589
B47: location estimé dans le commerce : - Camion benne simple cabine : entre 130 € HT et 150 € HT - tracteur (suivant gabarit) : entre 55 € HT et 260 € HT - Véhicule léger : entre 60 € HT et 120 € HT - Remorque : entre 60 € HT et 75 € HT
B66: *Moyenne de jours travaillés par mois établi à partir d'un relevé de 2 années (2021/2022)
D68: PDG | F68: PDGA | G68: NLJ
B69: BENNE | D69: 15.61 | F69: 0.8 | G69: 1.18
B70: VL | D70: 11.42 | F70: 2.52 | G70: 0.12
B71: REMORQUE | D71: 10.11 | F71: 0.2 | G71: 1.17
B72: TRACTEUR | D72: 7.26 | F72: 0 | G72: 0.19
B88: =YEAR(J8) -> 2023

Sheet Feuil2
A1: abbrev. | B1: quoi | C1: année1 | D1: suivants
A2: BEN | B2: bennes | C2: 0.35 | D2: 0.05
A3: REM | B3: remorques, VL, tracteur | C3: 0.5 | D3: 0.07
A4: TRA | B4: remorques, VL, tracteur | C4: 0.5 | D4: 0.07
