Workbook
Name REFERENCE: 'Véhicules MAJ 20012022'!$A:$A

Sheet Véhicules MAJ 20012022
A1: REF. interne | B1: Propriétaire | C1: Plaque | D1: Type | E1: Marque | F1: Modèle | G1: N° Série | H1: CB / Leaseur | I1: Date achat | J1: Valeur achat | K1: Devenir | L1: Durée | M1: FDC | N1: Frais dossier | O1: ass deces | P1: greffe | Q1: FRAIS ANNEXE | R1: FLOCAGE | S1: REHAUSSE JPM | T1: MAINTENANCE | X1: Dureée de vie estimée | Y1: En compta | Z1: Amort (A) | AA1: Amort (M) | AB1: Année acq | AC1: Année Fin Amort. | AD1: Assiette de calcul initiale | AE1: 2033 | AF1: 2032 | AG1: 2031 | AH1: 2030 | AI1: 2029 | AJ1: 2028 | AK1: 2027 | AL1: 2026 | AM1: 2025 | AN1: 2024 | AO1: 2023 | AQ1: =$AD3/$Z3/12*IF(OR(AO$1<$AB3,AO$1-$AB3>=2*$Z3),0,IF(AO$1-$AB3<$Z3,1,POWER(1-VLOOKUP($V3,TBL_Décote[[#This Row],[suivants]],4),AO$1-$AB3-$Z3)*VLOOKUP($V3,TBL_Décote[année1],3,0))) -> 0 | AR1: formule originale
A2: BEN 01 | B2: GPDG | D2: BENNE | E2: IVECO | F2: DAYLY | I2: 42107 | J2: 17500 | L2: 60 | M2: 43709 | R2: 585 | T2: 120 | V2: =MID(A3,1,3) -> BEN | W2: {=_xlfn.IFS(LEFT(A2)="B",1,LEFT(A2)="R",2,LEFT(A2)="T",2,LEFT(A2)="V",2,LEFT(A2)="","")} -> 1 | X2: 10 | Z2: 4 | AA2: =12*Z2 -> 48 | AB2: =YEAR(I2) -> 2015 | AC2: =ROUND(Z2+AB2,0) -> 2019 | AD2: 17500 | AE2: =IF(AF2<$AD2,AF2,$AD2)-IF(AE$1<=$AC2,0,IF(AE$1>IF($AC2<2022,2022,$AC2),IF(AE$1-IF($AC2<2022,2022,$AC2)=1,IF(AF2<$AD2,AF2,$AD2)*VLOOKUP(LEFT($A2,3),Feuil2!$A:$D,3,0),IF(AF2<$AD2,AF2,$AD2)*VLOOKUP(LEFT($A2,3),Feuil2!$A:$D,4)),0)) -> 6810.6327 | AF2: =IF(AG2<$AD2,AG2,$AD2)-IF(AF$1<=$AC2,0,IF(AF$1>IF($AC2<2022,2022,$AC2),IF(AF$1-IF($AC2<2022,2022,$AC2)=1,IF(AG2<$AD2,AG2,$AD2)*VLOOKUP(LEFT($A2,3),Feuil2!$A:$D,3,0),IF(AG2<$AD2,AG2,$AD2)*VLOOKUP(LEFT($A2,3),Feuil2!$A:$D,4)),0)) -> 7169.087 | AG2: =IF(AH2<$AD2,AH2,$AD2)-IF(AG$1<=$AC2,0,IF(AG$1>IF($AC2<2022,2022,$AC2),IF(AG$1-IF($AC2<2022,2022,$AC2)=1,IF(AH2<$AD2,AH2,$AD2)*VLOOKUP(LEFT($A2,3),Feuil2!$A:$D,3,0),IF(AH2<$AD2,AH2,$AD2)*VLOOKUP(LEFT($A2,3),Feuil2!$A:$D,4)),0)) -> 7546.4074 | AH2: =IF(AI2<$AD2,AI2,$AD2)-IF(AH$1<=$AC2,0,IF(AH$1>IF($AC2<2022,2022,$AC2),IF(AH$1-IF($AC2<2022,2022,$AC2)=1,IF(AI2<$AD2,AI2,$AD2)*VLOOKUP(LEFT($A2,3),Feuil2!$A:$D,3,0),IF(AI2<$AD2,AI2,$AD2)*VLOOKUP(LEFT($A2,3),Feuil2!$A:$D,4)),0)) -> 7943.5867 | AI2: =IF(AJ2<$AD2,AJ2,$AD2)-IF(AI$1<=$AC2,0,IF(AI$1>IF($AC2<2022,2022,$AC2),IF(AI$1-IF($AC2<2022,2022,$AC2)=1,IF(AJ2<$AD2,AJ2,$AD2)*VLOOKUP(LEFT($A2,3),Feuil2!$A:$D,3,0),IF(AJ2<$AD2,AJ2,$AD2)*VLOOKUP(LEFT($A2,3),Feuil2!$A:$D,4)),0)) -> 8361.6703 | AJ2: =IF(AK2<$AD2,AK2,$AD2)-IF(AJ$1<=$AC2,0,IF(AJ$1>IF($AC2<2022,2022,$AC2),IF(AJ$1-IF($AC2<2022,2022,$AC2)=1,IF(AK2<$AD2,AK2,$AD2)*VLOOKUP(LEFT($A2,3),Feuil2!$A:$D,3,0),IF(AK2<$AD2,AK2,$AD2)*VLOOKUP(LEFT($A2,3),Feuil2!$A:$D,4)),0)) -> 8801.7582 | AK2: =IF(AL2<$AD2,AL2,$AD2)-IF(AK$1<=$AC2,0,IF(AK$1>IF($AC2<2022,2022,$AC2),IF(AK$1-IF($AC2<2022,2022,$AC2)=1,IF(AL2<$AD2,AL2,$AD2)*VLOOKUP(LEFT($A2,3),Feuil2!$A:$D,3,0),IF(AL2<$AD2,AL2,$AD2)*VLOOKUP(LEFT($A2,3),Feuil2!$A:$D,4)),0)) -> 9265.0086 | AL2: =IF(AM2<$AD2,AM2,$AD2)-IF(AL$1<=$AC2,0,IF(AL$1>IF($AC2<2022,2022,$AC2),IF(AL$1-IF($AC2<2022,2022,$AC2)=1,IF(AM2<$AD2,AM2,$AD2)*VLOOKUP(LEFT($A2,3),Feuil2!$A:$D,3,0),IF(AM2<$AD2,AM2,$AD2)*VLOOKUP(LEFT($A2,3),Feuil2!$A:$D,4)),0)) -> 9752.6406 | ... AN2: =IF(AO2<$AD2,AO2,$AD2)-IF(AN$1<=$AC2,0,IF(AN$1>IF($AC2<2022,2022,$AC2),IF(AN$1-IF($AC2<2022,2022,$AC2)=1,IF(AO2<$AD2,AO2,$AD2)*VLOOKUP(LEFT($A2,3),Feuil2!$A:$D,3,0),IF(AO2<$AD2,AO2,$AD2)*VLOOKUP(LEFT($A2,3),Feuil2!$A:$D,4)),0)) -> 10806.25 | AO2: =$AD2-IF(AO$1<=$AC2,0,IF(AO$1>IF($AC2<2022,2022,$AC2),IF(AO$1-IF($AC2<2022,2022,$AC2)=1,$AD2*VLOOKUP(LEFT($A2,3),Feuil2!$A:$D,3,0),$AD2*VLOOKUP(LEFT($A2,3),Feuil2!$A:$D,4)),0)) -> 11375
A3: BEN 02 | B3: GPDG | D3: BENNE | E3: RENAULT | F3: MAXITY | I3: 42108 | J3: 29100 | L3: 60 | M3: 43935 | N3: 150 | O3: 764.4 | P3: 23 | R3: 405 | T3: 120 | V3: =MID(A4,1,3) -> BEN | W3: {=_xlfn.IFS(LEFT(A3)="B",1,LEFT(A3)="R",2,LEFT(A3)="T",2,LEFT(A3)="V",2,LEFT(A3)="","")} -> 1 | X3: 10 | Z3: 3 | AA3: =12*Z3 -> 36 | AB3: =YEAR(I3) -> 2015 | AC3: =ROUND(Z3+AB3,0) -> 2018 | AD3: 29100 | AE3: =IF(AF3<$AD3,AF3,$AD3)-IF(AE$1<=$AC3,0,IF(AE$1>IF($AC3<2022,2022,$AC3),IF(AE$1-IF($AC3<2022,2022,$AC3)=1,IF(AF3<$AD3,AF3,$AD3)*VLOOKUP(LEFT($A3,3),Feuil2!$A:$D,3,0),IF(AF3<$AD3,AF3,$AD3)*VLOOKUP(LEFT($A3,3),Feuil2!$A:$D,4)),0)) -> 11325.109 | AF3: =IF(AG3<$AD3,AG3,$AD3)-IF(AF$1<=$AC3,0,IF(AF$1>IF($AC3<2022,2022,$AC3),IF(AF$1-IF($AC3<2022,2022,$AC3)=1,IF(AG3<$AD3,AG3,$AD3)*VLOOKUP(LEFT($A3,3),Feuil2!$A:$D,3,0),IF(AG3<$AD3,AG3,$AD3)*VLOOKUP(LEFT($A3,3),Feuil2!$A:$D,4)),0)) -> 11921.168 | AG3: =IF(AH3<$AD3,AH3,$AD3)-IF(AG$1<=$AC3,0,IF(AG$1>IF($AC3<2022,2022,$AC3),IF(AG$1-IF($AC3<2022,2022,$AC3)=1,IF(AH3<$AD3,AH3,$AD3)*VLOOKUP(LEFT($A3,3),Feuil2!$A:$D,3,0),IF(AH3<$AD3,AH3,$AD3)*VLOOKUP(LEFT($A3,3),Feuil2!$A:$D,4)),0)) -> 12548.597 | AH3: =IF(AI3<$AD3,AI3,$AD3)-IF(AH$1<=$AC3,0,IF(AH$1>IF($AC3<2022,2022,$AC3),IF(AH$1-IF($AC3<2022,2022,$AC3)=1,IF(AI3<$AD3,AI3,$AD3)*VLOOKUP(LEFT($A3,3),Feuil2!$A:$D,3,0),IF(AI3<$AD3,AI3,$AD3)*VLOOKUP(LEFT($A3,3),Feuil2!$A:$D,4)),0)) -> 13209.05 | AI3: =IF(AJ3<$AD3,AJ3,$AD3)-IF(AI$1<=$AC3,0,IF(AI$1>IF($AC3<2022,2022,$AC3),IF(AI$1-IF($AC3<2022,2022,$AC3)=1,IF(AJ3<$AD3,AJ3,$AD3)*VLOOKUP(LEFT($A3,3),Feuil2!$A:$D,3,0),IF(AJ3<$AD3,AJ3,$AD3)*VLOOKUP(LEFT($A3,3),Feuil2!$A:$D,4)),0)) -> 13904.263 | AJ3: =IF(AK3<$AD3,AK3,$AD3)-IF(AJ$1<=$AC3,0,IF(AJ$1>IF($AC3<2022,2022,$AC3),IF(AJ$1-IF($AC3<2022,2022,$AC3)=1,IF(AK3<$AD3,AK3,$AD3)*VLOOKUP(LEFT($A3,3),Feuil2!$A:$D,3,0),IF(AK3<$AD3,AK3,$AD3)*VLOOKUP(LEFT($A3,3),Feuil2!$A:$D,4)),0)) -> 14636.066 | AK3: =IF(AL3<$AD3,AL3,$AD3)-IF(AK$1<=$AC3,0,IF(AK$1>IF($AC3<2022,2022,$AC3),IF(AK$1-IF($AC3<2022,2022,$AC3)=1,IF(AL3<$AD3,AL3,$AD3)*VLOOKUP(LEFT($A3,3),Feuil2!$A:$D,3,0),IF(AL3<$AD3,AL3,$AD3)*VLOOKUP(LEFT($A3,3),Feuil2!$A:$D,4)),0)) -> 15406.386 | AL3: =IF(AM3<$AD3,AM3,$AD3)-IF(AL$1<=$AC3,0,IF(AL$1>IF($AC3<2022,2022,$AC3),IF(AL$1-IF($AC3<2022,2022,$AC3)=1,IF(AM3<$AD3,AM3,$AD3)*VLOOKUP(LEFT($A3,3),Feuil2!$A:$D,3,0),IF(AM3<$AD3,AM3,$AD3)*VLOOKUP(LEFT($A3,3),Feuil2!$A:$D,4)),0)) -> 16217.248 | ... AN3: =IF(AO3<$AD3,AO3,$AD3)-IF(AN$1<=$AC3,0,IF(AN$1>IF($AC3<2022,2022,$AC3),IF(AN$1-IF($AC3<2022,2022,$AC3)=1,IF(AO3<$AD3,AO3,$AD3)*VLOOKUP(LEFT($A3,3),Feuil2!$A:$D,3,0),IF(AO3<$AD3,AO3,$AD3)*VLOOKUP(LEFT($A3,3),Feuil2!$A:$D,4)),0)) -> 17969.25 | AO3: =$AD3-IF(AO$1<=$AC3,0,IF(AO$1>IF($AC3<2022,2022,$AC3),IF(AO$1-IF($AC3<2022,2022,$AC3)=1,$AD3*VLOOKUP(LEFT($A3,3),Feuil2!$A:$D,3,0),$AD3*VLOOKUP(LEFT($A3,3),Feuil2!$A:$D,4)),0)) -> 18915
A4: BEN 03 | B4: GPDG | D4: BENNE- | E4: RENAULT | F4: MAXITY | I4: 42627 | J4: 29700 | L4: 66 | M4: 44542 | R4: 405 | T4: 120 | V4: =MID(A5,1,3) -> BEN | W4: {=_xlfn.IFS(LEFT(A4)="B",1,LEFT(A4)="R",2,LEFT(A4)="T",2,LEFT(A4)="V",2,LEFT(A4)="","")} -> 1 | X4: 10 | Z4: 5.5 | AA4: =12*Z4 -> 66 | AB4: =YEAR(I4) -> 2016 | AC4: =ROUND(Z4+AB4,0) -> 2022 | AD4: 29700 | AE4: =IF(AF4<$AD4,AF4,$AD4)-IF(AE$1<=$AC4,0,IF(AE$1>IF($AC4<2022,2022,$AC4),IF(AE$1-IF($AC4<2022,2022,$AC4)=1,IF(AF4<$AD4,AF4,$AD4)*VLOOKUP(LEFT($A4,3),Feuil2!$A:$D,3,0),IF(AF4<$AD4,AF4,$AD4)*VLOOKUP(LEFT($A4,3),Feuil2!$A:$D,4)),0)) -> 11558.617 | AF4: =IF(AG4<$AD4,AG4,$AD4)-IF(AF$1<=$AC4,0,IF(AF$1>IF($AC4<2022,2022,$AC4),IF(AF$1-IF($AC4<2022,2022,$AC4)=1,IF(AG4<$AD4,AG4,$AD4)*VLOOKUP(LEFT($A4,3),Feuil2!$A:$D,3,0),IF(AG4<$AD4,AG4,$AD4)*VLOOKUP(LEFT($A4,3),Feuil2!$A:$D,4)),0)) -> 12166.965 | AG4: =IF(AH4<$AD4,AH4,$AD4)-IF(AG$1<=$AC4,0,IF(AG$1>IF($AC4<2022,2022,$AC4),IF(AG$1-IF($AC4<2022,2022,$AC4)=1,IF(AH4<$AD4,AH4,$AD4)*VLOOKUP(LEFT($A4,3),Feuil2!$A:$D,3,0),IF(AH4<$AD4,AH4,$AD4)*VLOOKUP(LEFT($A4,3),Feuil2!$A:$D,4)),0)) -> 12807.331 | AH4: =IF(AI4<$AD4,AI4,$AD4)-IF(AH$1<=$AC4,0,IF(AH$1>IF($AC4<2022,2022,$AC4),IF(AH$1-IF($AC4<2022,2022,$AC4)=1,IF(AI4<$AD4,AI4,$AD4)*VLOOKUP(LEFT($A4,3),Feuil2!$A:$D,3,0),IF(AI4<$AD4,AI4,$AD4)*VLOOKUP(LEFT($A4,3),Feuil2!$A:$D,4)),0)) -> 13481.402 | AI4: =IF(AJ4<$AD4,AJ4,$AD4)-IF(AI$1<=$AC4,0,IF(AI$1>IF($AC4<2022,2022,$AC4),IF(AI$1-IF($AC4<2022,2022,$AC4)=1,IF(AJ4<$AD4,AJ4,$AD4)*VLOOKUP(LEFT($A4,3),Feuil2!$A:$D,3,0),IF(AJ4<$AD4,AJ4,$AD4)*VLOOKUP(LEFT($A4,3),Feuil2!$A:$D,4)),0)) -> 14190.949 | AJ4: =IF(AK4<$AD4,AK4,$AD4)-IF(AJ$1<=$AC4,0,IF(AJ$1>IF($AC4<2022,2022,$AC4),IF(AJ$1-IF($AC4<2022,2022,$AC4)=1,IF(AK4<$AD4,AK4,$AD4)*VLOOKUP(LEFT($A4,3),Feuil2!$A:$D,3,0),IF(AK4<$AD4,AK4,$AD4)*VLOOKUP(LEFT($A4,3),Feuil2!$A:$D,4)),0)) -> 14937.841 | AK4: =IF(AL4<$AD4,AL4,$AD4)-IF(AK$1<=$AC4,0,IF(AK$1>IF($AC4<2022,2022,$AC4),IF(AK$1-IF($AC4<2022,2022,$AC4)=1,IF(AL4<$AD4,AL4,$AD4)*VLOOKUP(LEFT($A4,3),Feuil2!$A:$D,3,0),IF(AL4<$AD4,AL4,$AD4)*VLOOKUP(LEFT($A4,3),Feuil2!$A:$D,4)),0)) -> 15724.043 | AL4: =IF(AM4<$AD4,AM4,$AD4)-IF(AL$1<=$AC4,0,IF(AL$1>IF($AC4<2022,2022,$AC4),IF(AL$1-IF($AC4<2022,2022,$AC4)=1,IF(AM4<$AD4,AM4,$AD4)*VLOOKUP(LEFT($A4,3),Feuil2!$A:$D,3,0),IF(AM4<$AD4,AM4,$AD4)*VLOOKUP(LEFT($A4,3),Feuil2!$A:$D,4)),0)) -> 16551.624 | ... AN4: =IF(AO4<$AD4,AO4,$AD4)-IF(AN$1<=$AC4,0,IF(AN$1>IF($AC4<2022,2022,$AC4),IF(AN$1-IF($AC4<2022,2022,$AC4)=1,IF(AO4<$AD4,AO4,$AD4)*VLOOKUP(LEFT($A4,3),Feuil2!$A:$D,3,0),IF(AO4<$AD4,AO4,$AD4)*VLOOKUP(LEFT($A4,3),Feuil2!$A:$D,4)),0)) -> 18339.75 | AO4: =$AD4-IF(AO$1<=$AC4,0,IF(AO$1>IF($AC4<2022,2022,$AC4),IF(AO$1-IF($AC4<2022,2022,$AC4)=1,$AD4*VLOOKUP(LEFT($A4,3),Feuil2!$A:$D,3,0),$AD4*VLOOKUP(LEFT($A4,3),Feuil2!$A:$D,4)),0)) -> 19305
A5: BEN 04 | B5: PDG | D5: BENNE- | E5: FIAT | F5: DUCATO | I5: 43074 | J5: 16241.67 | L5: 60 | M5: 44880 | R5: 405 | T5: 120 | V5: =MID(A6,1,3) -> BEN | W5: {=_xlfn.IFS(LEFT(A5)="B",1,LEFT(A5)="R",2,LEFT(A5)="T",2,LEFT(A5)="V",2,LEFT(A5)="","")} -> 1 | X5: 10 | Z5: 5.5 | AA5: =12*Z5 -> 66 | AB5: =YEAR(I5) -> 2017 | AC5: =ROUND(Z5+AB5,0) -> 2023 | AD5: 16241.27 | AE5: =IF(AF5<$AD5,AF5,$AD5)-IF(AE$1<=$AC5,0,IF(AE$1>IF($AC5<2022,2022,$AC5),IF(AE$1-IF($AC5<2022,2022,$AC5)=1,IF(AF5<$AD5,AF5,$AD5)*VLOOKUP(LEFT($A5,3),Feuil2!$A:$D,3,0),IF(AF5<$AD5,AF5,$AD5)*VLOOKUP(LEFT($A5,3),Feuil2!$A:$D,4)),0)) -> 6653.433 | AF5: =IF(AG5<$AD5,AG5,$AD5)-IF(AF$1<=$AC5,0,IF(AF$1>IF($AC5<2022,2022,$AC5),IF(AF$1-IF($AC5<2022,2022,$AC5)=1,IF(AG5<$AD5,AG5,$AD5)*VLOOKUP(LEFT($A5,3),Feuil2!$A:$D,3,0),IF(AG5<$AD5,AG5,$AD5)*VLOOKUP(LEFT($A5,3),Feuil2!$A:$D,4)),0)) -> 7003.6137 | AG5: =IF(AH5<$AD5,AH5,$AD5)-IF(AG$1<=$AC5,0,IF(AG$1>IF($AC5<2022,2022,$AC5),IF(AG$1-IF($AC5<2022,2022,$AC5)=1,IF(AH5<$AD5,AH5,$AD5)*VLOOKUP(LEFT($A5,3),Feuil2!$A:$D,3,0),IF(AH5<$AD5,AH5,$AD5)*VLOOKUP(LEFT($A5,3),Feuil2!$A:$D,4)),0)) -> 7372.225 | AH5: =IF(AI5<$AD5,AI5,$AD5)-IF(AH$1<=$AC5,0,IF(AH$1>IF($AC5<2022,2022,$AC5),IF(AH$1-IF($AC5<2022,2022,$AC5)=1,IF(AI5<$AD5,AI5,$AD5)*VLOOKUP(LEFT($A5,3),Feuil2!$A:$D,3,0),IF(AI5<$AD5,AI5,$AD5)*VLOOKUP(LEFT($A5,3),Feuil2!$A:$D,4)),0)) -> 7760.2368 | AI5: =IF(AJ5<$AD5,AJ5,$AD5)-IF(AI$1<=$AC5,0,IF(AI$1>IF($AC5<2022,2022,$AC5),IF(AI$1-IF($AC5<2022,2022,$AC5)=1,IF(AJ5<$AD5,AJ5,$AD5)*VLOOKUP(LEFT($A5,3),Feuil2!$A:$D,3,0),IF(AJ5<$AD5,AJ5,$AD5)*VLOOKUP(LEFT($A5,3),Feuil2!$A:$D,4)),0)) -> 8168.6703 | AJ5: =IF(AK5<$AD5,AK5,$AD5)-IF(AJ$1<=$AC5,0,IF(AJ$1>IF($AC5<2022,2022,$AC5),IF(AJ$1-IF($AC5<2022,2022,$AC5)=1,IF(AK5<$AD5,AK5,$AD5)*VLOOKUP(LEFT($A5,3),Feuil2!$A:$D,3,0),IF(AK5<$AD5,AK5,$AD5)*VLOOKUP(LEFT($A5,3),Feuil2!$A:$D,4)),0)) -> 8598.6003 | AK5: =IF(AL5<$AD5,AL5,$AD5)-IF(AK$1<=$AC5,0,IF(AK$1>IF($AC5<2022,2022,$AC5),IF(AK$1-IF($AC5<2022,2022,$AC5)=1,IF(AL5<$AD5,AL5,$AD5)*VLOOKUP(LEFT($A5,3),Feuil2!$A:$D,3,0),IF(AL5<$AD5,AL5,$AD5)*VLOOKUP(LEFT($A5,3),Feuil2!$A:$D,4)),0)) -> 9051.1583 | AL5: =IF(AM5<$AD5,AM5,$AD5)-IF(AL$1<=$AC5,0,IF(AL$1>IF($AC5<2022,2022,$AC5),IF(AL$1-IF($AC5<2022,2022,$AC5)=1,IF(AM5<$AD5,AM5,$AD5)*VLOOKUP(LEFT($A5,3),Feuil2!$A:$D,3,0),IF(AM5<$AD5,AM5,$AD5)*VLOOKUP(LEFT($A5,3),Feuil2!$A:$D,4)),0)) -> 9527.535 | ... AN5: =IF(AO5<$AD5,AO5,$AD5)-IF(AN$1<=$AC5,0,IF(AN$1>IF($AC5<2022,2022,$AC5),IF(AN$1-IF($AC5<2022,2022,$AC5)=1,IF(AO5<$AD5,AO5,$AD5)*VLOOKUP(LEFT($A5,3),Feuil2!$A:$D,3,0),IF(AO5<$AD5,AO5,$AD5)*VLOOKUP(LEFT($A5,3),Feuil2!$A:$D,4)),0)) -> 10556.826 | AO5: =$AD5-IF(AO$1<=$AC5,0,IF(AO$1>IF($AC5<2022,2022,$AC5),IF(AO$1-IF($AC5<2022,2022,$AC5)=1,$AD5*VLOOKUP(LEFT($A5,3),Feuil2!$A:$D,3,0),$AD5*VLOOKUP(LEFT($A5,3),Feuil2!$A:$D,4)),0)) -> 16241.27
A6: BEN 05 | B6: GPDG | D6: BENNE | E6: IVECO | F6: DAILY | I6: 43165 | J6: 36300 | L6: 60 | M6: 45017 | N6: 120 | R6: 585 | T6: 120 | V6: =MID(A7,1,3) -> BEN | W6: {=_xlfn.IFS(LEFT(A6)="B",1,LEFT(A6)="R",2,LEFT(A6)="T",2,LEFT(A6)="V",2,LEFT(A6)="","")} -> 1 | X6: 10 | Z6: 5 | AA6: =12*Z6 -> 60 | AB6: =YEAR(I6) -> 2018 | AC6: =ROUND(Z6+AB6,0) -> 2023 | AD6: 36300 | AE6: =IF(AF6<$AD6,AF6,$AD6)-IF(AE$1<=$AC6,0,IF(AE$1>IF($AC6<2022,2022,$AC6),IF(AE$1-IF($AC6<2022,2022,$AC6)=1,IF(AF6<$AD6,AF6,$AD6)*VLOOKUP(LEFT($A6,3),Feuil2!$A:$D,3,0),IF(AF6<$AD6,AF6,$AD6)*VLOOKUP(LEFT($A6,3),Feuil2!$A:$D,4)),0)) -> 14870.735 | AF6: =IF(AG6<$AD6,AG6,$AD6)-IF(AF$1<=$AC6,0,IF(AF$1>IF($AC6<2022,2022,$AC6),IF(AF$1-IF($AC6<2022,2022,$AC6)=1,IF(AG6<$AD6,AG6,$AD6)*VLOOKUP(LEFT($A6,3),Feuil2!$A:$D,3,0),IF(AG6<$AD6,AG6,$AD6)*VLOOKUP(LEFT($A6,3),Feuil2!$A:$D,4)),0)) -> 15653.405 | AG6: =IF(AH6<$AD6,AH6,$AD6)-IF(AG$1<=$AC6,0,IF(AG$1>IF($AC6<2022,2022,$AC6),IF(AG$1-IF($AC6<2022,2022,$AC6)=1,IF(AH6<$AD6,AH6,$AD6)*VLOOKUP(LEFT($A6,3),Feuil2!$A:$D,3,0),IF(AH6<$AD6,AH6,$AD6)*VLOOKUP(LEFT($A6,3),Feuil2!$A:$D,4)),0)) -> 16477.269 | AH6: =IF(AI6<$AD6,AI6,$AD6)-IF(AH$1<=$AC6,0,IF(AH$1>IF($AC6<2022,2022,$AC6),IF(AH$1-IF($AC6<2022,2022,$AC6)=1,IF(AI6<$AD6,AI6,$AD6)*VLOOKUP(LEFT($A6,3),Feuil2!$A:$D,3,0),IF(AI6<$AD6,AI6,$AD6)*VLOOKUP(LEFT($A6,3),Feuil2!$A:$D,4)),0)) -> 17344.493 | AI6: =IF(AJ6<$AD6,AJ6,$AD6)-IF(AI$1<=$AC6,0,IF(AI$1>IF($AC6<2022,2022,$AC6),IF(AI$1-IF($AC6<2022,2022,$AC6)=1,IF(AJ6<$AD6,AJ6,$AD6)*VLOOKUP(LEFT($A6,3),Feuil2!$A:$D,3,0),IF(AJ6<$AD6,AJ6,$AD6)*VLOOKUP(LEFT($A6,3),Feuil2!$A:$D,4)),0)) -> 18257.361 | AJ6: =IF(AK6<$AD6,AK6,$AD6)-IF(AJ$1<=$AC6,0,IF(AJ$1>IF($AC6<2022,2022,$AC6),IF(AJ$1-IF($AC6<2022,2022,$AC6)=1,IF(AK6<$AD6,AK6,$AD6)*VLOOKUP(LEFT($A6,3),Feuil2!$A:$D,3,0),IF(AK6<$AD6,AK6,$AD6)*VLOOKUP(LEFT($A6,3),Feuil2!$A:$D,4)),0)) -> 19218.275 | AK6: =IF(AL6<$AD6,AL6,$AD6)-IF(AK$1<=$AC6,0,IF(AK$1>IF($AC6<2022,2022,$AC6),IF(AK$1-IF($AC6<2022,2022,$AC6)=1,IF(AL6<$AD6,AL6,$AD6)*VLOOKUP(LEFT($A6,3),Feuil2!$A:$D,3,0),IF(AL6<$AD6,AL6,$AD6)*VLOOKUP(LEFT($A6,3),Feuil2!$A:$D,4)),0)) -> 20229.763 | AL6: =IF(AM6<$AD6,AM6,$AD6)-IF(AL$1<=$AC6,0,IF(AL$1>IF($AC6<2022,2022,$AC6),IF(AL$1-IF($AC6<2022,2022,$AC6)=1,IF(AM6<$AD6,AM6,$AD6)*VLOOKUP(LEFT($A6,3),Feuil2!$A:$D,3,0),IF(AM6<$AD6,AM6,$AD6)*VLOOKUP(LEFT($A6,3),Feuil2!$A:$D,4)),0)) -> 21294.487 | ... AN6: =IF(AO6<$AD6,AO6,$AD6)-IF(AN$1<=$AC6,0,IF(AN$1>IF($AC6<2022,2022,$AC6),IF(AN$1-IF($AC6<2022,2022,$AC6)=1,IF(AO6<$AD6,AO6,$AD6)*VLOOKUP(LEFT($A6,3),Feuil2!$A:$D,3,0),IF(AO6<$AD6,AO6,$AD6)*VLOOKUP(LEFT($A6,3),Feuil2!$A:$D,4)),0)) -> 23595 | AO6: =$AD6-IF(AO$1<=$AC6,0,IF(AO$1>IF($AC6<2022,2022,$AC6),IF(AO$1-IF($AC6<2022,2022,$AC6)=1,$AD6*VLOOKUP(LEFT($A6,3),Feuil2!$A:$D,3,0),$AD6*VLOOKUP(LEFT($A6,3),Feuil2!$A:$D,4)),0)) -> 36300
A7: BEN 06 | B7: GPDG | D7: BENNE | E7: FIAT | F7: DUCATO | I7: 43276 | J7: 24490 | L7: 60 | M7: 45071 | R7: 405 | S7: 2608 | T7: 120 | V7: =MID(A8,1,3) -> BEN | W7: {=_xlfn.IFS(LEFT(A7)="B",1,LEFT(A7)="R",2,LEFT(A7)="T",2,LEFT(A7)="V",2,LEFT(A7)="","")} -> 1 | X7: 10 | AA7: =12*Z7 -> 0 | AB7: =YEAR(I7) -> 2018 | AC7: =ROUND(Z7+AB7,0) -> 2018 | AD7: 24490 | AE7: =IF(AF7<$AD7,AF7,$AD7)-IF(AE$1<=$AC7,0,IF(AE$1>IF($AC7<2022,2022,$AC7),IF(AE$1-IF($AC7<2022,2022,$AC7)=1,IF(AF7<$AD7,AF7,$AD7)*VLOOKUP(LEFT($A7,3),Feuil2!$A:$D,3,0),IF(AF7<$AD7,AF7,$AD7)*VLOOKUP(LEFT($A7,3),Feuil2!$A:$D,4)),0)) -> 9530.994 | AF7: =IF(AG7<$AD7,AG7,$AD7)-IF(AF$1<=$AC7,0,IF(AF$1>IF($AC7<2022,2022,$AC7),IF(AF$1-IF($AC7<2022,2022,$AC7)=1,IF(AG7<$AD7,AG7,$AD7)*VLOOKUP(LEFT($A7,3),Feuil2!$A:$D,3,0),IF(AG7<$AD7,AG7,$AD7)*VLOOKUP(LEFT($A7,3),Feuil2!$A:$D,4)),0)) -> 10032.625 | AG7: =IF(AH7<$AD7,AH7,$AD7)-IF(AG$1<=$AC7,0,IF(AG$1>IF($AC7<2022,2022,$AC7),IF(AG$1-IF($AC7<2022,2022,$AC7)=1,IF(AH7<$AD7,AH7,$AD7)*VLOOKUP(LEFT($A7,3),Feuil2!$A:$D,3,0),IF(AH7<$AD7,AH7,$AD7)*VLOOKUP(LEFT($A7,3),Feuil2!$A:$D,4)),0)) -> 10560.658 | AH7: =IF(AI7<$AD7,AI7,$AD7)-IF(AH$1<=$AC7,0,IF(AH$1>IF($AC7<2022,2022,$AC7),IF(AH$1-IF($AC7<2022,2022,$AC7)=1,IF(AI7<$AD7,AI7,$AD7)*VLOOKUP(LEFT($A7,3),Feuil2!$A:$D,3,0),IF(AI7<$AD7,AI7,$AD7)*VLOOKUP(LEFT($A7,3),Feuil2!$A:$D,4)),0)) -> 11116.482 | AI7: =IF(AJ7<$AD7,AJ7,$AD7)-IF(AI$1<=$AC7,0,IF(AI$1>IF($AC7<2022,2022,$AC7),IF(AI$1-IF($AC7<2022,2022,$AC7)=1,IF(AJ7<$AD7,AJ7,$AD7)*VLOOKUP(LEFT($A7,3),Feuil2!$A:$D,3,0),IF(AJ7<$AD7,AJ7,$AD7)*VLOOKUP(LEFT($A7,3),Feuil2!$A:$D,4)),0)) -> 11701.56 | AJ7: =IF(AK7<$AD7,AK7,$AD7)-IF(AJ$1<=$AC7,0,IF(AJ$1>IF($AC7<2022,2022,$AC7),IF(AJ$1-IF($AC7<2022,2022,$AC7)=1,IF(AK7<$AD7,AK7,$AD7)*VLOOKUP(LEFT($A7,3),Feuil2!$A:$D,3,0),IF(AK7<$AD7,AK7,$AD7)*VLOOKUP(LEFT($A7,3),Feuil2!$A:$D,4)),0)) -> 12317.432 | AK7: =IF(AL7<$AD7,AL7,$AD7)-IF(AK$1<=$AC7,0,IF(AK$1>IF($AC7<2022,2022,$AC7),IF(AK$1-IF($AC7<2022,2022,$AC7)=1,IF(AL7<$AD7,AL7,$AD7)*VLOOKUP(LEFT($A7,3),Feuil2!$A:$D,3,0),IF(AL7<$AD7,AL7,$AD7)*VLOOKUP(LEFT($A7,3),Feuil2!$A:$D,4)),0)) -> 12965.718 | AL7: =IF(AM7<$AD7,AM7,$AD7)-IF(AL$1<=$AC7,0,IF(AL$1>IF($AC7<2022,2022,$AC7),IF(AL$1-IF($AC7<2022,2022,$AC7)=1,IF(AM7<$AD7,AM7,$AD7)*VLOOKUP(LEFT($A7,3),Feuil2!$A:$D,3,0),IF(AM7<$AD7,AM7,$AD7)*VLOOKUP(LEFT($A7,3),Feuil2!$A:$D,4)),0)) -> 13648.124 | ... AN7: =IF(AO7<$AD7,AO7,$AD7)-IF(AN$1<=$AC7,0,IF(AN$1>IF($AC7<2022,2022,$AC7),IF(AN$1-IF($AC7<2022,2022,$AC7)=1,IF(AO7<$AD7,AO7,$AD7)*VLOOKUP(LEFT($A7,3),Feuil2!$A:$D,3,0),IF(AO7<$AD7,AO7,$AD7)*VLOOKUP(LEFT($A7,3),Feuil2!$A:$D,4)),0)) -> 15122.575 | AO7: =$AD7-IF(AO$1<=$AC7,0,IF(AO$1>IF($AC7<2022,2022,$AC7),IF(AO$1-IF($AC7<2022,2022,$AC7)=1,$AD7*VLOOKUP(LEFT($A7,3),Feuil2!$A:$D,3,0),$AD7*VLOOKUP(LEFT($A7,3),Feuil2!$A:$D,4)),0)) -> 15918.5
A8: BEN 07 | B8: GPDG | D8: BENNE | E8: FIAT | F8: DUCATO | I8: 43276 | J8: 19990 | L8: 60 | M8: 45098 | R8: 354 | S8: 2608 | T8: 120 | V8: =MID(A9,1,3) -> BEN | W8: {=_xlfn.IFS(LEFT(A8)="B",1,LEFT(A8)="R",2,LEFT(A8)="T",2,LEFT(A8)="V",2,LEFT(A8)="","")} -> 1 | X8: 10 | AA8: =12*Z8 -> 0 | AB8: =YEAR(I8) -> 2018 | AC8: =ROUND(Z8+AB8,0) -> 2018 | AD8: 19990 | AE8: =IF(AF8<$AD8,AF8,$AD8)-IF(AE$1<=$AC8,0,IF(AE$1>IF($AC8<2022,2022,$AC8),IF(AE$1-IF($AC8<2022,2022,$AC8)=1,IF(AF8<$AD8,AF8,$AD8)*VLOOKUP(LEFT($A8,3),Feuil2!$A:$D,3,0),IF(AF8<$AD8,AF8,$AD8)*VLOOKUP(LEFT($A8,3),Feuil2!$A:$D,4)),0)) -> 7779.6884 | AF8: =IF(AG8<$AD8,AG8,$AD8)-IF(AF$1<=$AC8,0,IF(AF$1>IF($AC8<2022,2022,$AC8),IF(AF$1-IF($AC8<2022,2022,$AC8)=1,IF(AG8<$AD8,AG8,$AD8)*VLOOKUP(LEFT($A8,3),Feuil2!$A:$D,3,0),IF(AG8<$AD8,AG8,$AD8)*VLOOKUP(LEFT($A8,3),Feuil2!$A:$D,4)),0)) -> 8189.1457 | AG8: =IF(AH8<$AD8,AH8,$AD8)-IF(AG$1<=$AC8,0,IF(AG$1>IF($AC8<2022,2022,$AC8),IF(AG$1-IF($AC8<2022,2022,$AC8)=1,IF(AH8<$AD8,AH8,$AD8)*VLOOKUP(LEFT($A8,3),Feuil2!$A:$D,3,0),IF(AH8<$AD8,AH8,$AD8)*VLOOKUP(LEFT($A8,3),Feuil2!$A:$D,4)),0)) -> 8620.1534 | AH8: =IF(AI8<$AD8,AI8,$AD8)-IF(AH$1<=$AC8,0,IF(AH$1>IF($AC8<2022,2022,$AC8),IF(AH$1-IF($AC8<2022,2022,$AC8)=1,IF(AI8<$AD8,AI8,$AD8)*VLOOKUP(LEFT($A8,3),Feuil2!$A:$D,3,0),IF(AI8<$AD8,AI8,$AD8)*VLOOKUP(LEFT($A8,3),Feuil2!$A:$D,4)),0)) -> 9073.8457 | AI8: =IF(AJ8<$AD8,AJ8,$AD8)-IF(AI$1<=$AC8,0,IF(AI$1>IF($AC8<2022,2022,$AC8),IF(AI$1-IF($AC8<2022,2022,$AC8)=1,IF(AJ8<$AD8,AJ8,$AD8)*VLOOKUP(LEFT($A8,3),Feuil2!$A:$D,3,0),IF(AJ8<$AD8,AJ8,$AD8)*VLOOKUP(LEFT($A8,3),Feuil2!$A:$D,4)),0)) -> 9551.4165 | AJ8: =IF(AK8<$AD8,AK8,$AD8)-IF(AJ$1<=$AC8,0,IF(AJ$1>IF($AC8<2022,2022,$AC8),IF(AJ$1-IF($AC8<2022,2022,$AC8)=1,IF(AK8<$AD8,AK8,$AD8)*VLOOKUP(LEFT($A8,3),Feuil2!$A:$D,3,0),IF(AK8<$AD8,AK8,$AD8)*VLOOKUP(LEFT($A8,3),Feuil2!$A:$D,4)),0)) -> 10054.123 | AK8: =IF(AL8<$AD8,AL8,$AD8)-IF(AK$1<=$AC8,0,IF(AK$1>IF($AC8<2022,2022,$AC8),IF(AK$1-IF($AC8<2022,2022,$AC8)=1,IF(AL8<$AD8,AL8,$AD8)*VLOOKUP(LEFT($A8,3),Feuil2!$A:$D,3,0),IF(AL8<$AD8,AL8,$AD8)*VLOOKUP(LEFT($A8,3),Feuil2!$A:$D,4)),0)) -> 10583.287 | AL8: =IF(AM8<$AD8,AM8,$AD8)-IF(AL$1<=$AC8,0,IF(AL$1>IF($AC8<2022,2022,$AC8),IF(AL$1-IF($AC8<2022,2022,$AC8)=1,IF(AM8<$AD8,AM8,$AD8)*VLOOKUP(LEFT($A8,3),Feuil2!$A:$D,3,0),IF(AM8<$AD8,AM8,$AD8)*VLOOKUP(LEFT($A8,3),Feuil2!$A:$D,4)),0)) -> 11140.302 | ... AN8: =IF(AO8<$AD8,AO8,$AD8)-IF(AN$1<=$AC8,0,IF(AN$1>IF($AC8<2022,2022,$AC8),IF(AN$1-IF($AC8<2022,2022,$AC8)=1,IF(AO8<$AD8,AO8,$AD8)*VLOOKUP(LEFT($A8,3),Feuil2!$A:$D,3,0),IF(AO8<$AD8,AO8,$AD8)*VLOOKUP(LEFT($A8,3),Feuil2!$A:$D,4)),0)) -> 12343.825 | AO8: =$AD8-IF(AO$1<=$AC8,0,IF(AO$1>IF($AC8<2022,2022,$AC8),IF(AO$1-IF($AC8<2022,2022,$AC8)=1,$AD8*VLOOKUP(LEFT($A8,3),Feuil2!$A:$D,3,0),$AD8*VLOOKUP(LEFT($A8,3),Feuil2!$A:$D,4)),0)) -> 12993.5
A9: BEN 08 | B9: GPDG | D9: BENNE | E9: FIAT | F9: DUCATO | I9: 43279 | J9: 22000 | L9: 60 | M9: 45658 | R9: 177 | S9: 2578 | T9: 120 | V9: =MID(A10,1,3) -> BEN | W9: {=_xlfn.IFS(LEFT(A9)="B",1,LEFT(A9)="R",2,LEFT(A9)="T",2,LEFT(A9)="V",2,LEFT(A9)="","")} -> 1 | X9: 10 | AA9: =12*Z9 -> 0 | AB9: =YEAR(I9) -> 2018 | AC9: =ROUND(Z9+AB9,0) -> 2018 | AD9: 22000 | AE9: =IF(AF9<$AD9,AF9,$AD9)-IF(AE$1<=$AC9,0,IF(AE$1>IF($AC9<2022,2022,$AC9),IF(AE$1-IF($AC9<2022,2022,$AC9)=1,IF(AF9<$AD9,AF9,$AD9)*VLOOKUP(LEFT($A9,3),Feuil2!$A:$D,3,0),IF(AF9<$AD9,AF9,$AD9)*VLOOKUP(LEFT($A9,3),Feuil2!$A:$D,4)),0)) -> 8561.9382 | AF9: =IF(AG9<$AD9,AG9,$AD9)-IF(AF$1<=$AC9,0,IF(AF$1>IF($AC9<2022,2022,$AC9),IF(AF$1-IF($AC9<2022,2022,$AC9)=1,IF(AG9<$AD9,AG9,$AD9)*VLOOKUP(LEFT($A9,3),Feuil2!$A:$D,3,0),IF(AG9<$AD9,AG9,$AD9)*VLOOKUP(LEFT($A9,3),Feuil2!$A:$D,4)),0)) -> 9012.5666 | AG9: =IF(AH9<$AD9,AH9,$AD9)-IF(AG$1<=$AC9,0,IF(AG$1>IF($AC9<2022,2022,$AC9),IF(AG$1-IF($AC9<2022,2022,$AC9)=1,IF(AH9<$AD9,AH9,$AD9)*VLOOKUP(LEFT($A9,3),Feuil2!$A:$D,3,0),IF(AH9<$AD9,AH9,$AD9)*VLOOKUP(LEFT($A9,3),Feuil2!$A:$D,4)),0)) -> 9486.9122 | AH9: =IF(AI9<$AD9,AI9,$AD9)-IF(AH$1<=$AC9,0,IF(AH$1>IF($AC9<2022,2022,$AC9),IF(AH$1-IF($AC9<2022,2022,$AC9)=1,IF(AI9<$AD9,AI9,$AD9)*VLOOKUP(LEFT($A9,3),Feuil2!$A:$D,3,0),IF(AI9<$AD9,AI9,$AD9)*VLOOKUP(LEFT($A9,3),Feuil2!$A:$D,4)),0)) -> 9986.2233 | AI9: =IF(AJ9<$AD9,AJ9,$AD9)-IF(AI$1<=$AC9,0,IF(AI$1>IF($AC9<2022,2022,$AC9),IF(AI$1-IF($AC9<2022,2022,$AC9)=1,IF(AJ9<$AD9,AJ9,$AD9)*VLOOKUP(LEFT($A9,3),Feuil2!$A:$D,3,0),IF(AJ9<$AD9,AJ9,$AD9)*VLOOKUP(LEFT($A9,3),Feuil2!$A:$D,4)),0)) -> 10511.814 | AJ9: =IF(AK9<$AD9,AK9,$AD9)-IF(AJ$1<=$AC9,0,IF(AJ$1>IF($AC9<2022,2022,$AC9),IF(AJ$1-IF($AC9<2022,2022,$AC9)=1,IF(AK9<$AD9,AK9,$AD9)*VLOOKUP(LEFT($A9,3),Feuil2!$A:$D,3,0),IF(AK9<$AD9,AK9,$AD9)*VLOOKUP(LEFT($A9,3),Feuil2!$A:$D,4)),0)) -> 11065.067 | AK9: =IF(AL9<$AD9,AL9,$AD9)-IF(AK$1<=$AC9,0,IF(AK$1>IF($AC9<2022,2022,$AC9),IF(AK$1-IF($AC9<2022,2022,$AC9)=1,IF(AL9<$AD9,AL9,$AD9)*VLOOKUP(LEFT($A9,3),Feuil2!$A:$D,3,0),IF(AL9<$AD9,AL9,$AD9)*VLOOKUP(LEFT($A9,3),Feuil2!$A:$D,4)),0)) -> 11647.439 | AL9: =IF(AM9<$AD9,AM9,$AD9)-IF(AL$1<=$AC9,0,IF(AL$1>IF($AC9<2022,2022,$AC9),IF(AL$1-IF($AC9<2022,2022,$AC9)=1,IF(AM9<$AD9,AM9,$AD9)*VLOOKUP(LEFT($A9,3),Feuil2!$A:$D,3,0),IF(AM9<$AD9,AM9,$AD9)*VLOOKUP(LEFT($A9,3),Feuil2!$A:$D,4)),0)) -> 12260.462 | ... AN9: =IF(AO9<$AD9,AO9,$AD9)-IF(AN$1<=$AC9,0,IF(AN$1>IF($AC9<2022,2022,$AC9),IF(AN$1-IF($AC9<2022,2022,$AC9)=1,IF(AO9<$AD9,AO9,$AD9)*VLOOKUP(LEFT($A9,3),Feuil2!$A:$D,3,0),IF(AO9<$AD9,AO9,$AD9)*VLOOKUP(LEFT($A9,3),Feuil2!$A:$D,4)),0)) -> 13585 | AO9: =$AD9-IF(AO$1<=$AC9,0,IF(AO$1>IF($AC9<2022,2022,$AC9),IF(AO$1-IF($AC9<2022,2022,$AC9)=1,$AD9*VLOOKUP(LEFT($A9,3),Feuil2!$A:$D,3,0),$AD9*VLOOKUP(LEFT($A9,3),Feuil2!$A:$D,4)),0)) -> 14300
A10: BEN 09 | B10: GPDG | D10: BENNE | E10: FIAT | F10: DUCATO | I10: 43645 | J10: 22000 | L10: 60 | M10: 45658 | R10: 177 | S10: 2578 | T10: 120 | V10: =MID(A11,1,3) -> BEN | W10: {=_xlfn.IFS(LEFT(A10)="B",1,LEFT(A10)="R",2,LEFT(A10)="T",2,LEFT(A10)="V",2,LEFT(A10)="","")} -> 1 | X10: 10 | AA10: =12*Z10 -> 0 | AB10: =YEAR(I10) -> 2019 | AC10: =ROUND(Z10+AB10,0) -> 2019 | AD10: 22000 | AE10: =IF(AF10<$AD10,AF10,$AD10)-IF(AE$1<=$AC10,0,IF(AE$1>IF($AC10<2022,2022,$AC10),IF(AE$1-IF($AC10<2022,2022,$AC10)=1,IF(AF10<$AD10,AF10,$AD10)*VLOOKUP(LEFT($A10,3),Feuil2!$A:$D,3,0),IF(AF10<$AD10,AF10,$AD10)*VLOOKUP(LEFT($A10,3),Feuil2!$A:$D,4)),0)) -> 8561.9382 | AF10: =IF(AG10<$AD10,AG10,$AD10)-IF(AF$1<=$AC10,0,IF(AF$1>IF($AC10<2022,2022,$AC10),IF(AF$1-IF($AC10<2022,2022,$AC10)=1,IF(AG10<$AD10,AG10,$AD10)*VLOOKUP(LEFT($A10,3),Feuil2!$A:$D,3,0),IF(AG10<$AD10,AG10,$AD10)*VLOOKUP(LEFT($A10,3),Feuil2!$A:$D,4)),0)) -> 9012.5666 | AG10: =IF(AH10<$AD10,AH10,$AD10)-IF(AG$1<=$AC10,0,IF(AG$1>IF($AC10<2022,2022,$AC10),IF(AG$1-IF($AC10<2022,2022,$AC10)=1,IF(AH10<$AD10,AH10,$AD10)*VLOOKUP(LEFT($A10,3),Feuil2!$A:$D,3,0),IF(AH10<$AD10,AH10,$AD10)*VLOOKUP(LEFT($A10,3),Feuil2!$A:$D,4)),0)) -> 9486.9122 | AH10: =IF(AI10<$AD10,AI10,$AD10)-IF(AH$1<=$AC10,0,IF(AH$1>IF($AC10<2022,2022,$AC10),IF(AH$1-IF($AC10<2022,2022,$AC10)=1,IF(AI10<$AD10,AI10,$AD10)*VLOOKUP(LEFT($A10,3),Feuil2!$A:$D,3,0),IF(AI10<$AD10,AI10,$AD10)*VLOOKUP(LEFT($A10,3),Feuil2!$A:$D,4)),0)) -> 9986.2233 | AI10: =IF(AJ10<$AD10,AJ10,$AD10)-IF(AI$1<=$AC10,0,IF(AI$1>IF($AC10<2022,2022,$AC10),IF(AI$1-IF($AC10<2022,2022,$AC10)=1,IF(AJ10<$AD10,AJ10,$AD10)*VLOOKUP(LEFT($A10,3),Feuil2!$A:$D,3,0),IF(AJ10<$AD10,AJ10,$AD10)*VLOOKUP(LEFT($A10,3),Feuil2!$A:$D,4)),0)) -> 10511.814 | AJ10: =IF(AK10<$AD10,AK10,$AD10)-IF(AJ$1<=$AC10,0,IF(AJ$1>IF($AC10<2022,2022,$AC10),IF(AJ$1-IF($AC10<2022,2022,$AC10)=1,IF(AK10<$AD10,AK10,$AD10)*VLOOKUP(LEFT($A10,3),Feuil2!$A:$D,3,0),IF(AK10<$AD10,AK10,$AD10)*VLOOKUP(LEFT($A10,3),Feuil2!$A:$D,4)),0)) -> 11065.067 | AK10: =IF(AL10<$AD10,AL10,$AD10)-IF(AK$1<=$AC10,0,IF(AK$1>IF($AC10<2022,2022,$AC10),IF(AK$1-IF($AC10<2022,2022,$AC10)=1,IF(AL10<$AD10,AL10,$AD10)*VLOOKUP(LEFT($A10,3),Feuil2!$A:$D,3,0),IF(AL10<$AD10,AL10,$AD10)*VLOOKUP(LEFT($A10,3),Feuil2!$A:$D,4)),0)) -> 11647.439 | AL10: =IF(AM10<$AD10,AM10,$AD10)-IF(AL$1<=$AC10,0,IF(AL$1>IF($AC10<2022,2022,$AC10),IF(AL$1-IF($AC10<2022,2022,$AC10)=1,IF(AM10<$AD10,AM10,$AD10)*VLOOKUP(LEFT($A10,3),Feuil2!$A:$D,3,0),IF(AM10<$AD10,AM10,$AD10)*VLOOKUP(LEFT($A10,3),Feuil2!$A:$D,4)),0)) -> 12260.462 | ... AN10: =IF(AO10<$AD10,AO10,$AD10)-IF(AN$1<=$AC10,0,IF(AN$1>IF($AC10<2022,2022,$AC10),IF(AN$1-IF($AC10<2022,2022,$AC10)=1,IF(AO10<$AD10,AO10,$AD10)*VLOOKUP(LEFT($A10,3),Feuil2!$A:$D,3,0),IF(AO10<$AD10,AO10,$AD10)*VLOOKUP(LEFT($A10,3),Feuil2!$A:$D,4)),0)) -> 13585 | AO10: =$AD10-IF(AO$1<=$AC10,0,IF(AO$1>IF($AC10<2022,2022,$AC10),IF(AO$1-IF($AC10<2022,2022,$AC10)=1,$AD10*VLOOKUP(LEFT($A10,3),Feuil2!$A:$D,3,0),$AD10*VLOOKUP(LEFT($A10,3),Feuil2!$A:$D,4)),0)) -> 14300
A11: BEN 10 | B11: GPDG | D11: BENNE | E11: FIAT | F11: DUCATO | I11: 44298 | J11: 24584 | L11: 60 | M11: 46093 | R11: 523.8 | S11: 3058 | T11: 120 | V11: =MID(A12,1,3) -> BEN | W11: {=_xlfn.IFS(LEFT(A11)="B",1,LEFT(A11)="R",2,LEFT(A11)="T",2,LEFT(A11)="V",2,LEFT(A11)="","")} -> 1 | X11: 10 | Z11: 5 | AA11: =12*Z11 -> 60 | AB11: =YEAR(I11) -> 2021 | AC11: =ROUND(Z11+AB11,0) -> 2026 | AD11: 24854 | AE11: =IF(AF11<$AD11,AF11,$AD11)-IF(AE$1<=$AC11,0,IF(AE$1>IF($AC11<2022,2022,$AC11),IF(AE$1-IF($AC11<2022,2022,$AC11)=1,IF(AF11<$AD11,AF11,$AD11)*VLOOKUP(LEFT($A11,3),Feuil2!$A:$D,3,0),IF(AF11<$AD11,AF11,$AD11)*VLOOKUP(LEFT($A11,3),Feuil2!$A:$D,4)),0)) -> 11875.483 | AF11: =IF(AG11<$AD11,AG11,$AD11)-IF(AF$1<=$AC11,0,IF(AF$1>IF($AC11<2022,2022,$AC11),IF(AF$1-IF($AC11<2022,2022,$AC11)=1,IF(AG11<$AD11,AG11,$AD11)*VLOOKUP(LEFT($A11,3),Feuil2!$A:$D,3,0),IF(AG11<$AD11,AG11,$AD11)*VLOOKUP(LEFT($A11,3),Feuil2!$A:$D,4)),0)) -> 12500.508 | AG11: =IF(AH11<$AD11,AH11,$AD11)-IF(AG$1<=$AC11,0,IF(AG$1>IF($AC11<2022,2022,$AC11),IF(AG$1-IF($AC11<2022,2022,$AC11)=1,IF(AH11<$AD11,AH11,$AD11)*VLOOKUP(LEFT($A11,3),Feuil2!$A:$D,3,0),IF(AH11<$AD11,AH11,$AD11)*VLOOKUP(LEFT($A11,3),Feuil2!$A:$D,4)),0)) -> 13158.43 | AH11: =IF(AI11<$AD11,AI11,$AD11)-IF(AH$1<=$AC11,0,IF(AH$1>IF($AC11<2022,2022,$AC11),IF(AH$1-IF($AC11<2022,2022,$AC11)=1,IF(AI11<$AD11,AI11,$AD11)*VLOOKUP(LEFT($A11,3),Feuil2!$A:$D,3,0),IF(AI11<$AD11,AI11,$AD11)*VLOOKUP(LEFT($A11,3),Feuil2!$A:$D,4)),0)) -> 13850.979 | AI11: =IF(AJ11<$AD11,AJ11,$AD11)-IF(AI$1<=$AC11,0,IF(AI$1>IF($AC11<2022,2022,$AC11),IF(AI$1-IF($AC11<2022,2022,$AC11)=1,IF(AJ11<$AD11,AJ11,$AD11)*VLOOKUP(LEFT($A11,3),Feuil2!$A:$D,3,0),IF(AJ11<$AD11,AJ11,$AD11)*VLOOKUP(LEFT($A11,3),Feuil2!$A:$D,4)),0)) -> 14579.978 | AJ11: =IF(AK11<$AD11,AK11,$AD11)-IF(AJ$1<=$AC11,0,IF(AJ$1>IF($AC11<2022,2022,$AC11),IF(AJ$1-IF($AC11<2022,2022,$AC11)=1,IF(AK11<$AD11,AK11,$AD11)*VLOOKUP(LEFT($A11,3),Feuil2!$A:$D,3,0),IF(AK11<$AD11,AK11,$AD11)*VLOOKUP(LEFT($A11,3),Feuil2!$A:$D,4)),0)) -> 15347.345 | AK11: =IF(AL11<$AD11,AL11,$AD11)-IF(AK$1<=$AC11,0,IF(AK$1>IF($AC11<2022,2022,$AC11),IF(AK$1-IF($AC11<2022,2022,$AC11)=1,IF(AL11<$AD11,AL11,$AD11)*VLOOKUP(LEFT($A11,3),Feuil2!$A:$D,3,0),IF(AL11<$AD11,AL11,$AD11)*VLOOKUP(LEFT($A11,3),Feuil2!$A:$D,4)),0)) -> 16155.1 | AL11: =IF(AM11<$AD11,AM11,$AD11)-IF(AL$1<=$AC11,0,IF(AL$1>IF($AC11<2022,2022,$AC11),IF(AL$1-IF($AC11<2022,2022,$AC11)=1,IF(AM11<$AD11,AM11,$AD11)*VLOOKUP(LEFT($A11,3),Feuil2!$A:$D,3,0),IF(AM11<$AD11,AM11,$AD11)*VLOOKUP(LEFT($A11,3),Feuil2!$A:$D,4)),0)) -> 24854 | ... AN11: =IF(AO11<$AD11,AO11,$AD11)-IF(AN$1<=$AC11,0,IF(AN$1>IF($AC11<2022,2022,$AC11),IF(AN$1-IF($AC11<2022,2022,$AC11)=1,IF(AO11<$AD11,AO11,$AD11)*VLOOKUP(LEFT($A11,3),Feuil2!$A:$D,3,0),IF(AO11<$AD11,AO11,$AD11)*VLOOKUP(LEFT($A11,3),Feuil2!$A:$D,4)),0)) -> 24854 | AO11: =$AD11-IF(AO$1<=$AC11,0,IF(AO$1>IF($AC11<2022,2022,$AC11),IF(AO$1-IF($AC11<2022,2022,$AC11)=1,$AD11*VLOOKUP(LEFT($A11,3),Feuil2!$A:$D,3,0),$AD11*VLOOKUP(LEFT($A11,3),Feuil2!$A:$D,4)),0)) -> 24854
A12: BEN 11 | B12: GPDG | D12: BENNE | E12: FIAT | F12: DUCATO | I12: 44298 | J12: 24584 | L12: 60 | M12: 46093 | R12: 523.8 | S12: 3058 | T12: 120 | V12: =MID(A13,1,3) -> BEN | W12: {=_xlfn.IFS(LEFT(A12)="B",1,LEFT(A12)="R",2,LEFT(A12)="T",2,LEFT(A12)="V",2,LEFT(A12)="","")} -> 1 | X12: 10 | Z12: 5 | AA12: =12*Z12 -> 60 | AB12: =YEAR(I12) -> 2021 | AC12: =ROUND(Z12+AB12,0) -> 2026 | AD12: 24854 | AE12: =IF(AF12<$AD12,AF12,$AD12)-IF(AE$1<=$AC12,0,IF(AE$1>IF($AC12<2022,2022,$AC12),IF(AE$1-IF($AC12<2022,2022,$AC12)=1,IF(AF12<$AD12,AF12,$AD12)*VLOOKUP(LEFT($A12,3),Feuil2!$A:$D,3,0),IF(AF12<$AD12,AF12,$AD12)*VLOOKUP(LEFT($A12,3),Feuil2!$A:$D,4)),0)) -> 11875.483 | AF12: =IF(AG12<$AD12,AG12,$AD12)-IF(AF$1<=$AC12,0,IF(AF$1>IF($AC12<2022,2022,$AC12),IF(AF$1-IF($AC12<2022,2022,$AC12)=1,IF(AG12<$AD12,AG12,$AD12)*VLOOKUP(LEFT($A12,3),Feuil2!$A:$D,3,0),IF(AG12<$AD12,AG12,$AD12)*VLOOKUP(LEFT($A12,3),Feuil2!$A:$D,4)),0)) -> 12500.508 | AG12: =IF(AH12<$AD12,AH12,$AD12)-IF(AG$1<=$AC12,0,IF(AG$1>IF($AC12<2022,2022,$AC12),IF(AG$1-IF($AC12<2022,2022,$AC12)=1,IF(AH12<$AD12,AH12,$AD12)*VLOOKUP(LEFT($A12,3),Feuil2!$A:$D,3,0),IF(AH12<$AD12,AH12,$AD12)*VLOOKUP(LEFT($A12,3),Feuil2!$A:$D,4)),0)) -> 13158.43 | AH12: =IF(AI12<$AD12,AI12,$AD12)-IF(AH$1<=$AC12,0,IF(AH$1>IF($AC12<2022,2022,$AC12),IF(AH$1-IF($AC12<2022,2022,$AC12)=1,IF(AI12<$AD12,AI12,$AD12)*VLOOKUP(LEFT($A12,3),Feuil2!$A:$D,3,0),IF(AI12<$AD12,AI12,$AD12)*VLOOKUP(LEFT($A12,3),Feuil2!$A:$D,4)),0)) -> 13850.979 | AI12: =IF(AJ12<$AD12,AJ12,$AD12)-IF(AI$1<=$AC12,0,IF(AI$1>IF($AC12<2022,2022,$AC12),IF(AI$1-IF($AC12<2022,2022,$AC12)=1,IF(AJ12<$AD12,AJ12,$AD12)*VLOOKUP(LEFT($A12,3),Feuil2!$A:$D,3,0),IF(AJ12<$AD12,AJ12,$AD12)*VLOOKUP(LEFT($A12,3),Feuil2!$A:$D,4)),0)) -> 14579.978 | AJ12: =IF(AK12<$AD12,AK12,$AD12)-IF(AJ$1<=$AC12,0,IF(AJ$1>IF($AC12<2022,2022,$AC12),IF(AJ$1-IF($AC12<2022,2022,$AC12)=1,IF(AK12<$AD12,AK12,$AD12)*VLOOKUP(LEFT($A12,3),Feuil2!$A:$D,3,0),IF(AK12<$AD12,AK12,$AD12)*VLOOKUP(LEFT($A12,3),Feuil2!$A:$D,4)),0)) -> 15347.345 | AK12: =IF(AL12<$AD12,AL12,$AD12)-IF(AK$1<=$AC12,0,IF(AK$1>IF($AC12<2022,2022,$AC12),IF(AK$1-IF($AC12<2022,2022,$AC12)=1,IF(AL12<$AD12,AL12,$AD12)*VLOOKUP(LEFT($A12,3),Feuil2!$A:$D,3,0),IF(AL12<$AD12,AL12,$AD12)*VLOOKUP(LEFT($A12,3),Feuil2!$A:$D,4)),0)) -> 16155.1 | AL12: =IF(AM12<$AD12,AM12,$AD12)-IF(AL$1<=$AC12,0,IF(AL$1>IF($AC12<2022,2022,$AC12),IF(AL$1-IF($AC12<2022,2022,$AC12)=1,IF(AM12<$AD12,AM12,$AD12)*VLOOKUP(LEFT($A12,3),Feuil2!$A:$D,3,0),IF(AM12<$AD12,AM12,$AD12)*VLOOKUP(LEFT($A12,3),Feuil2!$A:$D,4)),0)) -> 24854 | ... AN12: =IF(AO12<$AD12,AO12,$AD12)-IF(AN$1<=$AC12,0,IF(AN$1>IF($AC12<2022,2022,$AC12),IF(AN$1-IF($AC12<2022,2022,$AC12)=1,IF(AO12<$AD12,AO12,$AD12)*VLOOKUP(LEFT($A12,3),Feuil2!$A:$D,3,0),IF(AO12<$AD12,AO12,$AD12)*VLOOKUP(LEFT($A12,3),Feuil2!$A:$D,4)),0)) -> 24854 | AO12: =$AD12-IF(AO$1<=$AC12,0,IF(AO$1>IF($AC12<2022,2022,$AC12),IF(AO$1-IF($AC12<2022,2022,$AC12)=1,$AD12*VLOOKUP(LEFT($A12,3),Feuil2!$A:$D,3,0),$AD12*VLOOKUP(LEFT($A12,3),Feuil2!$A:$D,4)),0)) -> 24854
A13: BEN 12 | B13: GPDG | D13: BENNE | E13: RENAULT | F13: MASTER | I13: 44847 | J13: 37497 | L13: 60 | R13: 582 | T13: 120 | V13: =MID(A14,1,3) -> BEN | W13: {=_xlfn.IFS(LEFT(A13)="B",1,LEFT(A13)="R",2,LEFT(A13)="T",2,LEFT(A13)="V",2,LEFT(A13)="","")} -> 1 | X13: 10 | AA13: =12*Z13 -> 0 | AB13: =YEAR(I13) -> 2022 | AC13: =ROUND(Z13+AB13,0) -> 2022 | AD13: 37497 | AE13: =IF(AF13<$AD13,AF13,$AD13)-IF(AE$1<=$AC13,0,IF(AE$1>IF($AC13<2022,2022,$AC13),IF(AE$1-IF($AC13<2022,2022,$AC13)=1,IF(AF13<$AD13,AF13,$AD13)*VLOOKUP(LEFT($A13,3),Feuil2!$A:$D,3,0),IF(AF13<$AD13,AF13,$AD13)*VLOOKUP(LEFT($A13,3),Feuil2!$A:$D,4)),0)) -> 14593.045 | AF13: =IF(AG13<$AD13,AG13,$AD13)-IF(AF$1<=$AC13,0,IF(AF$1>IF($AC13<2022,2022,$AC13),IF(AF$1-IF($AC13<2022,2022,$AC13)=1,IF(AG13<$AD13,AG13,$AD13)*VLOOKUP(LEFT($A13,3),Feuil2!$A:$D,3,0),IF(AG13<$AD13,AG13,$AD13)*VLOOKUP(LEFT($A13,3),Feuil2!$A:$D,4)),0)) -> 15361.1 | AG13: =IF(AH13<$AD13,AH13,$AD13)-IF(AG$1<=$AC13,0,IF(AG$1>IF($AC13<2022,2022,$AC13),IF(AG$1-IF($AC13<2022,2022,$AC13)=1,IF(AH13<$AD13,AH13,$AD13)*VLOOKUP(LEFT($A13,3),Feuil2!$A:$D,3,0),IF(AH13<$AD13,AH13,$AD13)*VLOOKUP(LEFT($A13,3),Feuil2!$A:$D,4)),0)) -> 16169.579 | AH13: =IF(AI13<$AD13,AI13,$AD13)-IF(AH$1<=$AC13,0,IF(AH$1>IF($AC13<2022,2022,$AC13),IF(AH$1-IF($AC13<2022,2022,$AC13)=1,IF(AI13<$AD13,AI13,$AD13)*VLOOKUP(LEFT($A13,3),Feuil2!$A:$D,3,0),IF(AI13<$AD13,AI13,$AD13)*VLOOKUP(LEFT($A13,3),Feuil2!$A:$D,4)),0)) -> 17020.61 | AI13: =IF(AJ13<$AD13,AJ13,$AD13)-IF(AI$1<=$AC13,0,IF(AI$1>IF($AC13<2022,2022,$AC13),IF(AI$1-IF($AC13<2022,2022,$AC13)=1,IF(AJ13<$AD13,AJ13,$AD13)*VLOOKUP(LEFT($A13,3),Feuil2!$A:$D,3,0),IF(AJ13<$AD13,AJ13,$AD13)*VLOOKUP(LEFT($A13,3),Feuil2!$A:$D,4)),0)) -> 17916.431 | AJ13: =IF(AK13<$AD13,AK13,$AD13)-IF(AJ$1<=$AC13,0,IF(AJ$1>IF($AC13<2022,2022,$AC13),IF(AJ$1-IF($AC13<2022,2022,$AC13)=1,IF(AK13<$AD13,AK13,$AD13)*VLOOKUP(LEFT($A13,3),Feuil2!$A:$D,3,0),IF(AK13<$AD13,AK13,$AD13)*VLOOKUP(LEFT($A13,3),Feuil2!$A:$D,4)),0)) -> 18859.401 | AK13: =IF(AL13<$AD13,AL13,$AD13)-IF(AK$1<=$AC13,0,IF(AK$1>IF($AC13<2022,2022,$AC13),IF(AK$1-IF($AC13<2022,2022,$AC13)=1,IF(AL13<$AD13,AL13,$AD13)*VLOOKUP(LEFT($A13,3),Feuil2!$A:$D,3,0),IF(AL13<$AD13,AL13,$AD13)*VLOOKUP(LEFT($A13,3),Feuil2!$A:$D,4)),0)) -> 19852.002 | AL13: =IF(AM13<$AD13,AM13,$AD13)-IF(AL$1<=$AC13,0,IF(AL$1>IF($AC13<2022,2022,$AC13),IF(AL$1-IF($AC13<2022,2022,$AC13)=1,IF(AM13<$AD13,AM13,$AD13)*VLOOKUP(LEFT($A13,3),Feuil2!$A:$D,3,0),IF(AM13<$AD13,AM13,$AD13)*VLOOKUP(LEFT($A13,3),Feuil2!$A:$D,4)),0)) -> 20896.844 | ... AN13: =IF(AO13<$AD13,AO13,$AD13)-IF(AN$1<=$AC13,0,IF(AN$1>IF($AC13<2022,2022,$AC13),IF(AN$1-IF($AC13<2022,2022,$AC13)=1,IF(AO13<$AD13,AO13,$AD13)*VLOOKUP(LEFT($A13,3),Feuil2!$A:$D,3,0),IF(AO13<$AD13,AO13,$AD13)*VLOOKUP(LEFT($A13,3),Feuil2!$A:$D,4)),0)) -> 23154.398 | AO13: =$AD13-IF(AO$1<=$AC13,0,IF(AO$1>IF($AC13<2022,2022,$AC13),IF(AO$1-IF($AC13<2022,2022,$AC13)=1,$AD13*VLOOKUP(LEFT($A13,3),Feuil2!$A:$D,3,0),$AD13*VLOOKUP(LEFT($A13,3),Feuil2!$A:$D,4)),0)) -> 24373.05
A14: BEN 13 | B14: GPDG | D14: BENNE | E14: PIAGGIO | F14: PORTER NP6 | I14: 44834 | J14: 28330 | L14: 60 | M14: 46629 | R14: 495 | T14: 120 | V14: =MID(A15,1,3) -> BEN | W14: {=_xlfn.IFS(LEFT(A14)="B",1,LEFT(A14)="R",2,LEFT(A14)="T",2,LEFT(A14)="V",2,LEFT(A14)="","")} -> 1 | X14: 10 | Z14: 5 | AA14: =12*Z14 -> 60 | AB14: =YEAR(I14) -> 2022 | AC14: =ROUND(Z14+AB14,0) -> 2027 | AD14: 28330 | AE14: =IF(AF14<$AD14,AF14,$AD14)-IF(AE$1<=$AC14,0,IF(AE$1>IF($AC14<2022,2022,$AC14),IF(AE$1-IF($AC14<2022,2022,$AC14)=1,IF(AF14<$AD14,AF14,$AD14)*VLOOKUP(LEFT($A14,3),Feuil2!$A:$D,3,0),IF(AF14<$AD14,AF14,$AD14)*VLOOKUP(LEFT($A14,3),Feuil2!$A:$D,4)),0)) -> 14248.789 | AF14: =IF(AG14<$AD14,AG14,$AD14)-IF(AF$1<=$AC14,0,IF(AF$1>IF($AC14<2022,2022,$AC14),IF(AF$1-IF($AC14<2022,2022,$AC14)=1,IF(AG14<$AD14,AG14,$AD14)*VLOOKUP(LEFT($A14,3),Feuil2!$A:$D,3,0),IF(AG14<$AD14,AG14,$AD14)*VLOOKUP(LEFT($A14,3),Feuil2!$A:$D,4)),0)) -> 14998.725 | AG14: =IF(AH14<$AD14,AH14,$AD14)-IF(AG$1<=$AC14,0,IF(AG$1>IF($AC14<2022,2022,$AC14),IF(AG$1-IF($AC14<2022,2022,$AC14)=1,IF(AH14<$AD14,AH14,$AD14)*VLOOKUP(LEFT($A14,3),Feuil2!$A:$D,3,0),IF(AH14<$AD14,AH14,$AD14)*VLOOKUP(LEFT($A14,3),Feuil2!$A:$D,4)),0)) -> 15788.132 | AH14: =IF(AI14<$AD14,AI14,$AD14)-IF(AH$1<=$AC14,0,IF(AH$1>IF($AC14<2022,2022,$AC14),IF(AH$1-IF($AC14<2022,2022,$AC14)=1,IF(AI14<$AD14,AI14,$AD14)*VLOOKUP(LEFT($A14,3),Feuil2!$A:$D,3,0),IF(AI14<$AD14,AI14,$AD14)*VLOOKUP(LEFT($A14,3),Feuil2!$A:$D,4)),0)) -> 16619.086 | AI14: =IF(AJ14<$AD14,AJ14,$AD14)-IF(AI$1<=$AC14,0,IF(AI$1>IF($AC14<2022,2022,$AC14),IF(AI$1-IF($AC14<2022,2022,$AC14)=1,IF(AJ14<$AD14,AJ14,$AD14)*VLOOKUP(LEFT($A14,3),Feuil2!$A:$D,3,0),IF(AJ14<$AD14,AJ14,$AD14)*VLOOKUP(LEFT($A14,3),Feuil2!$A:$D,4)),0)) -> 17493.775 | AJ14: =IF(AK14<$AD14,AK14,$AD14)-IF(AJ$1<=$AC14,0,IF(AJ$1>IF($AC14<2022,2022,$AC14),IF(AJ$1-IF($AC14<2022,2022,$AC14)=1,IF(AK14<$AD14,AK14,$AD14)*VLOOKUP(LEFT($A14,3),Feuil2!$A:$D,3,0),IF(AK14<$AD14,AK14,$AD14)*VLOOKUP(LEFT($A14,3),Feuil2!$A:$D,4)),0)) -> 18414.5 | AK14: =IF(AL14<$AD14,AL14,$AD14)-IF(AK$1<=$AC14,0,IF(AK$1>IF($AC14<2022,2022,$AC14),IF(AK$1-IF($AC14<2022,2022,$AC14)=1,IF(AL14<$AD14,AL14,$AD14)*VLOOKUP(LEFT($A14,3),Feuil2!$A:$D,3,0),IF(AL14<$AD14,AL14,$AD14)*VLOOKUP(LEFT($A14,3),Feuil2!$A:$D,4)),0)) -> 28330 | AL14: =IF(AM14<$AD14,AM14,$AD14)-IF(AL$1<=$AC14,0,IF(AL$1>IF($AC14<2022,2022,$AC14),IF(AL$1-IF($AC14<2022,2022,$AC14)=1,IF(AM14<$AD14,AM14,$AD14)*VLOOKUP(LEFT($A14,3),Feuil2!$A:$D,3,0),IF(AM14<$AD14,AM14,$AD14)*VLOOKUP(LEFT($A14,3),Feuil2!$A:$D,4)),0)) -> 28330 | ... AN14: =IF(AO14<$AD14,AO14,$AD14)-IF(AN$1<=$AC14,0,IF(AN$1>IF($AC14<2022,2022,$AC14),IF(AN$1-IF($AC14<2022,2022,$AC14)=1,IF(AO14<$AD14,AO14,$AD14)*VLOOKUP(LEFT($A14,3),Feuil2!$A:$D,3,0),IF(AO14<$AD14,AO14,$AD14)*VLOOKUP(LEFT($A14,3),Feuil2!$A:$D,4)),0)) -> 28330 | AO14: =$AD14-IF(AO$1<=$AC14,0,IF(AO$1>IF($AC14<2022,2022,$AC14),IF(AO$1-IF($AC14<2022,2022,$AC14)=1,$AD14*VLOOKUP(LEFT($A14,3),Feuil2!$A:$D,3,0),$AD14*VLOOKUP(LEFT($A14,3),Feuil2!$A:$D,4)),0)) -> 28330
A15: BEN 14 | B15: GPDG | D15: BENNE | E15: RENAULT | F15: MASTER | T15: 120 | V15: =MID(A16,1,3) -> BEN | W15: {=_xlfn.IFS(LEFT(A15)="B",1,LEFT(A15)="R",2,LEFT(A15)="T",2,LEFT(A15)="V",2,LEFT(A15)="","")} -> 1 | X15: 10 | AA15: =12*Z15 -> 0 | AB15: =YEAR(I15) -> 1900 | AC15: =ROUND(Z15+AB15,0) -> 1900 | AN15: =$AD15-IF(AN$1<=$AC15,0,IF(AN$1>IF($AC15<2022,2022,$AC15),IF(AN$1-IF($AC15<2022,2022,$AC15)=1,$AD15*VLOOKUP(LEFT($A15,3),Feuil2!$A:$D,3,0),$AD15*VLOOKUP(LEFT($A15,3),Feuil2!$A:$D,4)),0)) -> 0 | AO15: =$AD15-IF(AO$1<=$AC15,0,IF(AO$1>IF($AC15<2022,2022,$AC15),IF(AO$1-IF($AC15<2022,2022,$AC15)=1,$AD15*VLOOKUP(LEFT($A15,3),Feuil2!$A:$D,3,0),$AD15*VLOOKUP(LEFT($A15,3),Feuil2!$A:$D,4)),0)) -> 0
A16: BEN 15 | B16: GPDG | D16: BENNE | E16: RENAULT | F16: MASTER | T16: 120 | V16: =MID(A17,1,3) -> BEN | W16: {=_xlfn.IFS(LEFT(A16)="B",1,LEFT(A16)="R",2,LEFT(A16)="T",2,LEFT(A16)="V",2,LEFT(A16)="","")} -> 1 | X16: 10 | AA16: =12*Z16 -> 0 | AB16: =YEAR(I16) -> 1900 | AC16: =ROUND(Z16+AB16,0) -> 1900 | AN16: =$AD16-IF(AN$1<=$AC16,0,IF(AN$1>IF($AC16<2022,2022,$AC16),IF(AN$1-IF($AC16<2022,2022,$AC16)=1,$AD16*VLOOKUP(LEFT($A16,3),Feuil2!$A:$D,3,0),$AD16*VLOOKUP(LEFT($A16,3),Feuil2!$A:$D,4)),0)) -> 0 | AO16: =$AD16-IF(AO$1<=$AC16,0,IF(AO$1>IF($AC16<2022,2022,$AC16),IF(AO$1-IF($AC16<2022,2022,$AC16)=1,$AD16*VLOOKUP(LEFT($A16,3),Feuil2!$A:$D,3,0),$AD16*VLOOKUP(LEFT($A16,3),Feuil2!$A:$D,4)),0)) -> 0
A17: BEN 16 | B17: GPDG | D17: BENNE | E17: PIAGGIO | F17: PORTER NP6 | T17: 120 | V17: =MID(A18,1,3) | W17: {=_xlfn.IFS(LEFT(A17)="B",1,LEFT(A17)="R",2,LEFT(A17)="T",2,LEFT(A17)="V",2,LEFT(A17)="","")} -> 1 | X17: 10 | AA17: =12*Z17 -> 0 | AB17: =YEAR(I17) -> 1900 | AC17: =ROUND(Z17+AB17,0) -> 1900 | AN17: =$AD17-IF(AN$1<=$AC17,0,IF(AN$1>IF($AC17<2022,2022,$AC17),IF(AN$1-IF($AC17<2022,2022,$AC17)=1,$AD17*VLOOKUP(LEFT($A17,3),Feuil2!$A:$D,3,0),$AD17*VLOOKUP(LEFT($A17,3),Feuil2!$A:$D,4)),0)) -> 0 | AO17: =$AD17-IF(AO$1<=$AC17,0,IF(AO$1>IF($AC17<2022,2022,$AC17),IF(AO$1-IF($AC17<2022,2022,$AC17)=1,$AD17*VLOOKUP(LEFT($A17,3),Feuil2!$A:$D,3,0),$AD17*VLOOKUP(LEFT($A17,3),Feuil2!$A:$D,4)),0)) -> 0
V18: =MID(A19,1,3) -> PL | W18: {=_xlfn.IFS(LEFT(A18)="B",1,LEFT(A18)="R",2,LEFT(A18)="T",2,LEFT(A18)="V",2,LEFT(A18)="","")}
A19: PL 001 | B19: GPDG | D19: POID LOURD | E19: RENAULT | F19: S180 | J19: 17000 | L19: 48 | R19: 642.24 | T19: 120 | V19: =MID(A20,1,3)
V20: =MID(A21,1,3) -> VL | W20: {=_xlfn.IFS(LEFT(A20)="B",1,LEFT(A20)="R",2,LEFT(A20)="T",2,LEFT(A20)="V",2,LEFT(A20)="","")}
A21: VL 001 | B21: GPDG | D21: VEHICULE LEGER | E21: RENAULT | F21: CLIO | I21: 42753 | J21: 1900 | L21: 36 | T21: 120 | V21: =MID(A22,1,3) -> VL | W21: {=_xlfn.IFS(LEFT(A21)="B",1,LEFT(A21)="R",2,LEFT(A21)="T",2,LEFT(A21)="V",2,LEFT(A21)="","")} -> 2 | X21: 10 | Z21: 3 | AA21: =12*Z21 -> 36 | AB21: =YEAR(I21) -> 2017 | AC21: =Z21+AB21 -> 2020 | AD21: 1900
A22: VL 002 | B22: GPDG | D22: VEHICULE LEGER | E22: RENAULT | F22: KANGOO | I22: 42856 | J22: 5495 | L22: 48 | M22: 44290 | R22: 445.5 | T22: 120 | V22: =MID(A23,1,3) -> VL | W22: {=_xlfn.IFS(LEFT(A22)="B",1,LEFT(A22)="R",2,LEFT(A22)="T",2,LEFT(A22)="V",2,LEFT(A22)="","")} -> 2 | X22: 10 | Z22: 3 | AA22: =12*Z22 -> 36 | AB22: =YEAR(I22) -> 2017 | AC22: =Z22+AB22 -> 2020 | AD22: 12461
A23: VL 003 | B23: GPDG | D23: VEHICULE LEGER | E23: PEUGEOT | F23: EXPERT | I23: 43069 | J23: 19906.9 | L23: 48 | M23: 44500 | R23: 445.5 | T23: 120 | V23: =MID(A24,1,3) -> VL | W23: {=_xlfn.IFS(LEFT(A23)="B",1,LEFT(A23)="R",2,LEFT(A23)="T",2,LEFT(A23)="V",2,LEFT(A23)="","")} -> 2 | X23: 10 | Z23: 5 | AA23: =12*Z23 -> 60 | AB23: =YEAR(I23) -> 2017 | AC23: =Z23+AB23 -> 2022 | AD23: 15000
A24: VL 004 | B24: GPDG | D24: VEHICULE LEGER | E24: RENAULT | F24: MASTER | I24: 43553 | J24: 17306.67 | L24: 48 | M24: 45077 | R24: 540 | T24: 120 | V24: =MID(A25,1,3) -> VL | W24: {=_xlfn.IFS(LEFT(A24)="B",1,LEFT(A24)="R",2,LEFT(A24)="T",2,LEFT(A24)="V",2,LEFT(A24)="","")} -> 2 | X24: 10 | Z24: 5 | AA24: =12*Z24 -> 60 | AB24: =YEAR(I24) -> 2019 | AC24: =Z24+AB24 -> 2024 | AD24: 17306.67
A25: VL 005 | B25: GPDG | D25: VEHICULE LEGER | E25: IVECO | F25: DAILY | I25: 43701 | J25: 23750 | L25: 62 | M25: 45540 | R25: 585 | T25: 120 | V25: =MID(A26,1,3) -> VL | W25: {=_xlfn.IFS(LEFT(A25)="B",1,LEFT(A25)="R",2,LEFT(A25)="T",2,LEFT(A25)="V",2,LEFT(A25)="","")} -> 2 | X25: 10 | Z25: 5.166666 | AA25: =12*Z25 -> 61.999992 | AB25: =YEAR(I25) -> 2019 | AC25: =Z25+AB25 -> 2024.1667 | AD25: 23750
A26: VL 006 | B26: GPDG | D26: VEHICULE LEGER | E26: RENAULT | F26: CLIO | I26: 43929 | J26: 4302.79 | L26: 48 | M26: 45448 | R26: 396 | T26: 120 | V26: =MID(A27,1,3) -> VL | W26: {=_xlfn.IFS(LEFT(A26)="B",1,LEFT(A26)="R",2,LEFT(A26)="T",2,LEFT(A26)="V",2,LEFT(A26)="","")} -> 2 | X26: 10 | Z26: 5 | AA26: =12*Z26 -> 60 | AB26: =YEAR(I26) -> 2020 | AC26: =Z26+AB26 -> 2025 | AD26: 4302.79
A27: VL 007 | B27: GPDG | D27: VEHICULE LEGER | E27: FIAT | F27: TALENTO | I27: 44279 | J27: 21541.88 | L27: 48 | M27: 45728 | R27: 445.5 | T27: 120 | V27: =MID(A28,1,3) -> VL | W27: {=_xlfn.IFS(LEFT(A27)="B",1,LEFT(A27)="R",2,LEFT(A27)="T",2,LEFT(A27)="V",2,LEFT(A27)="","")} -> 2 | X27: 10 | Z27: 4 | AA27: =12*Z27 -> 48 | AB27: =YEAR(I27) -> 2021 | AC27: =Z27+AB27 -> 2025 | AD27: 21541.88
A28: VL 008 | B28: GPDG | D28: VEHICULE LEGER | E28: TOYOTA | F28: PRAOCE CITY | I28: 44535 | J28: 17799.16 | L28: 48 | M28: 45959 | R28: 445.5 | S28: 0 | T28: 120 | V28: =MID(A29,1,3) -> VL | W28: {=_xlfn.IFS(LEFT(A28)="B",1,LEFT(A28)="R",2,LEFT(A28)="T",2,LEFT(A28)="V",2,LEFT(A28)="","")} -> 2 | X28: 10 | Z28: 4 | AA28: =12*Z28 -> 48 | AB28: =YEAR(I28) -> 2021 | AC28: =Z28+AB28 -> 2025 | AD28: 20209.38
A29: VL 009 | B29: GPDG | D29: VEHICULE LEGER | E29: TOYOTA | F29: YARIS | I29: 44376 | J29: 22801.28 | L29: 49 | R29: 180 | T29: 120 | V29: =MID(A30,1,3) -> VL | W29: {=_xlfn.IFS(LEFT(A29)="B",1,LEFT(A29)="R",2,LEFT(A29)="T",2,LEFT(A29)="V",2,LEFT(A29)="","")} -> 2 | X29: 10 | Z29: 4.083 | AA29: 49 | AB29: =YEAR(I29) -> 2021 | AC29: =Z29+AB29 -> 2025.083 | AD29: 22801.28
A30: VL 010 | B30: GPDG | D30: VEHICULE LEGER | E30: RENAULT | F30: ZOE | I30: 44999 | J30: 22918.96 | L30: 60 | S30: 0 | T30: 120 | V30: =MID(A31,1,3) -> vP. | W30: {=_xlfn.IFS(LEFT(A30)="B",1,LEFT(A30)="R",2,LEFT(A30)="T",2,LEFT(A30)="V",2,LEFT(A30)="","")} -> 2 | X30: 10 | Z30: 5 | AA30: =12*Z30 -> 60 | AB30: =YEAR(I30) -> 2023 | AC30: =Z30+AB30 -> 2028 | AD30: 22918.96
A31: vP.UP 1 | D31: VEHICULE LEGER | E31: TOYOTA | F31: HILUX | I31: 42885 | J31: 28533.4 | L31: 66 | M31: 44867 | R31: 405 | T31: 120 | V31: =MID(A32,1,3) | W31: {=_xlfn.IFS(LEFT(A31)="B",1,LEFT(A31)="R",2,LEFT(A31)="T",2,LEFT(A31)="V",2,LEFT(A31)="","")} -> 2 | X31: 10 | Z31: 3 | AA31: =12*Z31 -> 36 | AB31: =YEAR(I31) -> 2017 | AC31: =Z31+AB31 -> 2020 | AD31: 28533.4
V32: =MID(A33,1,3) -> REM | W32: {=_xlfn.IFS(LEFT(A32)="B",1,LEFT(A32)="R",2,LEFT(A32)="T",2,LEFT(A32)="V",2,LEFT(A32)="","")}
A33: REM XX | D33: REMORQUE / BROYEUR | E33: LIDER | F33: CADIX | T33: 80 | V33: =MID(A34,1,3) -> REM | W33: {=_xlfn.IFS(LEFT(A33)="B",1,LEFT(A33)="R",2,LEFT(A33)="T",2,LEFT(A33)="V",2,LEFT(A33)="","")} -> 2 | X33: 5 | AA33: =12*Z33 -> 0 | AB33: =YEAR(I33) -> 1900 | AC33: =Z33+AB33 -> 1900 | AE33: =IF(AE$1<$AC33,0,IF(AE$1>$AC33,IF('Véhicules MAJ 20012022'!AE$1-'Véhicules MAJ 20012022'!$AC33=1,$AD33*VLOOKUP(LEFT($A33,3),Feuil2!$A:$D,3,0),$AD33*VLOOKUP(LEFT($A33,3),Feuil2!$A:$D,4)),0)) -> 0 | AF33: =IF(AF$1<$AC33,0,IF(AF$1>$AC33,IF('Véhicules MAJ 20012022'!AF$1-'Véhicules MAJ 20012022'!$AC33=1,$AD33*VLOOKUP(LEFT($A33,3),Feuil2!$A:$D,3,0),$AD33*VLOOKUP(LEFT($A33,3),Feuil2!$A:$D,4)),0)) -> 0 | AG33: =IF(AG$1<$AC33,0,IF(AG$1>$AC33,IF('Véhicules MAJ 20012022'!AG$1-'Véhicules MAJ 20012022'!$AC33=1,$AD33*VLOOKUP(LEFT($A33,3),Feuil2!$A:$D,3,0),$AD33*VLOOKUP(LEFT($A33,3),Feuil2!$A:$D,4)),0)) -> 0 | AH33: =IF(AH$1<$AC33,0,IF(AH$1>$AC33,IF('Véhicules MAJ 20012022'!AH$1-'Véhicules MAJ 20012022'!$AC33=1,$AD33*VLOOKUP(LEFT($A33,3),Feuil2!$A:$D,3,0),$AD33*VLOOKUP(LEFT($A33,3),Feuil2!$A:$D,4)),0)) -> 0 | AI33: =IF(AI$1<$AC33,0,IF(AI$1>$AC33,IF('Véhicules MAJ 20012022'!AI$1-'Véhicules MAJ 20012022'!$AC33=1,$AD33*VLOOKUP(LEFT($A33,3),Feuil2!$A:$D,3,0),$AD33*VLOOKUP(LEFT($A33,3),Feuil2!$A:$D,4)),0)) -> 0 | AJ33: =IF(AJ$1<$AC33,0,IF(AJ$1>$AC33,IF('Véhicules MAJ 20012022'!AJ$1-'Véhicules MAJ 20012022'!$AC33=1,$AD33*VLOOKUP(LEFT($A33,3),Feuil2!$A:$D,3,0),$AD33*VLOOKUP(LEFT($A33,3),Feuil2!$A:$D,4)),0)) -> 0 | AK33: =IF(AK$1<$AC33,0,IF(AK$1>$AC33,IF('Véhicules MAJ 20012022'!AK$1-'Véhicules MAJ 20012022'!$AC33=1,$AD33*VLOOKUP(LEFT($A33,3),Feuil2!$A:$D,3,0),$AD33*VLOOKUP(LEFT($A33,3),Feuil2!$A:$D,4)),0)) -> 0 | AL33: =IF(AL$1<$AC33,0,IF(AL$1>$AC33,IF('Véhicules MAJ 20012022'!AL$1-'Véhicules MAJ 20012022'!$AC33=1,$AD33*VLOOKUP(LEFT($A33,3),Feuil2!$A:$D,3,0),$AD33*VLOOKUP(LEFT($A33,3),Feuil2!$A:$D,4)),0)) -> 0 | ... AP33: =IF(AP$1<$AC33,0,IF(AP$1>$AC33,IF('Véhicules MAJ 20012022'!AP$1-'Véhicules MAJ 20012022'!$AC33=1,$AD33*VLOOKUP(LEFT($A33,3),Feuil2!$A:$D,3,0),$AD33*VLOOKUP(LEFT($A33,3),Feuil2!$A:$D,4)),0)) -> 0
A34: REM 01 | D34: REMORQUE / BROYEUR | E34: LIDER | F34: GRILLAGE | J34: 1200 | T34: 80 | V34: =MID(A35,1,3) -> REM | W34: {=_xlfn.IFS(LEFT(A34)="B",1,LEFT(A34)="R",2,LEFT(A34)="T",2,LEFT(A34)="V",2,LEFT(A34)="","")} -> 2 | X34: 5 | AA34: =12*Z34 -> 0 | AB34: =YEAR(I34) -> 1900 | AC34: =Z34+AB34 -> 1900 | AD34: 1200 | AE34: =IF(AE$1<$AC34,0,IF(AE$1>$AC34,IF('Véhicules MAJ 20012022'!AE$1-'Véhicules MAJ 20012022'!$AC34=1,$AD34*VLOOKUP(LEFT($A34,3),Feuil2!$A:$D,3,0),$AD34*VLOOKUP(LEFT($A34,3),Feuil2!$A:$D,4)),0)) -> 84 | AF34: =IF(AF$1<$AC34,0,IF(AF$1>$AC34,IF('Véhicules MAJ 20012022'!AF$1-'Véhicules MAJ 20012022'!$AC34=1,$AD34*VLOOKUP(LEFT($A34,3),Feuil2!$A:$D,3,0),$AD34*VLOOKUP(LEFT($A34,3),Feuil2!$A:$D,4)),0)) -> 84 | AG34: =IF(AG$1<$AC34,0,IF(AG$1>$AC34,IF('Véhicules MAJ 20012022'!AG$1-'Véhicules MAJ 20012022'!$AC34=1,$AD34*VLOOKUP(LEFT($A34,3),Feuil2!$A:$D,3,0),$AD34*VLOOKUP(LEFT($A34,3),Feuil2!$A:$D,4)),0)) -> 84 | AH34: =IF(AH$1<$AC34,0,IF(AH$1>$AC34,IF('Véhicules MAJ 20012022'!AH$1-'Véhicules MAJ 20012022'!$AC34=1,$AD34*VLOOKUP(LEFT($A34,3),Feuil2!$A:$D,3,0),$AD34*VLOOKUP(LEFT($A34,3),Feuil2!$A:$D,4)),0)) -> 84 | AI34: =IF(AI$1<$AC34,0,IF(AI$1>$AC34,IF('Véhicules MAJ 20012022'!AI$1-'Véhicules MAJ 20012022'!$AC34=1,$AD34*VLOOKUP(LEFT($A34,3),Feuil2!$A:$D,3,0),$AD34*VLOOKUP(LEFT($A34,3),Feuil2!$A:$D,4)),0)) -> 84 | AJ34: =IF(AJ$1<$AC34,0,IF(AJ$1>$AC34,IF('Véhicules MAJ 20012022'!AJ$1-'Véhicules MAJ 20012022'!$AC34=1,$AD34*VLOOKUP(LEFT($A34,3),Feuil2!$A:$D,3,0),$AD34*VLOOKUP(LEFT($A34,3),Feuil2!$A:$D,4)),0)) -> 84 | AK34: =IF(AK$1<$AC34,0,IF(AK$1>$AC34,IF('Véhicules MAJ 20012022'!AK$1-'Véhicules MAJ 20012022'!$AC34=1,$AD34*VLOOKUP(LEFT($A34,3),Feuil2!$A:$D,3,0),$AD34*VLOOKUP(LEFT($A34,3),Feuil2!$A:$D,4)),0)) -> 84 | AL34: =IF(AL$1<$AC34,0,IF(AL$1>$AC34,IF('Véhicules MAJ 20012022'!AL$1-'Véhicules MAJ 20012022'!$AC34=1,$AD34*VLOOKUP(LEFT($A34,3),Feuil2!$A:$D,3,0),$AD34*VLOOKUP(LEFT($A34,3),Feuil2!$A:$D,4)),0)) -> 84 | ... AP34: =IF(AP$1<$AC34,0,IF(AP$1>$AC34,IF('Véhicules MAJ 20012022'!AP$1-'Véhicules MAJ 20012022'!$AC34=1,$AD34*VLOOKUP(LEFT($A34,3),Feuil2!$A:$D,3,0),$AD34*VLOOKUP(LEFT($A34,3),Feuil2!$A:$D,4)),0)) -> 0
A35: REM 02 | D35: REMORQUE / BROYEUR | E35: ECIM | F35: TRI BENNE | G35: VNC2AF350DV000644 | J35: 1024.25 | T35: 80 | U35: X | V35: =MID(A36,1,3) -> REM | W35: {=_xlfn.IFS(LEFT(A35)="B",1,LEFT(A35)="R",2,LEFT(A35)="T",2,LEFT(A35)="V",2,LEFT(A35)="","")} -> 2 | X35: 5 | AA35: =12*Z35 -> 0 | AB35: =YEAR(I35) -> 1900 | AC35: =Z35+AB35 -> 1900 | AD35: 1024.25 | AE35: =IF(AE$1<$AC35,0,IF(AE$1>$AC35,IF('Véhicules MAJ 20012022'!AE$1-'Véhicules MAJ 20012022'!$AC35=1,$AD35*VLOOKUP(LEFT($A35,3),Feuil2!$A:$D,3,0),$AD35*VLOOKUP(LEFT($A35,3),Feuil2!$A:$D,4)),0)) -> 71.6975 | AF35: =IF(AF$1<$AC35,0,IF(AF$1>$AC35,IF('Véhicules MAJ 20012022'!AF$1-'Véhicules MAJ 20012022'!$AC35=1,$AD35*VLOOKUP(LEFT($A35,3),Feuil2!$A:$D,3,0),$AD35*VLOOKUP(LEFT($A35,3),Feuil2!$A:$D,4)),0)) -> 71.6975 | AG35: =IF(AG$1<$AC35,0,IF(AG$1>$AC35,IF('Véhicules MAJ 20012022'!AG$1-'Véhicules MAJ 20012022'!$AC35=1,$AD35*VLOOKUP(LEFT($A35,3),Feuil2!$A:$D,3,0),$AD35*VLOOKUP(LEFT($A35,3),Feuil2!$A:$D,4)),0)) -> 71.6975 | AH35: =IF(AH$1<$AC35,0,IF(AH$1>$AC35,IF('Véhicules MAJ 20012022'!AH$1-'Véhicules MAJ 20012022'!$AC35=1,$AD35*VLOOKUP(LEFT($A35,3),Feuil2!$A:$D,3,0),$AD35*VLOOKUP(LEFT($A35,3),Feuil2!$A:$D,4)),0)) -> 71.6975 | AI35: =IF(AI$1<$AC35,0,IF(AI$1>$AC35,IF('Véhicules MAJ 20012022'!AI$1-'Véhicules MAJ 20012022'!$AC35=1,$AD35*VLOOKUP(LEFT($A35,3),Feuil2!$A:$D,3,0),$AD35*VLOOKUP(LEFT($A35,3),Feuil2!$A:$D,4)),0)) -> 71.6975 | AJ35: =IF(AJ$1<$AC35,0,IF(AJ$1>$AC35,IF('Véhicules MAJ 20012022'!AJ$1-'Véhicules MAJ 20012022'!$AC35=1,$AD35*VLOOKUP(LEFT($A35,3),Feuil2!$A:$D,3,0),$AD35*VLOOKUP(LEFT($A35,3),Feuil2!$A:$D,4)),0)) -> 71.6975 | AK35: =IF(AK$1<$AC35,0,IF(AK$1>$AC35,IF('Véhicules MAJ 20012022'!AK$1-'Véhicules MAJ 20012022'!$AC35=1,$AD35*VLOOKUP(LEFT($A35,3),Feuil2!$A:$D,3,0),$AD35*VLOOKUP(LEFT($A35,3),Feuil2!$A:$D,4)),0)) -> 71.6975 | AL35: =IF(AL$1<$AC35,0,IF(AL$1>$AC35,IF('Véhicules MAJ 20012022'!AL$1-'Véhicules MAJ 20012022'!$AC35=1,$AD35*VLOOKUP(LEFT($A35,3),Feuil2!$A:$D,3,0),$AD35*VLOOKUP(LEFT($A35,3),Feuil2!$A:$D,4)),0)) -> 71.6975 | ... AP35: =IF(AP$1<$AC35,0,IF(AP$1>$AC35,IF('Véhicules MAJ 20012022'!AP$1-'Véhicules MAJ 20012022'!$AC35=1,$AD35*VLOOKUP(LEFT($A35,3),Feuil2!$A:$D,3,0),$AD35*VLOOKUP(LEFT($A35,3),Feuil2!$A:$D,4)),0)) -> 0
A36: REM 03 | D36: REMORQUE / BROYEUR | E36: LIDER | F36: GRD PLATEAU | G36: VN52L266020140161 | J36: 4329 | L36: 60 | T36: 80 | U36: X | V36: =MID(A37,1,3) -> REM | W36: {=_xlfn.IFS(LEFT(A36)="B",1,LEFT(A36)="R",2,LEFT(A36)="T",2,LEFT(A36)="V",2,LEFT(A36)="","")} -> 2 | X36: 5 | Z36: 5 | AA36: =12*Z36 -> 60 | AB36: =YEAR(I36) -> 1900 | AC36: =Z36+AB36 -> 1905 | AD36: 4329 | AE36: =IF(AE$1<$AC36,0,IF(AE$1>$AC36,IF('Véhicules MAJ 20012022'!AE$1-'Véhicules MAJ 20012022'!$AC36=1,$AD36*VLOOKUP(LEFT($A36,3),Feuil2!$A:$D,3,0),$AD36*VLOOKUP(LEFT($A36,3),Feuil2!$A:$D,4)),0)) -> 303.03 | AF36: =IF(AF$1<$AC36,0,IF(AF$1>$AC36,IF('Véhicules MAJ 20012022'!AF$1-'Véhicules MAJ 20012022'!$AC36=1,$AD36*VLOOKUP(LEFT($A36,3),Feuil2!$A:$D,3,0),$AD36*VLOOKUP(LEFT($A36,3),Feuil2!$A:$D,4)),0)) -> 303.03 | AG36: =IF(AG$1<$AC36,0,IF(AG$1>$AC36,IF('Véhicules MAJ 20012022'!AG$1-'Véhicules MAJ 20012022'!$AC36=1,$AD36*VLOOKUP(LEFT($A36,3),Feuil2!$A:$D,3,0),$AD36*VLOOKUP(LEFT($A36,3),Feuil2!$A:$D,4)),0)) -> 303.03 | AH36: =IF(AH$1<$AC36,0,IF(AH$1>$AC36,IF('Véhicules MAJ 20012022'!AH$1-'Véhicules MAJ 20012022'!$AC36=1,$AD36*VLOOKUP(LEFT($A36,3),Feuil2!$A:$D,3,0),$AD36*VLOOKUP(LEFT($A36,3),Feuil2!$A:$D,4)),0)) -> 303.03 | AI36: =IF(AI$1<$AC36,0,IF(AI$1>$AC36,IF('Véhicules MAJ 20012022'!AI$1-'Véhicules MAJ 20012022'!$AC36=1,$AD36*VLOOKUP(LEFT($A36,3),Feuil2!$A:$D,3,0),$AD36*VLOOKUP(LEFT($A36,3),Feuil2!$A:$D,4)),0)) -> 303.03 | AJ36: =IF(AJ$1<$AC36,0,IF(AJ$1>$AC36,IF('Véhicules MAJ 20012022'!AJ$1-'Véhicules MAJ 20012022'!$AC36=1,$AD36*VLOOKUP(LEFT($A36,3),Feuil2!$A:$D,3,0),$AD36*VLOOKUP(LEFT($A36,3),Feuil2!$A:$D,4)),0)) -> 303.03 | AK36: =IF(AK$1<$AC36,0,IF(AK$1>$AC36,IF('Véhicules MAJ 20012022'!AK$1-'Véhicules MAJ 20012022'!$AC36=1,$AD36*VLOOKUP(LEFT($A36,3),Feuil2!$A:$D,3,0),$AD36*VLOOKUP(LEFT($A36,3),Feuil2!$A:$D,4)),0)) -> 303.03 | AL36: =IF(AL$1<$AC36,0,IF(AL$1>$AC36,IF('Véhicules MAJ 20012022'!AL$1-'Véhicules MAJ 20012022'!$AC36=1,$AD36*VLOOKUP(LEFT($A36,3),Feuil2!$A:$D,3,0),$AD36*VLOOKUP(LEFT($A36,3),Feuil2!$A:$D,4)),0)) -> 303.03 | ... AP36: =IF(AP$1<$AC36,0,IF(AP$1>$AC36,IF('Véhicules MAJ 20012022'!AP$1-'Véhicules MAJ 20012022'!$AC36=1,$AD36*VLOOKUP(LEFT($A36,3),Feuil2!$A:$D,3,0),$AD36*VLOOKUP(LEFT($A36,3),Feuil2!$A:$D,4)),0)) -> 0
A37: REM 04 | D37: REMORQUE / BROYEUR | E37: LIDER | F37: PETIT PLATEAU | G37: VN52L138520150077 | T37: 80 | U37: X | V37: =MID(A38,1,3) -> REM | W37: {=_xlfn.IFS(LEFT(A37)="B",1,LEFT(A37)="R",2,LEFT(A37)="T",2,LEFT(A37)="V",2,LEFT(A37)="","")} -> 2 | X37: 5 | AA37: =12*Z37 -> 0 | AB37: =YEAR(I37) -> 1900 | AC37: =Z37+AB37 -> 1900 | AE37: =IF(AE$1<$AC37,0,IF(AE$1>$AC37,IF('Véhicules MAJ 20012022'!AE$1-'Véhicules MAJ 20012022'!$AC37=1,$AD37*VLOOKUP(LEFT($A37,3),Feuil2!$A:$D,3,0),$AD37*VLOOKUP(LEFT($A37,3),Feuil2!$A:$D,4)),0)) -> 0 | AF37: =IF(AF$1<$AC37,0,IF(AF$1>$AC37,IF('Véhicules MAJ 20012022'!AF$1-'Véhicules MAJ 20012022'!$AC37=1,$AD37*VLOOKUP(LEFT($A37,3),Feuil2!$A:$D,3,0),$AD37*VLOOKUP(LEFT($A37,3),Feuil2!$A:$D,4)),0)) -> 0 | AG37: =IF(AG$1<$AC37,0,IF(AG$1>$AC37,IF('Véhicules MAJ 20012022'!AG$1-'Véhicules MAJ 20012022'!$AC37=1,$AD37*VLOOKUP(LEFT($A37,3),Feuil2!$A:$D,3,0),$AD37*VLOOKUP(LEFT($A37,3),Feuil2!$A:$D,4)),0)) -> 0 | AH37: =IF(AH$1<$AC37,0,IF(AH$1>$AC37,IF('Véhicules MAJ 20012022'!AH$1-'Véhicules MAJ 20012022'!$AC37=1,$AD37*VLOOKUP(LEFT($A37,3),Feuil2!$A:$D,3,0),$AD37*VLOOKUP(LEFT($A37,3),Feuil2!$A:$D,4)),0)) -> 0 | AI37: =IF(AI$1<$AC37,0,IF(AI$1>$AC37,IF('Véhicules MAJ 20012022'!AI$1-'Véhicules MAJ 20012022'!$AC37=1,$AD37*VLOOKUP(LEFT($A37,3),Feuil2!$A:$D,3,0),$AD37*VLOOKUP(LEFT($A37,3),Feuil2!$A:$D,4)),0)) -> 0 | AJ37: =IF(AJ$1<$AC37,0,IF(AJ$1>$AC37,IF('Véhicules MAJ 20012022'!AJ$1-'Véhicules MAJ 20012022'!$AC37=1,$AD37*VLOOKUP(LEFT($A37,3),Feuil2!$A:$D,3,0),$AD37*VLOOKUP(LEFT($A37,3),Feuil2!$A:$D,4)),0)) -> 0 | AK37: =IF(AK$1<$AC37,0,IF(AK$1>$AC37,IF('Véhicules MAJ 20012022'!AK$1-'Véhicules MAJ 20012022'!$AC37=1,$AD37*VLOOKUP(LEFT($A37,3),Feuil2!$A:$D,3,0),$AD37*VLOOKUP(LEFT($A37,3),Feuil2!$A:$D,4)),0)) -> 0 | AL37: =IF(AL$1<$AC37,0,IF(AL$1>$AC37,IF('Véhicules MAJ 20012022'!AL$1-'Véhicules MAJ 20012022'!$AC37=1,$AD37*VLOOKUP(LEFT($A37,3),Feuil2!$A:$D,3,0),$AD37*VLOOKUP(LEFT($A37,3),Feuil2!$A:$D,4)),0)) -> 0 | ... AP37: =IF(AP$1<$AC37,0,IF(AP$1>$AC37,IF('Véhicules MAJ 20012022'!AP$1-'Véhicules MAJ 20012022'!$AC37=1,$AD37*VLOOKUP(LEFT($A37,3),Feuil2!$A:$D,3,0),$AD37*VLOOKUP(LEFT($A37,3),Feuil2!$A:$D,4)),0)) -> 0
A38: REM 05 | D38: REMORQUE / BROYEUR | E38: LIDER | F38: PETIT PLATEAU | G38: VN52L1630J1000067 | J38: 2426 | L38: 24 | T38: 80 | V38: =MID(A39,1,3) -> REM | W38: {=_xlfn.IFS(LEFT(A38)="B",1,LEFT(A38)="R",2,LEFT(A38)="T",2,LEFT(A38)="V",2,LEFT(A38)="","")} -> 2 | X38: 10 | Z38: 10 | AA38: =12*Z38 -> 120 | AB38: =YEAR(I38) -> 1900 | AC38: =Z38+AB38 -> 1910 | AD38: 2426 | AE38: =IF(AE$1<$AC38,0,IF(AE$1>$AC38,IF('Véhicules MAJ 20012022'!AE$1-'Véhicules MAJ 20012022'!$AC38=1,$AD38*VLOOKUP(LEFT($A38,3),Feuil2!$A:$D,3,0),$AD38*VLOOKUP(LEFT($A38,3),Feuil2!$A:$D,4)),0)) -> 169.82 | AF38: =IF(AF$1<$AC38,0,IF(AF$1>$AC38,IF('Véhicules MAJ 20012022'!AF$1-'Véhicules MAJ 20012022'!$AC38=1,$AD38*VLOOKUP(LEFT($A38,3),Feuil2!$A:$D,3,0),$AD38*VLOOKUP(LEFT($A38,3),Feuil2!$A:$D,4)),0)) -> 169.82 | AG38: =IF(AG$1<$AC38,0,IF(AG$1>$AC38,IF('Véhicules MAJ 20012022'!AG$1-'Véhicules MAJ 20012022'!$AC38=1,$AD38*VLOOKUP(LEFT($A38,3),Feuil2!$A:$D,3,0),$AD38*VLOOKUP(LEFT($A38,3),Feuil2!$A:$D,4)),0)) -> 169.82 | AH38: =IF(AH$1<$AC38,0,IF(AH$1>$AC38,IF('Véhicules MAJ 20012022'!AH$1-'Véhicules MAJ 20012022'!$AC38=1,$AD38*VLOOKUP(LEFT($A38,3),Feuil2!$A:$D,3,0),$AD38*VLOOKUP(LEFT($A38,3),Feuil2!$A:$D,4)),0)) -> 169.82 | AI38: =IF(AI$1<$AC38,0,IF(AI$1>$AC38,IF('Véhicules MAJ 20012022'!AI$1-'Véhicules MAJ 20012022'!$AC38=1,$AD38*VLOOKUP(LEFT($A38,3),Feuil2!$A:$D,3,0),$AD38*VLOOKUP(LEFT($A38,3),Feuil2!$A:$D,4)),0)) -> 169.82 | AJ38: =IF(AJ$1<$AC38,0,IF(AJ$1>$AC38,IF('Véhicules MAJ 20012022'!AJ$1-'Véhicules MAJ 20012022'!$AC38=1,$AD38*VLOOKUP(LEFT($A38,3),Feuil2!$A:$D,3,0),$AD38*VLOOKUP(LEFT($A38,3),Feuil2!$A:$D,4)),0)) -> 169.82 | AK38: =IF(AK$1<$AC38,0,IF(AK$1>$AC38,IF('Véhicules MAJ 20012022'!AK$1-'Véhicules MAJ 20012022'!$AC38=1,$AD38*VLOOKUP(LEFT($A38,3),Feuil2!$A:$D,3,0),$AD38*VLOOKUP(LEFT($A38,3),Feuil2!$A:$D,4)),0)) -> 169.82 | AL38: =IF(AL$1<$AC38,0,IF(AL$1>$AC38,IF('Véhicules MAJ 20012022'!AL$1-'Véhicules MAJ 20012022'!$AC38=1,$AD38*VLOOKUP(LEFT($A38,3),Feuil2!$A:$D,3,0),$AD38*VLOOKUP(LEFT($A38,3),Feuil2!$A:$D,4)),0)) -> 169.82 | ... AP38: =IF(AP$1<$AC38,0,IF(AP$1>$AC38,IF('Véhicules MAJ 20012022'!AP$1-'Véhicules MAJ 20012022'!$AC38=1,$AD38*VLOOKUP(LEFT($A38,3),Feuil2!$A:$D,3,0),$AD38*VLOOKUP(LEFT($A38,3),Feuil2!$A:$D,4)),0)) -> 0
