Workbook

Sheet Calcul FJ
A1: Année complète
A2: Année | B2: 2024
A3: Premier jour de l'année | B3: =DATE(B2,1,1) -> 45292
A4: Dernier jour de l'année | B4: =DATE(B2,12,31) -> 45657
A5: Nombre de jours calendaires de l'année | B5: =B4-B3+1 -> 366
A6: Forfait pour une année compléte | B6: 218
A8: Calcul RJF
A9: Date début contrat | B9: 45399
A10: Date fin de contrat | B10: 45657
A11: Forfait année incomplète | B11: =ROUNDUP(B6/B5*B13,) -> 155
A12: Nombre de jours ouvrés de la période | B12: =NETWORKDAYS(B9,B10) -> 185
A13: Nombre de jours calendaires de la période | B13: =B10-B9+1 -> 259
A14: Nombre de samedi et dimanche de la période | B14: =NETWORKDAYS.INTL(B9,B10,"1111100") -> 74
A15: Nombre de jours fériés tombant en semaine | B15: =NETWORKDAYS.INTL(B9,B10,"0000011")-NETWORKDAYS.INTL(B9,B10,"0000011",JF!B3:B13) -> 8
A16: Journée de solidarité à déduire des JF | B16: 1
A17: Nombre de congés payés | B17: 18
A18: Forfait du salarié pour l'année | B18: =B13-B14-B15+B16-B17 -> 160
A19: RFJ | B19: =B18-B11 -> 5

Sheet FJ réduit
A1: Année complète | E1: Formule excel calcul RFJ
A2: Année | B2: 2024
A3: Premier jour de l'année | B3: =DATE(B2,1,1) -> 45292
A4: Dernier jour de l'année | B4: =DATE(B2,12,31) -> 45657
A5: Nombre de jours calendaires de l'année | B5: =B4-B3+1 -> 366
A6: Forfait pour une année compléte | B6: 175
A8: Calcul RJF (Forfait jours réduit)
A9: Date début contrat | B9: 45299
A10: Date fin de contrat | B10: 45657
A11: Forfait année incomplète | B11: =ROUNDUP(B6/B5*B13,) -> 172
A12: Nombre de jours ouvrés de la période | B12: =NETWORKDAYS(B9,B10) -> 257
A13: Nombre de jours calendaires de la période | B13: =B10-B9+1 -> 359
A14: Nombre de samedi et dimanche de la période | B14: =NETWORKDAYS.INTL(B9,B10,"1111100") -> 102
A15: Jour non travaillé | B15: Vendredi
A16: Jours de repos | B16: =INT(($B10-WEEKDAY($B10-(MATCH($B15,{"lundi";"mardi";"mercredi";"jeudi";"vendredi"},0)-1),2)-$B9+8)/7) -> 51
A17: Nombre de jours fériés tombant en semaine (hors journée non travaillée) | B17: =NETWORKDAYS.INTL(B9,B10,"0000011")-NETWORKDAYS.INTL(B9,B10,"0000011",JF!B3:B13) -> 9
A18: Journée de solidarité à déduire des JF | B18: 1
A19: Nombre de congés payés | B19: 20
A20: Forfait du salarié pour l'année | B20: =B13-B14-B16-B17+B18-B19 -> 178
A21: RFJ | B21: =B20-B11 -> 6

Sheet JF
A1: Jours fériés
A3: 1er janvier | B3: =DATE('Calcul FJ'!$B$2,1,1) -> 45292
A4: Lundi de pâques | B4: =(ROUND(DATE('Calcul FJ'!B2,4,MOD(234-11*MOD('Calcul FJ'!B2,19),30))/7,0)*7-6)+1 -> 45383
A5: Fête du travail | B5: =DATE('Calcul FJ'!B2,5,1) -> 45413
A6: Libération 1945 | B6: =DATE('Calcul FJ'!B2,5,8) -> 45420
A7: Jeudi de l'ascencion | B7: =B4+38 -> 45421
A8: Lundi de pentecôte | B8: =B4+49 -> 45432
A9: Fête nationale | B9: =DATE('Calcul FJ'!B2,7,14) -> 45487
A10: Assomption | B10: =DATE('Calcul FJ'!B2,8,15) -> 45519
A11: Toussaint | B11: =DATE('Calcul FJ'!B2,11,1) -> 45597
A12: Armistice 1918 | B12: =DATE('Calcul FJ'!B2,11,11) -> 45607
A13: Noël | B13: =DATE('Calcul FJ'!B2,12,25) -> 45651
