Workbook

Sheet Liste de prix générale
A1: APPAREILS SANITAIRES
A2: QTE | B2: DESCRIPTION DES MATÉRIAUX | C2: PRIX UNITAIRE | D2: TPS/TVQ | E2: PRIX + TAXES | F2: MONTANT | G2: !
A3: PLOMBERIE
A4: 0 | B4: BAIGNOIRE EN ACIER 30X60" | C4: 162 | D4: =C4*0.1288 -> 20.8656 | E4: =C4+D4 -> 182.8656 | F4: =E4*A4 -> 0 | G4: =COUNTIF($A$4:A4,">0") -> 0
B5: BAIGNOIRE EN ACRYLIQUE 30X60" | C5: 354 | D5: =C5*0.1288 -> 45.5952 | E5: =C5+D5 -> 399.5952 | F5: =E5*A5 -> 0 | G5: =COUNTIF($A$4:A5,">0") -> 0
B6: CUVETTE EN PORCELAINE 20X18X33-3/8" | C6: 150 | D6: =C6*0.1288 -> 19.32 | E6: =C6+D6 -> 169.32 | F6: =E6*A6 -> 0 | G6: =COUNTIF($A$4:A6,">0") -> 0
B7: DOUCHE EN ACRYLIQUE 36X36X76" | C7: 299 | D7: =C7*0.1288 -> 38.5112 | E7: =C7+D7 -> 337.5112 | F7: =E7*A7 -> 0 | G7: =COUNTIF($A$4:A7,">0") -> 0
B8: LAVABO 20-1/2X17" | C8: 50 | D8: =C8*0.1288 -> 6.44 | E8: =C8+D8 -> 56.44 | F8: =E8*A8 -> 0 | G8: =COUNTIF($A$4:A8,">0") -> 0
A9: 3 | B9: LAVABO SUR SOCLE | C9: 150 | D9: =C9*0.1288 -> 19.32 | E9: =C9+D9 -> 169.32 | F9: =E9*A9 -> 507.96 | G9: =COUNTIF($A$4:A9,">0") -> 1
B10: POMMEAU STOKKUR BAIN/DOUCHE | C10: 129 | D10: =C10*0.1288 -> 16.6152 | E10: =C10+D10 -> 145.6152 | F10: =E10*A10 -> 0 | G10: =COUNTIF($A$4:A10,">0") -> 1
B11: POMMEAU STOKKUR DOUCHE | C11: 109 | D11: =C11*0.1288 -> 14.0392 | E11: =C11+D11 -> 123.0392 | F11: =E11*A11 -> 0 | G11: =COUNTIF($A$4:A11,">0") -> 1
B12: ROBINET STOKKUR LAVABO | C12: 49.99 | D12: =C12*0.1288 -> 6.438712 | E12: =C12+D12 -> 56.428712 | F12: =E12*A12 -> 0 | G12: =COUNTIF($A$4:A12,">0") -> 1
D13: =C13*0.1288 -> 0 | E13: =C13+D13 -> 0 | F13: =E13*A13 -> 0 | G13: =COUNTIF($A$4:A13,">0") -> 1
D14: =C14*0.1288 -> 0 | E14: =C14+D14 -> 0 | F14: =E14*A14 -> 0 | G14: =COUNTIF($A$4:A14,">0") -> 1
D15: =C15*0.1288 -> 0 | E15: =C15+D15 -> 0 | F15: =E15*A15 -> 0 | G15: =COUNTIF($A$4:A15,">0") -> 1
D16: =C16*0.1288 -> 0 | E16: =C16+D16 -> 0 | F16: =E16*A16 -> 0 | G16: =COUNTIF($A$4:A16,">0") -> 1
D17: =C17*0.1288 -> 0 | E17: =C17+D17 -> 0 | F17: =E17*A17 -> 0 | G17: =COUNTIF($A$4:A17,">0") -> 1
D18: =C18*0.1288 -> 0 | E18: =C18+D18 -> 0 | F18: =E18*A18 -> 0 | G18: =COUNTIF($A$4:A18,">0") -> 1
D19: =C19*0.1288 -> 0 | E19: =C19+D19 -> 0 | F19: =E19*A19 -> 0 | G19: =COUNTIF($A$4:A19,">0") -> 1
D20: =C20*0.1288 -> 0 | E20: =C20+D20 -> 0 | F20: =E20*A20 -> 0 | G20: =COUNTIF($A$4:A20,">0") -> 1
D21: =C21*0.1288 -> 0 | E21: =C21+D21 -> 0 | F21: =E21*A21 -> 0 | G21: =COUNTIF($A$4:A21,">0") -> 1
D22: =C22*0.1288 -> 0 | E22: =C22+D22 -> 0 | F22: =E22*A22 -> 0 | G22: =COUNTIF($A$4:A22,">0") -> 1
D23: =C23*0.1288 -> 0 | E23: =C23+D23 -> 0 | F23: =E23*A23 -> 0 | G23: =COUNTIF($A$4:A23,">0") -> 1
D24: =C24*0.1288 -> 0 | E24: =C24+D24 -> 0 | F24: =E24*A24 -> 0 | G24: =COUNTIF($A$4:A24,">0") -> 1
... D39: =C39*0.1288 -> 0 | E39: =C39+D39 -> 0 | F39: =E39*A39 -> 0 | G39: =COUNTIF($A$4:A39,">0") -> 1
E40: TOTAL: | F40: =SUM(F3:F39) -> 507.96

Sheet Liste d'achat prévus
A1: LISTE D'ACHAT
A2: QTE | B2: DESCRIPTION DES MATÉRIAUX | C2: PRIX UNITAIRE | D2: TPS/TVQ | E2: PRIX + TAXES | F2: MONTANT | G2: OK
A3: PLOMBERIE
A4: =IF(B4="","",INDEX('Liste d''achat prévus'!A:A,MATCH(ROWS($4:4),'Liste de prix générale'!G:G,0))) | B4: =IF(COUNTIF('Liste d''achat prévus'!G:G,ROWS($4:4)),INDEX('Liste d''achat prévus'!B:B,MATCH(ROWS($4:4),'Liste d''achat prévus'!G:G,0)),"") | C4: =IF($B4="","",INDEX('Liste d''achat prévus'!C:C,MATCH(ROWS(4:4),'Liste d''achat prévus'!G:G,0))) | D4: =IF(B4="","",C4*0.12875) | E4: =IF(B4="","",C4*D4) | F4: =IF(B4="","",E4*A4)
A5: =IF(B5="","",INDEX('Liste d''achat prévus'!A:A,MATCH(ROWS($4:5),'Liste de prix générale'!G:G,0))) | B5: =IF(COUNTIF('Liste d''achat prévus'!G:G,ROWS($4:5)),INDEX('Liste d''achat prévus'!B:B,MATCH(ROWS($4:5),'Liste d''achat prévus'!G:G,0)),"") | C5: =IF($B5="","",INDEX('Liste d''achat prévus'!C:C,MATCH(ROWS(5:5),'Liste d''achat prévus'!G:G,0))) | D5: =IF(B5="","",C5*0.12875) | E5: =IF(B5="","",C5*D5) | F5: =IF(B5="","",E5*A5)
A6: =IF(B6="","",INDEX('Liste d''achat prévus'!A:A,MATCH(ROWS($4:6),'Liste de prix générale'!G:G,0))) | B6: =IF(COUNTIF('Liste d''achat prévus'!G:G,ROWS($4:6)),INDEX('Liste d''achat prévus'!B:B,MATCH(ROWS($4:6),'Liste d''achat prévus'!G:G,0)),"") | C6: =IF($B6="","",INDEX('Liste d''achat prévus'!C:C,MATCH(ROWS(6:6),'Liste d''achat prévus'!G:G,0))) | D6: =IF(B6="","",C6*0.12875) | E6: =IF(B6="","",C6*D6) | F6: =IF(B6="","",E6*A6)
A7: =IF(B7="","",INDEX('Liste d''achat prévus'!A:A,MATCH(ROWS($4:7),'Liste de prix générale'!G:G,0))) | B7: =IF(COUNTIF('Liste d''achat prévus'!G:G,ROWS($4:7)),INDEX('Liste d''achat prévus'!B:B,MATCH(ROWS($4:7),'Liste d''achat prévus'!G:G,0)),"") | C7: =IF($B7="","",INDEX('Liste d''achat prévus'!C:C,MATCH(ROWS(7:7),'Liste d''achat prévus'!G:G,0))) | D7: =IF(B7="","",C7*0.12875) | E7: =IF(B7="","",C7*D7) | F7: =IF(B7="","",E7*A7)
A8: =IF(B8="","",INDEX('Liste d''achat prévus'!A:A,MATCH(ROWS($4:8),'Liste de prix générale'!G:G,0))) | B8: =IF(COUNTIF('Liste d''achat prévus'!G:G,ROWS($4:8)),INDEX('Liste d''achat prévus'!B:B,MATCH(ROWS($4:8),'Liste d''achat prévus'!G:G,0)),"") | C8: =IF($B8="","",INDEX('Liste d''achat prévus'!C:C,MATCH(ROWS(8:8),'Liste d''achat prévus'!G:G,0))) | D8: =IF(B8="","",C8*0.12875) | E8: =IF(B8="","",C8*D8) | F8: =IF(B8="","",E8*A8)
A9: =IF(B9="","",INDEX('Liste d''achat prévus'!A:A,MATCH(ROWS($4:9),'Liste de prix générale'!G:G,0))) | B9: =IF(COUNTIF('Liste d''achat prévus'!G:G,ROWS($4:9)),INDEX('Liste d''achat prévus'!B:B,MATCH(ROWS($4:9),'Liste d''achat prévus'!G:G,0)),"") | C9: =IF($B9="","",INDEX('Liste d''achat prévus'!C:C,MATCH(ROWS(9:9),'Liste d''achat prévus'!G:G,0))) | D9: =IF(B9="","",C9*0.12875) | E9: =IF(B9="","",C9*D9) | F9: =IF(B9="","",E9*A9)
A10: =IF(B10="","",INDEX('Liste d''achat prévus'!A:A,MATCH(ROWS($4:10),'Liste de prix générale'!G:G,0))) | B10: =IF(COUNTIF('Liste d''achat prévus'!G:G,ROWS($4:10)),INDEX('Liste d''achat prévus'!B:B,MATCH(ROWS($4:10),'Liste d''achat prévus'!G:G,0)),"") | C10: =IF($B10="","",INDEX('Liste d''achat prévus'!C:C,MATCH(ROWS(10:10),'Liste d''achat prévus'!G:G,0))) | D10: =IF(B10="","",C10*0.12875) | E10: =IF(B10="","",C10*D10) | F10: =IF(B10="","",E10*A10)
A11: =IF(B11="","",INDEX('Liste d''achat prévus'!A:A,MATCH(ROWS($4:11),'Liste de prix générale'!G:G,0))) | B11: =IF(COUNTIF('Liste d''achat prévus'!G:G,ROWS($4:11)),INDEX('Liste d''achat prévus'!B:B,MATCH(ROWS($4:11),'Liste d''achat prévus'!G:G,0)),"") | C11: =IF($B11="","",INDEX('Liste d''achat prévus'!C:C,MATCH(ROWS(11:11),'Liste d''achat prévus'!G:G,0))) | D11: =IF(B11="","",C11*0.12875) | E11: =IF(B11="","",C11*D11) | F11: =IF(B11="","",E11*A11)
A12: =IF(B12="","",INDEX('Liste d''achat prévus'!A:A,MATCH(ROWS($4:12),'Liste de prix générale'!G:G,0))) | B12: =IF(COUNTIF('Liste d''achat prévus'!G:G,ROWS($4:12)),INDEX('Liste d''achat prévus'!B:B,MATCH(ROWS($4:12),'Liste d''achat prévus'!G:G,0)),"") | C12: =IF($B12="","",INDEX('Liste d''achat prévus'!C:C,MATCH(ROWS(12:12),'Liste d''achat prévus'!G:G,0))) | D12: =IF(B12="","",C12*0.12875) | E12: =IF(B12="","",C12*D12) | F12: =IF(B12="","",E12*A12)
A13: =IF(B13="","",INDEX('Liste d''achat prévus'!A:A,MATCH(ROWS($4:13),'Liste de prix générale'!G:G,0))) | B13: =IF(COUNTIF('Liste d''achat prévus'!G:G,ROWS($4:13)),INDEX('Liste d''achat prévus'!B:B,MATCH(ROWS($4:13),'Liste d''achat prévus'!G:G,0)),"") | C13: =IF($B13="","",INDEX('Liste d''achat prévus'!C:C,MATCH(ROWS(13:13),'Liste d''achat prévus'!G:G,0))) | D13: =IF(B13="","",C13*0.12875) | E13: =IF(B13="","",C13*D13) | F13: =IF(B13="","",E13*A13)
A14: =IF(B14="","",INDEX('Liste d''achat prévus'!A:A,MATCH(ROWS($4:14),'Liste de prix générale'!G:G,0))) | B14: =IF(COUNTIF('Liste d''achat prévus'!G:G,ROWS($4:14)),INDEX('Liste d''achat prévus'!B:B,MATCH(ROWS($4:14),'Liste d''achat prévus'!G:G,0)),"") | C14: =IF($B14="","",INDEX('Liste d''achat prévus'!C:C,MATCH(ROWS(14:14),'Liste d''achat prévus'!G:G,0))) | D14: =IF(B14="","",C14*0.12875) | E14: =IF(B14="","",C14*D14) | F14: =IF(B14="","",E14*A14)
A15: =IF(B15="","",INDEX('Liste d''achat prévus'!A:A,MATCH(ROWS($4:15),'Liste de prix générale'!G:G,0))) | B15: =IF(COUNTIF('Liste d''achat prévus'!G:G,ROWS($4:15)),INDEX('Liste d''achat prévus'!B:B,MATCH(ROWS($4:15),'Liste d''achat prévus'!G:G,0)),"") | C15: =IF($B15="","",INDEX('Liste d''achat prévus'!C:C,MATCH(ROWS(15:15),'Liste d''achat prévus'!G:G,0))) | D15: =IF(B15="","",C15*0.12875) | E15: =IF(B15="","",C15*D15) | F15: =IF(B15="","",E15*A15)
A16: =IF(B16="","",INDEX('Liste d''achat prévus'!A:A,MATCH(ROWS($4:16),'Liste de prix générale'!G:G,0))) | B16: =IF(COUNTIF('Liste d''achat prévus'!G:G,ROWS($4:16)),INDEX('Liste d''achat prévus'!B:B,MATCH(ROWS($4:16),'Liste d''achat prévus'!G:G,0)),"") | C16: =IF($B16="","",INDEX('Liste d''achat prévus'!C:C,MATCH(ROWS(16:16),'Liste d''achat prévus'!G:G,0))) | D16: =IF(B16="","",C16*0.12875) | E16: =IF(B16="","",C16*D16) | F16: =IF(B16="","",E16*A16)
A17: =IF(B17="","",INDEX('Liste d''achat prévus'!A:A,MATCH(ROWS($4:17),'Liste de prix générale'!G:G,0))) | B17: =IF(COUNTIF('Liste d''achat prévus'!G:G,ROWS($4:17)),INDEX('Liste d''achat prévus'!B:B,MATCH(ROWS($4:17),'Liste d''achat prévus'!G:G,0)),"") | C17: =IF($B17="","",INDEX('Liste d''achat prévus'!C:C,MATCH(ROWS(17:17),'Liste d''achat prévus'!G:G,0))) | D17: =IF(B17="","",C17*0.12875) | E17: =IF(B17="","",C17*D17) | F17: =IF(B17="","",E17*A17)
A18: =IF(B18="","",INDEX('Liste d''achat prévus'!A:A,MATCH(ROWS($4:18),'Liste de prix générale'!G:G,0))) | B18: =IF(COUNTIF('Liste d''achat prévus'!G:G,ROWS($4:18)),INDEX('Liste d''achat prévus'!B:B,MATCH(ROWS($4:18),'Liste d''achat prévus'!G:G,0)),"") | C18: =IF($B18="","",INDEX('Liste d''achat prévus'!C:C,MATCH(ROWS(18:18),'Liste d''achat prévus'!G:G,0))) | D18: =IF(B18="","",C18*0.12875) | E18: =IF(B18="","",C18*D18) | F18: =IF(B18="","",E18*A18)
A19: =IF(B19="","",INDEX('Liste d''achat prévus'!A:A,MATCH(ROWS($4:19),'Liste de prix générale'!G:G,0))) | B19: =IF(COUNTIF('Liste d''achat prévus'!G:G,ROWS($4:19)),INDEX('Liste d''achat prévus'!B:B,MATCH(ROWS($4:19),'Liste d''achat prévus'!G:G,0)),"") | C19: =IF($B19="","",INDEX('Liste d''achat prévus'!C:C,MATCH(ROWS(19:19),'Liste d''achat prévus'!G:G,0))) | D19: =IF(B19="","",C19*0.12875) | E19: =IF(B19="","",C19*D19) | F19: =IF(B19="","",E19*A19)
A20: =IF(B20="","",INDEX('Liste d''achat prévus'!A:A,MATCH(ROWS($4:20),'Liste de prix générale'!G:G,0))) | B20: =IF(COUNTIF('Liste d''achat prévus'!G:G,ROWS($4:20)),INDEX('Liste d''achat prévus'!B:B,MATCH(ROWS($4:20),'Liste d''achat prévus'!G:G,0)),"") | C20: =IF($B20="","",INDEX('Liste d''achat prévus'!C:C,MATCH(ROWS(20:20),'Liste d''achat prévus'!G:G,0))) | D20: =IF(B20="","",C20*0.12875) | E20: =IF(B20="","",C20*D20) | F20: =IF(B20="","",E20*A20)
A21: =IF(B21="","",INDEX('Liste d''achat prévus'!A:A,MATCH(ROWS($4:21),'Liste de prix générale'!G:G,0))) | B21: =IF(COUNTIF('Liste d''achat prévus'!G:G,ROWS($4:21)),INDEX('Liste d''achat prévus'!B:B,MATCH(ROWS($4:21),'Liste d''achat prévus'!G:G,0)),"") | C21: =IF($B21="","",INDEX('Liste d''achat prévus'!C:C,MATCH(ROWS(21:21),'Liste d''achat prévus'!G:G,0))) | D21: =IF(B21="","",C21*0.12875) | E21: =IF(B21="","",C21*D21) | F21: =IF(B21="","",E21*A21)
A22: =IF(B22="","",INDEX('Liste d''achat prévus'!A:A,MATCH(ROWS($4:22),'Liste de prix générale'!G:G,0))) | B22: =IF(COUNTIF('Liste d''achat prévus'!G:G,ROWS($4:22)),INDEX('Liste d''achat prévus'!B:B,MATCH(ROWS($4:22),'Liste d''achat prévus'!G:G,0)),"") | C22: =IF($B22="","",INDEX('Liste d''achat prévus'!C:C,MATCH(ROWS(22:22),'Liste d''achat prévus'!G:G,0))) | D22: =IF(B22="","",C22*0.12875) | E22: =IF(B22="","",C22*D22) | F22: =IF(B22="","",E22*A22)
A23: =IF(B23="","",INDEX('Liste d''achat prévus'!A:A,MATCH(ROWS($4:23),'Liste de prix générale'!G:G,0))) | B23: =IF(COUNTIF('Liste d''achat prévus'!G:G,ROWS($4:23)),INDEX('Liste d''achat prévus'!B:B,MATCH(ROWS($4:23),'Liste d''achat prévus'!G:G,0)),"") | C23: =IF($B23="","",INDEX('Liste d''achat prévus'!C:C,MATCH(ROWS(23:23),'Liste d''achat prévus'!G:G,0))) | D23: =IF(B23="","",C23*0.12875) | E23: =IF(B23="","",C23*D23) | F23: =IF(B23="","",E23*A23)
A24: =IF(B24="","",INDEX('Liste d''achat prévus'!A:A,MATCH(ROWS($4:24),'Liste de prix générale'!G:G,0))) | B24: =IF(COUNTIF('Liste d''achat prévus'!G:G,ROWS($4:24)),INDEX('Liste d''achat prévus'!B:B,MATCH(ROWS($4:24),'Liste d''achat prévus'!G:G,0)),"") | C24: =IF($B24="","",INDEX('Liste d''achat prévus'!C:C,MATCH(ROWS(24:24),'Liste d''achat prévus'!G:G,0))) | D24: =IF(B24="","",C24*0.12875) | E24: =IF(B24="","",C24*D24) | F24: =IF(B24="","",E24*A24)
A25: =IF(B25="","",INDEX('Liste d''achat prévus'!A:A,MATCH(ROWS($4:25),'Liste de prix générale'!G:G,0))) | B25: =IF(COUNTIF('Liste d''achat prévus'!G:G,ROWS($4:25)),INDEX('Liste d''achat prévus'!B:B,MATCH(ROWS($4:25),'Liste d''achat prévus'!G:G,0)),"") | C25: =IF($B25="","",INDEX('Liste d''achat prévus'!C:C,MATCH(ROWS(25:25),'Liste d''achat prévus'!G:G,0))) | D25: =IF(B25="","",C25*0.12875) | E25: =IF(B25="","",C25*D25) | F25: =IF(B25="","",E25*A25)
A26: =IF(B26="","",INDEX('Liste d''achat prévus'!A:A,MATCH(ROWS($4:26),'Liste de prix générale'!G:G,0))) | B26: =IF(COUNTIF('Liste d''achat prévus'!G:G,ROWS($4:26)),INDEX('Liste d''achat prévus'!B:B,MATCH(ROWS($4:26),'Liste d''achat prévus'!G:G,0)),"") | C26: =IF($B26="","",INDEX('Liste d''achat prévus'!C:C,MATCH(ROWS(26:26),'Liste d''achat prévus'!G:G,0))) | D26: =IF(B26="","",C26*0.12875) | E26: =IF(B26="","",C26*D26) | F26: =IF(B26="","",E26*A26)
A27: =IF(B27="","",INDEX('Liste d''achat prévus'!A:A,MATCH(ROWS($4:27),'Liste de prix générale'!G:G,0))) | B27: =IF(COUNTIF('Liste d''achat prévus'!G:G,ROWS($4:27)),INDEX('Liste d''achat prévus'!B:B,MATCH(ROWS($4:27),'Liste d''achat prévus'!G:G,0)),"") | C27: =IF($B27="","",INDEX('Liste d''achat prévus'!C:C,MATCH(ROWS(27:27),'Liste d''achat prévus'!G:G,0))) | D27: =IF(B27="","",C27*0.12875) | E27: =IF(B27="","",C27*D27) | F27: =IF(B27="","",E27*A27)
A28: =IF(B28="","",INDEX('Liste d''achat prévus'!A:A,MATCH(ROWS($4:28),'Liste de prix générale'!G:G,0))) | B28: =IF(COUNTIF('Liste d''achat prévus'!G:G,ROWS($4:28)),INDEX('Liste d''achat prévus'!B:B,MATCH(ROWS($4:28),'Liste d''achat prévus'!G:G,0)),"") | C28: =IF($B28="","",INDEX('Liste d''achat prévus'!C:C,MATCH(ROWS(28:28),'Liste d''achat prévus'!G:G,0))) | D28: =IF(B28="","",C28*0.12875) | E28: =IF(B28="","",C28*D28) | F28: =IF(B28="","",E28*A28)
A29: =IF(B29="","",INDEX('Liste d''achat prévus'!A:A,MATCH(ROWS($4:29),'Liste de prix générale'!G:G,0))) | B29: =IF(COUNTIF('Liste d''achat prévus'!G:G,ROWS($4:29)),INDEX('Liste d''achat prévus'!B:B,MATCH(ROWS($4:29),'Liste d''achat prévus'!G:G,0)),"") | C29: =IF($B29="","",INDEX('Liste d''achat prévus'!C:C,MATCH(ROWS(29:29),'Liste d''achat prévus'!G:G,0))) | D29: =IF(B29="","",C29*0.12875) | E29: =IF(B29="","",C29*D29) | F29: =IF(B29="","",E29*A29)
A30: =IF(B30="","",INDEX('Liste d''achat prévus'!A:A,MATCH(ROWS($4:30),'Liste de prix générale'!G:G,0))) | B30: =IF(COUNTIF('Liste d''achat prévus'!G:G,ROWS($4:30)),INDEX('Liste d''achat prévus'!B:B,MATCH(ROWS($4:30),'Liste d''achat prévus'!G:G,0)),"") | C30: =IF($B30="","",INDEX('Liste d''achat prévus'!C:C,MATCH(ROWS(30:30),'Liste d''achat prévus'!G:G,0))) | D30: =IF(B30="","",C30*0.12875) | E30: =IF(B30="","",C30*D30) | F30: =IF(B30="","",E30*A30)
A31: =IF(B31="","",INDEX('Liste d''achat prévus'!A:A,MATCH(ROWS($4:31),'Liste de prix générale'!G:G,0))) | B31: =IF(COUNTIF('Liste d''achat prévus'!G:G,ROWS($4:31)),INDEX('Liste d''achat prévus'!B:B,MATCH(ROWS($4:31),'Liste d''achat prévus'!G:G,0)),"") | C31: =IF($B31="","",INDEX('Liste d''achat prévus'!C:C,MATCH(ROWS(31:31),'Liste d''achat prévus'!G:G,0))) | D31: =IF(B31="","",C31*0.12875) | E31: =IF(B31="","",C31*D31) | F31: =IF(B31="","",E31*A31)
A32: =IF(B32="","",INDEX('Liste d''achat prévus'!A:A,MATCH(ROWS($4:32),'Liste de prix générale'!G:G,0))) | B32: =IF(COUNTIF('Liste d''achat prévus'!G:G,ROWS($4:32)),INDEX('Liste d''achat prévus'!B:B,MATCH(ROWS($4:32),'Liste d''achat prévus'!G:G,0)),"") | C32: =IF($B32="","",INDEX('Liste d''achat prévus'!C:C,MATCH(ROWS(32:32),'Liste d''achat prévus'!G:G,0))) | D32: =IF(B32="","",C32*0.12875) | E32: =IF(B32="","",C32*D32) | F32: =IF(B32="","",E32*A32)
A33: =IF(B33="","",INDEX('Liste d''achat prévus'!A:A,MATCH(ROWS($4:33),'Liste de prix générale'!G:G,0))) | B33: =IF(COUNTIF('Liste d''achat prévus'!G:G,ROWS($4:33)),INDEX('Liste d''achat prévus'!B:B,MATCH(ROWS($4:33),'Liste d''achat prévus'!G:G,0)),"") | C33: =IF($B33="","",INDEX('Liste d''achat prévus'!C:C,MATCH(ROWS(33:33),'Liste d''achat prévus'!G:G,0))) | D33: =IF(B33="","",C33*0.12875) | E33: =IF(B33="","",C33*D33) | F33: =IF(B33="","",E33*A33)
A34: =IF(B34="","",INDEX('Liste d''achat prévus'!A:A,MATCH(ROWS($4:34),'Liste de prix générale'!G:G,0))) | B34: =IF(COUNTIF('Liste d''achat prévus'!G:G,ROWS($4:34)),INDEX('Liste d''achat prévus'!B:B,MATCH(ROWS($4:34),'Liste d''achat prévus'!G:G,0)),"") | C34: =IF($B34="","",INDEX('Liste d''achat prévus'!C:C,MATCH(ROWS(34:34),'Liste d''achat prévus'!G:G,0))) | D34: =IF(B34="","",C34*0.12875) | E34: =IF(B34="","",C34*D34) | F34: =IF(B34="","",E34*A34)
A35: =IF(B35="","",INDEX('Liste d''achat prévus'!A:A,MATCH(ROWS($4:35),'Liste de prix générale'!G:G,0))) | B35: =IF(COUNTIF('Liste d''achat prévus'!G:G,ROWS($4:35)),INDEX('Liste d''achat prévus'!B:B,MATCH(ROWS($4:35),'Liste d''achat prévus'!G:G,0)),"") | C35: =IF($B35="","",INDEX('Liste d''achat prévus'!C:C,MATCH(ROWS(35:35),'Liste d''achat prévus'!G:G,0))) | D35: =IF(B35="","",C35*0.12875) | E35: =IF(B35="","",C35*D35) | F35: =IF(B35="","",E35*A35)
A36: =IF(B36="","",INDEX('Liste d''achat prévus'!A:A,MATCH(ROWS($4:36),'Liste de prix générale'!G:G,0))) | B36: =IF(COUNTIF('Liste d''achat prévus'!G:G,ROWS($4:36)),INDEX('Liste d''achat prévus'!B:B,MATCH(ROWS($4:36),'Liste d''achat prévus'!G:G,0)),"") | C36: =IF($B36="","",INDEX('Liste d''achat prévus'!C:C,MATCH(ROWS(36:36),'Liste d''achat prévus'!G:G,0))) | D36: =IF(B36="","",C36*0.12875) | E36: =IF(B36="","",C36*D36) | F36: =IF(B36="","",E36*A36)
A37: =IF(B37="","",INDEX('Liste d''achat prévus'!A:A,MATCH(ROWS($4:37),'Liste de prix générale'!G:G,0))) | B37: =IF(COUNTIF('Liste d''achat prévus'!G:G,ROWS($4:37)),INDEX('Liste d''achat prévus'!B:B,MATCH(ROWS($4:37),'Liste d''achat prévus'!G:G,0)),"") | C37: =IF($B37="","",INDEX('Liste d''achat prévus'!C:C,MATCH(ROWS(37:37),'Liste d''achat prévus'!G:G,0))) | D37: =IF(B37="","",C37*0.12875) | E37: =IF(B37="","",C37*D37) | F37: =IF(B37="","",E37*A37)
A38: =IF(B38="","",INDEX('Liste d''achat prévus'!A:A,MATCH(ROWS($4:38),'Liste de prix générale'!G:G,0))) | B38: =IF(COUNTIF('Liste d''achat prévus'!G:G,ROWS($4:38)),INDEX('Liste d''achat prévus'!B:B,MATCH(ROWS($4:38),'Liste d''achat prévus'!G:G,0)),"") | C38: =IF($B38="","",INDEX('Liste d''achat prévus'!C:C,MATCH(ROWS(38:38),'Liste d''achat prévus'!G:G,0))) | D38: =IF(B38="","",C38*0.12875) | E38: =IF(B38="","",C38*D38) | F38: =IF(B38="","",E38*A38)
A39: =IF(B39="","",INDEX('Liste d''achat prévus'!A:A,MATCH(ROWS($4:39),'Liste de prix générale'!G:G,0))) | B39: =IF(COUNTIF('Liste d''achat prévus'!G:G,ROWS($4:39)),INDEX('Liste d''achat prévus'!B:B,MATCH(ROWS($4:39),'Liste d''achat prévus'!G:G,0)),"") | C39: =IF($B39="","",INDEX('Liste d''achat prévus'!C:C,MATCH(ROWS(39:39),'Liste d''achat prévus'!G:G,0))) | D39: =IF(B39="","",C39*0.12875) | E39: =IF(B39="","",C39*D39) | F39: =IF(B39="","",E39*A39)
E40: TOTAL: | F40: =SUM(F3:F39) -> 0
