Workbook

Sheet prix
A1: Name | B1: Value.id | C1: Value.name | D1: Value.symbol | E1: Value.slug | F1: Value.quote.USD.price | G1: Value.quote.USD.volume_24h | H1: Value.quote.USD.percent_change_24h | I1: Value.quote.USD.percent_change_7d | J1: Value.quote.USD.percent_change_30d | K1: Value.quote.USD.market_cap
A2: 1 | B2: 1 | C2: Bitcoin | D2: BTC | E2: bitcoin | F2: 24062.923 | G2: 3.5091759e+10 | H2: 4.3212162 | I2: 4.1860339 | J2: 44.515948 | K2: 4.6392593e+11
A3: 52 | B3: 52 | C3: XRP | D3: XRP | E3: xrp | F3: 0.41779217 | G3: 1.1497659e+09 | H3: 4.2950271 | I3: 1.7559883 | J3: 21.804785 | K3: 2.1225351e+10
A4: 1027 | B4: 1027 | C4: Ethereum | D4: ETH | E4: ethereum | F4: 1701.729 | G4: 1.1750227e+10 | H4: 7.8270753 | I4: 6.0648297 | J4: 40.785763 | K4: 2.0824716e+11
A5: 1839 | B5: 1839 | C5: BNB | D5: BNB | E5: bnb | F5: 331.70166 | G5: 1.0047892e+09 | H5: 7.6025192 | I5: 8.5208629 | J5: 35.270607 | K5: 5.2376075e+10
A6: 1966 | B6: 1966 | C6: Decentraland | D6: MANA | E6: decentraland | F6: 0.80699498 | G6: 3.0505443e+08 | H6: 12.665185 | I6: 19.990719 | J6: 164.12716 | K6: 1.4970436e+09
A7: 1975 | B7: 1975 | C7: Chainlink | D7: LINK | E7: chainlink | F7: 7.4335427 | G7: 3.913636e+08 | H7: 10.080955 | I7: 4.9263312 | J7: 32.932854 | K7: 3.7762395e+09
A8: 2130 | B8: 2130 | C8: Enjin Coin | D8: ENJ | E8: enjin-coin | F8: 0.48282986 | G8: 50781556 | H8: 11.284555 | I8: 15.045966 | J8: 99.664939 | K8: 4.8282986e+08
A9: 2499 | B9: 2499 | C9: SwissBorg | D9: CHSB | E9: swissborg | F9: 0.24124874 | G9: 654728.83 | H9: 4.3682532 | I9: 3.0975226 | J9: 23.997971 | K9: 2.4124874e+08
A10: 2539 | B10: 2539 | C10: Ren | D10: REN | E10: ren | F10: 0.09125754 | G10: 16698180 | H10: 16.773938 | I10: 5.7691847 | J10: 43.849834 | K10: 91169705
A11: 3890 | B11: 3890 | C11: Polygon | D11: MATIC | E11: polygon | F11: 1.2481029 | G11: 1.0099416e+09 | H11: 15.433632 | I11: 13.920539 | J11: 61.163779 | K11: 1.0901327e+10
A12: 4066 | B12: 4066 | C12: Chiliz | D12: CHZ | E12: chiliz | F12: 0.14638067 | G12: 2.3938064e+08 | H12: 12.685077 | I12: 7.0419092 | J12: 45.664071 | K12: 9.7514201e+08
A13: 4189 | B13: 4189 | C13: Ultra | D13: UOS | E13: ultra | F13: 0.27015748 | G13: 2031716.1 | H13: 9.3169142 | I13: 8.1893123 | J13: 48.427543 | K13: 82072107
... A24: 11396 | B24: 11396 | C24: JOE | D24: JOE | E24: joe | F24: 0.23558443 | G24: 13403706 | H24: 17.586673 | I24: 17.336564 | J24: 71.849051 | K24: 77832440

Sheet totale
C4: BTC | D4: ETH | E4: MATIC | F4: SOL | G4: CHSB | H4: SAND | I4: AAVE | J4: BNB | K4: LINK | L4: REN | M4: AVAX | N4: SWAP | O4: JOE | P4: XRP | Q4: MIMO | R4: MANA | S4: CRV | T4: UOS | U4: DOT | V4: ENJ | W4: GRT | X4: AUDIUS | Y4: CHZ
B5: QUANTITE | C5: 1 | D5: 1 | E5: 1 | F5: 1 | G5: 1 | H5: 1 | I5: 1 | J5: 1 | K5: 1 | L5: 1 | M5: 1 | N5: 1 | O5: 1 | P5: 1 | Q5: 1 | R5: 1 | S5: 1 | T5: 1 | U5: 1 | V5: 1 | W5: 1 | X5: 1 | Y5: 1
B7: PRIX | C7: =prix!F2 -> 24062.923 | D7: =prix!F4 -> 1701.729 | E7: =prix!F11 -> 1.2481029 | F7: =prix!F14 -> 25.872925 | G7: =prix!F9 -> 0.24124874 | H7: =prix!F16 -> 0.78155751 | I7: =prix!F21 -> 92.061195 | J7: =prix!F5 -> 331.70166 | K7: =prix!F7 -> 7.4335427 | L7: =prix!F10 -> 0.09125754 | M7: =prix!F15 -> 22.218569 | N7: =prix!F20 -> 7.4390466 | O7: =prix!F24 -> 0.23558443 | P7: =prix!F3 -> 0.41779217 | Q7: =prix!F23 -> 0.020136701 | R7: =prix!F6 -> 0.80699498 | S7: =prix!F17 -> 1.1521667 | T7: =prix!F13 -> 0.27015748 | U7: =prix!F18 -> 6.8079865 | V7: =prix!F8 -> 0.48282986 | W7: =prix!F19 -> 0.098566615 | X7: =prix!F22 -> 0.29713438 | Y7: =prix!F12 -> 0.14638067
B10: TOTALE | C10: =C5*C7 -> 24062.923 | D10: =D5*D7 -> 1701.729 | E10: =E5*E7 -> 1.2481029 | F10: =F5*F7 -> 25.872925 | G10: =G5*G7 -> 0.24124874 | H10: =H5*H7 -> 0.78155751 | I10: =I5*I7 -> 92.061195 | J10: =J5*J7 -> 331.70166 | ... Y10: =Y5*Y7 -> 0.14638067
B12: =C10+D10+E10+F10+G10+H10+I10+J10+K10+L10+M10+N10+O10+P10+Q10+R10+S10+T10+U10+V10+W10+Y10 -> 26264.179 | C12: $
C14: 44938 | D14: 44940 | E14: 44946 | F14: 44947 | G14: 44947 | H14: 44959 | I14: 0/0/4 | J14: 0/0/5
C15: 1655.7 | D15: 1819.288 | E15: 1907.47 | F15: 1963.756 | G15: 1951.538 | H15: 2193.67 | I15: 0 | J15: 0
C19: BTC | D19: ETH | E19: MATIC | F19: SOL | G19: CHSB | H19: SAND | I19: AAVE | J19: BNB | K19: LINK | L19: REN | M19: AVAX | N19: SWAP | O19: JOE | P19: XRP | Q19: MIMO | R19: MANA | S19: CRV | T19: UOS | U19: DOT | V19: ENJ | W19: GRT | X19: AUDIUS | Y19: CHZ
B20: XXX | C20: 0.023612 | D20: 0.28679 | Y20: 443.4
B21: XXX | C21: 0.00284098 | D21: 0.0543863 | E21: 179.04 | F21: 3.3330962 | G21: 212.91 | H21: 80.15 | I21: 0.38411 | K21: 2.76751 | L21: 237.54 | M21: 0.7002958 | N21: 0.76248 | O21: 29.24 | P21: 12.15 | Q21: 571.12 | R21: 4.99426 | S21: 2.65667 | T21: 8.7658 | U21: 0.3206132 | V21: 3.295 | W21: 12.27 | X21: 4.874
B22: XXX | J22: 1.0648447
C26: BTC | D26: ETH | E26: MATIC | F26: SOL | G26: CHSB | H26: SAND | I26: AAVE | J26: BNB | K26: LINK | L26: REN | M26: AVAX | N26: SWAP | O26: JOE | P26: XRP | Q26: MIMO | R26: MANA | S26: CRV | T26: UOS | U26: DOT | V26: ENJ | W26: GRT | X26: AUDIUS | Y26: CHZ
B27: 24H | C27: =prix!H2 -> 4.3212162 | D27: =prix!H4 -> 7.8270753 | E27: =prix!H11 -> 15.433632 | F27: =prix!H14 -> 12.750228 | G27: =prix!H9 -> 4.3682532 | H27: =prix!H16 -> 12.42016 | I27: =prix!H21 -> 12.321922 | J27: =prix!H5 -> 7.6025192 | K27: =prix!H7 -> 10.080955 | L27: =prix!H10 -> 16.773938 | M27: =prix!H15 -> 17.017474 | N27: =prix!H20 -> 16.415415 | O27: =prix!H24 -> 17.586673 | P27: =prix!H3 -> 4.2950271 | Q27: =prix!H23 -> 2.6909997 | R27: =prix!H6 -> 12.665185 | S27: =prix!H17 -> 16.312048 | T27: =prix!H13 -> 9.3169142 | U27: =prix!H18 -> 11.804981 | V27: =prix!H8 -> 11.284555 | W27: =prix!H19 -> 16.391266 | X27: =prix!H22 -> 13.174862 | Y27: =prix!H12 -> 12.685077
B28: 1S | C28: =prix!I2 -> 4.1860339 | D28: =prix!I4 -> 6.0648297 | E28: =prix!I11 -> 13.920539 | F28: =prix!I14 -> 5.0478159 | G28: =prix!I9 -> 3.0975226 | H28: =prix!I16 -> 5.722789 | I28: =prix!I21 -> 3.5771486 | J28: =prix!I5 -> 8.5208629 | K28: =prix!I7 -> 4.9263312 | L28: =prix!I10 -> 5.7691847 | M28: =prix!I15 -> 22.312169 | N28: =prix!I20 -> 12.061606 | O28: =prix!I24 -> 17.336564 | P28: =prix!I3 -> 1.7559883 | Q28: =prix!I23 -> -0.84952576 | R28: =prix!I6 -> 19.990719 | S28: =prix!I17 -> 9.4277258 | T28: =prix!I13 -> 8.1893123 | U28: =prix!I18 -> 5.2045187 | V28: =prix!I8 -> 15.045966 | W28: =prix!I19 -> 7.9552475 | X28: =prix!I22 -> -6.8411154 | Y28: =prix!I12 -> 7.0419092
B29: 1M | C29: =prix!J2 -> 44.515948 | D29: =prix!J4 -> 40.785763 | E29: =prix!J11 -> 61.163779 | F29: =prix!J14 -> 101.10172 | G29: =prix!J9 -> 23.997971 | H29: =prix!J16 -> 92.459362 | I29: =prix!J21 -> 75.926616 | J29: =prix!J5 -> 35.270607 | K29: =prix!J7 -> 32.932854 | L29: =prix!J10 -> 43.849834 | M29: =prix!J15 -> 95.910597 | N29: =prix!J20 -> 40.561924 | O29: =prix!J24 -> 71.849051 | P29: =prix!J3 -> 21.804785 | Q29: =prix!J23 -> 66.319486 | R29: =prix!J6 -> 164.12716 | S29: =prix!J17 -> 119.98811 | T29: =prix!J13 -> 48.427543 | U29: =prix!J18 -> 51.441984 | V29: =prix!J8 -> 99.664939 | W29: =prix!J19 -> 67.470843 | X29: =prix!J22 -> 124.31114 | Y29: =prix!J12 -> 45.664071
