Workbook
Name ech: [1]Échantillon!$A$2:$A$80
Name ech: [1]Échantillon!$A$2:$A$80
Name ech: Échantillon!$A$2:$A$78
Name echprix: [1]Feuil2!$P$2:$P$80
Name echQte: [1]Échantillon!$B$2:$B$80
Name echQte: [1]Échantillon!$B$2:$B$80
Name echQte: Échantillon!$B$2:$B$78
Name echtotal: [1]Feuil2!$Q$2:$Q$81
Name for: [1]Forage!$D$2:$D$56
Name forhr: [1]Forage!$G$2:$G$56
Name forprix: [1]Forage!$J$2:$J$56
Name forQTE: [1]Forage!$F$2:$F$56
Name forTOTAL: [1]Forage!$K$2:$K$57
Name machinerie: [1]Travaux!$K$2:$K$10
Name prof_des_échantillons: [1]Données!$H$2:$H$130
Name Profondeur: [1]Travaux!$L$2:$L$10
Name programme: '[1]Plan d''échantillonage'!$A$7:$G$26
Name rap: '[1]Rapport et gestion'!$A$2:$A$16
Name rapprix: '[1]Rapport et gestion'!$F$2:$F$16
Name rapQTE: '[1]Rapport et gestion'!$C$2:$C$16
Name raptotal: '[1]Rapport et gestion'!$G$2:$G$16
Name res_2: [1]Résumé!$A$1:$E$138
Name res_3: [1]Résumé!$F$1:$J$70
Name résumé_des_couts: [1]Résumé!$F$24:$F$29
Name résumé_des_coutstotal: [1]Résumé!$J$24:$J$30
Name Revêtment_du_forage: [1]Travaux!$J$3:$J$10
Name Risque: [1]Risque!$A$3:$A$183
Name Risque: Risque!$A$3:$A$168
Name risque_environnementaux: [1]Données!$I$2:$I$43
Name risque_liste: '[1]Plan d''échantillonage'!$B$33:$B$52
Name TYPE: [1]Données!$G$2:$G$30
Name type_de_chantier: [1]Données!$A$2:$A$30
Name Type_de_forage: [1]Travaux!$I$2:$I$10

Sheet Travaux
K1: Type de forage | L1: Revêtment du forage | M1: machineire | N1: Profondeur
K2: Forage manuel | L2: Naturel | M2: Foreuse Manuel (dewalt) | N2: < 5'
K3: Forage mécanique | L3: Asphalte | M3: Foreuse 540 (ENVIROSOL) | N3: 8'
K4: Tranché (excavatrice) | L4: Béton | M4: Foreuse GT8 | N4: 10'
K5: Puit d'observation | L5: Béton avec chauffage | M5: Foreuse CME55 | N5: 14'
A6: Mobilisation | C6: Type | D6: Qte | E6: KM(+50km) | L6: Roc | M6: Foreuse GEO 7822 | N6: 16'
C7: Technicien | D7: 2 | M7: Excavatrice | N7: 18'
C8: Équipe de forage | D8: 1 | N8: 20'
C9: Équipe milieu naturel | D9: 0 | N9: >20'
C10: Chargé de projet | D10: 0
A13: Travaux | B13: # | C13: =K1 -> Type de forage | D13: Revêtment du forage | E13: Machinerie | F13: Profondeur | G13: Risque #1 | H13: # échantillons par risque #1 | I13: Risque#2 | J13: # échantillons par risque #2
A14: Forage | B14: F-01 | C14: Forage mécanique | D14: Asphalte | E14: Foreuse 540 (ENVIROSOL) | F14: 8' | G14: Présence d'une station service a moins de 300 mêtre du site | H14: 3 | I14: Présence de remblais de source ou qualité inconnu | J14: 1
B15: F-02 | C15: Forage mécanique | D15: Asphalte | E15: Foreuse 540 (ENVIROSOL) | F15: 18' | G15: Présence réservoir de mazout | H15: 1 | I15: Présence d'une scierie sur un site voisin | J15: 2
A36: Travaux | C36: Type | D36: Qte ''forage et puit''
A37: Prise d'échantillons | C37: Régulier
C38: MELCC
C39: Puit d'observation

Sheet Risque
A1: Information des données des risques
A2: Risque associés / échantillon | B2: Métaux | C2: C10C50 | D2: HAP | E2: COV-HAM-HAC | F2: C-Phélonique | G2: Coli-phéco | H2: Entérocoques | I2: bromur-chlorure-fluorure-nitrate-sulfate eau | J2: bromur-chlorure-fluorure-nitrate-sulfate | K2: Azote ammoniacal | L2: Azote ammoniacal eau | M2: Azote Kjeldahl | N2: Azote Kjeldahl eau | O2: dureté eau | P2: Conductivité | Q2: Cyanures totaux | R2: Fluorures disponibles | S2: Matières en suspension (MES) eau | T2: PH | U2: Phosphore Total Trace eau | V2: Phosphores totaux eau | W2: Phtalate eau | X2: Phtalate | Y2: Soufre | Z2: Sulfures eau | AA2: C10C50 eau | AB2: HAP eau | AC2: BTEX | AD2: HAM | AE2: BPC | AF2: BPC aroclor | AG2: Dioxine-furane | AH2: Oxygène dissous | AI2: Chlore total | AJ2: Toxicité des truites concentration multiple eau | AK2: Toxicité des daphnies eau | AL2: Pesticides glyphosates | AM2: HAC | AN2: Glycols | AO2: Chrome hexavalent | AP2: Chrome hexavalent eau | AQ2: Cyanures totaux eau | AR2: Phénol | AS2: Phosphore | AT2: Lixiviation TLCP 1312 | AU2: RMD- Lixiviation + analyse | AV2: Amiante | AW2: Amiante (granulométrie et MLP-IRSST-244)
A3: Présence d'une station service a moins de 300 mêtre du site | B3: X | C3: X | D3: X | E3: X
A4: Présence de réservoirs (essence ou mazout) souterrains | B4: X | C4: X | D4: X | E4: X
A5: Présence d'un réservoir de diesel | B5: X | C5: X | D5: X | E5: X
A6: Présence réservoir de mazout | B6: X | C6: X | D6: X
A7: Tuyau de remplissage mazout | B7: X | C7: X | D7: X
A8: Présence de taches au sol | B8: X | C8: X | D8: X | E8: X
A9: Présence d'un puit de mécanique | B9: X | C9: X | D9: X | E9: X
A10: Présence d'un élévateur a voiture hydraulique | B10: X | C10: X | D10: X
A11: Présence de remblais de source ou qualité inconnu | B11: X | C11: X | D11: X | E11: X
A12: Présence de terrains potentiellement contaminé a proxcimité du site | B12: X | C12: X | D12: X | E12: X
A13: Utilisation d'outillage hydraulique lié avec l'activité du site | B13: X | C13: X | D13: X
A14: Utitlisation de produit dangereux lié avec l'activité du site | B14: X | C14: X | D14: X | E14: X
A15: Présence de produits dangereux sur le site | B15: X | C15: X | D15: X | E15: X
A16: Présence de produits dangereux sur un site voisin
A17: Présence d'une voie ferré a moins de 50m du site | B17: X | C17: X | D17: X | E17: X | Y17: X
A18: Présence d'un réservoir de produit chimique sur le site | B18: X | C18: X | D18: X | E18: X
A19: Présence d'un réservoir de produit chimique sur un site voisin | B19: X | C19: X | D19: X | E19: X
A20: Présence de fosses ou fissures dans le béton | B20: X | C20: X | D20: X | E20: X
A21: Présence de matière potentiellement contaminé sur le site | B21: X | C21: X | D21: X | E21: X
A22: Déversements d’hydrocarbures dans le passé | B22: X | C22: X | D22: X | E22: X
A23: Déversements produits chimiques dans le passé | B23: X | C23: X | D23: X | E23: X | Y23: X
A24: Atelier de peinture sur le site | B24: X | C24: X | D24: X | E24: X
A25: Atelier de peinture sur site voisin | B25: X | C25: X | D25: X | E25: X
A26: Présence d'une cheminé de chauffage | B26: X | C26: X | D26: X
A27: Stationnement de véhicules et/ou de machinerie sur un site voisin | B27: X | C27: X | D27: X | E27: X
A28: Stationnement de véhicules et/ou de machinerie sur le site | B28: X | C28: X | D28: X | E28: X
A29: Ancien batiment a potentiel contaminant sur le site | B29: X | C29: X | D29: X | E29: X
A30: Ancien batiment a potentiel contaminant sur un site voisin | B30: X | C30: X | D30: X | E30: X
A31: Batiment incendier sur le site | B31: X | C31: X | D31: X | E31: X
A32: Batiment incendier sur un site voisin | B32: X | C32: X | D32: X | E32: X
A33: Gestion inconnue de débris de démolition | B33: X | C33: X | D33: X | E33: X
A34: Présence d'un terrain contaminé a proximité du site
A35: Présence déchets dangereux sur le site | B35: X | C35: X | D35: X | E35: X
A36: Présence déchets dangereux sur un site voisin | B36: X | C36: X | D36: X | E36: X
A37: Fosse septique connecter au drain de plancher | F37: X | G37: X
A38: Acivité d'imprimerie sur le site | B38: X | C38: X | D38: X | E38: X | F38: X | Q38: X | X38: X | AS38: X
A39: Activité d'usinage sur le site | B39: X | C39: X | E39: X | T39: X
A40: Activité d'une scierie sur le site | B40: X | C40: X | D40: X | E40: X | F40: X | J40: X | K40: X | Q40: X | T40: X | X40: X | Y40: X | AG40: X
A41: Présence d'une scierie sur un site voisin | B41: X | C41: X | D41: X | E41: X | F41: X | J41: X | K41: X | Q41: X | T41: X | X41: X | Y41: X | AG41: X
A42: Dupplicata | B42: X | C42: X
A43: Extraction de pétrole et de gaz | B43: X | C43: X | D43: X | E43: X | F43: X | J43: X | T43: X | X43: X | Y43: X | AE43: X
A44: Extraction de minerais de fer | B44: X | F44: X | J44: X | Q44: X | T44: X | X44: X | Y44: X | AE44: X | AG44: X
A45: Extraction de minerais d'or et d'argent | B45: X | F45: X | J45: X | Q45: X | T45: X | X45: X | Y45: X | AE45: X
A46: 21223 Extraction de minerais de cuivre, de nickel, de plomb et de zinc | B46: X | F46: X | J46: X | Q46: X | T46: X | X46: X | Y46: X | AE46: X
A47: Extraction d'autres minerais métalliques | B47: X | F47: X | J47: X | Q47: X | T47: X | X47: X | Y47: X | AE47: X
A48: Extraction de minerais d'amiante | B48: X | E48: X | F48: X | Q48: X | X48: X
A49: Distribution d'électricité | B49: X | C49: X | AE49: X | AG49: X
A50: Usines de non-tissés | C50: X | E50: X
A51: Finissage de textiles et de tissus et revêten | B51: X | C51: X | D51: X | E51: X | F51: X | J51: X | T51: X | X51: X | AS51: X
A52: Usines de tapis et de carpettes | B52: X | D52: X | E52: X | J52: X | Q52: X | AL52: X
A53: Tannage et finissage du cuir et de peaux
A54: Scierie, sauf les usines de bardeaux et de bardeaux de fente | B54: X | C54: X | D54: X | E54: X | F54: X | J54: X | K54: X | Q54: X | T54: X | X54: X | Y54: X | AG54: X
A55: Préservation du bois | B55: X | C55: X | D55: X | E55: X | F55: X | J55: X | K55: X | Q55: X | T55: X | X55: X | Y55: X | AG55: X
A56: Fabrication de placage, de contreplaqués et de produits en bois reconstitué | E56: X | F56: X
A57: Usines de pâte à papier | B57: X | C57: X | D57: X | E57: X | F57: X | J57: X | Q57: X | T57: X | W57: X | Y57: X | AE57: X | AG57: X
A58: Usines de papier, sauf le papier journal | B58: X | C58: X | D58: X | E58: X | F58: X | J58: X | Q58: X | T58: X | W58: X | Y58: X | AE58: X | AG58: X
A59: Usines de carton | B59: X | C59: X | D59: X | E59: X | F59: X | J59: X | T59: X | W59: X | Y59: X | AE59: X | AG59: X
A60: Raffineries de pétrole | B60: X | C60: X | D60: X | E60: X | K60: X | X60: X | Y60: X | AE60: X | AG60: X
A61: Fabrication de produits du pétrole et du charbon | B61: X | C61: X | D61: X | E61: X | J61: X | K61: X | X61: X | Y61: X | AG61: X
A62: Fabrication de produits pétrochimiques | B62: X | C62: X | D62: X | E62: X | F62: X | T62: X
A63: Fabrication de gaz industriels | D63: X | E63: X
A64: Fabrication de teintures et de pigments synthétiques | B64: X | D64: X | E64: X | F64: X | T64: X | X64: X
A65: Fabrication d'autres produits chimiques inorganiques de base | B65: X | D65: X | E65: X | F65: X | T65: X | X65: X | AS65: X
A66: Fabrication d'autres produits chimiques organiques de base | B66: X | D66: X | E66: X | F66: X | T66: X | AS66: X
A67: Fabrication de résines et de caoutchouc synthétique | B67: X | D67: X | E67: X | F67: X | J67: X | K67: X | T67: X | X67: X | Y67: X
A68: Fabrication de pesticides, d'engrais et d'autres produits chimiques agricoles | B68: X | D68: X | E68: X | F68: X | K68: X | T68: X | Y68: X | AS68: X
A69: Fabrication de peintures et de revêtements et d'adhésifs | B69: X | D69: X | E69: X | F69: X | Q69: X | X69: X
A70: Fabrication d'encres d'imprimeries | B70: X | C70: X | D70: X | E70: X | F70: X | Q70: X | T70: X | AS70: X
A71: Fabrication d'explosifs | B71: X | E71: X | F71: X | T71: X | X71: X | AS71: X
A72: Fabrication de tous les autres produits chimique divers | B72: X | C72: X | E72: X | F72: X | T72: X | X72: X | AS72: X
A73: Fabrication de produits en plastique | B73: X | C73: X | E73: X | T73: X | X73: X | AS73: X
A74: Fabrication de produits en caoutchouc | B74: X | E74: X | F74: X | K74: X | X74: X | Y74: X
A75: Sidérurgie | B75: X | C75: X | D75: X | E75: X | F75: X | T75: X | X75: X | AE75: X
A76: Fabrication de produits en acier à partir d'acier acheté | B76: X | D76: X | E76: X | R76: X | T76: X
A77: Production et transformation d'alumine et d'aluminium | B77: X | D77: X | K77: X | R77: X | T77: X | Y77: X
A78: Production et transformation de métaux non ferreux, sauf l'aluminium | B78: X | C78: X | D78: X | E78: X | F78: X | X78: X | AE78: X | AG78: X
A79: Fonderies de fer | B79: X | C79: X | D79: X | E79: X | F79: X | J79: X | X79: X | Y79: X | AG79: X
A80: Fonderies d'acier | B80: X | C80: X | D80: X | E80: X | F80: X | J80: X | X80: X | Y80: X | AG80: X
A81: Fonderies de métaux non ferreux | B81: X | C81: X | D81: X | E81: X | F81: X | J81: X | X81: X | Y81: X | AG81: X
A82: Forgeage et estampage | B82: X | T82: X
A83: Fabrication de produits d'architecture et d'éléments de charpentes métalliques | B83: X | C83: X | D83: X | E83: X | F83: X | X83: X
A84: Fabrication de chaudières, de réservoirs et de contenants d'expédition | B84: X | E84: X
A85: Fabrication de ressorts et de produits en fil métallique | B85: X | C85: X | D85: X | T85: X
A86: Ateliers d'usinage | B86: X | C86: X | E86: X | T86: X
A87: Revêtement, gravure, traitement thermique et activités analogues | B87: X | F87: X | Q87: X | T87: X | AG87: X
A88: Fabrication d'autres produits métalliques | B88: X | C88: X | E88: X | F88: X | Q88: X | AG88: X
A89: Fabrication de turbines et de groupes turbogénérateurs | B89: X | E89: X
A90: Fabrication de matériel électrique | B90: X | C90: X | E90: X | T90: X | X90: X | Y90: X | AE90: X
A91: Fabrication de matériel et composant électrique(sauf pile et batterie) | B91: X | C91: X | K91: X | T91: X | X91: X | Y91: X | AE91: X
A92: Fabrication de batteries et de piles | B92: X | J92: X | T92: X | Y92: X
A93: Fabrication de véhicules automobiles | B93: X | C93: X | E93: X | AN93: X
A94: Fabrication de produits aérospatiaux et de leurs pièces | B94: X | E94: X | T94: X
A95: Fabrication de matériaux ferroviaires roulants | B95: X | C95: X | D95: X | Y95: X
A96: Construction et réparation de navires | B96: X | E96: X
A97: Grossistes - distributeurs de produits pétroliers | D97: X | E97: X | F97: X
A98: Grossistes - distributeurs de pièces et d'accessoires d'occasion pour automobiles | B98: X | C98: X | D98: X | E98: X | T98: X | Y98: X | AN98: X
A99: Grossistes - distributeurs de métaux recyclables | B99: X | F99: X
A100: Grossistes - distributeurs de produits chimique et autres fournitures agricoles | B100: X | K100: X | T100: X | Y100: X
...

Sheet Échantillon
A1: Analyse chimique des échantillons
A2: Paramètre d'analyse | B2: Qte
A3: Analyses fréquemment demandées
A4: Métaux | B4: 7 | D4: =VLOOKUP(A4,T_CALCULS[],2,FALSE) -> 7
A5: C10C50 | B5: 7 | D5: =VLOOKUP(A5,T_CALCULS[],2,FALSE) -> 7
A6: HAP | B6: 7 | D6: =VLOOKUP(A6,T_CALCULS[],2,FALSE) -> 7
A7: COV-HAM-HAC | B7: 6 | D7: =VLOOKUP(A7,T_CALCULS[],2,FALSE) -> 6
A8: C-Phélonique | D8: =VLOOKUP(A8,T_CALCULS[],2,FALSE) -> 2
A9: Coli-phéco | D9: =VLOOKUP(A9,T_CALCULS[],2,FALSE) -> 0
A10: Entérocoques | D10: =VLOOKUP(A10,T_CALCULS[],2,FALSE) -> 0
A11: bromur-chlorure-fluorure-nitrate-sulfate eau | D11: =VLOOKUP(A11,T_CALCULS[],2,FALSE) -> 0
A12: bromur-chlorure-fluorure-nitrate-sulfate | B12: 2 | D12: =VLOOKUP(A12,T_CALCULS[],2,FALSE) -> 2
A13: Azote ammoniacal | B13: 2 | D13: =VLOOKUP(A13,T_CALCULS[],2,FALSE) -> 2
A14: Azote ammoniacal eau | D14: =VLOOKUP(A14,T_CALCULS[],2,FALSE) -> 0
A15: Azote Kjeldahl | D15: =VLOOKUP(A15,T_CALCULS[],2,FALSE) -> 0
A16: Azote Kjeldahl eau | D16: =VLOOKUP(A16,T_CALCULS[],2,FALSE) -> 0
A17: dureté eau | D17: =VLOOKUP(A17,T_CALCULS[],2,FALSE) -> 0
A18: Conductivité | D18: =VLOOKUP(A18,T_CALCULS[],2,FALSE) -> 0
A19: Cyanures totaux | B19: 2 | D19: =VLOOKUP(A19,T_CALCULS[],2,FALSE) -> 2
A20: Fluorures disponibles | D20: =VLOOKUP(A20,T_CALCULS[],2,FALSE) -> 0
A21: Matières en suspension (MES) eau | D21: =VLOOKUP(A21,T_CALCULS[],2,FALSE) -> 0
A22: PH | B22: 2 | D22: =VLOOKUP(A22,T_CALCULS[],2,FALSE) -> 2
A23: Phosphore Total Trace eau | D23: =VLOOKUP(A23,T_CALCULS[],2,FALSE) -> 0
A24: Phosphores totaux eau | D24: =VLOOKUP(A24,T_CALCULS[],2,FALSE) -> 0
A25: Phtalate eau | D25: =VLOOKUP(A25,T_CALCULS[],2,FALSE) -> 0
A26: Phtalate | B26: 2 | D26: =VLOOKUP(A26,T_CALCULS[],2,FALSE) -> 2
A27: Soufre | B27: 2 | D27: =VLOOKUP(A27,T_CALCULS[],2,FALSE) -> 2
A28: Sulfures eau | D28: =VLOOKUP(A28,T_CALCULS[],2,FALSE) -> 0
A29: C10C50 eau | D29: =VLOOKUP(A29,T_CALCULS[],2,FALSE) -> 0
A30: HAP eau | D30: =VLOOKUP(A30,T_CALCULS[],2,FALSE) -> 0
A31: BTEX | D31: =VLOOKUP(A31,T_CALCULS[],2,FALSE) -> 0
A32: HAM | D32: =VLOOKUP(A32,T_CALCULS[],2,FALSE) -> 0
A33: BPC | D33: =VLOOKUP(A33,T_CALCULS[],2,FALSE) -> 0
A34: BPC aroclor | D34: =VLOOKUP(A34,T_CALCULS[],2,FALSE) -> 0
A35: Dioxine-furane | B35: 2 | D35: =VLOOKUP(A35,T_CALCULS[],2,FALSE) -> 2
A36: Oxygène dissous | D36: =VLOOKUP(A36,T_CALCULS[],2,FALSE) -> 0
A37: Chlore total | D37: =VLOOKUP(A37,T_CALCULS[],2,FALSE) -> 0
A38: Toxicité des truites concentration multiple eau | D38: =VLOOKUP(A38,T_CALCULS[],2,FALSE) -> 0
A39: Toxicité des daphnies eau | D39: =VLOOKUP(A39,T_CALCULS[],2,FALSE) -> 0
A40: Pesticides glyphosates | D40: =VLOOKUP(A40,T_CALCULS[],2,FALSE) -> 0
A41: HAC | D41: =VLOOKUP(A41,T_CALCULS[],2,FALSE) -> 0
A42: Glycols | D42: =VLOOKUP(A42,T_CALCULS[],2,FALSE) -> 0
A43: Chrome hexavalent | D43: =VLOOKUP(A43,T_CALCULS[],2,FALSE) -> 0
A44: Chrome hexavalent eau | D44: =VLOOKUP(A44,T_CALCULS[],2,FALSE) -> 0
A45: Cyanures totaux eau | D45: =VLOOKUP(A45,T_CALCULS[],2,FALSE) -> 0
A46: Phénol | D46: =VLOOKUP(A46,T_CALCULS[],2,FALSE) -> 0
A47: Phosphore | D47: =VLOOKUP(A47,T_CALCULS[],2,FALSE) -> 0
... A51: Amiante (granulométrie et MLP-IRSST-244) | D51: =VLOOKUP(A51,T_CALCULS[],2,FALSE) -> 0

Sheet Calculs
C1: Colonne [Échantillon] / [Risque] | D1: - Lignes des risques [Travaux] #1 et #2 dans [Risque] - Nbre d'échantillons par risque
D2: =IFERROR(MATCH(Travaux!$G14,Tableau1[[Risque associés / échantillon]:[Risque associés / échantillon]],0),0) -> 1 | E2: =IFERROR(MATCH(Travaux!$I14,Tableau1[[Risque associés / échantillon]:[Risque associés / échantillon]],0),0) -> 9 | F2: =IFERROR(MATCH(Travaux!$G15,Tableau1[[Risque associés / échantillon]:[Risque associés / échantillon]],0),0) -> 4 | G2: =IFERROR(MATCH(Travaux!$I15,Tableau1[[Risque associés / échantillon]:[Risque associés / échantillon]],0),0) -> 39 | H2: =IFERROR(MATCH(Travaux!$G16,Tableau1[[Risque associés / échantillon]:[Risque associés / échantillon]],0),0) -> 0 | I2: =IFERROR(MATCH(Travaux!$I16,Tableau1[[Risque associés / échantillon]:[Risque associés / échantillon]],0),0) -> 0 | J2: =IFERROR(MATCH(Travaux!$G17,Tableau1[[Risque associés / échantillon]:[Risque associés / échantillon]],0),0) -> 0 | K2: =IFERROR(MATCH(Travaux!$I17,Tableau1[[Risque associés / échantillon]:[Risque associés / échantillon]],0),0) -> 0 | L2: =IFERROR(MATCH(Travaux!$G18,Tableau1[[Risque associés / échantillon]:[Risque associés / échantillon]],0),0) -> 0 | M2: =IFERROR(MATCH(Travaux!$I18,Tableau1[[Risque associés / échantillon]:[Risque associés / échantillon]],0),0) -> 0
D3: =Travaux!H14 -> 3 | E3: =Travaux!J14 -> 1 | F3: =Travaux!H15 -> 1 | G3: =Travaux!J15 -> 2 | H3: =Travaux!H16 -> 0 | I3: =Travaux!J16 -> 0 | J3: =Travaux!H17 -> 0 | K3: =Travaux!J17 -> 0 | L3: =Travaux!H18 -> 0 | M3: =Travaux!J18 -> 0
A4: Type d'échantillon | B4: Total des échantillons | C4: Col E / R | D4: T1 / R1 | E4: T1 / R2 | F4: T2 / R1 | G4: T2 / R2 | H4: T3 / R1 | I4: T3 / R2 | J4: T4 / R1 | K4: T4 / R2 | L4: T5 / R1 | M4: T5 / R2
A5: =Échantillon!A4 -> Métaux | B5: =SUM(T_CALCULS[[#This Row],[T1 / R1]:[T5 / R2]]) -> 7 | C5: =MATCH(A5,Tableau1[#Headers],0) -> 2 | D5: {=IF(AND(D$2>0,$C5>0),IF(INDEX(Tableau1[],Calculs!D$2,Calculs!$C5)="X",D$3,""),"")} -> 3 | E5: {=IF(AND(E$2>0,$C5>0),IF(INDEX(Tableau1[],Calculs!E$2,Calculs!$C5)="X",E$3,""),"")} -> 1 | F5: {=IF(AND(F$2>0,$C5>0),IF(INDEX(Tableau1[],Calculs!F$2,Calculs!$C5)="X",F$3,""),"")} -> 1 | G5: {=IF(AND(G$2>0,$C5>0),IF(INDEX(Tableau1[],Calculs!G$2,Calculs!$C5)="X",G$3,""),"")} -> 2 | H5: {=IF(AND(H$2>0,$C5>0),IF(INDEX(Tableau1[],Calculs!H$2,Calculs!$C5)="X",H$3,""),"")} | I5: {=IF(AND(I$2>0,$C5>0),IF(INDEX(Tableau1[],Calculs!I$2,Calculs!$C5)="X",I$3,""),"")} | J5: {=IF(AND(J$2>0,$C5>0),IF(INDEX(Tableau1[],Calculs!J$2,Calculs!$C5)="X",J$3,""),"")} | K5: {=IF(AND(K$2>0,$C5>0),IF(INDEX(Tableau1[],Calculs!K$2,Calculs!$C5)="X",K$3,""),"")} | ... M5: {=IF(AND(M$2>0,$C5>0),IF(INDEX(Tableau1[],Calculs!M$2,Calculs!$C5)="X",M$3,""),"")}
A6: =Échantillon!A5 -> C10C50 | B6: =SUM(T_CALCULS[[#This Row],[T1 / R1]:[T5 / R2]]) -> 7 | C6: =MATCH(A6,Tableau1[#Headers],0) -> 3 | D6: {=IF(AND(D$2>0,$C6>0),IF(INDEX(Tableau1[],Calculs!D$2,Calculs!$C6)="X",D$3,""),"")} -> 3 | E6: {=IF(AND(E$2>0,$C6>0),IF(INDEX(Tableau1[],Calculs!E$2,Calculs!$C6)="X",E$3,""),"")} -> 1 | F6: {=IF(AND(F$2>0,$C6>0),IF(INDEX(Tableau1[],Calculs!F$2,Calculs!$C6)="X",F$3,""),"")} -> 1 | G6: {=IF(AND(G$2>0,$C6>0),IF(INDEX(Tableau1[],Calculs!G$2,Calculs!$C6)="X",G$3,""),"")} -> 2 | H6: {=IF(AND(H$2>0,$C6>0),IF(INDEX(Tableau1[],Calculs!H$2,Calculs!$C6)="X",H$3,""),"")} | I6: {=IF(AND(I$2>0,$C6>0),IF(INDEX(Tableau1[],Calculs!I$2,Calculs!$C6)="X",I$3,""),"")} | J6: {=IF(AND(J$2>0,$C6>0),IF(INDEX(Tableau1[],Calculs!J$2,Calculs!$C6)="X",J$3,""),"")} | K6: {=IF(AND(K$2>0,$C6>0),IF(INDEX(Tableau1[],Calculs!K$2,Calculs!$C6)="X",K$3,""),"")} | ... M6: {=IF(AND(M$2>0,$C6>0),IF(INDEX(Tableau1[],Calculs!M$2,Calculs!$C6)="X",M$3,""),"")}
A7: =Échantillon!A6 -> HAP | B7: =SUM(T_CALCULS[[#This Row],[T1 / R1]:[T5 / R2]]) -> 7 | C7: =MATCH(A7,Tableau1[#Headers],0) -> 4 | D7: {=IF(AND(D$2>0,$C7>0),IF(INDEX(Tableau1[],Calculs!D$2,Calculs!$C7)="X",D$3,""),"")} -> 3 | E7: {=IF(AND(E$2>0,$C7>0),IF(INDEX(Tableau1[],Calculs!E$2,Calculs!$C7)="X",E$3,""),"")} -> 1 | F7: {=IF(AND(F$2>0,$C7>0),IF(INDEX(Tableau1[],Calculs!F$2,Calculs!$C7)="X",F$3,""),"")} -> 1 | G7: {=IF(AND(G$2>0,$C7>0),IF(INDEX(Tableau1[],Calculs!G$2,Calculs!$C7)="X",G$3,""),"")} -> 2 | H7: {=IF(AND(H$2>0,$C7>0),IF(INDEX(Tableau1[],Calculs!H$2,Calculs!$C7)="X",H$3,""),"")} | I7: {=IF(AND(I$2>0,$C7>0),IF(INDEX(Tableau1[],Calculs!I$2,Calculs!$C7)="X",I$3,""),"")} | J7: {=IF(AND(J$2>0,$C7>0),IF(INDEX(Tableau1[],Calculs!J$2,Calculs!$C7)="X",J$3,""),"")} | K7: {=IF(AND(K$2>0,$C7>0),IF(INDEX(Tableau1[],Calculs!K$2,Calculs!$C7)="X",K$3,""),"")} | ... M7: {=IF(AND(M$2>0,$C7>0),IF(INDEX(Tableau1[],Calculs!M$2,Calculs!$C7)="X",M$3,""),"")}
A8: =Échantillon!A7 -> COV-HAM-HAC | B8: =SUM(T_CALCULS[[#This Row],[T1 / R1]:[T5 / R2]]) -> 6 | C8: =MATCH(A8,Tableau1[#Headers],0) -> 5 | D8: {=IF(AND(D$2>0,$C8>0),IF(INDEX(Tableau1[],Calculs!D$2,Calculs!$C8)="X",D$3,""),"")} -> 3 | E8: {=IF(AND(E$2>0,$C8>0),IF(INDEX(Tableau1[],Calculs!E$2,Calculs!$C8)="X",E$3,""),"")} -> 1 | F8: {=IF(AND(F$2>0,$C8>0),IF(INDEX(Tableau1[],Calculs!F$2,Calculs!$C8)="X",F$3,""),"")} | G8: {=IF(AND(G$2>0,$C8>0),IF(INDEX(Tableau1[],Calculs!G$2,Calculs!$C8)="X",G$3,""),"")} -> 2 | H8: {=IF(AND(H$2>0,$C8>0),IF(INDEX(Tableau1[],Calculs!H$2,Calculs!$C8)="X",H$3,""),"")} | I8: {=IF(AND(I$2>0,$C8>0),IF(INDEX(Tableau1[],Calculs!I$2,Calculs!$C8)="X",I$3,""),"")} | J8: {=IF(AND(J$2>0,$C8>0),IF(INDEX(Tableau1[],Calculs!J$2,Calculs!$C8)="X",J$3,""),"")} | K8: {=IF(AND(K$2>0,$C8>0),IF(INDEX(Tableau1[],Calculs!K$2,Calculs!$C8)="X",K$3,""),"")} | ... M8: {=IF(AND(M$2>0,$C8>0),IF(INDEX(Tableau1[],Calculs!M$2,Calculs!$C8)="X",M$3,""),"")}
A9: =Échantillon!A8 -> C-Phélonique | B9: =SUM(T_CALCULS[[#This Row],[T1 / R1]:[T5 / R2]]) -> 2 | C9: =MATCH(A9,Tableau1[#Headers],0) -> 6 | D9: {=IF(AND(D$2>0,$C9>0),IF(INDEX(Tableau1[],Calculs!D$2,Calculs!$C9)="X",D$3,""),"")} | E9: {=IF(AND(E$2>0,$C9>0),IF(INDEX(Tableau1[],Calculs!E$2,Calculs!$C9)="X",E$3,""),"")} | F9: {=IF(AND(F$2>0,$C9>0),IF(INDEX(Tableau1[],Calculs!F$2,Calculs!$C9)="X",F$3,""),"")} | G9: {=IF(AND(G$2>0,$C9>0),IF(INDEX(Tableau1[],Calculs!G$2,Calculs!$C9)="X",G$3,""),"")} -> 2 | H9: {=IF(AND(H$2>0,$C9>0),IF(INDEX(Tableau1[],Calculs!H$2,Calculs!$C9)="X",H$3,""),"")} | I9: {=IF(AND(I$2>0,$C9>0),IF(INDEX(Tableau1[],Calculs!I$2,Calculs!$C9)="X",I$3,""),"")} | J9: {=IF(AND(J$2>0,$C9>0),IF(INDEX(Tableau1[],Calculs!J$2,Calculs!$C9)="X",J$3,""),"")} | K9: {=IF(AND(K$2>0,$C9>0),IF(INDEX(Tableau1[],Calculs!K$2,Calculs!$C9)="X",K$3,""),"")} | ... M9: {=IF(AND(M$2>0,$C9>0),IF(INDEX(Tableau1[],Calculs!M$2,Calculs!$C9)="X",M$3,""),"")}
A10: =Échantillon!A9 -> Coli-phéco | B10: =SUM(T_CALCULS[[#This Row],[T1 / R1]:[T5 / R2]]) -> 0 | C10: =MATCH(A10,Tableau1[#Headers],0) -> 7 | D10: {=IF(AND(D$2>0,$C10>0),IF(INDEX(Tableau1[],Calculs!D$2,Calculs!$C10)="X",D$3,""),"")} | E10: {=IF(AND(E$2>0,$C10>0),IF(INDEX(Tableau1[],Calculs!E$2,Calculs!$C10)="X",E$3,""),"")} | F10: {=IF(AND(F$2>0,$C10>0),IF(INDEX(Tableau1[],Calculs!F$2,Calculs!$C10)="X",F$3,""),"")} | G10: {=IF(AND(G$2>0,$C10>0),IF(INDEX(Tableau1[],Calculs!G$2,Calculs!$C10)="X",G$3,""),"")} | H10: {=IF(AND(H$2>0,$C10>0),IF(INDEX(Tableau1[],Calculs!H$2,Calculs!$C10)="X",H$3,""),"")} | I10: {=IF(AND(I$2>0,$C10>0),IF(INDEX(Tableau1[],Calculs!I$2,Calculs!$C10)="X",I$3,""),"")} | J10: {=IF(AND(J$2>0,$C10>0),IF(INDEX(Tableau1[],Calculs!J$2,Calculs!$C10)="X",J$3,""),"")} | K10: {=IF(AND(K$2>0,$C10>0),IF(INDEX(Tableau1[],Calculs!K$2,Calculs!$C10)="X",K$3,""),"")} | ... M10: {=IF(AND(M$2>0,$C10>0),IF(INDEX(Tableau1[],Calculs!M$2,Calculs!$C10)="X",M$3,""),"")}
A11: =Échantillon!A10 -> Entérocoques | B11: =SUM(T_CALCULS[[#This Row],[T1 / R1]:[T5 / R2]]) -> 0 | C11: =MATCH(A11,Tableau1[#Headers],0) -> 8 | D11: {=IF(AND(D$2>0,$C11>0),IF(INDEX(Tableau1[],Calculs!D$2,Calculs!$C11)="X",D$3,""),"")} | E11: {=IF(AND(E$2>0,$C11>0),IF(INDEX(Tableau1[],Calculs!E$2,Calculs!$C11)="X",E$3,""),"")} | F11: {=IF(AND(F$2>0,$C11>0),IF(INDEX(Tableau1[],Calculs!F$2,Calculs!$C11)="X",F$3,""),"")} | G11: {=IF(AND(G$2>0,$C11>0),IF(INDEX(Tableau1[],Calculs!G$2,Calculs!$C11)="X",G$3,""),"")} | H11: {=IF(AND(H$2>0,$C11>0),IF(INDEX(Tableau1[],Calculs!H$2,Calculs!$C11)="X",H$3,""),"")} | I11: {=IF(AND(I$2>0,$C11>0),IF(INDEX(Tableau1[],Calculs!I$2,Calculs!$C11)="X",I$3,""),"")} | J11: {=IF(AND(J$2>0,$C11>0),IF(INDEX(Tableau1[],Calculs!J$2,Calculs!$C11)="X",J$3,""),"")} | K11: {=IF(AND(K$2>0,$C11>0),IF(INDEX(Tableau1[],Calculs!K$2,Calculs!$C11)="X",K$3,""),"")} | ... M11: {=IF(AND(M$2>0,$C11>0),IF(INDEX(Tableau1[],Calculs!M$2,Calculs!$C11)="X",M$3,""),"")}
A12: =Échantillon!A11 -> bromur-chlorure-fluorure-nitrate-sulfate eau | B12: =SUM(T_CALCULS[[#This Row],[T1 / R1]:[T5 / R2]]) -> 0 | C12: =MATCH(A12,Tableau1[#Headers],0) -> 9 | D12: {=IF(AND(D$2>0,$C12>0),IF(INDEX(Tableau1[],Calculs!D$2,Calculs!$C12)="X",D$3,""),"")} | E12: {=IF(AND(E$2>0,$C12>0),IF(INDEX(Tableau1[],Calculs!E$2,Calculs!$C12)="X",E$3,""),"")} | F12: {=IF(AND(F$2>0,$C12>0),IF(INDEX(Tableau1[],Calculs!F$2,Calculs!$C12)="X",F$3,""),"")} | G12: {=IF(AND(G$2>0,$C12>0),IF(INDEX(Tableau1[],Calculs!G$2,Calculs!$C12)="X",G$3,""),"")} | H12: {=IF(AND(H$2>0,$C12>0),IF(INDEX(Tableau1[],Calculs!H$2,Calculs!$C12)="X",H$3,""),"")} | I12: {=IF(AND(I$2>0,$C12>0),IF(INDEX(Tableau1[],Calculs!I$2,Calculs!$C12)="X",I$3,""),"")} | J12: {=IF(AND(J$2>0,$C12>0),IF(INDEX(Tableau1[],Calculs!J$2,Calculs!$C12)="X",J$3,""),"")} | K12: {=IF(AND(K$2>0,$C12>0),IF(INDEX(Tableau1[],Calculs!K$2,Calculs!$C12)="X",K$3,""),"")} | ... M12: {=IF(AND(M$2>0,$C12>0),IF(INDEX(Tableau1[],Calculs!M$2,Calculs!$C12)="X",M$3,""),"")}
A13: =Échantillon!A12 -> bromur-chlorure-fluorure-nitrate-sulfate | B13: =SUM(T_CALCULS[[#This Row],[T1 / R1]:[T5 / R2]]) -> 2 | C13: =MATCH(A13,Tableau1[#Headers],0) -> 10 | D13: {=IF(AND(D$2>0,$C13>0),IF(INDEX(Tableau1[],Calculs!D$2,Calculs!$C13)="X",D$3,""),"")} | E13: {=IF(AND(E$2>0,$C13>0),IF(INDEX(Tableau1[],Calculs!E$2,Calculs!$C13)="X",E$3,""),"")} | F13: {=IF(AND(F$2>0,$C13>0),IF(INDEX(Tableau1[],Calculs!F$2,Calculs!$C13)="X",F$3,""),"")} | G13: {=IF(AND(G$2>0,$C13>0),IF(INDEX(Tableau1[],Calculs!G$2,Calculs!$C13)="X",G$3,""),"")} -> 2 | H13: {=IF(AND(H$2>0,$C13>0),IF(INDEX(Tableau1[],Calculs!H$2,Calculs!$C13)="X",H$3,""),"")} | I13: {=IF(AND(I$2>0,$C13>0),IF(INDEX(Tableau1[],Calculs!I$2,Calculs!$C13)="X",I$3,""),"")} | J13: {=IF(AND(J$2>0,$C13>0),IF(INDEX(Tableau1[],Calculs!J$2,Calculs!$C13)="X",J$3,""),"")} | K13: {=IF(AND(K$2>0,$C13>0),IF(INDEX(Tableau1[],Calculs!K$2,Calculs!$C13)="X",K$3,""),"")} | ... M13: {=IF(AND(M$2>0,$C13>0),IF(INDEX(Tableau1[],Calculs!M$2,Calculs!$C13)="X",M$3,""),"")}
A14: =Échantillon!A13 -> Azote ammoniacal | B14: =SUM(T_CALCULS[[#This Row],[T1 / R1]:[T5 / R2]]) -> 2 | C14: =MATCH(A14,Tableau1[#Headers],0) -> 11 | D14: {=IF(AND(D$2>0,$C14>0),IF(INDEX(Tableau1[],Calculs!D$2,Calculs!$C14)="X",D$3,""),"")} | E14: {=IF(AND(E$2>0,$C14>0),IF(INDEX(Tableau1[],Calculs!E$2,Calculs!$C14)="X",E$3,""),"")} | F14: {=IF(AND(F$2>0,$C14>0),IF(INDEX(Tableau1[],Calculs!F$2,Calculs!$C14)="X",F$3,""),"")} | G14: {=IF(AND(G$2>0,$C14>0),IF(INDEX(Tableau1[],Calculs!G$2,Calculs!$C14)="X",G$3,""),"")} -> 2 | H14: {=IF(AND(H$2>0,$C14>0),IF(INDEX(Tableau1[],Calculs!H$2,Calculs!$C14)="X",H$3,""),"")} | I14: {=IF(AND(I$2>0,$C14>0),IF(INDEX(Tableau1[],Calculs!I$2,Calculs!$C14)="X",I$3,""),"")} | J14: {=IF(AND(J$2>0,$C14>0),IF(INDEX(Tableau1[],Calculs!J$2,Calculs!$C14)="X",J$3,""),"")} | K14: {=IF(AND(K$2>0,$C14>0),IF(INDEX(Tableau1[],Calculs!K$2,Calculs!$C14)="X",K$3,""),"")} | ... M14: {=IF(AND(M$2>0,$C14>0),IF(INDEX(Tableau1[],Calculs!M$2,Calculs!$C14)="X",M$3,""),"")}
A15: =Échantillon!A14 -> Azote ammoniacal eau | B15: =SUM(T_CALCULS[[#This Row],[T1 / R1]:[T5 / R2]]) -> 0 | C15: =MATCH(A15,Tableau1[#Headers],0) -> 12 | D15: {=IF(AND(D$2>0,$C15>0),IF(INDEX(Tableau1[],Calculs!D$2,Calculs!$C15)="X",D$3,""),"")} | E15: {=IF(AND(E$2>0,$C15>0),IF(INDEX(Tableau1[],Calculs!E$2,Calculs!$C15)="X",E$3,""),"")} | F15: {=IF(AND(F$2>0,$C15>0),IF(INDEX(Tableau1[],Calculs!F$2,Calculs!$C15)="X",F$3,""),"")} | G15: {=IF(AND(G$2>0,$C15>0),IF(INDEX(Tableau1[],Calculs!G$2,Calculs!$C15)="X",G$3,""),"")} | H15: {=IF(AND(H$2>0,$C15>0),IF(INDEX(Tableau1[],Calculs!H$2,Calculs!$C15)="X",H$3,""),"")} | I15: {=IF(AND(I$2>0,$C15>0),IF(INDEX(Tableau1[],Calculs!I$2,Calculs!$C15)="X",I$3,""),"")} | J15: {=IF(AND(J$2>0,$C15>0),IF(INDEX(Tableau1[],Calculs!J$2,Calculs!$C15)="X",J$3,""),"")} | K15: {=IF(AND(K$2>0,$C15>0),IF(INDEX(Tableau1[],Calculs!K$2,Calculs!$C15)="X",K$3,""),"")} | ... M15: {=IF(AND(M$2>0,$C15>0),IF(INDEX(Tableau1[],Calculs!M$2,Calculs!$C15)="X",M$3,""),"")}
A16: =Échantillon!A15 -> Azote Kjeldahl | B16: =SUM(T_CALCULS[[#This Row],[T1 / R1]:[T5 / R2]]) -> 0 | C16: =MATCH(A16,Tableau1[#Headers],0) -> 13 | D16: {=IF(AND(D$2>0,$C16>0),IF(INDEX(Tableau1[],Calculs!D$2,Calculs!$C16)="X",D$3,""),"")} | E16: {=IF(AND(E$2>0,$C16>0),IF(INDEX(Tableau1[],Calculs!E$2,Calculs!$C16)="X",E$3,""),"")} | F16: {=IF(AND(F$2>0,$C16>0),IF(INDEX(Tableau1[],Calculs!F$2,Calculs!$C16)="X",F$3,""),"")} | G16: {=IF(AND(G$2>0,$C16>0),IF(INDEX(Tableau1[],Calculs!G$2,Calculs!$C16)="X",G$3,""),"")} | H16: {=IF(AND(H$2>0,$C16>0),IF(INDEX(Tableau1[],Calculs!H$2,Calculs!$C16)="X",H$3,""),"")} | I16: {=IF(AND(I$2>0,$C16>0),IF(INDEX(Tableau1[],Calculs!I$2,Calculs!$C16)="X",I$3,""),"")} | J16: {=IF(AND(J$2>0,$C16>0),IF(INDEX(Tableau1[],Calculs!J$2,Calculs!$C16)="X",J$3,""),"")} | K16: {=IF(AND(K$2>0,$C16>0),IF(INDEX(Tableau1[],Calculs!K$2,Calculs!$C16)="X",K$3,""),"")} | ... M16: {=IF(AND(M$2>0,$C16>0),IF(INDEX(Tableau1[],Calculs!M$2,Calculs!$C16)="X",M$3,""),"")}
... A52: =Échantillon!A51 -> Amiante (granulométrie et MLP-IRSST-244) | B52: =SUM(T_CALCULS[[#This Row],[T1 / R1]:[T5 / R2]]) -> 0 | C52: =MATCH(A52,Tableau1[#Headers],0) -> 49 | D52: {=IF(AND(D$2>0,$C52>0),IF(INDEX(Tableau1[],Calculs!D$2,Calculs!$C52)="X",D$3,""),"")} | E52: {=IF(AND(E$2>0,$C52>0),IF(INDEX(Tableau1[],Calculs!E$2,Calculs!$C52)="X",E$3,""),"")} | F52: {=IF(AND(F$2>0,$C52>0),IF(INDEX(Tableau1[],Calculs!F$2,Calculs!$C52)="X",F$3,""),"")} | G52: {=IF(AND(G$2>0,$C52>0),IF(INDEX(Tableau1[],Calculs!G$2,Calculs!$C52)="X",G$3,""),"")} | H52: {=IF(AND(H$2>0,$C52>0),IF(INDEX(Tableau1[],Calculs!H$2,Calculs!$C52)="X",H$3,""),"")} | I52: {=IF(AND(I$2>0,$C52>0),IF(INDEX(Tableau1[],Calculs!I$2,Calculs!$C52)="X",I$3,""),"")} | J52: {=IF(AND(J$2>0,$C52>0),IF(INDEX(Tableau1[],Calculs!J$2,Calculs!$C52)="X",J$3,""),"")} | K52: {=IF(AND(K$2>0,$C52>0),IF(INDEX(Tableau1[],Calculs!K$2,Calculs!$C52)="X",K$3,""),"")} | ... M52: {=IF(AND(M$2>0,$C52>0),IF(INDEX(Tableau1[],Calculs!M$2,Calculs!$C52)="X",M$3,""),"")}
