Workbook
Name CalendarYear: #REF!
Name ColumnTitleRegion1..H12.1: #REF!
Name ColumnTitleRegion1..H12.10: #REF!
Name ColumnTitleRegion1..H12.11: #REF!
Name ColumnTitleRegion1..H12.12: #REF!
Name ColumnTitleRegion1..H12.2: #REF!
Name ColumnTitleRegion1..H12.3: #REF!
Name ColumnTitleRegion1..H12.4: #REF!
Name ColumnTitleRegion1..H12.5: #REF!
Name ColumnTitleRegion1..H12.6: #REF!
Name ColumnTitleRegion1..H12.7: #REF!
Name ColumnTitleRegion1..H12.8: #REF!
Name ColumnTitleRegion1..H12.9: #REF!
Name ColumnTitleRegion2..C14.1: #REF!
Name ColumnTitleRegion2..C14.10: #REF!
Name ColumnTitleRegion2..C14.11: #REF!
Name ColumnTitleRegion2..C14.12: #REF!
Name ColumnTitleRegion2..C14.2: #REF!
Name ColumnTitleRegion2..C14.3: #REF!
Name ColumnTitleRegion2..C14.4: #REF!
Name ColumnTitleRegion2..C14.5: #REF!
Name ColumnTitleRegion2..C14.6: #REF!
Name ColumnTitleRegion2..C14.7: #REF!
Name ColumnTitleRegion2..C14.8: #REF!
Name ColumnTitleRegion2..C14.9: #REF!
Name DaysAndWeeks: {0,1,2,3,4,5,6} + {0;1;2;3;4;5}*7
Name RowTitleRegion1..K3: #REF!
Name WeekStart: #REF!

Sheet Index
B2: CALENDRIER | C2: 8 | D2: 2024
B3: =DATE(D2,C2,1) -> 45505 | C3: =B3+1 -> 45506 | D3: =C3+1 -> 45507 | E3: =D3+1 -> 45508 | F3: =E3+1 -> 45509 | G3: =F3+1 -> 45510 | H3: =G3+1 -> 45511 | I3: =H3+1 -> 45512 | J3: =I3+1 -> 45513 | ... P3: =O3+1 -> 45519
A4: A | B4: {=IFERROR(_xlfn.TEXTJOIN(", ",TRUE, IF(_xlfn.SINGLE(A!$C$5:$C$100)=B$3, A!$A$5:$A$100, "")),"")} | C4: {=IFERROR(_xlfn.TEXTJOIN(", ",TRUE, IF(_xlfn.SINGLE(A!$C$5:$C$100)=C$3, A!$A$5:$A$100, "")),"")} | D4: {=IFERROR(_xlfn.TEXTJOIN(", ",TRUE, IF(_xlfn.SINGLE(A!$C$5:$C$100)=D$3, A!$A$5:$A$100, "")),"")} | E4: {=IFERROR(_xlfn.TEXTJOIN(", ",TRUE, IF(_xlfn.SINGLE(A!$C$5:$C$100)=E$3, A!$A$5:$A$100, "")),"")} | F4: {=IFERROR(_xlfn.TEXTJOIN(", ",TRUE, IF(_xlfn.SINGLE(A!$C$5:$C$100)=F$3, A!$A$5:$A$100, "")),"")} | G4: {=IFERROR(_xlfn.TEXTJOIN(", ",TRUE, IF(_xlfn.SINGLE(A!$C$5:$C$100)=G$3, A!$A$5:$A$100, "")),"")} | H4: {=IFERROR(_xlfn.TEXTJOIN(", ",TRUE, IF(_xlfn.SINGLE(A!$C$5:$C$100)=H$3, A!$A$5:$A$100, "")),"")} | I4: {=IFERROR(_xlfn.TEXTJOIN(", ",TRUE, IF(_xlfn.SINGLE(A!$C$5:$C$100)=I$3, A!$A$5:$A$100, "")),"")} | ... P4: {=IFERROR(_xlfn.TEXTJOIN(", ",TRUE, IF(_xlfn.SINGLE(A!$C$5:$C$100)=P$3, A!$A$5:$A$100, "")),"")}
A5: B
A6: C
A7: D
A8: E
A9: F
A10: G
A11: H
A12: I
A13: J
A14: K
A15: L
A16: M
A17: N
B18: =P3+1 -> 45520 | C18: =B18+1 -> 45521 | D18: =C18+1 -> 45522 | E18: =D18+1 -> 45523 | F18: =E18+1 -> 45524 | G18: =F18+1 -> 45525 | H18: =G18+1 -> 45526 | I18: =H18+1 -> 45527 | J18: =I18+1 -> 45528 | ... Q18: =P18+1 -> 45535
A19: A | B19: {=IFERROR(_xlfn.TEXTJOIN(", ",TRUE, IF(A!$C$5:$C$100=B$18, A!$A$5:$A$100, "")),"")} | C19: {=IFERROR(_xlfn.TEXTJOIN(", ",TRUE, IF(A!$C$5:$C$100=C$18, A!$A$5:$A$100, "")),"")} | D19: {=IFERROR(_xlfn.TEXTJOIN(", ",TRUE, IF(A!$C$5:$C$100=D$18, A!$A$5:$A$100, "")),"")} | E19: {=IFERROR(_xlfn.TEXTJOIN(", ",TRUE, IF(A!$C$5:$C$100=E$18, A!$A$5:$A$100, "")),"")} | F19: {=IFERROR(_xlfn.TEXTJOIN(", ",TRUE, IF(A!$C$5:$C$100=F$18, A!$A$5:$A$100, "")),"")} | G19: {=IFERROR(_xlfn.TEXTJOIN(", ",TRUE, IF(A!$C$5:$C$100=G$18, A!$A$5:$A$100, "")),"")} | H19: {=IFERROR(_xlfn.TEXTJOIN(", ",TRUE, IF(A!$C$5:$C$100=H$18, A!$A$5:$A$100, "")),"")} | I19: {=IFERROR(_xlfn.TEXTJOIN(", ",TRUE, IF(A!$C$5:$C$100=I$18, A!$A$5:$A$100, "")),"")} | ... Q19: {=IFERROR(_xlfn.TEXTJOIN(", ",TRUE, IF(A!$C$5:$C$100=Q$18, A!$A$5:$A$100, "")),"")} -> A4
A20: B
A21: C
A22: D
A23: E
A24: F
A25: G
A26: H
A27: I
A28: J
A29: K
A30: L
A31: M
A32: N

Sheet A
B2: Sémiologie
J3: Deadline
B4: Vu le | C4: J2 | D4: J7 | E4: J15 | F4: J30 | H4: Détail du cours
A5: A1 | B5: 26/08/2024 | C5: 45532 | D5: =C5+5 -> 45537 | E5: =D5+8 -> 45545 | F5: =E5+15 -> 45560 | G5: TD
A6: A2 | B6: 26/08/2024 | C6: 45532 | D6: =C6+5 -> 45537 | E6: =D6+8 -> 45545 | F6: =E6+15 -> 45560 | G6: CM
A7: A3 | B7: 26/08/2024 | C7: 45534 | D7: =C7+5 -> 45539 | E7: =D7+8 -> 45547 | F7: =E7+15 -> 45562 | G7: TD
A8: A4 | B8: 26/08/2024 | C8: 45535 | D8: =C8+5 -> 45540 | E8: =D8+8 -> 45548 | F8: =E8+15 -> 45563 | G8: CM
A9: A5 | B9: 26/08/2024 | C9: 45536 | D9: =C9+5 -> 45541 | E9: =D9+8 -> 45549 | F9: =E9+15 -> 45564 | G9: TD
A10: A6 | B10: 26/08/2024 | C10: 45537 | D10: =C10+5 -> 45542 | E10: =D10+8 -> 45550 | F10: =E10+15 -> 45565 | G10: CM
A11: A7 | B11: 26/08/2024 | C11: 45538 | D11: =C11+5 -> 45543 | E11: =D11+8 -> 45551 | F11: =E11+15 -> 45566 | G11: TD
A12: A8 | B12: 26/08/2024 | C12: 45539 | D12: =C12+5 -> 45544 | E12: =D12+8 -> 45552 | F12: =E12+15 -> 45567 | G12: CM
A13: A9 | B13: 26/08/2024 | C13: 45540 | D13: =C13+5 -> 45545 | E13: =D13+8 -> 45553 | F13: =E13+15 -> 45568 | G13: TD
A14: A10 | B14: 26/08/2024 | C14: 45541 | D14: =C14+5 -> 45546 | E14: =D14+8 -> 45554 | F14: =E14+15 -> 45569 | G14: CM
A15: A11 | B15: 26/08/2024 | C15: 45542 | D15: =C15+5 -> 45547 | E15: =D15+8 -> 45555 | F15: =E15+15 -> 45570 | G15: TD
A16: A12 | B16: 26/08/2024 | C16: 45543 | D16: =C16+5 -> 45548 | E16: =D16+8 -> 45556 | F16: =E16+15 -> 45571 | G16: CM
... A34: A30 | B34: 26/08/2024 | C34: 45561 | D34: =C34+5 -> 45566 | E34: =D34+8 -> 45574 | F34: =E34+15 -> 45589 | G34: CM

Sheet B

Sheet C

Sheet D

Sheet E

Sheet F

Sheet G

Sheet H

Sheet I

Sheet J
