Workbook

Sheet CREME ANGLAISE
A1: CREME ANGLAISE | F1: I | G1: P
A2: INGREDIENTS | B2: Q | C2: Q au g | D2: % | E2: COÛT HT
A3: LAIT | B3: 2L | C3: 2000 | D3: =IFERROR((E3/$E$22),"") -> 0.30725547 | E3: =IFERROR(INDEX(FRAIS!$H:$H,MATCH(A3,FRAIS!A:A,0))*C3,IFERROR(INDEX(EPICERIE!$H:$H,MATCH(A3,EPICERIE!$A:$A,0))*C3,IFERROR(INDEX(GEL!$G:$G,MATCH(A3,GEL!$A:$A,0))*C3,""))) -> 1.74
A4: OVO JAUNE | B4: 400g | C4: 400 | D4: =IFERROR((E4/$E$22),"") -> 0.59685257 | E4: =IFERROR(INDEX(FRAIS!$H:$H,MATCH(A4,FRAIS!A:A,0))*C4,IFERROR(INDEX(EPICERIE!$H:$H,MATCH(A4,EPICERIE!$A:$A,0))*C4,IFERROR(INDEX(GEL!$G:$G,MATCH(A4,GEL!$A:$A,0))*C4,""))) -> 3.38
A5: SUCRE SEMOULE | B5: 300g | C5: 300 | D5: =IFERROR((E5/$E$22),"") -> 0.076284116 | E5: =IFERROR(INDEX(FRAIS!$H:$H,MATCH(A5,FRAIS!A:A,0))*C5,IFERROR(INDEX(EPICERIE!$H:$H,MATCH(A5,EPICERIE!$A:$A,0))*C5,IFERROR(INDEX(GEL!$G:$G,MATCH(A5,GEL!$A:$A,0))*C5,""))) -> 0.432
A6: AROME VANILLE | D6: =IFERROR((E6/$E$22),"") -> 0 | E6: =IFERROR(INDEX(FRAIS!$H:$H,MATCH(A6,FRAIS!A:A,0))*C6,IFERROR(INDEX(EPICERIE!$H:$H,MATCH(A6,EPICERIE!$A:$A,0))*C6,IFERROR(INDEX(GEL!$G:$G,MATCH(A6,GEL!$A:$A,0))*C6,""))) -> 0
D7: =IFERROR((E7/$E$22),"") | E7: =IFERROR(INDEX(FRAIS!$H:$H,MATCH(A7,FRAIS!A:A,0))*C7,IFERROR(INDEX(EPICERIE!$H:$H,MATCH(A7,EPICERIE!$A:$A,0))*C7,IFERROR(INDEX(GEL!$G:$G,MATCH(A7,GEL!$A:$A,0))*C7,"")))
D8: =IFERROR((E8/$E$22),"") | E8: =IFERROR(INDEX(FRAIS!$H:$H,MATCH(A8,FRAIS!A:A,0))*C8,IFERROR(INDEX(EPICERIE!$H:$H,MATCH(A8,EPICERIE!$A:$A,0))*C8,IFERROR(INDEX(GEL!$G:$G,MATCH(A8,GEL!$A:$A,0))*C8,"")))
D9: =IFERROR((E9/$E$22),"") | E9: =IFERROR(INDEX(FRAIS!$H:$H,MATCH(A9,FRAIS!A:A,0))*C9,IFERROR(INDEX(EPICERIE!$H:$H,MATCH(A9,EPICERIE!$A:$A,0))*C9,IFERROR(INDEX(GEL!$G:$G,MATCH(A9,GEL!$A:$A,0))*C9,"")))
D10: =IFERROR((E10/$E$22),"") | E10: =IFERROR(INDEX(FRAIS!$H:$H,MATCH(A10,FRAIS!A:A,0))*C10,IFERROR(INDEX(EPICERIE!$H:$H,MATCH(A10,EPICERIE!$A:$A,0))*C10,IFERROR(INDEX(GEL!$G:$G,MATCH(A10,GEL!$A:$A,0))*C10,"")))
D11: =IFERROR((E11/$E$22),"") | E11: =IFERROR(INDEX(FRAIS!$H:$H,MATCH(A11,FRAIS!A:A,0))*C11,IFERROR(INDEX(EPICERIE!$H:$H,MATCH(A11,EPICERIE!$A:$A,0))*C11,IFERROR(INDEX(GEL!$G:$G,MATCH(A11,GEL!$A:$A,0))*C11,"")))
D12: =IFERROR((E12/$E$22),"") | E12: =IFERROR(INDEX(FRAIS!$H:$H,MATCH(A12,FRAIS!A:A,0))*C12,IFERROR(INDEX(EPICERIE!$H:$H,MATCH(A12,EPICERIE!$A:$A,0))*C12,IFERROR(INDEX(GEL!$G:$G,MATCH(A12,GEL!$A:$A,0))*C12,"")))
D13: =IFERROR((E13/$E$22),"") | E13: =IFERROR(INDEX(FRAIS!$H:$H,MATCH(A13,FRAIS!A:A,0))*C13,IFERROR(INDEX(EPICERIE!$H:$H,MATCH(A13,EPICERIE!$A:$A,0))*C13,IFERROR(INDEX(GEL!$G:$G,MATCH(A13,GEL!$A:$A,0))*C13,"")))
D14: =IFERROR((E14/$E$22),"") | E14: =IFERROR(INDEX(FRAIS!$H:$H,MATCH(A14,FRAIS!A:A,0))*C14,IFERROR(INDEX(EPICERIE!$H:$H,MATCH(A14,EPICERIE!$A:$A,0))*C14,IFERROR(INDEX(GEL!$G:$G,MATCH(A14,GEL!$A:$A,0))*C14,"")))
D15: =IFERROR((E15/$E$22),"") | E15: =IFERROR(INDEX(FRAIS!$H:$H,MATCH(A15,FRAIS!A:A,0))*C15,IFERROR(INDEX(EPICERIE!$H:$H,MATCH(A15,EPICERIE!$A:$A,0))*C15,IFERROR(INDEX(GEL!$G:$G,MATCH(A15,GEL!$A:$A,0))*C15,"")))
D16: =IFERROR((E16/$E$22),"") | E16: =IFERROR(INDEX(FRAIS!$H:$H,MATCH(A16,FRAIS!A:A,0))*C16,IFERROR(INDEX(EPICERIE!$H:$H,MATCH(A16,EPICERIE!$A:$A,0))*C16,IFERROR(INDEX(GEL!$G:$G,MATCH(A16,GEL!$A:$A,0))*C16,"")))
D17: =IFERROR((E17/$E$22),"") | E17: =IFERROR(INDEX(FRAIS!$H:$H,MATCH(A17,FRAIS!A:A,0))*C17,IFERROR(INDEX(EPICERIE!$H:$H,MATCH(A17,EPICERIE!$A:$A,0))*C17,IFERROR(INDEX(GEL!$G:$G,MATCH(A17,GEL!$A:$A,0))*C17,"")))
D18: =IFERROR((E18/$E$22),"") | E18: =IFERROR(INDEX(FRAIS!$H:$H,MATCH(A18,FRAIS!A:A,0))*C18,IFERROR(INDEX(EPICERIE!$H:$H,MATCH(A18,EPICERIE!$A:$A,0))*C18,IFERROR(INDEX(GEL!$G:$G,MATCH(A18,GEL!$A:$A,0))*C18,"")))
... D21: =IFERROR((E21/$E$22),"") | E21: =IFERROR(INDEX(FRAIS!$H:$H,MATCH(A21,FRAIS!A:A,0))*C21,IFERROR(INDEX(EPICERIE!$H:$H,MATCH(A21,EPICERIE!$A:$A,0))*C21,IFERROR(INDEX(GEL!$G:$G,MATCH(A21,GEL!$A:$A,0))*C21,"")))
C22: TOTAL+2% | E22: {=SUM(IF(ISNA(E3:E21),0,E3:E21))*1.02} -> 5.66304
A23: Nombre de portion | C23: PRIX PORTION | E23: =IFERROR((E22/B23),"")
A24: PROGRESSION
A25: # Faire tiedir le lait # Blanchir jaunes et sucre # Verser lait dans jaunes, mélanger puis remettre à feux doux # Mélanger à la spatule juqu'à 83° # Réserver #
A505: INGREDIENTS | B505: Q
A506: OEUFS | B506: 200
A507: FARINE | B507: 125
A508: SUCRE | B508: 125
A524: PROGRESSION
A525: # Mélanger œuf sucre batteur jusqu'à mousse ruban # Tamiser farine # ajouter à la mousse, et mélanger avec marise sans faire retomber mousse # Placer dans emporté pièce sur plaque sulfu # 180° 20mn #

Sheet FRAIS
A1: FRAIS
A2: REFERENCES | B2: CDT | C2: SYSCO | E2: METRO | H2: Prix 1000ème
A3: BEURRE ROULEAUX | B3: KG | C3: 9.22 | D3: 7.35 | E3: 8.6 | G3: =MIN(C3:F3) -> 7.35 | H3: =G3/1000 -> 0.00735
A4: BUNS | G4: =MIN(C4:F4) -> 0 | H4: =G4/1000 -> 0
A5: BURRATINA | B5: 50g | C5: 8.88 | G5: =MIN(C5:F5) -> 8.88 | H5: =G5/1000 -> 0.00888
A6: CAMENBERT | G6: =MIN(C6:F6) -> 0 | H6: =G6/1000 -> 0
A7: CHEDDAR | B7: 84*12,3 | C7: 10.52 | D7: 10.29 | E7: 11.5 | G7: =MIN(C7:F7) -> 10.29 | H7: =G7/1000 -> 0.01029
A8: CHEVRE BUCHETTE | B8: 180g | C8: 1.94 | G8: =MIN(C8:F8) -> 1.94 | H8: =G8/1000 -> 0.00194
A9: CREAM CHEESE | D9: 9.9 | E9: 9.9 | G9: =MIN(C9:F9) -> 9.9 | H9: =G9/1000 -> 0.0099
A10: CREME FRAICHE 30% | B10: L | C10: 3.63 | D10: 3.31 | E10: 3.79 | G10: =MIN(C10:F10) -> 3.31 | H10: =G10/1000 -> 0.00331
A11: CREME FRAICHE 35% | B11: L | D11: 3.8 | G11: =MIN(C11:F11) -> 3.8 | H11: =G11/1000 -> 0.0038
A12: CREME LIAISON 18% | G12: =MIN(C12:F12) -> 0 | H12: =G12/1000 -> 0
A13: CREME SUCREE VANILLEE DEBIC | B13: 2L | C13: 10.6 | D13: 11.89 | G13: =MIN(C13:F13) -> 10.6 | H13: =G13/1000 -> 0.0106
A14: FEUILLE DE BRICK | B14: 170gx10 | C14: 1.2 | D14: 1.12 | G14: =MIN(C14:F14) -> 1.12 | H14: =G14/1000 -> 0.00112
A15: GRANA PADANO RAPE | B15: KG | C15: 15.5 | D15: 15.68 | E15: 21.8 | G15: =MIN(C15:F15) -> 15.5 | H15: =G15/1000 -> 0.0155
A16: LAIT | B16: L | C16: 1000 | D16: 2000 | E16: 0.87 | G16: =MIN(C16:F16) -> 0.87 | H16: =G16/1000 -> 0.00087
A17: LAIT ENTIER | B17: L | C17: 1.25 | D17: 1.44 | G17: =MIN(C17:F17) -> 1.25 | H17: =G17/1000 -> 0.00125
A18: LARDONS | G18: =MIN(C18:F18) -> 0 | H18: =G18/1000 -> 0
A19: LEVURE | B19: 2,5KG | G19: =MIN(C19:F19) -> 0 | H19: =G19/1000 -> 0
A20: MASCARPONE | B20: 500g | C20: 6.79 | D20: 4.48 | G20: =MIN(C20:F20) -> 4.48 | H20: =G20/1000 -> 0.00448
A21: ŒUFS | B21: PC | C21: 0.23 | D21: 0.16 | E21: 0.23 | G21: =MIN(C21:F21) -> 0.16 | H21: =G21/1000 -> 0.00016
A22: OVO BLANC | B22: KG | C22: 5.42 | D22: 5.25 | G22: =MIN(C22:F22) -> 5.25 | H22: =G22/1000 -> 0.00525
A23: OVO JAUNE | B23: 2KG | C23: 8.45 | D23: 9.8 | G23: =MIN(C23:F23) -> 8.45 | H23: =G23/1000 -> 0.00845
A24: PARMESAN POINTE | B24: KG | D24: 19.2 | G24: =MIN(C24:F24) -> 19.2 | H24: =G24/1000 -> 0.0192
A25: PARMESAN RÂPÉ | B25: KG | C25: 19.8 | D25: 20.6 | G25: =MIN(C25:F25) -> 19.8 | H25: =G25/1000 -> 0.0198
A26: PARMESANS POINTE | C26: 18 | G26: =MIN(C26:F26) -> 18 | H26: =G26/1000 -> 0.018
A27: STRACCIATELA | B27: 400G | C27: 5.97 | G27: =MIN(C27:F27) -> 5.97 | H27: =G27/1000 -> 0.00597
A28: TOMME | G28: =MIN(C28:F28) -> 0 | H28: =G28/1000 -> 0
A29: PAIN DE MIE | B29: KG | C29: 4.4 | E29: 9.59 | G29: =MIN(C29:F29) -> 4.4 | H29: =G29/1000 -> 0.0044
A30: FILET ANCHOIS | B30: KG | C30: 16.1 | D30: 17.37 | E30: 17 | G30: =MIN(C30:F30) -> 16.1 | H30: =G30/1000 -> 0.0161
A31: GRANA PADANO POINTE | C31: 17.52 | D31: 15.79 | G31: =MIN(C31:F31) -> 15.79 | H31: =G31/1000 -> 0.01579
A32: TOMME CATALANE | B32: KG | C32: 12.9 | D32: 12.48 | G32: =MIN(C32:F32) -> 12.48 | H32: =G32/1000 -> 0.01248
A33: COMTE | B33: KG | D33: 15.61 | E33: 15.75 | G33: =MIN(C33:F33) -> 15.61 | H33: =G33/1000 -> 0.01561
A34: FOURME D'AMBERT | B34: KG | E34: 10.9 | G34: =MIN(C34:F34) -> 10.9 | H34: =G34/1000 -> 0.0109
A35: ROCAMADOUR | B35: P | E35: 0.97 | G35: =MIN(C35:F35) -> 0.97 | H35: =G35/1000 -> 0.00097
A36: FOCACCIA | B36: 750 | D36: 5.77 | E36: 7.64 | G36: =MIN(C36:F36) -> 5.77 | H36: =G36/1000 -> 0.00577
A37: MATO DE CADI | B37: P250g | D37: 2.59 | G37: =MIN(C37:F37) -> 2.59 | H37: =G37/1000 -> 0.00259
A38: CABECOU | B38: P | D38: 0.69 | G38: =MIN(C38:F38) -> 0.69 | H38: =G38/1000 -> 0.00069
G39: =MIN(C39:F39) -> 0 | H39: =G39/1000 -> 0
G40: =MIN(C40:F40) -> 0 | H40: =G40/1000 -> 0
...

Sheet EPICERIE
A1: EPICERIE
A2: REFERENCES | B2: CDT | C2: SYSCO | D2: SOBRAQUES | E2: METRO | H2: Prix 1000ème
A3: ABRICOT SEC | B3: KG | C3: 11.89 | D3: 14.95 | E3: 12.99 | G3: =MIN(C3:F3) -> 11.89 | H3: =G3/1000 -> 0.01189
A4: AMANDE POUDRE | B4: KG | C4: 11.93 | D4: 8.8 | G4: =MIN(C4:F4) -> 8.8 | H4: =G4/1000 -> 0.0088
A5: AMANDES EFFILEES | B5: KG | G5: =MIN(C5:F5) -> 0 | H5: =G5/1000 -> 0
A6: ANCHOIS | B6: 800G | G6: =MIN(C6:F6) -> 0 | H6: =G6/1000 -> 0
A7: AROME VANILLE | B7: L | C7: 9.87 | D7: 9.15 | G7: =MIN(C7:F7) -> 9.15 | H7: =G7/1000 -> 0.00915
A8: BAIE ROSE | B8: 220g | C8: 11.2 | D8: 11.955 | G8: =MIN(C8:F8) -> 11.2 | H8: =G8/1000 -> 0.0112
A9: CAPRES A QUEUS | B9: 690ml | G9: =MIN(C9:F9) -> 0 | H9: =G9/1000 -> 0
A10: CAPRES FINES | B10: 4.4 | C10: 5.1 | D10: 3.6 | G10: =MIN(C10:F10) -> 3.6 | H10: =G10/1000 -> 0.0036
G11: =MIN(C11:F11) -> 0 | H11: =G11/1000 -> 0
A12: CHAPELURE BRUNE | B12: KG | G12: =MIN(C12:F12) -> 0 | H12: =G12/1000 -> 0
A13: CHAPELURE CHINOISE PANKO | B13: KG | C13: 7.7 | D13: 5.67 | G13: =MIN(C13:F13) -> 5.67 | H13: =G13/1000 -> 0.00567
A14: CHOCO 55% | B14: KG | C14: 10.68 | E14: 8.1 | G14: =MIN(C14:F14) -> 8.1 | H14: =G14/1000 -> 0.0081
A15: COGNAC | G15: =MIN(C15:F15) -> 0 | H15: =G15/1000 -> 0
A16: CORNE FLEAK | B16: 500g | C16: 4.88 | D16: 3.53 | E16: 2.37 | G16: =MIN(C16:F16) -> 2.37 | H16: =G16/1000 -> 0.00237
A17: CORNICHON | B17: 5.1 | D17: 10.77 | E17: 8.06 | G17: =MIN(C17:F17) -> 8.06 | H17: =G17/1000 -> 0.00806
A18: CREME DE BALSAMIQUE | G18: =MIN(C18:F18) -> 0 | H18: =G18/1000 -> 0
A19: FARINE T 55 | B19: KG | C19: 0.85 | D19: 0.75 | E19: 0.73 | G19: =MIN(C19:F19) -> 0.73 | H19: =G19/1000 -> 0.00073
A20: FILME GRAND | C20: 10.5 | D20: 9.95 | G20: =MIN(C20:F20) -> 9.95 | H20: =G20/1000 -> 0.00995
A21: FILME PETIT | C21: 6.9 | D21: 6.99 | G21: =MIN(C21:F21) -> 6.9 | H21: =G21/1000 -> 0.0069
A22: FOND BRUN | B22: 750g | C22: 9.65 | D22: 11 | G22: =MIN(C22:F22) -> 9.65 | H22: =G22/1000 -> 0.00965
A23: GELLATINE ARGENT | B23: 400 | C23: 37.9 | G23: =MIN(C23:F23) -> 37.9 | H23: =G23/1000 -> 0.0379
A24: GRAISSE ALIMENTAIRE | B24: 600ml | C24: 5.2 | D24: 4.6 | G24: =MIN(C24:F24) -> 4.6 | H24: =G24/1000 -> 0.0046
A25: HARICOT BLANC | G25: =MIN(C25:F25) -> 0 | H25: =G25/1000 -> 0
A26: HUILE DE FRITURE | B26: 7.5x2 | C26: 2.42 | D26: 2.58 | G26: =MIN(C26:F26) -> 2.42 | H26: =G26/1000 -> 0.00242
A27: HUILE DE TOURNESOL | B27: L | C27: 1.94 | D27: 1.64 | E27: 2.09 | G27: =MIN(C27:F27) -> 1.64 | H27: =G27/1000 -> 0.00164
A28: HUILE D'OLIVE EXTRA | B28: L | C28: 10.83 | D28: 8.4 | E28: 10.44 | G28: =MIN(C28:F28) -> 8.4 | H28: =G28/1000 -> 0.0084
A29: JUS D'AGNEAU | B29: KG | C29: 29.9 | D29: 56 | E29: 42.36 | G29: =MIN(C29:F29) -> 29.9 | H29: =G29/1000 -> 0.0299
A30: LENTILLE CORAIL | C30: 7.25 | G30: =MIN(C30:F30) -> 7.25 | H30: =G30/1000 -> 0.00725
A31: LEVURE ALSACIENNE | G31: =MIN(C31:F31) -> 0 | H31: =G31/1000 -> 0
A32: MAIZENA | B32: 700G | C32: 6.43 | D32: 5.69 | G32: =MIN(C32:F32) -> 5.69 | H32: =G32/1000 -> 0.00569
A33: MIEL | B33: 500ml | C33: 13 | D33: 7 | G33: =MIN(C33:F33) -> 7 | H33: =G33/1000 -> 0.007
A34: MIRIN | B34: L | E34: 8.17 | G34: =MIN(C34:F34) -> 8.17 | H34: =G34/1000 -> 0.00817
A35: MOUTARDE | B35: 5KG | C35: 19.74 | D35: 12.9 | G35: =MIN(C35:F35) -> 12.9 | H35: =G35/1000 -> 0.0129
A36: MOUTARDE A L'ANCIENNE | B36: KG | C36: 3.47 | D36: 3.6 | G36: =MIN(C36:F36) -> 3.47 | H36: =G36/1000 -> 0.00347
A37: NOISETTES | B37: KG | C37: 15.63 | D37: 11.8 | G37: =MIN(C37:F37) -> 11.8 | H37: =G37/1000 -> 0.0118
A38: NOIX | B38: KG | C38: 11.1 | D38: 6.48 | G38: =MIN(C38:F38) -> 6.48 | H38: =G38/1000 -> 0.00648
A39: NOIX COCO RAPE | B39: KG | G39: =MIN(C39:F39) -> 0 | H39: =G39/1000 -> 0
A40: NOODLES | B40: 6KG | D40: 23 | G40: =MIN(C40:F40) -> 23 | H40: =G40/1000 -> 0.023
...

Sheet GEL
A1: GEL
A2: REFERENCES | B2: CDT | C2: SYSCO | D2: SOBRAQUES | G2: Prix 1000ème
A3: BEIGNET CREVETTE | B3: KG | C3: 16.9 | F3: 1.4
A4: BUNS | B4: 80g | C4: 0.5
A5: CALAMARS BEIGNET | B5: KG | C5: 5.98 | D5: 6.1 | F5: 0.96
A6: FEVE SOJA | B6: KG | C6: 6.99 | D6: 4.78
A7: FIGUE | B7: KG | C7: 8.52
A8: FILET SAUMON
A9: FOIE GRAS ESCALOPE UE 40/60g | B9: KG
A10: FRITE DIPPERS | B10: KG | C10: 2.6
A11: FRITES PATTATES DOUCE 9/9 | C11: 5.3 | D11: 5.9
A12: PAIN DE MIE PLAQUE | B12: 1250G | D12: 19
A13: PETIT POIS | B13: 2,5KG
A14: POULPE TENTACULE | B14: KG
A15: PUREE CASSIS | B15: KG
A16: PUREE FRAISE | B16: KG | C16: 6.98
A17: PUREE FRAMBOISE | B17: KG | C17: 11.8
A18: PUREE MANGUE | B18: KG | C18: 7.2
A19: STEAK HACHEE 15% 180g | B19: KG | C19: 13.18 | D19: 9.98
A20: TENDERS POULET | C20: 10.73 | F20: 1.34
A21: WINGS | B21: KG | C21: 9.94
A22: YAKITORI | B22: KG3 | C22: 17.33
A23: AIGUILLETTES CABILLAUD | B23: KG
