Workbook
Name LST_CATEGOS: T_CATEGORIES[Catégories]

Sheet CREME ANGLAISE
A1: CREME ANGLAISE | F1: I | G1: P
A2: INGREDIENTS | B2: Q | C2: Q au g | D2: % | E2: COÛT HT
A3: LAIT | B3: 2L | C3: 2000 | D3: =IFERROR((E3/$E$22),"") -> 0.30725547 | E3: =IFERROR(VLOOKUP(A3,Produits!$A$2:'Produits'!$J$465,10,FALSE)*C3,"") -> 1.74
A4: OVO JAUNE | B4: 400g | C4: 400 | D4: =IFERROR((E4/$E$22),"") -> 0.59685257 | E4: =IFERROR(VLOOKUP(A4,Produits!$A$2:'Produits'!$J$465,10,FALSE)*C4,"") -> 3.38
A5: SUCRE SEMOULE | B5: 300g | C5: 300 | D5: =IFERROR((E5/$E$22),"") -> 0.076284116 | E5: =IFERROR(VLOOKUP(A5,Produits!$A$2:'Produits'!$J$465,10,FALSE)*C5,"") -> 0.432
A6: AROME VANILLE | D6: =IFERROR((E6/$E$22),"") -> 0 | E6: =IFERROR(VLOOKUP(A6,Produits!$A$2:'Produits'!$J$465,10,FALSE)*C6,"") -> 0
D7: =IFERROR((E7/$E$22),"") | E7: =IFERROR(VLOOKUP(A7,Produits!$A$2:'Produits'!$J$465,10,FALSE)*C7,"")
D8: =IFERROR((E8/$E$22),"") | E8: =IFERROR(VLOOKUP(A8,Produits!$A$2:'Produits'!$J$465,10,FALSE)*C8,"")
D9: =IFERROR((E9/$E$22),"") | E9: =IFERROR(VLOOKUP(A9,Produits!$A$2:'Produits'!$J$465,10,FALSE)*C9,"")
D10: =IFERROR((E10/$E$22),"") | E10: =IFERROR(VLOOKUP(A10,Produits!$A$2:'Produits'!$J$465,10,FALSE)*C10,"")
D11: =IFERROR((E11/$E$22),"") | E11: =IFERROR(VLOOKUP(A11,Produits!$A$2:'Produits'!$J$465,10,FALSE)*C11,"")
D12: =IFERROR((E12/$E$22),"") | E12: =IFERROR(VLOOKUP(A12,Produits!$A$2:'Produits'!$J$465,10,FALSE)*C12,"")
D13: =IFERROR((E13/$E$22),"") | E13: =IFERROR(VLOOKUP(A13,Produits!$A$2:'Produits'!$J$465,10,FALSE)*C13,"")
D14: =IFERROR((E14/$E$22),"") | E14: =IFERROR(VLOOKUP(A14,Produits!$A$2:'Produits'!$J$465,10,FALSE)*C14,"")
D15: =IFERROR((E15/$E$22),"") | E15: =IFERROR(VLOOKUP(A15,Produits!$A$2:'Produits'!$J$465,10,FALSE)*C15,"")
D16: =IFERROR((E16/$E$22),"") | E16: =IFERROR(VLOOKUP(A16,Produits!$A$2:'Produits'!$J$465,10,FALSE)*C16,"")
D17: =IFERROR((E17/$E$22),"") | E17: =IFERROR(VLOOKUP(A17,Produits!$A$2:'Produits'!$J$465,10,FALSE)*C17,"")
D18: =IFERROR((E18/$E$22),"") | E18: =IFERROR(VLOOKUP(A18,Produits!$A$2:'Produits'!$J$465,10,FALSE)*C18,"")
... D21: =IFERROR((E21/$E$22),"") | E21: =IFERROR(VLOOKUP(A21,Produits!$A$2:'Produits'!$J$465,10,FALSE)*C21,"")
C22: TOTAL+2% | E22: {=SUM(IF(ISNA(E3:E21),0,E3:E21))*1.02} -> 5.66304
A23: Nombre de portion | C23: PRIX PORTION | E23: =IFERROR((E22/B23),"")
A24: PROGRESSION
A25: # Faire tiedir le lait # Blanchir jaunes et sucre # Verser lait dans jaunes, mélanger puis remettre à feux doux # Mélanger à la spatule juqu'à 83° # Réserver #
A505: INGREDIENTS | B505: Q
A506: OEUFS | B506: 200
A507: FARINE | B507: 125
A508: SUCRE | B508: 125
A524: PROGRESSION
A525: # Mélanger œuf sucre batteur jusqu'à mousse ruban # Tamiser farine # ajouter à la mousse, et mélanger avec marise sans faire retomber mousse # Placer dans emporté pièce sur plaque sulfu # 180° 20mn #

Sheet Produits
A1: REFERENCES | B1: Catégorie | C1: CDT | D1: SYSCO | E1: SOBRAQUES | F1: METRO | G1: XXXX | H1: Meilleur prix | I1: Fournisseur mieux disant | J1: Coût au 1000è
A2: BEURRE ROULEAUX | B2: Frais | C2: KG | D2: 9.22 | E2: 7.35 | F2: 8.6 | H2: =MIN(T_PRODUITS[[#This Row],[SYSCO]:[XXXX]]) -> 7.35 | I2: =IF(T_PRODUITS[[#This Row],[Meilleur prix]]<>0,INDEX(T_PRODUITS[[#Headers],[SYSCO]:[XXXX]],1,MATCH(T_PRODUITS[[#This Row],[Meilleur prix]],T_PRODUITS[[#This Row],[SYSCO]:[XXXX]],0)),"") -> SOBRAQUES | J2: =T_PRODUITS[[#This Row],[Meilleur prix]]/1000 -> 0.00735
A3: BUNS | B3: Frais | H3: =MIN(T_PRODUITS[[#This Row],[SYSCO]:[XXXX]]) -> 0 | I3: =IF(T_PRODUITS[[#This Row],[Meilleur prix]]<>0,INDEX(T_PRODUITS[[#Headers],[SYSCO]:[XXXX]],1,MATCH(T_PRODUITS[[#This Row],[Meilleur prix]],T_PRODUITS[[#This Row],[SYSCO]:[XXXX]],0)),"") | J3: =T_PRODUITS[[#This Row],[Meilleur prix]]/1000 -> 0
A4: BURRATINA | B4: Frais | C4: 50g | D4: 8.88 | H4: =MIN(T_PRODUITS[[#This Row],[SYSCO]:[XXXX]]) -> 8.88 | I4: =IF(T_PRODUITS[[#This Row],[Meilleur prix]]<>0,INDEX(T_PRODUITS[[#Headers],[SYSCO]:[XXXX]],1,MATCH(T_PRODUITS[[#This Row],[Meilleur prix]],T_PRODUITS[[#This Row],[SYSCO]:[XXXX]],0)),"") -> SYSCO | J4: =T_PRODUITS[[#This Row],[Meilleur prix]]/1000 -> 0.00888
A5: CAMENBERT | B5: Frais | H5: =MIN(T_PRODUITS[[#This Row],[SYSCO]:[XXXX]]) -> 0 | I5: =IF(T_PRODUITS[[#This Row],[Meilleur prix]]<>0,INDEX(T_PRODUITS[[#Headers],[SYSCO]:[XXXX]],1,MATCH(T_PRODUITS[[#This Row],[Meilleur prix]],T_PRODUITS[[#This Row],[SYSCO]:[XXXX]],0)),"") | J5: =T_PRODUITS[[#This Row],[Meilleur prix]]/1000 -> 0
A6: CHEDDAR | B6: Frais | C6: 84*12,3 | D6: 10.52 | E6: 10.29 | F6: 11.5 | H6: =MIN(T_PRODUITS[[#This Row],[SYSCO]:[XXXX]]) -> 10.29 | I6: =IF(T_PRODUITS[[#This Row],[Meilleur prix]]<>0,INDEX(T_PRODUITS[[#Headers],[SYSCO]:[XXXX]],1,MATCH(T_PRODUITS[[#This Row],[Meilleur prix]],T_PRODUITS[[#This Row],[SYSCO]:[XXXX]],0)),"") -> SOBRAQUES | J6: =T_PRODUITS[[#This Row],[Meilleur prix]]/1000 -> 0.01029
A7: CHEVRE BUCHETTE | B7: Frais | C7: 180g | D7: 1.94 | H7: =MIN(T_PRODUITS[[#This Row],[SYSCO]:[XXXX]]) -> 1.94 | I7: =IF(T_PRODUITS[[#This Row],[Meilleur prix]]<>0,INDEX(T_PRODUITS[[#Headers],[SYSCO]:[XXXX]],1,MATCH(T_PRODUITS[[#This Row],[Meilleur prix]],T_PRODUITS[[#This Row],[SYSCO]:[XXXX]],0)),"") -> SYSCO | J7: =T_PRODUITS[[#This Row],[Meilleur prix]]/1000 -> 0.00194
A8: CREAM CHEESE | B8: Frais | E8: 9.9 | F8: 9.9 | H8: =MIN(T_PRODUITS[[#This Row],[SYSCO]:[XXXX]]) -> 9.9 | I8: =IF(T_PRODUITS[[#This Row],[Meilleur prix]]<>0,INDEX(T_PRODUITS[[#Headers],[SYSCO]:[XXXX]],1,MATCH(T_PRODUITS[[#This Row],[Meilleur prix]],T_PRODUITS[[#This Row],[SYSCO]:[XXXX]],0)),"") -> SOBRAQUES | J8: =T_PRODUITS[[#This Row],[Meilleur prix]]/1000 -> 0.0099
A9: CREME FRAICHE 30% | B9: Frais | C9: L | D9: 3.63 | E9: 3.31 | F9: 3.79 | H9: =MIN(T_PRODUITS[[#This Row],[SYSCO]:[XXXX]]) -> 3.31 | I9: =IF(T_PRODUITS[[#This Row],[Meilleur prix]]<>0,INDEX(T_PRODUITS[[#Headers],[SYSCO]:[XXXX]],1,MATCH(T_PRODUITS[[#This Row],[Meilleur prix]],T_PRODUITS[[#This Row],[SYSCO]:[XXXX]],0)),"") -> SOBRAQUES | J9: =T_PRODUITS[[#This Row],[Meilleur prix]]/1000 -> 0.00331
A10: CREME FRAICHE 35% | B10: Frais | C10: L | E10: 3.8 | H10: =MIN(T_PRODUITS[[#This Row],[SYSCO]:[XXXX]]) -> 3.8 | I10: =IF(T_PRODUITS[[#This Row],[Meilleur prix]]<>0,INDEX(T_PRODUITS[[#Headers],[SYSCO]:[XXXX]],1,MATCH(T_PRODUITS[[#This Row],[Meilleur prix]],T_PRODUITS[[#This Row],[SYSCO]:[XXXX]],0)),"") -> SOBRAQUES | J10: =T_PRODUITS[[#This Row],[Meilleur prix]]/1000 -> 0.0038
A11: CREME LIAISON 18% | B11: Frais | H11: =MIN(T_PRODUITS[[#This Row],[SYSCO]:[XXXX]]) -> 0 | I11: =IF(T_PRODUITS[[#This Row],[Meilleur prix]]<>0,INDEX(T_PRODUITS[[#Headers],[SYSCO]:[XXXX]],1,MATCH(T_PRODUITS[[#This Row],[Meilleur prix]],T_PRODUITS[[#This Row],[SYSCO]:[XXXX]],0)),"") | J11: =T_PRODUITS[[#This Row],[Meilleur prix]]/1000 -> 0
A12: CREME SUCREE VANILLEE DEBIC | B12: Frais | C12: 2L | D12: 10.6 | E12: 11.89 | H12: =MIN(T_PRODUITS[[#This Row],[SYSCO]:[XXXX]]) -> 10.6 | I12: =IF(T_PRODUITS[[#This Row],[Meilleur prix]]<>0,INDEX(T_PRODUITS[[#Headers],[SYSCO]:[XXXX]],1,MATCH(T_PRODUITS[[#This Row],[Meilleur prix]],T_PRODUITS[[#This Row],[SYSCO]:[XXXX]],0)),"") -> SYSCO | J12: =T_PRODUITS[[#This Row],[Meilleur prix]]/1000 -> 0.0106
A13: FEUILLE DE BRICK | B13: Frais | C13: 170gx10 | D13: 1.2 | E13: 1.12 | H13: =MIN(T_PRODUITS[[#This Row],[SYSCO]:[XXXX]]) -> 1.12 | I13: =IF(T_PRODUITS[[#This Row],[Meilleur prix]]<>0,INDEX(T_PRODUITS[[#Headers],[SYSCO]:[XXXX]],1,MATCH(T_PRODUITS[[#This Row],[Meilleur prix]],T_PRODUITS[[#This Row],[SYSCO]:[XXXX]],0)),"") -> SOBRAQUES | J13: =T_PRODUITS[[#This Row],[Meilleur prix]]/1000 -> 0.00112
A14: GRANA PADANO RAPE | B14: Frais | C14: KG | D14: 15.5 | E14: 15.68 | F14: 21.8 | H14: =MIN(T_PRODUITS[[#This Row],[SYSCO]:[XXXX]]) -> 15.5 | I14: =IF(T_PRODUITS[[#This Row],[Meilleur prix]]<>0,INDEX(T_PRODUITS[[#Headers],[SYSCO]:[XXXX]],1,MATCH(T_PRODUITS[[#This Row],[Meilleur prix]],T_PRODUITS[[#This Row],[SYSCO]:[XXXX]],0)),"") -> SYSCO | J14: =T_PRODUITS[[#This Row],[Meilleur prix]]/1000 -> 0.0155
A15: LAIT | B15: Frais | C15: L | D15: 1000 | E15: 2000 | F15: 0.87 | H15: =MIN(T_PRODUITS[[#This Row],[SYSCO]:[XXXX]]) -> 0.87 | I15: =IF(T_PRODUITS[[#This Row],[Meilleur prix]]<>0,INDEX(T_PRODUITS[[#Headers],[SYSCO]:[XXXX]],1,MATCH(T_PRODUITS[[#This Row],[Meilleur prix]],T_PRODUITS[[#This Row],[SYSCO]:[XXXX]],0)),"") -> METRO | J15: =T_PRODUITS[[#This Row],[Meilleur prix]]/1000 -> 0.00087
A16: LAIT ENTIER | B16: Frais | C16: L | D16: 1.25 | E16: 1.44 | H16: =MIN(T_PRODUITS[[#This Row],[SYSCO]:[XXXX]]) -> 1.25 | I16: =IF(T_PRODUITS[[#This Row],[Meilleur prix]]<>0,INDEX(T_PRODUITS[[#Headers],[SYSCO]:[XXXX]],1,MATCH(T_PRODUITS[[#This Row],[Meilleur prix]],T_PRODUITS[[#This Row],[SYSCO]:[XXXX]],0)),"") -> SYSCO | J16: =T_PRODUITS[[#This Row],[Meilleur prix]]/1000 -> 0.00125
A17: LARDONS | B17: Frais | H17: =MIN(T_PRODUITS[[#This Row],[SYSCO]:[XXXX]]) -> 0 | I17: =IF(T_PRODUITS[[#This Row],[Meilleur prix]]<>0,INDEX(T_PRODUITS[[#Headers],[SYSCO]:[XXXX]],1,MATCH(T_PRODUITS[[#This Row],[Meilleur prix]],T_PRODUITS[[#This Row],[SYSCO]:[XXXX]],0)),"") | J17: =T_PRODUITS[[#This Row],[Meilleur prix]]/1000 -> 0
A18: LEVURE | B18: Frais | C18: 2,5KG | H18: =MIN(T_PRODUITS[[#This Row],[SYSCO]:[XXXX]]) -> 0 | I18: =IF(T_PRODUITS[[#This Row],[Meilleur prix]]<>0,INDEX(T_PRODUITS[[#Headers],[SYSCO]:[XXXX]],1,MATCH(T_PRODUITS[[#This Row],[Meilleur prix]],T_PRODUITS[[#This Row],[SYSCO]:[XXXX]],0)),"") | J18: =T_PRODUITS[[#This Row],[Meilleur prix]]/1000 -> 0
A19: MASCARPONE | B19: Frais | C19: 500g | D19: 6.79 | E19: 4.48 | H19: =MIN(T_PRODUITS[[#This Row],[SYSCO]:[XXXX]]) -> 4.48 | I19: =IF(T_PRODUITS[[#This Row],[Meilleur prix]]<>0,INDEX(T_PRODUITS[[#Headers],[SYSCO]:[XXXX]],1,MATCH(T_PRODUITS[[#This Row],[Meilleur prix]],T_PRODUITS[[#This Row],[SYSCO]:[XXXX]],0)),"") -> SOBRAQUES | J19: =T_PRODUITS[[#This Row],[Meilleur prix]]/1000 -> 0.00448
A20: ŒUFS | B20: Frais | C20: PC | D20: 0.23 | E20: 0.16 | F20: 0.23 | H20: =MIN(T_PRODUITS[[#This Row],[SYSCO]:[XXXX]]) -> 0.16 | I20: =IF(T_PRODUITS[[#This Row],[Meilleur prix]]<>0,INDEX(T_PRODUITS[[#Headers],[SYSCO]:[XXXX]],1,MATCH(T_PRODUITS[[#This Row],[Meilleur prix]],T_PRODUITS[[#This Row],[SYSCO]:[XXXX]],0)),"") -> SOBRAQUES | J20: =T_PRODUITS[[#This Row],[Meilleur prix]]/1000 -> 0.00016
A21: OVO BLANC | B21: Frais | C21: KG | D21: 5.42 | E21: 5.25 | H21: =MIN(T_PRODUITS[[#This Row],[SYSCO]:[XXXX]]) -> 5.25 | I21: =IF(T_PRODUITS[[#This Row],[Meilleur prix]]<>0,INDEX(T_PRODUITS[[#Headers],[SYSCO]:[XXXX]],1,MATCH(T_PRODUITS[[#This Row],[Meilleur prix]],T_PRODUITS[[#This Row],[SYSCO]:[XXXX]],0)),"") -> SOBRAQUES | J21: =T_PRODUITS[[#This Row],[Meilleur prix]]/1000 -> 0.00525
A22: OVO JAUNE | B22: Frais | C22: 2KG | D22: 8.45 | E22: 9.8 | H22: =MIN(T_PRODUITS[[#This Row],[SYSCO]:[XXXX]]) -> 8.45 | I22: =IF(T_PRODUITS[[#This Row],[Meilleur prix]]<>0,INDEX(T_PRODUITS[[#Headers],[SYSCO]:[XXXX]],1,MATCH(T_PRODUITS[[#This Row],[Meilleur prix]],T_PRODUITS[[#This Row],[SYSCO]:[XXXX]],0)),"") -> SYSCO | J22: =T_PRODUITS[[#This Row],[Meilleur prix]]/1000 -> 0.00845
A23: PARMESAN POINTE | B23: Frais | C23: KG | E23: 19.2 | H23: =MIN(T_PRODUITS[[#This Row],[SYSCO]:[XXXX]]) -> 19.2 | I23: =IF(T_PRODUITS[[#This Row],[Meilleur prix]]<>0,INDEX(T_PRODUITS[[#Headers],[SYSCO]:[XXXX]],1,MATCH(T_PRODUITS[[#This Row],[Meilleur prix]],T_PRODUITS[[#This Row],[SYSCO]:[XXXX]],0)),"") -> SOBRAQUES | J23: =T_PRODUITS[[#This Row],[Meilleur prix]]/1000 -> 0.0192
A24: PARMESAN RÂPÉ | B24: Frais | C24: KG | D24: 19.8 | E24: 20.6 | H24: =MIN(T_PRODUITS[[#This Row],[SYSCO]:[XXXX]]) -> 19.8 | I24: =IF(T_PRODUITS[[#This Row],[Meilleur prix]]<>0,INDEX(T_PRODUITS[[#Headers],[SYSCO]:[XXXX]],1,MATCH(T_PRODUITS[[#This Row],[Meilleur prix]],T_PRODUITS[[#This Row],[SYSCO]:[XXXX]],0)),"") -> SYSCO | J24: =T_PRODUITS[[#This Row],[Meilleur prix]]/1000 -> 0.0198
A25: PARMESANS POINTE | B25: Frais | D25: 18 | H25: =MIN(T_PRODUITS[[#This Row],[SYSCO]:[XXXX]]) -> 18 | I25: =IF(T_PRODUITS[[#This Row],[Meilleur prix]]<>0,INDEX(T_PRODUITS[[#Headers],[SYSCO]:[XXXX]],1,MATCH(T_PRODUITS[[#This Row],[Meilleur prix]],T_PRODUITS[[#This Row],[SYSCO]:[XXXX]],0)),"") -> SYSCO | J25: =T_PRODUITS[[#This Row],[Meilleur prix]]/1000 -> 0.018
A26: STRACCIATELA | B26: Frais | C26: 400G | D26: 5.97 | H26: =MIN(T_PRODUITS[[#This Row],[SYSCO]:[XXXX]]) -> 5.97 | I26: =IF(T_PRODUITS[[#This Row],[Meilleur prix]]<>0,INDEX(T_PRODUITS[[#Headers],[SYSCO]:[XXXX]],1,MATCH(T_PRODUITS[[#This Row],[Meilleur prix]],T_PRODUITS[[#This Row],[SYSCO]:[XXXX]],0)),"") -> SYSCO | J26: =T_PRODUITS[[#This Row],[Meilleur prix]]/1000 -> 0.00597
A27: TOMME | B27: Frais | H27: =MIN(T_PRODUITS[[#This Row],[SYSCO]:[XXXX]]) -> 0 | I27: =IF(T_PRODUITS[[#This Row],[Meilleur prix]]<>0,INDEX(T_PRODUITS[[#Headers],[SYSCO]:[XXXX]],1,MATCH(T_PRODUITS[[#This Row],[Meilleur prix]],T_PRODUITS[[#This Row],[SYSCO]:[XXXX]],0)),"") | J27: =T_PRODUITS[[#This Row],[Meilleur prix]]/1000 -> 0
A28: PAIN DE MIE | B28: Frais | C28: KG | D28: 4.4 | F28: 9.59 | H28: =MIN(T_PRODUITS[[#This Row],[SYSCO]:[XXXX]]) -> 4.4 | I28: =IF(T_PRODUITS[[#This Row],[Meilleur prix]]<>0,INDEX(T_PRODUITS[[#Headers],[SYSCO]:[XXXX]],1,MATCH(T_PRODUITS[[#This Row],[Meilleur prix]],T_PRODUITS[[#This Row],[SYSCO]:[XXXX]],0)),"") -> SYSCO | J28: =T_PRODUITS[[#This Row],[Meilleur prix]]/1000 -> 0.0044
A29: FILET ANCHOIS | B29: Frais | C29: KG | D29: 16.1 | E29: 17.37 | F29: 17 | H29: =MIN(T_PRODUITS[[#This Row],[SYSCO]:[XXXX]]) -> 16.1 | I29: =IF(T_PRODUITS[[#This Row],[Meilleur prix]]<>0,INDEX(T_PRODUITS[[#Headers],[SYSCO]:[XXXX]],1,MATCH(T_PRODUITS[[#This Row],[Meilleur prix]],T_PRODUITS[[#This Row],[SYSCO]:[XXXX]],0)),"") -> SYSCO | J29: =T_PRODUITS[[#This Row],[Meilleur prix]]/1000 -> 0.0161
A30: GRANA PADANO POINTE | B30: Frais | D30: 17.52 | E30: 15.79 | H30: =MIN(T_PRODUITS[[#This Row],[SYSCO]:[XXXX]]) -> 15.79 | I30: =IF(T_PRODUITS[[#This Row],[Meilleur prix]]<>0,INDEX(T_PRODUITS[[#Headers],[SYSCO]:[XXXX]],1,MATCH(T_PRODUITS[[#This Row],[Meilleur prix]],T_PRODUITS[[#This Row],[SYSCO]:[XXXX]],0)),"") -> SOBRAQUES | J30: =T_PRODUITS[[#This Row],[Meilleur prix]]/1000 -> 0.01579
A31: TOMME CATALANE | B31: Frais | C31: KG | D31: 12.9 | E31: 12.48 | H31: =MIN(T_PRODUITS[[#This Row],[SYSCO]:[XXXX]]) -> 12.48 | I31: =IF(T_PRODUITS[[#This Row],[Meilleur prix]]<>0,INDEX(T_PRODUITS[[#Headers],[SYSCO]:[XXXX]],1,MATCH(T_PRODUITS[[#This Row],[Meilleur prix]],T_PRODUITS[[#This Row],[SYSCO]:[XXXX]],0)),"") -> SOBRAQUES | J31: =T_PRODUITS[[#This Row],[Meilleur prix]]/1000 -> 0.01248
A32: COMTE | B32: Frais | C32: KG | E32: 15.61 | F32: 15.75 | H32: =MIN(T_PRODUITS[[#This Row],[SYSCO]:[XXXX]]) -> 15.61 | I32: =IF(T_PRODUITS[[#This Row],[Meilleur prix]]<>0,INDEX(T_PRODUITS[[#Headers],[SYSCO]:[XXXX]],1,MATCH(T_PRODUITS[[#This Row],[Meilleur prix]],T_PRODUITS[[#This Row],[SYSCO]:[XXXX]],0)),"") -> SOBRAQUES | J32: =T_PRODUITS[[#This Row],[Meilleur prix]]/1000 -> 0.01561
A33: FOURME D'AMBERT | B33: Frais | C33: KG | F33: 10.9 | H33: =MIN(T_PRODUITS[[#This Row],[SYSCO]:[XXXX]]) -> 10.9 | I33: =IF(T_PRODUITS[[#This Row],[Meilleur prix]]<>0,INDEX(T_PRODUITS[[#Headers],[SYSCO]:[XXXX]],1,MATCH(T_PRODUITS[[#This Row],[Meilleur prix]],T_PRODUITS[[#This Row],[SYSCO]:[XXXX]],0)),"") -> METRO | J33: =T_PRODUITS[[#This Row],[Meilleur prix]]/1000 -> 0.0109
A34: ROCAMADOUR | B34: Frais | C34: P | F34: 0.97 | H34: =MIN(T_PRODUITS[[#This Row],[SYSCO]:[XXXX]]) -> 0.97 | I34: =IF(T_PRODUITS[[#This Row],[Meilleur prix]]<>0,INDEX(T_PRODUITS[[#Headers],[SYSCO]:[XXXX]],1,MATCH(T_PRODUITS[[#This Row],[Meilleur prix]],T_PRODUITS[[#This Row],[SYSCO]:[XXXX]],0)),"") -> METRO | J34: =T_PRODUITS[[#This Row],[Meilleur prix]]/1000 -> 0.00097
A35: FOCACCIA | B35: Frais | C35: 750 | E35: 5.77 | F35: 7.64 | H35: =MIN(T_PRODUITS[[#This Row],[SYSCO]:[XXXX]]) -> 5.77 | I35: =IF(T_PRODUITS[[#This Row],[Meilleur prix]]<>0,INDEX(T_PRODUITS[[#Headers],[SYSCO]:[XXXX]],1,MATCH(T_PRODUITS[[#This Row],[Meilleur prix]],T_PRODUITS[[#This Row],[SYSCO]:[XXXX]],0)),"") -> SOBRAQUES | J35: =T_PRODUITS[[#This Row],[Meilleur prix]]/1000 -> 0.00577
A36: MATO DE CADI | B36: Frais | C36: P250g | E36: 2.59 | H36: =MIN(T_PRODUITS[[#This Row],[SYSCO]:[XXXX]]) -> 2.59 | I36: =IF(T_PRODUITS[[#This Row],[Meilleur prix]]<>0,INDEX(T_PRODUITS[[#Headers],[SYSCO]:[XXXX]],1,MATCH(T_PRODUITS[[#This Row],[Meilleur prix]],T_PRODUITS[[#This Row],[SYSCO]:[XXXX]],0)),"") -> SOBRAQUES | J36: =T_PRODUITS[[#This Row],[Meilleur prix]]/1000 -> 0.00259
A37: CABECOU | B37: Frais | C37: P | E37: 0.69 | H37: =MIN(T_PRODUITS[[#This Row],[SYSCO]:[XXXX]]) -> 0.69 | I37: =IF(T_PRODUITS[[#This Row],[Meilleur prix]]<>0,INDEX(T_PRODUITS[[#Headers],[SYSCO]:[XXXX]],1,MATCH(T_PRODUITS[[#This Row],[Meilleur prix]],T_PRODUITS[[#This Row],[SYSCO]:[XXXX]],0)),"") -> SOBRAQUES | J37: =T_PRODUITS[[#This Row],[Meilleur prix]]/1000 -> 0.00069
A38: ABRICOT SEC | B38: Epicerie | C38: 11.89 | D38: 14.95 | E38: 12.99 | H38: =MIN(T_PRODUITS[[#This Row],[SYSCO]:[XXXX]]) -> 12.99 | I38: =IF(T_PRODUITS[[#This Row],[Meilleur prix]]<>0,INDEX(T_PRODUITS[[#Headers],[SYSCO]:[XXXX]],1,MATCH(T_PRODUITS[[#This Row],[Meilleur prix]],T_PRODUITS[[#This Row],[SYSCO]:[XXXX]],0)),"") -> SOBRAQUES | J38: =T_PRODUITS[[#This Row],[Meilleur prix]]/1000 -> 0.01299
A39: AMANDE POUDRE | B39: Epicerie | C39: 11.93 | D39: 8.8 | H39: =MIN(T_PRODUITS[[#This Row],[SYSCO]:[XXXX]]) -> 8.8 | I39: =IF(T_PRODUITS[[#This Row],[Meilleur prix]]<>0,INDEX(T_PRODUITS[[#Headers],[SYSCO]:[XXXX]],1,MATCH(T_PRODUITS[[#This Row],[Meilleur prix]],T_PRODUITS[[#This Row],[SYSCO]:[XXXX]],0)),"") -> SYSCO | J39: =T_PRODUITS[[#This Row],[Meilleur prix]]/1000 -> 0.0088
A40: AMANDES EFFILEES | B40: Epicerie | H40: =MIN(T_PRODUITS[[#This Row],[SYSCO]:[XXXX]]) -> 0 | I40: =IF(T_PRODUITS[[#This Row],[Meilleur prix]]<>0,INDEX(T_PRODUITS[[#Headers],[SYSCO]:[XXXX]],1,MATCH(T_PRODUITS[[#This Row],[Meilleur prix]],T_PRODUITS[[#This Row],[SYSCO]:[XXXX]],0)),"") | J40: =T_PRODUITS[[#This Row],[Meilleur prix]]/1000 -> 0
...

Sheet Paramètres
A1: Catégories
A2: Frais
A3: Epicerie
A4: Gel
