Workbook
Name LST_CATEGOS: T_CATEGORIES[Catégories]

Sheet CREME ANGLAISE
A1: CREME ANGLAISE | F1: I | G1: P
A2: INGREDIENTS | B2: Q | C2: Q au g | D2: % | E2: COÛT HT
A3: LAIT | B3: 2L | C3: 2000 | D3: =IFERROR((E3/$E$22),"") -> 0.30725547 | E3: =IFERROR(VLOOKUP(A3,Produits!$A$2:'Produits'!$J$465,10,FALSE)*C3,"") -> 1.74
A4: OVO JAUNE | B4: 400g | C4: 400 | D4: =IFERROR((E4/$E$22),"") -> 0.59685257 | E4: =IFERROR(VLOOKUP(A4,Produits!$A$2:'Produits'!$J$465,10,FALSE)*C4,"") -> 3.38
A5: SUCRE SEMOULE | B5: 300g | C5: 300 | D5: =IFERROR((E5/$E$22),"") -> 0.076284116 | E5: =IFERROR(VLOOKUP(A5,Produits!$A$2:'Produits'!$J$465,10,FALSE)*C5,"") -> 0.432
A6: AROME VANILLE | D6: =IFERROR((E6/$E$22),"") -> 0 | E6: =IFERROR(VLOOKUP(A6,Produits!$A$2:'Produits'!$J$465,10,FALSE)*C6,"") -> 0
D7: =IFERROR((E7/$E$22),"") | E7: =IFERROR(VLOOKUP(A7,Produits!$A$2:'Produits'!$J$465,10,FALSE)*C7,"")
D8: =IFERROR((E8/$E$22),"") | E8: =IFERROR(VLOOKUP(A8,Produits!$A$2:'Produits'!$J$465,10,FALSE)*C8,"")
D9: =IFERROR((E9/$E$22),"") | E9: =IFERROR(VLOOKUP(A9,Produits!$A$2:'Produits'!$J$465,10,FALSE)*C9,"")
D10: =IFERROR((E10/$E$22),"") | E10: =IFERROR(VLOOKUP(A10,Produits!$A$2:'Produits'!$J$465,10,FALSE)*C10,"")
D11: =IFERROR((E11/$E$22),"") | E11: =IFERROR(VLOOKUP(A11,Produits!$A$2:'Produits'!$J$465,10,FALSE)*C11,"")
D12: =IFERROR((E12/$E$22),"") | E12: =IFERROR(VLOOKUP(A12,Produits!$A$2:'Produits'!$J$465,10,FALSE)*C12,"")
D13: =IFERROR((E13/$E$22),"") | E13: =IFERROR(VLOOKUP(A13,Produits!$A$2:'Produits'!$J$465,10,FALSE)*C13,"")
D14: =IFERROR((E14/$E$22),"") | E14: =IFERROR(VLOOKUP(A14,Produits!$A$2:'Produits'!$J$465,10,FALSE)*C14,"")
D15: =IFERROR((E15/$E$22),"") | E15: =IFERROR(VLOOKUP(A15,Produits!$A$2:'Produits'!$J$465,10,FALSE)*C15,"")
D16: =IFERROR((E16/$E$22),"") | E16: =IFERROR(VLOOKUP(A16,Produits!$A$2:'Produits'!$J$465,10,FALSE)*C16,"")
D17: =IFERROR((E17/$E$22),"") | E17: =IFERROR(VLOOKUP(A17,Produits!$A$2:'Produits'!$J$465,10,FALSE)*C17,"")
D18: =IFERROR((E18/$E$22),"") | E18: =IFERROR(VLOOKUP(A18,Produits!$A$2:'Produits'!$J$465,10,FALSE)*C18,"")
... D21: =IFERROR((E21/$E$22),"") | E21: =IFERROR(VLOOKUP(A21,Produits!$A$2:'Produits'!$J$465,10,FALSE)*C21,"")
C22: TOTAL+2% | E22: {=SUM(IF(ISNA(E3:E21),0,E3:E21))*1.02} -> 5.66304
A23: Nombre de portion | C23: PRIX PORTION | E23: =IFERROR((E22/B23),"")
A24: PROGRESSION
A25: # Faire tiedir le lait # Blanchir jaunes et sucre # Verser lait dans jaunes, mélanger puis remettre à feux doux # Mélanger à la spatule juqu'à 83° # Réserver #
A505: INGREDIENTS | B505: Q
A506: OEUFS | B506: 200
A507: FARINE | B507: 125
A508: SUCRE | B508: 125
A524: PROGRESSION
A525: # Mélanger œuf sucre batteur jusqu'à mousse ruban # Tamiser farine # ajouter à la mousse, et mélanger avec marise sans faire retomber mousse # Placer dans emporté pièce sur plaque sulfu # 180° 20mn #

Sheet Produits
A1: REFERENCES | B1: Catégorie | C1: CDT | D1: SYSCO | E1: SOBRAQUES | F1: METRO | G1: XXXX | H1: Meilleur prix | I1: Fournisseur mieux disant | J1: Coût au 1000è
A2: BEURRE ROULEAUX | B2: Frais | C2: KG | D2: 9.22 | E2: 7.35 | F2: 8.6 | H2: =MIN(T_PRODUITS[[#This Row],[SYSCO]:[XXXX]]) -> 7.35 | I2: =IF(T_PRODUITS[[#This Row],[Meilleur prix]]<>0,INDEX(T_PRODUITS[[#Headers],[SYSCO]:[XXXX]],1,MATCH(T_PRODUITS[[#This Row],[Meilleur prix]],T_PRODUITS[[#This Row],[SYSCO]:[XXXX]],0)),"") -> SOBRAQUES | J2: =T_PRODUITS[[#This Row],[Meilleur prix]]/1000 -> 0.00735
A3: BUNS | B3: Frais | H3: =MIN(T_PRODUITS[[#This Row],[SYSCO]:[XXXX]]) -> 0 | I3: =IF(T_PRODUITS[[#This Row],[Meilleur prix]]<>0,INDEX(T_PRODUITS[[#Headers],[SYSCO]:[XXXX]],1,MATCH(T_PRODUITS[[#This Row],[Meilleur prix]],T_PRODUITS[[#This Row],[SYSCO]:[XXXX]],0)),"") | J3: =T_PRODUITS[[#This Row],[Meilleur prix]]/1000 -> 0
A4: BURRATINA | B4: Frais | C4: 50g | D4: 8.88 | H4: =MIN(T_PRODUITS[[#This Row],[SYSCO]:[XXXX]]) -> 8.88 | I4: =IF(T_PRODUITS[[#This Row],[Meilleur prix]]<>0,INDEX(T_PRODUITS[[#Headers],[SYSCO]:[XXXX]],1,MATCH(T_PRODUITS[[#This Row],[Meilleur prix]],T_PRODUITS[[#This Row],[SYSCO]:[XXXX]],0)),"") -> SYSCO | J4: =T_PRODUITS[[#This Row],[Meilleur prix]]/1000 -> 0.00888
A5: CAMENBERT | B5: Frais | H5: =MIN(T_PRODUITS[[#This Row],[SYSCO]:[XXXX]]) -> 0 | I5: =IF(T_PRODUITS[[#This Row],[Meilleur prix]]<>0,INDEX(T_PRODUITS[[#Headers],[SYSCO]:[XXXX]],1,MATCH(T_PRODUITS[[#This Row],[Meilleur prix]],T_PRODUITS[[#This Row],[SYSCO]:[XXXX]],0)),"") | J5: =T_PRODUITS[[#This Row],[Meilleur prix]]/1000 -> 0
A6: CHEDDAR | B6: Frais | C6: 84*12,3 | D6: 10.52 | E6: 10.29 | F6: 11.5 | H6: =MIN(T_PRODUITS[[#This Row],[SYSCO]:[XXXX]]) -> 10.29 | I6: =IF(T_PRODUITS[[#This Row],[Meilleur prix]]<>0,INDEX(T_PRODUITS[[#Headers],[SYSCO]:[XXXX]],1,MATCH(T_PRODUITS[[#This Row],[Meilleur prix]],T_PRODUITS[[#This Row],[SYSCO]:[XXXX]],0)),"") -> SOBRAQUES | J6: =T_PRODUITS[[#This Row],[Meilleur prix]]/1000 -> 0.01029
A7: CHEVRE BUCHETTE | B7: Frais | C7: 180g | D7: 1.94 | H7: =MIN(T_PRODUITS[[#This Row],[SYSCO]:[XXXX]]) -> 1.94 | I7: =IF(T_PRODUITS[[#This Row],[Meilleur prix]]<>0,INDEX(T_PRODUITS[[#Headers],[SYSCO]:[XXXX]],1,MATCH(T_PRODUITS[[#This Row],[Meilleur prix]],T_PRODUITS[[#This Row],[SYSCO]:[XXXX]],0)),"") -> SYSCO | J7: =T_PRODUITS[[#This Row],[Meilleur prix]]/1000 -> 0.00194
A8: CREAM CHEESE | B8: Frais | E8: 9.9 | F8: 9.9 | H8: =MIN(T_PRODUITS[[#This Row],[SYSCO]:[XXXX]]) -> 9.9 | I8: =IF(T_PRODUITS[[#This Row],[Meilleur prix]]<>0,INDEX(T_PRODUITS[[#Headers],[SYSCO]:[XXXX]],1,MATCH(T_PRODUITS[[#This Row],[Meilleur prix]],T_PRODUITS[[#This Row],[SYSCO]:[XXXX]],0)),"") -> SOBRAQUES | J8: =T_PRODUITS[[#This Row],[Meilleur prix]]/1000 -> 0.0099
A9: CREME FRAICHE 30% | B9: Frais | C9: L | D9: 3.63 | E9: 3.31 | F9: 3.79 | H9: =MIN(T_PRODUITS[[#This Row],[SYSCO]:[XXXX]]) -> 3.31 | I9: =IF(T_PRODUITS[[#This Row],[Meilleur prix]]<>0,INDEX(T_PRODUITS[[#Headers],[SYSCO]:[XXXX]],1,MATCH(T_PRODUITS[[#This Row],[Meilleur prix]],T_PRODUITS[[#This Row],[SYSCO]:[XXXX]],0)),"") -> SOBRAQUES | J9: =T_PRODUITS[[#This Row],[Meilleur prix]]/1000 -> 0.00331
A10: CREME FRAICHE 35% | B10: Frais | C10: L | E10: 3.8 | H10: =MIN(T_PRODUITS[[#This Row],[SYSCO]:[XXXX]]) -> 3.8 | I10: =IF(T_PRODUITS[[#This Row],[Meilleur prix]]<>0,INDEX(T_PRODUITS[[#Headers],[SYSCO]:[XXXX]],1,MATCH(T_PRODUITS[[#This Row],[Meilleur prix]],T_PRODUITS[[#This Row],[SYSCO]:[XXXX]],0)),"") -> SOBRAQUES | J10: =T_PRODUITS[[#This Row],[Meilleur prix]]/1000 -> 0.0038
A11: CREME LIAISON 18% | B11: Frais | H11: =MIN(T_PRODUITS[[#This Row],[SYSCO]:[XXXX]]) -> 0 | I11: =IF(T_PRODUITS[[#This Row],[Meilleur prix]]<>0,INDEX(T_PRODUITS[[#Headers],[SYSCO]:[XXXX]],1,MATCH(T_PRODUITS[[#This Row],[Meilleur prix]],T_PRODUITS[[#This Row],[SYSCO]:[XXXX]],0)),"") | J11: =T_PRODUITS[[#This Row],[Meilleur prix]]/1000 -> 0
A12: CREME SUCREE VANILLEE DEBIC | B12: Frais | C12: 2L | D12: 10.6 | E12: 11.89 | H12: =MIN(T_PRODUITS[[#This Row],[SYSCO]:[XXXX]]) -> 10.6 | I12: =IF(T_PRODUITS[[#This Row],[Meilleur prix]]<>0,INDEX(T_PRODUITS[[#Headers],[SYSCO]:[XXXX]],1,MATCH(T_PRODUITS[[#This Row],[Meilleur prix]],T_PRODUITS[[#This Row],[SYSCO]:[XXXX]],0)),"") -> SYSCO | J12: =T_PRODUITS[[#This Row],[Meilleur prix]]/1000 -> 0.0106
A13: FEUILLE DE BRICK | B13: Frais | C13: 170gx10 | D13: 1.2 | E13: 1.12 | H13: =MIN(T_PRODUITS[[#This Row],[SYSCO]:[XXXX]]) -> 1.12 | I13: =IF(T_PRODUITS[[#This Row],[Meilleur prix]]<>0,INDEX(T_PRODUITS[[#Headers],[SYSCO]:[XXXX]],1,MATCH(T_PRODUITS[[#This Row],[Meilleur prix]],T_PRODUITS[[#This Row],[SYSCO]:[XXXX]],0)),"") -> SOBRAQUES | J13: =T_PRODUITS[[#This Row],[Meilleur prix]]/1000 -> 0.00112
A14: GRANA PADANO RAPE | B14: Frais | C14: KG | D14: 15.5 | E14: 15.68 | F14: 21.8 | H14: =MIN(T_PRODUITS[[#This Row],[SYSCO]:[XXXX]]) -> 15.5 | I14: =IF(T_PRODUITS[[#This Row],[Meilleur prix]]<>0,INDEX(T_PRODUITS[[#Headers],[SYSCO]:[XXXX]],1,MATCH(T_PRODUITS[[#This Row],[Meilleur prix]],T_PRODUITS[[#This Row],[SYSCO]:[XXXX]],0)),"") -> SYSCO | J14: =T_PRODUITS[[#This Row],[Meilleur prix]]/1000 -> 0.0155
A15: LAIT | B15: Frais | C15: L | D15: 1000 | E15: 2000 | F15: 0.87 | H15: =MIN(T_PRODUITS[[#This Row],[SYSCO]:[XXXX]]) -> 0.87 | I15: =IF(T_PRODUITS[[#This Row],[Meilleur prix]]<>0,INDEX(T_PRODUITS[[#Headers],[SYSCO]:[XXXX]],1,MATCH(T_PRODUITS[[#This Row],[Meilleur prix]],T_PRODUITS[[#This Row],[SYSCO]:[XXXX]],0)),"") -> METRO | J15: =T_PRODUITS[[#This Row],[Meilleur prix]]/1000 -> 0.00087
A16: LAIT ENTIER | B16: Frais | C16: L | D16: 1.25 | E16: 1.44 | H16: =MIN(T_PRODUITS[[#This Row],[SYSCO]:[XXXX]]) -> 1.25 | I16: =IF(T_PRODUITS[[#This Row],[Meilleur prix]]<>0,INDEX(T_PRODUITS[[#Headers],[SYSCO]:[XXXX]],1,MATCH(T_PRODUITS[[#This Row],[Meilleur prix]],T_PRODUITS[[#This Row],[SYSCO]:[XXXX]],0)),"") -> SYSCO | J16: =T_PRODUITS[[#This Row],[Meilleur prix]]/1000 -> 0.00125
A17: LARDONS | B17: Frais | H17: =MIN(T_PRODUITS[[#This Row],[SYSCO]:[XXXX]]) -> 0 | I17: =IF(T_PRODUITS[[#This Row],[Meilleur prix]]<>0,INDEX(T_PRODUITS[[#Headers],[SYSCO]:[XXXX]],1,MATCH(T_PRODUITS[[#This Row],[Meilleur prix]],T_PRODUITS[[#This Row],[SYSCO]:[XXXX]],0)),"") | J17: =T_PRODUITS[[#This Row],[Meilleur prix]]/1000 -> 0
A18: LEVURE | B18: Frais | C18: 2,5KG | H18: =MIN(T_PRODUITS[[#This Row],[SYSCO]:[XXXX]]) -> 0 | I18: =IF(T_PRODUITS[[#This Row],[Meilleur prix]]<>0,INDEX(T_PRODUITS[[#Headers],[SYSCO]:[XXXX]],1,MATCH(T_PRODUITS[[#This Row],[Meilleur prix]],T_PRODUITS[[#This Row],[SYSCO]:[XXXX]],0)),"") | J18: =T_PRODUITS[[#This Row],[Meilleur prix]]/1000 -> 0
A19: MASCARPONE | B19: Frais | C19: 500g | D19: 6.79 | E19: 4.48 | H19: =MIN(T_PRODUITS[[#This Row],[SYSCO]:[XXXX]]) -> 4.48 | I19: =IF(T_PRODUITS[[#This Row],[Meilleur prix]]<>0,INDEX(T_PRODUITS[[#Headers],[SYSCO]:[XXXX]],1,MATCH(T_PRODUITS[[#This Row],[Meilleur prix]],T_PRODUITS[[#This Row],[SYSCO]:[XXXX]],0)),"") -> SOBRAQUES | J19: =T_PRODUITS[[#This Row],[Meilleur prix]]/1000 -> 0.00448
A20: ŒUFS | B20: Frais | C20: PC | D20: 0.23 | E20: 0.16 | F20: 0.23 | H20: =MIN(T_PRODUITS[[#This Row],[SYSCO]:[XXXX]]) -> 0.16 | I20: =IF(T_PRODUITS[[#This Row],[Meilleur prix]]<>0,INDEX(T_PRODUITS[[#Headers],[SYSCO]:[XXXX]],1,MATCH(T_PRODUITS[[#This Row],[Meilleur prix]],T_PRODUITS[[#This Row],[SYSCO]:[XXXX]],0)),"") -> SOBRAQUES | J20: =T_PRODUITS[[#This Row],[Meilleur prix]]/1000 -> 0.00016
A21: OVO BLANC | B21: Frais | C21: KG | D21: 5.42 | E21: 5.25 | H21: =MIN(T_PRODUITS[[#This Row],[SYSCO]:[XXXX]]) -> 5.25 | I21: =IF(T_PRODUITS[[#This Row],[Meilleur prix]]<>0,INDEX(T_PRODUITS[[#Headers],[SYSCO]:[XXXX]],1,MATCH(T_PRODUITS[[#This Row],[Meilleur prix]],T_PRODUITS[[#This Row],[SYSCO]:[XXXX]],0)),"") -> SOBRAQUES | J21: =T_PRODUITS[[#This Row],[Meilleur prix]]/1000 -> 0.00525
A22: OVO JAUNE | B22: Frais | C22: 2KG | D22: 8.45 | E22: 9.8 | H22: =MIN(T_PRODUITS[[#This Row],[SYSCO]:[XXXX]]) -> 8.45 | I22: =IF(T_PRODUITS[[#This Row],[Meilleur prix]]<>0,INDEX(T_PRODUITS[[#Headers],[SYSCO]:[XXXX]],1,MATCH(T_PRODUITS[[#This Row],[Meilleur prix]],T_PRODUITS[[#This Row],[SYSCO]:[XXXX]],0)),"") -> SYSCO | J22: =T_PRODUITS[[#This Row],[Meilleur prix]]/1000 -> 0.00845
A23: PARMESAN POINTE | B23: Frais | C23: KG | E23: 19.2 | H23: =MIN(T_PRODUITS[[#This Row],[SYSCO]:[XXXX]]) -> 19.2 | I23: =IF(T_PRODUITS[[#This Row],[Meilleur prix]]<>0,INDEX(T_PRODUITS[[#Headers],[SYSCO]:[XXXX]],1,MATCH(T_PRODUITS[[#This Row],[Meilleur prix]],T_PRODUITS[[#This Row],[SYSCO]:[XXXX]],0)),"") -> SOBRAQUES | J23: =T_PRODUITS[[#This Row],[Meilleur prix]]/1000 -> 0.0192
A24: PARMESAN RÂPÉ | B24: Frais | C24: KG | D24: 19.8 | E24: 20.6 | H24: =MIN(T_PRODUITS[[#This Row],[SYSCO]:[XXXX]]) -> 19.8 | I24: =IF(T_PRODUITS[[#This Row],[Meilleur prix]]<>0,INDEX(T_PRODUITS[[#Headers],[SYSCO]:[XXXX]],1,MATCH(T_PRODUITS[[#This Row],[Meilleur prix]],T_PRODUITS[[#This Row],[SYSCO]:[XXXX]],0)),"") -> SYSCO | J24: =T_PRODUITS[[#This Row],[Meilleur prix]]/1000 -> 0.0198
A25: PARMESANS POINTE | B25: Frais | D25: 18 | H25: =MIN(T_PRODUITS[[#This Row],[SYSCO]:[XXXX]]) -> 18 | I25: =IF(T_PRODUITS[[#This Row],[Meilleur prix]]<>0,INDEX(T_PRODUITS[[#Headers],[SYSCO]:[XXXX]],1,MATCH(T_PRODUITS[[#This Row],[Meilleur prix]],T_PRODUITS[[#This Row],[SYSCO]:[XXXX]],0)),"") -> SYSCO | J25: =T_PRODUITS[[#This Row],[Meilleur prix]]/1000 -> 0.018
A26: STRACCIATELA | B26: Frais | C26: 400G | D26: 5.97 | H26: =MIN(T_PRODUITS[[#This Row],[SYSCO]:[XXXX]]) -> 5.97 | I26: =IF(T_PRODUITS[[#This Row],[Meilleur prix]]<>0,INDEX(T_PRODUITS[[#Headers],[SYSCO]:[XXXX]],1,MATCH(T_PRODUITS[[#This Row],[Meilleur prix]],T_PRODUITS[[#This Row],[SYSCO]:[XXXX]],0)),"") -> SYSCO | J26: =T_PRODUITS[[#This Row],[Meilleur prix]]/1000 -> 0.00597
A27: TOMME | B27: Frais | H27: =MIN(T_PRODUITS[[#This Row],[SYSCO]:[XXXX]]) -> 0 | I27: =IF(T_PRODUITS[[#This Row],[Meilleur prix]]<>0,INDEX(T_PRODUITS[[#Headers],[SYSCO]:[XXXX]],1,MATCH(T_PRODUITS[[#This Row],[Meilleur prix]],T_PRODUITS[[#This Row],[SYSCO]:[XXXX]],0)),"") | J27: =T_PRODUITS[[#This Row],[Meilleur prix]]/1000 -> 0
A28: PAIN DE MIE | B28: Frais | C28: KG | D28: 4.4 | F28: 9.59 | H28: =MIN(T_PRODUITS[[#This Row],[SYSCO]:[XXXX]]) -> 4.4 | I28: =IF(T_PRODUITS[[#This Row],[Meilleur prix]]<>0,INDEX(T_PRODUITS[[#Headers],[SYSCO]:[XXXX]],1,MATCH(T_PRODUITS[[#This Row],[Meilleur prix]],T_PRODUITS[[#This Row],[SYSCO]:[XXXX]],0)),"") -> SYSCO | J28: =T_PRODUITS[[#This Row],[Meilleur prix]]/1000 -> 0.0044
A29: FILET ANCHOIS | B29: Frais | C29: KG | D29: 16.1 | E29: 17.37 | F29: 17 | H29: =MIN(T_PRODUITS[[#This Row],[SYSCO]:[XXXX]]) -> 16.1 | I29: =IF(T_PRODUITS[[#This Row],[Meilleur prix]]<>0,INDEX(T_PRODUITS[[#Headers],[SYSCO]:[XXXX]],1,MATCH(T_PRODUITS[[#This Row],[Meilleur prix]],T_PRODUITS[[#This Row],[SYSCO]:[XXXX]],0)),"") -> SYSCO | J29: =T_PRODUITS[[#This Row],[Meilleur prix]]/1000 -> 0.0161
A30: GRANA PADANO POINTE | B30: Frais | D30: 17.52 | E30: 15.79 | H30: =MIN(T_PRODUITS[[#This Row],[SYSCO]:[XXXX]]) -> 15.79 | I30: =IF(T_PRODUITS[[#This Row],[Meilleur prix]]<>0,INDEX(T_PRODUITS[[#Headers],[SYSCO]:[XXXX]],1,MATCH(T_PRODUITS[[#This Row],[Meilleur prix]],T_PRODUITS[[#This Row],[SYSCO]:[XXXX]],0)),"") -> SOBRAQUES | J30: =T_PRODUITS[[#This Row],[Meilleur prix]]/1000 -> 0.01579
A31: TOMME CATALANE | B31: Frais | C31: KG | D31: 12.9 | E31: 12.48 | H31: =MIN(T_PRODUITS[[#This Row],[SYSCO]:[XXXX]]) -> 12.48 | I31: =IF(T_PRODUITS[[#This Row],[Meilleur prix]]<>0,INDEX(T_PRODUITS[[#Headers],[SYSCO]:[XXXX]],1,MATCH(T_PRODUITS[[#This Row],[Meilleur prix]],T_PRODUITS[[#This Row],[SYSCO]:[XXXX]],0)),"") -> SOBRAQUES | J31: =T_PRODUITS[[#This Row],[Meilleur prix]]/1000 -> 0.01248
A32: COMTE | B32: Frais | C32: KG | E32: 15.61 | F32: 15.75 | H32: =MIN(T_PRODUITS[[#This Row],[SYSCO]:[XXXX]]) -> 15.61 | I32: =IF(T_PRODUITS[[#This Row],[Meilleur prix]]<>0,INDEX(T_PRODUITS[[#Headers],[SYSCO]:[XXXX]],1,MATCH(T_PRODUITS[[#This Row],[Meilleur prix]],T_PRODUITS[[#This Row],[SYSCO]:[XXXX]],0)),"") -> SOBRAQUES | J32: =T_PRODUITS[[#This Row],[Meilleur prix]]/1000 -> 0.01561
A33: FOURME D'AMBERT | B33: Frais | C33: KG | F33: 10.9 | H33: =MIN(T_PRODUITS[[#This Row],[SYSCO]:[XXXX]]) -> 10.9 | I33: =IF(T_PRODUITS[[#This Row],[Meilleur prix]]<>0,INDEX(T_PRODUITS[[#Headers],[SYSCO]:[XXXX]],1,MATCH(T_PRODUITS[[#This Row],[Meilleur prix]],T_PRODUITS[[#This Row],[SYSCO]:[XXXX]],0)),"") -> METRO | J33: =T_PRODUITS[[#This Row],[Meilleur prix]]/1000 -> 0.0109
A34: ROCAMADOUR | B34: Frais | C34: P | F34: 0.97 | H34: =MIN(T_PRODUITS[[#This Row],[SYSCO]:[XXXX]]) -> 0.97 | I34: =IF(T_PRODUITS[[#This Row],[Meilleur prix]]<>0,INDEX(T_PRODUITS[[#Headers],[SYSCO]:[XXXX]],1,MATCH(T_PRODUITS[[#This Row],[Meilleur prix]],T_PRODUITS[[#This Row],[SYSCO]:[XXXX]],0)),"") -> METRO | J34: =T_PRODUITS[[#This Row],[Meilleur prix]]/1000 -> 0.00097
A35: FOCACCIA | B35: Frais | C35: 750 | E35: 5.77 | F35: 7.64 | H35: =MIN(T_PRODUITS[[#This Row],[SYSCO]:[XXXX]]) -> 5.77 | I35: =IF(T_PRODUITS[[#This Row],[Meilleur prix]]<>0,INDEX(T_PRODUITS[[#Headers],[SYSCO]:[XXXX]],1,MATCH(T_PRODUITS[[#This Row],[Meilleur prix]],T_PRODUITS[[#This Row],[SYSCO]:[XXXX]],0)),"") -> SOBRAQUES | J35: =T_PRODUITS[[#This Row],[Meilleur prix]]/1000 -> 0.00577
A36: MATO DE CADI | B36: Frais | C36: P250g | E36: 2.59 | H36: =MIN(T_PRODUITS[[#This Row],[SYSCO]:[XXXX]]) -> 2.59 | I36: =IF(T_PRODUITS[[#This Row],[Meilleur prix]]<>0,INDEX(T_PRODUITS[[#Headers],[SYSCO]:[XXXX]],1,MATCH(T_PRODUITS[[#This Row],[Meilleur prix]],T_PRODUITS[[#This Row],[SYSCO]:[XXXX]],0)),"") -> SOBRAQUES | J36: =T_PRODUITS[[#This Row],[Meilleur prix]]/1000 -> 0.00259
A37: CABECOU | B37: Frais | C37: P | E37: 0.69 | H37: =MIN(T_PRODUITS[[#This Row],[SYSCO]:[XXXX]]) -> 0.69 | I37: =IF(T_PRODUITS[[#This Row],[Meilleur prix]]<>0,INDEX(T_PRODUITS[[#Headers],[SYSCO]:[XXXX]],1,MATCH(T_PRODUITS[[#This Row],[Meilleur prix]],T_PRODUITS[[#This Row],[SYSCO]:[XXXX]],0)),"") -> SOBRAQUES | J37: =T_PRODUITS[[#This Row],[Meilleur prix]]/1000 -> 0.00069
A38: ABRICOT SEC | B38: Epicerie | C38: 11.89 | D38: 14.95 | E38: 12.99 | H38: =MIN(T_PRODUITS[[#This Row],[SYSCO]:[XXXX]]) -> 12.99 | I38: =IF(T_PRODUITS[[#This Row],[Meilleur prix]]<>0,INDEX(T_PRODUITS[[#Headers],[SYSCO]:[XXXX]],1,MATCH(T_PRODUITS[[#This Row],[Meilleur prix]],T_PRODUITS[[#This Row],[SYSCO]:[XXXX]],0)),"") -> SOBRAQUES | J38: =T_PRODUITS[[#This Row],[Meilleur prix]]/1000 -> 0.01299
A39: AMANDE POUDRE | B39: Epicerie | C39: 11.93 | D39: 8.8 | H39: =MIN(T_PRODUITS[[#This Row],[SYSCO]:[XXXX]]) -> 8.8 | I39: =IF(T_PRODUITS[[#This Row],[Meilleur prix]]<>0,INDEX(T_PRODUITS[[#Headers],[SYSCO]:[XXXX]],1,MATCH(T_PRODUITS[[#This Row],[Meilleur prix]],T_PRODUITS[[#This Row],[SYSCO]:[XXXX]],0)),"") -> SYSCO | J39: =T_PRODUITS[[#This Row],[Meilleur prix]]/1000 -> 0.0088
A40: AMANDES EFFILEES | B40: Epicerie | H40: =MIN(T_PRODUITS[[#This Row],[SYSCO]:[XXXX]]) -> 0 | I40: =IF(T_PRODUITS[[#This Row],[Meilleur prix]]<>0,INDEX(T_PRODUITS[[#Headers],[SYSCO]:[XXXX]],1,MATCH(T_PRODUITS[[#This Row],[Meilleur prix]],T_PRODUITS[[#This Row],[SYSCO]:[XXXX]],0)),"") | J40: =T_PRODUITS[[#This Row],[Meilleur prix]]/1000 -> 0
A41: ANCHOIS | B41: Epicerie | H41: =MIN(T_PRODUITS[[#This Row],[SYSCO]:[XXXX]]) -> 0 | I41: =IF(T_PRODUITS[[#This Row],[Meilleur prix]]<>0,INDEX(T_PRODUITS[[#Headers],[SYSCO]:[XXXX]],1,MATCH(T_PRODUITS[[#This Row],[Meilleur prix]],T_PRODUITS[[#This Row],[SYSCO]:[XXXX]],0)),"") | J41: =T_PRODUITS[[#This Row],[Meilleur prix]]/1000 -> 0
A42: AROME VANILLE | B42: Epicerie | C42: 9.87 | D42: 9.15 | H42: =MIN(T_PRODUITS[[#This Row],[SYSCO]:[XXXX]]) -> 9.15 | I42: =IF(T_PRODUITS[[#This Row],[Meilleur prix]]<>0,INDEX(T_PRODUITS[[#Headers],[SYSCO]:[XXXX]],1,MATCH(T_PRODUITS[[#This Row],[Meilleur prix]],T_PRODUITS[[#This Row],[SYSCO]:[XXXX]],0)),"") -> SYSCO | J42: =T_PRODUITS[[#This Row],[Meilleur prix]]/1000 -> 0.00915
A43: BAIE ROSE | B43: Epicerie | C43: 11.2 | D43: 11.955 | H43: =MIN(T_PRODUITS[[#This Row],[SYSCO]:[XXXX]]) -> 11.955 | I43: =IF(T_PRODUITS[[#This Row],[Meilleur prix]]<>0,INDEX(T_PRODUITS[[#Headers],[SYSCO]:[XXXX]],1,MATCH(T_PRODUITS[[#This Row],[Meilleur prix]],T_PRODUITS[[#This Row],[SYSCO]:[XXXX]],0)),"") -> SYSCO | J43: =T_PRODUITS[[#This Row],[Meilleur prix]]/1000 -> 0.011955
A44: CAPRES A QUEUS | B44: Epicerie | H44: =MIN(T_PRODUITS[[#This Row],[SYSCO]:[XXXX]]) -> 0 | I44: =IF(T_PRODUITS[[#This Row],[Meilleur prix]]<>0,INDEX(T_PRODUITS[[#Headers],[SYSCO]:[XXXX]],1,MATCH(T_PRODUITS[[#This Row],[Meilleur prix]],T_PRODUITS[[#This Row],[SYSCO]:[XXXX]],0)),"") | J44: =T_PRODUITS[[#This Row],[Meilleur prix]]/1000 -> 0
A45: CAPRES FINES | B45: Epicerie | C45: 5.1 | D45: 3.6 | H45: =MIN(T_PRODUITS[[#This Row],[SYSCO]:[XXXX]]) -> 3.6 | I45: =IF(T_PRODUITS[[#This Row],[Meilleur prix]]<>0,INDEX(T_PRODUITS[[#Headers],[SYSCO]:[XXXX]],1,MATCH(T_PRODUITS[[#This Row],[Meilleur prix]],T_PRODUITS[[#This Row],[SYSCO]:[XXXX]],0)),"") -> SYSCO | J45: =T_PRODUITS[[#This Row],[Meilleur prix]]/1000 -> 0.0036
A46: CHAPELURE BRUNE | B46: Epicerie | H46: =MIN(T_PRODUITS[[#This Row],[SYSCO]:[XXXX]]) -> 0 | I46: =IF(T_PRODUITS[[#This Row],[Meilleur prix]]<>0,INDEX(T_PRODUITS[[#Headers],[SYSCO]:[XXXX]],1,MATCH(T_PRODUITS[[#This Row],[Meilleur prix]],T_PRODUITS[[#This Row],[SYSCO]:[XXXX]],0)),"") | J46: =T_PRODUITS[[#This Row],[Meilleur prix]]/1000 -> 0
A47: CHAPELURE CHINOISE PANKO | B47: Epicerie | C47: 7.7 | D47: 5.67 | H47: =MIN(T_PRODUITS[[#This Row],[SYSCO]:[XXXX]]) -> 5.67 | I47: =IF(T_PRODUITS[[#This Row],[Meilleur prix]]<>0,INDEX(T_PRODUITS[[#Headers],[SYSCO]:[XXXX]],1,MATCH(T_PRODUITS[[#This Row],[Meilleur prix]],T_PRODUITS[[#This Row],[SYSCO]:[XXXX]],0)),"") -> SYSCO | J47: =T_PRODUITS[[#This Row],[Meilleur prix]]/1000 -> 0.00567
A48: CHOCO 55% | B48: Epicerie | C48: 10.68 | E48: 8.1 | H48: =MIN(T_PRODUITS[[#This Row],[SYSCO]:[XXXX]]) -> 8.1 | I48: =IF(T_PRODUITS[[#This Row],[Meilleur prix]]<>0,INDEX(T_PRODUITS[[#Headers],[SYSCO]:[XXXX]],1,MATCH(T_PRODUITS[[#This Row],[Meilleur prix]],T_PRODUITS[[#This Row],[SYSCO]:[XXXX]],0)),"") -> SOBRAQUES | J48: =T_PRODUITS[[#This Row],[Meilleur prix]]/1000 -> 0.0081
A49: COGNAC | B49: Epicerie | H49: =MIN(T_PRODUITS[[#This Row],[SYSCO]:[XXXX]]) -> 0 | I49: =IF(T_PRODUITS[[#This Row],[Meilleur prix]]<>0,INDEX(T_PRODUITS[[#Headers],[SYSCO]:[XXXX]],1,MATCH(T_PRODUITS[[#This Row],[Meilleur prix]],T_PRODUITS[[#This Row],[SYSCO]:[XXXX]],0)),"") | J49: =T_PRODUITS[[#This Row],[Meilleur prix]]/1000 -> 0
A50: CORNE FLEAK | B50: Epicerie | C50: 4.88 | D50: 3.53 | E50: 2.37 | H50: =MIN(T_PRODUITS[[#This Row],[SYSCO]:[XXXX]]) -> 2.37 | I50: =IF(T_PRODUITS[[#This Row],[Meilleur prix]]<>0,INDEX(T_PRODUITS[[#Headers],[SYSCO]:[XXXX]],1,MATCH(T_PRODUITS[[#This Row],[Meilleur prix]],T_PRODUITS[[#This Row],[SYSCO]:[XXXX]],0)),"") -> SOBRAQUES | J50: =T_PRODUITS[[#This Row],[Meilleur prix]]/1000 -> 0.00237
A51: CORNICHON | B51: Epicerie | D51: 10.77 | E51: 8.06 | H51: =MIN(T_PRODUITS[[#This Row],[SYSCO]:[XXXX]]) -> 8.06 | I51: =IF(T_PRODUITS[[#This Row],[Meilleur prix]]<>0,INDEX(T_PRODUITS[[#Headers],[SYSCO]:[XXXX]],1,MATCH(T_PRODUITS[[#This Row],[Meilleur prix]],T_PRODUITS[[#This Row],[SYSCO]:[XXXX]],0)),"") -> SOBRAQUES | J51: =T_PRODUITS[[#This Row],[Meilleur prix]]/1000 -> 0.00806
A52: CREME DE BALSAMIQUE | B52: Epicerie | H52: =MIN(T_PRODUITS[[#This Row],[SYSCO]:[XXXX]]) -> 0 | I52: =IF(T_PRODUITS[[#This Row],[Meilleur prix]]<>0,INDEX(T_PRODUITS[[#Headers],[SYSCO]:[XXXX]],1,MATCH(T_PRODUITS[[#This Row],[Meilleur prix]],T_PRODUITS[[#This Row],[SYSCO]:[XXXX]],0)),"") | J52: =T_PRODUITS[[#This Row],[Meilleur prix]]/1000 -> 0
A53: FARINE T 55 | B53: Epicerie | C53: 0.85 | D53: 0.75 | E53: 0.73 | H53: =MIN(T_PRODUITS[[#This Row],[SYSCO]:[XXXX]]) -> 0.73 | I53: =IF(T_PRODUITS[[#This Row],[Meilleur prix]]<>0,INDEX(T_PRODUITS[[#Headers],[SYSCO]:[XXXX]],1,MATCH(T_PRODUITS[[#This Row],[Meilleur prix]],T_PRODUITS[[#This Row],[SYSCO]:[XXXX]],0)),"") -> SOBRAQUES | J53: =T_PRODUITS[[#This Row],[Meilleur prix]]/1000 -> 0.00073
A54: FILME GRAND | B54: Epicerie | C54: 10.5 | D54: 9.95 | H54: =MIN(T_PRODUITS[[#This Row],[SYSCO]:[XXXX]]) -> 9.95 | I54: =IF(T_PRODUITS[[#This Row],[Meilleur prix]]<>0,INDEX(T_PRODUITS[[#Headers],[SYSCO]:[XXXX]],1,MATCH(T_PRODUITS[[#This Row],[Meilleur prix]],T_PRODUITS[[#This Row],[SYSCO]:[XXXX]],0)),"") -> SYSCO | J54: =T_PRODUITS[[#This Row],[Meilleur prix]]/1000 -> 0.00995
A55: FILME PETIT | B55: Epicerie | C55: 6.9 | D55: 6.99 | H55: =MIN(T_PRODUITS[[#This Row],[SYSCO]:[XXXX]]) -> 6.99 | I55: =IF(T_PRODUITS[[#This Row],[Meilleur prix]]<>0,INDEX(T_PRODUITS[[#Headers],[SYSCO]:[XXXX]],1,MATCH(T_PRODUITS[[#This Row],[Meilleur prix]],T_PRODUITS[[#This Row],[SYSCO]:[XXXX]],0)),"") -> SYSCO | J55: =T_PRODUITS[[#This Row],[Meilleur prix]]/1000 -> 0.00699
A56: FOND BRUN | B56: Epicerie | C56: 9.65 | D56: 11 | H56: =MIN(T_PRODUITS[[#This Row],[SYSCO]:[XXXX]]) -> 11 | I56: =IF(T_PRODUITS[[#This Row],[Meilleur prix]]<>0,INDEX(T_PRODUITS[[#Headers],[SYSCO]:[XXXX]],1,MATCH(T_PRODUITS[[#This Row],[Meilleur prix]],T_PRODUITS[[#This Row],[SYSCO]:[XXXX]],0)),"") -> SYSCO | J56: =T_PRODUITS[[#This Row],[Meilleur prix]]/1000 -> 0.011
A57: GELLATINE ARGENT | B57: Epicerie | C57: 37.9 | H57: =MIN(T_PRODUITS[[#This Row],[SYSCO]:[XXXX]]) -> 0 | I57: =IF(T_PRODUITS[[#This Row],[Meilleur prix]]<>0,INDEX(T_PRODUITS[[#Headers],[SYSCO]:[XXXX]],1,MATCH(T_PRODUITS[[#This Row],[Meilleur prix]],T_PRODUITS[[#This Row],[SYSCO]:[XXXX]],0)),"") | J57: =T_PRODUITS[[#This Row],[Meilleur prix]]/1000 -> 0
A58: GRAISSE ALIMENTAIRE | B58: Epicerie | C58: 5.2 | D58: 4.6 | H58: =MIN(T_PRODUITS[[#This Row],[SYSCO]:[XXXX]]) -> 4.6 | I58: =IF(T_PRODUITS[[#This Row],[Meilleur prix]]<>0,INDEX(T_PRODUITS[[#Headers],[SYSCO]:[XXXX]],1,MATCH(T_PRODUITS[[#This Row],[Meilleur prix]],T_PRODUITS[[#This Row],[SYSCO]:[XXXX]],0)),"") -> SYSCO | J58: =T_PRODUITS[[#This Row],[Meilleur prix]]/1000 -> 0.0046
A59: HARICOT BLANC | B59: Epicerie | H59: =MIN(T_PRODUITS[[#This Row],[SYSCO]:[XXXX]]) -> 0 | I59: =IF(T_PRODUITS[[#This Row],[Meilleur prix]]<>0,INDEX(T_PRODUITS[[#Headers],[SYSCO]:[XXXX]],1,MATCH(T_PRODUITS[[#This Row],[Meilleur prix]],T_PRODUITS[[#This Row],[SYSCO]:[XXXX]],0)),"") | J59: =T_PRODUITS[[#This Row],[Meilleur prix]]/1000 -> 0
A60: HUILE DE FRITURE | B60: Epicerie | C60: 2.42 | D60: 2.58 | H60: =MIN(T_PRODUITS[[#This Row],[SYSCO]:[XXXX]]) -> 2.58 | I60: =IF(T_PRODUITS[[#This Row],[Meilleur prix]]<>0,INDEX(T_PRODUITS[[#Headers],[SYSCO]:[XXXX]],1,MATCH(T_PRODUITS[[#This Row],[Meilleur prix]],T_PRODUITS[[#This Row],[SYSCO]:[XXXX]],0)),"") -> SYSCO | J60: =T_PRODUITS[[#This Row],[Meilleur prix]]/1000 -> 0.00258
A61: HUILE DE TOURNESOL | B61: Epicerie | C61: 1.94 | D61: 1.64 | E61: 2.09 | H61: =MIN(T_PRODUITS[[#This Row],[SYSCO]:[XXXX]]) -> 1.64 | I61: =IF(T_PRODUITS[[#This Row],[Meilleur prix]]<>0,INDEX(T_PRODUITS[[#Headers],[SYSCO]:[XXXX]],1,MATCH(T_PRODUITS[[#This Row],[Meilleur prix]],T_PRODUITS[[#This Row],[SYSCO]:[XXXX]],0)),"") -> SYSCO | J61: =T_PRODUITS[[#This Row],[Meilleur prix]]/1000 -> 0.00164
A62: HUILE D'OLIVE EXTRA | B62: Epicerie | C62: 10.83 | D62: 8.4 | E62: 10.44 | H62: =MIN(T_PRODUITS[[#This Row],[SYSCO]:[XXXX]]) -> 8.4 | I62: =IF(T_PRODUITS[[#This Row],[Meilleur prix]]<>0,INDEX(T_PRODUITS[[#Headers],[SYSCO]:[XXXX]],1,MATCH(T_PRODUITS[[#This Row],[Meilleur prix]],T_PRODUITS[[#This Row],[SYSCO]:[XXXX]],0)),"") -> SYSCO | J62: =T_PRODUITS[[#This Row],[Meilleur prix]]/1000 -> 0.0084
A63: JUS D'AGNEAU | B63: Epicerie | C63: 29.9 | D63: 56 | E63: 42.36 | H63: =MIN(T_PRODUITS[[#This Row],[SYSCO]:[XXXX]]) -> 42.36 | I63: =IF(T_PRODUITS[[#This Row],[Meilleur prix]]<>0,INDEX(T_PRODUITS[[#Headers],[SYSCO]:[XXXX]],1,MATCH(T_PRODUITS[[#This Row],[Meilleur prix]],T_PRODUITS[[#This Row],[SYSCO]:[XXXX]],0)),"") -> SOBRAQUES | J63: =T_PRODUITS[[#This Row],[Meilleur prix]]/1000 -> 0.04236
A64: LENTILLE CORAIL | B64: Epicerie | C64: 7.25 | H64: =MIN(T_PRODUITS[[#This Row],[SYSCO]:[XXXX]]) -> 0 | I64: =IF(T_PRODUITS[[#This Row],[Meilleur prix]]<>0,INDEX(T_PRODUITS[[#Headers],[SYSCO]:[XXXX]],1,MATCH(T_PRODUITS[[#This Row],[Meilleur prix]],T_PRODUITS[[#This Row],[SYSCO]:[XXXX]],0)),"") | J64: =T_PRODUITS[[#This Row],[Meilleur prix]]/1000 -> 0
A65: LEVURE ALSACIENNE | B65: Epicerie | H65: =MIN(T_PRODUITS[[#This Row],[SYSCO]:[XXXX]]) -> 0 | I65: =IF(T_PRODUITS[[#This Row],[Meilleur prix]]<>0,INDEX(T_PRODUITS[[#Headers],[SYSCO]:[XXXX]],1,MATCH(T_PRODUITS[[#This Row],[Meilleur prix]],T_PRODUITS[[#This Row],[SYSCO]:[XXXX]],0)),"") | J65: =T_PRODUITS[[#This Row],[Meilleur prix]]/1000 -> 0
A66: MAIZENA | B66: Epicerie | C66: 6.43 | D66: 5.69 | H66: =MIN(T_PRODUITS[[#This Row],[SYSCO]:[XXXX]]) -> 5.69 | I66: =IF(T_PRODUITS[[#This Row],[Meilleur prix]]<>0,INDEX(T_PRODUITS[[#Headers],[SYSCO]:[XXXX]],1,MATCH(T_PRODUITS[[#This Row],[Meilleur prix]],T_PRODUITS[[#This Row],[SYSCO]:[XXXX]],0)),"") -> SYSCO | J66: =T_PRODUITS[[#This Row],[Meilleur prix]]/1000 -> 0.00569
A67: MIEL | B67: Epicerie | C67: 13 | D67: 7 | H67: =MIN(T_PRODUITS[[#This Row],[SYSCO]:[XXXX]]) -> 7 | I67: =IF(T_PRODUITS[[#This Row],[Meilleur prix]]<>0,INDEX(T_PRODUITS[[#Headers],[SYSCO]:[XXXX]],1,MATCH(T_PRODUITS[[#This Row],[Meilleur prix]],T_PRODUITS[[#This Row],[SYSCO]:[XXXX]],0)),"") -> SYSCO | J67: =T_PRODUITS[[#This Row],[Meilleur prix]]/1000 -> 0.007
A68: MIRIN | B68: Epicerie | E68: 8.17 | H68: =MIN(T_PRODUITS[[#This Row],[SYSCO]:[XXXX]]) -> 8.17 | I68: =IF(T_PRODUITS[[#This Row],[Meilleur prix]]<>0,INDEX(T_PRODUITS[[#Headers],[SYSCO]:[XXXX]],1,MATCH(T_PRODUITS[[#This Row],[Meilleur prix]],T_PRODUITS[[#This Row],[SYSCO]:[XXXX]],0)),"") -> SOBRAQUES | J68: =T_PRODUITS[[#This Row],[Meilleur prix]]/1000 -> 0.00817
A69: MOUTARDE | B69: Epicerie | C69: 19.74 | D69: 12.9 | H69: =MIN(T_PRODUITS[[#This Row],[SYSCO]:[XXXX]]) -> 12.9 | I69: =IF(T_PRODUITS[[#This Row],[Meilleur prix]]<>0,INDEX(T_PRODUITS[[#Headers],[SYSCO]:[XXXX]],1,MATCH(T_PRODUITS[[#This Row],[Meilleur prix]],T_PRODUITS[[#This Row],[SYSCO]:[XXXX]],0)),"") -> SYSCO | J69: =T_PRODUITS[[#This Row],[Meilleur prix]]/1000 -> 0.0129
A70: MOUTARDE A L'ANCIENNE | B70: Epicerie | C70: 3.47 | D70: 3.6 | H70: =MIN(T_PRODUITS[[#This Row],[SYSCO]:[XXXX]]) -> 3.6 | I70: =IF(T_PRODUITS[[#This Row],[Meilleur prix]]<>0,INDEX(T_PRODUITS[[#Headers],[SYSCO]:[XXXX]],1,MATCH(T_PRODUITS[[#This Row],[Meilleur prix]],T_PRODUITS[[#This Row],[SYSCO]:[XXXX]],0)),"") -> SYSCO | J70: =T_PRODUITS[[#This Row],[Meilleur prix]]/1000 -> 0.0036
A71: NOISETTES | B71: Epicerie | C71: 15.63 | D71: 11.8 | H71: =MIN(T_PRODUITS[[#This Row],[SYSCO]:[XXXX]]) -> 11.8 | I71: =IF(T_PRODUITS[[#This Row],[Meilleur prix]]<>0,INDEX(T_PRODUITS[[#Headers],[SYSCO]:[XXXX]],1,MATCH(T_PRODUITS[[#This Row],[Meilleur prix]],T_PRODUITS[[#This Row],[SYSCO]:[XXXX]],0)),"") -> SYSCO | J71: =T_PRODUITS[[#This Row],[Meilleur prix]]/1000 -> 0.0118
A72: NOIX | B72: Epicerie | C72: 11.1 | D72: 6.48 | H72: =MIN(T_PRODUITS[[#This Row],[SYSCO]:[XXXX]]) -> 6.48 | I72: =IF(T_PRODUITS[[#This Row],[Meilleur prix]]<>0,INDEX(T_PRODUITS[[#Headers],[SYSCO]:[XXXX]],1,MATCH(T_PRODUITS[[#This Row],[Meilleur prix]],T_PRODUITS[[#This Row],[SYSCO]:[XXXX]],0)),"") -> SYSCO | J72: =T_PRODUITS[[#This Row],[Meilleur prix]]/1000 -> 0.00648
A73: NOIX COCO RAPE | B73: Epicerie | H73: =MIN(T_PRODUITS[[#This Row],[SYSCO]:[XXXX]]) -> 0 | I73: =IF(T_PRODUITS[[#This Row],[Meilleur prix]]<>0,INDEX(T_PRODUITS[[#Headers],[SYSCO]:[XXXX]],1,MATCH(T_PRODUITS[[#This Row],[Meilleur prix]],T_PRODUITS[[#This Row],[SYSCO]:[XXXX]],0)),"") | J73: =T_PRODUITS[[#This Row],[Meilleur prix]]/1000 -> 0
A74: NOODLES | B74: Epicerie | D74: 23 | H74: =MIN(T_PRODUITS[[#This Row],[SYSCO]:[XXXX]]) -> 23 | I74: =IF(T_PRODUITS[[#This Row],[Meilleur prix]]<>0,INDEX(T_PRODUITS[[#Headers],[SYSCO]:[XXXX]],1,MATCH(T_PRODUITS[[#This Row],[Meilleur prix]],T_PRODUITS[[#This Row],[SYSCO]:[XXXX]],0)),"") -> SYSCO | J74: =T_PRODUITS[[#This Row],[Meilleur prix]]/1000 -> 0.023
A75: NUTELLA 3KG | B75: Epicerie | H75: =MIN(T_PRODUITS[[#This Row],[SYSCO]:[XXXX]]) -> 0 | I75: =IF(T_PRODUITS[[#This Row],[Meilleur prix]]<>0,INDEX(T_PRODUITS[[#Headers],[SYSCO]:[XXXX]],1,MATCH(T_PRODUITS[[#This Row],[Meilleur prix]],T_PRODUITS[[#This Row],[SYSCO]:[XXXX]],0)),"") | J75: =T_PRODUITS[[#This Row],[Meilleur prix]]/1000 -> 0
A76: NUTTELA 1KG | B76: Epicerie | H76: =MIN(T_PRODUITS[[#This Row],[SYSCO]:[XXXX]]) -> 0 | I76: =IF(T_PRODUITS[[#This Row],[Meilleur prix]]<>0,INDEX(T_PRODUITS[[#Headers],[SYSCO]:[XXXX]],1,MATCH(T_PRODUITS[[#This Row],[Meilleur prix]],T_PRODUITS[[#This Row],[SYSCO]:[XXXX]],0)),"") | J76: =T_PRODUITS[[#This Row],[Meilleur prix]]/1000 -> 0
A77: OLIVES NOIR | B77: Epicerie | H77: =MIN(T_PRODUITS[[#This Row],[SYSCO]:[XXXX]]) -> 0 | I77: =IF(T_PRODUITS[[#This Row],[Meilleur prix]]<>0,INDEX(T_PRODUITS[[#Headers],[SYSCO]:[XXXX]],1,MATCH(T_PRODUITS[[#This Row],[Meilleur prix]],T_PRODUITS[[#This Row],[SYSCO]:[XXXX]],0)),"") | J77: =T_PRODUITS[[#This Row],[Meilleur prix]]/1000 -> 0
A78: OLIVES VERTE | B78: Epicerie | H78: =MIN(T_PRODUITS[[#This Row],[SYSCO]:[XXXX]]) -> 0 | I78: =IF(T_PRODUITS[[#This Row],[Meilleur prix]]<>0,INDEX(T_PRODUITS[[#Headers],[SYSCO]:[XXXX]],1,MATCH(T_PRODUITS[[#This Row],[Meilleur prix]],T_PRODUITS[[#This Row],[SYSCO]:[XXXX]],0)),"") | J78: =T_PRODUITS[[#This Row],[Meilleur prix]]/1000 -> 0
A79: PAIN DE MIE | B79: Epicerie | H79: =MIN(T_PRODUITS[[#This Row],[SYSCO]:[XXXX]]) -> 0 | I79: =IF(T_PRODUITS[[#This Row],[Meilleur prix]]<>0,INDEX(T_PRODUITS[[#Headers],[SYSCO]:[XXXX]],1,MATCH(T_PRODUITS[[#This Row],[Meilleur prix]],T_PRODUITS[[#This Row],[SYSCO]:[XXXX]],0)),"") | J79: =T_PRODUITS[[#This Row],[Meilleur prix]]/1000 -> 0
A80: PAPIER CUISSON 32*50 | B80: Epicerie | C80: 24.5 | D80: 24 | H80: =MIN(T_PRODUITS[[#This Row],[SYSCO]:[XXXX]]) -> 24 | I80: =IF(T_PRODUITS[[#This Row],[Meilleur prix]]<>0,INDEX(T_PRODUITS[[#Headers],[SYSCO]:[XXXX]],1,MATCH(T_PRODUITS[[#This Row],[Meilleur prix]],T_PRODUITS[[#This Row],[SYSCO]:[XXXX]],0)),"") -> SYSCO | J80: =T_PRODUITS[[#This Row],[Meilleur prix]]/1000 -> 0.024
A81: PIGNONS DE PINS | B81: Epicerie | C81: 39 | D81: 28.6 | H81: =MIN(T_PRODUITS[[#This Row],[SYSCO]:[XXXX]]) -> 28.6 | I81: =IF(T_PRODUITS[[#This Row],[Meilleur prix]]<>0,INDEX(T_PRODUITS[[#Headers],[SYSCO]:[XXXX]],1,MATCH(T_PRODUITS[[#This Row],[Meilleur prix]],T_PRODUITS[[#This Row],[SYSCO]:[XXXX]],0)),"") -> SYSCO | J81: =T_PRODUITS[[#This Row],[Meilleur prix]]/1000 -> 0.0286
A82: PIMENT D'ESPELETTE | B82: Epicerie | C82: 27.97 | D82: 32.5 | H82: =MIN(T_PRODUITS[[#This Row],[SYSCO]:[XXXX]]) -> 32.5 | I82: =IF(T_PRODUITS[[#This Row],[Meilleur prix]]<>0,INDEX(T_PRODUITS[[#Headers],[SYSCO]:[XXXX]],1,MATCH(T_PRODUITS[[#This Row],[Meilleur prix]],T_PRODUITS[[#This Row],[SYSCO]:[XXXX]],0)),"") -> SYSCO | J82: =T_PRODUITS[[#This Row],[Meilleur prix]]/1000 -> 0.0325
A83: PINGOUIN KETCHUP | B83: Epicerie | H83: =MIN(T_PRODUITS[[#This Row],[SYSCO]:[XXXX]]) -> 0 | I83: =IF(T_PRODUITS[[#This Row],[Meilleur prix]]<>0,INDEX(T_PRODUITS[[#Headers],[SYSCO]:[XXXX]],1,MATCH(T_PRODUITS[[#This Row],[Meilleur prix]],T_PRODUITS[[#This Row],[SYSCO]:[XXXX]],0)),"") | J83: =T_PRODUITS[[#This Row],[Meilleur prix]]/1000 -> 0
A84: PINGOUIN MAYO | B84: Epicerie | H84: =MIN(T_PRODUITS[[#This Row],[SYSCO]:[XXXX]]) -> 0 | I84: =IF(T_PRODUITS[[#This Row],[Meilleur prix]]<>0,INDEX(T_PRODUITS[[#Headers],[SYSCO]:[XXXX]],1,MATCH(T_PRODUITS[[#This Row],[Meilleur prix]],T_PRODUITS[[#This Row],[SYSCO]:[XXXX]],0)),"") | J84: =T_PRODUITS[[#This Row],[Meilleur prix]]/1000 -> 0
A85: PINGOUIN MOUTARDE | B85: Epicerie | H85: =MIN(T_PRODUITS[[#This Row],[SYSCO]:[XXXX]]) -> 0 | I85: =IF(T_PRODUITS[[#This Row],[Meilleur prix]]<>0,INDEX(T_PRODUITS[[#Headers],[SYSCO]:[XXXX]],1,MATCH(T_PRODUITS[[#This Row],[Meilleur prix]],T_PRODUITS[[#This Row],[SYSCO]:[XXXX]],0)),"") | J85: =T_PRODUITS[[#This Row],[Meilleur prix]]/1000 -> 0
A86: PISTACHE DECORTIQUEE | B86: Epicerie | C86: 50.21 | D86: 46 | H86: =MIN(T_PRODUITS[[#This Row],[SYSCO]:[XXXX]]) -> 46 | I86: =IF(T_PRODUITS[[#This Row],[Meilleur prix]]<>0,INDEX(T_PRODUITS[[#Headers],[SYSCO]:[XXXX]],1,MATCH(T_PRODUITS[[#This Row],[Meilleur prix]],T_PRODUITS[[#This Row],[SYSCO]:[XXXX]],0)),"") -> SYSCO | J86: =T_PRODUITS[[#This Row],[Meilleur prix]]/1000 -> 0.046
A87: POCHE PATISSIERE | B87: Epicerie | C87: 11.3 | D87: 10.8 | H87: =MIN(T_PRODUITS[[#This Row],[SYSCO]:[XXXX]]) -> 10.8 | I87: =IF(T_PRODUITS[[#This Row],[Meilleur prix]]<>0,INDEX(T_PRODUITS[[#Headers],[SYSCO]:[XXXX]],1,MATCH(T_PRODUITS[[#This Row],[Meilleur prix]],T_PRODUITS[[#This Row],[SYSCO]:[XXXX]],0)),"") -> SYSCO | J87: =T_PRODUITS[[#This Row],[Meilleur prix]]/1000 -> 0.0108
A88: POIS CHICHE | B88: Epicerie | C88: 2.78 | D88: 1.6 | E88: 3.08 | H88: =MIN(T_PRODUITS[[#This Row],[SYSCO]:[XXXX]]) -> 1.6 | I88: =IF(T_PRODUITS[[#This Row],[Meilleur prix]]<>0,INDEX(T_PRODUITS[[#Headers],[SYSCO]:[XXXX]],1,MATCH(T_PRODUITS[[#This Row],[Meilleur prix]],T_PRODUITS[[#This Row],[SYSCO]:[XXXX]],0)),"") -> SYSCO | J88: =T_PRODUITS[[#This Row],[Meilleur prix]]/1000 -> 0.0016
A89: POIVRE | B89: Epicerie | H89: =MIN(T_PRODUITS[[#This Row],[SYSCO]:[XXXX]]) -> 0 | I89: =IF(T_PRODUITS[[#This Row],[Meilleur prix]]<>0,INDEX(T_PRODUITS[[#Headers],[SYSCO]:[XXXX]],1,MATCH(T_PRODUITS[[#This Row],[Meilleur prix]],T_PRODUITS[[#This Row],[SYSCO]:[XXXX]],0)),"") | J89: =T_PRODUITS[[#This Row],[Meilleur prix]]/1000 -> 0
A90: POIVRE VERT | B90: Epicerie | C90: 7.78 | D90: 6.9 | H90: =MIN(T_PRODUITS[[#This Row],[SYSCO]:[XXXX]]) -> 6.9 | I90: =IF(T_PRODUITS[[#This Row],[Meilleur prix]]<>0,INDEX(T_PRODUITS[[#Headers],[SYSCO]:[XXXX]],1,MATCH(T_PRODUITS[[#This Row],[Meilleur prix]],T_PRODUITS[[#This Row],[SYSCO]:[XXXX]],0)),"") -> SYSCO | J90: =T_PRODUITS[[#This Row],[Meilleur prix]]/1000 -> 0.0069
A91: PRALINE | B91: Epicerie | H91: =MIN(T_PRODUITS[[#This Row],[SYSCO]:[XXXX]]) -> 0 | I91: =IF(T_PRODUITS[[#This Row],[Meilleur prix]]<>0,INDEX(T_PRODUITS[[#Headers],[SYSCO]:[XXXX]],1,MATCH(T_PRODUITS[[#This Row],[Meilleur prix]],T_PRODUITS[[#This Row],[SYSCO]:[XXXX]],0)),"") | J91: =T_PRODUITS[[#This Row],[Meilleur prix]]/1000 -> 0
A92: RAISIN SEC BRUN | B92: Epicerie | C92: 5.89 | H92: =MIN(T_PRODUITS[[#This Row],[SYSCO]:[XXXX]]) -> 0 | I92: =IF(T_PRODUITS[[#This Row],[Meilleur prix]]<>0,INDEX(T_PRODUITS[[#Headers],[SYSCO]:[XXXX]],1,MATCH(T_PRODUITS[[#This Row],[Meilleur prix]],T_PRODUITS[[#This Row],[SYSCO]:[XXXX]],0)),"") | J92: =T_PRODUITS[[#This Row],[Meilleur prix]]/1000 -> 0
A93: RIZ BASMATI | B93: Epicerie | C93: 4.4 | H93: =MIN(T_PRODUITS[[#This Row],[SYSCO]:[XXXX]]) -> 0 | I93: =IF(T_PRODUITS[[#This Row],[Meilleur prix]]<>0,INDEX(T_PRODUITS[[#Headers],[SYSCO]:[XXXX]],1,MATCH(T_PRODUITS[[#This Row],[Meilleur prix]],T_PRODUITS[[#This Row],[SYSCO]:[XXXX]],0)),"") | J93: =T_PRODUITS[[#This Row],[Meilleur prix]]/1000 -> 0
A94: RIZ ARBORIO | B94: Epicerie | C94: 5.2 | D94: 4.04 | H94: =MIN(T_PRODUITS[[#This Row],[SYSCO]:[XXXX]]) -> 4.04 | I94: =IF(T_PRODUITS[[#This Row],[Meilleur prix]]<>0,INDEX(T_PRODUITS[[#Headers],[SYSCO]:[XXXX]],1,MATCH(T_PRODUITS[[#This Row],[Meilleur prix]],T_PRODUITS[[#This Row],[SYSCO]:[XXXX]],0)),"") -> SYSCO | J94: =T_PRODUITS[[#This Row],[Meilleur prix]]/1000 -> 0.00404
A95: RIZ THAÏ | B95: Epicerie | H95: =MIN(T_PRODUITS[[#This Row],[SYSCO]:[XXXX]]) -> 0 | I95: =IF(T_PRODUITS[[#This Row],[Meilleur prix]]<>0,INDEX(T_PRODUITS[[#Headers],[SYSCO]:[XXXX]],1,MATCH(T_PRODUITS[[#This Row],[Meilleur prix]],T_PRODUITS[[#This Row],[SYSCO]:[XXXX]],0)),"") | J95: =T_PRODUITS[[#This Row],[Meilleur prix]]/1000 -> 0
A96: SAUCE HUITRE | B96: Epicerie | E96: 3.75 | H96: =MIN(T_PRODUITS[[#This Row],[SYSCO]:[XXXX]]) -> 3.75 | I96: =IF(T_PRODUITS[[#This Row],[Meilleur prix]]<>0,INDEX(T_PRODUITS[[#Headers],[SYSCO]:[XXXX]],1,MATCH(T_PRODUITS[[#This Row],[Meilleur prix]],T_PRODUITS[[#This Row],[SYSCO]:[XXXX]],0)),"") -> SOBRAQUES | J96: =T_PRODUITS[[#This Row],[Meilleur prix]]/1000 -> 0.00375
A97: SAUCE SOJA SALE | B97: Epicerie | C97: 9.99 | D97: 6.9 | E97: 9.55 | H97: =MIN(T_PRODUITS[[#This Row],[SYSCO]:[XXXX]]) -> 6.9 | I97: =IF(T_PRODUITS[[#This Row],[Meilleur prix]]<>0,INDEX(T_PRODUITS[[#Headers],[SYSCO]:[XXXX]],1,MATCH(T_PRODUITS[[#This Row],[Meilleur prix]],T_PRODUITS[[#This Row],[SYSCO]:[XXXX]],0)),"") -> SYSCO | J97: =T_PRODUITS[[#This Row],[Meilleur prix]]/1000 -> 0.0069
A98: SAUCE SOJA SUCRE | B98: Epicerie | C98: 13.6 | D98: 8.7 | E98: 9.19 | H98: =MIN(T_PRODUITS[[#This Row],[SYSCO]:[XXXX]]) -> 8.7 | I98: =IF(T_PRODUITS[[#This Row],[Meilleur prix]]<>0,INDEX(T_PRODUITS[[#Headers],[SYSCO]:[XXXX]],1,MATCH(T_PRODUITS[[#This Row],[Meilleur prix]],T_PRODUITS[[#This Row],[SYSCO]:[XXXX]],0)),"") -> SYSCO | J98: =T_PRODUITS[[#This Row],[Meilleur prix]]/1000 -> 0.0087
A99: SEL | B99: Epicerie | C99: 1.1 | D99: 0.68 | H99: =MIN(T_PRODUITS[[#This Row],[SYSCO]:[XXXX]]) -> 0.68 | I99: =IF(T_PRODUITS[[#This Row],[Meilleur prix]]<>0,INDEX(T_PRODUITS[[#Headers],[SYSCO]:[XXXX]],1,MATCH(T_PRODUITS[[#This Row],[Meilleur prix]],T_PRODUITS[[#This Row],[SYSCO]:[XXXX]],0)),"") -> SYSCO | J99: =T_PRODUITS[[#This Row],[Meilleur prix]]/1000 -> 0.00068
A100: SEL DE CELERIE | B100: Epicerie | H100: =MIN(T_PRODUITS[[#This Row],[SYSCO]:[XXXX]]) -> 0 | I100: =IF(T_PRODUITS[[#This Row],[Meilleur prix]]<>0,INDEX(T_PRODUITS[[#Headers],[SYSCO]:[XXXX]],1,MATCH(T_PRODUITS[[#This Row],[Meilleur prix]],T_PRODUITS[[#This Row],[SYSCO]:[XXXX]],0)),"") | J100: =T_PRODUITS[[#This Row],[Meilleur prix]]/1000 -> 0
...

Sheet Paramètres
A1: Catégories
A2: Frais
A3: Epicerie
A4: Gel
