Workbook
Name COL_SEM_1: Parametrage!$L$3
Name COL_SEM_2: Parametrage!$M$3
Name feries: Calendrier!$AD$3:$AE$15
Name semaines: #REF!
Name vacances: Calendrier!$AD$18:$AD$27

Sheet Parametrage
A1: Rentrée | C1: 2022 | H1: Infos | I1: dates | L1: Colonnes semaines du calendrier
H2: Ouverture pédago | I2: 45188 | L2: 1ère colonne des mois | M2: 2ème colonne des mois
H3: Ouverture Application | I3: 45175 | L3: 1 | M3: 15
H4: Remontée de notes cuisine | I4: 45079
H7: Vacances toussaint | I7: 43
H8: Vacances toussaint | I8: 44
H9: Vacances Noël | I9: 51
H10: Vacances Noël | I10: 52
H11: Vacances Hiver | I11: 6
H12: Vacances Hiver | I12: 7
H13: Vacances printemps | I13: 15
H14: Vacances printemps | I14: 16
A16: 2pro
A18: PFMP1 | C18: N°sem | D18: Vie de classe | F18: Date | G18: CCF | H18: Date | I18: Points de vigilances | J18: Date | K18: Autre | L18: Date
A19: PFMP 2pro | B19: S1 | C19: 45 | D19: CC 2pro | E19: 1 | F19: 44839 | I19: Retour convention 2pro | J19: =IFERROR(DATE(#REF!,1,1)+C19*7-WEEKDAY(DATE(#REF!,1,1))-15,"-") -> - | K19: Conférence Sodexo | L19: 44826
A20: PFMP 2pro | B20: S2 | C20: 46 | D20: CC 2pro | E20: 2 | F20: 44810 | I20: Retour convention 2pro | J20: =IFERROR(DATE(#REF!,1,1)+C26*7-WEEKDAY(DATE(#REF!,1,1))-15,"-") -> -
A21: PFMP 2pro | B21: S3 | C21: 47 | D21: CC 2pro | E21: 3 | I21: Préparation conseil 2pro | J21: =+F19-7 -> 44832
A22: PFMP 2pro | B22: S4 | D22: Réunion prt profs 2pro | I22: Préparation conseil 2pro | J22: =+F20-7 -> 44803
A23: PFMP 2pro | B23: S5 | D23: Photos classe 2pro | I23: Préparation conseil 2pro | J23: =+F21*7 -> 0
A24: PFMP 2pro | B24: S6
A25: PFMP2 | C25: N°sem
A26: PFMP 2pro | B26: S1 | C26: 9
A27: PFMP 2pro | B27: S2 | C27: 10
A28: PFMP 2pro | B28: S3 | C28: 11
A29: PFMP 2pro | B29: S4 | C29: 12
A30: PFMP 2pro | B30: S5 | D30: Planifier visite PFMP 1 | F30: =+DATE($C$1,1,3)-WEEKDAY(DATE($C$1,1,3))-5+(7*$C$36) -> 44634
A31: PFMP 2pro | B31: S6 | D31: Planifier visite PFMP 2
A33: 1pro
A35: PFMP1 | C35: N°sem | D35: Vie de classe | F35: Date | G35: CCF | H35: Date | I35: Points de vigilances | J35: Date | K35: Autre | L35: Date
A36: PFMP 1pro | B36: S1 | C36: 11 | D36: CC 1pro | E36: 1 | F36: 44839 | G36: E1 S1 | H36: 44994 | I36: Retour convention 1pro | J36: =IFERROR(DATE(C1,1,1)+C36*7-WEEKDAY(DATE(C1,1,1))-15,"-") -> 44617 | K36: Conférence Sodexo | L36: 44826
A37: PFMP 1pro | B37: S2 | C37: 12 | D37: CC 1pro | E37: 2 | F37: 44810 | G37: E31 S1 | H37: 44995 | I37: Retour convention 1pro | J37: =IFERROR(DATE(C1,1,1)+C43*7-WEEKDAY(DATE(C1,1,1))-15,"-") -> 44708
A38: PFMP 1pro | B38: S3 | C38: 13 | D38: CC 1pro | E38: 3 | G38: E22 S1 | H38: 45051 | I38: Préparation conseil 1Pro | J38: =+F36-7 -> 44832
A39: PFMP 1pro | B39: S4 | C39: 14 | D39: Réunion prt profs 1pro | G39: Chef œuvre | I39: Préparation conseil 1Pro | J39: =+F37-7 -> 44803
A40: PFMP 1pro | B40: S5 | D40: Photos classe 1pro | I40: Préparation conseil 1Pro | J40: =+F38*7 -> 0
A41: PFMP 1pro | B41: S6 | I41: E1 S1 | J41: =+H36-30 -> 44964
A42: PFMP2 | C42: N°sem | I42: E31 S1 | J42: 44814
A43: PFMP 1pro | B43: S1 | C43: 24 | I43: E22 S1 | J43: =+H38-30 -> 45021
A44: PFMP 1pro | B44: S2 | C44: 25 | I44: Chef œuvre
A45: PFMP 1pro | B45: S3 | C45: 26
A46: PFMP 1pro | B46: S4 | C46: 27
...

Sheet Calendrier
H1: Début de cycle : | K1: =DATE(L1,9,1) -> 45170 | L1: 2023 | M1: Année scolaire : | P1: =+L1 -> 2023 | Q1: =+L1+1 -> 2024
A2: Sem | B2: =+K1 -> 45170 | C2: Infos | D2: PFMP 1cuis | E2: PFMP Tcuis | F2: PFMP 2pro | G2: PFMP 1pro | H2: PFMP Tpro | I2: Nouvelle | J2: Vie de classe | K2: Vigilance | L2: CCF | M2: Autres | O2: Sem | P2: =EDATE($K$1,1) -> 45200 | Q2: Infos | R2: PFMP 1cuis | S2: PFMP Tcuis | T2: PFMP 2pro | U2: PFMP 1pro | V2: PFMP Tpro | W2: Vie de classe | X2: Vigilance | Y2: CCF | Z2: Autres
A3: =IFERROR(_xlfn.ISOWEEKNUM(B3),"") -> 35 | B3: =B2 -> 45170 | C3: =+IFERROR(INDEX(#REF!,MATCH(B3,#REF!,0)),"") | D3: =IFERROR(INDEX(#REF!,MATCH(A3,#REF!,0)),"") | E3: =IFERROR(INDEX(#REF!,MATCH($A3,#REF!,0)),"") | F3: =IFERROR(INDEX(#REF!,MATCH($A3,#REF!,0)),"") | G3: =IFERROR(INDEX(#REF!,MATCH($A3,#REF!,0)),"") | H3: =IFERROR(INDEX(#REF!,MATCH($A3,#REF!,0)),"") | J3: =IFERROR(INDEX(Parametrage!D:D,MATCH(B3,Parametrage!F:F,0)),"") | K3: =IFERROR(INDEX(Parametrage!I:I,MATCH(B3,Parametrage!J:J,0)),"") | L3: =IFERROR(INDEX(Parametrage!G:G,MATCH(B3,Parametrage!H:H,0)),"") | M3: =IFERROR(INDEX(Parametrage!K:K,MATCH(B3,Parametrage!L:L,0)),"") | O3: =IFERROR(_xlfn.ISOWEEKNUM(P3),"") -> 39 | P3: =P2 -> 45200 | Q3: =+IFERROR(INDEX(#REF!,MATCH(P3,#REF!,0)),"") | R3: =IFERROR(INDEX(#REF!,MATCH(O3,#REF!,0)),"") | S3: =IFERROR(INDEX(#REF!,MATCH($O3,#REF!,0)),"") | T3: =IFERROR(INDEX(#REF!,MATCH($O3,#REF!,0)),"") | U3: =IFERROR(INDEX(#REF!,MATCH($O3,#REF!,0)),"") | V3: =IFERROR(INDEX(#REF!,MATCH($O3,#REF!,0)),"") | W3: =IFERROR(INDEX(Parametrage!$D:$D,MATCH(P3,Parametrage!$F:$F,0)),"") | X3: =IFERROR(INDEX(Parametrage!$I:$I,MATCH(P3,Parametrage!$J:$J,0)),"") | Y3: =IFERROR(INDEX(Parametrage!$G:$G,MATCH(P3,Parametrage!$H:$H,0)),"") | Z3: =IFERROR(INDEX(Parametrage!$K:$K,MATCH(P3,Parametrage!$L:$L,0)),"") | AC3: Jour de l'an | AD3: =+#REF! -> #REF! | AE3: =+#REF! -> #REF!
A4: =IFERROR(_xlfn.ISOWEEKNUM(B4),"") -> 35 | B4: =B3+1 -> 45171 | C4: =+IFERROR(INDEX(#REF!,MATCH(B4,#REF!,0)),"") | D4: =IFERROR(INDEX(#REF!,MATCH(A4,#REF!,0)),"") | E4: =IFERROR(INDEX(#REF!,MATCH($A4,#REF!,0)),"") | F4: =IFERROR(INDEX(#REF!,MATCH($A4,#REF!,0)),"") | G4: =IFERROR(INDEX(#REF!,MATCH($A4,#REF!,0)),"") | H4: =IFERROR(INDEX(#REF!,MATCH($A4,#REF!,0)),"") | J4: =IFERROR(INDEX(Parametrage!D:D,MATCH(B4,Parametrage!F:F,0)),"") | K4: =IFERROR(INDEX(Parametrage!I:I,MATCH(B4,Parametrage!J:J,0)),"") | L4: =IFERROR(INDEX(Parametrage!G:G,MATCH(B4,Parametrage!H:H,0)),"") | M4: =IFERROR(INDEX(Parametrage!K:K,MATCH(B4,Parametrage!L:L,0)),"") | O4: =IFERROR(_xlfn.ISOWEEKNUM(P4),"") -> 40 | P4: =P3+1 -> 45201 | Q4: =+IFERROR(INDEX(#REF!,MATCH(P4,#REF!,0)),"") | R4: =IFERROR(INDEX(#REF!,MATCH(O4,#REF!,0)),"") | S4: =IFERROR(INDEX(#REF!,MATCH($O4,#REF!,0)),"") | T4: =IFERROR(INDEX(#REF!,MATCH($O4,#REF!,0)),"") | U4: =IFERROR(INDEX(#REF!,MATCH($O4,#REF!,0)),"") | V4: =IFERROR(INDEX(#REF!,MATCH($O4,#REF!,0)),"") | W4: =IFERROR(INDEX(Parametrage!D:D,MATCH(P4,Parametrage!F:F,0)),"") | X4: =IFERROR(INDEX(Parametrage!I:I,MATCH(P4,Parametrage!J:J,0)),"") | Y4: =IFERROR(INDEX(Parametrage!G:G,MATCH(P4,Parametrage!H:H,0)),"") | Z4: =IFERROR(INDEX(Parametrage!K:K,MATCH(P4,Parametrage!L:L,0)),"") | AC4: Pâques | AD4: =+#REF! -> #REF! | AE4: =+#REF! -> #REF!
A5: =IFERROR(_xlfn.ISOWEEKNUM(B5),"") -> 35 | B5: =B4+1 -> 45172 | C5: =+IFERROR(INDEX(#REF!,MATCH(B5,#REF!,0)),"") | D5: =IFERROR(INDEX(#REF!,MATCH(A5,#REF!,0)),"") | E5: =IFERROR(INDEX(#REF!,MATCH($A5,#REF!,0)),"") | F5: =IFERROR(INDEX(#REF!,MATCH($A5,#REF!,0)),"") | G5: =IFERROR(INDEX(#REF!,MATCH($A5,#REF!,0)),"") | H5: =IFERROR(INDEX(#REF!,MATCH($A5,#REF!,0)),"") | J5: =IFERROR(INDEX(Parametrage!D:D,MATCH(B5,Parametrage!F:F,0)),"") | K5: =IFERROR(INDEX(Parametrage!I:I,MATCH(B5,Parametrage!J:J,0)),"") | L5: =IFERROR(INDEX(Parametrage!G:G,MATCH(B5,Parametrage!H:H,0)),"") | M5: =IFERROR(INDEX(Parametrage!K:K,MATCH(B5,Parametrage!L:L,0)),"") | O5: =IFERROR(_xlfn.ISOWEEKNUM(P5),"") -> 40 | P5: =P4+1 -> 45202 | Q5: =+IFERROR(INDEX(#REF!,MATCH(P5,#REF!,0)),"") | R5: =IFERROR(INDEX(#REF!,MATCH(O5,#REF!,0)),"") | S5: =IFERROR(INDEX(#REF!,MATCH($O5,#REF!,0)),"") | T5: =IFERROR(INDEX(#REF!,MATCH($O5,#REF!,0)),"") | U5: =IFERROR(INDEX(#REF!,MATCH($O5,#REF!,0)),"") | V5: =IFERROR(INDEX(#REF!,MATCH($O5,#REF!,0)),"") | W5: =IFERROR(INDEX(Parametrage!D:D,MATCH(P5,Parametrage!F:F,0)),"") | X5: =IFERROR(INDEX(Parametrage!I:I,MATCH(P5,Parametrage!J:J,0)),"") | Y5: =IFERROR(INDEX(Parametrage!G:G,MATCH(P5,Parametrage!H:H,0)),"") | Z5: =IFERROR(INDEX(Parametrage!K:K,MATCH(P5,Parametrage!L:L,0)),"") | AC5: Lundi de pâques | AD5: =+#REF! -> #REF! | AE5: =+#REF! -> #REF!
A6: =IFERROR(_xlfn.ISOWEEKNUM(B6),"") -> 36 | B6: =B5+1 -> 45173 | C6: =+IFERROR(INDEX(#REF!,MATCH(B6,#REF!,0)),"") | D6: =IFERROR(INDEX(#REF!,MATCH(A6,#REF!,0)),"") | E6: =IFERROR(INDEX(#REF!,MATCH($A6,#REF!,0)),"") | F6: =IFERROR(INDEX(#REF!,MATCH($A6,#REF!,0)),"") | G6: =IFERROR(INDEX(#REF!,MATCH($A6,#REF!,0)),"") | H6: =IFERROR(INDEX(#REF!,MATCH($A6,#REF!,0)),"") | J6: =IFERROR(INDEX(Parametrage!D:D,MATCH(B6,Parametrage!F:F,0)),"") | K6: =IFERROR(INDEX(Parametrage!I:I,MATCH(B6,Parametrage!J:J,0)),"") | L6: =IFERROR(INDEX(Parametrage!G:G,MATCH(B6,Parametrage!H:H,0)),"") | M6: =IFERROR(INDEX(Parametrage!K:K,MATCH(B6,Parametrage!L:L,0)),"") | O6: =IFERROR(_xlfn.ISOWEEKNUM(P6),"") -> 40 | P6: =P5+1 -> 45203 | Q6: =+IFERROR(INDEX(#REF!,MATCH(P6,#REF!,0)),"") | R6: =IFERROR(INDEX(#REF!,MATCH(O6,#REF!,0)),"") | S6: =IFERROR(INDEX(#REF!,MATCH($O6,#REF!,0)),"") | T6: =IFERROR(INDEX(#REF!,MATCH($O6,#REF!,0)),"") | U6: =IFERROR(INDEX(#REF!,MATCH($O6,#REF!,0)),"") | V6: =IFERROR(INDEX(#REF!,MATCH($O6,#REF!,0)),"") | W6: =IFERROR(INDEX(Parametrage!D:D,MATCH(P6,Parametrage!F:F,0)),"") | X6: =IFERROR(INDEX(Parametrage!I:I,MATCH(P6,Parametrage!J:J,0)),"") | Y6: =IFERROR(INDEX(Parametrage!G:G,MATCH(P6,Parametrage!H:H,0)),"") | Z6: =IFERROR(INDEX(Parametrage!K:K,MATCH(P6,Parametrage!L:L,0)),"") | AC6: Fête deu travail | AD6: =+#REF! -> #REF! | AE6: =+#REF! -> #REF!
A7: =IFERROR(_xlfn.ISOWEEKNUM(B7),"") -> 36 | B7: =B6+1 -> 45174 | C7: bb | D7: nn | E7: dd | F7: rr | G7: tt | H7: yy | J7: rr | K7: tt | L7: yy | M7: uu | O7: =IFERROR(_xlfn.ISOWEEKNUM(P7),"") -> 40 | P7: =P6+1 -> 45204 | Q7: =+IFERROR(INDEX(#REF!,MATCH(P7,#REF!,0)),"") | R7: =IFERROR(INDEX(#REF!,MATCH(O7,#REF!,0)),"") | S7: =IFERROR(INDEX(#REF!,MATCH($O7,#REF!,0)),"") | T7: =IFERROR(INDEX(#REF!,MATCH($O7,#REF!,0)),"") | U7: =IFERROR(INDEX(#REF!,MATCH($O7,#REF!,0)),"") | V7: =IFERROR(INDEX(#REF!,MATCH($O7,#REF!,0)),"") | W7: =IFERROR(INDEX(Parametrage!D:D,MATCH(P7,Parametrage!F:F,0)),"") | X7: =IFERROR(INDEX(Parametrage!I:I,MATCH(P7,Parametrage!J:J,0)),"") | Y7: =IFERROR(INDEX(Parametrage!G:G,MATCH(P7,Parametrage!H:H,0)),"") | Z7: =IFERROR(INDEX(Parametrage!K:K,MATCH(P7,Parametrage!L:L,0)),"") | AC7: Armistice 39/45 | AD7: =+#REF! -> #REF! | AE7: =+#REF! -> #REF!
A8: =IFERROR(_xlfn.ISOWEEKNUM(B8),"") -> 36 | B8: =B7+1 -> 45175 | C8: =+IFERROR(INDEX(#REF!,MATCH(B8,#REF!,0)),"") | D8: ff | E8: =IFERROR(INDEX(#REF!,MATCH($A8,#REF!,0)),"") | F8: =IFERROR(INDEX(#REF!,MATCH($A8,#REF!,0)),"") | G8: =IFERROR(INDEX(#REF!,MATCH($A8,#REF!,0)),"") | H8: =IFERROR(INDEX(#REF!,MATCH($A8,#REF!,0)),"") | J8: =IFERROR(INDEX(Parametrage!D:D,MATCH(B8,Parametrage!F:F,0)),"") | K8: =IFERROR(INDEX(Parametrage!I:I,MATCH(B8,Parametrage!J:J,0)),"") | L8: =IFERROR(INDEX(Parametrage!G:G,MATCH(B8,Parametrage!H:H,0)),"") | M8: =IFERROR(INDEX(Parametrage!K:K,MATCH(B8,Parametrage!L:L,0)),"") | O8: =IFERROR(_xlfn.ISOWEEKNUM(P8),"") -> 40 | P8: =P7+1 -> 45205 | Q8: =+IFERROR(INDEX(#REF!,MATCH(P8,#REF!,0)),"") | R8: =IFERROR(INDEX(#REF!,MATCH(O8,#REF!,0)),"") | S8: =IFERROR(INDEX(#REF!,MATCH($O8,#REF!,0)),"") | T8: =IFERROR(INDEX(#REF!,MATCH($O8,#REF!,0)),"") | U8: =IFERROR(INDEX(#REF!,MATCH($O8,#REF!,0)),"") | V8: =IFERROR(INDEX(#REF!,MATCH($O8,#REF!,0)),"") | W8: =IFERROR(INDEX(Parametrage!D:D,MATCH(P8,Parametrage!F:F,0)),"") | X8: =IFERROR(INDEX(Parametrage!I:I,MATCH(P8,Parametrage!J:J,0)),"") | Y8: =IFERROR(INDEX(Parametrage!G:G,MATCH(P8,Parametrage!H:H,0)),"") | Z8: =IFERROR(INDEX(Parametrage!K:K,MATCH(P8,Parametrage!L:L,0)),"") | AC8: Ascension | AD8: =+#REF! -> #REF! | AE8: =+#REF! -> #REF!
A9: =IFERROR(_xlfn.ISOWEEKNUM(B9),"") -> 36 | B9: =B8+1 -> 45176 | C9: =+IFERROR(INDEX(#REF!,MATCH(B9,#REF!,0)),"") | D9: =IFERROR(INDEX(#REF!,MATCH(A9,#REF!,0)),"") | E9: =IFERROR(INDEX(#REF!,MATCH($A9,#REF!,0)),"") | F9: =IFERROR(INDEX(#REF!,MATCH($A9,#REF!,0)),"") | G9: =IFERROR(INDEX(#REF!,MATCH($A9,#REF!,0)),"") | H9: =IFERROR(INDEX(#REF!,MATCH($A9,#REF!,0)),"") | J9: =IFERROR(INDEX(Parametrage!D:D,MATCH(B9,Parametrage!F:F,0)),"") | K9: =IFERROR(INDEX(Parametrage!I:I,MATCH(B9,Parametrage!J:J,0)),"") | L9: =IFERROR(INDEX(Parametrage!G:G,MATCH(B9,Parametrage!H:H,0)),"") | M9: =IFERROR(INDEX(Parametrage!K:K,MATCH(B9,Parametrage!L:L,0)),"") | O9: =IFERROR(_xlfn.ISOWEEKNUM(P9),"") -> 40 | P9: =P8+1 -> 45206 | Q9: =+IFERROR(INDEX(#REF!,MATCH(P9,#REF!,0)),"") | R9: =IFERROR(INDEX(#REF!,MATCH(O9,#REF!,0)),"") | S9: =IFERROR(INDEX(#REF!,MATCH($O9,#REF!,0)),"") | T9: =IFERROR(INDEX(#REF!,MATCH($O9,#REF!,0)),"") | U9: =IFERROR(INDEX(#REF!,MATCH($O9,#REF!,0)),"") | V9: =IFERROR(INDEX(#REF!,MATCH($O9,#REF!,0)),"") | W9: =IFERROR(INDEX(Parametrage!D:D,MATCH(P9,Parametrage!F:F,0)),"") | X9: =IFERROR(INDEX(Parametrage!I:I,MATCH(P9,Parametrage!J:J,0)),"") | Y9: =IFERROR(INDEX(Parametrage!G:G,MATCH(P9,Parametrage!H:H,0)),"") | Z9: =IFERROR(INDEX(Parametrage!K:K,MATCH(P9,Parametrage!L:L,0)),"") | AC9: Pentecôte | AD9: =+#REF! -> #REF! | AE9: =+#REF! -> #REF!
A10: =IFERROR(_xlfn.ISOWEEKNUM(B10),"") -> 36 | B10: =B9+1 -> 45177 | C10: =+IFERROR(INDEX(#REF!,MATCH(B10,#REF!,0)),"") | D10: =IFERROR(INDEX(#REF!,MATCH(A10,#REF!,0)),"") | E10: =IFERROR(INDEX(#REF!,MATCH($A10,#REF!,0)),"") | F10: =IFERROR(INDEX(#REF!,MATCH($A10,#REF!,0)),"") | G10: =IFERROR(INDEX(#REF!,MATCH($A10,#REF!,0)),"") | H10: =IFERROR(INDEX(#REF!,MATCH($A10,#REF!,0)),"") | J10: =IFERROR(INDEX(Parametrage!D:D,MATCH(B10,Parametrage!F:F,0)),"") | K10: =IFERROR(INDEX(Parametrage!I:I,MATCH(B10,Parametrage!J:J,0)),"") | L10: =IFERROR(INDEX(Parametrage!G:G,MATCH(B10,Parametrage!H:H,0)),"") | M10: =IFERROR(INDEX(Parametrage!K:K,MATCH(B10,Parametrage!L:L,0)),"") | O10: =IFERROR(_xlfn.ISOWEEKNUM(P10),"") -> 40 | P10: =P9+1 -> 45207 | Q10: =+IFERROR(INDEX(#REF!,MATCH(P10,#REF!,0)),"") | R10: =IFERROR(INDEX(#REF!,MATCH(O10,#REF!,0)),"") | S10: =IFERROR(INDEX(#REF!,MATCH($O10,#REF!,0)),"") | T10: =IFERROR(INDEX(#REF!,MATCH($O10,#REF!,0)),"") | U10: =IFERROR(INDEX(#REF!,MATCH($O10,#REF!,0)),"") | V10: =IFERROR(INDEX(#REF!,MATCH($O10,#REF!,0)),"") | W10: =IFERROR(INDEX(Parametrage!D:D,MATCH(P10,Parametrage!F:F,0)),"") | X10: =IFERROR(INDEX(Parametrage!I:I,MATCH(P10,Parametrage!J:J,0)),"") | Y10: =IFERROR(INDEX(Parametrage!G:G,MATCH(P10,Parametrage!H:H,0)),"") | Z10: =IFERROR(INDEX(Parametrage!K:K,MATCH(P10,Parametrage!L:L,0)),"") | AC10: Lundi de Pentecôte | AD10: =+#REF! -> #REF! | AE10: =+#REF! -> #REF!
A11: =IFERROR(_xlfn.ISOWEEKNUM(B11),"") -> 36 | B11: =B10+1 -> 45178 | C11: =+IFERROR(INDEX(#REF!,MATCH(B11,#REF!,0)),"") | D11: =IFERROR(INDEX(#REF!,MATCH(A11,#REF!,0)),"") | E11: =IFERROR(INDEX(#REF!,MATCH($A11,#REF!,0)),"") | F11: =IFERROR(INDEX(#REF!,MATCH($A11,#REF!,0)),"") | G11: =IFERROR(INDEX(#REF!,MATCH($A11,#REF!,0)),"") | H11: =IFERROR(INDEX(#REF!,MATCH($A11,#REF!,0)),"") | J11: =IFERROR(INDEX(Parametrage!D:D,MATCH(B11,Parametrage!F:F,0)),"") | K11: =IFERROR(INDEX(Parametrage!I:I,MATCH(B11,Parametrage!J:J,0)),"") | L11: =IFERROR(INDEX(Parametrage!G:G,MATCH(B11,Parametrage!H:H,0)),"") | M11: =IFERROR(INDEX(Parametrage!K:K,MATCH(B11,Parametrage!L:L,0)),"") | O11: =IFERROR(_xlfn.ISOWEEKNUM(P11),"") -> 41 | P11: =P10+1 -> 45208 | Q11: =+IFERROR(INDEX(#REF!,MATCH(P11,#REF!,0)),"") | R11: =IFERROR(INDEX(#REF!,MATCH(O11,#REF!,0)),"") | S11: =IFERROR(INDEX(#REF!,MATCH($O11,#REF!,0)),"") | T11: =IFERROR(INDEX(#REF!,MATCH($O11,#REF!,0)),"") | U11: =IFERROR(INDEX(#REF!,MATCH($O11,#REF!,0)),"") | V11: =IFERROR(INDEX(#REF!,MATCH($O11,#REF!,0)),"") | W11: =IFERROR(INDEX(Parametrage!D:D,MATCH(P11,Parametrage!F:F,0)),"") | X11: =IFERROR(INDEX(Parametrage!I:I,MATCH(P11,Parametrage!J:J,0)),"") | Y11: =IFERROR(INDEX(Parametrage!G:G,MATCH(P11,Parametrage!H:H,0)),"") | Z11: =IFERROR(INDEX(Parametrage!K:K,MATCH(P11,Parametrage!L:L,0)),"") | AC11: Fête nationale | AD11: =+#REF! -> #REF! | AE11: =+#REF! -> #REF!
A12: =IFERROR(_xlfn.ISOWEEKNUM(B12),"") -> 36 | B12: =B11+1 -> 45179 | C12: =+IFERROR(INDEX(#REF!,MATCH(B12,#REF!,0)),"") | D12: =IFERROR(INDEX(#REF!,MATCH(A12,#REF!,0)),"") | E12: =IFERROR(INDEX(#REF!,MATCH($A12,#REF!,0)),"") | F12: =IFERROR(INDEX(#REF!,MATCH($A12,#REF!,0)),"") | G12: =IFERROR(INDEX(#REF!,MATCH($A12,#REF!,0)),"") | H12: =IFERROR(INDEX(#REF!,MATCH($A12,#REF!,0)),"") | J12: =IFERROR(INDEX(Parametrage!D:D,MATCH(B12,Parametrage!F:F,0)),"") | K12: =IFERROR(INDEX(Parametrage!I:I,MATCH(B12,Parametrage!J:J,0)),"") | L12: =IFERROR(INDEX(Parametrage!G:G,MATCH(B12,Parametrage!H:H,0)),"") | M12: =IFERROR(INDEX(Parametrage!K:K,MATCH(B12,Parametrage!L:L,0)),"") | O12: =IFERROR(_xlfn.ISOWEEKNUM(P12),"") -> 41 | P12: =P11+1 -> 45209 | Q12: =+IFERROR(INDEX(#REF!,MATCH(P12,#REF!,0)),"") | R12: =IFERROR(INDEX(#REF!,MATCH(O12,#REF!,0)),"") | S12: =IFERROR(INDEX(#REF!,MATCH($O12,#REF!,0)),"") | T12: =IFERROR(INDEX(#REF!,MATCH($O12,#REF!,0)),"") | U12: =IFERROR(INDEX(#REF!,MATCH($O12,#REF!,0)),"") | V12: =IFERROR(INDEX(#REF!,MATCH($O12,#REF!,0)),"") | W12: =IFERROR(INDEX(Parametrage!D:D,MATCH(P12,Parametrage!F:F,0)),"") | X12: =IFERROR(INDEX(Parametrage!I:I,MATCH(P12,Parametrage!J:J,0)),"") | Y12: =IFERROR(INDEX(Parametrage!G:G,MATCH(P12,Parametrage!H:H,0)),"") | Z12: =IFERROR(INDEX(Parametrage!K:K,MATCH(P12,Parametrage!L:L,0)),"") | AC12: Asomption | AD12: =+#REF! -> #REF! | AE12: =+#REF! -> #REF!
A13: =IFERROR(_xlfn.ISOWEEKNUM(B13),"") -> 37 | B13: =B12+1 -> 45180 | C13: =+IFERROR(INDEX(#REF!,MATCH(B13,#REF!,0)),"") | D13: =IFERROR(INDEX(#REF!,MATCH(A13,#REF!,0)),"") | E13: =IFERROR(INDEX(#REF!,MATCH($A13,#REF!,0)),"") | F13: =IFERROR(INDEX(#REF!,MATCH($A13,#REF!,0)),"") | G13: =IFERROR(INDEX(#REF!,MATCH($A13,#REF!,0)),"") | H13: =IFERROR(INDEX(#REF!,MATCH($A13,#REF!,0)),"") | J13: =IFERROR(INDEX(Parametrage!D:D,MATCH(B13,Parametrage!F:F,0)),"") | K13: =IFERROR(INDEX(Parametrage!I:I,MATCH(B13,Parametrage!J:J,0)),"") | L13: =IFERROR(INDEX(Parametrage!G:G,MATCH(B13,Parametrage!H:H,0)),"") | M13: =IFERROR(INDEX(Parametrage!K:K,MATCH(B13,Parametrage!L:L,0)),"") | O13: =IFERROR(_xlfn.ISOWEEKNUM(P13),"") -> 41 | P13: =P12+1 -> 45210 | Q13: =+IFERROR(INDEX(#REF!,MATCH(P13,#REF!,0)),"") | R13: =IFERROR(INDEX(#REF!,MATCH(O13,#REF!,0)),"") | S13: =IFERROR(INDEX(#REF!,MATCH($O13,#REF!,0)),"") | T13: =IFERROR(INDEX(#REF!,MATCH($O13,#REF!,0)),"") | U13: =IFERROR(INDEX(#REF!,MATCH($O13,#REF!,0)),"") | V13: =IFERROR(INDEX(#REF!,MATCH($O13,#REF!,0)),"") | W13: =IFERROR(INDEX(Parametrage!D:D,MATCH(P13,Parametrage!F:F,0)),"") | X13: =IFERROR(INDEX(Parametrage!I:I,MATCH(P13,Parametrage!J:J,0)),"") | Y13: =IFERROR(INDEX(Parametrage!G:G,MATCH(P13,Parametrage!H:H,0)),"") | Z13: =IFERROR(INDEX(Parametrage!K:K,MATCH(P13,Parametrage!L:L,0)),"") | AC13: Toussaint | AD13: =+#REF! -> #REF! | AE13: =+#REF! -> #REF!
A14: =IFERROR(_xlfn.ISOWEEKNUM(B14),"") -> 37 | B14: =B13+1 -> 45181 | C14: =+IFERROR(INDEX(#REF!,MATCH(B14,#REF!,0)),"") | D14: =IFERROR(INDEX(#REF!,MATCH(A14,#REF!,0)),"") | E14: =IFERROR(INDEX(#REF!,MATCH($A14,#REF!,0)),"") | F14: =IFERROR(INDEX(#REF!,MATCH($A14,#REF!,0)),"") | G14: =IFERROR(INDEX(#REF!,MATCH($A14,#REF!,0)),"") | H14: =IFERROR(INDEX(#REF!,MATCH($A14,#REF!,0)),"") | J14: =IFERROR(INDEX(Parametrage!D:D,MATCH(B14,Parametrage!F:F,0)),"") | K14: =IFERROR(INDEX(Parametrage!I:I,MATCH(B14,Parametrage!J:J,0)),"") | L14: =IFERROR(INDEX(Parametrage!G:G,MATCH(B14,Parametrage!H:H,0)),"") | M14: =IFERROR(INDEX(Parametrage!K:K,MATCH(B14,Parametrage!L:L,0)),"") | O14: =IFERROR(_xlfn.ISOWEEKNUM(P14),"") -> 41 | P14: =P13+1 -> 45211 | Q14: =+IFERROR(INDEX(#REF!,MATCH(P14,#REF!,0)),"") | R14: =IFERROR(INDEX(#REF!,MATCH(O14,#REF!,0)),"") | S14: =IFERROR(INDEX(#REF!,MATCH($O14,#REF!,0)),"") | T14: =IFERROR(INDEX(#REF!,MATCH($O14,#REF!,0)),"") | U14: =IFERROR(INDEX(#REF!,MATCH($O14,#REF!,0)),"") | V14: =IFERROR(INDEX(#REF!,MATCH($O14,#REF!,0)),"") | W14: =IFERROR(INDEX(Parametrage!D:D,MATCH(P14,Parametrage!F:F,0)),"") | X14: =IFERROR(INDEX(Parametrage!I:I,MATCH(P14,Parametrage!J:J,0)),"") | Y14: =IFERROR(INDEX(Parametrage!G:G,MATCH(P14,Parametrage!H:H,0)),"") | Z14: =IFERROR(INDEX(Parametrage!K:K,MATCH(P14,Parametrage!L:L,0)),"") | AC14: Armistice 14/18 | AD14: =+#REF! -> #REF! | AE14: =+#REF! -> #REF!
A15: =IFERROR(_xlfn.ISOWEEKNUM(B15),"") -> 37 | B15: =B14+1 -> 45182 | C15: =+IFERROR(INDEX(#REF!,MATCH(B15,#REF!,0)),"") | D15: =IFERROR(INDEX(#REF!,MATCH(A15,#REF!,0)),"") | E15: =IFERROR(INDEX(#REF!,MATCH($A15,#REF!,0)),"") | F15: =IFERROR(INDEX(#REF!,MATCH($A15,#REF!,0)),"") | G15: =IFERROR(INDEX(#REF!,MATCH($A15,#REF!,0)),"") | H15: =IFERROR(INDEX(#REF!,MATCH($A15,#REF!,0)),"") | J15: =IFERROR(INDEX(Parametrage!D:D,MATCH(B15,Parametrage!F:F,0)),"") | K15: =IFERROR(INDEX(Parametrage!I:I,MATCH(B15,Parametrage!J:J,0)),"") | L15: =IFERROR(INDEX(Parametrage!G:G,MATCH(B15,Parametrage!H:H,0)),"") | M15: =IFERROR(INDEX(Parametrage!K:K,MATCH(B15,Parametrage!L:L,0)),"") | O15: =IFERROR(_xlfn.ISOWEEKNUM(P15),"") -> 41 | P15: =P14+1 -> 45212 | Q15: =+IFERROR(INDEX(#REF!,MATCH(P15,#REF!,0)),"") | R15: =IFERROR(INDEX(#REF!,MATCH(O15,#REF!,0)),"") | S15: =IFERROR(INDEX(#REF!,MATCH($O15,#REF!,0)),"") | T15: =IFERROR(INDEX(#REF!,MATCH($O15,#REF!,0)),"") | U15: =IFERROR(INDEX(#REF!,MATCH($O15,#REF!,0)),"") | V15: =IFERROR(INDEX(#REF!,MATCH($O15,#REF!,0)),"") | W15: =IFERROR(INDEX(Parametrage!D:D,MATCH(P15,Parametrage!F:F,0)),"") | X15: =IFERROR(INDEX(Parametrage!I:I,MATCH(P15,Parametrage!J:J,0)),"") | Y15: =IFERROR(INDEX(Parametrage!G:G,MATCH(P15,Parametrage!H:H,0)),"") | Z15: =IFERROR(INDEX(Parametrage!K:K,MATCH(P15,Parametrage!L:L,0)),"") | AC15: Noël | AD15: =+#REF! -> #REF! | AE15: =+#REF! -> #REF!
A16: =IFERROR(_xlfn.ISOWEEKNUM(B16),"") -> 37 | B16: =B15+1 -> 45183 | C16: =+IFERROR(INDEX(#REF!,MATCH(B16,#REF!,0)),"") | D16: =IFERROR(INDEX(#REF!,MATCH(A16,#REF!,0)),"") | E16: =IFERROR(INDEX(#REF!,MATCH($A16,#REF!,0)),"") | F16: =IFERROR(INDEX(#REF!,MATCH($A16,#REF!,0)),"") | G16: =IFERROR(INDEX(#REF!,MATCH($A16,#REF!,0)),"") | H16: =IFERROR(INDEX(#REF!,MATCH($A16,#REF!,0)),"") | J16: =IFERROR(INDEX(Parametrage!D:D,MATCH(B16,Parametrage!F:F,0)),"") | K16: =IFERROR(INDEX(Parametrage!I:I,MATCH(B16,Parametrage!J:J,0)),"") | L16: =IFERROR(INDEX(Parametrage!G:G,MATCH(B16,Parametrage!H:H,0)),"") | M16: =IFERROR(INDEX(Parametrage!K:K,MATCH(B16,Parametrage!L:L,0)),"") | O16: =IFERROR(_xlfn.ISOWEEKNUM(P16),"") -> 41 | P16: =P15+1 -> 45213 | Q16: =+IFERROR(INDEX(#REF!,MATCH(P16,#REF!,0)),"") | R16: =IFERROR(INDEX(#REF!,MATCH(O16,#REF!,0)),"") | S16: =IFERROR(INDEX(#REF!,MATCH($O16,#REF!,0)),"") | T16: =IFERROR(INDEX(#REF!,MATCH($O16,#REF!,0)),"") | U16: =IFERROR(INDEX(#REF!,MATCH($O16,#REF!,0)),"") | V16: =IFERROR(INDEX(#REF!,MATCH($O16,#REF!,0)),"") | W16: =IFERROR(INDEX(Parametrage!D:D,MATCH(P16,Parametrage!F:F,0)),"") | X16: =IFERROR(INDEX(Parametrage!I:I,MATCH(P16,Parametrage!J:J,0)),"") | Y16: =IFERROR(INDEX(Parametrage!G:G,MATCH(P16,Parametrage!H:H,0)),"") | Z16: =IFERROR(INDEX(Parametrage!K:K,MATCH(P16,Parametrage!L:L,0)),"")
A17: =IFERROR(_xlfn.ISOWEEKNUM(B17),"") -> 37 | B17: =B16+1 -> 45184 | C17: =+IFERROR(INDEX(#REF!,MATCH(B17,#REF!,0)),"") | D17: =IFERROR(INDEX(#REF!,MATCH(A17,#REF!,0)),"") | E17: =IFERROR(INDEX(#REF!,MATCH($A17,#REF!,0)),"") | F17: =IFERROR(INDEX(#REF!,MATCH($A17,#REF!,0)),"") | G17: =IFERROR(INDEX(#REF!,MATCH($A17,#REF!,0)),"") | H17: =IFERROR(INDEX(#REF!,MATCH($A17,#REF!,0)),"") | J17: =IFERROR(INDEX(Parametrage!D:D,MATCH(B17,Parametrage!F:F,0)),"") | K17: =IFERROR(INDEX(Parametrage!I:I,MATCH(B17,Parametrage!J:J,0)),"") | L17: =IFERROR(INDEX(Parametrage!G:G,MATCH(B17,Parametrage!H:H,0)),"") | M17: =IFERROR(INDEX(Parametrage!K:K,MATCH(B17,Parametrage!L:L,0)),"") | O17: =IFERROR(_xlfn.ISOWEEKNUM(P17),"") -> 41 | P17: =P16+1 -> 45214 | Q17: =+IFERROR(INDEX(#REF!,MATCH(P17,#REF!,0)),"") | R17: =IFERROR(INDEX(#REF!,MATCH(O17,#REF!,0)),"") | S17: =IFERROR(INDEX(#REF!,MATCH($O17,#REF!,0)),"") | T17: =IFERROR(INDEX(#REF!,MATCH($O17,#REF!,0)),"") | U17: =IFERROR(INDEX(#REF!,MATCH($O17,#REF!,0)),"") | V17: =IFERROR(INDEX(#REF!,MATCH($O17,#REF!,0)),"") | W17: =IFERROR(INDEX(Parametrage!D:D,MATCH(P17,Parametrage!F:F,0)),"") | X17: =IFERROR(INDEX(Parametrage!I:I,MATCH(P17,Parametrage!J:J,0)),"") | Y17: =IFERROR(INDEX(Parametrage!G:G,MATCH(P17,Parametrage!H:H,0)),"") | Z17: =IFERROR(INDEX(Parametrage!K:K,MATCH(P17,Parametrage!L:L,0)),"") | AD17: Semaine
A18: =IFERROR(_xlfn.ISOWEEKNUM(B18),"") -> 37 | B18: =B17+1 -> 45185 | C18: =+IFERROR(INDEX(#REF!,MATCH(B18,#REF!,0)),"") | D18: =IFERROR(INDEX(#REF!,MATCH(A18,#REF!,0)),"") | E18: =IFERROR(INDEX(#REF!,MATCH($A18,#REF!,0)),"") | F18: =IFERROR(INDEX(#REF!,MATCH($A18,#REF!,0)),"") | G18: =IFERROR(INDEX(#REF!,MATCH($A18,#REF!,0)),"") | H18: =IFERROR(INDEX(#REF!,MATCH($A18,#REF!,0)),"") | J18: =IFERROR(INDEX(Parametrage!D:D,MATCH(B18,Parametrage!F:F,0)),"") | K18: =IFERROR(INDEX(Parametrage!I:I,MATCH(B18,Parametrage!J:J,0)),"") | L18: =IFERROR(INDEX(Parametrage!G:G,MATCH(B18,Parametrage!H:H,0)),"") | M18: =IFERROR(INDEX(Parametrage!K:K,MATCH(B18,Parametrage!L:L,0)),"") | O18: =IFERROR(_xlfn.ISOWEEKNUM(P18),"") -> 42 | P18: =P17+1 -> 45215 | Q18: =+IFERROR(INDEX(#REF!,MATCH(P18,#REF!,0)),"") | R18: =IFERROR(INDEX(#REF!,MATCH(O18,#REF!,0)),"") | S18: =IFERROR(INDEX(#REF!,MATCH($O18,#REF!,0)),"") | T18: =IFERROR(INDEX(#REF!,MATCH($O18,#REF!,0)),"") | U18: =IFERROR(INDEX(#REF!,MATCH($O18,#REF!,0)),"") | V18: =IFERROR(INDEX(#REF!,MATCH($O18,#REF!,0)),"") | W18: =IFERROR(INDEX(Parametrage!D:D,MATCH(P18,Parametrage!F:F,0)),"") | X18: =IFERROR(INDEX(Parametrage!I:I,MATCH(P18,Parametrage!J:J,0)),"") | Y18: =IFERROR(INDEX(Parametrage!G:G,MATCH(P18,Parametrage!H:H,0)),"") | Z18: =IFERROR(INDEX(Parametrage!K:K,MATCH(P18,Parametrage!L:L,0)),"") | AC18: =+#REF! -> #REF! | AD18: =+#REF! -> #REF!
A19: =IFERROR(_xlfn.ISOWEEKNUM(B19),"") -> 37 | B19: =B18+1 -> 45186 | C19: =+IFERROR(INDEX(#REF!,MATCH(B19,#REF!,0)),"") | D19: =IFERROR(INDEX(#REF!,MATCH(A19,#REF!,0)),"") | E19: =IFERROR(INDEX(#REF!,MATCH($A19,#REF!,0)),"") | F19: =IFERROR(INDEX(#REF!,MATCH($A19,#REF!,0)),"") | G19: =IFERROR(INDEX(#REF!,MATCH($A19,#REF!,0)),"") | H19: =IFERROR(INDEX(#REF!,MATCH($A19,#REF!,0)),"") | J19: =IFERROR(INDEX(Parametrage!D:D,MATCH(B19,Parametrage!F:F,0)),"") | K19: =IFERROR(INDEX(Parametrage!I:I,MATCH(B19,Parametrage!J:J,0)),"") | L19: =IFERROR(INDEX(Parametrage!G:G,MATCH(B19,Parametrage!H:H,0)),"") | M19: =IFERROR(INDEX(Parametrage!K:K,MATCH(B19,Parametrage!L:L,0)),"") | O19: =IFERROR(_xlfn.ISOWEEKNUM(P19),"") -> 42 | P19: =P18+1 -> 45216 | Q19: =+IFERROR(INDEX(#REF!,MATCH(P19,#REF!,0)),"") | R19: =IFERROR(INDEX(#REF!,MATCH(O19,#REF!,0)),"") | S19: =IFERROR(INDEX(#REF!,MATCH($O19,#REF!,0)),"") | T19: =IFERROR(INDEX(#REF!,MATCH($O19,#REF!,0)),"") | U19: =IFERROR(INDEX(#REF!,MATCH($O19,#REF!,0)),"") | V19: =IFERROR(INDEX(#REF!,MATCH($O19,#REF!,0)),"") | W19: =IFERROR(INDEX(Parametrage!D:D,MATCH(P19,Parametrage!F:F,0)),"") | X19: =IFERROR(INDEX(Parametrage!I:I,MATCH(P19,Parametrage!J:J,0)),"") | Y19: =IFERROR(INDEX(Parametrage!G:G,MATCH(P19,Parametrage!H:H,0)),"") | Z19: =IFERROR(INDEX(Parametrage!K:K,MATCH(P19,Parametrage!L:L,0)),"") | AD19: =+#REF! -> #REF!
A20: =IFERROR(_xlfn.ISOWEEKNUM(B20),"") -> 38 | B20: =B19+1 -> 45187 | C20: =+IFERROR(INDEX(#REF!,MATCH(B20,#REF!,0)),"") | D20: =IFERROR(INDEX(#REF!,MATCH(A20,#REF!,0)),"") | E20: =IFERROR(INDEX(#REF!,MATCH($A20,#REF!,0)),"") | F20: =IFERROR(INDEX(#REF!,MATCH($A20,#REF!,0)),"") | G20: =IFERROR(INDEX(#REF!,MATCH($A20,#REF!,0)),"") | H20: =IFERROR(INDEX(#REF!,MATCH($A20,#REF!,0)),"") | J20: =IFERROR(INDEX(Parametrage!D:D,MATCH(B20,Parametrage!F:F,0)),"") | K20: =IFERROR(INDEX(Parametrage!I:I,MATCH(B20,Parametrage!J:J,0)),"") | L20: =IFERROR(INDEX(Parametrage!G:G,MATCH(B20,Parametrage!H:H,0)),"") | M20: =IFERROR(INDEX(Parametrage!K:K,MATCH(B20,Parametrage!L:L,0)),"") | O20: =IFERROR(_xlfn.ISOWEEKNUM(P20),"") -> 42 | P20: =P19+1 -> 45217 | Q20: =+IFERROR(INDEX(#REF!,MATCH(P20,#REF!,0)),"") | R20: =IFERROR(INDEX(#REF!,MATCH(O20,#REF!,0)),"") | S20: =IFERROR(INDEX(#REF!,MATCH($O20,#REF!,0)),"") | T20: =IFERROR(INDEX(#REF!,MATCH($O20,#REF!,0)),"") | U20: =IFERROR(INDEX(#REF!,MATCH($O20,#REF!,0)),"") | V20: =IFERROR(INDEX(#REF!,MATCH($O20,#REF!,0)),"") | W20: =IFERROR(INDEX(Parametrage!D:D,MATCH(P20,Parametrage!F:F,0)),"") | X20: =IFERROR(INDEX(Parametrage!I:I,MATCH(P20,Parametrage!J:J,0)),"") | Y20: =IFERROR(INDEX(Parametrage!G:G,MATCH(P20,Parametrage!H:H,0)),"") | Z20: =IFERROR(INDEX(Parametrage!K:K,MATCH(P20,Parametrage!L:L,0)),"") | AC20: =+#REF! -> #REF! | AD20: =+#REF! -> #REF!
A21: =IFERROR(_xlfn.ISOWEEKNUM(B21),"") -> 38 | B21: =B20+1 -> 45188 | C21: =+IFERROR(INDEX(#REF!,MATCH(B21,#REF!,0)),"") | D21: =IFERROR(INDEX(#REF!,MATCH(A21,#REF!,0)),"") | E21: =IFERROR(INDEX(#REF!,MATCH($A21,#REF!,0)),"") | F21: =IFERROR(INDEX(#REF!,MATCH($A21,#REF!,0)),"") | G21: =IFERROR(INDEX(#REF!,MATCH($A21,#REF!,0)),"") | H21: =IFERROR(INDEX(#REF!,MATCH($A21,#REF!,0)),"") | J21: =IFERROR(INDEX(Parametrage!D:D,MATCH(B21,Parametrage!F:F,0)),"") | K21: =IFERROR(INDEX(Parametrage!I:I,MATCH(B21,Parametrage!J:J,0)),"") | L21: =IFERROR(INDEX(Parametrage!G:G,MATCH(B21,Parametrage!H:H,0)),"") | M21: =IFERROR(INDEX(Parametrage!K:K,MATCH(B21,Parametrage!L:L,0)),"") | O21: =IFERROR(_xlfn.ISOWEEKNUM(P21),"") -> 42 | P21: =P20+1 -> 45218 | Q21: =+IFERROR(INDEX(#REF!,MATCH(P21,#REF!,0)),"") | R21: =IFERROR(INDEX(#REF!,MATCH(O21,#REF!,0)),"") | S21: =IFERROR(INDEX(#REF!,MATCH($O21,#REF!,0)),"") | T21: =IFERROR(INDEX(#REF!,MATCH($O21,#REF!,0)),"") | U21: =IFERROR(INDEX(#REF!,MATCH($O21,#REF!,0)),"") | V21: =IFERROR(INDEX(#REF!,MATCH($O21,#REF!,0)),"") | W21: =IFERROR(INDEX(Parametrage!D:D,MATCH(P21,Parametrage!F:F,0)),"") | X21: =IFERROR(INDEX(Parametrage!I:I,MATCH(P21,Parametrage!J:J,0)),"") | Y21: =IFERROR(INDEX(Parametrage!G:G,MATCH(P21,Parametrage!H:H,0)),"") | Z21: =IFERROR(INDEX(Parametrage!K:K,MATCH(P21,Parametrage!L:L,0)),"") | AD21: =+#REF! -> #REF!
A22: =IFERROR(_xlfn.ISOWEEKNUM(B22),"") -> 38 | B22: =B21+1 -> 45189 | C22: =+IFERROR(INDEX(#REF!,MATCH(B22,#REF!,0)),"") | D22: =IFERROR(INDEX(#REF!,MATCH(A22,#REF!,0)),"") | E22: =IFERROR(INDEX(#REF!,MATCH($A22,#REF!,0)),"") | F22: =IFERROR(INDEX(#REF!,MATCH($A22,#REF!,0)),"") | G22: =IFERROR(INDEX(#REF!,MATCH($A22,#REF!,0)),"") | H22: =IFERROR(INDEX(#REF!,MATCH($A22,#REF!,0)),"") | J22: =IFERROR(INDEX(Parametrage!D:D,MATCH(B22,Parametrage!F:F,0)),"") | K22: =IFERROR(INDEX(Parametrage!I:I,MATCH(B22,Parametrage!J:J,0)),"") | L22: =IFERROR(INDEX(Parametrage!G:G,MATCH(B22,Parametrage!H:H,0)),"") | M22: =IFERROR(INDEX(Parametrage!K:K,MATCH(B22,Parametrage!L:L,0)),"") | O22: =IFERROR(_xlfn.ISOWEEKNUM(P22),"") -> 42 | P22: =P21+1 -> 45219 | Q22: =+IFERROR(INDEX(#REF!,MATCH(P22,#REF!,0)),"") | R22: =IFERROR(INDEX(#REF!,MATCH(O22,#REF!,0)),"") | S22: =IFERROR(INDEX(#REF!,MATCH($O22,#REF!,0)),"") | T22: =IFERROR(INDEX(#REF!,MATCH($O22,#REF!,0)),"") | U22: =IFERROR(INDEX(#REF!,MATCH($O22,#REF!,0)),"") | V22: =IFERROR(INDEX(#REF!,MATCH($O22,#REF!,0)),"") | W22: =IFERROR(INDEX(Parametrage!D:D,MATCH(P22,Parametrage!F:F,0)),"") | X22: =IFERROR(INDEX(Parametrage!I:I,MATCH(P22,Parametrage!J:J,0)),"") | Y22: =IFERROR(INDEX(Parametrage!G:G,MATCH(P22,Parametrage!H:H,0)),"") | Z22: =IFERROR(INDEX(Parametrage!K:K,MATCH(P22,Parametrage!L:L,0)),"") | AC22: =+#REF! -> #REF! | AD22: =+#REF! -> #REF!
A23: =IFERROR(_xlfn.ISOWEEKNUM(B23),"") -> 38 | B23: =B22+1 -> 45190 | C23: =+IFERROR(INDEX(#REF!,MATCH(B23,#REF!,0)),"") | D23: =IFERROR(INDEX(#REF!,MATCH(A23,#REF!,0)),"") | E23: =IFERROR(INDEX(#REF!,MATCH($A23,#REF!,0)),"") | F23: =IFERROR(INDEX(#REF!,MATCH($A23,#REF!,0)),"") | G23: =IFERROR(INDEX(#REF!,MATCH($A23,#REF!,0)),"") | H23: =IFERROR(INDEX(#REF!,MATCH($A23,#REF!,0)),"") | J23: =IFERROR(INDEX(Parametrage!D:D,MATCH(B23,Parametrage!F:F,0)),"") | K23: =IFERROR(INDEX(Parametrage!I:I,MATCH(B23,Parametrage!J:J,0)),"") | L23: =IFERROR(INDEX(Parametrage!G:G,MATCH(B23,Parametrage!H:H,0)),"") | M23: =IFERROR(INDEX(Parametrage!K:K,MATCH(B23,Parametrage!L:L,0)),"") | O23: =IFERROR(_xlfn.ISOWEEKNUM(P23),"") -> 42 | P23: =P22+1 -> 45220 | Q23: =+IFERROR(INDEX(#REF!,MATCH(P23,#REF!,0)),"") | R23: =IFERROR(INDEX(#REF!,MATCH(O23,#REF!,0)),"") | S23: =IFERROR(INDEX(#REF!,MATCH($O23,#REF!,0)),"") | T23: =IFERROR(INDEX(#REF!,MATCH($O23,#REF!,0)),"") | U23: =IFERROR(INDEX(#REF!,MATCH($O23,#REF!,0)),"") | V23: =IFERROR(INDEX(#REF!,MATCH($O23,#REF!,0)),"") | W23: =IFERROR(INDEX(Parametrage!D:D,MATCH(P23,Parametrage!F:F,0)),"") | X23: =IFERROR(INDEX(Parametrage!I:I,MATCH(P23,Parametrage!J:J,0)),"") | Y23: =IFERROR(INDEX(Parametrage!G:G,MATCH(P23,Parametrage!H:H,0)),"") | Z23: =IFERROR(INDEX(Parametrage!K:K,MATCH(P23,Parametrage!L:L,0)),"") | AD23: =+#REF! -> #REF!
A24: =IFERROR(_xlfn.ISOWEEKNUM(B24),"") -> 38 | B24: =B23+1 -> 45191 | C24: =+IFERROR(INDEX(#REF!,MATCH(B24,#REF!,0)),"") | D24: =IFERROR(INDEX(#REF!,MATCH(A24,#REF!,0)),"") | E24: =IFERROR(INDEX(#REF!,MATCH($A24,#REF!,0)),"") | F24: =IFERROR(INDEX(#REF!,MATCH($A24,#REF!,0)),"") | G24: =IFERROR(INDEX(#REF!,MATCH($A24,#REF!,0)),"") | H24: =IFERROR(INDEX(#REF!,MATCH($A24,#REF!,0)),"") | J24: =IFERROR(INDEX(Parametrage!D:D,MATCH(B24,Parametrage!F:F,0)),"") | K24: =IFERROR(INDEX(Parametrage!I:I,MATCH(B24,Parametrage!J:J,0)),"") | L24: =IFERROR(INDEX(Parametrage!G:G,MATCH(B24,Parametrage!H:H,0)),"") | M24: =IFERROR(INDEX(Parametrage!K:K,MATCH(B24,Parametrage!L:L,0)),"") | O24: =IFERROR(_xlfn.ISOWEEKNUM(P24),"") -> 42 | P24: =P23+1 -> 45221 | Q24: =+IFERROR(INDEX(#REF!,MATCH(P24,#REF!,0)),"") | R24: =IFERROR(INDEX(#REF!,MATCH(O24,#REF!,0)),"") | S24: =IFERROR(INDEX(#REF!,MATCH($O24,#REF!,0)),"") | T24: =IFERROR(INDEX(#REF!,MATCH($O24,#REF!,0)),"") | U24: =IFERROR(INDEX(#REF!,MATCH($O24,#REF!,0)),"") | V24: =IFERROR(INDEX(#REF!,MATCH($O24,#REF!,0)),"") | W24: =IFERROR(INDEX(Parametrage!D:D,MATCH(P24,Parametrage!F:F,0)),"") | X24: =IFERROR(INDEX(Parametrage!I:I,MATCH(P24,Parametrage!J:J,0)),"") | Y24: =IFERROR(INDEX(Parametrage!G:G,MATCH(P24,Parametrage!H:H,0)),"") | Z24: =IFERROR(INDEX(Parametrage!K:K,MATCH(P24,Parametrage!L:L,0)),"") | AC24: =+#REF! -> #REF! | AD24: =+#REF! -> #REF!
A25: =IFERROR(_xlfn.ISOWEEKNUM(B25),"") -> 38 | B25: =B24+1 -> 45192 | C25: =+IFERROR(INDEX(#REF!,MATCH(B25,#REF!,0)),"") | D25: =IFERROR(INDEX(#REF!,MATCH(A25,#REF!,0)),"") | E25: =IFERROR(INDEX(#REF!,MATCH($A25,#REF!,0)),"") | F25: =IFERROR(INDEX(#REF!,MATCH($A25,#REF!,0)),"") | G25: =IFERROR(INDEX(#REF!,MATCH($A25,#REF!,0)),"") | H25: =IFERROR(INDEX(#REF!,MATCH($A25,#REF!,0)),"") | J25: =IFERROR(INDEX(Parametrage!D:D,MATCH(B25,Parametrage!F:F,0)),"") | K25: =IFERROR(INDEX(Parametrage!I:I,MATCH(B25,Parametrage!J:J,0)),"") | L25: =IFERROR(INDEX(Parametrage!G:G,MATCH(B25,Parametrage!H:H,0)),"") | M25: =IFERROR(INDEX(Parametrage!K:K,MATCH(B25,Parametrage!L:L,0)),"") | O25: =IFERROR(_xlfn.ISOWEEKNUM(P25),"") -> 43 | P25: =P24+1 -> 45222 | Q25: =+IFERROR(INDEX(#REF!,MATCH(P25,#REF!,0)),"") | R25: =IFERROR(INDEX(#REF!,MATCH(O25,#REF!,0)),"") | S25: =IFERROR(INDEX(#REF!,MATCH($O25,#REF!,0)),"") | T25: =IFERROR(INDEX(#REF!,MATCH($O25,#REF!,0)),"") | U25: =IFERROR(INDEX(#REF!,MATCH($O25,#REF!,0)),"") | V25: =IFERROR(INDEX(#REF!,MATCH($O25,#REF!,0)),"") | W25: =IFERROR(INDEX(Parametrage!D:D,MATCH(P25,Parametrage!F:F,0)),"") | X25: =IFERROR(INDEX(Parametrage!I:I,MATCH(P25,Parametrage!J:J,0)),"") | Y25: =IFERROR(INDEX(Parametrage!G:G,MATCH(P25,Parametrage!H:H,0)),"") | Z25: =IFERROR(INDEX(Parametrage!K:K,MATCH(P25,Parametrage!L:L,0)),"") | AD25: =+#REF! -> #REF!
A26: =IFERROR(_xlfn.ISOWEEKNUM(B26),"") -> 38 | B26: =B25+1 -> 45193 | C26: =+IFERROR(INDEX(#REF!,MATCH(B26,#REF!,0)),"") | D26: =IFERROR(INDEX(#REF!,MATCH(A26,#REF!,0)),"") | E26: =IFERROR(INDEX(#REF!,MATCH($A26,#REF!,0)),"") | F26: =IFERROR(INDEX(#REF!,MATCH($A26,#REF!,0)),"") | G26: =IFERROR(INDEX(#REF!,MATCH($A26,#REF!,0)),"") | H26: =IFERROR(INDEX(#REF!,MATCH($A26,#REF!,0)),"") | J26: =IFERROR(INDEX(Parametrage!D:D,MATCH(B26,Parametrage!F:F,0)),"") | K26: =IFERROR(INDEX(Parametrage!I:I,MATCH(B26,Parametrage!J:J,0)),"") | L26: =IFERROR(INDEX(Parametrage!G:G,MATCH(B26,Parametrage!H:H,0)),"") | M26: =IFERROR(INDEX(Parametrage!K:K,MATCH(B26,Parametrage!L:L,0)),"") | O26: =IFERROR(_xlfn.ISOWEEKNUM(P26),"") -> 43 | P26: =P25+1 -> 45223 | Q26: =+IFERROR(INDEX(#REF!,MATCH(P26,#REF!,0)),"") | R26: =IFERROR(INDEX(#REF!,MATCH(O26,#REF!,0)),"") | S26: =IFERROR(INDEX(#REF!,MATCH($O26,#REF!,0)),"") | T26: =IFERROR(INDEX(#REF!,MATCH($O26,#REF!,0)),"") | U26: =IFERROR(INDEX(#REF!,MATCH($O26,#REF!,0)),"") | V26: =IFERROR(INDEX(#REF!,MATCH($O26,#REF!,0)),"") | W26: =IFERROR(INDEX(Parametrage!D:D,MATCH(P26,Parametrage!F:F,0)),"") | X26: =IFERROR(INDEX(Parametrage!I:I,MATCH(P26,Parametrage!J:J,0)),"") | Y26: =IFERROR(INDEX(Parametrage!G:G,MATCH(P26,Parametrage!H:H,0)),"") | Z26: =IFERROR(INDEX(Parametrage!K:K,MATCH(P26,Parametrage!L:L,0)),"")
A27: =IFERROR(_xlfn.ISOWEEKNUM(B27),"") -> 39 | B27: =B26+1 -> 45194 | C27: =+IFERROR(INDEX(#REF!,MATCH(B27,#REF!,0)),"") | D27: =IFERROR(INDEX(#REF!,MATCH(A27,#REF!,0)),"") | E27: =IFERROR(INDEX(#REF!,MATCH($A27,#REF!,0)),"") | F27: =IFERROR(INDEX(#REF!,MATCH($A27,#REF!,0)),"") | G27: =IFERROR(INDEX(#REF!,MATCH($A27,#REF!,0)),"") | H27: =IFERROR(INDEX(#REF!,MATCH($A27,#REF!,0)),"") | J27: =IFERROR(INDEX(Parametrage!D:D,MATCH(B27,Parametrage!F:F,0)),"") | K27: =IFERROR(INDEX(Parametrage!I:I,MATCH(B27,Parametrage!J:J,0)),"") | L27: =IFERROR(INDEX(Parametrage!G:G,MATCH(B27,Parametrage!H:H,0)),"") | M27: =IFERROR(INDEX(Parametrage!K:K,MATCH(B27,Parametrage!L:L,0)),"") | O27: =IFERROR(_xlfn.ISOWEEKNUM(P27),"") -> 43 | P27: =P26+1 -> 45224 | Q27: =+IFERROR(INDEX(#REF!,MATCH(P27,#REF!,0)),"") | R27: =IFERROR(INDEX(#REF!,MATCH(O27,#REF!,0)),"") | S27: =IFERROR(INDEX(#REF!,MATCH($O27,#REF!,0)),"") | T27: =IFERROR(INDEX(#REF!,MATCH($O27,#REF!,0)),"") | U27: =IFERROR(INDEX(#REF!,MATCH($O27,#REF!,0)),"") | V27: =IFERROR(INDEX(#REF!,MATCH($O27,#REF!,0)),"") | W27: =IFERROR(INDEX(Parametrage!D:D,MATCH(P27,Parametrage!F:F,0)),"") | X27: =IFERROR(INDEX(Parametrage!I:I,MATCH(P27,Parametrage!J:J,0)),"") | Y27: =IFERROR(INDEX(Parametrage!G:G,MATCH(P27,Parametrage!H:H,0)),"") | Z27: =IFERROR(INDEX(Parametrage!K:K,MATCH(P27,Parametrage!L:L,0)),"")
A28: =IFERROR(_xlfn.ISOWEEKNUM(B28),"") -> 39 | B28: =B27+1 -> 45195 | C28: =+IFERROR(INDEX(#REF!,MATCH(B28,#REF!,0)),"") | D28: =IFERROR(INDEX(#REF!,MATCH(A28,#REF!,0)),"") | E28: =IFERROR(INDEX(#REF!,MATCH($A28,#REF!,0)),"") | F28: =IFERROR(INDEX(#REF!,MATCH($A28,#REF!,0)),"") | G28: =IFERROR(INDEX(#REF!,MATCH($A28,#REF!,0)),"") | H28: =IFERROR(INDEX(#REF!,MATCH($A28,#REF!,0)),"") | J28: =IFERROR(INDEX(Parametrage!D:D,MATCH(B28,Parametrage!F:F,0)),"") | K28: =IFERROR(INDEX(Parametrage!I:I,MATCH(B28,Parametrage!J:J,0)),"") | L28: =IFERROR(INDEX(Parametrage!G:G,MATCH(B28,Parametrage!H:H,0)),"") | M28: =IFERROR(INDEX(Parametrage!K:K,MATCH(B28,Parametrage!L:L,0)),"") | O28: =IFERROR(_xlfn.ISOWEEKNUM(P28),"") -> 43 | P28: =P27+1 -> 45225 | Q28: =+IFERROR(INDEX(#REF!,MATCH(P28,#REF!,0)),"") | R28: =IFERROR(INDEX(#REF!,MATCH(O28,#REF!,0)),"") | S28: =IFERROR(INDEX(#REF!,MATCH($O28,#REF!,0)),"") | T28: =IFERROR(INDEX(#REF!,MATCH($O28,#REF!,0)),"") | U28: =IFERROR(INDEX(#REF!,MATCH($O28,#REF!,0)),"") | V28: =IFERROR(INDEX(#REF!,MATCH($O28,#REF!,0)),"") | W28: =IFERROR(INDEX(Parametrage!D:D,MATCH(P28,Parametrage!F:F,0)),"") | X28: =IFERROR(INDEX(Parametrage!I:I,MATCH(P28,Parametrage!J:J,0)),"") | Y28: =IFERROR(INDEX(Parametrage!G:G,MATCH(P28,Parametrage!H:H,0)),"") | Z28: =IFERROR(INDEX(Parametrage!K:K,MATCH(P28,Parametrage!L:L,0)),"")
A29: =IFERROR(_xlfn.ISOWEEKNUM(B29),"") -> 39 | B29: =B28+1 -> 45196 | C29: =+IFERROR(INDEX(#REF!,MATCH(B29,#REF!,0)),"") | D29: =IFERROR(INDEX(#REF!,MATCH(A29,#REF!,0)),"") | E29: =IFERROR(INDEX(#REF!,MATCH($A29,#REF!,0)),"") | F29: =IFERROR(INDEX(#REF!,MATCH($A29,#REF!,0)),"") | G29: =IFERROR(INDEX(#REF!,MATCH($A29,#REF!,0)),"") | H29: =IFERROR(INDEX(#REF!,MATCH($A29,#REF!,0)),"") | J29: =IFERROR(INDEX(Parametrage!D:D,MATCH(B29,Parametrage!F:F,0)),"") | K29: =IFERROR(INDEX(Parametrage!I:I,MATCH(B29,Parametrage!J:J,0)),"") | L29: =IFERROR(INDEX(Parametrage!G:G,MATCH(B29,Parametrage!H:H,0)),"") | M29: =IFERROR(INDEX(Parametrage!K:K,MATCH(B29,Parametrage!L:L,0)),"") | O29: =IFERROR(_xlfn.ISOWEEKNUM(P29),"") -> 43 | P29: =P28+1 -> 45226 | Q29: =+IFERROR(INDEX(#REF!,MATCH(P29,#REF!,0)),"") | R29: =IFERROR(INDEX(#REF!,MATCH(O29,#REF!,0)),"") | S29: =IFERROR(INDEX(#REF!,MATCH($O29,#REF!,0)),"") | T29: =IFERROR(INDEX(#REF!,MATCH($O29,#REF!,0)),"") | U29: =IFERROR(INDEX(#REF!,MATCH($O29,#REF!,0)),"") | V29: =IFERROR(INDEX(#REF!,MATCH($O29,#REF!,0)),"") | W29: =IFERROR(INDEX(Parametrage!D:D,MATCH(P29,Parametrage!F:F,0)),"") | X29: =IFERROR(INDEX(Parametrage!I:I,MATCH(P29,Parametrage!J:J,0)),"") | Y29: =IFERROR(INDEX(Parametrage!G:G,MATCH(P29,Parametrage!H:H,0)),"") | Z29: =IFERROR(INDEX(Parametrage!K:K,MATCH(P29,Parametrage!L:L,0)),"")
A30: =IFERROR(_xlfn.ISOWEEKNUM(B30),"") -> 39 | B30: =B29+1 -> 45197 | C30: =+IFERROR(INDEX(#REF!,MATCH(B30,#REF!,0)),"") | D30: =IFERROR(INDEX(#REF!,MATCH(A30,#REF!,0)),"") | E30: =IFERROR(INDEX(#REF!,MATCH($A30,#REF!,0)),"") | F30: =IFERROR(INDEX(#REF!,MATCH($A30,#REF!,0)),"") | G30: =IFERROR(INDEX(#REF!,MATCH($A30,#REF!,0)),"") | H30: =IFERROR(INDEX(#REF!,MATCH($A30,#REF!,0)),"") | J30: =IFERROR(INDEX(Parametrage!D:D,MATCH(B30,Parametrage!F:F,0)),"") | K30: =IFERROR(INDEX(Parametrage!I:I,MATCH(B30,Parametrage!J:J,0)),"") | L30: =IFERROR(INDEX(Parametrage!G:G,MATCH(B30,Parametrage!H:H,0)),"") | M30: =IFERROR(INDEX(Parametrage!K:K,MATCH(B30,Parametrage!L:L,0)),"") | O30: =IFERROR(_xlfn.ISOWEEKNUM(P30),"") -> 43 | P30: =P29+1 -> 45227 | Q30: =+IFERROR(INDEX(#REF!,MATCH(P30,#REF!,0)),"") | R30: =IFERROR(INDEX(#REF!,MATCH(O30,#REF!,0)),"") | S30: =IFERROR(INDEX(#REF!,MATCH($O30,#REF!,0)),"") | T30: =IFERROR(INDEX(#REF!,MATCH($O30,#REF!,0)),"") | U30: =IFERROR(INDEX(#REF!,MATCH($O30,#REF!,0)),"") | V30: =IFERROR(INDEX(#REF!,MATCH($O30,#REF!,0)),"") | W30: =IFERROR(INDEX(Parametrage!D:D,MATCH(P30,Parametrage!F:F,0)),"") | X30: =IFERROR(INDEX(Parametrage!I:I,MATCH(P30,Parametrage!J:J,0)),"") | Y30: =IFERROR(INDEX(Parametrage!G:G,MATCH(P30,Parametrage!H:H,0)),"") | Z30: =IFERROR(INDEX(Parametrage!K:K,MATCH(P30,Parametrage!L:L,0)),"")
A31: =IFERROR(_xlfn.ISOWEEKNUM(B31),"") -> 39 | B31: =IFERROR(IF(MONTH(B30)=MONTH(B30+1),B30+1,""),"") -> 45198 | C31: =+IFERROR(INDEX(#REF!,MATCH(B31,#REF!,0)),"") | D31: =IFERROR(INDEX(#REF!,MATCH(A31,#REF!,0)),"") | E31: =IFERROR(INDEX(#REF!,MATCH($A31,#REF!,0)),"") | F31: =IFERROR(INDEX(#REF!,MATCH($A31,#REF!,0)),"") | G31: =IFERROR(INDEX(#REF!,MATCH($A31,#REF!,0)),"") | H31: =IFERROR(INDEX(#REF!,MATCH($A31,#REF!,0)),"") | J31: =IFERROR(INDEX(Parametrage!D:D,MATCH(B31,Parametrage!F:F,0)),"") | K31: =IFERROR(INDEX(Parametrage!I:I,MATCH(B31,Parametrage!J:J,0)),"") | L31: =IFERROR(INDEX(Parametrage!G:G,MATCH(B31,Parametrage!H:H,0)),"") | M31: =IFERROR(INDEX(Parametrage!K:K,MATCH(B31,Parametrage!L:L,0)),"") | O31: =IFERROR(_xlfn.ISOWEEKNUM(P31),"") -> 43 | P31: =IFERROR(IF(MONTH(P30)=MONTH(P30+1),P30+1,""),"") -> 45228 | Q31: =+IFERROR(INDEX(#REF!,MATCH(P31,#REF!,0)),"") | R31: =IFERROR(INDEX(#REF!,MATCH(O31,#REF!,0)),"") | S31: =IFERROR(INDEX(#REF!,MATCH($O31,#REF!,0)),"") | T31: =IFERROR(INDEX(#REF!,MATCH($O31,#REF!,0)),"") | U31: =IFERROR(INDEX(#REF!,MATCH($O31,#REF!,0)),"") | V31: =IFERROR(INDEX(#REF!,MATCH($O31,#REF!,0)),"") | W31: =IFERROR(INDEX(Parametrage!D:D,MATCH(P31,Parametrage!F:F,0)),"") | X31: =IFERROR(INDEX(Parametrage!I:I,MATCH(P31,Parametrage!J:J,0)),"") | Y31: =IFERROR(INDEX(Parametrage!G:G,MATCH(P31,Parametrage!H:H,0)),"") | Z31: =IFERROR(INDEX(Parametrage!K:K,MATCH(P31,Parametrage!L:L,0)),"")
A32: =IFERROR(_xlfn.ISOWEEKNUM(B32),"") -> 39 | B32: =IFERROR(IF(MONTH(B31)=MONTH(B31+1),B31+1,""),"") -> 45199 | C32: =+IFERROR(INDEX(#REF!,MATCH(B32,#REF!,0)),"") | D32: =IFERROR(INDEX(#REF!,MATCH(A32,#REF!,0)),"") | E32: =IFERROR(INDEX(#REF!,MATCH($A32,#REF!,0)),"") | F32: =IFERROR(INDEX(#REF!,MATCH($A32,#REF!,0)),"") | G32: =IFERROR(INDEX(#REF!,MATCH($A32,#REF!,0)),"") | H32: =IFERROR(INDEX(#REF!,MATCH($A32,#REF!,0)),"") | J32: =IFERROR(INDEX(Parametrage!D:D,MATCH(B32,Parametrage!F:F,0)),"") | K32: =IFERROR(INDEX(Parametrage!I:I,MATCH(B32,Parametrage!J:J,0)),"") | L32: =IFERROR(INDEX(Parametrage!G:G,MATCH(B32,Parametrage!H:H,0)),"") | M32: =IFERROR(INDEX(Parametrage!K:K,MATCH(B32,Parametrage!L:L,0)),"") | O32: =IFERROR(_xlfn.ISOWEEKNUM(P32),"") -> 44 | P32: =IFERROR(IF(MONTH(P31)=MONTH(P31+1),P31+1,""),"") -> 45229 | Q32: =+IFERROR(INDEX(#REF!,MATCH(P32,#REF!,0)),"") | R32: =IFERROR(INDEX(#REF!,MATCH(O32,#REF!,0)),"") | S32: =IFERROR(INDEX(#REF!,MATCH($O32,#REF!,0)),"") | T32: =IFERROR(INDEX(#REF!,MATCH($O32,#REF!,0)),"") | U32: =IFERROR(INDEX(#REF!,MATCH($O32,#REF!,0)),"") | V32: =IFERROR(INDEX(#REF!,MATCH($O32,#REF!,0)),"") | W32: =IFERROR(INDEX(Parametrage!D:D,MATCH(P32,Parametrage!F:F,0)),"") | X32: =IFERROR(INDEX(Parametrage!I:I,MATCH(P32,Parametrage!J:J,0)),"") | Y32: =IFERROR(INDEX(Parametrage!G:G,MATCH(P32,Parametrage!H:H,0)),"") | Z32: =IFERROR(INDEX(Parametrage!K:K,MATCH(P32,Parametrage!L:L,0)),"")
B33: =IFERROR(IF(MONTH(B32)=MONTH(B32+1),B32+1,""),"") | C33: =+IFERROR(INDEX(#REF!,MATCH(B33,#REF!,0)),"") | D33: =IFERROR(INDEX(#REF!,MATCH(A33,#REF!,0)),"") | E33: =IFERROR(INDEX(#REF!,MATCH($A33,#REF!,0)),"") | F33: =IFERROR(INDEX(#REF!,MATCH($A33,#REF!,0)),"") | G33: =IFERROR(INDEX(#REF!,MATCH($A33,#REF!,0)),"") | H33: =IFERROR(INDEX(#REF!,MATCH($A33,#REF!,0)),"") | J33: =IFERROR(INDEX(Parametrage!D:D,MATCH(B33,Parametrage!F:F,0)),"") | K33: =IFERROR(INDEX(Parametrage!I:I,MATCH(B33,Parametrage!J:J,0)),"") | L33: =IFERROR(INDEX(Parametrage!G:G,MATCH(B33,Parametrage!H:H,0)),"") | M33: =IFERROR(INDEX(Parametrage!K:K,MATCH(B33,Parametrage!L:L,0)),"") | O33: =IFERROR(_xlfn.ISOWEEKNUM(P33),"") -> 44 | P33: =IFERROR(IF(MONTH(P32)=MONTH(P32+1),P32+1,""),"") -> 45230 | Q33: =+IFERROR(INDEX(#REF!,MATCH(P33,#REF!,0)),"") | R33: =IFERROR(INDEX(#REF!,MATCH(O33,#REF!,0)),"") | S33: =IFERROR(INDEX(#REF!,MATCH($O33,#REF!,0)),"") | T33: =IFERROR(INDEX(#REF!,MATCH($O33,#REF!,0)),"") | U33: =IFERROR(INDEX(#REF!,MATCH($O33,#REF!,0)),"") | V33: =IFERROR(INDEX(#REF!,MATCH($O33,#REF!,0)),"") | W33: =IFERROR(INDEX(Parametrage!D:D,MATCH(P33,Parametrage!F:F,0)),"") | X33: =IFERROR(INDEX(Parametrage!I:I,MATCH(P33,Parametrage!J:J,0)),"") | Y33: =IFERROR(INDEX(Parametrage!G:G,MATCH(P33,Parametrage!H:H,0)),"") | Z33: =IFERROR(INDEX(Parametrage!K:K,MATCH(P33,Parametrage!L:L,0)),"")
A35: Sem | B35: =EDATE($K$1,2) -> 45231 | C35: Infos | D35: PFMP 1cuis | E35: PFMP Tcuis | F35: PFMP 2pro | G35: PFMP 1pro | H35: PFMP Tpro | J35: Vie de classe | K35: Vigilance | L35: CCF | M35: Autres | O35: Sem | P35: =EDATE($K$1,3) -> 45261 | Q35: Infos | R35: PFMP 1cuis | S35: PFMP Tcuis | T35: PFMP 2pro | U35: PFMP 1pro | V35: PFMP Tpro | W35: Vie de classe | X35: Vigilance | Y35: CCF | Z35: Autres
A36: =IFERROR(_xlfn.ISOWEEKNUM(B36),"") -> 44 | B36: =B35 -> 45231 | C36: =+IFERROR(INDEX(#REF!,MATCH(B36,#REF!,0)),"") | D36: =IFERROR(INDEX(#REF!,MATCH(A36,#REF!,0)),"") | E36: =IFERROR(INDEX(#REF!,MATCH($A36,#REF!,0)),"") | F36: =IFERROR(INDEX(#REF!,MATCH($A36,#REF!,0)),"") | G36: =IFERROR(INDEX(#REF!,MATCH($A36,#REF!,0)),"") | H36: =IFERROR(INDEX(#REF!,MATCH($A36,#REF!,0)),"") | J36: =IFERROR(INDEX(Parametrage!$D:$D,MATCH(B36,Parametrage!$F:$F,0)),"") | K36: =IFERROR(INDEX(Parametrage!$I:$I,MATCH(B36,Parametrage!$J:$J,0)),"") | L36: =IFERROR(INDEX(Parametrage!$G:$G,MATCH(B36,Parametrage!$H:$H,0)),"") | M36: =IFERROR(INDEX(Parametrage!$K:$K,MATCH(B36,Parametrage!$L:$L,0)),"") | O36: =IFERROR(_xlfn.ISOWEEKNUM(P36),"") -> 48 | P36: =P35 -> 45261 | Q36: =+IFERROR(INDEX(#REF!,MATCH(P36,#REF!,0)),"") | R36: =IFERROR(INDEX(#REF!,MATCH(O36,#REF!,0)),"") | S36: =IFERROR(INDEX(#REF!,MATCH($O36,#REF!,0)),"") | T36: =IFERROR(INDEX(#REF!,MATCH($O36,#REF!,0)),"") | U36: =IFERROR(INDEX(#REF!,MATCH($O36,#REF!,0)),"") | V36: =IFERROR(INDEX(#REF!,MATCH($O36,#REF!,0)),"") | W36: =IFERROR(INDEX(Parametrage!$D:$D,MATCH(P36,Parametrage!$F:$F,0)),"") | X36: =IFERROR(INDEX(Parametrage!$I:$I,MATCH(P36,Parametrage!$J:$J,0)),"") | Y36: =IFERROR(INDEX(Parametrage!$G:$G,MATCH(P36,Parametrage!$H:$H,0)),"") | Z36: =IFERROR(INDEX(Parametrage!$K:$K,MATCH(P36,Parametrage!$L:$L,0)),"")
A37: =IFERROR(_xlfn.ISOWEEKNUM(B37),"") -> 44 | B37: =B36+1 -> 45232 | C37: =+IFERROR(INDEX(#REF!,MATCH(B37,#REF!,0)),"") | D37: =IFERROR(INDEX(#REF!,MATCH(A37,#REF!,0)),"") | E37: =IFERROR(INDEX(#REF!,MATCH($A37,#REF!,0)),"") | F37: =IFERROR(INDEX(#REF!,MATCH($A37,#REF!,0)),"") | G37: =IFERROR(INDEX(#REF!,MATCH($A37,#REF!,0)),"") | H37: =IFERROR(INDEX(#REF!,MATCH($A37,#REF!,0)),"") | J37: =IFERROR(INDEX(Parametrage!$D:$D,MATCH(B37,Parametrage!$F:$F,0)),"") | K37: =IFERROR(INDEX(Parametrage!$I:$I,MATCH(B37,Parametrage!$J:$J,0)),"") | L37: =IFERROR(INDEX(Parametrage!$G:$G,MATCH(B37,Parametrage!$H:$H,0)),"") | M37: =IFERROR(INDEX(Parametrage!$K:$K,MATCH(B37,Parametrage!$L:$L,0)),"") | O37: =IFERROR(_xlfn.ISOWEEKNUM(P37),"") -> 48 | P37: =P36+1 -> 45262 | Q37: =+IFERROR(INDEX(#REF!,MATCH(P37,#REF!,0)),"") | R37: =IFERROR(INDEX(#REF!,MATCH(O37,#REF!,0)),"") | S37: =IFERROR(INDEX(#REF!,MATCH($O37,#REF!,0)),"") | T37: =IFERROR(INDEX(#REF!,MATCH($O37,#REF!,0)),"") | U37: =IFERROR(INDEX(#REF!,MATCH($O37,#REF!,0)),"") | V37: =IFERROR(INDEX(#REF!,MATCH($O37,#REF!,0)),"") | W37: =IFERROR(INDEX(Parametrage!$D:$D,MATCH(P37,Parametrage!$F:$F,0)),"") | X37: =IFERROR(INDEX(Parametrage!$I:$I,MATCH(P37,Parametrage!$J:$J,0)),"") | Y37: =IFERROR(INDEX(Parametrage!$G:$G,MATCH(P37,Parametrage!$H:$H,0)),"") | Z37: =IFERROR(INDEX(Parametrage!$K:$K,MATCH(P37,Parametrage!$L:$L,0)),"")
A38: =IFERROR(_xlfn.ISOWEEKNUM(B38),"") -> 44 | B38: =B37+1 -> 45233 | C38: =+IFERROR(INDEX(#REF!,MATCH(B38,#REF!,0)),"") | D38: =IFERROR(INDEX(#REF!,MATCH(A38,#REF!,0)),"") | E38: =IFERROR(INDEX(#REF!,MATCH($A38,#REF!,0)),"") | F38: =IFERROR(INDEX(#REF!,MATCH($A38,#REF!,0)),"") | G38: =IFERROR(INDEX(#REF!,MATCH($A38,#REF!,0)),"") | H38: =IFERROR(INDEX(#REF!,MATCH($A38,#REF!,0)),"") | J38: =IFERROR(INDEX(Parametrage!$D:$D,MATCH(B38,Parametrage!$F:$F,0)),"") | K38: =IFERROR(INDEX(Parametrage!$I:$I,MATCH(B38,Parametrage!$J:$J,0)),"") | L38: =IFERROR(INDEX(Parametrage!$G:$G,MATCH(B38,Parametrage!$H:$H,0)),"") | M38: =IFERROR(INDEX(Parametrage!$K:$K,MATCH(B38,Parametrage!$L:$L,0)),"") | O38: =IFERROR(_xlfn.ISOWEEKNUM(P38),"") -> 48 | P38: =P37+1 -> 45263 | Q38: =+IFERROR(INDEX(#REF!,MATCH(P38,#REF!,0)),"") | R38: =IFERROR(INDEX(#REF!,MATCH(O38,#REF!,0)),"") | S38: =IFERROR(INDEX(#REF!,MATCH($O38,#REF!,0)),"") | T38: =IFERROR(INDEX(#REF!,MATCH($O38,#REF!,0)),"") | U38: =IFERROR(INDEX(#REF!,MATCH($O38,#REF!,0)),"") | V38: =IFERROR(INDEX(#REF!,MATCH($O38,#REF!,0)),"") | W38: =IFERROR(INDEX(Parametrage!$D:$D,MATCH(P38,Parametrage!$F:$F,0)),"") | X38: =IFERROR(INDEX(Parametrage!$I:$I,MATCH(P38,Parametrage!$J:$J,0)),"") | Y38: =IFERROR(INDEX(Parametrage!$G:$G,MATCH(P38,Parametrage!$H:$H,0)),"") | Z38: =IFERROR(INDEX(Parametrage!$K:$K,MATCH(P38,Parametrage!$L:$L,0)),"")
A39: =IFERROR(_xlfn.ISOWEEKNUM(B39),"") -> 44 | B39: =B38+1 -> 45234 | C39: =+IFERROR(INDEX(#REF!,MATCH(B39,#REF!,0)),"") | D39: =IFERROR(INDEX(#REF!,MATCH(A39,#REF!,0)),"") | E39: =IFERROR(INDEX(#REF!,MATCH($A39,#REF!,0)),"") | F39: =IFERROR(INDEX(#REF!,MATCH($A39,#REF!,0)),"") | G39: =IFERROR(INDEX(#REF!,MATCH($A39,#REF!,0)),"") | H39: =IFERROR(INDEX(#REF!,MATCH($A39,#REF!,0)),"") | J39: =IFERROR(INDEX(Parametrage!$D:$D,MATCH(B39,Parametrage!$F:$F,0)),"") | K39: =IFERROR(INDEX(Parametrage!$I:$I,MATCH(B39,Parametrage!$J:$J,0)),"") | L39: =IFERROR(INDEX(Parametrage!$G:$G,MATCH(B39,Parametrage!$H:$H,0)),"") | M39: =IFERROR(INDEX(Parametrage!$K:$K,MATCH(B39,Parametrage!$L:$L,0)),"") | O39: =IFERROR(_xlfn.ISOWEEKNUM(P39),"") -> 49 | P39: =P38+1 -> 45264 | Q39: =+IFERROR(INDEX(#REF!,MATCH(P39,#REF!,0)),"") | R39: =IFERROR(INDEX(#REF!,MATCH(O39,#REF!,0)),"") | S39: =IFERROR(INDEX(#REF!,MATCH($O39,#REF!,0)),"") | T39: =IFERROR(INDEX(#REF!,MATCH($O39,#REF!,0)),"") | U39: =IFERROR(INDEX(#REF!,MATCH($O39,#REF!,0)),"") | V39: =IFERROR(INDEX(#REF!,MATCH($O39,#REF!,0)),"") | W39: =IFERROR(INDEX(Parametrage!$D:$D,MATCH(P39,Parametrage!$F:$F,0)),"") | X39: =IFERROR(INDEX(Parametrage!$I:$I,MATCH(P39,Parametrage!$J:$J,0)),"") | Y39: =IFERROR(INDEX(Parametrage!$G:$G,MATCH(P39,Parametrage!$H:$H,0)),"") | Z39: =IFERROR(INDEX(Parametrage!$K:$K,MATCH(P39,Parametrage!$L:$L,0)),"")
A40: =IFERROR(_xlfn.ISOWEEKNUM(B40),"") -> 44 | B40: =B39+1 -> 45235 | C40: =+IFERROR(INDEX(#REF!,MATCH(B40,#REF!,0)),"") | D40: =IFERROR(INDEX(#REF!,MATCH(A40,#REF!,0)),"") | E40: =IFERROR(INDEX(#REF!,MATCH($A40,#REF!,0)),"") | F40: =IFERROR(INDEX(#REF!,MATCH($A40,#REF!,0)),"") | G40: =IFERROR(INDEX(#REF!,MATCH($A40,#REF!,0)),"") | H40: =IFERROR(INDEX(#REF!,MATCH($A40,#REF!,0)),"") | J40: =IFERROR(INDEX(Parametrage!$D:$D,MATCH(B40,Parametrage!$F:$F,0)),"") | K40: =IFERROR(INDEX(Parametrage!$I:$I,MATCH(B40,Parametrage!$J:$J,0)),"") | L40: =IFERROR(INDEX(Parametrage!$G:$G,MATCH(B40,Parametrage!$H:$H,0)),"") | M40: =IFERROR(INDEX(Parametrage!$K:$K,MATCH(B40,Parametrage!$L:$L,0)),"") | O40: =IFERROR(_xlfn.ISOWEEKNUM(P40),"") -> 49 | P40: =P39+1 -> 45265 | Q40: =+IFERROR(INDEX(#REF!,MATCH(P40,#REF!,0)),"") | R40: =IFERROR(INDEX(#REF!,MATCH(O40,#REF!,0)),"") | S40: =IFERROR(INDEX(#REF!,MATCH($O40,#REF!,0)),"") | T40: =IFERROR(INDEX(#REF!,MATCH($O40,#REF!,0)),"") | U40: =IFERROR(INDEX(#REF!,MATCH($O40,#REF!,0)),"") | V40: =IFERROR(INDEX(#REF!,MATCH($O40,#REF!,0)),"") | W40: =IFERROR(INDEX(Parametrage!$D:$D,MATCH(P40,Parametrage!$F:$F,0)),"") | X40: =IFERROR(INDEX(Parametrage!$I:$I,MATCH(P40,Parametrage!$J:$J,0)),"") | Y40: =IFERROR(INDEX(Parametrage!$G:$G,MATCH(P40,Parametrage!$H:$H,0)),"") | Z40: =IFERROR(INDEX(Parametrage!$K:$K,MATCH(P40,Parametrage!$L:$L,0)),"")
A41: =IFERROR(_xlfn.ISOWEEKNUM(B41),"") -> 45 | B41: =B40+1 -> 45236 | C41: =+IFERROR(INDEX(#REF!,MATCH(B41,#REF!,0)),"") | D41: =IFERROR(INDEX(#REF!,MATCH(A41,#REF!,0)),"") | E41: =IFERROR(INDEX(#REF!,MATCH($A41,#REF!,0)),"") | F41: =IFERROR(INDEX(#REF!,MATCH($A41,#REF!,0)),"") | G41: =IFERROR(INDEX(#REF!,MATCH($A41,#REF!,0)),"") | H41: =IFERROR(INDEX(#REF!,MATCH($A41,#REF!,0)),"") | J41: =IFERROR(INDEX(Parametrage!$D:$D,MATCH(B41,Parametrage!$F:$F,0)),"") | K41: =IFERROR(INDEX(Parametrage!$I:$I,MATCH(B41,Parametrage!$J:$J,0)),"") | L41: =IFERROR(INDEX(Parametrage!$G:$G,MATCH(B41,Parametrage!$H:$H,0)),"") | M41: =IFERROR(INDEX(Parametrage!$K:$K,MATCH(B41,Parametrage!$L:$L,0)),"") | O41: =IFERROR(_xlfn.ISOWEEKNUM(P41),"") -> 49 | P41: =P40+1 -> 45266 | Q41: =+IFERROR(INDEX(#REF!,MATCH(P41,#REF!,0)),"") | R41: =IFERROR(INDEX(#REF!,MATCH(O41,#REF!,0)),"") | S41: =IFERROR(INDEX(#REF!,MATCH($O41,#REF!,0)),"") | T41: =IFERROR(INDEX(#REF!,MATCH($O41,#REF!,0)),"") | U41: =IFERROR(INDEX(#REF!,MATCH($O41,#REF!,0)),"") | V41: =IFERROR(INDEX(#REF!,MATCH($O41,#REF!,0)),"") | W41: =IFERROR(INDEX(Parametrage!$D:$D,MATCH(P41,Parametrage!$F:$F,0)),"") | X41: =IFERROR(INDEX(Parametrage!$I:$I,MATCH(P41,Parametrage!$J:$J,0)),"") | Y41: =IFERROR(INDEX(Parametrage!$G:$G,MATCH(P41,Parametrage!$H:$H,0)),"") | Z41: =IFERROR(INDEX(Parametrage!$K:$K,MATCH(P41,Parametrage!$L:$L,0)),"")
...

Sheet 35
C1: Semaine | D1: 8
A4: Ligne | B4: Colonne | D4: Infos | E4: Vie de classe | F4: Vigilance | G4: CCF | H4: Autres
A5: =IFERROR(IFERROR(IF(WEEKDAY(INDEX(Calendrier!B:B,MATCH($D$1,Calendrier!A:A,0)),2)=1,MATCH($D$1,Calendrier!A:A,0),MATCH($D$1,Calendrier!O:O,0)),MATCH($D$1,Calendrier!O:O,0)),"") -> 87 | B5: =IFERROR(IF(INDEX(Calendrier!A:A,A5)=$D$1,COL_SEM_1,COL_SEM_2),"") -> 15 | C5: Lundi | D5: =IF($A5<>"",INDEX(Calendrier!$A:$Z,$A5,$B5+2),"") | E5: =IF($A5<>"",INDEX(Calendrier!$A:$Z,$A5,$B5+3),"") | F5: =IF($A5<>"",INDEX(Calendrier!$A:$Z,$A5,$B5+4),"") | G5: =IF($A5<>"",INDEX(Calendrier!$A:$Z,$A5,$B5+5),"") | H5: =IF($A5<>"",INDEX(Calendrier!$A:$Z,$A5,$B5+6),"")
A6: =IFERROR(IF(A5<>"",IF(INDEX(Calendrier!A:Z,'35'!A5+1,B5)=$D$1,A5+1,MATCH($D$1,IF(B5=1,Calendrier!O:O,Calendrier!A:A),0)),IFERROR(IFERROR(IF(WEEKDAY(INDEX(Calendrier!B:B,MATCH($D$1,Calendrier!A:A,0)),2)=2,MATCH($D$1,Calendrier!A:A,0),MATCH($D$1,Calendrier!O:O,0)),MATCH($D$1,Calendrier!O:O,0)),"")),"") -> 88 | B6: =IFERROR(IF(INDEX(Calendrier!A:A,A6)=$D$1,COL_SEM_1,COL_SEM_2),"") -> 15 | C6: mardi | D6: =IF($A6<>"",INDEX(Calendrier!$A:$Z,$A6,$B6+2),"") | E6: =IF($A6<>"",INDEX(Calendrier!$A:$Z,$A6,$B6+3),"") | F6: =IF($A6<>"",INDEX(Calendrier!$A:$Z,$A6,$B6+4),"") | G6: =IF($A6<>"",INDEX(Calendrier!$A:$Z,$A6,$B6+5),"") | H6: =IF($A6<>"",INDEX(Calendrier!$A:$Z,$A6,$B6+6),"")
A7: =IFERROR(IF(A6<>"",IF(INDEX(Calendrier!A:Z,'35'!A6+1,B6)=$D$1,A6+1,MATCH($D$1,IF(B6=1,Calendrier!O:O,Calendrier!A:A),0)),IFERROR(IFERROR(IF(WEEKDAY(INDEX(Calendrier!B:B,MATCH($D$1,Calendrier!A:A,0)),2)=3,MATCH($D$1,Calendrier!A:A,0),MATCH($D$1,Calendrier!O:O,0)),MATCH($D$1,Calendrier!O:O,0)),"")),"") -> 89 | B7: =IFERROR(IF(INDEX(Calendrier!A:A,A7)=$D$1,COL_SEM_1,COL_SEM_2),"") -> 15 | C7: Mercredi | D7: =IF($A7<>"",INDEX(Calendrier!$A:$Z,$A7,$B7+2),"") | E7: =IF($A7<>"",INDEX(Calendrier!$A:$Z,$A7,$B7+3),"") | F7: =IF($A7<>"",INDEX(Calendrier!$A:$Z,$A7,$B7+4),"") | G7: =IF($A7<>"",INDEX(Calendrier!$A:$Z,$A7,$B7+5),"") | H7: =IF($A7<>"",INDEX(Calendrier!$A:$Z,$A7,$B7+6),"")
A8: =IFERROR(IF(A7<>"",IF(INDEX(Calendrier!A:Z,'35'!A7+1,B7)=$D$1,A7+1,MATCH($D$1,IF(B7=1,Calendrier!O:O,Calendrier!A:A),0)),IFERROR(IFERROR(IF(WEEKDAY(INDEX(Calendrier!B:B,MATCH($D$1,Calendrier!A:A,0)),2)=4,MATCH($D$1,Calendrier!A:A,0),MATCH($D$1,Calendrier!O:O,0)),MATCH($D$1,Calendrier!O:O,0)),"")),"") -> 90 | B8: =IFERROR(IF(INDEX(Calendrier!A:A,A8)=$D$1,COL_SEM_1,COL_SEM_2),"") -> 15 | C8: Jeudi | D8: =IF($A8<>"",INDEX(Calendrier!$A:$Z,$A8,$B8+2),"") | E8: =IF($A8<>"",INDEX(Calendrier!$A:$Z,$A8,$B8+3),"") | F8: =IF($A8<>"",INDEX(Calendrier!$A:$Z,$A8,$B8+4),"") | G8: =IF($A8<>"",INDEX(Calendrier!$A:$Z,$A8,$B8+5),"") | H8: =IF($A8<>"",INDEX(Calendrier!$A:$Z,$A8,$B8+6),"")
A9: =IF(A8<>"",IF(INDEX(Calendrier!A:Z,'35'!A8+1,B8)=$D$1,A8+1,MATCH($D$1,IF(B8=1,Calendrier!O:O,Calendrier!A:A),0)),IFERROR(IFERROR(IF(WEEKDAY(INDEX(Calendrier!B:B,MATCH($D$1,Calendrier!A:A,0)),2)=5,MATCH($D$1,Calendrier!A:A,0),MATCH($D$1,Calendrier!O:O,0)),MATCH($D$1,Calendrier!O:O,0)),"")) -> 91 | B9: =IFERROR(IF(INDEX(Calendrier!A:A,A9)=$D$1,COL_SEM_1,COL_SEM_2),"") -> 15 | C9: Vendredi | D9: =IF($A9<>"",INDEX(Calendrier!$A:$Z,$A9,$B9+2),"") | E9: =IF($A9<>"",INDEX(Calendrier!$A:$Z,$A9,$B9+3),"") | F9: =IF($A9<>"",INDEX(Calendrier!$A:$Z,$A9,$B9+4),"") | G9: =IF($A9<>"",INDEX(Calendrier!$A:$Z,$A9,$B9+5),"") | H9: =IF($A9<>"",INDEX(Calendrier!$A:$Z,$A9,$B9+6),"")
A10: =IFERROR(IF(A9<>"",IF(INDEX(Calendrier!A:Z,'35'!A9+1,B9)=$D$1,A9+1,MATCH($D$1,IF(B9=1,Calendrier!O:O,Calendrier!A:A),0)),IFERROR(IFERROR(IF(WEEKDAY(INDEX(Calendrier!B:B,MATCH($D$1,Calendrier!A:A,0)),2)=6,MATCH($D$1,Calendrier!A:A,0),MATCH($D$1,Calendrier!O:O,0)),MATCH($D$1,Calendrier!O:O,0)),"")),"") -> 92 | B10: =IFERROR(IF(INDEX(Calendrier!A:A,A10)=$D$1,COL_SEM_1,COL_SEM_2),"") -> 15 | C10: Samedi | D10: =IF($A10<>"",INDEX(Calendrier!$A:$Z,$A10,$B10+2),"") | E10: =IF($A10<>"",INDEX(Calendrier!$A:$Z,$A10,$B10+3),"") | F10: =IF($A10<>"",INDEX(Calendrier!$A:$Z,$A10,$B10+4),"") | G10: =IF($A10<>"",INDEX(Calendrier!$A:$Z,$A10,$B10+5),"") | H10: =IF($A10<>"",INDEX(Calendrier!$A:$Z,$A10,$B10+6),"")
A11: =IFERROR(IF(A10<>"",IF(INDEX(Calendrier!A:Z,'35'!A10+1,B10)=$D$1,A10+1,MATCH($D$1,IF(B10=1,Calendrier!O:O,Calendrier!A:A),0)),IFERROR(IFERROR(IF(WEEKDAY(INDEX(Calendrier!B:B,MATCH($D$1,Calendrier!A:A,0)),2)=7,MATCH($D$1,Calendrier!A:A,0),MATCH($D$1,Calendrier!O:O,0)),MATCH($D$1,Calendrier!O:O,0)),"")),"") -> 93 | B11: =IFERROR(IF(INDEX(Calendrier!A:A,A11)=$D$1,COL_SEM_1,COL_SEM_2),"") -> 15 | C11: Dimanche | D11: =IF($A11<>"",INDEX(Calendrier!$A:$Z,$A11,$B11+2),"") | E11: =IF($A11<>"",INDEX(Calendrier!$A:$Z,$A11,$B11+3),"") | F11: =IF($A11<>"",INDEX(Calendrier!$A:$Z,$A11,$B11+4),"") | G11: =IF($A11<>"",INDEX(Calendrier!$A:$Z,$A11,$B11+5),"") | H11: =IF($A11<>"",INDEX(Calendrier!$A:$Z,$A11,$B11+6),"")

Sheet 36
C1: Semaine | D1: 36
A4: Ligne | B4: Colonne | D4: Infos | E4: Vie de classe | F4: Vigilance | G4: CCF | H4: Autres
