Workbook
Name COL_SEM_1: Parametrage!$L$3
Name COL_SEM_2: Parametrage!$M$3
Name feries: Calendrier!$AD$3:$AE$15
Name semaines: #REF!
Name vacances: Calendrier!$AD$18:$AD$27

Sheet Parametrage
A1: Rentrée | C1: 2022 | H1: Infos | I1: dates | L1: Colonnes semaines du calendrier
H2: Ouverture pédago | I2: 45188 | L2: 1ère colonne des mois | M2: 2ème colonne des mois
H3: Ouverture Application | I3: 45175 | L3: 1 | M3: 15
H4: Remontée de notes cuisine | I4: 45079
H7: Vacances toussaint | I7: 43
H8: Vacances toussaint | I8: 44
H9: Vacances Noël | I9: 51
H10: Vacances Noël | I10: 52
H11: Vacances Hiver | I11: 6
H12: Vacances Hiver | I12: 7
H13: Vacances printemps | I13: 15
H14: Vacances printemps | I14: 16
A16: 2pro
A18: PFMP1 | C18: N°sem | D18: Vie de classe | F18: Date | G18: CCF | H18: Date | I18: Points de vigilances | J18: Date | K18: Autre | L18: Date
A19: PFMP 2pro | B19: S1 | C19: 45 | D19: CC 2pro | E19: 1 | F19: 44839 | I19: Retour convention 2pro | J19: =IFERROR(DATE(#REF!,1,1)+C19*7-WEEKDAY(DATE(#REF!,1,1))-15,"-") -> - | K19: Conférence Sodexo | L19: 44826
A20: PFMP 2pro | B20: S2 | C20: 46 | D20: CC 2pro | E20: 2 | F20: 44810 | I20: Retour convention 2pro | J20: =IFERROR(DATE(#REF!,1,1)+C26*7-WEEKDAY(DATE(#REF!,1,1))-15,"-") -> -
A21: PFMP 2pro | B21: S3 | C21: 47 | D21: CC 2pro | E21: 3 | I21: Préparation conseil 2pro | J21: =+F19-7 -> 44832
A22: PFMP 2pro | B22: S4 | D22: Réunion prt profs 2pro | I22: Préparation conseil 2pro | J22: =+F20-7 -> 44803
A23: PFMP 2pro | B23: S5 | D23: Photos classe 2pro | I23: Préparation conseil 2pro | J23: =+F21*7 -> 0
A24: PFMP 2pro | B24: S6
A25: PFMP2 | C25: N°sem
A26: PFMP 2pro | B26: S1 | C26: 9
A27: PFMP 2pro | B27: S2 | C27: 10
A28: PFMP 2pro | B28: S3 | C28: 11
A29: PFMP 2pro | B29: S4 | C29: 12
A30: PFMP 2pro | B30: S5 | D30: Planifier visite PFMP 1 | F30: =+DATE($C$1,1,3)-WEEKDAY(DATE($C$1,1,3))-5+(7*$C$36) -> 44634
A31: PFMP 2pro | B31: S6 | D31: Planifier visite PFMP 2
A33: 1pro
A35: PFMP1 | C35: N°sem | D35: Vie de classe | F35: Date | G35: CCF | H35: Date | I35: Points de vigilances | J35: Date | K35: Autre | L35: Date
A36: PFMP 1pro | B36: S1 | C36: 11 | D36: CC 1pro | E36: 1 | F36: 44839 | G36: E1 S1 | H36: 44994 | I36: Retour convention 1pro | J36: =IFERROR(DATE(C1,1,1)+C36*7-WEEKDAY(DATE(C1,1,1))-15,"-") -> 44617 | K36: Conférence Sodexo | L36: 44826
A37: PFMP 1pro | B37: S2 | C37: 12 | D37: CC 1pro | E37: 2 | F37: 44810 | G37: E31 S1 | H37: 44995 | I37: Retour convention 1pro | J37: =IFERROR(DATE(C1,1,1)+C43*7-WEEKDAY(DATE(C1,1,1))-15,"-") -> 44708
A38: PFMP 1pro | B38: S3 | C38: 13 | D38: CC 1pro | E38: 3 | G38: E22 S1 | H38: 45051 | I38: Préparation conseil 1Pro | J38: =+F36-7 -> 44832
A39: PFMP 1pro | B39: S4 | C39: 14 | D39: Réunion prt profs 1pro | G39: Chef œuvre | I39: Préparation conseil 1Pro | J39: =+F37-7 -> 44803
A40: PFMP 1pro | B40: S5 | D40: Photos classe 1pro | I40: Préparation conseil 1Pro | J40: =+F38*7 -> 0
A41: PFMP 1pro | B41: S6 | I41: E1 S1 | J41: =+H36-30 -> 44964
A42: PFMP2 | C42: N°sem | I42: E31 S1 | J42: 44814
A43: PFMP 1pro | B43: S1 | C43: 24 | I43: E22 S1 | J43: =+H38-30 -> 45021
A44: PFMP 1pro | B44: S2 | C44: 25 | I44: Chef œuvre
A45: PFMP 1pro | B45: S3 | C45: 26
A46: PFMP 1pro | B46: S4 | C46: 27
A47: PFMP 1pro | B47: S5 | D47: Planifier visite PFMP 1 | F47: =+DATE($C$1,1,3)-WEEKDAY(DATE($C$1,1,3))-5+(7*$C$36) -> 44634
A48: PFMP 1pro | B48: S6 | D48: Planifier visite PFMP 2
A50: Tpro
A52: PFMP1 | C52: N°sem | D52: Vie de classe | F52: Date | G52: CCF | H52: Date | I52: Points de vigilances | J52: Date | K52: Autre | L52: Date
A53: PFMP Tpro | B53: S1 | C53: 11 | D53: CC Tpro | E53: 1 | F53: 44839 | G53: E1 S2 | H53: 44994 | I53: Retour convention Tpro | J53: =IFERROR(DATE(C18,1,1)+C53*7-WEEKDAY(DATE(C18,1,1))-15,"-") -> - | K53: Conférence Sodexo | L53: 44826
A54: PFMP Tpro | B54: S2 | C54: 12 | D54: CC Tpro | E54: 2 | F54: 44810 | G54: E31 S2 | H54: 44995 | I54: Retour convention Tpro | J54: =IFERROR(DATE(C18,1,1)+C60*7-WEEKDAY(DATE(C18,1,1))-15,"-") -> -
A55: PFMP Tpro | B55: S3 | C55: 13 | D55: CC Tpro | E55: 3 | G55: E22 S2 | H55: 45051 | I55: Préparation conseil Tpro | J55: =+F53-7 -> 44832
A56: PFMP Tpro | B56: S4 | C56: 14 | D56: Réunion prt profs Tpro | G56: Chef œuvre | I56: Préparation conseil Tpro | J56: =+F54-7 -> 44803
A57: PFMP Tpro | B57: S5 | D57: Photos classe Tpro | I57: Préparation conseil Tpro | J57: =+F55*7 -> 0
A58: PFMP Tpro | B58: S6 | I58: E1 S2 | J58: =+H53-30 -> 44964
A59: PFMP2 | C59: N°sem | I59: E31 S2 | J59: =+H54-30 -> 44965
A60: PFMP Tpro | B60: S1 | C60: 24 | I60: E22 S2 | J60: =+H55-30 -> 45021
A61: PFMP Tpro | B61: S2 | C61: 25 | I61: Chef œuvre
A62: PFMP Tpro | B62: S3 | C62: 26
A63: PFMP Tpro | B63: S4 | C63: 27
A64: PFMP Tpro | B64: S5 | D64: Planifier visite PFMP 1 | F64: =+DATE($C$1,1,3)-WEEKDAY(DATE($C$1,1,3))-5+(7*$C$36) -> 44634
A65: PFMP Tpro | B65: S6 | D65: Planifier visite PFMP 2
A67: 1cuisine
A69: PFMP1 | C69: N°sem | D69: Vie de classe | F69: Date | G69: CCF | H69: Date | I69: Points de vigilances | J69: Date | K69: Autre | L69: Date
A70: PFMP 1cuis | B70: S1 | C70: 35 | D70: CC 1cuis | E70: 1 | F70: 44839 | G70: Axe1 | H70: 44994 | I70: Retour convention 1cuis | J70: =IFERROR(DATE(C35,1,1)+C70*7-WEEKDAY(DATE(C35,1,1))-15,"-") -> - | K70: Conférence Sodexo | L70: 44826
A71: PFMP 1cuis | B71: S2 | C71: 12 | D71: CC 1cuis | E71: 2 | F71: 44810 | G71: Axe2 | H71: 44995 | I71: Retour convention 1cuis | J71: =IFERROR(DATE(C35,1,1)+C77*7-WEEKDAY(DATE(C35,1,1))-15,"-") -> -
A72: PFMP 1cuis | B72: S3 | C72: 13 | D72: CC 1cuis | E72: 3 | G72: Axe3 | H72: 45051 | I72: Préparation conseil 1cuis | J72: =+F70-7 -> 44832
A73: PFMP 1cuis | B73: S4 | C73: 14 | D73: Réunion prt profs 1cuis | G73: Chef œuvre | I73: Préparation conseil 1cuis | J73: =+F71-7 -> 44803
A74: PFMP 1cuis | B74: S5 | D74: Photos classe 1cuis | I74: Préparation conseil 1cuis | J74: =+F72*7 -> 0
A75: PFMP 1cuis | B75: S6 | I75: Axe1 | J75: =+H70-30 -> 44964
A76: PFMP2 | C76: N°sem | I76: Axe2 | J76: =+H71-30 -> 44965
A77: PFMP 1cuis | B77: S1 | C77: 24 | I77: Axe3 | J77: =+H72-30 -> 45021
A78: PFMP 1cuis | B78: S2 | C78: 25 | I78: Chef œuvre
A79: PFMP 1cuis | B79: S3 | C79: 26
A80: PFMP 1cuis | B80: S4 | C80: 27
A81: PFMP 1cuis | B81: S5 | D81: Planifier visite PFMP 1 | F81: =+DATE($C$1,1,3)-WEEKDAY(DATE($C$1,1,3))-5+(7*$C$36) -> 44634
A82: PFMP 1cuis | B82: S6 | D82: Planifier visite PFMP 2
A84: Tcuisine
A86: PFMP1 | C86: N°sem | D86: Vie de classe | F86: Date | G86: CCF | H86: Date | I86: Points de vigilances | J86: Date | K86: Autre | L86: Date
A87: PFMP Tcuis | B87: S1 | C87: 11 | D87: CC Tcuis | E87: 1 | F87: 44839 | G87: Axe4 | H87: 44994 | I87: Retour convention Tcuis | J87: =IFERROR(DATE(C52,1,1)+C87*7-WEEKDAY(DATE(C52,1,1))-15,"-") -> - | K87: Conférence Sodexo | L87: 44826
A88: PFMP Tcuis | B88: S2 | C88: 12 | D88: CC Tcuis | E88: 2 | F88: 44810 | G88: Axe5 | H88: 44995 | I88: Retour convention Tcuis | J88: =IFERROR(DATE(C52,1,1)+C94*7-WEEKDAY(DATE(C52,1,1))-15,"-") -> -
A89: PFMP Tcuis | B89: S3 | C89: 13 | D89: CC Tcuis | E89: 3 | G89: Axe6 | H89: 45051 | I89: Préparation conseil Tcuis | J89: =+F87-7 -> 44832
A90: PFMP Tcuis | B90: S4 | C90: 14 | D90: Réunion prt profs Tcuis | G90: Chef œuvre | I90: Préparation conseil Tcuis | J90: =+F88-7 -> 44803
A91: PFMP Tcuis | B91: S5 | D91: Photos classe Tcuis | G91: EP1 orale | I91: Préparation conseil Tcuis | J91: =+F89*7 -> 0
A92: PFMP Tcuis | B92: S6 | G92: EP2 S1 | I92: Axe4 | J92: =+H87-30 -> 44964
A93: PFMP2 | C93: N°sem | G93: EP2 S2 | I93: Axe5 | J93: =+H88-30 -> 44965
A94: PFMP Tcuis | B94: S1 | C94: 24 | I94: Axe6 | J94: =+H89-30 -> 45021
A95: PFMP Tcuis | B95: S2 | C95: 25 | I95: Chef œuvre
A96: PFMP Tcuis | B96: S3 | C96: 26 | I96: EP1 orale
A97: PFMP Tcuis | B97: S4 | C97: 27 | I97: EP2 S1
A98: PFMP Tcuis | B98: S5 | D98: Planifier visite PFMP 1 | F98: =+DATE($C$1,1,3)-WEEKDAY(DATE($C$1,1,3))-5+(7*$C$36) -> 44634 | I98: EP2 S2
A99: PFMP Tcuis | B99: S6 | D99: Planifier visite PFMP 2

Sheet Calendrier
H1: Début de cycle : | K1: =DATE(L1,9,1) -> 45170 | L1: 2023 | M1: Année scolaire : | P1: =+L1 -> 2023 | Q1: =+L1+1 -> 2024
A2: Sem | B2: =+K1 -> 45170 | C2: Infos | D2: PFMP 1cuis | E2: PFMP Tcuis | F2: PFMP 2pro | G2: PFMP 1pro | H2: PFMP Tpro | I2: Nouvelle | J2: Vie de classe | K2: Vigilance | L2: CCF | M2: Autres | O2: Sem | P2: =EDATE($K$1,1) -> 45200 | Q2: Infos | R2: PFMP 1cuis | S2: PFMP Tcuis | T2: PFMP 2pro | U2: PFMP 1pro | V2: PFMP Tpro | W2: Vie de classe | X2: Vigilance | Y2: CCF | Z2: Autres
A3: =IFERROR(_xlfn.ISOWEEKNUM(B3),"") -> 35 | B3: =B2 -> 45170 | C3: =+IFERROR(INDEX(#REF!,MATCH(B3,#REF!,0)),"") | D3: =IFERROR(INDEX(#REF!,MATCH(A3,#REF!,0)),"") | E3: =IFERROR(INDEX(#REF!,MATCH($A3,#REF!,0)),"") | F3: =IFERROR(INDEX(#REF!,MATCH($A3,#REF!,0)),"") | G3: =IFERROR(INDEX(#REF!,MATCH($A3,#REF!,0)),"") | H3: =IFERROR(INDEX(#REF!,MATCH($A3,#REF!,0)),"") | J3: =IFERROR(INDEX(Parametrage!D:D,MATCH(B3,Parametrage!F:F,0)),"") | K3: =IFERROR(INDEX(Parametrage!I:I,MATCH(B3,Parametrage!J:J,0)),"") | L3: =IFERROR(INDEX(Parametrage!G:G,MATCH(B3,Parametrage!H:H,0)),"") | M3: =IFERROR(INDEX(Parametrage!K:K,MATCH(B3,Parametrage!L:L,0)),"") | O3: =IFERROR(_xlfn.ISOWEEKNUM(P3),"") -> 39 | P3: =P2 -> 45200 | Q3: =+IFERROR(INDEX(#REF!,MATCH(P3,#REF!,0)),"") | R3: =IFERROR(INDEX(#REF!,MATCH(O3,#REF!,0)),"") | S3: =IFERROR(INDEX(#REF!,MATCH($O3,#REF!,0)),"") | T3: =IFERROR(INDEX(#REF!,MATCH($O3,#REF!,0)),"") | U3: =IFERROR(INDEX(#REF!,MATCH($O3,#REF!,0)),"") | V3: =IFERROR(INDEX(#REF!,MATCH($O3,#REF!,0)),"") | W3: =IFERROR(INDEX(Parametrage!$D:$D,MATCH(P3,Parametrage!$F:$F,0)),"") | X3: =IFERROR(INDEX(Parametrage!$I:$I,MATCH(P3,Parametrage!$J:$J,0)),"") | Y3: =IFERROR(INDEX(Parametrage!$G:$G,MATCH(P3,Parametrage!$H:$H,0)),"") | Z3: =IFERROR(INDEX(Parametrage!$K:$K,MATCH(P3,Parametrage!$L:$L,0)),"") | AC3: Jour de l'an | AD3: =+#REF! -> #REF! | AE3: =+#REF! -> #REF!
A4: =IFERROR(_xlfn.ISOWEEKNUM(B4),"") -> 35 | B4: =B3+1 -> 45171 | C4: =+IFERROR(INDEX(#REF!,MATCH(B4,#REF!,0)),"") | D4: =IFERROR(INDEX(#REF!,MATCH(A4,#REF!,0)),"") | E4: =IFERROR(INDEX(#REF!,MATCH($A4,#REF!,0)),"") | F4: =IFERROR(INDEX(#REF!,MATCH($A4,#REF!,0)),"") | G4: =IFERROR(INDEX(#REF!,MATCH($A4,#REF!,0)),"") | H4: =IFERROR(INDEX(#REF!,MATCH($A4,#REF!,0)),"") | J4: =IFERROR(INDEX(Parametrage!D:D,MATCH(B4,Parametrage!F:F,0)),"") | K4: =IFERROR(INDEX(Parametrage!I:I,MATCH(B4,Parametrage!J:J,0)),"") | L4: =IFERROR(INDEX(Parametrage!G:G,MATCH(B4,Parametrage!H:H,0)),"") | M4: =IFERROR(INDEX(Parametrage!K:K,MATCH(B4,Parametrage!L:L,0)),"") | O4: =IFERROR(_xlfn.ISOWEEKNUM(P4),"") -> 40 | P4: =P3+1 -> 45201 | Q4: =+IFERROR(INDEX(#REF!,MATCH(P4,#REF!,0)),"") | R4: =IFERROR(INDEX(#REF!,MATCH(O4,#REF!,0)),"") | S4: =IFERROR(INDEX(#REF!,MATCH($O4,#REF!,0)),"") | T4: =IFERROR(INDEX(#REF!,MATCH($O4,#REF!,0)),"") | U4: =IFERROR(INDEX(#REF!,MATCH($O4,#REF!,0)),"") | V4: =IFERROR(INDEX(#REF!,MATCH($O4,#REF!,0)),"") | W4: =IFERROR(INDEX(Parametrage!D:D,MATCH(P4,Parametrage!F:F,0)),"") | X4: =IFERROR(INDEX(Parametrage!I:I,MATCH(P4,Parametrage!J:J,0)),"") | Y4: =IFERROR(INDEX(Parametrage!G:G,MATCH(P4,Parametrage!H:H,0)),"") | Z4: =IFERROR(INDEX(Parametrage!K:K,MATCH(P4,Parametrage!L:L,0)),"") | AC4: Pâques | AD4: =+#REF! -> #REF! | AE4: =+#REF! -> #REF!
A5: =IFERROR(_xlfn.ISOWEEKNUM(B5),"") -> 35 | B5: =B4+1 -> 45172 | C5: =+IFERROR(INDEX(#REF!,MATCH(B5,#REF!,0)),"") | D5: =IFERROR(INDEX(#REF!,MATCH(A5,#REF!,0)),"") | E5: =IFERROR(INDEX(#REF!,MATCH($A5,#REF!,0)),"") | F5: =IFERROR(INDEX(#REF!,MATCH($A5,#REF!,0)),"") | G5: =IFERROR(INDEX(#REF!,MATCH($A5,#REF!,0)),"") | H5: =IFERROR(INDEX(#REF!,MATCH($A5,#REF!,0)),"") | J5: =IFERROR(INDEX(Parametrage!D:D,MATCH(B5,Parametrage!F:F,0)),"") | K5: =IFERROR(INDEX(Parametrage!I:I,MATCH(B5,Parametrage!J:J,0)),"") | L5: =IFERROR(INDEX(Parametrage!G:G,MATCH(B5,Parametrage!H:H,0)),"") | M5: =IFERROR(INDEX(Parametrage!K:K,MATCH(B5,Parametrage!L:L,0)),"") | O5: =IFERROR(_xlfn.ISOWEEKNUM(P5),"") -> 40 | P5: =P4+1 -> 45202 | Q5: =+IFERROR(INDEX(#REF!,MATCH(P5,#REF!,0)),"") | R5: =IFERROR(INDEX(#REF!,MATCH(O5,#REF!,0)),"") | S5: =IFERROR(INDEX(#REF!,MATCH($O5,#REF!,0)),"") | T5: =IFERROR(INDEX(#REF!,MATCH($O5,#REF!,0)),"") | U5: =IFERROR(INDEX(#REF!,MATCH($O5,#REF!,0)),"") | V5: =IFERROR(INDEX(#REF!,MATCH($O5,#REF!,0)),"") | W5: =IFERROR(INDEX(Parametrage!D:D,MATCH(P5,Parametrage!F:F,0)),"") | X5: =IFERROR(INDEX(Parametrage!I:I,MATCH(P5,Parametrage!J:J,0)),"") | Y5: =IFERROR(INDEX(Parametrage!G:G,MATCH(P5,Parametrage!H:H,0)),"") | Z5: =IFERROR(INDEX(Parametrage!K:K,MATCH(P5,Parametrage!L:L,0)),"") | AC5: Lundi de pâques | AD5: =+#REF! -> #REF! | AE5: =+#REF! -> #REF!
A6: =IFERROR(_xlfn.ISOWEEKNUM(B6),"") -> 36 | B6: =B5+1 -> 45173 | C6: =+IFERROR(INDEX(#REF!,MATCH(B6,#REF!,0)),"") | D6: =IFERROR(INDEX(#REF!,MATCH(A6,#REF!,0)),"") | E6: =IFERROR(INDEX(#REF!,MATCH($A6,#REF!,0)),"") | F6: =IFERROR(INDEX(#REF!,MATCH($A6,#REF!,0)),"") | G6: =IFERROR(INDEX(#REF!,MATCH($A6,#REF!,0)),"") | H6: =IFERROR(INDEX(#REF!,MATCH($A6,#REF!,0)),"") | J6: =IFERROR(INDEX(Parametrage!D:D,MATCH(B6,Parametrage!F:F,0)),"") | K6: =IFERROR(INDEX(Parametrage!I:I,MATCH(B6,Parametrage!J:J,0)),"") | L6: =IFERROR(INDEX(Parametrage!G:G,MATCH(B6,Parametrage!H:H,0)),"") | M6: =IFERROR(INDEX(Parametrage!K:K,MATCH(B6,Parametrage!L:L,0)),"") | O6: =IFERROR(_xlfn.ISOWEEKNUM(P6),"") -> 40 | P6: =P5+1 -> 45203 | Q6: =+IFERROR(INDEX(#REF!,MATCH(P6,#REF!,0)),"") | R6: =IFERROR(INDEX(#REF!,MATCH(O6,#REF!,0)),"") | S6: =IFERROR(INDEX(#REF!,MATCH($O6,#REF!,0)),"") | T6: =IFERROR(INDEX(#REF!,MATCH($O6,#REF!,0)),"") | U6: =IFERROR(INDEX(#REF!,MATCH($O6,#REF!,0)),"") | V6: =IFERROR(INDEX(#REF!,MATCH($O6,#REF!,0)),"") | W6: =IFERROR(INDEX(Parametrage!D:D,MATCH(P6,Parametrage!F:F,0)),"") | X6: =IFERROR(INDEX(Parametrage!I:I,MATCH(P6,Parametrage!J:J,0)),"") | Y6: =IFERROR(INDEX(Parametrage!G:G,MATCH(P6,Parametrage!H:H,0)),"") | Z6: =IFERROR(INDEX(Parametrage!K:K,MATCH(P6,Parametrage!L:L,0)),"") | AC6: Fête deu travail | AD6: =+#REF! -> #REF! | AE6: =+#REF! -> #REF!
A7: =IFERROR(_xlfn.ISOWEEKNUM(B7),"") -> 36 | B7: =B6+1 -> 45174 | C7: bb | D7: nn | E7: dd | F7: rr | G7: tt | H7: yy | J7: rr | K7: tt | L7: yy | M7: uu | O7: =IFERROR(_xlfn.ISOWEEKNUM(P7),"") -> 40 | P7: =P6+1 -> 45204 | Q7: =+IFERROR(INDEX(#REF!,MATCH(P7,#REF!,0)),"") | R7: =IFERROR(INDEX(#REF!,MATCH(O7,#REF!,0)),"") | S7: =IFERROR(INDEX(#REF!,MATCH($O7,#REF!,0)),"") | T7: =IFERROR(INDEX(#REF!,MATCH($O7,#REF!,0)),"") | U7: =IFERROR(INDEX(#REF!,MATCH($O7,#REF!,0)),"") | V7: =IFERROR(INDEX(#REF!,MATCH($O7,#REF!,0)),"") | W7: =IFERROR(INDEX(Parametrage!D:D,MATCH(P7,Parametrage!F:F,0)),"") | X7: =IFERROR(INDEX(Parametrage!I:I,MATCH(P7,Parametrage!J:J,0)),"") | Y7: =IFERROR(INDEX(Parametrage!G:G,MATCH(P7,Parametrage!H:H,0)),"") | Z7: =IFERROR(INDEX(Parametrage!K:K,MATCH(P7,Parametrage!L:L,0)),"") | AC7: Armistice 39/45 | AD7: =+#REF! -> #REF! | AE7: =+#REF! -> #REF!
A8: =IFERROR(_xlfn.ISOWEEKNUM(B8),"") -> 36 | B8: =B7+1 -> 45175 | C8: =+IFERROR(INDEX(#REF!,MATCH(B8,#REF!,0)),"") | D8: ff | E8: =IFERROR(INDEX(#REF!,MATCH($A8,#REF!,0)),"") | F8: =IFERROR(INDEX(#REF!,MATCH($A8,#REF!,0)),"") | G8: =IFERROR(INDEX(#REF!,MATCH($A8,#REF!,0)),"") | H8: =IFERROR(INDEX(#REF!,MATCH($A8,#REF!,0)),"") | J8: =IFERROR(INDEX(Parametrage!D:D,MATCH(B8,Parametrage!F:F,0)),"") | K8: =IFERROR(INDEX(Parametrage!I:I,MATCH(B8,Parametrage!J:J,0)),"") | L8: =IFERROR(INDEX(Parametrage!G:G,MATCH(B8,Parametrage!H:H,0)),"") | M8: =IFERROR(INDEX(Parametrage!K:K,MATCH(B8,Parametrage!L:L,0)),"") | O8: =IFERROR(_xlfn.ISOWEEKNUM(P8),"") -> 40 | P8: =P7+1 -> 45205 | Q8: =+IFERROR(INDEX(#REF!,MATCH(P8,#REF!,0)),"") | R8: =IFERROR(INDEX(#REF!,MATCH(O8,#REF!,0)),"") | S8: =IFERROR(INDEX(#REF!,MATCH($O8,#REF!,0)),"") | T8: =IFERROR(INDEX(#REF!,MATCH($O8,#REF!,0)),"") | U8: =IFERROR(INDEX(#REF!,MATCH($O8,#REF!,0)),"") | V8: =IFERROR(INDEX(#REF!,MATCH($O8,#REF!,0)),"") | W8: =IFERROR(INDEX(Parametrage!D:D,MATCH(P8,Parametrage!F:F,0)),"") | X8: =IFERROR(INDEX(Parametrage!I:I,MATCH(P8,Parametrage!J:J,0)),"") | Y8: =IFERROR(INDEX(Parametrage!G:G,MATCH(P8,Parametrage!H:H,0)),"") | Z8: =IFERROR(INDEX(Parametrage!K:K,MATCH(P8,Parametrage!L:L,0)),"") | AC8: Ascension | AD8: =+#REF! -> #REF! | AE8: =+#REF! -> #REF!
A9: =IFERROR(_xlfn.ISOWEEKNUM(B9),"") -> 36 | B9: =B8+1 -> 45176 | C9: =+IFERROR(INDEX(#REF!,MATCH(B9,#REF!,0)),"") | D9: =IFERROR(INDEX(#REF!,MATCH(A9,#REF!,0)),"") | E9: =IFERROR(INDEX(#REF!,MATCH($A9,#REF!,0)),"") | F9: =IFERROR(INDEX(#REF!,MATCH($A9,#REF!,0)),"") | G9: =IFERROR(INDEX(#REF!,MATCH($A9,#REF!,0)),"") | H9: =IFERROR(INDEX(#REF!,MATCH($A9,#REF!,0)),"") | J9: =IFERROR(INDEX(Parametrage!D:D,MATCH(B9,Parametrage!F:F,0)),"") | K9: =IFERROR(INDEX(Parametrage!I:I,MATCH(B9,Parametrage!J:J,0)),"") | L9: =IFERROR(INDEX(Parametrage!G:G,MATCH(B9,Parametrage!H:H,0)),"") | M9: =IFERROR(INDEX(Parametrage!K:K,MATCH(B9,Parametrage!L:L,0)),"") | O9: =IFERROR(_xlfn.ISOWEEKNUM(P9),"") -> 40 | P9: =P8+1 -> 45206 | Q9: =+IFERROR(INDEX(#REF!,MATCH(P9,#REF!,0)),"") | R9: =IFERROR(INDEX(#REF!,MATCH(O9,#REF!,0)),"") | S9: =IFERROR(INDEX(#REF!,MATCH($O9,#REF!,0)),"") | T9: =IFERROR(INDEX(#REF!,MATCH($O9,#REF!,0)),"") | U9: =IFERROR(INDEX(#REF!,MATCH($O9,#REF!,0)),"") | V9: =IFERROR(INDEX(#REF!,MATCH($O9,#REF!,0)),"") | W9: =IFERROR(INDEX(Parametrage!D:D,MATCH(P9,Parametrage!F:F,0)),"") | X9: =IFERROR(INDEX(Parametrage!I:I,MATCH(P9,Parametrage!J:J,0)),"") | Y9: =IFERROR(INDEX(Parametrage!G:G,MATCH(P9,Parametrage!H:H,0)),"") | Z9: =IFERROR(INDEX(Parametrage!K:K,MATCH(P9,Parametrage!L:L,0)),"") | AC9: Pentecôte | AD9: =+#REF! -> #REF! | AE9: =+#REF! -> #REF!
A10: =IFERROR(_xlfn.ISOWEEKNUM(B10),"") -> 36 | B10: =B9+1 -> 45177 | C10: =+IFERROR(INDEX(#REF!,MATCH(B10,#REF!,0)),"") | D10: =IFERROR(INDEX(#REF!,MATCH(A10,#REF!,0)),"") | E10: =IFERROR(INDEX(#REF!,MATCH($A10,#REF!,0)),"") | F10: =IFERROR(INDEX(#REF!,MATCH($A10,#REF!,0)),"") | G10: =IFERROR(INDEX(#REF!,MATCH($A10,#REF!,0)),"") | H10: =IFERROR(INDEX(#REF!,MATCH($A10,#REF!,0)),"") | J10: =IFERROR(INDEX(Parametrage!D:D,MATCH(B10,Parametrage!F:F,0)),"") | K10: =IFERROR(INDEX(Parametrage!I:I,MATCH(B10,Parametrage!J:J,0)),"") | L10: =IFERROR(INDEX(Parametrage!G:G,MATCH(B10,Parametrage!H:H,0)),"") | M10: =IFERROR(INDEX(Parametrage!K:K,MATCH(B10,Parametrage!L:L,0)),"") | O10: =IFERROR(_xlfn.ISOWEEKNUM(P10),"") -> 40 | P10: =P9+1 -> 45207 | Q10: =+IFERROR(INDEX(#REF!,MATCH(P10,#REF!,0)),"") | R10: =IFERROR(INDEX(#REF!,MATCH(O10,#REF!,0)),"") | S10: =IFERROR(INDEX(#REF!,MATCH($O10,#REF!,0)),"") | T10: =IFERROR(INDEX(#REF!,MATCH($O10,#REF!,0)),"") | U10: =IFERROR(INDEX(#REF!,MATCH($O10,#REF!,0)),"") | V10: =IFERROR(INDEX(#REF!,MATCH($O10,#REF!,0)),"") | W10: =IFERROR(INDEX(Parametrage!D:D,MATCH(P10,Parametrage!F:F,0)),"") | X10: =IFERROR(INDEX(Parametrage!I:I,MATCH(P10,Parametrage!J:J,0)),"") | Y10: =IFERROR(INDEX(Parametrage!G:G,MATCH(P10,Parametrage!H:H,0)),"") | Z10: =IFERROR(INDEX(Parametrage!K:K,MATCH(P10,Parametrage!L:L,0)),"") | AC10: Lundi de Pentecôte | AD10: =+#REF! -> #REF! | AE10: =+#REF! -> #REF!
A11: =IFERROR(_xlfn.ISOWEEKNUM(B11),"") -> 36 | B11: =B10+1 -> 45178 | C11: =+IFERROR(INDEX(#REF!,MATCH(B11,#REF!,0)),"") | D11: =IFERROR(INDEX(#REF!,MATCH(A11,#REF!,0)),"") | E11: =IFERROR(INDEX(#REF!,MATCH($A11,#REF!,0)),"") | F11: =IFERROR(INDEX(#REF!,MATCH($A11,#REF!,0)),"") | G11: =IFERROR(INDEX(#REF!,MATCH($A11,#REF!,0)),"") | H11: =IFERROR(INDEX(#REF!,MATCH($A11,#REF!,0)),"") | J11: =IFERROR(INDEX(Parametrage!D:D,MATCH(B11,Parametrage!F:F,0)),"") | K11: =IFERROR(INDEX(Parametrage!I:I,MATCH(B11,Parametrage!J:J,0)),"") | L11: =IFERROR(INDEX(Parametrage!G:G,MATCH(B11,Parametrage!H:H,0)),"") | M11: =IFERROR(INDEX(Parametrage!K:K,MATCH(B11,Parametrage!L:L,0)),"") | O11: =IFERROR(_xlfn.ISOWEEKNUM(P11),"") -> 41 | P11: =P10+1 -> 45208 | Q11: =+IFERROR(INDEX(#REF!,MATCH(P11,#REF!,0)),"") | R11: =IFERROR(INDEX(#REF!,MATCH(O11,#REF!,0)),"") | S11: =IFERROR(INDEX(#REF!,MATCH($O11,#REF!,0)),"") | T11: =IFERROR(INDEX(#REF!,MATCH($O11,#REF!,0)),"") | U11: =IFERROR(INDEX(#REF!,MATCH($O11,#REF!,0)),"") | V11: =IFERROR(INDEX(#REF!,MATCH($O11,#REF!,0)),"") | W11: =IFERROR(INDEX(Parametrage!D:D,MATCH(P11,Parametrage!F:F,0)),"") | X11: =IFERROR(INDEX(Parametrage!I:I,MATCH(P11,Parametrage!J:J,0)),"") | Y11: =IFERROR(INDEX(Parametrage!G:G,MATCH(P11,Parametrage!H:H,0)),"") | Z11: =IFERROR(INDEX(Parametrage!K:K,MATCH(P11,Parametrage!L:L,0)),"") | AC11: Fête nationale | AD11: =+#REF! -> #REF! | AE11: =+#REF! -> #REF!
A12: =IFERROR(_xlfn.ISOWEEKNUM(B12),"") -> 36 | B12: =B11+1 -> 45179 | C12: =+IFERROR(INDEX(#REF!,MATCH(B12,#REF!,0)),"") | D12: =IFERROR(INDEX(#REF!,MATCH(A12,#REF!,0)),"") | E12: =IFERROR(INDEX(#REF!,MATCH($A12,#REF!,0)),"") | F12: =IFERROR(INDEX(#REF!,MATCH($A12,#REF!,0)),"") | G12: =IFERROR(INDEX(#REF!,MATCH($A12,#REF!,0)),"") | H12: =IFERROR(INDEX(#REF!,MATCH($A12,#REF!,0)),"") | J12: =IFERROR(INDEX(Parametrage!D:D,MATCH(B12,Parametrage!F:F,0)),"") | K12: =IFERROR(INDEX(Parametrage!I:I,MATCH(B12,Parametrage!J:J,0)),"") | L12: =IFERROR(INDEX(Parametrage!G:G,MATCH(B12,Parametrage!H:H,0)),"") | M12: =IFERROR(INDEX(Parametrage!K:K,MATCH(B12,Parametrage!L:L,0)),"") | O12: =IFERROR(_xlfn.ISOWEEKNUM(P12),"") -> 41 | P12: =P11+1 -> 45209 | Q12: =+IFERROR(INDEX(#REF!,MATCH(P12,#REF!,0)),"") | R12: =IFERROR(INDEX(#REF!,MATCH(O12,#REF!,0)),"") | S12: =IFERROR(INDEX(#REF!,MATCH($O12,#REF!,0)),"") | T12: =IFERROR(INDEX(#REF!,MATCH($O12,#REF!,0)),"") | U12: =IFERROR(INDEX(#REF!,MATCH($O12,#REF!,0)),"") | V12: =IFERROR(INDEX(#REF!,MATCH($O12,#REF!,0)),"") | W12: =IFERROR(INDEX(Parametrage!D:D,MATCH(P12,Parametrage!F:F,0)),"") | X12: =IFERROR(INDEX(Parametrage!I:I,MATCH(P12,Parametrage!J:J,0)),"") | Y12: =IFERROR(INDEX(Parametrage!G:G,MATCH(P12,Parametrage!H:H,0)),"") | Z12: =IFERROR(INDEX(Parametrage!K:K,MATCH(P12,Parametrage!L:L,0)),"") | AC12: Asomption | AD12: =+#REF! -> #REF! | AE12: =+#REF! -> #REF!
A13: =IFERROR(_xlfn.ISOWEEKNUM(B13),"") -> 37 | B13: =B12+1 -> 45180 | C13: =+IFERROR(INDEX(#REF!,MATCH(B13,#REF!,0)),"") | D13: =IFERROR(INDEX(#REF!,MATCH(A13,#REF!,0)),"") | E13: =IFERROR(INDEX(#REF!,MATCH($A13,#REF!,0)),"") | F13: =IFERROR(INDEX(#REF!,MATCH($A13,#REF!,0)),"") | G13: =IFERROR(INDEX(#REF!,MATCH($A13,#REF!,0)),"") | H13: =IFERROR(INDEX(#REF!,MATCH($A13,#REF!,0)),"") | J13: =IFERROR(INDEX(Parametrage!D:D,MATCH(B13,Parametrage!F:F,0)),"") | K13: =IFERROR(INDEX(Parametrage!I:I,MATCH(B13,Parametrage!J:J,0)),"") | L13: =IFERROR(INDEX(Parametrage!G:G,MATCH(B13,Parametrage!H:H,0)),"") | M13: =IFERROR(INDEX(Parametrage!K:K,MATCH(B13,Parametrage!L:L,0)),"") | O13: =IFERROR(_xlfn.ISOWEEKNUM(P13),"") -> 41 | P13: =P12+1 -> 45210 | Q13: =+IFERROR(INDEX(#REF!,MATCH(P13,#REF!,0)),"") | R13: =IFERROR(INDEX(#REF!,MATCH(O13,#REF!,0)),"") | S13: =IFERROR(INDEX(#REF!,MATCH($O13,#REF!,0)),"") | T13: =IFERROR(INDEX(#REF!,MATCH($O13,#REF!,0)),"") | U13: =IFERROR(INDEX(#REF!,MATCH($O13,#REF!,0)),"") | V13: =IFERROR(INDEX(#REF!,MATCH($O13,#REF!,0)),"") | W13: =IFERROR(INDEX(Parametrage!D:D,MATCH(P13,Parametrage!F:F,0)),"") | X13: =IFERROR(INDEX(Parametrage!I:I,MATCH(P13,Parametrage!J:J,0)),"") | Y13: =IFERROR(INDEX(Parametrage!G:G,MATCH(P13,Parametrage!H:H,0)),"") | Z13: =IFERROR(INDEX(Parametrage!K:K,MATCH(P13,Parametrage!L:L,0)),"") | AC13: Toussaint | AD13: =+#REF! -> #REF! | AE13: =+#REF! -> #REF!
A14: =IFERROR(_xlfn.ISOWEEKNUM(B14),"") -> 37 | B14: =B13+1 -> 45181 | C14: =+IFERROR(INDEX(#REF!,MATCH(B14,#REF!,0)),"") | D14: =IFERROR(INDEX(#REF!,MATCH(A14,#REF!,0)),"") | E14: =IFERROR(INDEX(#REF!,MATCH($A14,#REF!,0)),"") | F14: =IFERROR(INDEX(#REF!,MATCH($A14,#REF!,0)),"") | G14: =IFERROR(INDEX(#REF!,MATCH($A14,#REF!,0)),"") | H14: =IFERROR(INDEX(#REF!,MATCH($A14,#REF!,0)),"") | J14: =IFERROR(INDEX(Parametrage!D:D,MATCH(B14,Parametrage!F:F,0)),"") | K14: =IFERROR(INDEX(Parametrage!I:I,MATCH(B14,Parametrage!J:J,0)),"") | L14: =IFERROR(INDEX(Parametrage!G:G,MATCH(B14,Parametrage!H:H,0)),"") | M14: =IFERROR(INDEX(Parametrage!K:K,MATCH(B14,Parametrage!L:L,0)),"") | O14: =IFERROR(_xlfn.ISOWEEKNUM(P14),"") -> 41 | P14: =P13+1 -> 45211 | Q14: =+IFERROR(INDEX(#REF!,MATCH(P14,#REF!,0)),"") | R14: =IFERROR(INDEX(#REF!,MATCH(O14,#REF!,0)),"") | S14: =IFERROR(INDEX(#REF!,MATCH($O14,#REF!,0)),"") | T14: =IFERROR(INDEX(#REF!,MATCH($O14,#REF!,0)),"") | U14: =IFERROR(INDEX(#REF!,MATCH($O14,#REF!,0)),"") | V14: =IFERROR(INDEX(#REF!,MATCH($O14,#REF!,0)),"") | W14: =IFERROR(INDEX(Parametrage!D:D,MATCH(P14,Parametrage!F:F,0)),"") | X14: =IFERROR(INDEX(Parametrage!I:I,MATCH(P14,Parametrage!J:J,0)),"") | Y14: =IFERROR(INDEX(Parametrage!G:G,MATCH(P14,Parametrage!H:H,0)),"") | Z14: =IFERROR(INDEX(Parametrage!K:K,MATCH(P14,Parametrage!L:L,0)),"") | AC14: Armistice 14/18 | AD14: =+#REF! -> #REF! | AE14: =+#REF! -> #REF!
A15: =IFERROR(_xlfn.ISOWEEKNUM(B15),"") -> 37 | B15: =B14+1 -> 45182 | C15: =+IFERROR(INDEX(#REF!,MATCH(B15,#REF!,0)),"") | D15: =IFERROR(INDEX(#REF!,MATCH(A15,#REF!,0)),"") | E15: =IFERROR(INDEX(#REF!,MATCH($A15,#REF!,0)),"") | F15: =IFERROR(INDEX(#REF!,MATCH($A15,#REF!,0)),"") | G15: =IFERROR(INDEX(#REF!,MATCH($A15,#REF!,0)),"") | H15: =IFERROR(INDEX(#REF!,MATCH($A15,#REF!,0)),"") | J15: =IFERROR(INDEX(Parametrage!D:D,MATCH(B15,Parametrage!F:F,0)),"") | K15: =IFERROR(INDEX(Parametrage!I:I,MATCH(B15,Parametrage!J:J,0)),"") | L15: =IFERROR(INDEX(Parametrage!G:G,MATCH(B15,Parametrage!H:H,0)),"") | M15: =IFERROR(INDEX(Parametrage!K:K,MATCH(B15,Parametrage!L:L,0)),"") | O15: =IFERROR(_xlfn.ISOWEEKNUM(P15),"") -> 41 | P15: =P14+1 -> 45212 | Q15: =+IFERROR(INDEX(#REF!,MATCH(P15,#REF!,0)),"") | R15: =IFERROR(INDEX(#REF!,MATCH(O15,#REF!,0)),"") | S15: =IFERROR(INDEX(#REF!,MATCH($O15,#REF!,0)),"") | T15: =IFERROR(INDEX(#REF!,MATCH($O15,#REF!,0)),"") | U15: =IFERROR(INDEX(#REF!,MATCH($O15,#REF!,0)),"") | V15: =IFERROR(INDEX(#REF!,MATCH($O15,#REF!,0)),"") | W15: =IFERROR(INDEX(Parametrage!D:D,MATCH(P15,Parametrage!F:F,0)),"") | X15: =IFERROR(INDEX(Parametrage!I:I,MATCH(P15,Parametrage!J:J,0)),"") | Y15: =IFERROR(INDEX(Parametrage!G:G,MATCH(P15,Parametrage!H:H,0)),"") | Z15: =IFERROR(INDEX(Parametrage!K:K,MATCH(P15,Parametrage!L:L,0)),"") | AC15: Noël | AD15: =+#REF! -> #REF! | AE15: =+#REF! -> #REF!
A16: =IFERROR(_xlfn.ISOWEEKNUM(B16),"") -> 37 | B16: =B15+1 -> 45183 | C16: =+IFERROR(INDEX(#REF!,MATCH(B16,#REF!,0)),"") | D16: =IFERROR(INDEX(#REF!,MATCH(A16,#REF!,0)),"") | E16: =IFERROR(INDEX(#REF!,MATCH($A16,#REF!,0)),"") | F16: =IFERROR(INDEX(#REF!,MATCH($A16,#REF!,0)),"") | G16: =IFERROR(INDEX(#REF!,MATCH($A16,#REF!,0)),"") | H16: =IFERROR(INDEX(#REF!,MATCH($A16,#REF!,0)),"") | J16: =IFERROR(INDEX(Parametrage!D:D,MATCH(B16,Parametrage!F:F,0)),"") | K16: =IFERROR(INDEX(Parametrage!I:I,MATCH(B16,Parametrage!J:J,0)),"") | L16: =IFERROR(INDEX(Parametrage!G:G,MATCH(B16,Parametrage!H:H,0)),"") | M16: =IFERROR(INDEX(Parametrage!K:K,MATCH(B16,Parametrage!L:L,0)),"") | O16: =IFERROR(_xlfn.ISOWEEKNUM(P16),"") -> 41 | P16: =P15+1 -> 45213 | Q16: =+IFERROR(INDEX(#REF!,MATCH(P16,#REF!,0)),"") | R16: =IFERROR(INDEX(#REF!,MATCH(O16,#REF!,0)),"") | S16: =IFERROR(INDEX(#REF!,MATCH($O16,#REF!,0)),"") | T16: =IFERROR(INDEX(#REF!,MATCH($O16,#REF!,0)),"") | U16: =IFERROR(INDEX(#REF!,MATCH($O16,#REF!,0)),"") | V16: =IFERROR(INDEX(#REF!,MATCH($O16,#REF!,0)),"") | W16: =IFERROR(INDEX(Parametrage!D:D,MATCH(P16,Parametrage!F:F,0)),"") | X16: =IFERROR(INDEX(Parametrage!I:I,MATCH(P16,Parametrage!J:J,0)),"") | Y16: =IFERROR(INDEX(Parametrage!G:G,MATCH(P16,Parametrage!H:H,0)),"") | Z16: =IFERROR(INDEX(Parametrage!K:K,MATCH(P16,Parametrage!L:L,0)),"")
A17: =IFERROR(_xlfn.ISOWEEKNUM(B17),"") -> 37 | B17: =B16+1 -> 45184 | C17: =+IFERROR(INDEX(#REF!,MATCH(B17,#REF!,0)),"") | D17: =IFERROR(INDEX(#REF!,MATCH(A17,#REF!,0)),"") | E17: =IFERROR(INDEX(#REF!,MATCH($A17,#REF!,0)),"") | F17: =IFERROR(INDEX(#REF!,MATCH($A17,#REF!,0)),"") | G17: =IFERROR(INDEX(#REF!,MATCH($A17,#REF!,0)),"") | H17: =IFERROR(INDEX(#REF!,MATCH($A17,#REF!,0)),"") | J17: =IFERROR(INDEX(Parametrage!D:D,MATCH(B17,Parametrage!F:F,0)),"") | K17: =IFERROR(INDEX(Parametrage!I:I,MATCH(B17,Parametrage!J:J,0)),"") | L17: =IFERROR(INDEX(Parametrage!G:G,MATCH(B17,Parametrage!H:H,0)),"") | M17: =IFERROR(INDEX(Parametrage!K:K,MATCH(B17,Parametrage!L:L,0)),"") | O17: =IFERROR(_xlfn.ISOWEEKNUM(P17),"") -> 41 | P17: =P16+1 -> 45214 | Q17: =+IFERROR(INDEX(#REF!,MATCH(P17,#REF!,0)),"") | R17: =IFERROR(INDEX(#REF!,MATCH(O17,#REF!,0)),"") | S17: =IFERROR(INDEX(#REF!,MATCH($O17,#REF!,0)),"") | T17: =IFERROR(INDEX(#REF!,MATCH($O17,#REF!,0)),"") | U17: =IFERROR(INDEX(#REF!,MATCH($O17,#REF!,0)),"") | V17: =IFERROR(INDEX(#REF!,MATCH($O17,#REF!,0)),"") | W17: =IFERROR(INDEX(Parametrage!D:D,MATCH(P17,Parametrage!F:F,0)),"") | X17: =IFERROR(INDEX(Parametrage!I:I,MATCH(P17,Parametrage!J:J,0)),"") | Y17: =IFERROR(INDEX(Parametrage!G:G,MATCH(P17,Parametrage!H:H,0)),"") | Z17: =IFERROR(INDEX(Parametrage!K:K,MATCH(P17,Parametrage!L:L,0)),"") | AD17: Semaine
A18: =IFERROR(_xlfn.ISOWEEKNUM(B18),"") -> 37 | B18: =B17+1 -> 45185 | C18: =+IFERROR(INDEX(#REF!,MATCH(B18,#REF!,0)),"") | D18: =IFERROR(INDEX(#REF!,MATCH(A18,#REF!,0)),"") | E18: =IFERROR(INDEX(#REF!,MATCH($A18,#REF!,0)),"") | F18: =IFERROR(INDEX(#REF!,MATCH($A18,#REF!,0)),"") | G18: =IFERROR(INDEX(#REF!,MATCH($A18,#REF!,0)),"") | H18: =IFERROR(INDEX(#REF!,MATCH($A18,#REF!,0)),"") | J18: =IFERROR(INDEX(Parametrage!D:D,MATCH(B18,Parametrage!F:F,0)),"") | K18: =IFERROR(INDEX(Parametrage!I:I,MATCH(B18,Parametrage!J:J,0)),"") | L18: =IFERROR(INDEX(Parametrage!G:G,MATCH(B18,Parametrage!H:H,0)),"") | M18: =IFERROR(INDEX(Parametrage!K:K,MATCH(B18,Parametrage!L:L,0)),"") | O18: =IFERROR(_xlfn.ISOWEEKNUM(P18),"") -> 42 | P18: =P17+1 -> 45215 | Q18: =+IFERROR(INDEX(#REF!,MATCH(P18,#REF!,0)),"") | R18: =IFERROR(INDEX(#REF!,MATCH(O18,#REF!,0)),"") | S18: =IFERROR(INDEX(#REF!,MATCH($O18,#REF!,0)),"") | T18: =IFERROR(INDEX(#REF!,MATCH($O18,#REF!,0)),"") | U18: =IFERROR(INDEX(#REF!,MATCH($O18,#REF!,0)),"") | V18: =IFERROR(INDEX(#REF!,MATCH($O18,#REF!,0)),"") | W18: =IFERROR(INDEX(Parametrage!D:D,MATCH(P18,Parametrage!F:F,0)),"") | X18: =IFERROR(INDEX(Parametrage!I:I,MATCH(P18,Parametrage!J:J,0)),"") | Y18: =IFERROR(INDEX(Parametrage!G:G,MATCH(P18,Parametrage!H:H,0)),"") | Z18: =IFERROR(INDEX(Parametrage!K:K,MATCH(P18,Parametrage!L:L,0)),"") | AC18: =+#REF! -> #REF! | AD18: =+#REF! -> #REF!
A19: =IFERROR(_xlfn.ISOWEEKNUM(B19),"") -> 37 | B19: =B18+1 -> 45186 | C19: =+IFERROR(INDEX(#REF!,MATCH(B19,#REF!,0)),"") | D19: =IFERROR(INDEX(#REF!,MATCH(A19,#REF!,0)),"") | E19: =IFERROR(INDEX(#REF!,MATCH($A19,#REF!,0)),"") | F19: =IFERROR(INDEX(#REF!,MATCH($A19,#REF!,0)),"") | G19: =IFERROR(INDEX(#REF!,MATCH($A19,#REF!,0)),"") | H19: =IFERROR(INDEX(#REF!,MATCH($A19,#REF!,0)),"") | J19: =IFERROR(INDEX(Parametrage!D:D,MATCH(B19,Parametrage!F:F,0)),"") | K19: =IFERROR(INDEX(Parametrage!I:I,MATCH(B19,Parametrage!J:J,0)),"") | L19: =IFERROR(INDEX(Parametrage!G:G,MATCH(B19,Parametrage!H:H,0)),"") | M19: =IFERROR(INDEX(Parametrage!K:K,MATCH(B19,Parametrage!L:L,0)),"") | O19: =IFERROR(_xlfn.ISOWEEKNUM(P19),"") -> 42 | P19: =P18+1 -> 45216 | Q19: =+IFERROR(INDEX(#REF!,MATCH(P19,#REF!,0)),"") | R19: =IFERROR(INDEX(#REF!,MATCH(O19,#REF!,0)),"") | S19: =IFERROR(INDEX(#REF!,MATCH($O19,#REF!,0)),"") | T19: =IFERROR(INDEX(#REF!,MATCH($O19,#REF!,0)),"") | U19: =IFERROR(INDEX(#REF!,MATCH($O19,#REF!,0)),"") | V19: =IFERROR(INDEX(#REF!,MATCH($O19,#REF!,0)),"") | W19: =IFERROR(INDEX(Parametrage!D:D,MATCH(P19,Parametrage!F:F,0)),"") | X19: =IFERROR(INDEX(Parametrage!I:I,MATCH(P19,Parametrage!J:J,0)),"") | Y19: =IFERROR(INDEX(Parametrage!G:G,MATCH(P19,Parametrage!H:H,0)),"") | Z19: =IFERROR(INDEX(Parametrage!K:K,MATCH(P19,Parametrage!L:L,0)),"") | AD19: =+#REF! -> #REF!
A20: =IFERROR(_xlfn.ISOWEEKNUM(B20),"") -> 38 | B20: =B19+1 -> 45187 | C20: =+IFERROR(INDEX(#REF!,MATCH(B20,#REF!,0)),"") | D20: =IFERROR(INDEX(#REF!,MATCH(A20,#REF!,0)),"") | E20: =IFERROR(INDEX(#REF!,MATCH($A20,#REF!,0)),"") | F20: =IFERROR(INDEX(#REF!,MATCH($A20,#REF!,0)),"") | G20: =IFERROR(INDEX(#REF!,MATCH($A20,#REF!,0)),"") | H20: =IFERROR(INDEX(#REF!,MATCH($A20,#REF!,0)),"") | J20: =IFERROR(INDEX(Parametrage!D:D,MATCH(B20,Parametrage!F:F,0)),"") | K20: =IFERROR(INDEX(Parametrage!I:I,MATCH(B20,Parametrage!J:J,0)),"") | L20: =IFERROR(INDEX(Parametrage!G:G,MATCH(B20,Parametrage!H:H,0)),"") | M20: =IFERROR(INDEX(Parametrage!K:K,MATCH(B20,Parametrage!L:L,0)),"") | O20: =IFERROR(_xlfn.ISOWEEKNUM(P20),"") -> 42 | P20: =P19+1 -> 45217 | Q20: =+IFERROR(INDEX(#REF!,MATCH(P20,#REF!,0)),"") | R20: =IFERROR(INDEX(#REF!,MATCH(O20,#REF!,0)),"") | S20: =IFERROR(INDEX(#REF!,MATCH($O20,#REF!,0)),"") | T20: =IFERROR(INDEX(#REF!,MATCH($O20,#REF!,0)),"") | U20: =IFERROR(INDEX(#REF!,MATCH($O20,#REF!,0)),"") | V20: =IFERROR(INDEX(#REF!,MATCH($O20,#REF!,0)),"") | W20: =IFERROR(INDEX(Parametrage!D:D,MATCH(P20,Parametrage!F:F,0)),"") | X20: =IFERROR(INDEX(Parametrage!I:I,MATCH(P20,Parametrage!J:J,0)),"") | Y20: =IFERROR(INDEX(Parametrage!G:G,MATCH(P20,Parametrage!H:H,0)),"") | Z20: =IFERROR(INDEX(Parametrage!K:K,MATCH(P20,Parametrage!L:L,0)),"") | AC20: =+#REF! -> #REF! | AD20: =+#REF! -> #REF!
A21: =IFERROR(_xlfn.ISOWEEKNUM(B21),"") -> 38 | B21: =B20+1 -> 45188 | C21: =+IFERROR(INDEX(#REF!,MATCH(B21,#REF!,0)),"") | D21: =IFERROR(INDEX(#REF!,MATCH(A21,#REF!,0)),"") | E21: =IFERROR(INDEX(#REF!,MATCH($A21,#REF!,0)),"") | F21: =IFERROR(INDEX(#REF!,MATCH($A21,#REF!,0)),"") | G21: =IFERROR(INDEX(#REF!,MATCH($A21,#REF!,0)),"") | H21: =IFERROR(INDEX(#REF!,MATCH($A21,#REF!,0)),"") | J21: =IFERROR(INDEX(Parametrage!D:D,MATCH(B21,Parametrage!F:F,0)),"") | K21: =IFERROR(INDEX(Parametrage!I:I,MATCH(B21,Parametrage!J:J,0)),"") | L21: =IFERROR(INDEX(Parametrage!G:G,MATCH(B21,Parametrage!H:H,0)),"") | M21: =IFERROR(INDEX(Parametrage!K:K,MATCH(B21,Parametrage!L:L,0)),"") | O21: =IFERROR(_xlfn.ISOWEEKNUM(P21),"") -> 42 | P21: =P20+1 -> 45218 | Q21: =+IFERROR(INDEX(#REF!,MATCH(P21,#REF!,0)),"") | R21: =IFERROR(INDEX(#REF!,MATCH(O21,#REF!,0)),"") | S21: =IFERROR(INDEX(#REF!,MATCH($O21,#REF!,0)),"") | T21: =IFERROR(INDEX(#REF!,MATCH($O21,#REF!,0)),"") | U21: =IFERROR(INDEX(#REF!,MATCH($O21,#REF!,0)),"") | V21: =IFERROR(INDEX(#REF!,MATCH($O21,#REF!,0)),"") | W21: =IFERROR(INDEX(Parametrage!D:D,MATCH(P21,Parametrage!F:F,0)),"") | X21: =IFERROR(INDEX(Parametrage!I:I,MATCH(P21,Parametrage!J:J,0)),"") | Y21: =IFERROR(INDEX(Parametrage!G:G,MATCH(P21,Parametrage!H:H,0)),"") | Z21: =IFERROR(INDEX(Parametrage!K:K,MATCH(P21,Parametrage!L:L,0)),"") | AD21: =+#REF! -> #REF!
A22: =IFERROR(_xlfn.ISOWEEKNUM(B22),"") -> 38 | B22: =B21+1 -> 45189 | C22: =+IFERROR(INDEX(#REF!,MATCH(B22,#REF!,0)),"") | D22: =IFERROR(INDEX(#REF!,MATCH(A22,#REF!,0)),"") | E22: =IFERROR(INDEX(#REF!,MATCH($A22,#REF!,0)),"") | F22: =IFERROR(INDEX(#REF!,MATCH($A22,#REF!,0)),"") | G22: =IFERROR(INDEX(#REF!,MATCH($A22,#REF!,0)),"") | H22: =IFERROR(INDEX(#REF!,MATCH($A22,#REF!,0)),"") | J22: =IFERROR(INDEX(Parametrage!D:D,MATCH(B22,Parametrage!F:F,0)),"") | K22: =IFERROR(INDEX(Parametrage!I:I,MATCH(B22,Parametrage!J:J,0)),"") | L22: =IFERROR(INDEX(Parametrage!G:G,MATCH(B22,Parametrage!H:H,0)),"") | M22: =IFERROR(INDEX(Parametrage!K:K,MATCH(B22,Parametrage!L:L,0)),"") | O22: =IFERROR(_xlfn.ISOWEEKNUM(P22),"") -> 42 | P22: =P21+1 -> 45219 | Q22: =+IFERROR(INDEX(#REF!,MATCH(P22,#REF!,0)),"") | R22: =IFERROR(INDEX(#REF!,MATCH(O22,#REF!,0)),"") | S22: =IFERROR(INDEX(#REF!,MATCH($O22,#REF!,0)),"") | T22: =IFERROR(INDEX(#REF!,MATCH($O22,#REF!,0)),"") | U22: =IFERROR(INDEX(#REF!,MATCH($O22,#REF!,0)),"") | V22: =IFERROR(INDEX(#REF!,MATCH($O22,#REF!,0)),"") | W22: =IFERROR(INDEX(Parametrage!D:D,MATCH(P22,Parametrage!F:F,0)),"") | X22: =IFERROR(INDEX(Parametrage!I:I,MATCH(P22,Parametrage!J:J,0)),"") | Y22: =IFERROR(INDEX(Parametrage!G:G,MATCH(P22,Parametrage!H:H,0)),"") | Z22: =IFERROR(INDEX(Parametrage!K:K,MATCH(P22,Parametrage!L:L,0)),"") | AC22: =+#REF! -> #REF! | AD22: =+#REF! -> #REF!
A23: =IFERROR(_xlfn.ISOWEEKNUM(B23),"") -> 38 | B23: =B22+1 -> 45190 | C23: =+IFERROR(INDEX(#REF!,MATCH(B23,#REF!,0)),"") | D23: =IFERROR(INDEX(#REF!,MATCH(A23,#REF!,0)),"") | E23: =IFERROR(INDEX(#REF!,MATCH($A23,#REF!,0)),"") | F23: =IFERROR(INDEX(#REF!,MATCH($A23,#REF!,0)),"") | G23: =IFERROR(INDEX(#REF!,MATCH($A23,#REF!,0)),"") | H23: =IFERROR(INDEX(#REF!,MATCH($A23,#REF!,0)),"") | J23: =IFERROR(INDEX(Parametrage!D:D,MATCH(B23,Parametrage!F:F,0)),"") | K23: =IFERROR(INDEX(Parametrage!I:I,MATCH(B23,Parametrage!J:J,0)),"") | L23: =IFERROR(INDEX(Parametrage!G:G,MATCH(B23,Parametrage!H:H,0)),"") | M23: =IFERROR(INDEX(Parametrage!K:K,MATCH(B23,Parametrage!L:L,0)),"") | O23: =IFERROR(_xlfn.ISOWEEKNUM(P23),"") -> 42 | P23: =P22+1 -> 45220 | Q23: =+IFERROR(INDEX(#REF!,MATCH(P23,#REF!,0)),"") | R23: =IFERROR(INDEX(#REF!,MATCH(O23,#REF!,0)),"") | S23: =IFERROR(INDEX(#REF!,MATCH($O23,#REF!,0)),"") | T23: =IFERROR(INDEX(#REF!,MATCH($O23,#REF!,0)),"") | U23: =IFERROR(INDEX(#REF!,MATCH($O23,#REF!,0)),"") | V23: =IFERROR(INDEX(#REF!,MATCH($O23,#REF!,0)),"") | W23: =IFERROR(INDEX(Parametrage!D:D,MATCH(P23,Parametrage!F:F,0)),"") | X23: =IFERROR(INDEX(Parametrage!I:I,MATCH(P23,Parametrage!J:J,0)),"") | Y23: =IFERROR(INDEX(Parametrage!G:G,MATCH(P23,Parametrage!H:H,0)),"") | Z23: =IFERROR(INDEX(Parametrage!K:K,MATCH(P23,Parametrage!L:L,0)),"") | AD23: =+#REF! -> #REF!
A24: =IFERROR(_xlfn.ISOWEEKNUM(B24),"") -> 38 | B24: =B23+1 -> 45191 | C24: =+IFERROR(INDEX(#REF!,MATCH(B24,#REF!,0)),"") | D24: =IFERROR(INDEX(#REF!,MATCH(A24,#REF!,0)),"") | E24: =IFERROR(INDEX(#REF!,MATCH($A24,#REF!,0)),"") | F24: =IFERROR(INDEX(#REF!,MATCH($A24,#REF!,0)),"") | G24: =IFERROR(INDEX(#REF!,MATCH($A24,#REF!,0)),"") | H24: =IFERROR(INDEX(#REF!,MATCH($A24,#REF!,0)),"") | J24: =IFERROR(INDEX(Parametrage!D:D,MATCH(B24,Parametrage!F:F,0)),"") | K24: =IFERROR(INDEX(Parametrage!I:I,MATCH(B24,Parametrage!J:J,0)),"") | L24: =IFERROR(INDEX(Parametrage!G:G,MATCH(B24,Parametrage!H:H,0)),"") | M24: =IFERROR(INDEX(Parametrage!K:K,MATCH(B24,Parametrage!L:L,0)),"") | O24: =IFERROR(_xlfn.ISOWEEKNUM(P24),"") -> 42 | P24: =P23+1 -> 45221 | Q24: =+IFERROR(INDEX(#REF!,MATCH(P24,#REF!,0)),"") | R24: =IFERROR(INDEX(#REF!,MATCH(O24,#REF!,0)),"") | S24: =IFERROR(INDEX(#REF!,MATCH($O24,#REF!,0)),"") | T24: =IFERROR(INDEX(#REF!,MATCH($O24,#REF!,0)),"") | U24: =IFERROR(INDEX(#REF!,MATCH($O24,#REF!,0)),"") | V24: =IFERROR(INDEX(#REF!,MATCH($O24,#REF!,0)),"") | W24: =IFERROR(INDEX(Parametrage!D:D,MATCH(P24,Parametrage!F:F,0)),"") | X24: =IFERROR(INDEX(Parametrage!I:I,MATCH(P24,Parametrage!J:J,0)),"") | Y24: =IFERROR(INDEX(Parametrage!G:G,MATCH(P24,Parametrage!H:H,0)),"") | Z24: =IFERROR(INDEX(Parametrage!K:K,MATCH(P24,Parametrage!L:L,0)),"") | AC24: =+#REF! -> #REF! | AD24: =+#REF! -> #REF!
A25: =IFERROR(_xlfn.ISOWEEKNUM(B25),"") -> 38 | B25: =B24+1 -> 45192 | C25: =+IFERROR(INDEX(#REF!,MATCH(B25,#REF!,0)),"") | D25: =IFERROR(INDEX(#REF!,MATCH(A25,#REF!,0)),"") | E25: =IFERROR(INDEX(#REF!,MATCH($A25,#REF!,0)),"") | F25: =IFERROR(INDEX(#REF!,MATCH($A25,#REF!,0)),"") | G25: =IFERROR(INDEX(#REF!,MATCH($A25,#REF!,0)),"") | H25: =IFERROR(INDEX(#REF!,MATCH($A25,#REF!,0)),"") | J25: =IFERROR(INDEX(Parametrage!D:D,MATCH(B25,Parametrage!F:F,0)),"") | K25: =IFERROR(INDEX(Parametrage!I:I,MATCH(B25,Parametrage!J:J,0)),"") | L25: =IFERROR(INDEX(Parametrage!G:G,MATCH(B25,Parametrage!H:H,0)),"") | M25: =IFERROR(INDEX(Parametrage!K:K,MATCH(B25,Parametrage!L:L,0)),"") | O25: =IFERROR(_xlfn.ISOWEEKNUM(P25),"") -> 43 | P25: =P24+1 -> 45222 | Q25: =+IFERROR(INDEX(#REF!,MATCH(P25,#REF!,0)),"") | R25: =IFERROR(INDEX(#REF!,MATCH(O25,#REF!,0)),"") | S25: =IFERROR(INDEX(#REF!,MATCH($O25,#REF!,0)),"") | T25: =IFERROR(INDEX(#REF!,MATCH($O25,#REF!,0)),"") | U25: =IFERROR(INDEX(#REF!,MATCH($O25,#REF!,0)),"") | V25: =IFERROR(INDEX(#REF!,MATCH($O25,#REF!,0)),"") | W25: =IFERROR(INDEX(Parametrage!D:D,MATCH(P25,Parametrage!F:F,0)),"") | X25: =IFERROR(INDEX(Parametrage!I:I,MATCH(P25,Parametrage!J:J,0)),"") | Y25: =IFERROR(INDEX(Parametrage!G:G,MATCH(P25,Parametrage!H:H,0)),"") | Z25: =IFERROR(INDEX(Parametrage!K:K,MATCH(P25,Parametrage!L:L,0)),"") | AD25: =+#REF! -> #REF!
A26: =IFERROR(_xlfn.ISOWEEKNUM(B26),"") -> 38 | B26: =B25+1 -> 45193 | C26: =+IFERROR(INDEX(#REF!,MATCH(B26,#REF!,0)),"") | D26: =IFERROR(INDEX(#REF!,MATCH(A26,#REF!,0)),"") | E26: =IFERROR(INDEX(#REF!,MATCH($A26,#REF!,0)),"") | F26: =IFERROR(INDEX(#REF!,MATCH($A26,#REF!,0)),"") | G26: =IFERROR(INDEX(#REF!,MATCH($A26,#REF!,0)),"") | H26: =IFERROR(INDEX(#REF!,MATCH($A26,#REF!,0)),"") | J26: =IFERROR(INDEX(Parametrage!D:D,MATCH(B26,Parametrage!F:F,0)),"") | K26: =IFERROR(INDEX(Parametrage!I:I,MATCH(B26,Parametrage!J:J,0)),"") | L26: =IFERROR(INDEX(Parametrage!G:G,MATCH(B26,Parametrage!H:H,0)),"") | M26: =IFERROR(INDEX(Parametrage!K:K,MATCH(B26,Parametrage!L:L,0)),"") | O26: =IFERROR(_xlfn.ISOWEEKNUM(P26),"") -> 43 | P26: =P25+1 -> 45223 | Q26: =+IFERROR(INDEX(#REF!,MATCH(P26,#REF!,0)),"") | R26: =IFERROR(INDEX(#REF!,MATCH(O26,#REF!,0)),"") | S26: =IFERROR(INDEX(#REF!,MATCH($O26,#REF!,0)),"") | T26: =IFERROR(INDEX(#REF!,MATCH($O26,#REF!,0)),"") | U26: =IFERROR(INDEX(#REF!,MATCH($O26,#REF!,0)),"") | V26: =IFERROR(INDEX(#REF!,MATCH($O26,#REF!,0)),"") | W26: =IFERROR(INDEX(Parametrage!D:D,MATCH(P26,Parametrage!F:F,0)),"") | X26: =IFERROR(INDEX(Parametrage!I:I,MATCH(P26,Parametrage!J:J,0)),"") | Y26: =IFERROR(INDEX(Parametrage!G:G,MATCH(P26,Parametrage!H:H,0)),"") | Z26: =IFERROR(INDEX(Parametrage!K:K,MATCH(P26,Parametrage!L:L,0)),"")
A27: =IFERROR(_xlfn.ISOWEEKNUM(B27),"") -> 39 | B27: =B26+1 -> 45194 | C27: =+IFERROR(INDEX(#REF!,MATCH(B27,#REF!,0)),"") | D27: =IFERROR(INDEX(#REF!,MATCH(A27,#REF!,0)),"") | E27: =IFERROR(INDEX(#REF!,MATCH($A27,#REF!,0)),"") | F27: =IFERROR(INDEX(#REF!,MATCH($A27,#REF!,0)),"") | G27: =IFERROR(INDEX(#REF!,MATCH($A27,#REF!,0)),"") | H27: =IFERROR(INDEX(#REF!,MATCH($A27,#REF!,0)),"") | J27: =IFERROR(INDEX(Parametrage!D:D,MATCH(B27,Parametrage!F:F,0)),"") | K27: =IFERROR(INDEX(Parametrage!I:I,MATCH(B27,Parametrage!J:J,0)),"") | L27: =IFERROR(INDEX(Parametrage!G:G,MATCH(B27,Parametrage!H:H,0)),"") | M27: =IFERROR(INDEX(Parametrage!K:K,MATCH(B27,Parametrage!L:L,0)),"") | O27: =IFERROR(_xlfn.ISOWEEKNUM(P27),"") -> 43 | P27: =P26+1 -> 45224 | Q27: =+IFERROR(INDEX(#REF!,MATCH(P27,#REF!,0)),"") | R27: =IFERROR(INDEX(#REF!,MATCH(O27,#REF!,0)),"") | S27: =IFERROR(INDEX(#REF!,MATCH($O27,#REF!,0)),"") | T27: =IFERROR(INDEX(#REF!,MATCH($O27,#REF!,0)),"") | U27: =IFERROR(INDEX(#REF!,MATCH($O27,#REF!,0)),"") | V27: =IFERROR(INDEX(#REF!,MATCH($O27,#REF!,0)),"") | W27: =IFERROR(INDEX(Parametrage!D:D,MATCH(P27,Parametrage!F:F,0)),"") | X27: =IFERROR(INDEX(Parametrage!I:I,MATCH(P27,Parametrage!J:J,0)),"") | Y27: =IFERROR(INDEX(Parametrage!G:G,MATCH(P27,Parametrage!H:H,0)),"") | Z27: =IFERROR(INDEX(Parametrage!K:K,MATCH(P27,Parametrage!L:L,0)),"")
A28: =IFERROR(_xlfn.ISOWEEKNUM(B28),"") -> 39 | B28: =B27+1 -> 45195 | C28: =+IFERROR(INDEX(#REF!,MATCH(B28,#REF!,0)),"") | D28: =IFERROR(INDEX(#REF!,MATCH(A28,#REF!,0)),"") | E28: =IFERROR(INDEX(#REF!,MATCH($A28,#REF!,0)),"") | F28: =IFERROR(INDEX(#REF!,MATCH($A28,#REF!,0)),"") | G28: =IFERROR(INDEX(#REF!,MATCH($A28,#REF!,0)),"") | H28: =IFERROR(INDEX(#REF!,MATCH($A28,#REF!,0)),"") | J28: =IFERROR(INDEX(Parametrage!D:D,MATCH(B28,Parametrage!F:F,0)),"") | K28: =IFERROR(INDEX(Parametrage!I:I,MATCH(B28,Parametrage!J:J,0)),"") | L28: =IFERROR(INDEX(Parametrage!G:G,MATCH(B28,Parametrage!H:H,0)),"") | M28: =IFERROR(INDEX(Parametrage!K:K,MATCH(B28,Parametrage!L:L,0)),"") | O28: =IFERROR(_xlfn.ISOWEEKNUM(P28),"") -> 43 | P28: =P27+1 -> 45225 | Q28: =+IFERROR(INDEX(#REF!,MATCH(P28,#REF!,0)),"") | R28: =IFERROR(INDEX(#REF!,MATCH(O28,#REF!,0)),"") | S28: =IFERROR(INDEX(#REF!,MATCH($O28,#REF!,0)),"") | T28: =IFERROR(INDEX(#REF!,MATCH($O28,#REF!,0)),"") | U28: =IFERROR(INDEX(#REF!,MATCH($O28,#REF!,0)),"") | V28: =IFERROR(INDEX(#REF!,MATCH($O28,#REF!,0)),"") | W28: =IFERROR(INDEX(Parametrage!D:D,MATCH(P28,Parametrage!F:F,0)),"") | X28: =IFERROR(INDEX(Parametrage!I:I,MATCH(P28,Parametrage!J:J,0)),"") | Y28: =IFERROR(INDEX(Parametrage!G:G,MATCH(P28,Parametrage!H:H,0)),"") | Z28: =IFERROR(INDEX(Parametrage!K:K,MATCH(P28,Parametrage!L:L,0)),"")
A29: =IFERROR(_xlfn.ISOWEEKNUM(B29),"") -> 39 | B29: =B28+1 -> 45196 | C29: =+IFERROR(INDEX(#REF!,MATCH(B29,#REF!,0)),"") | D29: =IFERROR(INDEX(#REF!,MATCH(A29,#REF!,0)),"") | E29: =IFERROR(INDEX(#REF!,MATCH($A29,#REF!,0)),"") | F29: =IFERROR(INDEX(#REF!,MATCH($A29,#REF!,0)),"") | G29: =IFERROR(INDEX(#REF!,MATCH($A29,#REF!,0)),"") | H29: =IFERROR(INDEX(#REF!,MATCH($A29,#REF!,0)),"") | J29: =IFERROR(INDEX(Parametrage!D:D,MATCH(B29,Parametrage!F:F,0)),"") | K29: =IFERROR(INDEX(Parametrage!I:I,MATCH(B29,Parametrage!J:J,0)),"") | L29: =IFERROR(INDEX(Parametrage!G:G,MATCH(B29,Parametrage!H:H,0)),"") | M29: =IFERROR(INDEX(Parametrage!K:K,MATCH(B29,Parametrage!L:L,0)),"") | O29: =IFERROR(_xlfn.ISOWEEKNUM(P29),"") -> 43 | P29: =P28+1 -> 45226 | Q29: =+IFERROR(INDEX(#REF!,MATCH(P29,#REF!,0)),"") | R29: =IFERROR(INDEX(#REF!,MATCH(O29,#REF!,0)),"") | S29: =IFERROR(INDEX(#REF!,MATCH($O29,#REF!,0)),"") | T29: =IFERROR(INDEX(#REF!,MATCH($O29,#REF!,0)),"") | U29: =IFERROR(INDEX(#REF!,MATCH($O29,#REF!,0)),"") | V29: =IFERROR(INDEX(#REF!,MATCH($O29,#REF!,0)),"") | W29: =IFERROR(INDEX(Parametrage!D:D,MATCH(P29,Parametrage!F:F,0)),"") | X29: =IFERROR(INDEX(Parametrage!I:I,MATCH(P29,Parametrage!J:J,0)),"") | Y29: =IFERROR(INDEX(Parametrage!G:G,MATCH(P29,Parametrage!H:H,0)),"") | Z29: =IFERROR(INDEX(Parametrage!K:K,MATCH(P29,Parametrage!L:L,0)),"")
A30: =IFERROR(_xlfn.ISOWEEKNUM(B30),"") -> 39 | B30: =B29+1 -> 45197 | C30: =+IFERROR(INDEX(#REF!,MATCH(B30,#REF!,0)),"") | D30: =IFERROR(INDEX(#REF!,MATCH(A30,#REF!,0)),"") | E30: =IFERROR(INDEX(#REF!,MATCH($A30,#REF!,0)),"") | F30: =IFERROR(INDEX(#REF!,MATCH($A30,#REF!,0)),"") | G30: =IFERROR(INDEX(#REF!,MATCH($A30,#REF!,0)),"") | H30: =IFERROR(INDEX(#REF!,MATCH($A30,#REF!,0)),"") | J30: =IFERROR(INDEX(Parametrage!D:D,MATCH(B30,Parametrage!F:F,0)),"") | K30: =IFERROR(INDEX(Parametrage!I:I,MATCH(B30,Parametrage!J:J,0)),"") | L30: =IFERROR(INDEX(Parametrage!G:G,MATCH(B30,Parametrage!H:H,0)),"") | M30: =IFERROR(INDEX(Parametrage!K:K,MATCH(B30,Parametrage!L:L,0)),"") | O30: =IFERROR(_xlfn.ISOWEEKNUM(P30),"") -> 43 | P30: =P29+1 -> 45227 | Q30: =+IFERROR(INDEX(#REF!,MATCH(P30,#REF!,0)),"") | R30: =IFERROR(INDEX(#REF!,MATCH(O30,#REF!,0)),"") | S30: =IFERROR(INDEX(#REF!,MATCH($O30,#REF!,0)),"") | T30: =IFERROR(INDEX(#REF!,MATCH($O30,#REF!,0)),"") | U30: =IFERROR(INDEX(#REF!,MATCH($O30,#REF!,0)),"") | V30: =IFERROR(INDEX(#REF!,MATCH($O30,#REF!,0)),"") | W30: =IFERROR(INDEX(Parametrage!D:D,MATCH(P30,Parametrage!F:F,0)),"") | X30: =IFERROR(INDEX(Parametrage!I:I,MATCH(P30,Parametrage!J:J,0)),"") | Y30: =IFERROR(INDEX(Parametrage!G:G,MATCH(P30,Parametrage!H:H,0)),"") | Z30: =IFERROR(INDEX(Parametrage!K:K,MATCH(P30,Parametrage!L:L,0)),"")
A31: =IFERROR(_xlfn.ISOWEEKNUM(B31),"") -> 39 | B31: =IFERROR(IF(MONTH(B30)=MONTH(B30+1),B30+1,""),"") -> 45198 | C31: =+IFERROR(INDEX(#REF!,MATCH(B31,#REF!,0)),"") | D31: =IFERROR(INDEX(#REF!,MATCH(A31,#REF!,0)),"") | E31: =IFERROR(INDEX(#REF!,MATCH($A31,#REF!,0)),"") | F31: =IFERROR(INDEX(#REF!,MATCH($A31,#REF!,0)),"") | G31: =IFERROR(INDEX(#REF!,MATCH($A31,#REF!,0)),"") | H31: =IFERROR(INDEX(#REF!,MATCH($A31,#REF!,0)),"") | J31: =IFERROR(INDEX(Parametrage!D:D,MATCH(B31,Parametrage!F:F,0)),"") | K31: =IFERROR(INDEX(Parametrage!I:I,MATCH(B31,Parametrage!J:J,0)),"") | L31: =IFERROR(INDEX(Parametrage!G:G,MATCH(B31,Parametrage!H:H,0)),"") | M31: =IFERROR(INDEX(Parametrage!K:K,MATCH(B31,Parametrage!L:L,0)),"") | O31: =IFERROR(_xlfn.ISOWEEKNUM(P31),"") -> 43 | P31: =IFERROR(IF(MONTH(P30)=MONTH(P30+1),P30+1,""),"") -> 45228 | Q31: =+IFERROR(INDEX(#REF!,MATCH(P31,#REF!,0)),"") | R31: =IFERROR(INDEX(#REF!,MATCH(O31,#REF!,0)),"") | S31: =IFERROR(INDEX(#REF!,MATCH($O31,#REF!,0)),"") | T31: =IFERROR(INDEX(#REF!,MATCH($O31,#REF!,0)),"") | U31: =IFERROR(INDEX(#REF!,MATCH($O31,#REF!,0)),"") | V31: =IFERROR(INDEX(#REF!,MATCH($O31,#REF!,0)),"") | W31: =IFERROR(INDEX(Parametrage!D:D,MATCH(P31,Parametrage!F:F,0)),"") | X31: =IFERROR(INDEX(Parametrage!I:I,MATCH(P31,Parametrage!J:J,0)),"") | Y31: =IFERROR(INDEX(Parametrage!G:G,MATCH(P31,Parametrage!H:H,0)),"") | Z31: =IFERROR(INDEX(Parametrage!K:K,MATCH(P31,Parametrage!L:L,0)),"")
A32: =IFERROR(_xlfn.ISOWEEKNUM(B32),"") -> 39 | B32: =IFERROR(IF(MONTH(B31)=MONTH(B31+1),B31+1,""),"") -> 45199 | C32: =+IFERROR(INDEX(#REF!,MATCH(B32,#REF!,0)),"") | D32: =IFERROR(INDEX(#REF!,MATCH(A32,#REF!,0)),"") | E32: =IFERROR(INDEX(#REF!,MATCH($A32,#REF!,0)),"") | F32: =IFERROR(INDEX(#REF!,MATCH($A32,#REF!,0)),"") | G32: =IFERROR(INDEX(#REF!,MATCH($A32,#REF!,0)),"") | H32: =IFERROR(INDEX(#REF!,MATCH($A32,#REF!,0)),"") | J32: =IFERROR(INDEX(Parametrage!D:D,MATCH(B32,Parametrage!F:F,0)),"") | K32: =IFERROR(INDEX(Parametrage!I:I,MATCH(B32,Parametrage!J:J,0)),"") | L32: =IFERROR(INDEX(Parametrage!G:G,MATCH(B32,Parametrage!H:H,0)),"") | M32: =IFERROR(INDEX(Parametrage!K:K,MATCH(B32,Parametrage!L:L,0)),"") | O32: =IFERROR(_xlfn.ISOWEEKNUM(P32),"") -> 44 | P32: =IFERROR(IF(MONTH(P31)=MONTH(P31+1),P31+1,""),"") -> 45229 | Q32: =+IFERROR(INDEX(#REF!,MATCH(P32,#REF!,0)),"") | R32: =IFERROR(INDEX(#REF!,MATCH(O32,#REF!,0)),"") | S32: =IFERROR(INDEX(#REF!,MATCH($O32,#REF!,0)),"") | T32: =IFERROR(INDEX(#REF!,MATCH($O32,#REF!,0)),"") | U32: =IFERROR(INDEX(#REF!,MATCH($O32,#REF!,0)),"") | V32: =IFERROR(INDEX(#REF!,MATCH($O32,#REF!,0)),"") | W32: =IFERROR(INDEX(Parametrage!D:D,MATCH(P32,Parametrage!F:F,0)),"") | X32: =IFERROR(INDEX(Parametrage!I:I,MATCH(P32,Parametrage!J:J,0)),"") | Y32: =IFERROR(INDEX(Parametrage!G:G,MATCH(P32,Parametrage!H:H,0)),"") | Z32: =IFERROR(INDEX(Parametrage!K:K,MATCH(P32,Parametrage!L:L,0)),"")
B33: =IFERROR(IF(MONTH(B32)=MONTH(B32+1),B32+1,""),"") | C33: =+IFERROR(INDEX(#REF!,MATCH(B33,#REF!,0)),"") | D33: =IFERROR(INDEX(#REF!,MATCH(A33,#REF!,0)),"") | E33: =IFERROR(INDEX(#REF!,MATCH($A33,#REF!,0)),"") | F33: =IFERROR(INDEX(#REF!,MATCH($A33,#REF!,0)),"") | G33: =IFERROR(INDEX(#REF!,MATCH($A33,#REF!,0)),"") | H33: =IFERROR(INDEX(#REF!,MATCH($A33,#REF!,0)),"") | J33: =IFERROR(INDEX(Parametrage!D:D,MATCH(B33,Parametrage!F:F,0)),"") | K33: =IFERROR(INDEX(Parametrage!I:I,MATCH(B33,Parametrage!J:J,0)),"") | L33: =IFERROR(INDEX(Parametrage!G:G,MATCH(B33,Parametrage!H:H,0)),"") | M33: =IFERROR(INDEX(Parametrage!K:K,MATCH(B33,Parametrage!L:L,0)),"") | O33: =IFERROR(_xlfn.ISOWEEKNUM(P33),"") -> 44 | P33: =IFERROR(IF(MONTH(P32)=MONTH(P32+1),P32+1,""),"") -> 45230 | Q33: =+IFERROR(INDEX(#REF!,MATCH(P33,#REF!,0)),"") | R33: =IFERROR(INDEX(#REF!,MATCH(O33,#REF!,0)),"") | S33: =IFERROR(INDEX(#REF!,MATCH($O33,#REF!,0)),"") | T33: =IFERROR(INDEX(#REF!,MATCH($O33,#REF!,0)),"") | U33: =IFERROR(INDEX(#REF!,MATCH($O33,#REF!,0)),"") | V33: =IFERROR(INDEX(#REF!,MATCH($O33,#REF!,0)),"") | W33: =IFERROR(INDEX(Parametrage!D:D,MATCH(P33,Parametrage!F:F,0)),"") | X33: =IFERROR(INDEX(Parametrage!I:I,MATCH(P33,Parametrage!J:J,0)),"") | Y33: =IFERROR(INDEX(Parametrage!G:G,MATCH(P33,Parametrage!H:H,0)),"") | Z33: =IFERROR(INDEX(Parametrage!K:K,MATCH(P33,Parametrage!L:L,0)),"")
A35: Sem | B35: =EDATE($K$1,2) -> 45231 | C35: Infos | D35: PFMP 1cuis | E35: PFMP Tcuis | F35: PFMP 2pro | G35: PFMP 1pro | H35: PFMP Tpro | J35: Vie de classe | K35: Vigilance | L35: CCF | M35: Autres | O35: Sem | P35: =EDATE($K$1,3) -> 45261 | Q35: Infos | R35: PFMP 1cuis | S35: PFMP Tcuis | T35: PFMP 2pro | U35: PFMP 1pro | V35: PFMP Tpro | W35: Vie de classe | X35: Vigilance | Y35: CCF | Z35: Autres
A36: =IFERROR(_xlfn.ISOWEEKNUM(B36),"") -> 44 | B36: =B35 -> 45231 | C36: =+IFERROR(INDEX(#REF!,MATCH(B36,#REF!,0)),"") | D36: =IFERROR(INDEX(#REF!,MATCH(A36,#REF!,0)),"") | E36: =IFERROR(INDEX(#REF!,MATCH($A36,#REF!,0)),"") | F36: =IFERROR(INDEX(#REF!,MATCH($A36,#REF!,0)),"") | G36: =IFERROR(INDEX(#REF!,MATCH($A36,#REF!,0)),"") | H36: =IFERROR(INDEX(#REF!,MATCH($A36,#REF!,0)),"") | J36: =IFERROR(INDEX(Parametrage!$D:$D,MATCH(B36,Parametrage!$F:$F,0)),"") | K36: =IFERROR(INDEX(Parametrage!$I:$I,MATCH(B36,Parametrage!$J:$J,0)),"") | L36: =IFERROR(INDEX(Parametrage!$G:$G,MATCH(B36,Parametrage!$H:$H,0)),"") | M36: =IFERROR(INDEX(Parametrage!$K:$K,MATCH(B36,Parametrage!$L:$L,0)),"") | O36: =IFERROR(_xlfn.ISOWEEKNUM(P36),"") -> 48 | P36: =P35 -> 45261 | Q36: =+IFERROR(INDEX(#REF!,MATCH(P36,#REF!,0)),"") | R36: =IFERROR(INDEX(#REF!,MATCH(O36,#REF!,0)),"") | S36: =IFERROR(INDEX(#REF!,MATCH($O36,#REF!,0)),"") | T36: =IFERROR(INDEX(#REF!,MATCH($O36,#REF!,0)),"") | U36: =IFERROR(INDEX(#REF!,MATCH($O36,#REF!,0)),"") | V36: =IFERROR(INDEX(#REF!,MATCH($O36,#REF!,0)),"") | W36: =IFERROR(INDEX(Parametrage!$D:$D,MATCH(P36,Parametrage!$F:$F,0)),"") | X36: =IFERROR(INDEX(Parametrage!$I:$I,MATCH(P36,Parametrage!$J:$J,0)),"") | Y36: =IFERROR(INDEX(Parametrage!$G:$G,MATCH(P36,Parametrage!$H:$H,0)),"") | Z36: =IFERROR(INDEX(Parametrage!$K:$K,MATCH(P36,Parametrage!$L:$L,0)),"")
A37: =IFERROR(_xlfn.ISOWEEKNUM(B37),"") -> 44 | B37: =B36+1 -> 45232 | C37: =+IFERROR(INDEX(#REF!,MATCH(B37,#REF!,0)),"") | D37: =IFERROR(INDEX(#REF!,MATCH(A37,#REF!,0)),"") | E37: =IFERROR(INDEX(#REF!,MATCH($A37,#REF!,0)),"") | F37: =IFERROR(INDEX(#REF!,MATCH($A37,#REF!,0)),"") | G37: =IFERROR(INDEX(#REF!,MATCH($A37,#REF!,0)),"") | H37: =IFERROR(INDEX(#REF!,MATCH($A37,#REF!,0)),"") | J37: =IFERROR(INDEX(Parametrage!$D:$D,MATCH(B37,Parametrage!$F:$F,0)),"") | K37: =IFERROR(INDEX(Parametrage!$I:$I,MATCH(B37,Parametrage!$J:$J,0)),"") | L37: =IFERROR(INDEX(Parametrage!$G:$G,MATCH(B37,Parametrage!$H:$H,0)),"") | M37: =IFERROR(INDEX(Parametrage!$K:$K,MATCH(B37,Parametrage!$L:$L,0)),"") | O37: =IFERROR(_xlfn.ISOWEEKNUM(P37),"") -> 48 | P37: =P36+1 -> 45262 | Q37: =+IFERROR(INDEX(#REF!,MATCH(P37,#REF!,0)),"") | R37: =IFERROR(INDEX(#REF!,MATCH(O37,#REF!,0)),"") | S37: =IFERROR(INDEX(#REF!,MATCH($O37,#REF!,0)),"") | T37: =IFERROR(INDEX(#REF!,MATCH($O37,#REF!,0)),"") | U37: =IFERROR(INDEX(#REF!,MATCH($O37,#REF!,0)),"") | V37: =IFERROR(INDEX(#REF!,MATCH($O37,#REF!,0)),"") | W37: =IFERROR(INDEX(Parametrage!$D:$D,MATCH(P37,Parametrage!$F:$F,0)),"") | X37: =IFERROR(INDEX(Parametrage!$I:$I,MATCH(P37,Parametrage!$J:$J,0)),"") | Y37: =IFERROR(INDEX(Parametrage!$G:$G,MATCH(P37,Parametrage!$H:$H,0)),"") | Z37: =IFERROR(INDEX(Parametrage!$K:$K,MATCH(P37,Parametrage!$L:$L,0)),"")
A38: =IFERROR(_xlfn.ISOWEEKNUM(B38),"") -> 44 | B38: =B37+1 -> 45233 | C38: =+IFERROR(INDEX(#REF!,MATCH(B38,#REF!,0)),"") | D38: =IFERROR(INDEX(#REF!,MATCH(A38,#REF!,0)),"") | E38: =IFERROR(INDEX(#REF!,MATCH($A38,#REF!,0)),"") | F38: =IFERROR(INDEX(#REF!,MATCH($A38,#REF!,0)),"") | G38: =IFERROR(INDEX(#REF!,MATCH($A38,#REF!,0)),"") | H38: =IFERROR(INDEX(#REF!,MATCH($A38,#REF!,0)),"") | J38: =IFERROR(INDEX(Parametrage!$D:$D,MATCH(B38,Parametrage!$F:$F,0)),"") | K38: =IFERROR(INDEX(Parametrage!$I:$I,MATCH(B38,Parametrage!$J:$J,0)),"") | L38: =IFERROR(INDEX(Parametrage!$G:$G,MATCH(B38,Parametrage!$H:$H,0)),"") | M38: =IFERROR(INDEX(Parametrage!$K:$K,MATCH(B38,Parametrage!$L:$L,0)),"") | O38: =IFERROR(_xlfn.ISOWEEKNUM(P38),"") -> 48 | P38: =P37+1 -> 45263 | Q38: =+IFERROR(INDEX(#REF!,MATCH(P38,#REF!,0)),"") | R38: =IFERROR(INDEX(#REF!,MATCH(O38,#REF!,0)),"") | S38: =IFERROR(INDEX(#REF!,MATCH($O38,#REF!,0)),"") | T38: =IFERROR(INDEX(#REF!,MATCH($O38,#REF!,0)),"") | U38: =IFERROR(INDEX(#REF!,MATCH($O38,#REF!,0)),"") | V38: =IFERROR(INDEX(#REF!,MATCH($O38,#REF!,0)),"") | W38: =IFERROR(INDEX(Parametrage!$D:$D,MATCH(P38,Parametrage!$F:$F,0)),"") | X38: =IFERROR(INDEX(Parametrage!$I:$I,MATCH(P38,Parametrage!$J:$J,0)),"") | Y38: =IFERROR(INDEX(Parametrage!$G:$G,MATCH(P38,Parametrage!$H:$H,0)),"") | Z38: =IFERROR(INDEX(Parametrage!$K:$K,MATCH(P38,Parametrage!$L:$L,0)),"")
A39: =IFERROR(_xlfn.ISOWEEKNUM(B39),"") -> 44 | B39: =B38+1 -> 45234 | C39: =+IFERROR(INDEX(#REF!,MATCH(B39,#REF!,0)),"") | D39: =IFERROR(INDEX(#REF!,MATCH(A39,#REF!,0)),"") | E39: =IFERROR(INDEX(#REF!,MATCH($A39,#REF!,0)),"") | F39: =IFERROR(INDEX(#REF!,MATCH($A39,#REF!,0)),"") | G39: =IFERROR(INDEX(#REF!,MATCH($A39,#REF!,0)),"") | H39: =IFERROR(INDEX(#REF!,MATCH($A39,#REF!,0)),"") | J39: =IFERROR(INDEX(Parametrage!$D:$D,MATCH(B39,Parametrage!$F:$F,0)),"") | K39: =IFERROR(INDEX(Parametrage!$I:$I,MATCH(B39,Parametrage!$J:$J,0)),"") | L39: =IFERROR(INDEX(Parametrage!$G:$G,MATCH(B39,Parametrage!$H:$H,0)),"") | M39: =IFERROR(INDEX(Parametrage!$K:$K,MATCH(B39,Parametrage!$L:$L,0)),"") | O39: =IFERROR(_xlfn.ISOWEEKNUM(P39),"") -> 49 | P39: =P38+1 -> 45264 | Q39: =+IFERROR(INDEX(#REF!,MATCH(P39,#REF!,0)),"") | R39: =IFERROR(INDEX(#REF!,MATCH(O39,#REF!,0)),"") | S39: =IFERROR(INDEX(#REF!,MATCH($O39,#REF!,0)),"") | T39: =IFERROR(INDEX(#REF!,MATCH($O39,#REF!,0)),"") | U39: =IFERROR(INDEX(#REF!,MATCH($O39,#REF!,0)),"") | V39: =IFERROR(INDEX(#REF!,MATCH($O39,#REF!,0)),"") | W39: =IFERROR(INDEX(Parametrage!$D:$D,MATCH(P39,Parametrage!$F:$F,0)),"") | X39: =IFERROR(INDEX(Parametrage!$I:$I,MATCH(P39,Parametrage!$J:$J,0)),"") | Y39: =IFERROR(INDEX(Parametrage!$G:$G,MATCH(P39,Parametrage!$H:$H,0)),"") | Z39: =IFERROR(INDEX(Parametrage!$K:$K,MATCH(P39,Parametrage!$L:$L,0)),"")
A40: =IFERROR(_xlfn.ISOWEEKNUM(B40),"") -> 44 | B40: =B39+1 -> 45235 | C40: =+IFERROR(INDEX(#REF!,MATCH(B40,#REF!,0)),"") | D40: =IFERROR(INDEX(#REF!,MATCH(A40,#REF!,0)),"") | E40: =IFERROR(INDEX(#REF!,MATCH($A40,#REF!,0)),"") | F40: =IFERROR(INDEX(#REF!,MATCH($A40,#REF!,0)),"") | G40: =IFERROR(INDEX(#REF!,MATCH($A40,#REF!,0)),"") | H40: =IFERROR(INDEX(#REF!,MATCH($A40,#REF!,0)),"") | J40: =IFERROR(INDEX(Parametrage!$D:$D,MATCH(B40,Parametrage!$F:$F,0)),"") | K40: =IFERROR(INDEX(Parametrage!$I:$I,MATCH(B40,Parametrage!$J:$J,0)),"") | L40: =IFERROR(INDEX(Parametrage!$G:$G,MATCH(B40,Parametrage!$H:$H,0)),"") | M40: =IFERROR(INDEX(Parametrage!$K:$K,MATCH(B40,Parametrage!$L:$L,0)),"") | O40: =IFERROR(_xlfn.ISOWEEKNUM(P40),"") -> 49 | P40: =P39+1 -> 45265 | Q40: =+IFERROR(INDEX(#REF!,MATCH(P40,#REF!,0)),"") | R40: =IFERROR(INDEX(#REF!,MATCH(O40,#REF!,0)),"") | S40: =IFERROR(INDEX(#REF!,MATCH($O40,#REF!,0)),"") | T40: =IFERROR(INDEX(#REF!,MATCH($O40,#REF!,0)),"") | U40: =IFERROR(INDEX(#REF!,MATCH($O40,#REF!,0)),"") | V40: =IFERROR(INDEX(#REF!,MATCH($O40,#REF!,0)),"") | W40: =IFERROR(INDEX(Parametrage!$D:$D,MATCH(P40,Parametrage!$F:$F,0)),"") | X40: =IFERROR(INDEX(Parametrage!$I:$I,MATCH(P40,Parametrage!$J:$J,0)),"") | Y40: =IFERROR(INDEX(Parametrage!$G:$G,MATCH(P40,Parametrage!$H:$H,0)),"") | Z40: =IFERROR(INDEX(Parametrage!$K:$K,MATCH(P40,Parametrage!$L:$L,0)),"")
A41: =IFERROR(_xlfn.ISOWEEKNUM(B41),"") -> 45 | B41: =B40+1 -> 45236 | C41: =+IFERROR(INDEX(#REF!,MATCH(B41,#REF!,0)),"") | D41: =IFERROR(INDEX(#REF!,MATCH(A41,#REF!,0)),"") | E41: =IFERROR(INDEX(#REF!,MATCH($A41,#REF!,0)),"") | F41: =IFERROR(INDEX(#REF!,MATCH($A41,#REF!,0)),"") | G41: =IFERROR(INDEX(#REF!,MATCH($A41,#REF!,0)),"") | H41: =IFERROR(INDEX(#REF!,MATCH($A41,#REF!,0)),"") | J41: =IFERROR(INDEX(Parametrage!$D:$D,MATCH(B41,Parametrage!$F:$F,0)),"") | K41: =IFERROR(INDEX(Parametrage!$I:$I,MATCH(B41,Parametrage!$J:$J,0)),"") | L41: =IFERROR(INDEX(Parametrage!$G:$G,MATCH(B41,Parametrage!$H:$H,0)),"") | M41: =IFERROR(INDEX(Parametrage!$K:$K,MATCH(B41,Parametrage!$L:$L,0)),"") | O41: =IFERROR(_xlfn.ISOWEEKNUM(P41),"") -> 49 | P41: =P40+1 -> 45266 | Q41: =+IFERROR(INDEX(#REF!,MATCH(P41,#REF!,0)),"") | R41: =IFERROR(INDEX(#REF!,MATCH(O41,#REF!,0)),"") | S41: =IFERROR(INDEX(#REF!,MATCH($O41,#REF!,0)),"") | T41: =IFERROR(INDEX(#REF!,MATCH($O41,#REF!,0)),"") | U41: =IFERROR(INDEX(#REF!,MATCH($O41,#REF!,0)),"") | V41: =IFERROR(INDEX(#REF!,MATCH($O41,#REF!,0)),"") | W41: =IFERROR(INDEX(Parametrage!$D:$D,MATCH(P41,Parametrage!$F:$F,0)),"") | X41: =IFERROR(INDEX(Parametrage!$I:$I,MATCH(P41,Parametrage!$J:$J,0)),"") | Y41: =IFERROR(INDEX(Parametrage!$G:$G,MATCH(P41,Parametrage!$H:$H,0)),"") | Z41: =IFERROR(INDEX(Parametrage!$K:$K,MATCH(P41,Parametrage!$L:$L,0)),"")
A42: =IFERROR(_xlfn.ISOWEEKNUM(B42),"") -> 45 | B42: =B41+1 -> 45237 | C42: =+IFERROR(INDEX(#REF!,MATCH(B42,#REF!,0)),"") | D42: =IFERROR(INDEX(#REF!,MATCH(A42,#REF!,0)),"") | E42: =IFERROR(INDEX(#REF!,MATCH($A42,#REF!,0)),"") | F42: =IFERROR(INDEX(#REF!,MATCH($A42,#REF!,0)),"") | G42: =IFERROR(INDEX(#REF!,MATCH($A42,#REF!,0)),"") | H42: =IFERROR(INDEX(#REF!,MATCH($A42,#REF!,0)),"") | J42: =IFERROR(INDEX(Parametrage!$D:$D,MATCH(B42,Parametrage!$F:$F,0)),"") | K42: =IFERROR(INDEX(Parametrage!$I:$I,MATCH(B42,Parametrage!$J:$J,0)),"") | L42: =IFERROR(INDEX(Parametrage!$G:$G,MATCH(B42,Parametrage!$H:$H,0)),"") | M42: =IFERROR(INDEX(Parametrage!$K:$K,MATCH(B42,Parametrage!$L:$L,0)),"") | O42: =IFERROR(_xlfn.ISOWEEKNUM(P42),"") -> 49 | P42: =P41+1 -> 45267 | Q42: =+IFERROR(INDEX(#REF!,MATCH(P42,#REF!,0)),"") | R42: =IFERROR(INDEX(#REF!,MATCH(O42,#REF!,0)),"") | S42: =IFERROR(INDEX(#REF!,MATCH($O42,#REF!,0)),"") | T42: =IFERROR(INDEX(#REF!,MATCH($O42,#REF!,0)),"") | U42: =IFERROR(INDEX(#REF!,MATCH($O42,#REF!,0)),"") | V42: =IFERROR(INDEX(#REF!,MATCH($O42,#REF!,0)),"") | W42: =IFERROR(INDEX(Parametrage!$D:$D,MATCH(P42,Parametrage!$F:$F,0)),"") | X42: =IFERROR(INDEX(Parametrage!$I:$I,MATCH(P42,Parametrage!$J:$J,0)),"") | Y42: =IFERROR(INDEX(Parametrage!$G:$G,MATCH(P42,Parametrage!$H:$H,0)),"") | Z42: =IFERROR(INDEX(Parametrage!$K:$K,MATCH(P42,Parametrage!$L:$L,0)),"")
A43: =IFERROR(_xlfn.ISOWEEKNUM(B43),"") -> 45 | B43: =B42+1 -> 45238 | C43: =+IFERROR(INDEX(#REF!,MATCH(B43,#REF!,0)),"") | D43: =IFERROR(INDEX(#REF!,MATCH(A43,#REF!,0)),"") | E43: =IFERROR(INDEX(#REF!,MATCH($A43,#REF!,0)),"") | F43: =IFERROR(INDEX(#REF!,MATCH($A43,#REF!,0)),"") | G43: =IFERROR(INDEX(#REF!,MATCH($A43,#REF!,0)),"") | H43: =IFERROR(INDEX(#REF!,MATCH($A43,#REF!,0)),"") | J43: =IFERROR(INDEX(Parametrage!$D:$D,MATCH(B43,Parametrage!$F:$F,0)),"") | K43: =IFERROR(INDEX(Parametrage!$I:$I,MATCH(B43,Parametrage!$J:$J,0)),"") | L43: =IFERROR(INDEX(Parametrage!$G:$G,MATCH(B43,Parametrage!$H:$H,0)),"") | M43: =IFERROR(INDEX(Parametrage!$K:$K,MATCH(B43,Parametrage!$L:$L,0)),"") | O43: =IFERROR(_xlfn.ISOWEEKNUM(P43),"") -> 49 | P43: =P42+1 -> 45268 | Q43: =+IFERROR(INDEX(#REF!,MATCH(P43,#REF!,0)),"") | R43: =IFERROR(INDEX(#REF!,MATCH(O43,#REF!,0)),"") | S43: =IFERROR(INDEX(#REF!,MATCH($O43,#REF!,0)),"") | T43: =IFERROR(INDEX(#REF!,MATCH($O43,#REF!,0)),"") | U43: =IFERROR(INDEX(#REF!,MATCH($O43,#REF!,0)),"") | V43: =IFERROR(INDEX(#REF!,MATCH($O43,#REF!,0)),"") | W43: =IFERROR(INDEX(Parametrage!$D:$D,MATCH(P43,Parametrage!$F:$F,0)),"") | X43: =IFERROR(INDEX(Parametrage!$I:$I,MATCH(P43,Parametrage!$J:$J,0)),"") | Y43: =IFERROR(INDEX(Parametrage!$G:$G,MATCH(P43,Parametrage!$H:$H,0)),"") | Z43: =IFERROR(INDEX(Parametrage!$K:$K,MATCH(P43,Parametrage!$L:$L,0)),"")
A44: =IFERROR(_xlfn.ISOWEEKNUM(B44),"") -> 45 | B44: =B43+1 -> 45239 | C44: =+IFERROR(INDEX(#REF!,MATCH(B44,#REF!,0)),"") | D44: =IFERROR(INDEX(#REF!,MATCH(A44,#REF!,0)),"") | E44: =IFERROR(INDEX(#REF!,MATCH($A44,#REF!,0)),"") | F44: =IFERROR(INDEX(#REF!,MATCH($A44,#REF!,0)),"") | G44: =IFERROR(INDEX(#REF!,MATCH($A44,#REF!,0)),"") | H44: =IFERROR(INDEX(#REF!,MATCH($A44,#REF!,0)),"") | J44: =IFERROR(INDEX(Parametrage!$D:$D,MATCH(B44,Parametrage!$F:$F,0)),"") | K44: =IFERROR(INDEX(Parametrage!$I:$I,MATCH(B44,Parametrage!$J:$J,0)),"") | L44: =IFERROR(INDEX(Parametrage!$G:$G,MATCH(B44,Parametrage!$H:$H,0)),"") | M44: =IFERROR(INDEX(Parametrage!$K:$K,MATCH(B44,Parametrage!$L:$L,0)),"") | O44: =IFERROR(_xlfn.ISOWEEKNUM(P44),"") -> 49 | P44: =P43+1 -> 45269 | Q44: =+IFERROR(INDEX(#REF!,MATCH(P44,#REF!,0)),"") | R44: =IFERROR(INDEX(#REF!,MATCH(O44,#REF!,0)),"") | S44: =IFERROR(INDEX(#REF!,MATCH($O44,#REF!,0)),"") | T44: =IFERROR(INDEX(#REF!,MATCH($O44,#REF!,0)),"") | U44: =IFERROR(INDEX(#REF!,MATCH($O44,#REF!,0)),"") | V44: =IFERROR(INDEX(#REF!,MATCH($O44,#REF!,0)),"") | W44: =IFERROR(INDEX(Parametrage!$D:$D,MATCH(P44,Parametrage!$F:$F,0)),"") | X44: =IFERROR(INDEX(Parametrage!$I:$I,MATCH(P44,Parametrage!$J:$J,0)),"") | Y44: =IFERROR(INDEX(Parametrage!$G:$G,MATCH(P44,Parametrage!$H:$H,0)),"") | Z44: =IFERROR(INDEX(Parametrage!$K:$K,MATCH(P44,Parametrage!$L:$L,0)),"")
A45: =IFERROR(_xlfn.ISOWEEKNUM(B45),"") -> 45 | B45: =B44+1 -> 45240 | C45: =+IFERROR(INDEX(#REF!,MATCH(B45,#REF!,0)),"") | D45: =IFERROR(INDEX(#REF!,MATCH(A45,#REF!,0)),"") | E45: =IFERROR(INDEX(#REF!,MATCH($A45,#REF!,0)),"") | F45: =IFERROR(INDEX(#REF!,MATCH($A45,#REF!,0)),"") | G45: =IFERROR(INDEX(#REF!,MATCH($A45,#REF!,0)),"") | H45: =IFERROR(INDEX(#REF!,MATCH($A45,#REF!,0)),"") | J45: =IFERROR(INDEX(Parametrage!$D:$D,MATCH(B45,Parametrage!$F:$F,0)),"") | K45: =IFERROR(INDEX(Parametrage!$I:$I,MATCH(B45,Parametrage!$J:$J,0)),"") | L45: =IFERROR(INDEX(Parametrage!$G:$G,MATCH(B45,Parametrage!$H:$H,0)),"") | M45: =IFERROR(INDEX(Parametrage!$K:$K,MATCH(B45,Parametrage!$L:$L,0)),"") | O45: =IFERROR(_xlfn.ISOWEEKNUM(P45),"") -> 49 | P45: =P44+1 -> 45270 | Q45: =+IFERROR(INDEX(#REF!,MATCH(P45,#REF!,0)),"") | R45: =IFERROR(INDEX(#REF!,MATCH(O45,#REF!,0)),"") | S45: =IFERROR(INDEX(#REF!,MATCH($O45,#REF!,0)),"") | T45: =IFERROR(INDEX(#REF!,MATCH($O45,#REF!,0)),"") | U45: =IFERROR(INDEX(#REF!,MATCH($O45,#REF!,0)),"") | V45: =IFERROR(INDEX(#REF!,MATCH($O45,#REF!,0)),"") | W45: =IFERROR(INDEX(Parametrage!$D:$D,MATCH(P45,Parametrage!$F:$F,0)),"") | X45: =IFERROR(INDEX(Parametrage!$I:$I,MATCH(P45,Parametrage!$J:$J,0)),"") | Y45: =IFERROR(INDEX(Parametrage!$G:$G,MATCH(P45,Parametrage!$H:$H,0)),"") | Z45: =IFERROR(INDEX(Parametrage!$K:$K,MATCH(P45,Parametrage!$L:$L,0)),"")
A46: =IFERROR(_xlfn.ISOWEEKNUM(B46),"") -> 45 | B46: =B45+1 -> 45241 | C46: =+IFERROR(INDEX(#REF!,MATCH(B46,#REF!,0)),"") | D46: =IFERROR(INDEX(#REF!,MATCH(A46,#REF!,0)),"") | E46: =IFERROR(INDEX(#REF!,MATCH($A46,#REF!,0)),"") | F46: =IFERROR(INDEX(#REF!,MATCH($A46,#REF!,0)),"") | G46: =IFERROR(INDEX(#REF!,MATCH($A46,#REF!,0)),"") | H46: =IFERROR(INDEX(#REF!,MATCH($A46,#REF!,0)),"") | J46: =IFERROR(INDEX(Parametrage!$D:$D,MATCH(B46,Parametrage!$F:$F,0)),"") | K46: =IFERROR(INDEX(Parametrage!$I:$I,MATCH(B46,Parametrage!$J:$J,0)),"") | L46: =IFERROR(INDEX(Parametrage!$G:$G,MATCH(B46,Parametrage!$H:$H,0)),"") | M46: =IFERROR(INDEX(Parametrage!$K:$K,MATCH(B46,Parametrage!$L:$L,0)),"") | O46: =IFERROR(_xlfn.ISOWEEKNUM(P46),"") -> 50 | P46: =P45+1 -> 45271 | Q46: =+IFERROR(INDEX(#REF!,MATCH(P46,#REF!,0)),"") | R46: =IFERROR(INDEX(#REF!,MATCH(O46,#REF!,0)),"") | S46: =IFERROR(INDEX(#REF!,MATCH($O46,#REF!,0)),"") | T46: =IFERROR(INDEX(#REF!,MATCH($O46,#REF!,0)),"") | U46: =IFERROR(INDEX(#REF!,MATCH($O46,#REF!,0)),"") | V46: =IFERROR(INDEX(#REF!,MATCH($O46,#REF!,0)),"") | W46: =IFERROR(INDEX(Parametrage!$D:$D,MATCH(P46,Parametrage!$F:$F,0)),"") | X46: =IFERROR(INDEX(Parametrage!$I:$I,MATCH(P46,Parametrage!$J:$J,0)),"") | Y46: =IFERROR(INDEX(Parametrage!$G:$G,MATCH(P46,Parametrage!$H:$H,0)),"") | Z46: =IFERROR(INDEX(Parametrage!$K:$K,MATCH(P46,Parametrage!$L:$L,0)),"")
A47: =IFERROR(_xlfn.ISOWEEKNUM(B47),"") -> 45 | B47: =B46+1 -> 45242 | C47: =+IFERROR(INDEX(#REF!,MATCH(B47,#REF!,0)),"") | D47: =IFERROR(INDEX(#REF!,MATCH(A47,#REF!,0)),"") | E47: =IFERROR(INDEX(#REF!,MATCH($A47,#REF!,0)),"") | F47: =IFERROR(INDEX(#REF!,MATCH($A47,#REF!,0)),"") | G47: =IFERROR(INDEX(#REF!,MATCH($A47,#REF!,0)),"") | H47: =IFERROR(INDEX(#REF!,MATCH($A47,#REF!,0)),"") | J47: =IFERROR(INDEX(Parametrage!$D:$D,MATCH(B47,Parametrage!$F:$F,0)),"") | K47: =IFERROR(INDEX(Parametrage!$I:$I,MATCH(B47,Parametrage!$J:$J,0)),"") | L47: =IFERROR(INDEX(Parametrage!$G:$G,MATCH(B47,Parametrage!$H:$H,0)),"") | M47: =IFERROR(INDEX(Parametrage!$K:$K,MATCH(B47,Parametrage!$L:$L,0)),"") | O47: =IFERROR(_xlfn.ISOWEEKNUM(P47),"") -> 50 | P47: =P46+1 -> 45272 | Q47: =+IFERROR(INDEX(#REF!,MATCH(P47,#REF!,0)),"") | R47: =IFERROR(INDEX(#REF!,MATCH(O47,#REF!,0)),"") | S47: =IFERROR(INDEX(#REF!,MATCH($O47,#REF!,0)),"") | T47: =IFERROR(INDEX(#REF!,MATCH($O47,#REF!,0)),"") | U47: =IFERROR(INDEX(#REF!,MATCH($O47,#REF!,0)),"") | V47: =IFERROR(INDEX(#REF!,MATCH($O47,#REF!,0)),"") | W47: =IFERROR(INDEX(Parametrage!$D:$D,MATCH(P47,Parametrage!$F:$F,0)),"") | X47: =IFERROR(INDEX(Parametrage!$I:$I,MATCH(P47,Parametrage!$J:$J,0)),"") | Y47: =IFERROR(INDEX(Parametrage!$G:$G,MATCH(P47,Parametrage!$H:$H,0)),"") | Z47: =IFERROR(INDEX(Parametrage!$K:$K,MATCH(P47,Parametrage!$L:$L,0)),"")
A48: =IFERROR(_xlfn.ISOWEEKNUM(B48),"") -> 46 | B48: =B47+1 -> 45243 | C48: =+IFERROR(INDEX(#REF!,MATCH(B48,#REF!,0)),"") | D48: =IFERROR(INDEX(#REF!,MATCH(A48,#REF!,0)),"") | E48: =IFERROR(INDEX(#REF!,MATCH($A48,#REF!,0)),"") | F48: =IFERROR(INDEX(#REF!,MATCH($A48,#REF!,0)),"") | G48: =IFERROR(INDEX(#REF!,MATCH($A48,#REF!,0)),"") | H48: =IFERROR(INDEX(#REF!,MATCH($A48,#REF!,0)),"") | J48: =IFERROR(INDEX(Parametrage!$D:$D,MATCH(B48,Parametrage!$F:$F,0)),"") | K48: =IFERROR(INDEX(Parametrage!$I:$I,MATCH(B48,Parametrage!$J:$J,0)),"") | L48: =IFERROR(INDEX(Parametrage!$G:$G,MATCH(B48,Parametrage!$H:$H,0)),"") | M48: =IFERROR(INDEX(Parametrage!$K:$K,MATCH(B48,Parametrage!$L:$L,0)),"") | O48: =IFERROR(_xlfn.ISOWEEKNUM(P48),"") -> 50 | P48: =P47+1 -> 45273 | Q48: =+IFERROR(INDEX(#REF!,MATCH(P48,#REF!,0)),"") | R48: =IFERROR(INDEX(#REF!,MATCH(O48,#REF!,0)),"") | S48: =IFERROR(INDEX(#REF!,MATCH($O48,#REF!,0)),"") | T48: =IFERROR(INDEX(#REF!,MATCH($O48,#REF!,0)),"") | U48: =IFERROR(INDEX(#REF!,MATCH($O48,#REF!,0)),"") | V48: =IFERROR(INDEX(#REF!,MATCH($O48,#REF!,0)),"") | W48: =IFERROR(INDEX(Parametrage!$D:$D,MATCH(P48,Parametrage!$F:$F,0)),"") | X48: =IFERROR(INDEX(Parametrage!$I:$I,MATCH(P48,Parametrage!$J:$J,0)),"") | Y48: =IFERROR(INDEX(Parametrage!$G:$G,MATCH(P48,Parametrage!$H:$H,0)),"") | Z48: =IFERROR(INDEX(Parametrage!$K:$K,MATCH(P48,Parametrage!$L:$L,0)),"")
... A63: =IFERROR(_xlfn.ISOWEEKNUM(B63),"") -> 48 | B63: =B62+1 -> 45258 | C63: =+IFERROR(INDEX(#REF!,MATCH(B63,#REF!,0)),"") | D63: =IFERROR(INDEX(#REF!,MATCH(A63,#REF!,0)),"") | E63: =IFERROR(INDEX(#REF!,MATCH($A63,#REF!,0)),"") | F63: =IFERROR(INDEX(#REF!,MATCH($A63,#REF!,0)),"") | G63: =IFERROR(INDEX(#REF!,MATCH($A63,#REF!,0)),"") | H63: =IFERROR(INDEX(#REF!,MATCH($A63,#REF!,0)),"") | J63: =IFERROR(INDEX(Parametrage!$D:$D,MATCH(B63,Parametrage!$F:$F,0)),"") | K63: =IFERROR(INDEX(Parametrage!$I:$I,MATCH(B63,Parametrage!$J:$J,0)),"") | L63: =IFERROR(INDEX(Parametrage!$G:$G,MATCH(B63,Parametrage!$H:$H,0)),"") | M63: =IFERROR(INDEX(Parametrage!$K:$K,MATCH(B63,Parametrage!$L:$L,0)),"") | O63: =IFERROR(_xlfn.ISOWEEKNUM(P63),"") -> 52 | P63: =P62+1 -> 45288 | Q63: =+IFERROR(INDEX(#REF!,MATCH(P63,#REF!,0)),"") | R63: =IFERROR(INDEX(#REF!,MATCH(O63,#REF!,0)),"") | S63: =IFERROR(INDEX(#REF!,MATCH($O63,#REF!,0)),"") | T63: =IFERROR(INDEX(#REF!,MATCH($O63,#REF!,0)),"") | U63: =IFERROR(INDEX(#REF!,MATCH($O63,#REF!,0)),"") | V63: =IFERROR(INDEX(#REF!,MATCH($O63,#REF!,0)),"") | W63: =IFERROR(INDEX(Parametrage!$D:$D,MATCH(P63,Parametrage!$F:$F,0)),"") | X63: =IFERROR(INDEX(Parametrage!$I:$I,MATCH(P63,Parametrage!$J:$J,0)),"") | Y63: =IFERROR(INDEX(Parametrage!$G:$G,MATCH(P63,Parametrage!$H:$H,0)),"") | Z63: =IFERROR(INDEX(Parametrage!$K:$K,MATCH(P63,Parametrage!$L:$L,0)),"")
A64: =IFERROR(_xlfn.ISOWEEKNUM(B64),"") -> 48 | B64: =IFERROR(IF(MONTH(B63)=MONTH(B63+1),B63+1,""),"") -> 45259 | C64: =+IFERROR(INDEX(#REF!,MATCH(B64,#REF!,0)),"") | D64: =IFERROR(INDEX(#REF!,MATCH(A64,#REF!,0)),"") | E64: =IFERROR(INDEX(#REF!,MATCH($A64,#REF!,0)),"") | F64: =IFERROR(INDEX(#REF!,MATCH($A64,#REF!,0)),"") | G64: =IFERROR(INDEX(#REF!,MATCH($A64,#REF!,0)),"") | H64: =IFERROR(INDEX(#REF!,MATCH($A64,#REF!,0)),"") | J64: =IFERROR(INDEX(Parametrage!$D:$D,MATCH(B64,Parametrage!$F:$F,0)),"") | K64: =IFERROR(INDEX(Parametrage!$I:$I,MATCH(B64,Parametrage!$J:$J,0)),"") | L64: =IFERROR(INDEX(Parametrage!$G:$G,MATCH(B64,Parametrage!$H:$H,0)),"") | M64: =IFERROR(INDEX(Parametrage!$K:$K,MATCH(B64,Parametrage!$L:$L,0)),"") | O64: =IFERROR(_xlfn.ISOWEEKNUM(P64),"") -> 52 | P64: =IFERROR(IF(MONTH(P63)=MONTH(P63+1),P63+1,""),"") -> 45289 | Q64: =+IFERROR(INDEX(#REF!,MATCH(P64,#REF!,0)),"") | R64: =IFERROR(INDEX(#REF!,MATCH(O64,#REF!,0)),"") | S64: =IFERROR(INDEX(#REF!,MATCH($O64,#REF!,0)),"") | T64: =IFERROR(INDEX(#REF!,MATCH($O64,#REF!,0)),"") | U64: =IFERROR(INDEX(#REF!,MATCH($O64,#REF!,0)),"") | V64: =IFERROR(INDEX(#REF!,MATCH($O64,#REF!,0)),"") | W64: =IFERROR(INDEX(Parametrage!$D:$D,MATCH(P64,Parametrage!$F:$F,0)),"") | X64: =IFERROR(INDEX(Parametrage!$I:$I,MATCH(P64,Parametrage!$J:$J,0)),"") | Y64: =IFERROR(INDEX(Parametrage!$G:$G,MATCH(P64,Parametrage!$H:$H,0)),"") | Z64: =IFERROR(INDEX(Parametrage!$K:$K,MATCH(P64,Parametrage!$L:$L,0)),"")
A65: =IFERROR(_xlfn.ISOWEEKNUM(B65),"") -> 48 | B65: =IFERROR(IF(MONTH(B64)=MONTH(B64+1),B64+1,""),"") -> 45260 | C65: =+IFERROR(INDEX(#REF!,MATCH(B65,#REF!,0)),"") | D65: =IFERROR(INDEX(#REF!,MATCH(A65,#REF!,0)),"") | E65: =IFERROR(INDEX(#REF!,MATCH($A65,#REF!,0)),"") | F65: =IFERROR(INDEX(#REF!,MATCH($A65,#REF!,0)),"") | G65: =IFERROR(INDEX(#REF!,MATCH($A65,#REF!,0)),"") | H65: =IFERROR(INDEX(#REF!,MATCH($A65,#REF!,0)),"") | J65: =IFERROR(INDEX(Parametrage!$D:$D,MATCH(B65,Parametrage!$F:$F,0)),"") | K65: =IFERROR(INDEX(Parametrage!$I:$I,MATCH(B65,Parametrage!$J:$J,0)),"") | L65: =IFERROR(INDEX(Parametrage!$G:$G,MATCH(B65,Parametrage!$H:$H,0)),"") | M65: =IFERROR(INDEX(Parametrage!$K:$K,MATCH(B65,Parametrage!$L:$L,0)),"") | O65: =IFERROR(_xlfn.ISOWEEKNUM(P65),"") -> 52 | P65: =IFERROR(IF(MONTH(P64)=MONTH(P64+1),P64+1,""),"") -> 45290 | Q65: =+IFERROR(INDEX(#REF!,MATCH(P65,#REF!,0)),"") | R65: =IFERROR(INDEX(#REF!,MATCH(O65,#REF!,0)),"") | S65: =IFERROR(INDEX(#REF!,MATCH($O65,#REF!,0)),"") | T65: =IFERROR(INDEX(#REF!,MATCH($O65,#REF!,0)),"") | U65: =IFERROR(INDEX(#REF!,MATCH($O65,#REF!,0)),"") | V65: =IFERROR(INDEX(#REF!,MATCH($O65,#REF!,0)),"") | W65: =IFERROR(INDEX(Parametrage!$D:$D,MATCH(P65,Parametrage!$F:$F,0)),"") | X65: =IFERROR(INDEX(Parametrage!$I:$I,MATCH(P65,Parametrage!$J:$J,0)),"") | Y65: =IFERROR(INDEX(Parametrage!$G:$G,MATCH(P65,Parametrage!$H:$H,0)),"") | Z65: =IFERROR(INDEX(Parametrage!$K:$K,MATCH(P65,Parametrage!$L:$L,0)),"")
A66: =IFERROR(_xlfn.ISOWEEKNUM(B66),"") | B66: =IFERROR(IF(MONTH(B65)=MONTH(B65+1),B65+1,""),"") | C66: =+IFERROR(INDEX(#REF!,MATCH(B66,#REF!,0)),"") | D66: =IFERROR(INDEX(#REF!,MATCH(A66,#REF!,0)),"") | E66: =IFERROR(INDEX(#REF!,MATCH($A66,#REF!,0)),"") | F66: =IFERROR(INDEX(#REF!,MATCH($A66,#REF!,0)),"") | G66: =IFERROR(INDEX(#REF!,MATCH($A66,#REF!,0)),"") | H66: =IFERROR(INDEX(#REF!,MATCH($A66,#REF!,0)),"") | J66: =IFERROR(INDEX(Parametrage!$D:$D,MATCH(B66,Parametrage!$F:$F,0)),"") | K66: =IFERROR(INDEX(Parametrage!$I:$I,MATCH(B66,Parametrage!$J:$J,0)),"") | L66: =IFERROR(INDEX(Parametrage!$G:$G,MATCH(B66,Parametrage!$H:$H,0)),"") | M66: =IFERROR(INDEX(Parametrage!$K:$K,MATCH(B66,Parametrage!$L:$L,0)),"") | O66: =IFERROR(_xlfn.ISOWEEKNUM(P66),"") -> 52 | P66: =IFERROR(IF(MONTH(P65)=MONTH(P65+1),P65+1,""),"") -> 45291 | Q66: =+IFERROR(INDEX(#REF!,MATCH(P66,#REF!,0)),"") | R66: =IFERROR(INDEX(#REF!,MATCH(O66,#REF!,0)),"") | S66: =IFERROR(INDEX(#REF!,MATCH($O66,#REF!,0)),"") | T66: =IFERROR(INDEX(#REF!,MATCH($O66,#REF!,0)),"") | U66: =IFERROR(INDEX(#REF!,MATCH($O66,#REF!,0)),"") | V66: =IFERROR(INDEX(#REF!,MATCH($O66,#REF!,0)),"") | W66: =IFERROR(INDEX(Parametrage!$D:$D,MATCH(P66,Parametrage!$F:$F,0)),"") | X66: =IFERROR(INDEX(Parametrage!$I:$I,MATCH(P66,Parametrage!$J:$J,0)),"") | Y66: =IFERROR(INDEX(Parametrage!$G:$G,MATCH(P66,Parametrage!$H:$H,0)),"") | Z66: =IFERROR(INDEX(Parametrage!$K:$K,MATCH(P66,Parametrage!$L:$L,0)),"")
A68: Sem | B68: =EDATE($K$1,4) -> 45292 | C68: Infos | D68: PFMP 1cuis | E68: PFMP Tcuis | F68: PFMP 2pro | G68: PFMP 1pro | H68: PFMP Tpro | J68: Vie de classe | K68: Vigilance | L68: CCF | M68: Autres | O68: Sem | P68: =EDATE($K$1,5) -> 45323 | Q68: Infos | R68: PFMP 1cuis | S68: PFMP Tcuis | T68: PFMP 2pro | U68: PFMP 1pro | V68: PFMP Tpro | W68: Vie de classe | X68: Vigilance | Y68: CCF | Z68: Autres
A69: =IFERROR(_xlfn.ISOWEEKNUM(B69),"") -> 1 | B69: =B68 -> 45292 | C69: =+IFERROR(INDEX(#REF!,MATCH(B69,#REF!,0)),"") | D69: =IFERROR(INDEX(#REF!,MATCH(A69,#REF!,0)),"") | E69: =IFERROR(INDEX(#REF!,MATCH($A69,#REF!,0)),"") | F69: =IFERROR(INDEX(#REF!,MATCH($A69,#REF!,0)),"") | G69: =IFERROR(INDEX(#REF!,MATCH($A69,#REF!,0)),"") | H69: =IFERROR(INDEX(#REF!,MATCH($A69,#REF!,0)),"") | J69: =IFERROR(INDEX(Parametrage!$D:$D,MATCH(B69,Parametrage!$F:$F,0)),"") | K69: =IFERROR(INDEX(Parametrage!$I:$I,MATCH(B69,Parametrage!$J:$J,0)),"") | L69: =IFERROR(INDEX(Parametrage!$G:$G,MATCH(B69,Parametrage!$H:$H,0)),"") | M69: =IFERROR(INDEX(Parametrage!$K:$K,MATCH(B69,Parametrage!$L:$L,0)),"") | O69: =IFERROR(_xlfn.ISOWEEKNUM(P69),"") -> 5 | P69: =P68 -> 45323 | Q69: =+IFERROR(INDEX(#REF!,MATCH(P69,#REF!,0)),"") | R69: =IFERROR(INDEX(#REF!,MATCH(O69,#REF!,0)),"") | S69: =IFERROR(INDEX(#REF!,MATCH($O69,#REF!,0)),"") | T69: =IFERROR(INDEX(#REF!,MATCH($O69,#REF!,0)),"") | U69: =IFERROR(INDEX(#REF!,MATCH($O69,#REF!,0)),"") | V69: =IFERROR(INDEX(#REF!,MATCH($O69,#REF!,0)),"") | W69: =IFERROR(INDEX(Parametrage!$D:$D,MATCH(P69,Parametrage!$F:$F,0)),"") | X69: =IFERROR(INDEX(Parametrage!$I:$I,MATCH(P69,Parametrage!$J:$J,0)),"") | Y69: =IFERROR(INDEX(Parametrage!$G:$G,MATCH(P69,Parametrage!$H:$H,0)),"") | Z69: =IFERROR(INDEX(Parametrage!$K:$K,MATCH(P69,Parametrage!$L:$L,0)),"")
A70: =IFERROR(_xlfn.ISOWEEKNUM(B70),"") -> 1 | B70: =B69+1 -> 45293 | C70: =+IFERROR(INDEX(#REF!,MATCH(B70,#REF!,0)),"") | D70: =IFERROR(INDEX(#REF!,MATCH(A70,#REF!,0)),"") | E70: =IFERROR(INDEX(#REF!,MATCH($A70,#REF!,0)),"") | F70: =IFERROR(INDEX(#REF!,MATCH($A70,#REF!,0)),"") | G70: =IFERROR(INDEX(#REF!,MATCH($A70,#REF!,0)),"") | H70: =IFERROR(INDEX(#REF!,MATCH($A70,#REF!,0)),"") | J70: =IFERROR(INDEX(Parametrage!$D:$D,MATCH(B70,Parametrage!$F:$F,0)),"") | K70: =IFERROR(INDEX(Parametrage!$I:$I,MATCH(B70,Parametrage!$J:$J,0)),"") | L70: =IFERROR(INDEX(Parametrage!$G:$G,MATCH(B70,Parametrage!$H:$H,0)),"") | M70: =IFERROR(INDEX(Parametrage!$K:$K,MATCH(B70,Parametrage!$L:$L,0)),"") | O70: =IFERROR(_xlfn.ISOWEEKNUM(P70),"") -> 5 | P70: =P69+1 -> 45324 | Q70: =+IFERROR(INDEX(#REF!,MATCH(P70,#REF!,0)),"") | R70: =IFERROR(INDEX(#REF!,MATCH(O70,#REF!,0)),"") | S70: =IFERROR(INDEX(#REF!,MATCH($O70,#REF!,0)),"") | T70: =IFERROR(INDEX(#REF!,MATCH($O70,#REF!,0)),"") | U70: =IFERROR(INDEX(#REF!,MATCH($O70,#REF!,0)),"") | V70: =IFERROR(INDEX(#REF!,MATCH($O70,#REF!,0)),"") | W70: =IFERROR(INDEX(Parametrage!$D:$D,MATCH(P70,Parametrage!$F:$F,0)),"") | X70: =IFERROR(INDEX(Parametrage!$I:$I,MATCH(P70,Parametrage!$J:$J,0)),"") | Y70: =IFERROR(INDEX(Parametrage!$G:$G,MATCH(P70,Parametrage!$H:$H,0)),"") | Z70: =IFERROR(INDEX(Parametrage!$K:$K,MATCH(P70,Parametrage!$L:$L,0)),"")
A71: =IFERROR(_xlfn.ISOWEEKNUM(B71),"") -> 1 | B71: =B70+1 -> 45294 | C71: =+IFERROR(INDEX(#REF!,MATCH(B71,#REF!,0)),"") | D71: =IFERROR(INDEX(#REF!,MATCH(A71,#REF!,0)),"") | E71: =IFERROR(INDEX(#REF!,MATCH($A71,#REF!,0)),"") | F71: =IFERROR(INDEX(#REF!,MATCH($A71,#REF!,0)),"") | G71: =IFERROR(INDEX(#REF!,MATCH($A71,#REF!,0)),"") | H71: =IFERROR(INDEX(#REF!,MATCH($A71,#REF!,0)),"") | J71: =IFERROR(INDEX(Parametrage!$D:$D,MATCH(B71,Parametrage!$F:$F,0)),"") | K71: =IFERROR(INDEX(Parametrage!$I:$I,MATCH(B71,Parametrage!$J:$J,0)),"") | L71: =IFERROR(INDEX(Parametrage!$G:$G,MATCH(B71,Parametrage!$H:$H,0)),"") | M71: =IFERROR(INDEX(Parametrage!$K:$K,MATCH(B71,Parametrage!$L:$L,0)),"") | O71: =IFERROR(_xlfn.ISOWEEKNUM(P71),"") -> 5 | P71: =P70+1 -> 45325 | Q71: =+IFERROR(INDEX(#REF!,MATCH(P71,#REF!,0)),"") | R71: =IFERROR(INDEX(#REF!,MATCH(O71,#REF!,0)),"") | S71: =IFERROR(INDEX(#REF!,MATCH($O71,#REF!,0)),"") | T71: =IFERROR(INDEX(#REF!,MATCH($O71,#REF!,0)),"") | U71: =IFERROR(INDEX(#REF!,MATCH($O71,#REF!,0)),"") | V71: =IFERROR(INDEX(#REF!,MATCH($O71,#REF!,0)),"") | W71: =IFERROR(INDEX(Parametrage!$D:$D,MATCH(P71,Parametrage!$F:$F,0)),"") | X71: =IFERROR(INDEX(Parametrage!$I:$I,MATCH(P71,Parametrage!$J:$J,0)),"") | Y71: =IFERROR(INDEX(Parametrage!$G:$G,MATCH(P71,Parametrage!$H:$H,0)),"") | Z71: =IFERROR(INDEX(Parametrage!$K:$K,MATCH(P71,Parametrage!$L:$L,0)),"")
A72: =IFERROR(_xlfn.ISOWEEKNUM(B72),"") -> 1 | B72: =B71+1 -> 45295 | C72: =+IFERROR(INDEX(#REF!,MATCH(B72,#REF!,0)),"") | D72: =IFERROR(INDEX(#REF!,MATCH(A72,#REF!,0)),"") | E72: =IFERROR(INDEX(#REF!,MATCH($A72,#REF!,0)),"") | F72: =IFERROR(INDEX(#REF!,MATCH($A72,#REF!,0)),"") | G72: =IFERROR(INDEX(#REF!,MATCH($A72,#REF!,0)),"") | H72: =IFERROR(INDEX(#REF!,MATCH($A72,#REF!,0)),"") | J72: =IFERROR(INDEX(Parametrage!$D:$D,MATCH(B72,Parametrage!$F:$F,0)),"") | K72: =IFERROR(INDEX(Parametrage!$I:$I,MATCH(B72,Parametrage!$J:$J,0)),"") | L72: =IFERROR(INDEX(Parametrage!$G:$G,MATCH(B72,Parametrage!$H:$H,0)),"") | M72: =IFERROR(INDEX(Parametrage!$K:$K,MATCH(B72,Parametrage!$L:$L,0)),"") | O72: =IFERROR(_xlfn.ISOWEEKNUM(P72),"") -> 5 | P72: =P71+1 -> 45326 | Q72: =+IFERROR(INDEX(#REF!,MATCH(P72,#REF!,0)),"") | R72: =IFERROR(INDEX(#REF!,MATCH(O72,#REF!,0)),"") | S72: =IFERROR(INDEX(#REF!,MATCH($O72,#REF!,0)),"") | T72: =IFERROR(INDEX(#REF!,MATCH($O72,#REF!,0)),"") | U72: =IFERROR(INDEX(#REF!,MATCH($O72,#REF!,0)),"") | V72: =IFERROR(INDEX(#REF!,MATCH($O72,#REF!,0)),"") | W72: =IFERROR(INDEX(Parametrage!$D:$D,MATCH(P72,Parametrage!$F:$F,0)),"") | X72: =IFERROR(INDEX(Parametrage!$I:$I,MATCH(P72,Parametrage!$J:$J,0)),"") | Y72: =IFERROR(INDEX(Parametrage!$G:$G,MATCH(P72,Parametrage!$H:$H,0)),"") | Z72: =IFERROR(INDEX(Parametrage!$K:$K,MATCH(P72,Parametrage!$L:$L,0)),"")
A73: =IFERROR(_xlfn.ISOWEEKNUM(B73),"") -> 1 | B73: =B72+1 -> 45296 | C73: =+IFERROR(INDEX(#REF!,MATCH(B73,#REF!,0)),"") | D73: =IFERROR(INDEX(#REF!,MATCH(A73,#REF!,0)),"") | E73: =IFERROR(INDEX(#REF!,MATCH($A73,#REF!,0)),"") | F73: =IFERROR(INDEX(#REF!,MATCH($A73,#REF!,0)),"") | G73: =IFERROR(INDEX(#REF!,MATCH($A73,#REF!,0)),"") | H73: =IFERROR(INDEX(#REF!,MATCH($A73,#REF!,0)),"") | J73: =IFERROR(INDEX(Parametrage!$D:$D,MATCH(B73,Parametrage!$F:$F,0)),"") | K73: =IFERROR(INDEX(Parametrage!$I:$I,MATCH(B73,Parametrage!$J:$J,0)),"") | L73: =IFERROR(INDEX(Parametrage!$G:$G,MATCH(B73,Parametrage!$H:$H,0)),"") | M73: =IFERROR(INDEX(Parametrage!$K:$K,MATCH(B73,Parametrage!$L:$L,0)),"") | O73: =IFERROR(_xlfn.ISOWEEKNUM(P73),"") -> 6 | P73: =P72+1 -> 45327 | Q73: =+IFERROR(INDEX(#REF!,MATCH(P73,#REF!,0)),"") | R73: =IFERROR(INDEX(#REF!,MATCH(O73,#REF!,0)),"") | S73: =IFERROR(INDEX(#REF!,MATCH($O73,#REF!,0)),"") | T73: =IFERROR(INDEX(#REF!,MATCH($O73,#REF!,0)),"") | U73: =IFERROR(INDEX(#REF!,MATCH($O73,#REF!,0)),"") | V73: =IFERROR(INDEX(#REF!,MATCH($O73,#REF!,0)),"") | W73: =IFERROR(INDEX(Parametrage!$D:$D,MATCH(P73,Parametrage!$F:$F,0)),"") | X73: =IFERROR(INDEX(Parametrage!$I:$I,MATCH(P73,Parametrage!$J:$J,0)),"") | Y73: =IFERROR(INDEX(Parametrage!$G:$G,MATCH(P73,Parametrage!$H:$H,0)),"") | Z73: =IFERROR(INDEX(Parametrage!$K:$K,MATCH(P73,Parametrage!$L:$L,0)),"")
A74: =IFERROR(_xlfn.ISOWEEKNUM(B74),"") -> 1 | B74: =B73+1 -> 45297 | C74: =+IFERROR(INDEX(#REF!,MATCH(B74,#REF!,0)),"") | D74: =IFERROR(INDEX(#REF!,MATCH(A74,#REF!,0)),"") | E74: =IFERROR(INDEX(#REF!,MATCH($A74,#REF!,0)),"") | F74: =IFERROR(INDEX(#REF!,MATCH($A74,#REF!,0)),"") | G74: =IFERROR(INDEX(#REF!,MATCH($A74,#REF!,0)),"") | H74: =IFERROR(INDEX(#REF!,MATCH($A74,#REF!,0)),"") | J74: =IFERROR(INDEX(Parametrage!$D:$D,MATCH(B74,Parametrage!$F:$F,0)),"") | K74: =IFERROR(INDEX(Parametrage!$I:$I,MATCH(B74,Parametrage!$J:$J,0)),"") | L74: =IFERROR(INDEX(Parametrage!$G:$G,MATCH(B74,Parametrage!$H:$H,0)),"") | M74: =IFERROR(INDEX(Parametrage!$K:$K,MATCH(B74,Parametrage!$L:$L,0)),"") | O74: =IFERROR(_xlfn.ISOWEEKNUM(P74),"") -> 6 | P74: =P73+1 -> 45328 | Q74: =+IFERROR(INDEX(#REF!,MATCH(P74,#REF!,0)),"") | R74: =IFERROR(INDEX(#REF!,MATCH(O74,#REF!,0)),"") | S74: =IFERROR(INDEX(#REF!,MATCH($O74,#REF!,0)),"") | T74: =IFERROR(INDEX(#REF!,MATCH($O74,#REF!,0)),"") | U74: =IFERROR(INDEX(#REF!,MATCH($O74,#REF!,0)),"") | V74: =IFERROR(INDEX(#REF!,MATCH($O74,#REF!,0)),"") | W74: =IFERROR(INDEX(Parametrage!$D:$D,MATCH(P74,Parametrage!$F:$F,0)),"") | X74: =IFERROR(INDEX(Parametrage!$I:$I,MATCH(P74,Parametrage!$J:$J,0)),"") | Y74: =IFERROR(INDEX(Parametrage!$G:$G,MATCH(P74,Parametrage!$H:$H,0)),"") | Z74: =IFERROR(INDEX(Parametrage!$K:$K,MATCH(P74,Parametrage!$L:$L,0)),"")
A75: =IFERROR(_xlfn.ISOWEEKNUM(B75),"") -> 1 | B75: =B74+1 -> 45298 | C75: =+IFERROR(INDEX(#REF!,MATCH(B75,#REF!,0)),"") | D75: =IFERROR(INDEX(#REF!,MATCH(A75,#REF!,0)),"") | E75: =IFERROR(INDEX(#REF!,MATCH($A75,#REF!,0)),"") | F75: =IFERROR(INDEX(#REF!,MATCH($A75,#REF!,0)),"") | G75: =IFERROR(INDEX(#REF!,MATCH($A75,#REF!,0)),"") | H75: =IFERROR(INDEX(#REF!,MATCH($A75,#REF!,0)),"") | J75: =IFERROR(INDEX(Parametrage!$D:$D,MATCH(B75,Parametrage!$F:$F,0)),"") | K75: =IFERROR(INDEX(Parametrage!$I:$I,MATCH(B75,Parametrage!$J:$J,0)),"") | L75: =IFERROR(INDEX(Parametrage!$G:$G,MATCH(B75,Parametrage!$H:$H,0)),"") | M75: =IFERROR(INDEX(Parametrage!$K:$K,MATCH(B75,Parametrage!$L:$L,0)),"") | O75: =IFERROR(_xlfn.ISOWEEKNUM(P75),"") -> 6 | P75: =P74+1 -> 45329 | Q75: =+IFERROR(INDEX(#REF!,MATCH(P75,#REF!,0)),"") | R75: =IFERROR(INDEX(#REF!,MATCH(O75,#REF!,0)),"") | S75: =IFERROR(INDEX(#REF!,MATCH($O75,#REF!,0)),"") | T75: =IFERROR(INDEX(#REF!,MATCH($O75,#REF!,0)),"") | U75: =IFERROR(INDEX(#REF!,MATCH($O75,#REF!,0)),"") | V75: =IFERROR(INDEX(#REF!,MATCH($O75,#REF!,0)),"") | W75: =IFERROR(INDEX(Parametrage!$D:$D,MATCH(P75,Parametrage!$F:$F,0)),"") | X75: =IFERROR(INDEX(Parametrage!$I:$I,MATCH(P75,Parametrage!$J:$J,0)),"") | Y75: =IFERROR(INDEX(Parametrage!$G:$G,MATCH(P75,Parametrage!$H:$H,0)),"") | Z75: =IFERROR(INDEX(Parametrage!$K:$K,MATCH(P75,Parametrage!$L:$L,0)),"")
A76: =IFERROR(_xlfn.ISOWEEKNUM(B76),"") -> 2 | B76: =B75+1 -> 45299 | C76: =+IFERROR(INDEX(#REF!,MATCH(B76,#REF!,0)),"") | D76: =IFERROR(INDEX(#REF!,MATCH(A76,#REF!,0)),"") | E76: =IFERROR(INDEX(#REF!,MATCH($A76,#REF!,0)),"") | F76: =IFERROR(INDEX(#REF!,MATCH($A76,#REF!,0)),"") | G76: =IFERROR(INDEX(#REF!,MATCH($A76,#REF!,0)),"") | H76: =IFERROR(INDEX(#REF!,MATCH($A76,#REF!,0)),"") | J76: =IFERROR(INDEX(Parametrage!$D:$D,MATCH(B76,Parametrage!$F:$F,0)),"") | K76: =IFERROR(INDEX(Parametrage!$I:$I,MATCH(B76,Parametrage!$J:$J,0)),"") | L76: =IFERROR(INDEX(Parametrage!$G:$G,MATCH(B76,Parametrage!$H:$H,0)),"") | M76: =IFERROR(INDEX(Parametrage!$K:$K,MATCH(B76,Parametrage!$L:$L,0)),"") | O76: =IFERROR(_xlfn.ISOWEEKNUM(P76),"") -> 6 | P76: =P75+1 -> 45330 | Q76: =+IFERROR(INDEX(#REF!,MATCH(P76,#REF!,0)),"") | R76: =IFERROR(INDEX(#REF!,MATCH(O76,#REF!,0)),"") | S76: =IFERROR(INDEX(#REF!,MATCH($O76,#REF!,0)),"") | T76: =IFERROR(INDEX(#REF!,MATCH($O76,#REF!,0)),"") | U76: =IFERROR(INDEX(#REF!,MATCH($O76,#REF!,0)),"") | V76: =IFERROR(INDEX(#REF!,MATCH($O76,#REF!,0)),"") | W76: =IFERROR(INDEX(Parametrage!$D:$D,MATCH(P76,Parametrage!$F:$F,0)),"") | X76: =IFERROR(INDEX(Parametrage!$I:$I,MATCH(P76,Parametrage!$J:$J,0)),"") | Y76: =IFERROR(INDEX(Parametrage!$G:$G,MATCH(P76,Parametrage!$H:$H,0)),"") | Z76: =IFERROR(INDEX(Parametrage!$K:$K,MATCH(P76,Parametrage!$L:$L,0)),"")
A77: =IFERROR(_xlfn.ISOWEEKNUM(B77),"") -> 2 | B77: =B76+1 -> 45300 | C77: =+IFERROR(INDEX(#REF!,MATCH(B77,#REF!,0)),"") | D77: =IFERROR(INDEX(#REF!,MATCH(A77,#REF!,0)),"") | E77: =IFERROR(INDEX(#REF!,MATCH($A77,#REF!,0)),"") | F77: =IFERROR(INDEX(#REF!,MATCH($A77,#REF!,0)),"") | G77: =IFERROR(INDEX(#REF!,MATCH($A77,#REF!,0)),"") | H77: =IFERROR(INDEX(#REF!,MATCH($A77,#REF!,0)),"") | J77: =IFERROR(INDEX(Parametrage!$D:$D,MATCH(B77,Parametrage!$F:$F,0)),"") | K77: =IFERROR(INDEX(Parametrage!$I:$I,MATCH(B77,Parametrage!$J:$J,0)),"") | L77: =IFERROR(INDEX(Parametrage!$G:$G,MATCH(B77,Parametrage!$H:$H,0)),"") | M77: =IFERROR(INDEX(Parametrage!$K:$K,MATCH(B77,Parametrage!$L:$L,0)),"") | O77: =IFERROR(_xlfn.ISOWEEKNUM(P77),"") -> 6 | P77: =P76+1 -> 45331 | Q77: =+IFERROR(INDEX(#REF!,MATCH(P77,#REF!,0)),"") | R77: =IFERROR(INDEX(#REF!,MATCH(O77,#REF!,0)),"") | S77: =IFERROR(INDEX(#REF!,MATCH($O77,#REF!,0)),"") | T77: =IFERROR(INDEX(#REF!,MATCH($O77,#REF!,0)),"") | U77: =IFERROR(INDEX(#REF!,MATCH($O77,#REF!,0)),"") | V77: =IFERROR(INDEX(#REF!,MATCH($O77,#REF!,0)),"") | W77: =IFERROR(INDEX(Parametrage!$D:$D,MATCH(P77,Parametrage!$F:$F,0)),"") | X77: =IFERROR(INDEX(Parametrage!$I:$I,MATCH(P77,Parametrage!$J:$J,0)),"") | Y77: =IFERROR(INDEX(Parametrage!$G:$G,MATCH(P77,Parametrage!$H:$H,0)),"") | Z77: =IFERROR(INDEX(Parametrage!$K:$K,MATCH(P77,Parametrage!$L:$L,0)),"")
A78: =IFERROR(_xlfn.ISOWEEKNUM(B78),"") -> 2 | B78: =B77+1 -> 45301 | C78: =+IFERROR(INDEX(#REF!,MATCH(B78,#REF!,0)),"") | D78: =IFERROR(INDEX(#REF!,MATCH(A78,#REF!,0)),"") | E78: =IFERROR(INDEX(#REF!,MATCH($A78,#REF!,0)),"") | F78: =IFERROR(INDEX(#REF!,MATCH($A78,#REF!,0)),"") | G78: =IFERROR(INDEX(#REF!,MATCH($A78,#REF!,0)),"") | H78: =IFERROR(INDEX(#REF!,MATCH($A78,#REF!,0)),"") | J78: =IFERROR(INDEX(Parametrage!$D:$D,MATCH(B78,Parametrage!$F:$F,0)),"") | K78: =IFERROR(INDEX(Parametrage!$I:$I,MATCH(B78,Parametrage!$J:$J,0)),"") | L78: =IFERROR(INDEX(Parametrage!$G:$G,MATCH(B78,Parametrage!$H:$H,0)),"") | M78: =IFERROR(INDEX(Parametrage!$K:$K,MATCH(B78,Parametrage!$L:$L,0)),"") | O78: =IFERROR(_xlfn.ISOWEEKNUM(P78),"") -> 6 | P78: =P77+1 -> 45332 | Q78: =+IFERROR(INDEX(#REF!,MATCH(P78,#REF!,0)),"") | R78: =IFERROR(INDEX(#REF!,MATCH(O78,#REF!,0)),"") | S78: =IFERROR(INDEX(#REF!,MATCH($O78,#REF!,0)),"") | T78: =IFERROR(INDEX(#REF!,MATCH($O78,#REF!,0)),"") | U78: =IFERROR(INDEX(#REF!,MATCH($O78,#REF!,0)),"") | V78: =IFERROR(INDEX(#REF!,MATCH($O78,#REF!,0)),"") | W78: =IFERROR(INDEX(Parametrage!$D:$D,MATCH(P78,Parametrage!$F:$F,0)),"") | X78: =IFERROR(INDEX(Parametrage!$I:$I,MATCH(P78,Parametrage!$J:$J,0)),"") | Y78: =IFERROR(INDEX(Parametrage!$G:$G,MATCH(P78,Parametrage!$H:$H,0)),"") | Z78: =IFERROR(INDEX(Parametrage!$K:$K,MATCH(P78,Parametrage!$L:$L,0)),"")
A79: =IFERROR(_xlfn.ISOWEEKNUM(B79),"") -> 2 | B79: =B78+1 -> 45302 | C79: =+IFERROR(INDEX(#REF!,MATCH(B79,#REF!,0)),"") | D79: =IFERROR(INDEX(#REF!,MATCH(A79,#REF!,0)),"") | E79: =IFERROR(INDEX(#REF!,MATCH($A79,#REF!,0)),"") | F79: =IFERROR(INDEX(#REF!,MATCH($A79,#REF!,0)),"") | G79: =IFERROR(INDEX(#REF!,MATCH($A79,#REF!,0)),"") | H79: =IFERROR(INDEX(#REF!,MATCH($A79,#REF!,0)),"") | J79: =IFERROR(INDEX(Parametrage!$D:$D,MATCH(B79,Parametrage!$F:$F,0)),"") | K79: =IFERROR(INDEX(Parametrage!$I:$I,MATCH(B79,Parametrage!$J:$J,0)),"") | L79: =IFERROR(INDEX(Parametrage!$G:$G,MATCH(B79,Parametrage!$H:$H,0)),"") | M79: =IFERROR(INDEX(Parametrage!$K:$K,MATCH(B79,Parametrage!$L:$L,0)),"") | O79: =IFERROR(_xlfn.ISOWEEKNUM(P79),"") -> 6 | P79: =P78+1 -> 45333 | Q79: =+IFERROR(INDEX(#REF!,MATCH(P79,#REF!,0)),"") | R79: =IFERROR(INDEX(#REF!,MATCH(O79,#REF!,0)),"") | S79: =IFERROR(INDEX(#REF!,MATCH($O79,#REF!,0)),"") | T79: =IFERROR(INDEX(#REF!,MATCH($O79,#REF!,0)),"") | U79: =IFERROR(INDEX(#REF!,MATCH($O79,#REF!,0)),"") | V79: =IFERROR(INDEX(#REF!,MATCH($O79,#REF!,0)),"") | W79: =IFERROR(INDEX(Parametrage!$D:$D,MATCH(P79,Parametrage!$F:$F,0)),"") | X79: =IFERROR(INDEX(Parametrage!$I:$I,MATCH(P79,Parametrage!$J:$J,0)),"") | Y79: =IFERROR(INDEX(Parametrage!$G:$G,MATCH(P79,Parametrage!$H:$H,0)),"") | Z79: =IFERROR(INDEX(Parametrage!$K:$K,MATCH(P79,Parametrage!$L:$L,0)),"")
A80: =IFERROR(_xlfn.ISOWEEKNUM(B80),"") -> 2 | B80: =B79+1 -> 45303 | C80: =+IFERROR(INDEX(#REF!,MATCH(B80,#REF!,0)),"") | D80: =IFERROR(INDEX(#REF!,MATCH(A80,#REF!,0)),"") | E80: =IFERROR(INDEX(#REF!,MATCH($A80,#REF!,0)),"") | F80: =IFERROR(INDEX(#REF!,MATCH($A80,#REF!,0)),"") | G80: =IFERROR(INDEX(#REF!,MATCH($A80,#REF!,0)),"") | H80: =IFERROR(INDEX(#REF!,MATCH($A80,#REF!,0)),"") | J80: =IFERROR(INDEX(Parametrage!$D:$D,MATCH(B80,Parametrage!$F:$F,0)),"") | K80: =IFERROR(INDEX(Parametrage!$I:$I,MATCH(B80,Parametrage!$J:$J,0)),"") | L80: =IFERROR(INDEX(Parametrage!$G:$G,MATCH(B80,Parametrage!$H:$H,0)),"") | M80: =IFERROR(INDEX(Parametrage!$K:$K,MATCH(B80,Parametrage!$L:$L,0)),"") | O80: =IFERROR(_xlfn.ISOWEEKNUM(P80),"") -> 7 | P80: =P79+1 -> 45334 | Q80: =+IFERROR(INDEX(#REF!,MATCH(P80,#REF!,0)),"") | R80: =IFERROR(INDEX(#REF!,MATCH(O80,#REF!,0)),"") | S80: =IFERROR(INDEX(#REF!,MATCH($O80,#REF!,0)),"") | T80: =IFERROR(INDEX(#REF!,MATCH($O80,#REF!,0)),"") | U80: =IFERROR(INDEX(#REF!,MATCH($O80,#REF!,0)),"") | V80: =IFERROR(INDEX(#REF!,MATCH($O80,#REF!,0)),"") | W80: =IFERROR(INDEX(Parametrage!$D:$D,MATCH(P80,Parametrage!$F:$F,0)),"") | X80: =IFERROR(INDEX(Parametrage!$I:$I,MATCH(P80,Parametrage!$J:$J,0)),"") | Y80: =IFERROR(INDEX(Parametrage!$G:$G,MATCH(P80,Parametrage!$H:$H,0)),"") | Z80: =IFERROR(INDEX(Parametrage!$K:$K,MATCH(P80,Parametrage!$L:$L,0)),"")
A81: =IFERROR(_xlfn.ISOWEEKNUM(B81),"") -> 2 | B81: =B80+1 -> 45304 | C81: =+IFERROR(INDEX(#REF!,MATCH(B81,#REF!,0)),"") | D81: =IFERROR(INDEX(#REF!,MATCH(A81,#REF!,0)),"") | E81: =IFERROR(INDEX(#REF!,MATCH($A81,#REF!,0)),"") | F81: =IFERROR(INDEX(#REF!,MATCH($A81,#REF!,0)),"") | G81: =IFERROR(INDEX(#REF!,MATCH($A81,#REF!,0)),"") | H81: =IFERROR(INDEX(#REF!,MATCH($A81,#REF!,0)),"") | J81: =IFERROR(INDEX(Parametrage!$D:$D,MATCH(B81,Parametrage!$F:$F,0)),"") | K81: =IFERROR(INDEX(Parametrage!$I:$I,MATCH(B81,Parametrage!$J:$J,0)),"") | L81: =IFERROR(INDEX(Parametrage!$G:$G,MATCH(B81,Parametrage!$H:$H,0)),"") | M81: =IFERROR(INDEX(Parametrage!$K:$K,MATCH(B81,Parametrage!$L:$L,0)),"") | O81: =IFERROR(_xlfn.ISOWEEKNUM(P81),"") -> 7 | P81: =P80+1 -> 45335 | Q81: =+IFERROR(INDEX(#REF!,MATCH(P81,#REF!,0)),"") | R81: =IFERROR(INDEX(#REF!,MATCH(O81,#REF!,0)),"") | S81: =IFERROR(INDEX(#REF!,MATCH($O81,#REF!,0)),"") | T81: =IFERROR(INDEX(#REF!,MATCH($O81,#REF!,0)),"") | U81: =IFERROR(INDEX(#REF!,MATCH($O81,#REF!,0)),"") | V81: =IFERROR(INDEX(#REF!,MATCH($O81,#REF!,0)),"") | W81: =IFERROR(INDEX(Parametrage!$D:$D,MATCH(P81,Parametrage!$F:$F,0)),"") | X81: =IFERROR(INDEX(Parametrage!$I:$I,MATCH(P81,Parametrage!$J:$J,0)),"") | Y81: =IFERROR(INDEX(Parametrage!$G:$G,MATCH(P81,Parametrage!$H:$H,0)),"") | Z81: =IFERROR(INDEX(Parametrage!$K:$K,MATCH(P81,Parametrage!$L:$L,0)),"")
... A96: =IFERROR(_xlfn.ISOWEEKNUM(B96),"") -> 4 | B96: =B95+1 -> 45319 | C96: =+IFERROR(INDEX(#REF!,MATCH(B96,#REF!,0)),"") | D96: =IFERROR(INDEX(#REF!,MATCH(A96,#REF!,0)),"") | E96: =IFERROR(INDEX(#REF!,MATCH($A96,#REF!,0)),"") | F96: =IFERROR(INDEX(#REF!,MATCH($A96,#REF!,0)),"") | G96: =IFERROR(INDEX(#REF!,MATCH($A96,#REF!,0)),"") | H96: =IFERROR(INDEX(#REF!,MATCH($A96,#REF!,0)),"") | J96: =IFERROR(INDEX(Parametrage!$D:$D,MATCH(B96,Parametrage!$F:$F,0)),"") | K96: =IFERROR(INDEX(Parametrage!$I:$I,MATCH(B96,Parametrage!$J:$J,0)),"") | L96: =IFERROR(INDEX(Parametrage!$G:$G,MATCH(B96,Parametrage!$H:$H,0)),"") | M96: =IFERROR(INDEX(Parametrage!$K:$K,MATCH(B96,Parametrage!$L:$L,0)),"") | O96: =IFERROR(_xlfn.ISOWEEKNUM(P96),"") -> 9 | P96: =P95+1 -> 45350 | Q96: =+IFERROR(INDEX(#REF!,MATCH(P96,#REF!,0)),"") | R96: =IFERROR(INDEX(#REF!,MATCH(O96,#REF!,0)),"") | S96: =IFERROR(INDEX(#REF!,MATCH($O96,#REF!,0)),"") | T96: =IFERROR(INDEX(#REF!,MATCH($O96,#REF!,0)),"") | U96: =IFERROR(INDEX(#REF!,MATCH($O96,#REF!,0)),"") | V96: =IFERROR(INDEX(#REF!,MATCH($O96,#REF!,0)),"") | W96: =IFERROR(INDEX(Parametrage!$D:$D,MATCH(P96,Parametrage!$F:$F,0)),"") | X96: =IFERROR(INDEX(Parametrage!$I:$I,MATCH(P96,Parametrage!$J:$J,0)),"") | Y96: =IFERROR(INDEX(Parametrage!$G:$G,MATCH(P96,Parametrage!$H:$H,0)),"") | Z96: =IFERROR(INDEX(Parametrage!$K:$K,MATCH(P96,Parametrage!$L:$L,0)),"")
A97: =IFERROR(_xlfn.ISOWEEKNUM(B97),"") -> 5 | B97: =IFERROR(IF(MONTH(B96)=MONTH(B96+1),B96+1,""),"") -> 45320 | C97: =+IFERROR(INDEX(#REF!,MATCH(B97,#REF!,0)),"") | D97: =IFERROR(INDEX(#REF!,MATCH(A97,#REF!,0)),"") | E97: =IFERROR(INDEX(#REF!,MATCH($A97,#REF!,0)),"") | F97: =IFERROR(INDEX(#REF!,MATCH($A97,#REF!,0)),"") | G97: =IFERROR(INDEX(#REF!,MATCH($A97,#REF!,0)),"") | H97: =IFERROR(INDEX(#REF!,MATCH($A97,#REF!,0)),"") | J97: =IFERROR(INDEX(Parametrage!$D:$D,MATCH(B97,Parametrage!$F:$F,0)),"") | K97: =IFERROR(INDEX(Parametrage!$I:$I,MATCH(B97,Parametrage!$J:$J,0)),"") | L97: =IFERROR(INDEX(Parametrage!$G:$G,MATCH(B97,Parametrage!$H:$H,0)),"") | M97: =IFERROR(INDEX(Parametrage!$K:$K,MATCH(B97,Parametrage!$L:$L,0)),"") | O97: =IFERROR(_xlfn.ISOWEEKNUM(P97),"") -> 9 | P97: =IFERROR(IF(MONTH(P96)=MONTH(P96+1),P96+1,""),"") -> 45351 | Q97: =+IFERROR(INDEX(#REF!,MATCH(P97,#REF!,0)),"") | R97: =IFERROR(INDEX(#REF!,MATCH(O97,#REF!,0)),"") | S97: =IFERROR(INDEX(#REF!,MATCH($O97,#REF!,0)),"") | T97: =IFERROR(INDEX(#REF!,MATCH($O97,#REF!,0)),"") | U97: =IFERROR(INDEX(#REF!,MATCH($O97,#REF!,0)),"") | V97: =IFERROR(INDEX(#REF!,MATCH($O97,#REF!,0)),"") | W97: =IFERROR(INDEX(Parametrage!$D:$D,MATCH(P97,Parametrage!$F:$F,0)),"") | X97: =IFERROR(INDEX(Parametrage!$I:$I,MATCH(P97,Parametrage!$J:$J,0)),"") | Y97: =IFERROR(INDEX(Parametrage!$G:$G,MATCH(P97,Parametrage!$H:$H,0)),"") | Z97: =IFERROR(INDEX(Parametrage!$K:$K,MATCH(P97,Parametrage!$L:$L,0)),"")
A98: =IFERROR(_xlfn.ISOWEEKNUM(B98),"") -> 5 | B98: =IFERROR(IF(MONTH(B97)=MONTH(B97+1),B97+1,""),"") -> 45321 | C98: =+IFERROR(INDEX(#REF!,MATCH(B98,#REF!,0)),"") | D98: =IFERROR(INDEX(#REF!,MATCH(A98,#REF!,0)),"") | E98: =IFERROR(INDEX(#REF!,MATCH($A98,#REF!,0)),"") | F98: =IFERROR(INDEX(#REF!,MATCH($A98,#REF!,0)),"") | G98: =IFERROR(INDEX(#REF!,MATCH($A98,#REF!,0)),"") | H98: =IFERROR(INDEX(#REF!,MATCH($A98,#REF!,0)),"") | J98: =IFERROR(INDEX(Parametrage!$D:$D,MATCH(B98,Parametrage!$F:$F,0)),"") | K98: =IFERROR(INDEX(Parametrage!$I:$I,MATCH(B98,Parametrage!$J:$J,0)),"") | L98: =IFERROR(INDEX(Parametrage!$G:$G,MATCH(B98,Parametrage!$H:$H,0)),"") | M98: =IFERROR(INDEX(Parametrage!$K:$K,MATCH(B98,Parametrage!$L:$L,0)),"") | O98: =IFERROR(_xlfn.ISOWEEKNUM(P98),"") | P98: =IFERROR(IF(MONTH(P97)=MONTH(P97+1),P97+1,""),"") | Q98: =+IFERROR(INDEX(#REF!,MATCH(P98,#REF!,0)),"") | R98: =IFERROR(INDEX(#REF!,MATCH(O98,#REF!,0)),"") | S98: =IFERROR(INDEX(#REF!,MATCH($O98,#REF!,0)),"") | T98: =IFERROR(INDEX(#REF!,MATCH($O98,#REF!,0)),"") | U98: =IFERROR(INDEX(#REF!,MATCH($O98,#REF!,0)),"") | V98: =IFERROR(INDEX(#REF!,MATCH($O98,#REF!,0)),"") | W98: =IFERROR(INDEX(Parametrage!$D:$D,MATCH(P98,Parametrage!$F:$F,0)),"") | X98: =IFERROR(INDEX(Parametrage!$I:$I,MATCH(P98,Parametrage!$J:$J,0)),"") | Y98: =IFERROR(INDEX(Parametrage!$G:$G,MATCH(P98,Parametrage!$H:$H,0)),"") | Z98: =IFERROR(INDEX(Parametrage!$K:$K,MATCH(P98,Parametrage!$L:$L,0)),"")
A99: =IFERROR(_xlfn.ISOWEEKNUM(B99),"") -> 5 | B99: =IFERROR(IF(MONTH(B98)=MONTH(B98+1),B98+1,""),"") -> 45322 | C99: =+IFERROR(INDEX(#REF!,MATCH(B99,#REF!,0)),"") | D99: =IFERROR(INDEX(#REF!,MATCH(A99,#REF!,0)),"") | E99: =IFERROR(INDEX(#REF!,MATCH($A99,#REF!,0)),"") | F99: =IFERROR(INDEX(#REF!,MATCH($A99,#REF!,0)),"") | G99: =IFERROR(INDEX(#REF!,MATCH($A99,#REF!,0)),"") | H99: =IFERROR(INDEX(#REF!,MATCH($A99,#REF!,0)),"") | J99: =IFERROR(INDEX(Parametrage!$D:$D,MATCH(B99,Parametrage!$F:$F,0)),"") | K99: =IFERROR(INDEX(Parametrage!$I:$I,MATCH(B99,Parametrage!$J:$J,0)),"") | L99: =IFERROR(INDEX(Parametrage!$G:$G,MATCH(B99,Parametrage!$H:$H,0)),"") | M99: =IFERROR(INDEX(Parametrage!$K:$K,MATCH(B99,Parametrage!$L:$L,0)),"") | O99: =IFERROR(_xlfn.ISOWEEKNUM(P99),"") | P99: =IFERROR(IF(MONTH(P98)=MONTH(P98+1),P98+1,""),"") | Q99: =+IFERROR(INDEX(#REF!,MATCH(P99,#REF!,0)),"") | R99: =IFERROR(INDEX(#REF!,MATCH(O99,#REF!,0)),"") | S99: =IFERROR(INDEX(#REF!,MATCH($O99,#REF!,0)),"") | T99: =IFERROR(INDEX(#REF!,MATCH($O99,#REF!,0)),"") | U99: =IFERROR(INDEX(#REF!,MATCH($O99,#REF!,0)),"") | V99: =IFERROR(INDEX(#REF!,MATCH($O99,#REF!,0)),"") | W99: =IFERROR(INDEX(Parametrage!$D:$D,MATCH(P99,Parametrage!$F:$F,0)),"") | X99: =IFERROR(INDEX(Parametrage!$I:$I,MATCH(P99,Parametrage!$J:$J,0)),"") | Y99: =IFERROR(INDEX(Parametrage!$G:$G,MATCH(P99,Parametrage!$H:$H,0)),"") | Z99: =IFERROR(INDEX(Parametrage!$K:$K,MATCH(P99,Parametrage!$L:$L,0)),"")
A101: Sem | B101: =EDATE($K$1,6) -> 45352 | C101: Infos | D101: PFMP 1cuis | E101: PFMP Tcuis | F101: PFMP 2pro | G101: PFMP 1pro | H101: PFMP Tpro | J101: Vie de classe | K101: Vigilance | L101: CCF | M101: Autres | O101: Sem | P101: =EDATE($K$1,7) -> 45383 | Q101: Infos | R101: PFMP 1cuis | S101: PFMP Tcuis | T101: PFMP 2pro | U101: PFMP 1pro | V101: PFMP Tpro | W101: Vie de classe | X101: Vigilance | Y101: CCF | Z101: Autres
A102: =IFERROR(_xlfn.ISOWEEKNUM(B102),"") -> 9 | B102: =B101 -> 45352 | C102: =+IFERROR(INDEX(#REF!,MATCH(B102,#REF!,0)),"") | D102: =IFERROR(INDEX(#REF!,MATCH(A102,#REF!,0)),"") | E102: =IFERROR(INDEX(#REF!,MATCH($A102,#REF!,0)),"") | F102: =IFERROR(INDEX(#REF!,MATCH($A102,#REF!,0)),"") | G102: =IFERROR(INDEX(#REF!,MATCH($A102,#REF!,0)),"") | H102: =IFERROR(INDEX(#REF!,MATCH($A102,#REF!,0)),"") | J102: =IFERROR(INDEX(Parametrage!$D:$D,MATCH(B102,Parametrage!$F:$F,0)),"") | K102: =IFERROR(INDEX(Parametrage!$I:$I,MATCH(B102,Parametrage!$J:$J,0)),"") | L102: =IFERROR(INDEX(Parametrage!$G:$G,MATCH(B102,Parametrage!$H:$H,0)),"") | M102: =IFERROR(INDEX(Parametrage!$K:$K,MATCH(B102,Parametrage!$L:$L,0)),"") | O102: =IFERROR(_xlfn.ISOWEEKNUM(P102),"") -> 14 | P102: =P101 -> 45383 | Q102: =+IFERROR(INDEX(#REF!,MATCH(P102,#REF!,0)),"") | R102: =IFERROR(INDEX(#REF!,MATCH(O102,#REF!,0)),"") | S102: =IFERROR(INDEX(#REF!,MATCH($O102,#REF!,0)),"") | T102: =IFERROR(INDEX(#REF!,MATCH($O102,#REF!,0)),"") | U102: =IFERROR(INDEX(#REF!,MATCH($O102,#REF!,0)),"") | V102: =IFERROR(INDEX(#REF!,MATCH($O102,#REF!,0)),"") | W102: =IFERROR(INDEX(Parametrage!$D:$D,MATCH(P102,Parametrage!$F:$F,0)),"") | X102: =IFERROR(INDEX(Parametrage!$I:$I,MATCH(P102,Parametrage!$J:$J,0)),"") | Y102: =IFERROR(INDEX(Parametrage!$G:$G,MATCH(P102,Parametrage!$H:$H,0)),"") | Z102: =IFERROR(INDEX(Parametrage!$K:$K,MATCH(P102,Parametrage!$L:$L,0)),"")
A103: =IFERROR(_xlfn.ISOWEEKNUM(B103),"") -> 9 | B103: =B102+1 -> 45353 | C103: =+IFERROR(INDEX(#REF!,MATCH(B103,#REF!,0)),"") | D103: =IFERROR(INDEX(#REF!,MATCH(A103,#REF!,0)),"") | E103: =IFERROR(INDEX(#REF!,MATCH($A103,#REF!,0)),"") | F103: =IFERROR(INDEX(#REF!,MATCH($A103,#REF!,0)),"") | G103: =IFERROR(INDEX(#REF!,MATCH($A103,#REF!,0)),"") | H103: =IFERROR(INDEX(#REF!,MATCH($A103,#REF!,0)),"") | J103: =IFERROR(INDEX(Parametrage!$D:$D,MATCH(B103,Parametrage!$F:$F,0)),"") | K103: =IFERROR(INDEX(Parametrage!$I:$I,MATCH(B103,Parametrage!$J:$J,0)),"") | L103: =IFERROR(INDEX(Parametrage!$G:$G,MATCH(B103,Parametrage!$H:$H,0)),"") | M103: =IFERROR(INDEX(Parametrage!$K:$K,MATCH(B103,Parametrage!$L:$L,0)),"") | O103: =IFERROR(_xlfn.ISOWEEKNUM(P103),"") -> 14 | P103: =P102+1 -> 45384 | Q103: =+IFERROR(INDEX(#REF!,MATCH(P103,#REF!,0)),"") | R103: =IFERROR(INDEX(#REF!,MATCH(O103,#REF!,0)),"") | S103: =IFERROR(INDEX(#REF!,MATCH($O103,#REF!,0)),"") | T103: =IFERROR(INDEX(#REF!,MATCH($O103,#REF!,0)),"") | U103: =IFERROR(INDEX(#REF!,MATCH($O103,#REF!,0)),"") | V103: =IFERROR(INDEX(#REF!,MATCH($O103,#REF!,0)),"") | W103: =IFERROR(INDEX(Parametrage!$D:$D,MATCH(P103,Parametrage!$F:$F,0)),"") | X103: =IFERROR(INDEX(Parametrage!$I:$I,MATCH(P103,Parametrage!$J:$J,0)),"") | Y103: =IFERROR(INDEX(Parametrage!$G:$G,MATCH(P103,Parametrage!$H:$H,0)),"") | Z103: =IFERROR(INDEX(Parametrage!$K:$K,MATCH(P103,Parametrage!$L:$L,0)),"")
A104: =IFERROR(_xlfn.ISOWEEKNUM(B104),"") -> 9 | B104: =B103+1 -> 45354 | C104: =+IFERROR(INDEX(#REF!,MATCH(B104,#REF!,0)),"") | D104: =IFERROR(INDEX(#REF!,MATCH(A104,#REF!,0)),"") | E104: =IFERROR(INDEX(#REF!,MATCH($A104,#REF!,0)),"") | F104: =IFERROR(INDEX(#REF!,MATCH($A104,#REF!,0)),"") | G104: =IFERROR(INDEX(#REF!,MATCH($A104,#REF!,0)),"") | H104: =IFERROR(INDEX(#REF!,MATCH($A104,#REF!,0)),"") | J104: =IFERROR(INDEX(Parametrage!$D:$D,MATCH(B104,Parametrage!$F:$F,0)),"") | K104: =IFERROR(INDEX(Parametrage!$I:$I,MATCH(B104,Parametrage!$J:$J,0)),"") | L104: =IFERROR(INDEX(Parametrage!$G:$G,MATCH(B104,Parametrage!$H:$H,0)),"") | M104: =IFERROR(INDEX(Parametrage!$K:$K,MATCH(B104,Parametrage!$L:$L,0)),"") | O104: =IFERROR(_xlfn.ISOWEEKNUM(P104),"") -> 14 | P104: =P103+1 -> 45385 | Q104: =+IFERROR(INDEX(#REF!,MATCH(P104,#REF!,0)),"") | R104: =IFERROR(INDEX(#REF!,MATCH(O104,#REF!,0)),"") | S104: =IFERROR(INDEX(#REF!,MATCH($O104,#REF!,0)),"") | T104: =IFERROR(INDEX(#REF!,MATCH($O104,#REF!,0)),"") | U104: =IFERROR(INDEX(#REF!,MATCH($O104,#REF!,0)),"") | V104: =IFERROR(INDEX(#REF!,MATCH($O104,#REF!,0)),"") | W104: =IFERROR(INDEX(Parametrage!$D:$D,MATCH(P104,Parametrage!$F:$F,0)),"") | X104: =IFERROR(INDEX(Parametrage!$I:$I,MATCH(P104,Parametrage!$J:$J,0)),"") | Y104: =IFERROR(INDEX(Parametrage!$G:$G,MATCH(P104,Parametrage!$H:$H,0)),"") | Z104: =IFERROR(INDEX(Parametrage!$K:$K,MATCH(P104,Parametrage!$L:$L,0)),"")
A105: =IFERROR(_xlfn.ISOWEEKNUM(B105),"") -> 10 | B105: =B104+1 -> 45355 | C105: =+IFERROR(INDEX(#REF!,MATCH(B105,#REF!,0)),"") | D105: =IFERROR(INDEX(#REF!,MATCH(A105,#REF!,0)),"") | E105: =IFERROR(INDEX(#REF!,MATCH($A105,#REF!,0)),"") | F105: =IFERROR(INDEX(#REF!,MATCH($A105,#REF!,0)),"") | G105: =IFERROR(INDEX(#REF!,MATCH($A105,#REF!,0)),"") | H105: =IFERROR(INDEX(#REF!,MATCH($A105,#REF!,0)),"") | J105: =IFERROR(INDEX(Parametrage!$D:$D,MATCH(B105,Parametrage!$F:$F,0)),"") | K105: =IFERROR(INDEX(Parametrage!$I:$I,MATCH(B105,Parametrage!$J:$J,0)),"") | L105: =IFERROR(INDEX(Parametrage!$G:$G,MATCH(B105,Parametrage!$H:$H,0)),"") | M105: =IFERROR(INDEX(Parametrage!$K:$K,MATCH(B105,Parametrage!$L:$L,0)),"") | O105: =IFERROR(_xlfn.ISOWEEKNUM(P105),"") -> 14 | P105: =P104+1 -> 45386 | Q105: =+IFERROR(INDEX(#REF!,MATCH(P105,#REF!,0)),"") | R105: =IFERROR(INDEX(#REF!,MATCH(O105,#REF!,0)),"") | S105: =IFERROR(INDEX(#REF!,MATCH($O105,#REF!,0)),"") | T105: =IFERROR(INDEX(#REF!,MATCH($O105,#REF!,0)),"") | U105: =IFERROR(INDEX(#REF!,MATCH($O105,#REF!,0)),"") | V105: =IFERROR(INDEX(#REF!,MATCH($O105,#REF!,0)),"") | W105: =IFERROR(INDEX(Parametrage!$D:$D,MATCH(P105,Parametrage!$F:$F,0)),"") | X105: =IFERROR(INDEX(Parametrage!$I:$I,MATCH(P105,Parametrage!$J:$J,0)),"") | Y105: =IFERROR(INDEX(Parametrage!$G:$G,MATCH(P105,Parametrage!$H:$H,0)),"") | Z105: =IFERROR(INDEX(Parametrage!$K:$K,MATCH(P105,Parametrage!$L:$L,0)),"")
A106: =IFERROR(_xlfn.ISOWEEKNUM(B106),"") -> 10 | B106: =B105+1 -> 45356 | C106: =+IFERROR(INDEX(#REF!,MATCH(B106,#REF!,0)),"") | D106: =IFERROR(INDEX(#REF!,MATCH(A106,#REF!,0)),"") | E106: =IFERROR(INDEX(#REF!,MATCH($A106,#REF!,0)),"") | F106: =IFERROR(INDEX(#REF!,MATCH($A106,#REF!,0)),"") | G106: =IFERROR(INDEX(#REF!,MATCH($A106,#REF!,0)),"") | H106: =IFERROR(INDEX(#REF!,MATCH($A106,#REF!,0)),"") | J106: =IFERROR(INDEX(Parametrage!$D:$D,MATCH(B106,Parametrage!$F:$F,0)),"") | K106: =IFERROR(INDEX(Parametrage!$I:$I,MATCH(B106,Parametrage!$J:$J,0)),"") | L106: =IFERROR(INDEX(Parametrage!$G:$G,MATCH(B106,Parametrage!$H:$H,0)),"") | M106: =IFERROR(INDEX(Parametrage!$K:$K,MATCH(B106,Parametrage!$L:$L,0)),"") | O106: =IFERROR(_xlfn.ISOWEEKNUM(P106),"") -> 14 | P106: =P105+1 -> 45387 | Q106: =+IFERROR(INDEX(#REF!,MATCH(P106,#REF!,0)),"") | R106: =IFERROR(INDEX(#REF!,MATCH(O106,#REF!,0)),"") | S106: =IFERROR(INDEX(#REF!,MATCH($O106,#REF!,0)),"") | T106: =IFERROR(INDEX(#REF!,MATCH($O106,#REF!,0)),"") | U106: =IFERROR(INDEX(#REF!,MATCH($O106,#REF!,0)),"") | V106: =IFERROR(INDEX(#REF!,MATCH($O106,#REF!,0)),"") | W106: =IFERROR(INDEX(Parametrage!$D:$D,MATCH(P106,Parametrage!$F:$F,0)),"") | X106: =IFERROR(INDEX(Parametrage!$I:$I,MATCH(P106,Parametrage!$J:$J,0)),"") | Y106: =IFERROR(INDEX(Parametrage!$G:$G,MATCH(P106,Parametrage!$H:$H,0)),"") | Z106: =IFERROR(INDEX(Parametrage!$K:$K,MATCH(P106,Parametrage!$L:$L,0)),"")
A107: =IFERROR(_xlfn.ISOWEEKNUM(B107),"") -> 10 | B107: =B106+1 -> 45357 | C107: =+IFERROR(INDEX(#REF!,MATCH(B107,#REF!,0)),"") | D107: =IFERROR(INDEX(#REF!,MATCH(A107,#REF!,0)),"") | E107: =IFERROR(INDEX(#REF!,MATCH($A107,#REF!,0)),"") | F107: =IFERROR(INDEX(#REF!,MATCH($A107,#REF!,0)),"") | G107: =IFERROR(INDEX(#REF!,MATCH($A107,#REF!,0)),"") | H107: =IFERROR(INDEX(#REF!,MATCH($A107,#REF!,0)),"") | J107: =IFERROR(INDEX(Parametrage!$D:$D,MATCH(B107,Parametrage!$F:$F,0)),"") | K107: =IFERROR(INDEX(Parametrage!$I:$I,MATCH(B107,Parametrage!$J:$J,0)),"") | L107: =IFERROR(INDEX(Parametrage!$G:$G,MATCH(B107,Parametrage!$H:$H,0)),"") | M107: =IFERROR(INDEX(Parametrage!$K:$K,MATCH(B107,Parametrage!$L:$L,0)),"") | O107: =IFERROR(_xlfn.ISOWEEKNUM(P107),"") -> 14 | P107: =P106+1 -> 45388 | Q107: =+IFERROR(INDEX(#REF!,MATCH(P107,#REF!,0)),"") | R107: =IFERROR(INDEX(#REF!,MATCH(O107,#REF!,0)),"") | S107: =IFERROR(INDEX(#REF!,MATCH($O107,#REF!,0)),"") | T107: =IFERROR(INDEX(#REF!,MATCH($O107,#REF!,0)),"") | U107: =IFERROR(INDEX(#REF!,MATCH($O107,#REF!,0)),"") | V107: =IFERROR(INDEX(#REF!,MATCH($O107,#REF!,0)),"") | W107: =IFERROR(INDEX(Parametrage!$D:$D,MATCH(P107,Parametrage!$F:$F,0)),"") | X107: =IFERROR(INDEX(Parametrage!$I:$I,MATCH(P107,Parametrage!$J:$J,0)),"") | Y107: =IFERROR(INDEX(Parametrage!$G:$G,MATCH(P107,Parametrage!$H:$H,0)),"") | Z107: =IFERROR(INDEX(Parametrage!$K:$K,MATCH(P107,Parametrage!$L:$L,0)),"")
A108: =IFERROR(_xlfn.ISOWEEKNUM(B108),"") -> 10 | B108: =B107+1 -> 45358 | C108: =+IFERROR(INDEX(#REF!,MATCH(B108,#REF!,0)),"") | D108: =IFERROR(INDEX(#REF!,MATCH(A108,#REF!,0)),"") | E108: =IFERROR(INDEX(#REF!,MATCH($A108,#REF!,0)),"") | F108: =IFERROR(INDEX(#REF!,MATCH($A108,#REF!,0)),"") | G108: =IFERROR(INDEX(#REF!,MATCH($A108,#REF!,0)),"") | H108: =IFERROR(INDEX(#REF!,MATCH($A108,#REF!,0)),"") | J108: =IFERROR(INDEX(Parametrage!$D:$D,MATCH(B108,Parametrage!$F:$F,0)),"") | K108: =IFERROR(INDEX(Parametrage!$I:$I,MATCH(B108,Parametrage!$J:$J,0)),"") | L108: =IFERROR(INDEX(Parametrage!$G:$G,MATCH(B108,Parametrage!$H:$H,0)),"") | M108: =IFERROR(INDEX(Parametrage!$K:$K,MATCH(B108,Parametrage!$L:$L,0)),"") | O108: =IFERROR(_xlfn.ISOWEEKNUM(P108),"") -> 14 | P108: =P107+1 -> 45389 | Q108: =+IFERROR(INDEX(#REF!,MATCH(P108,#REF!,0)),"") | R108: =IFERROR(INDEX(#REF!,MATCH(O108,#REF!,0)),"") | S108: =IFERROR(INDEX(#REF!,MATCH($O108,#REF!,0)),"") | T108: =IFERROR(INDEX(#REF!,MATCH($O108,#REF!,0)),"") | U108: =IFERROR(INDEX(#REF!,MATCH($O108,#REF!,0)),"") | V108: =IFERROR(INDEX(#REF!,MATCH($O108,#REF!,0)),"") | W108: =IFERROR(INDEX(Parametrage!$D:$D,MATCH(P108,Parametrage!$F:$F,0)),"") | X108: =IFERROR(INDEX(Parametrage!$I:$I,MATCH(P108,Parametrage!$J:$J,0)),"") | Y108: =IFERROR(INDEX(Parametrage!$G:$G,MATCH(P108,Parametrage!$H:$H,0)),"") | Z108: =IFERROR(INDEX(Parametrage!$K:$K,MATCH(P108,Parametrage!$L:$L,0)),"")
A109: =IFERROR(_xlfn.ISOWEEKNUM(B109),"") -> 10 | B109: =B108+1 -> 45359 | C109: =+IFERROR(INDEX(#REF!,MATCH(B109,#REF!,0)),"") | D109: =IFERROR(INDEX(#REF!,MATCH(A109,#REF!,0)),"") | E109: =IFERROR(INDEX(#REF!,MATCH($A109,#REF!,0)),"") | F109: =IFERROR(INDEX(#REF!,MATCH($A109,#REF!,0)),"") | G109: =IFERROR(INDEX(#REF!,MATCH($A109,#REF!,0)),"") | H109: =IFERROR(INDEX(#REF!,MATCH($A109,#REF!,0)),"") | J109: =IFERROR(INDEX(Parametrage!$D:$D,MATCH(B109,Parametrage!$F:$F,0)),"") | K109: =IFERROR(INDEX(Parametrage!$I:$I,MATCH(B109,Parametrage!$J:$J,0)),"") | L109: =IFERROR(INDEX(Parametrage!$G:$G,MATCH(B109,Parametrage!$H:$H,0)),"") | M109: =IFERROR(INDEX(Parametrage!$K:$K,MATCH(B109,Parametrage!$L:$L,0)),"") | O109: =IFERROR(_xlfn.ISOWEEKNUM(P109),"") -> 15 | P109: =P108+1 -> 45390 | Q109: =+IFERROR(INDEX(#REF!,MATCH(P109,#REF!,0)),"") | R109: =IFERROR(INDEX(#REF!,MATCH(O109,#REF!,0)),"") | S109: =IFERROR(INDEX(#REF!,MATCH($O109,#REF!,0)),"") | T109: =IFERROR(INDEX(#REF!,MATCH($O109,#REF!,0)),"") | U109: =IFERROR(INDEX(#REF!,MATCH($O109,#REF!,0)),"") | V109: =IFERROR(INDEX(#REF!,MATCH($O109,#REF!,0)),"") | W109: =IFERROR(INDEX(Parametrage!$D:$D,MATCH(P109,Parametrage!$F:$F,0)),"") | X109: =IFERROR(INDEX(Parametrage!$I:$I,MATCH(P109,Parametrage!$J:$J,0)),"") | Y109: =IFERROR(INDEX(Parametrage!$G:$G,MATCH(P109,Parametrage!$H:$H,0)),"") | Z109: =IFERROR(INDEX(Parametrage!$K:$K,MATCH(P109,Parametrage!$L:$L,0)),"")
A110: =IFERROR(_xlfn.ISOWEEKNUM(B110),"") -> 10 | B110: =B109+1 -> 45360 | C110: =+IFERROR(INDEX(#REF!,MATCH(B110,#REF!,0)),"") | D110: =IFERROR(INDEX(#REF!,MATCH(A110,#REF!,0)),"") | E110: =IFERROR(INDEX(#REF!,MATCH($A110,#REF!,0)),"") | F110: =IFERROR(INDEX(#REF!,MATCH($A110,#REF!,0)),"") | G110: =IFERROR(INDEX(#REF!,MATCH($A110,#REF!,0)),"") | H110: =IFERROR(INDEX(#REF!,MATCH($A110,#REF!,0)),"") | J110: =IFERROR(INDEX(Parametrage!$D:$D,MATCH(B110,Parametrage!$F:$F,0)),"") | K110: =IFERROR(INDEX(Parametrage!$I:$I,MATCH(B110,Parametrage!$J:$J,0)),"") | L110: =IFERROR(INDEX(Parametrage!$G:$G,MATCH(B110,Parametrage!$H:$H,0)),"") | M110: =IFERROR(INDEX(Parametrage!$K:$K,MATCH(B110,Parametrage!$L:$L,0)),"") | O110: =IFERROR(_xlfn.ISOWEEKNUM(P110),"") -> 15 | P110: =P109+1 -> 45391 | Q110: =+IFERROR(INDEX(#REF!,MATCH(P110,#REF!,0)),"") | R110: =IFERROR(INDEX(#REF!,MATCH(O110,#REF!,0)),"") | S110: =IFERROR(INDEX(#REF!,MATCH($O110,#REF!,0)),"") | T110: =IFERROR(INDEX(#REF!,MATCH($O110,#REF!,0)),"") | U110: =IFERROR(INDEX(#REF!,MATCH($O110,#REF!,0)),"") | V110: =IFERROR(INDEX(#REF!,MATCH($O110,#REF!,0)),"") | W110: =IFERROR(INDEX(Parametrage!$D:$D,MATCH(P110,Parametrage!$F:$F,0)),"") | X110: =IFERROR(INDEX(Parametrage!$I:$I,MATCH(P110,Parametrage!$J:$J,0)),"") | Y110: =IFERROR(INDEX(Parametrage!$G:$G,MATCH(P110,Parametrage!$H:$H,0)),"") | Z110: =IFERROR(INDEX(Parametrage!$K:$K,MATCH(P110,Parametrage!$L:$L,0)),"")
A111: =IFERROR(_xlfn.ISOWEEKNUM(B111),"") -> 10 | B111: =B110+1 -> 45361 | C111: =+IFERROR(INDEX(#REF!,MATCH(B111,#REF!,0)),"") | D111: =IFERROR(INDEX(#REF!,MATCH(A111,#REF!,0)),"") | E111: =IFERROR(INDEX(#REF!,MATCH($A111,#REF!,0)),"") | F111: =IFERROR(INDEX(#REF!,MATCH($A111,#REF!,0)),"") | G111: =IFERROR(INDEX(#REF!,MATCH($A111,#REF!,0)),"") | H111: =IFERROR(INDEX(#REF!,MATCH($A111,#REF!,0)),"") | J111: =IFERROR(INDEX(Parametrage!$D:$D,MATCH(B111,Parametrage!$F:$F,0)),"") | K111: =IFERROR(INDEX(Parametrage!$I:$I,MATCH(B111,Parametrage!$J:$J,0)),"") | L111: =IFERROR(INDEX(Parametrage!$G:$G,MATCH(B111,Parametrage!$H:$H,0)),"") | M111: =IFERROR(INDEX(Parametrage!$K:$K,MATCH(B111,Parametrage!$L:$L,0)),"") | O111: =IFERROR(_xlfn.ISOWEEKNUM(P111),"") -> 15 | P111: =P110+1 -> 45392 | Q111: =+IFERROR(INDEX(#REF!,MATCH(P111,#REF!,0)),"") | R111: =IFERROR(INDEX(#REF!,MATCH(O111,#REF!,0)),"") | S111: =IFERROR(INDEX(#REF!,MATCH($O111,#REF!,0)),"") | T111: =IFERROR(INDEX(#REF!,MATCH($O111,#REF!,0)),"") | U111: =IFERROR(INDEX(#REF!,MATCH($O111,#REF!,0)),"") | V111: =IFERROR(INDEX(#REF!,MATCH($O111,#REF!,0)),"") | W111: =IFERROR(INDEX(Parametrage!$D:$D,MATCH(P111,Parametrage!$F:$F,0)),"") | X111: =IFERROR(INDEX(Parametrage!$I:$I,MATCH(P111,Parametrage!$J:$J,0)),"") | Y111: =IFERROR(INDEX(Parametrage!$G:$G,MATCH(P111,Parametrage!$H:$H,0)),"") | Z111: =IFERROR(INDEX(Parametrage!$K:$K,MATCH(P111,Parametrage!$L:$L,0)),"")
A112: =IFERROR(_xlfn.ISOWEEKNUM(B112),"") -> 11 | B112: =B111+1 -> 45362 | C112: =+IFERROR(INDEX(#REF!,MATCH(B112,#REF!,0)),"") | D112: =IFERROR(INDEX(#REF!,MATCH(A112,#REF!,0)),"") | E112: =IFERROR(INDEX(#REF!,MATCH($A112,#REF!,0)),"") | F112: =IFERROR(INDEX(#REF!,MATCH($A112,#REF!,0)),"") | G112: =IFERROR(INDEX(#REF!,MATCH($A112,#REF!,0)),"") | H112: =IFERROR(INDEX(#REF!,MATCH($A112,#REF!,0)),"") | J112: =IFERROR(INDEX(Parametrage!$D:$D,MATCH(B112,Parametrage!$F:$F,0)),"") | K112: =IFERROR(INDEX(Parametrage!$I:$I,MATCH(B112,Parametrage!$J:$J,0)),"") | L112: =IFERROR(INDEX(Parametrage!$G:$G,MATCH(B112,Parametrage!$H:$H,0)),"") | M112: =IFERROR(INDEX(Parametrage!$K:$K,MATCH(B112,Parametrage!$L:$L,0)),"") | O112: =IFERROR(_xlfn.ISOWEEKNUM(P112),"") -> 15 | P112: =P111+1 -> 45393 | Q112: =+IFERROR(INDEX(#REF!,MATCH(P112,#REF!,0)),"") | R112: =IFERROR(INDEX(#REF!,MATCH(O112,#REF!,0)),"") | S112: =IFERROR(INDEX(#REF!,MATCH($O112,#REF!,0)),"") | T112: =IFERROR(INDEX(#REF!,MATCH($O112,#REF!,0)),"") | U112: =IFERROR(INDEX(#REF!,MATCH($O112,#REF!,0)),"") | V112: =IFERROR(INDEX(#REF!,MATCH($O112,#REF!,0)),"") | W112: =IFERROR(INDEX(Parametrage!$D:$D,MATCH(P112,Parametrage!$F:$F,0)),"") | X112: =IFERROR(INDEX(Parametrage!$I:$I,MATCH(P112,Parametrage!$J:$J,0)),"") | Y112: =IFERROR(INDEX(Parametrage!$G:$G,MATCH(P112,Parametrage!$H:$H,0)),"") | Z112: =IFERROR(INDEX(Parametrage!$K:$K,MATCH(P112,Parametrage!$L:$L,0)),"")
A113: =IFERROR(_xlfn.ISOWEEKNUM(B113),"") -> 11 | B113: =B112+1 -> 45363 | C113: =+IFERROR(INDEX(#REF!,MATCH(B113,#REF!,0)),"") | D113: =IFERROR(INDEX(#REF!,MATCH(A113,#REF!,0)),"") | E113: =IFERROR(INDEX(#REF!,MATCH($A113,#REF!,0)),"") | F113: =IFERROR(INDEX(#REF!,MATCH($A113,#REF!,0)),"") | G113: =IFERROR(INDEX(#REF!,MATCH($A113,#REF!,0)),"") | H113: =IFERROR(INDEX(#REF!,MATCH($A113,#REF!,0)),"") | J113: =IFERROR(INDEX(Parametrage!$D:$D,MATCH(B113,Parametrage!$F:$F,0)),"") | K113: =IFERROR(INDEX(Parametrage!$I:$I,MATCH(B113,Parametrage!$J:$J,0)),"") | L113: =IFERROR(INDEX(Parametrage!$G:$G,MATCH(B113,Parametrage!$H:$H,0)),"") | M113: =IFERROR(INDEX(Parametrage!$K:$K,MATCH(B113,Parametrage!$L:$L,0)),"") | O113: =IFERROR(_xlfn.ISOWEEKNUM(P113),"") -> 15 | P113: =P112+1 -> 45394 | Q113: =+IFERROR(INDEX(#REF!,MATCH(P113,#REF!,0)),"") | R113: =IFERROR(INDEX(#REF!,MATCH(O113,#REF!,0)),"") | S113: =IFERROR(INDEX(#REF!,MATCH($O113,#REF!,0)),"") | T113: =IFERROR(INDEX(#REF!,MATCH($O113,#REF!,0)),"") | U113: =IFERROR(INDEX(#REF!,MATCH($O113,#REF!,0)),"") | V113: =IFERROR(INDEX(#REF!,MATCH($O113,#REF!,0)),"") | W113: =IFERROR(INDEX(Parametrage!$D:$D,MATCH(P113,Parametrage!$F:$F,0)),"") | X113: =IFERROR(INDEX(Parametrage!$I:$I,MATCH(P113,Parametrage!$J:$J,0)),"") | Y113: =IFERROR(INDEX(Parametrage!$G:$G,MATCH(P113,Parametrage!$H:$H,0)),"") | Z113: =IFERROR(INDEX(Parametrage!$K:$K,MATCH(P113,Parametrage!$L:$L,0)),"")
A114: =IFERROR(_xlfn.ISOWEEKNUM(B114),"") -> 11 | B114: =B113+1 -> 45364 | C114: =+IFERROR(INDEX(#REF!,MATCH(B114,#REF!,0)),"") | D114: =IFERROR(INDEX(#REF!,MATCH(A114,#REF!,0)),"") | E114: =IFERROR(INDEX(#REF!,MATCH($A114,#REF!,0)),"") | F114: =IFERROR(INDEX(#REF!,MATCH($A114,#REF!,0)),"") | G114: =IFERROR(INDEX(#REF!,MATCH($A114,#REF!,0)),"") | H114: =IFERROR(INDEX(#REF!,MATCH($A114,#REF!,0)),"") | J114: =IFERROR(INDEX(Parametrage!$D:$D,MATCH(B114,Parametrage!$F:$F,0)),"") | K114: =IFERROR(INDEX(Parametrage!$I:$I,MATCH(B114,Parametrage!$J:$J,0)),"") | L114: =IFERROR(INDEX(Parametrage!$G:$G,MATCH(B114,Parametrage!$H:$H,0)),"") | M114: =IFERROR(INDEX(Parametrage!$K:$K,MATCH(B114,Parametrage!$L:$L,0)),"") | O114: =IFERROR(_xlfn.ISOWEEKNUM(P114),"") -> 15 | P114: =P113+1 -> 45395 | Q114: =+IFERROR(INDEX(#REF!,MATCH(P114,#REF!,0)),"") | R114: =IFERROR(INDEX(#REF!,MATCH(O114,#REF!,0)),"") | S114: =IFERROR(INDEX(#REF!,MATCH($O114,#REF!,0)),"") | T114: =IFERROR(INDEX(#REF!,MATCH($O114,#REF!,0)),"") | U114: =IFERROR(INDEX(#REF!,MATCH($O114,#REF!,0)),"") | V114: =IFERROR(INDEX(#REF!,MATCH($O114,#REF!,0)),"") | W114: =IFERROR(INDEX(Parametrage!$D:$D,MATCH(P114,Parametrage!$F:$F,0)),"") | X114: =IFERROR(INDEX(Parametrage!$I:$I,MATCH(P114,Parametrage!$J:$J,0)),"") | Y114: =IFERROR(INDEX(Parametrage!$G:$G,MATCH(P114,Parametrage!$H:$H,0)),"") | Z114: =IFERROR(INDEX(Parametrage!$K:$K,MATCH(P114,Parametrage!$L:$L,0)),"")
... A129: =IFERROR(_xlfn.ISOWEEKNUM(B129),"") -> 13 | B129: =B128+1 -> 45379 | C129: =+IFERROR(INDEX(#REF!,MATCH(B129,#REF!,0)),"") | D129: =IFERROR(INDEX(#REF!,MATCH(A129,#REF!,0)),"") | E129: =IFERROR(INDEX(#REF!,MATCH($A129,#REF!,0)),"") | F129: =IFERROR(INDEX(#REF!,MATCH($A129,#REF!,0)),"") | G129: =IFERROR(INDEX(#REF!,MATCH($A129,#REF!,0)),"") | H129: =IFERROR(INDEX(#REF!,MATCH($A129,#REF!,0)),"") | J129: =IFERROR(INDEX(Parametrage!$D:$D,MATCH(B129,Parametrage!$F:$F,0)),"") | K129: =IFERROR(INDEX(Parametrage!$I:$I,MATCH(B129,Parametrage!$J:$J,0)),"") | L129: =IFERROR(INDEX(Parametrage!$G:$G,MATCH(B129,Parametrage!$H:$H,0)),"") | M129: =IFERROR(INDEX(Parametrage!$K:$K,MATCH(B129,Parametrage!$L:$L,0)),"") | O129: =IFERROR(_xlfn.ISOWEEKNUM(P129),"") -> 17 | P129: =P128+1 -> 45410 | Q129: =+IFERROR(INDEX(#REF!,MATCH(P129,#REF!,0)),"") | R129: =IFERROR(INDEX(#REF!,MATCH(O129,#REF!,0)),"") | S129: =IFERROR(INDEX(#REF!,MATCH($O129,#REF!,0)),"") | T129: =IFERROR(INDEX(#REF!,MATCH($O129,#REF!,0)),"") | U129: =IFERROR(INDEX(#REF!,MATCH($O129,#REF!,0)),"") | V129: =IFERROR(INDEX(#REF!,MATCH($O129,#REF!,0)),"") | W129: =IFERROR(INDEX(Parametrage!$D:$D,MATCH(P129,Parametrage!$F:$F,0)),"") | X129: =IFERROR(INDEX(Parametrage!$I:$I,MATCH(P129,Parametrage!$J:$J,0)),"") | Y129: =IFERROR(INDEX(Parametrage!$G:$G,MATCH(P129,Parametrage!$H:$H,0)),"") | Z129: =IFERROR(INDEX(Parametrage!$K:$K,MATCH(P129,Parametrage!$L:$L,0)),"")
A130: =IFERROR(_xlfn.ISOWEEKNUM(B130),"") -> 13 | B130: =IFERROR(IF(MONTH(B129)=MONTH(B129+1),B129+1,""),"") -> 45380 | C130: =+IFERROR(INDEX(#REF!,MATCH(B130,#REF!,0)),"") | D130: =IFERROR(INDEX(#REF!,MATCH(A130,#REF!,0)),"") | E130: =IFERROR(INDEX(#REF!,MATCH($A130,#REF!,0)),"") | F130: =IFERROR(INDEX(#REF!,MATCH($A130,#REF!,0)),"") | G130: =IFERROR(INDEX(#REF!,MATCH($A130,#REF!,0)),"") | H130: =IFERROR(INDEX(#REF!,MATCH($A130,#REF!,0)),"") | J130: =IFERROR(INDEX(Parametrage!$D:$D,MATCH(B130,Parametrage!$F:$F,0)),"") | K130: =IFERROR(INDEX(Parametrage!$I:$I,MATCH(B130,Parametrage!$J:$J,0)),"") | L130: =IFERROR(INDEX(Parametrage!$G:$G,MATCH(B130,Parametrage!$H:$H,0)),"") | M130: =IFERROR(INDEX(Parametrage!$K:$K,MATCH(B130,Parametrage!$L:$L,0)),"") | O130: =IFERROR(_xlfn.ISOWEEKNUM(P130),"") -> 18 | P130: =IFERROR(IF(MONTH(P129)=MONTH(P129+1),P129+1,""),"") -> 45411 | Q130: =+IFERROR(INDEX(#REF!,MATCH(P130,#REF!,0)),"") | R130: =IFERROR(INDEX(#REF!,MATCH(O130,#REF!,0)),"") | S130: =IFERROR(INDEX(#REF!,MATCH($O130,#REF!,0)),"") | T130: =IFERROR(INDEX(#REF!,MATCH($O130,#REF!,0)),"") | U130: =IFERROR(INDEX(#REF!,MATCH($O130,#REF!,0)),"") | V130: =IFERROR(INDEX(#REF!,MATCH($O130,#REF!,0)),"") | W130: =IFERROR(INDEX(Parametrage!$D:$D,MATCH(P130,Parametrage!$F:$F,0)),"") | X130: =IFERROR(INDEX(Parametrage!$I:$I,MATCH(P130,Parametrage!$J:$J,0)),"") | Y130: =IFERROR(INDEX(Parametrage!$G:$G,MATCH(P130,Parametrage!$H:$H,0)),"") | Z130: =IFERROR(INDEX(Parametrage!$K:$K,MATCH(P130,Parametrage!$L:$L,0)),"")
A131: =IFERROR(_xlfn.ISOWEEKNUM(B131),"") -> 13 | B131: =IFERROR(IF(MONTH(B130)=MONTH(B130+1),B130+1,""),"") -> 45381 | C131: =+IFERROR(INDEX(#REF!,MATCH(B131,#REF!,0)),"") | D131: =IFERROR(INDEX(#REF!,MATCH(A131,#REF!,0)),"") | E131: =IFERROR(INDEX(#REF!,MATCH($A131,#REF!,0)),"") | F131: =IFERROR(INDEX(#REF!,MATCH($A131,#REF!,0)),"") | G131: =IFERROR(INDEX(#REF!,MATCH($A131,#REF!,0)),"") | H131: =IFERROR(INDEX(#REF!,MATCH($A131,#REF!,0)),"") | J131: =IFERROR(INDEX(Parametrage!$D:$D,MATCH(B131,Parametrage!$F:$F,0)),"") | K131: =IFERROR(INDEX(Parametrage!$I:$I,MATCH(B131,Parametrage!$J:$J,0)),"") | L131: =IFERROR(INDEX(Parametrage!$G:$G,MATCH(B131,Parametrage!$H:$H,0)),"") | M131: =IFERROR(INDEX(Parametrage!$K:$K,MATCH(B131,Parametrage!$L:$L,0)),"") | O131: =IFERROR(_xlfn.ISOWEEKNUM(P131),"") -> 18 | P131: =IFERROR(IF(MONTH(P130)=MONTH(P130+1),P130+1,""),"") -> 45412 | Q131: =+IFERROR(INDEX(#REF!,MATCH(P131,#REF!,0)),"") | R131: =IFERROR(INDEX(#REF!,MATCH(O131,#REF!,0)),"") | S131: =IFERROR(INDEX(#REF!,MATCH($O131,#REF!,0)),"") | T131: =IFERROR(INDEX(#REF!,MATCH($O131,#REF!,0)),"") | U131: =IFERROR(INDEX(#REF!,MATCH($O131,#REF!,0)),"") | V131: =IFERROR(INDEX(#REF!,MATCH($O131,#REF!,0)),"") | W131: =IFERROR(INDEX(Parametrage!$D:$D,MATCH(P131,Parametrage!$F:$F,0)),"") | X131: =IFERROR(INDEX(Parametrage!$I:$I,MATCH(P131,Parametrage!$J:$J,0)),"") | Y131: =IFERROR(INDEX(Parametrage!$G:$G,MATCH(P131,Parametrage!$H:$H,0)),"") | Z131: =IFERROR(INDEX(Parametrage!$K:$K,MATCH(P131,Parametrage!$L:$L,0)),"")
A132: =IFERROR(_xlfn.ISOWEEKNUM(B132),"") -> 13 | B132: =IFERROR(IF(MONTH(B131)=MONTH(B131+1),B131+1,""),"") -> 45382 | C132: =+IFERROR(INDEX(#REF!,MATCH(B132,#REF!,0)),"") | D132: =IFERROR(INDEX(#REF!,MATCH(A132,#REF!,0)),"") | E132: =IFERROR(INDEX(#REF!,MATCH($A132,#REF!,0)),"") | F132: =IFERROR(INDEX(#REF!,MATCH($A132,#REF!,0)),"") | G132: =IFERROR(INDEX(#REF!,MATCH($A132,#REF!,0)),"") | H132: =IFERROR(INDEX(#REF!,MATCH($A132,#REF!,0)),"") | J132: =IFERROR(INDEX(Parametrage!$D:$D,MATCH(B132,Parametrage!$F:$F,0)),"") | K132: =IFERROR(INDEX(Parametrage!$I:$I,MATCH(B132,Parametrage!$J:$J,0)),"") | L132: =IFERROR(INDEX(Parametrage!$G:$G,MATCH(B132,Parametrage!$H:$H,0)),"") | M132: =IFERROR(INDEX(Parametrage!$K:$K,MATCH(B132,Parametrage!$L:$L,0)),"") | O132: =IFERROR(_xlfn.ISOWEEKNUM(P132),"") | P132: =IFERROR(IF(MONTH(P131)=MONTH(P131+1),P131+1,""),"") | Q132: =+IFERROR(INDEX(#REF!,MATCH(P132,#REF!,0)),"") | R132: =IFERROR(INDEX(#REF!,MATCH(O132,#REF!,0)),"") | S132: =IFERROR(INDEX(#REF!,MATCH($O132,#REF!,0)),"") | T132: =IFERROR(INDEX(#REF!,MATCH($O132,#REF!,0)),"") | U132: =IFERROR(INDEX(#REF!,MATCH($O132,#REF!,0)),"") | V132: =IFERROR(INDEX(#REF!,MATCH($O132,#REF!,0)),"") | W132: =IFERROR(INDEX(Parametrage!$D:$D,MATCH(P132,Parametrage!$F:$F,0)),"") | X132: =IFERROR(INDEX(Parametrage!$I:$I,MATCH(P132,Parametrage!$J:$J,0)),"") | Y132: =IFERROR(INDEX(Parametrage!$G:$G,MATCH(P132,Parametrage!$H:$H,0)),"") | Z132: =IFERROR(INDEX(Parametrage!$K:$K,MATCH(P132,Parametrage!$L:$L,0)),"")
A134: Sem | B134: =EDATE($K$1,8) -> 45413 | C134: Infos | D134: PFMP 1cuis | E134: PFMP Tcuis | F134: PFMP 2pro | G134: PFMP 1pro | H134: PFMP Tpro | J134: Vie de classe | K134: Vigilance | L134: CCF | M134: Autres | O134: Sem | P134: =EDATE($K$1,9) -> 45444 | Q134: Infos | R134: PFMP 1cuis | S134: PFMP Tcuis | T134: PFMP 2pro | U134: PFMP 1pro | V134: PFMP Tpro | W134: Vie de classe | X134: Vigilance | Y134: CCF | Z134: Autres
A135: =IFERROR(_xlfn.ISOWEEKNUM(B135),"") -> 18 | B135: =B134 -> 45413 | C135: =+IFERROR(INDEX(#REF!,MATCH(B135,#REF!,0)),"") | D135: =IFERROR(INDEX(#REF!,MATCH(A135,#REF!,0)),"") | E135: =IFERROR(INDEX(#REF!,MATCH($A135,#REF!,0)),"") | F135: =IFERROR(INDEX(#REF!,MATCH($A135,#REF!,0)),"") | G135: =IFERROR(INDEX(#REF!,MATCH($A135,#REF!,0)),"") | H135: =IFERROR(INDEX(#REF!,MATCH($A135,#REF!,0)),"") | J135: =IFERROR(INDEX(Parametrage!$D:$D,MATCH(B135,Parametrage!$F:$F,0)),"") | K135: =IFERROR(INDEX(Parametrage!$I:$I,MATCH(B135,Parametrage!$J:$J,0)),"") | L135: =IFERROR(INDEX(Parametrage!$G:$G,MATCH(B135,Parametrage!$H:$H,0)),"") | M135: =IFERROR(INDEX(Parametrage!$K:$K,MATCH(B135,Parametrage!$L:$L,0)),"") | O135: =IFERROR(_xlfn.ISOWEEKNUM(P135),"") -> 22 | P135: =P134 -> 45444 | Q135: =+IFERROR(INDEX(#REF!,MATCH(P135,#REF!,0)),"") | R135: =IFERROR(INDEX(#REF!,MATCH(O135,#REF!,0)),"") | S135: =IFERROR(INDEX(#REF!,MATCH($O135,#REF!,0)),"") | T135: =IFERROR(INDEX(#REF!,MATCH($O135,#REF!,0)),"") | U135: =IFERROR(INDEX(#REF!,MATCH($O135,#REF!,0)),"") | V135: =IFERROR(INDEX(#REF!,MATCH($O135,#REF!,0)),"") | W135: =IFERROR(INDEX(Parametrage!$D:$D,MATCH(P135,Parametrage!$F:$F,0)),"") | X135: =IFERROR(INDEX(Parametrage!$I:$I,MATCH(P135,Parametrage!$J:$J,0)),"") | Y135: =IFERROR(INDEX(Parametrage!$G:$G,MATCH(P135,Parametrage!$H:$H,0)),"") | Z135: =IFERROR(INDEX(Parametrage!$K:$K,MATCH(P135,Parametrage!$L:$L,0)),"")
A136: =IFERROR(_xlfn.ISOWEEKNUM(B136),"") -> 18 | B136: =B135+1 -> 45414 | C136: =+IFERROR(INDEX(#REF!,MATCH(B136,#REF!,0)),"") | D136: =IFERROR(INDEX(#REF!,MATCH(A136,#REF!,0)),"") | E136: =IFERROR(INDEX(#REF!,MATCH($A136,#REF!,0)),"") | F136: =IFERROR(INDEX(#REF!,MATCH($A136,#REF!,0)),"") | G136: =IFERROR(INDEX(#REF!,MATCH($A136,#REF!,0)),"") | H136: =IFERROR(INDEX(#REF!,MATCH($A136,#REF!,0)),"") | J136: =IFERROR(INDEX(Parametrage!$D:$D,MATCH(B136,Parametrage!$F:$F,0)),"") | K136: =IFERROR(INDEX(Parametrage!$I:$I,MATCH(B136,Parametrage!$J:$J,0)),"") | L136: =IFERROR(INDEX(Parametrage!$G:$G,MATCH(B136,Parametrage!$H:$H,0)),"") | M136: =IFERROR(INDEX(Parametrage!$K:$K,MATCH(B136,Parametrage!$L:$L,0)),"") | O136: =IFERROR(_xlfn.ISOWEEKNUM(P136),"") -> 22 | P136: =P135+1 -> 45445 | Q136: =+IFERROR(INDEX(#REF!,MATCH(P136,#REF!,0)),"") | R136: =IFERROR(INDEX(#REF!,MATCH(O136,#REF!,0)),"") | S136: =IFERROR(INDEX(#REF!,MATCH($O136,#REF!,0)),"") | T136: =IFERROR(INDEX(#REF!,MATCH($O136,#REF!,0)),"") | U136: =IFERROR(INDEX(#REF!,MATCH($O136,#REF!,0)),"") | V136: =IFERROR(INDEX(#REF!,MATCH($O136,#REF!,0)),"") | W136: =IFERROR(INDEX(Parametrage!$D:$D,MATCH(P136,Parametrage!$F:$F,0)),"") | X136: =IFERROR(INDEX(Parametrage!$I:$I,MATCH(P136,Parametrage!$J:$J,0)),"") | Y136: =IFERROR(INDEX(Parametrage!$G:$G,MATCH(P136,Parametrage!$H:$H,0)),"") | Z136: =IFERROR(INDEX(Parametrage!$K:$K,MATCH(P136,Parametrage!$L:$L,0)),"")
A137: =IFERROR(_xlfn.ISOWEEKNUM(B137),"") -> 18 | B137: =B136+1 -> 45415 | C137: =+IFERROR(INDEX(#REF!,MATCH(B137,#REF!,0)),"") | D137: =IFERROR(INDEX(#REF!,MATCH(A137,#REF!,0)),"") | E137: =IFERROR(INDEX(#REF!,MATCH($A137,#REF!,0)),"") | F137: =IFERROR(INDEX(#REF!,MATCH($A137,#REF!,0)),"") | G137: =IFERROR(INDEX(#REF!,MATCH($A137,#REF!,0)),"") | H137: =IFERROR(INDEX(#REF!,MATCH($A137,#REF!,0)),"") | J137: =IFERROR(INDEX(Parametrage!$D:$D,MATCH(B137,Parametrage!$F:$F,0)),"") | K137: =IFERROR(INDEX(Parametrage!$I:$I,MATCH(B137,Parametrage!$J:$J,0)),"") | L137: =IFERROR(INDEX(Parametrage!$G:$G,MATCH(B137,Parametrage!$H:$H,0)),"") | M137: =IFERROR(INDEX(Parametrage!$K:$K,MATCH(B137,Parametrage!$L:$L,0)),"") | O137: =IFERROR(_xlfn.ISOWEEKNUM(P137),"") -> 23 | P137: =P136+1 -> 45446 | Q137: =+IFERROR(INDEX(#REF!,MATCH(P137,#REF!,0)),"") | R137: =IFERROR(INDEX(#REF!,MATCH(O137,#REF!,0)),"") | S137: =IFERROR(INDEX(#REF!,MATCH($O137,#REF!,0)),"") | T137: =IFERROR(INDEX(#REF!,MATCH($O137,#REF!,0)),"") | U137: =IFERROR(INDEX(#REF!,MATCH($O137,#REF!,0)),"") | V137: =IFERROR(INDEX(#REF!,MATCH($O137,#REF!,0)),"") | W137: =IFERROR(INDEX(Parametrage!$D:$D,MATCH(P137,Parametrage!$F:$F,0)),"") | X137: =IFERROR(INDEX(Parametrage!$I:$I,MATCH(P137,Parametrage!$J:$J,0)),"") | Y137: =IFERROR(INDEX(Parametrage!$G:$G,MATCH(P137,Parametrage!$H:$H,0)),"") | Z137: =IFERROR(INDEX(Parametrage!$K:$K,MATCH(P137,Parametrage!$L:$L,0)),"")
A138: =IFERROR(_xlfn.ISOWEEKNUM(B138),"") -> 18 | B138: =B137+1 -> 45416 | C138: =+IFERROR(INDEX(#REF!,MATCH(B138,#REF!,0)),"") | D138: =IFERROR(INDEX(#REF!,MATCH(A138,#REF!,0)),"") | E138: =IFERROR(INDEX(#REF!,MATCH($A138,#REF!,0)),"") | F138: =IFERROR(INDEX(#REF!,MATCH($A138,#REF!,0)),"") | G138: =IFERROR(INDEX(#REF!,MATCH($A138,#REF!,0)),"") | H138: =IFERROR(INDEX(#REF!,MATCH($A138,#REF!,0)),"") | J138: =IFERROR(INDEX(Parametrage!$D:$D,MATCH(B138,Parametrage!$F:$F,0)),"") | K138: =IFERROR(INDEX(Parametrage!$I:$I,MATCH(B138,Parametrage!$J:$J,0)),"") | L138: =IFERROR(INDEX(Parametrage!$G:$G,MATCH(B138,Parametrage!$H:$H,0)),"") | M138: =IFERROR(INDEX(Parametrage!$K:$K,MATCH(B138,Parametrage!$L:$L,0)),"") | O138: =IFERROR(_xlfn.ISOWEEKNUM(P138),"") -> 23 | P138: =P137+1 -> 45447 | Q138: =+IFERROR(INDEX(#REF!,MATCH(P138,#REF!,0)),"") | R138: =IFERROR(INDEX(#REF!,MATCH(O138,#REF!,0)),"") | S138: =IFERROR(INDEX(#REF!,MATCH($O138,#REF!,0)),"") | T138: =IFERROR(INDEX(#REF!,MATCH($O138,#REF!,0)),"") | U138: =IFERROR(INDEX(#REF!,MATCH($O138,#REF!,0)),"") | V138: =IFERROR(INDEX(#REF!,MATCH($O138,#REF!,0)),"") | W138: =IFERROR(INDEX(Parametrage!$D:$D,MATCH(P138,Parametrage!$F:$F,0)),"") | X138: =IFERROR(INDEX(Parametrage!$I:$I,MATCH(P138,Parametrage!$J:$J,0)),"") | Y138: =IFERROR(INDEX(Parametrage!$G:$G,MATCH(P138,Parametrage!$H:$H,0)),"") | Z138: =IFERROR(INDEX(Parametrage!$K:$K,MATCH(P138,Parametrage!$L:$L,0)),"")
A139: =IFERROR(_xlfn.ISOWEEKNUM(B139),"") -> 18 | B139: =B138+1 -> 45417 | C139: =+IFERROR(INDEX(#REF!,MATCH(B139,#REF!,0)),"") | D139: =IFERROR(INDEX(#REF!,MATCH(A139,#REF!,0)),"") | E139: =IFERROR(INDEX(#REF!,MATCH($A139,#REF!,0)),"") | F139: =IFERROR(INDEX(#REF!,MATCH($A139,#REF!,0)),"") | G139: =IFERROR(INDEX(#REF!,MATCH($A139,#REF!,0)),"") | H139: =IFERROR(INDEX(#REF!,MATCH($A139,#REF!,0)),"") | J139: =IFERROR(INDEX(Parametrage!$D:$D,MATCH(B139,Parametrage!$F:$F,0)),"") | K139: =IFERROR(INDEX(Parametrage!$I:$I,MATCH(B139,Parametrage!$J:$J,0)),"") | L139: =IFERROR(INDEX(Parametrage!$G:$G,MATCH(B139,Parametrage!$H:$H,0)),"") | M139: =IFERROR(INDEX(Parametrage!$K:$K,MATCH(B139,Parametrage!$L:$L,0)),"") | O139: =IFERROR(_xlfn.ISOWEEKNUM(P139),"") -> 23 | P139: =P138+1 -> 45448 | Q139: =+IFERROR(INDEX(#REF!,MATCH(P139,#REF!,0)),"") | R139: =IFERROR(INDEX(#REF!,MATCH(O139,#REF!,0)),"") | S139: =IFERROR(INDEX(#REF!,MATCH($O139,#REF!,0)),"") | T139: =IFERROR(INDEX(#REF!,MATCH($O139,#REF!,0)),"") | U139: =IFERROR(INDEX(#REF!,MATCH($O139,#REF!,0)),"") | V139: =IFERROR(INDEX(#REF!,MATCH($O139,#REF!,0)),"") | W139: =IFERROR(INDEX(Parametrage!$D:$D,MATCH(P139,Parametrage!$F:$F,0)),"") | X139: =IFERROR(INDEX(Parametrage!$I:$I,MATCH(P139,Parametrage!$J:$J,0)),"") | Y139: =IFERROR(INDEX(Parametrage!$G:$G,MATCH(P139,Parametrage!$H:$H,0)),"") | Z139: =IFERROR(INDEX(Parametrage!$K:$K,MATCH(P139,Parametrage!$L:$L,0)),"")
A140: =IFERROR(_xlfn.ISOWEEKNUM(B140),"") -> 19 | B140: =B139+1 -> 45418 | C140: =+IFERROR(INDEX(#REF!,MATCH(B140,#REF!,0)),"") | D140: =IFERROR(INDEX(#REF!,MATCH(A140,#REF!,0)),"") | E140: =IFERROR(INDEX(#REF!,MATCH($A140,#REF!,0)),"") | F140: =IFERROR(INDEX(#REF!,MATCH($A140,#REF!,0)),"") | G140: =IFERROR(INDEX(#REF!,MATCH($A140,#REF!,0)),"") | H140: =IFERROR(INDEX(#REF!,MATCH($A140,#REF!,0)),"") | J140: =IFERROR(INDEX(Parametrage!$D:$D,MATCH(B140,Parametrage!$F:$F,0)),"") | K140: =IFERROR(INDEX(Parametrage!$I:$I,MATCH(B140,Parametrage!$J:$J,0)),"") | L140: =IFERROR(INDEX(Parametrage!$G:$G,MATCH(B140,Parametrage!$H:$H,0)),"") | M140: =IFERROR(INDEX(Parametrage!$K:$K,MATCH(B140,Parametrage!$L:$L,0)),"") | O140: =IFERROR(_xlfn.ISOWEEKNUM(P140),"") -> 23 | P140: =P139+1 -> 45449 | Q140: =+IFERROR(INDEX(#REF!,MATCH(P140,#REF!,0)),"") | R140: =IFERROR(INDEX(#REF!,MATCH(O140,#REF!,0)),"") | S140: =IFERROR(INDEX(#REF!,MATCH($O140,#REF!,0)),"") | T140: =IFERROR(INDEX(#REF!,MATCH($O140,#REF!,0)),"") | U140: =IFERROR(INDEX(#REF!,MATCH($O140,#REF!,0)),"") | V140: =IFERROR(INDEX(#REF!,MATCH($O140,#REF!,0)),"") | W140: =IFERROR(INDEX(Parametrage!$D:$D,MATCH(P140,Parametrage!$F:$F,0)),"") | X140: =IFERROR(INDEX(Parametrage!$I:$I,MATCH(P140,Parametrage!$J:$J,0)),"") | Y140: =IFERROR(INDEX(Parametrage!$G:$G,MATCH(P140,Parametrage!$H:$H,0)),"") | Z140: =IFERROR(INDEX(Parametrage!$K:$K,MATCH(P140,Parametrage!$L:$L,0)),"")
A141: =IFERROR(_xlfn.ISOWEEKNUM(B141),"") -> 19 | B141: =B140+1 -> 45419 | C141: =+IFERROR(INDEX(#REF!,MATCH(B141,#REF!,0)),"") | D141: =IFERROR(INDEX(#REF!,MATCH(A141,#REF!,0)),"") | E141: =IFERROR(INDEX(#REF!,MATCH($A141,#REF!,0)),"") | F141: =IFERROR(INDEX(#REF!,MATCH($A141,#REF!,0)),"") | G141: =IFERROR(INDEX(#REF!,MATCH($A141,#REF!,0)),"") | H141: =IFERROR(INDEX(#REF!,MATCH($A141,#REF!,0)),"") | J141: =IFERROR(INDEX(Parametrage!$D:$D,MATCH(B141,Parametrage!$F:$F,0)),"") | K141: =IFERROR(INDEX(Parametrage!$I:$I,MATCH(B141,Parametrage!$J:$J,0)),"") | L141: =IFERROR(INDEX(Parametrage!$G:$G,MATCH(B141,Parametrage!$H:$H,0)),"") | M141: =IFERROR(INDEX(Parametrage!$K:$K,MATCH(B141,Parametrage!$L:$L,0)),"") | O141: =IFERROR(_xlfn.ISOWEEKNUM(P141),"") -> 23 | P141: =P140+1 -> 45450 | Q141: =+IFERROR(INDEX(#REF!,MATCH(P141,#REF!,0)),"") | R141: =IFERROR(INDEX(#REF!,MATCH(O141,#REF!,0)),"") | S141: =IFERROR(INDEX(#REF!,MATCH($O141,#REF!,0)),"") | T141: =IFERROR(INDEX(#REF!,MATCH($O141,#REF!,0)),"") | U141: =IFERROR(INDEX(#REF!,MATCH($O141,#REF!,0)),"") | V141: =IFERROR(INDEX(#REF!,MATCH($O141,#REF!,0)),"") | W141: =IFERROR(INDEX(Parametrage!$D:$D,MATCH(P141,Parametrage!$F:$F,0)),"") | X141: =IFERROR(INDEX(Parametrage!$I:$I,MATCH(P141,Parametrage!$J:$J,0)),"") | Y141: =IFERROR(INDEX(Parametrage!$G:$G,MATCH(P141,Parametrage!$H:$H,0)),"") | Z141: =IFERROR(INDEX(Parametrage!$K:$K,MATCH(P141,Parametrage!$L:$L,0)),"")
A142: =IFERROR(_xlfn.ISOWEEKNUM(B142),"") -> 19 | B142: =B141+1 -> 45420 | C142: =+IFERROR(INDEX(#REF!,MATCH(B142,#REF!,0)),"") | D142: =IFERROR(INDEX(#REF!,MATCH(A142,#REF!,0)),"") | E142: =IFERROR(INDEX(#REF!,MATCH($A142,#REF!,0)),"") | F142: =IFERROR(INDEX(#REF!,MATCH($A142,#REF!,0)),"") | G142: =IFERROR(INDEX(#REF!,MATCH($A142,#REF!,0)),"") | H142: =IFERROR(INDEX(#REF!,MATCH($A142,#REF!,0)),"") | J142: =IFERROR(INDEX(Parametrage!$D:$D,MATCH(B142,Parametrage!$F:$F,0)),"") | K142: =IFERROR(INDEX(Parametrage!$I:$I,MATCH(B142,Parametrage!$J:$J,0)),"") | L142: =IFERROR(INDEX(Parametrage!$G:$G,MATCH(B142,Parametrage!$H:$H,0)),"") | M142: =IFERROR(INDEX(Parametrage!$K:$K,MATCH(B142,Parametrage!$L:$L,0)),"") | O142: =IFERROR(_xlfn.ISOWEEKNUM(P142),"") -> 23 | P142: =P141+1 -> 45451 | Q142: =+IFERROR(INDEX(#REF!,MATCH(P142,#REF!,0)),"") | R142: =IFERROR(INDEX(#REF!,MATCH(O142,#REF!,0)),"") | S142: =IFERROR(INDEX(#REF!,MATCH($O142,#REF!,0)),"") | T142: =IFERROR(INDEX(#REF!,MATCH($O142,#REF!,0)),"") | U142: =IFERROR(INDEX(#REF!,MATCH($O142,#REF!,0)),"") | V142: =IFERROR(INDEX(#REF!,MATCH($O142,#REF!,0)),"") | W142: =IFERROR(INDEX(Parametrage!$D:$D,MATCH(P142,Parametrage!$F:$F,0)),"") | X142: =IFERROR(INDEX(Parametrage!$I:$I,MATCH(P142,Parametrage!$J:$J,0)),"") | Y142: =IFERROR(INDEX(Parametrage!$G:$G,MATCH(P142,Parametrage!$H:$H,0)),"") | Z142: =IFERROR(INDEX(Parametrage!$K:$K,MATCH(P142,Parametrage!$L:$L,0)),"")
A143: =IFERROR(_xlfn.ISOWEEKNUM(B143),"") -> 19 | B143: =B142+1 -> 45421 | C143: =+IFERROR(INDEX(#REF!,MATCH(B143,#REF!,0)),"") | D143: =IFERROR(INDEX(#REF!,MATCH(A143,#REF!,0)),"") | E143: =IFERROR(INDEX(#REF!,MATCH($A143,#REF!,0)),"") | F143: =IFERROR(INDEX(#REF!,MATCH($A143,#REF!,0)),"") | G143: =IFERROR(INDEX(#REF!,MATCH($A143,#REF!,0)),"") | H143: =IFERROR(INDEX(#REF!,MATCH($A143,#REF!,0)),"") | J143: =IFERROR(INDEX(Parametrage!$D:$D,MATCH(B143,Parametrage!$F:$F,0)),"") | K143: =IFERROR(INDEX(Parametrage!$I:$I,MATCH(B143,Parametrage!$J:$J,0)),"") | L143: =IFERROR(INDEX(Parametrage!$G:$G,MATCH(B143,Parametrage!$H:$H,0)),"") | M143: =IFERROR(INDEX(Parametrage!$K:$K,MATCH(B143,Parametrage!$L:$L,0)),"") | O143: =IFERROR(_xlfn.ISOWEEKNUM(P143),"") -> 23 | P143: =P142+1 -> 45452 | Q143: =+IFERROR(INDEX(#REF!,MATCH(P143,#REF!,0)),"") | R143: =IFERROR(INDEX(#REF!,MATCH(O143,#REF!,0)),"") | S143: =IFERROR(INDEX(#REF!,MATCH($O143,#REF!,0)),"") | T143: =IFERROR(INDEX(#REF!,MATCH($O143,#REF!,0)),"") | U143: =IFERROR(INDEX(#REF!,MATCH($O143,#REF!,0)),"") | V143: =IFERROR(INDEX(#REF!,MATCH($O143,#REF!,0)),"") | W143: =IFERROR(INDEX(Parametrage!$D:$D,MATCH(P143,Parametrage!$F:$F,0)),"") | X143: =IFERROR(INDEX(Parametrage!$I:$I,MATCH(P143,Parametrage!$J:$J,0)),"") | Y143: =IFERROR(INDEX(Parametrage!$G:$G,MATCH(P143,Parametrage!$H:$H,0)),"") | Z143: =IFERROR(INDEX(Parametrage!$K:$K,MATCH(P143,Parametrage!$L:$L,0)),"")
A144: =IFERROR(_xlfn.ISOWEEKNUM(B144),"") -> 19 | B144: =B143+1 -> 45422 | C144: =+IFERROR(INDEX(#REF!,MATCH(B144,#REF!,0)),"") | D144: =IFERROR(INDEX(#REF!,MATCH(A144,#REF!,0)),"") | E144: =IFERROR(INDEX(#REF!,MATCH($A144,#REF!,0)),"") | F144: =IFERROR(INDEX(#REF!,MATCH($A144,#REF!,0)),"") | G144: =IFERROR(INDEX(#REF!,MATCH($A144,#REF!,0)),"") | H144: =IFERROR(INDEX(#REF!,MATCH($A144,#REF!,0)),"") | J144: =IFERROR(INDEX(Parametrage!$D:$D,MATCH(B144,Parametrage!$F:$F,0)),"") | K144: =IFERROR(INDEX(Parametrage!$I:$I,MATCH(B144,Parametrage!$J:$J,0)),"") | L144: =IFERROR(INDEX(Parametrage!$G:$G,MATCH(B144,Parametrage!$H:$H,0)),"") | M144: =IFERROR(INDEX(Parametrage!$K:$K,MATCH(B144,Parametrage!$L:$L,0)),"") | O144: =IFERROR(_xlfn.ISOWEEKNUM(P144),"") -> 24 | P144: =P143+1 -> 45453 | Q144: =+IFERROR(INDEX(#REF!,MATCH(P144,#REF!,0)),"") | R144: =IFERROR(INDEX(#REF!,MATCH(O144,#REF!,0)),"") | S144: =IFERROR(INDEX(#REF!,MATCH($O144,#REF!,0)),"") | T144: =IFERROR(INDEX(#REF!,MATCH($O144,#REF!,0)),"") | U144: =IFERROR(INDEX(#REF!,MATCH($O144,#REF!,0)),"") | V144: =IFERROR(INDEX(#REF!,MATCH($O144,#REF!,0)),"") | W144: =IFERROR(INDEX(Parametrage!$D:$D,MATCH(P144,Parametrage!$F:$F,0)),"") | X144: =IFERROR(INDEX(Parametrage!$I:$I,MATCH(P144,Parametrage!$J:$J,0)),"") | Y144: =IFERROR(INDEX(Parametrage!$G:$G,MATCH(P144,Parametrage!$H:$H,0)),"") | Z144: =IFERROR(INDEX(Parametrage!$K:$K,MATCH(P144,Parametrage!$L:$L,0)),"")
A145: =IFERROR(_xlfn.ISOWEEKNUM(B145),"") -> 19 | B145: =B144+1 -> 45423 | C145: =+IFERROR(INDEX(#REF!,MATCH(B145,#REF!,0)),"") | D145: =IFERROR(INDEX(#REF!,MATCH(A145,#REF!,0)),"") | E145: =IFERROR(INDEX(#REF!,MATCH($A145,#REF!,0)),"") | F145: =IFERROR(INDEX(#REF!,MATCH($A145,#REF!,0)),"") | G145: =IFERROR(INDEX(#REF!,MATCH($A145,#REF!,0)),"") | H145: =IFERROR(INDEX(#REF!,MATCH($A145,#REF!,0)),"") | J145: =IFERROR(INDEX(Parametrage!$D:$D,MATCH(B145,Parametrage!$F:$F,0)),"") | K145: =IFERROR(INDEX(Parametrage!$I:$I,MATCH(B145,Parametrage!$J:$J,0)),"") | L145: =IFERROR(INDEX(Parametrage!$G:$G,MATCH(B145,Parametrage!$H:$H,0)),"") | M145: =IFERROR(INDEX(Parametrage!$K:$K,MATCH(B145,Parametrage!$L:$L,0)),"") | O145: =IFERROR(_xlfn.ISOWEEKNUM(P145),"") -> 24 | P145: =P144+1 -> 45454 | Q145: =+IFERROR(INDEX(#REF!,MATCH(P145,#REF!,0)),"") | R145: =IFERROR(INDEX(#REF!,MATCH(O145,#REF!,0)),"") | S145: =IFERROR(INDEX(#REF!,MATCH($O145,#REF!,0)),"") | T145: =IFERROR(INDEX(#REF!,MATCH($O145,#REF!,0)),"") | U145: =IFERROR(INDEX(#REF!,MATCH($O145,#REF!,0)),"") | V145: =IFERROR(INDEX(#REF!,MATCH($O145,#REF!,0)),"") | W145: =IFERROR(INDEX(Parametrage!$D:$D,MATCH(P145,Parametrage!$F:$F,0)),"") | X145: =IFERROR(INDEX(Parametrage!$I:$I,MATCH(P145,Parametrage!$J:$J,0)),"") | Y145: =IFERROR(INDEX(Parametrage!$G:$G,MATCH(P145,Parametrage!$H:$H,0)),"") | Z145: =IFERROR(INDEX(Parametrage!$K:$K,MATCH(P145,Parametrage!$L:$L,0)),"")
A146: =IFERROR(_xlfn.ISOWEEKNUM(B146),"") -> 19 | B146: =B145+1 -> 45424 | C146: =+IFERROR(INDEX(#REF!,MATCH(B146,#REF!,0)),"") | D146: =IFERROR(INDEX(#REF!,MATCH(A146,#REF!,0)),"") | E146: =IFERROR(INDEX(#REF!,MATCH($A146,#REF!,0)),"") | F146: =IFERROR(INDEX(#REF!,MATCH($A146,#REF!,0)),"") | G146: =IFERROR(INDEX(#REF!,MATCH($A146,#REF!,0)),"") | H146: =IFERROR(INDEX(#REF!,MATCH($A146,#REF!,0)),"") | J146: =IFERROR(INDEX(Parametrage!$D:$D,MATCH(B146,Parametrage!$F:$F,0)),"") | K146: =IFERROR(INDEX(Parametrage!$I:$I,MATCH(B146,Parametrage!$J:$J,0)),"") | L146: =IFERROR(INDEX(Parametrage!$G:$G,MATCH(B146,Parametrage!$H:$H,0)),"") | M146: =IFERROR(INDEX(Parametrage!$K:$K,MATCH(B146,Parametrage!$L:$L,0)),"") | O146: =IFERROR(_xlfn.ISOWEEKNUM(P146),"") -> 24 | P146: =P145+1 -> 45455 | Q146: =+IFERROR(INDEX(#REF!,MATCH(P146,#REF!,0)),"") | R146: =IFERROR(INDEX(#REF!,MATCH(O146,#REF!,0)),"") | S146: =IFERROR(INDEX(#REF!,MATCH($O146,#REF!,0)),"") | T146: =IFERROR(INDEX(#REF!,MATCH($O146,#REF!,0)),"") | U146: =IFERROR(INDEX(#REF!,MATCH($O146,#REF!,0)),"") | V146: =IFERROR(INDEX(#REF!,MATCH($O146,#REF!,0)),"") | W146: =IFERROR(INDEX(Parametrage!$D:$D,MATCH(P146,Parametrage!$F:$F,0)),"") | X146: =IFERROR(INDEX(Parametrage!$I:$I,MATCH(P146,Parametrage!$J:$J,0)),"") | Y146: =IFERROR(INDEX(Parametrage!$G:$G,MATCH(P146,Parametrage!$H:$H,0)),"") | Z146: =IFERROR(INDEX(Parametrage!$K:$K,MATCH(P146,Parametrage!$L:$L,0)),"")
...

Sheet 35
C1: Semaine | D1: 8
A4: Ligne | B4: Colonne | D4: Infos | E4: Vie de classe | F4: Vigilance | G4: CCF | H4: Autres
A5: =IFERROR(IFERROR(IF(WEEKDAY(INDEX(Calendrier!B:B,MATCH($D$1,Calendrier!A:A,0)),2)=1,MATCH($D$1,Calendrier!A:A,0),MATCH($D$1,Calendrier!O:O,0)),MATCH($D$1,Calendrier!O:O,0)),"") -> 87 | B5: =IFERROR(IF(INDEX(Calendrier!A:A,A5)=$D$1,COL_SEM_1,COL_SEM_2),"") -> 15 | C5: Lundi | D5: =IF($A5<>"",INDEX(Calendrier!$A:$Z,$A5,$B5+2),"") | E5: =IF($A5<>"",INDEX(Calendrier!$A:$Z,$A5,$B5+3),"") | F5: =IF($A5<>"",INDEX(Calendrier!$A:$Z,$A5,$B5+4),"") | G5: =IF($A5<>"",INDEX(Calendrier!$A:$Z,$A5,$B5+5),"") | H5: =IF($A5<>"",INDEX(Calendrier!$A:$Z,$A5,$B5+6),"")
A6: =IFERROR(IF(A5<>"",IF(INDEX(Calendrier!A:Z,'35'!A5+1,B5)=$D$1,A5+1,MATCH($D$1,IF(B5=1,Calendrier!O:O,Calendrier!A:A),0)),IFERROR(IFERROR(IF(WEEKDAY(INDEX(Calendrier!B:B,MATCH($D$1,Calendrier!A:A,0)),2)=2,MATCH($D$1,Calendrier!A:A,0),MATCH($D$1,Calendrier!O:O,0)),MATCH($D$1,Calendrier!O:O,0)),"")),"") -> 88 | B6: =IFERROR(IF(INDEX(Calendrier!A:A,A6)=$D$1,COL_SEM_1,COL_SEM_2),"") -> 15 | C6: mardi | D6: =IF($A6<>"",INDEX(Calendrier!$A:$Z,$A6,$B6+2),"") | E6: =IF($A6<>"",INDEX(Calendrier!$A:$Z,$A6,$B6+3),"") | F6: =IF($A6<>"",INDEX(Calendrier!$A:$Z,$A6,$B6+4),"") | G6: =IF($A6<>"",INDEX(Calendrier!$A:$Z,$A6,$B6+5),"") | H6: =IF($A6<>"",INDEX(Calendrier!$A:$Z,$A6,$B6+6),"")
A7: =IFERROR(IF(A6<>"",IF(INDEX(Calendrier!A:Z,'35'!A6+1,B6)=$D$1,A6+1,MATCH($D$1,IF(B6=1,Calendrier!O:O,Calendrier!A:A),0)),IFERROR(IFERROR(IF(WEEKDAY(INDEX(Calendrier!B:B,MATCH($D$1,Calendrier!A:A,0)),2)=3,MATCH($D$1,Calendrier!A:A,0),MATCH($D$1,Calendrier!O:O,0)),MATCH($D$1,Calendrier!O:O,0)),"")),"") -> 89 | B7: =IFERROR(IF(INDEX(Calendrier!A:A,A7)=$D$1,COL_SEM_1,COL_SEM_2),"") -> 15 | C7: Mercredi | D7: =IF($A7<>"",INDEX(Calendrier!$A:$Z,$A7,$B7+2),"") | E7: =IF($A7<>"",INDEX(Calendrier!$A:$Z,$A7,$B7+3),"") | F7: =IF($A7<>"",INDEX(Calendrier!$A:$Z,$A7,$B7+4),"") | G7: =IF($A7<>"",INDEX(Calendrier!$A:$Z,$A7,$B7+5),"") | H7: =IF($A7<>"",INDEX(Calendrier!$A:$Z,$A7,$B7+6),"")
A8: =IFERROR(IF(A7<>"",IF(INDEX(Calendrier!A:Z,'35'!A7+1,B7)=$D$1,A7+1,MATCH($D$1,IF(B7=1,Calendrier!O:O,Calendrier!A:A),0)),IFERROR(IFERROR(IF(WEEKDAY(INDEX(Calendrier!B:B,MATCH($D$1,Calendrier!A:A,0)),2)=4,MATCH($D$1,Calendrier!A:A,0),MATCH($D$1,Calendrier!O:O,0)),MATCH($D$1,Calendrier!O:O,0)),"")),"") -> 90 | B8: =IFERROR(IF(INDEX(Calendrier!A:A,A8)=$D$1,COL_SEM_1,COL_SEM_2),"") -> 15 | C8: Jeudi | D8: =IF($A8<>"",INDEX(Calendrier!$A:$Z,$A8,$B8+2),"") | E8: =IF($A8<>"",INDEX(Calendrier!$A:$Z,$A8,$B8+3),"") | F8: =IF($A8<>"",INDEX(Calendrier!$A:$Z,$A8,$B8+4),"") | G8: =IF($A8<>"",INDEX(Calendrier!$A:$Z,$A8,$B8+5),"") | H8: =IF($A8<>"",INDEX(Calendrier!$A:$Z,$A8,$B8+6),"")
A9: =IF(A8<>"",IF(INDEX(Calendrier!A:Z,'35'!A8+1,B8)=$D$1,A8+1,MATCH($D$1,IF(B8=1,Calendrier!O:O,Calendrier!A:A),0)),IFERROR(IFERROR(IF(WEEKDAY(INDEX(Calendrier!B:B,MATCH($D$1,Calendrier!A:A,0)),2)=5,MATCH($D$1,Calendrier!A:A,0),MATCH($D$1,Calendrier!O:O,0)),MATCH($D$1,Calendrier!O:O,0)),"")) -> 91 | B9: =IFERROR(IF(INDEX(Calendrier!A:A,A9)=$D$1,COL_SEM_1,COL_SEM_2),"") -> 15 | C9: Vendredi | D9: =IF($A9<>"",INDEX(Calendrier!$A:$Z,$A9,$B9+2),"") | E9: =IF($A9<>"",INDEX(Calendrier!$A:$Z,$A9,$B9+3),"") | F9: =IF($A9<>"",INDEX(Calendrier!$A:$Z,$A9,$B9+4),"") | G9: =IF($A9<>"",INDEX(Calendrier!$A:$Z,$A9,$B9+5),"") | H9: =IF($A9<>"",INDEX(Calendrier!$A:$Z,$A9,$B9+6),"")
A10: =IFERROR(IF(A9<>"",IF(INDEX(Calendrier!A:Z,'35'!A9+1,B9)=$D$1,A9+1,MATCH($D$1,IF(B9=1,Calendrier!O:O,Calendrier!A:A),0)),IFERROR(IFERROR(IF(WEEKDAY(INDEX(Calendrier!B:B,MATCH($D$1,Calendrier!A:A,0)),2)=6,MATCH($D$1,Calendrier!A:A,0),MATCH($D$1,Calendrier!O:O,0)),MATCH($D$1,Calendrier!O:O,0)),"")),"") -> 92 | B10: =IFERROR(IF(INDEX(Calendrier!A:A,A10)=$D$1,COL_SEM_1,COL_SEM_2),"") -> 15 | C10: Samedi | D10: =IF($A10<>"",INDEX(Calendrier!$A:$Z,$A10,$B10+2),"") | E10: =IF($A10<>"",INDEX(Calendrier!$A:$Z,$A10,$B10+3),"") | F10: =IF($A10<>"",INDEX(Calendrier!$A:$Z,$A10,$B10+4),"") | G10: =IF($A10<>"",INDEX(Calendrier!$A:$Z,$A10,$B10+5),"") | H10: =IF($A10<>"",INDEX(Calendrier!$A:$Z,$A10,$B10+6),"")
A11: =IFERROR(IF(A10<>"",IF(INDEX(Calendrier!A:Z,'35'!A10+1,B10)=$D$1,A10+1,MATCH($D$1,IF(B10=1,Calendrier!O:O,Calendrier!A:A),0)),IFERROR(IFERROR(IF(WEEKDAY(INDEX(Calendrier!B:B,MATCH($D$1,Calendrier!A:A,0)),2)=7,MATCH($D$1,Calendrier!A:A,0),MATCH($D$1,Calendrier!O:O,0)),MATCH($D$1,Calendrier!O:O,0)),"")),"") -> 93 | B11: =IFERROR(IF(INDEX(Calendrier!A:A,A11)=$D$1,COL_SEM_1,COL_SEM_2),"") -> 15 | C11: Dimanche | D11: =IF($A11<>"",INDEX(Calendrier!$A:$Z,$A11,$B11+2),"") | E11: =IF($A11<>"",INDEX(Calendrier!$A:$Z,$A11,$B11+3),"") | F11: =IF($A11<>"",INDEX(Calendrier!$A:$Z,$A11,$B11+4),"") | G11: =IF($A11<>"",INDEX(Calendrier!$A:$Z,$A11,$B11+5),"") | H11: =IF($A11<>"",INDEX(Calendrier!$A:$Z,$A11,$B11+6),"")

Sheet 36
C1: Semaine | D1: 36
A4: Ligne | B4: Colonne | D4: Infos | E4: Vie de classe | F4: Vigilance | G4: CCF | H4: Autres
A5: =IFERROR(IFERROR(IF(WEEKDAY(INDEX(Calendrier!B:B,MATCH($D$1,Calendrier!A:A,0)),2)=1,MATCH($D$1,Calendrier!A:A,0),MATCH($D$1,Calendrier!O:O,0)),MATCH($D$1,Calendrier!O:O,0)),"") -> 6 | B5: =IFERROR(IF(INDEX(Calendrier!A:A,A5)=$D$1,COL_SEM_1,COL_SEM_2),"") -> 1 | C5: Lundi | D5: =IF($A5<>"",INDEX(Calendrier!$A:$Z,$A5,$B5+2),"") | E5: =IF($A5<>"",INDEX(Calendrier!$A:$Z,$A5,$B5+3),"") | F5: =IF($A5<>"",INDEX(Calendrier!$A:$Z,$A5,$B5+4),"") | G5: =IF($A5<>"",INDEX(Calendrier!$A:$Z,$A5,$B5+5),"") | H5: =IF($A5<>"",INDEX(Calendrier!$A:$Z,$A5,$B5+6),"")
A6: =IFERROR(IF(A5<>"",IF(INDEX(Calendrier!A:Z,'36'!A5+1,B5)=$D$1,A5+1,MATCH($D$1,IF(B5=1,Calendrier!O:O,Calendrier!A:A),0)),IFERROR(IFERROR(IF(WEEKDAY(INDEX(Calendrier!B:B,MATCH($D$1,Calendrier!A:A,0)),2)=2,MATCH($D$1,Calendrier!A:A,0),MATCH($D$1,Calendrier!O:O,0)),MATCH($D$1,Calendrier!O:O,0)),"")),"") -> 7 | B6: =IFERROR(IF(INDEX(Calendrier!A:A,A6)=$D$1,COL_SEM_1,COL_SEM_2),"") -> 1 | C6: mardi | D6: =IF($A6<>"",INDEX(Calendrier!$A:$Z,$A6,$B6+2),"") -> bb | E6: =IF($A6<>"",INDEX(Calendrier!$A:$Z,$A6,$B6+3),"") -> nn | F6: =IF($A6<>"",INDEX(Calendrier!$A:$Z,$A6,$B6+4),"") -> dd | G6: =IF($A6<>"",INDEX(Calendrier!$A:$Z,$A6,$B6+5),"") -> rr | H6: =IF($A6<>"",INDEX(Calendrier!$A:$Z,$A6,$B6+6),"") -> tt
A7: =IFERROR(IF(A6<>"",IF(INDEX(Calendrier!A:Z,'36'!A6+1,B6)=$D$1,A6+1,MATCH($D$1,IF(B6=1,Calendrier!O:O,Calendrier!A:A),0)),IFERROR(IFERROR(IF(WEEKDAY(INDEX(Calendrier!B:B,MATCH($D$1,Calendrier!A:A,0)),2)=3,MATCH($D$1,Calendrier!A:A,0),MATCH($D$1,Calendrier!O:O,0)),MATCH($D$1,Calendrier!O:O,0)),"")),"") -> 8 | B7: =IFERROR(IF(INDEX(Calendrier!A:A,A7)=$D$1,COL_SEM_1,COL_SEM_2),"") -> 1 | C7: Mercredi | D7: =IF($A7<>"",INDEX(Calendrier!$A:$Z,$A7,$B7+2),"") | E7: =IF($A7<>"",INDEX(Calendrier!$A:$Z,$A7,$B7+3),"") -> ff | F7: =IF($A7<>"",INDEX(Calendrier!$A:$Z,$A7,$B7+4),"") | G7: =IF($A7<>"",INDEX(Calendrier!$A:$Z,$A7,$B7+5),"") | H7: =IF($A7<>"",INDEX(Calendrier!$A:$Z,$A7,$B7+6),"")
A8: =IFERROR(IF(A7<>"",IF(INDEX(Calendrier!A:Z,'36'!A7+1,B7)=$D$1,A7+1,MATCH($D$1,IF(B7=1,Calendrier!O:O,Calendrier!A:A),0)),IFERROR(IFERROR(IF(WEEKDAY(INDEX(Calendrier!B:B,MATCH($D$1,Calendrier!A:A,0)),2)=4,MATCH($D$1,Calendrier!A:A,0),MATCH($D$1,Calendrier!O:O,0)),MATCH($D$1,Calendrier!O:O,0)),"")),"") -> 9 | B8: =IFERROR(IF(INDEX(Calendrier!A:A,A8)=$D$1,COL_SEM_1,COL_SEM_2),"") -> 1 | C8: Jeudi | D8: =IF($A8<>"",INDEX(Calendrier!$A:$Z,$A8,$B8+2),"") | E8: =IF($A8<>"",INDEX(Calendrier!$A:$Z,$A8,$B8+3),"") | F8: =IF($A8<>"",INDEX(Calendrier!$A:$Z,$A8,$B8+4),"") | G8: =IF($A8<>"",INDEX(Calendrier!$A:$Z,$A8,$B8+5),"") | H8: =IF($A8<>"",INDEX(Calendrier!$A:$Z,$A8,$B8+6),"")
A9: =IF(A8<>"",IF(INDEX(Calendrier!A:Z,'36'!A8+1,B8)=$D$1,A8+1,MATCH($D$1,IF(B8=1,Calendrier!O:O,Calendrier!A:A),0)),IFERROR(IFERROR(IF(WEEKDAY(INDEX(Calendrier!B:B,MATCH($D$1,Calendrier!A:A,0)),2)=5,MATCH($D$1,Calendrier!A:A,0),MATCH($D$1,Calendrier!O:O,0)),MATCH($D$1,Calendrier!O:O,0)),"")) -> 10 | B9: =IFERROR(IF(INDEX(Calendrier!A:A,A9)=$D$1,COL_SEM_1,COL_SEM_2),"") -> 1 | C9: Vendredi | D9: =IF($A9<>"",INDEX(Calendrier!$A:$Z,$A9,$B9+2),"") | E9: =IF($A9<>"",INDEX(Calendrier!$A:$Z,$A9,$B9+3),"") | F9: =IF($A9<>"",INDEX(Calendrier!$A:$Z,$A9,$B9+4),"") | G9: =IF($A9<>"",INDEX(Calendrier!$A:$Z,$A9,$B9+5),"") | H9: =IF($A9<>"",INDEX(Calendrier!$A:$Z,$A9,$B9+6),"")
A10: =IFERROR(IF(A9<>"",IF(INDEX(Calendrier!A:Z,'36'!A9+1,B9)=$D$1,A9+1,MATCH($D$1,IF(B9=1,Calendrier!O:O,Calendrier!A:A),0)),IFERROR(IFERROR(IF(WEEKDAY(INDEX(Calendrier!B:B,MATCH($D$1,Calendrier!A:A,0)),2)=6,MATCH($D$1,Calendrier!A:A,0),MATCH($D$1,Calendrier!O:O,0)),MATCH($D$1,Calendrier!O:O,0)),"")),"") -> 11 | B10: =IFERROR(IF(INDEX(Calendrier!A:A,A10)=$D$1,COL_SEM_1,COL_SEM_2),"") -> 1 | C10: Samedi | D10: =IF($A10<>"",INDEX(Calendrier!$A:$Z,$A10,$B10+2),"") | E10: =IF($A10<>"",INDEX(Calendrier!$A:$Z,$A10,$B10+3),"") | F10: =IF($A10<>"",INDEX(Calendrier!$A:$Z,$A10,$B10+4),"") | G10: =IF($A10<>"",INDEX(Calendrier!$A:$Z,$A10,$B10+5),"") | H10: =IF($A10<>"",INDEX(Calendrier!$A:$Z,$A10,$B10+6),"")
A11: =IFERROR(IF(A10<>"",IF(INDEX(Calendrier!A:Z,'36'!A10+1,B10)=$D$1,A10+1,MATCH($D$1,IF(B10=1,Calendrier!O:O,Calendrier!A:A),0)),IFERROR(IFERROR(IF(WEEKDAY(INDEX(Calendrier!B:B,MATCH($D$1,Calendrier!A:A,0)),2)=7,MATCH($D$1,Calendrier!A:A,0),MATCH($D$1,Calendrier!O:O,0)),MATCH($D$1,Calendrier!O:O,0)),"")),"") -> 12 | B11: =IFERROR(IF(INDEX(Calendrier!A:A,A11)=$D$1,COL_SEM_1,COL_SEM_2),"") -> 1 | C11: Dimanche | D11: =IF($A11<>"",INDEX(Calendrier!$A:$Z,$A11,$B11+2),"") | E11: =IF($A11<>"",INDEX(Calendrier!$A:$Z,$A11,$B11+3),"") | F11: =IF($A11<>"",INDEX(Calendrier!$A:$Z,$A11,$B11+4),"") | G11: =IF($A11<>"",INDEX(Calendrier!$A:$Z,$A11,$B11+5),"") | H11: =IF($A11<>"",INDEX(Calendrier!$A:$Z,$A11,$B11+6),"")

Sheet 31 2024
C1: Semaine | D1: 31
A4: Ligne | B4: Colonne | D4: Infos | E4: Vie de classe | F4: Vigilance | G4: CCF | H4: Autres
A5: =IFERROR(IFERROR(IF(WEEKDAY(INDEX(Calendrier!B:B,MATCH($D$1,Calendrier!A:A,0)),2)=1,MATCH($D$1,Calendrier!A:A,0),MATCH($D$1,Calendrier!O:O,0)),MATCH($D$1,Calendrier!O:O,0)),"") -> 196 | B5: =IFERROR(IF(INDEX(Calendrier!A:A,A5)=$D$1,COL_SEM_1,COL_SEM_2),"") -> 1 | C5: Lundi | D5: =IF($A5<>"",INDEX(Calendrier!$A:$Z,$A5,$B5+2),"") | E5: =IF($A5<>"",INDEX(Calendrier!$A:$Z,$A5,$B5+3),"") | F5: =IF($A5<>"",INDEX(Calendrier!$A:$Z,$A5,$B5+4),"") | G5: =IF($A5<>"",INDEX(Calendrier!$A:$Z,$A5,$B5+5),"") | H5: =IF($A5<>"",INDEX(Calendrier!$A:$Z,$A5,$B5+6),"")
A6: =IFERROR(IF(A5<>"",IF(INDEX(Calendrier!A:Z,'31 2024'!A5+1,B5)=$D$1,A5+1,MATCH($D$1,IF(B5=1,Calendrier!O:O,Calendrier!A:A),0)),IFERROR(IFERROR(IF(WEEKDAY(INDEX(Calendrier!B:B,MATCH($D$1,Calendrier!A:A,0)),2)=2,MATCH($D$1,Calendrier!A:A,0),MATCH($D$1,Calendrier!O:O,0)),MATCH($D$1,Calendrier!O:O,0)),"")),"") -> 197 | B6: =IFERROR(IF(INDEX(Calendrier!A:A,A6)=$D$1,COL_SEM_1,COL_SEM_2),"") -> 1 | C6: mardi | D6: =IF($A6<>"",INDEX(Calendrier!$A:$Z,$A6,$B6+2),"") | E6: =IF($A6<>"",INDEX(Calendrier!$A:$Z,$A6,$B6+3),"") | F6: =IF($A6<>"",INDEX(Calendrier!$A:$Z,$A6,$B6+4),"") | G6: =IF($A6<>"",INDEX(Calendrier!$A:$Z,$A6,$B6+5),"") | H6: =IF($A6<>"",INDEX(Calendrier!$A:$Z,$A6,$B6+6),"")
A7: =IFERROR(IF(A6<>"",IF(INDEX(Calendrier!A:Z,'31 2024'!A6+1,B6)=$D$1,A6+1,MATCH($D$1,IF(B6=1,Calendrier!O:O,Calendrier!A:A),0)),IFERROR(IFERROR(IF(WEEKDAY(INDEX(Calendrier!B:B,MATCH($D$1,Calendrier!A:A,0)),2)=3,MATCH($D$1,Calendrier!A:A,0),MATCH($D$1,Calendrier!O:O,0)),MATCH($D$1,Calendrier!O:O,0)),"")),"") -> 198 | B7: =IFERROR(IF(INDEX(Calendrier!A:A,A7)=$D$1,COL_SEM_1,COL_SEM_2),"") -> 1 | C7: Mercredi | D7: =IF($A7<>"",INDEX(Calendrier!$A:$Z,$A7,$B7+2),"") | E7: =IF($A7<>"",INDEX(Calendrier!$A:$Z,$A7,$B7+3),"") | F7: =IF($A7<>"",INDEX(Calendrier!$A:$Z,$A7,$B7+4),"") | G7: =IF($A7<>"",INDEX(Calendrier!$A:$Z,$A7,$B7+5),"") | H7: =IF($A7<>"",INDEX(Calendrier!$A:$Z,$A7,$B7+6),"")
A8: =IFERROR(IF(A7<>"",IF(INDEX(Calendrier!A:Z,'31 2024'!A7+1,B7)=$D$1,A7+1,MATCH($D$1,IF(B7=1,Calendrier!O:O,Calendrier!A:A),0)),IFERROR(IFERROR(IF(WEEKDAY(INDEX(Calendrier!B:B,MATCH($D$1,Calendrier!A:A,0)),2)=4,MATCH($D$1,Calendrier!A:A,0),MATCH($D$1,Calendrier!O:O,0)),MATCH($D$1,Calendrier!O:O,0)),"")),"") | B8: =IFERROR(IF(INDEX(Calendrier!A:A,A8)=$D$1,COL_SEM_1,COL_SEM_2),"") | C8: Jeudi | D8: =IF($A8<>"",INDEX(Calendrier!$A:$Z,$A8,$B8+2),"") | E8: =IF($A8<>"",INDEX(Calendrier!$A:$Z,$A8,$B8+3),"") | F8: =IF($A8<>"",INDEX(Calendrier!$A:$Z,$A8,$B8+4),"") | G8: =IF($A8<>"",INDEX(Calendrier!$A:$Z,$A8,$B8+5),"") | H8: =IF($A8<>"",INDEX(Calendrier!$A:$Z,$A8,$B8+6),"")
A9: =IF(A8<>"",IF(INDEX(Calendrier!A:Z,'31 2024'!A8+1,B8)=$D$1,A8+1,MATCH($D$1,IF(B8=1,Calendrier!O:O,Calendrier!A:A),0)),IFERROR(IFERROR(IF(WEEKDAY(INDEX(Calendrier!B:B,MATCH($D$1,Calendrier!A:A,0)),2)=5,MATCH($D$1,Calendrier!A:A,0),MATCH($D$1,Calendrier!O:O,0)),MATCH($D$1,Calendrier!O:O,0)),"")) | B9: =IFERROR(IF(INDEX(Calendrier!A:A,A9)=$D$1,COL_SEM_1,COL_SEM_2),"") | C9: Vendredi | D9: =IF($A9<>"",INDEX(Calendrier!$A:$Z,$A9,$B9+2),"") | E9: =IF($A9<>"",INDEX(Calendrier!$A:$Z,$A9,$B9+3),"") | F9: =IF($A9<>"",INDEX(Calendrier!$A:$Z,$A9,$B9+4),"") | G9: =IF($A9<>"",INDEX(Calendrier!$A:$Z,$A9,$B9+5),"") | H9: =IF($A9<>"",INDEX(Calendrier!$A:$Z,$A9,$B9+6),"")
A10: =IFERROR(IF(A9<>"",IF(INDEX(Calendrier!A:Z,'31 2024'!A9+1,B9)=$D$1,A9+1,MATCH($D$1,IF(B9=1,Calendrier!O:O,Calendrier!A:A),0)),IFERROR(IFERROR(IF(WEEKDAY(INDEX(Calendrier!B:B,MATCH($D$1,Calendrier!A:A,0)),2)=6,MATCH($D$1,Calendrier!A:A,0),MATCH($D$1,Calendrier!O:O,0)),MATCH($D$1,Calendrier!O:O,0)),"")),"") | B10: =IFERROR(IF(INDEX(Calendrier!A:A,A10)=$D$1,COL_SEM_1,COL_SEM_2),"") | C10: Samedi | D10: =IF($A10<>"",INDEX(Calendrier!$A:$Z,$A10,$B10+2),"") | E10: =IF($A10<>"",INDEX(Calendrier!$A:$Z,$A10,$B10+3),"") | F10: =IF($A10<>"",INDEX(Calendrier!$A:$Z,$A10,$B10+4),"") | G10: =IF($A10<>"",INDEX(Calendrier!$A:$Z,$A10,$B10+5),"") | H10: =IF($A10<>"",INDEX(Calendrier!$A:$Z,$A10,$B10+6),"")
A11: =IFERROR(IF(A10<>"",IF(INDEX(Calendrier!A:Z,'31 2024'!A10+1,B10)=$D$1,A10+1,MATCH($D$1,IF(B10=1,Calendrier!O:O,Calendrier!A:A),0)),IFERROR(IFERROR(IF(WEEKDAY(INDEX(Calendrier!B:B,MATCH($D$1,Calendrier!A:A,0)),2)=7,MATCH($D$1,Calendrier!A:A,0),MATCH($D$1,Calendrier!O:O,0)),MATCH($D$1,Calendrier!O:O,0)),"")),"") | B11: =IFERROR(IF(INDEX(Calendrier!A:A,A11)=$D$1,COL_SEM_1,COL_SEM_2),"") | C11: Dimanche | D11: =IF($A11<>"",INDEX(Calendrier!$A:$Z,$A11,$B11+2),"") | E11: =IF($A11<>"",INDEX(Calendrier!$A:$Z,$A11,$B11+3),"") | F11: =IF($A11<>"",INDEX(Calendrier!$A:$Z,$A11,$B11+4),"") | G11: =IF($A11<>"",INDEX(Calendrier!$A:$Z,$A11,$B11+5),"") | H11: =IF($A11<>"",INDEX(Calendrier!$A:$Z,$A11,$B11+6),"")
