Workbook

Sheet G.4.2 Procédure alternative
A2: Code | B2: Fournisseurs | D2: Solde | E2: Index | F2: Factures échues antérieurs à 2022 | G2: Factures non echues datant de 2022 | H2: Factures échues datant de 2022 | I2: Décaissements subséquents | J2: Check | K2: Test de réalité | L2: commentaire
A3: 4411260010 | B3: ZZ | D3: =+'G.4.4 Balance âgée'!N11 -> -75625 | F3: =+SUMIF('G.4.4 Balance âgée'!$B$6:$B$11,'G.4.2 Procédure alternative'!$B3,'G.4.4 Balance âgée'!$C$6:$C$11) -> 0 | G3: =SUMPRODUCT(('G.4.4 Balance âgée'!$B$6:$B$11='G.4.2 Procédure alternative'!B3)*('G.4.4 Balance âgée'!$D$6:$J$11)) -> 0 | H3: =SUMPRODUCT(('G.4.4 Balance âgée'!$B$6:$B$11='G.4.2 Procédure alternative'!B3)*('G.4.4 Balance âgée'!$K$6:$M$11)) -> -75625 | J3: =D3-SUM(F3:H3) -> 0 | K3: TOC Achats/circuls/tests de réalité/cut-off
A4: 4411200190 | B4: TV | D4: =+'G.4.4 Balance âgée'!N8 -> -149371 | F4: =+SUMIF('G.4.4 Balance âgée'!$B$6:$B$11,'G.4.2 Procédure alternative'!$B4,'G.4.4 Balance âgée'!$C$6:$C$11) -> 0 | G4: =SUMPRODUCT(('G.4.4 Balance âgée'!$B$6:$B$11='G.4.2 Procédure alternative'!B4)*('G.4.4 Balance âgée'!$D$6:$J$11)) -> -74775 | H4: =SUMPRODUCT(('G.4.4 Balance âgée'!$B$6:$B$11='G.4.2 Procédure alternative'!B4)*('G.4.4 Balance âgée'!$K$6:$M$11)) -> -74596 | J4: =D4-SUM(F4:H4) -> 0
A5: 4411190300 | B5: SN | D5: =+'G.4.4 Balance âgée'!N6 -> -7406000 | F5: =+SUMIF('G.4.4 Balance âgée'!$B$6:$B$11,'G.4.2 Procédure alternative'!$B5,'G.4.4 Balance âgée'!$C$6:$C$11) -> 0 | G5: =SUMPRODUCT(('G.4.4 Balance âgée'!$B$6:$B$11='G.4.2 Procédure alternative'!B5)*('G.4.4 Balance âgée'!$D$6:$J$11)) -> 0 | H5: =SUMPRODUCT(('G.4.4 Balance âgée'!$B$6:$B$11='G.4.2 Procédure alternative'!B5)*('G.4.4 Balance âgée'!$K$6:$M$11)) -> -7406000 | J5: =D5-SUM(F5:H5) -> 0
A6: 4411230070 | B6: W | D6: =+'G.4.4 Balance âgée'!N10 -> -516531 | F6: =+SUMIF('G.4.4 Balance âgée'!$B$6:$B$11,'G.4.2 Procédure alternative'!$B6,'G.4.4 Balance âgée'!$C$6:$C$11) -> 0 | G6: =SUMPRODUCT(('G.4.4 Balance âgée'!$B$6:$B$11='G.4.2 Procédure alternative'!B6)*('G.4.4 Balance âgée'!$D$6:$J$11)) -> 0 | H6: =SUMPRODUCT(('G.4.4 Balance âgée'!$B$6:$B$11='G.4.2 Procédure alternative'!B6)*('G.4.4 Balance âgée'!$K$6:$M$11)) -> -516531 | J6: =D6-SUM(F6:H6) -> 0
A7: 4411200280 | B7: TM | D7: =+'G.4.4 Balance âgée'!N9 -> -660734 | F7: =+SUMIF('G.4.4 Balance âgée'!$B$6:$B$11,'G.4.2 Procédure alternative'!$B7,'G.4.4 Balance âgée'!$C$6:$C$11) -> 0 | G7: =SUMPRODUCT(('G.4.4 Balance âgée'!$B$6:$B$11='G.4.2 Procédure alternative'!B7)*('G.4.4 Balance âgée'!$D$6:$J$11)) -> 0 | H7: =SUMPRODUCT(('G.4.4 Balance âgée'!$B$6:$B$11='G.4.2 Procédure alternative'!B7)*('G.4.4 Balance âgée'!$K$6:$M$11)) -> -660734 | J7: =D7-SUM(F7:H7) -> 0

Sheet G.4.4 Balance âgée
C4: Dettes échues antérieures à 2022 | D4: Dettes échues datant de 2022 | K4: Dettes non échues
A5: Étiquettes de lignes | B5: LIB_COMPTE | C5: AN | D5: Janvier | E5: Février | F5: AVRIL | G5: JUIN | H5: JUILLET | I5: AOUT | J5: septembre | K5: octobre | L5: novembre | M5: décembre | N5: Total général
A6: 4411190300 | B6: SN | K6: -500000 | L6: -6856000 | M6: -50000 | N6: =+SUM(C6:M6) -> -7406000
A7: 4411190380 | B7: PRIVEE | K7: -30000 | L7: -58900 | M7: -58000 | N7: =+SUM(C7:M7) -> -146900
A8: 4411200190 | B8: TV | F8: -15680 | G8: -59095 | L8: -5000 | M8: -69596 | N8: =+SUM(C8:M8) -> -149371
A9: 4411200280 | B9: TM | K9: -59500 | L9: -595615 | M9: -5619 | N9: =+SUM(C9:M9) -> -660734
A10: 4411230070 | B10: W | M10: -516531 | N10: =+SUM(C10:M10) -> -516531
A11: 4411260010 | B11: ZZ | K11: -5599 | L11: -1565 | M11: -68461 | N11: =+SUM(C11:M11) -> -75625
A12: Total général | C12: =+SUM(C6:C11) -> 0 | D12: =+SUM(D6:D11) -> 0 | E12: =+SUM(E6:E11) -> 0 | F12: =+SUM(F6:F11) -> -15680 | G12: =+SUM(G6:G11) -> -59095 | H12: =+SUM(H6:H11) -> 0 | I12: =+SUM(I6:I11) -> 0 | J12: =+SUM(J6:J11) -> 0 | ... M12: =+SUM(M6:M11) -> -768207 | N12: =+SUM(C12:M12) -> -8955161
