Workbook
Name LST_PLATS_CHAUDS: Paramètres!$A$2:$A$5
Name LST_TYPES_PLATS: Paramètres!$A$9:$A$13
Name MENU_SOURCE: Paramètres!$G$1
Name PCD_VIANDE: Paramètres!$A$2
Name T_CONV_PLATS_D2R: Paramètres!$A$17:$B$25
Name T_PLATS_CHAUDS: Paramètres!$A$2:$B$5
Name TD_FECULENTS: Paramètres!$A$5
Name TD_LEGUMES: Paramètres!$A$4
Name TD_POISSON: Paramètres!$A$3
Name TD_VIANDE: Paramètres!$A$2
Name TP_FECULENTS: Paramètres!$A$11
Name TP_LEGFRU_CRUS: Paramètres!$A$12
Name TP_LEGFRU_CUITS: Paramètres!$A$10
Name TP_PROD_LAITIERS: Paramètres!$A$13
Name TP_PROTIDIQUES: Paramètres!$A$9
Name V_INVITATION: Paramètres!$G$5
Name V_LEGENDE: Paramètres!$G$3

Sheet MENU
C1: MENUS DU | D1: 44991 | E1: au | F1: =D1+4 -> 44995
B2: lundi | C2: Type de plat | D2: mardi | E2: Type de plat | F2: jeudi | G2: Type de plat | H2: vendredi | I2: Type de plat
B3: Entrée | D3: Entrée | F3: Entrée | H3: Entrée
B4: Salade de tomates | C4: Légumes et fruits crus | D4: Filets de harengs | E4: Plats protidiques
B5: Pommes de terre en salade | C5: Légumes et fruits cuits
B8: Plat chaud | D8: Plat chaud | F8: Plat chaud | H8: Plat chaud
A9: viande : | B9: Blanquette de veau | C9: Viande | D9: Sauté de dinde | E9: Viande
A10: poisson : | B10: Filet de merlan | C10: Poisson | D10: Lieu | E10: Poisson
A11: légumes : | B11: Haricots verts | C11: Légumes
A12: féculent : | B12: Riz | C12: Féculents
A13: autre :
A14: autre :
B15: Dessert | D15: Dessert | F15: Dessert | H15: Dessert
B16: Tarte aux pommes | C16: Légumes et fruits cuits | D16: Corbeille de fruits | E16: Légumes et fruits crus | H16: s | I16: Féculents
B17: Salade de fruit frais | C17: Légumes et fruits crus
B20: Produits laitiers | D20: Produits laitiers | F20: Produits laitiers | H20: Produits laitiers
A21: yaourt nature | B21: Yaourt à la fraise | C21: Produits laitiers | E21: Produits laitiers | G21: Produits laitiers | I21: Produits laitiers
A22: yaourt fermier | B22: Yaourt à la vanille | C22: Produits laitiers | E22: Produits laitiers | G22: Produits laitiers | I22: Produits laitiers
A23: fromage | B23: Leerdammer | C23: Produits laitiers | E23: Produits laitiers | G23: Produits laitiers | I23: Produits laitiers
A24: autre : | C24: Produits laitiers | E24: Produits laitiers | G24: Produits laitiers | I24: Produits laitiers
B26: Pain | D26: Pain | F26: Pain | H26: Pain
A28: Ne pas modifier | B28: =V_LEGENDE -> Légende : | D28: Légumes et fruits crus | E28: Légumes et fruits crus | F28: Plats protidiques | G28: Plats protidiques
D29: Féculents | E29: Féculents | F29: Produits laitiers | G29: Produits laitiers
D30: Légumes et fruits cuits | E30: Légumes et fruits cuits | H30: =V_INVITATION -> BON APPÉTIT
A32: Information | B32: =IF(COUNTIF(B9:B14,"<>")>0,IF(COUNTIFS(B9:B14,"<>",C9:C14,TD_VIANDE)+COUNTIFS(B9:B14,"<>",C9:C14,TD_POISSON)<2,"Les plats chauds ne comportent pas une viande ET un poisson",IF(COUNTIFS(B9:B14,"<>",C9:C14,TD_LEGUMES)=0,"Le plat chaud ne comporte pas de légumes","")),"") | D32: =IF(COUNTIF(D9:D14,"<>")>0,IF(COUNTIFS(D9:D14,"<>",E9:E14,TD_VIANDE)+COUNTIFS(D9:D14,"<>",E9:E14,TD_POISSON)<2,"Les plats chauds ne comportent pas une viande ET un poisson",IF(COUNTIFS(D9:D14,"<>",E9:E14,TD_LEGUMES)=0,"Le plat chaud ne comporte pas de légumes","")),"") -> Le plat chaud ne comporte pas de légumes | F32: =IF(COUNTIF(F9:F14,"<>")>0,IF(COUNTIFS(F9:F14,"<>",G9:G14,TD_VIANDE)+COUNTIFS(F9:F14,"<>",G9:G14,TD_POISSON)<2,"Les plats chauds ne comportent pas une viande ET un poisson",IF(COUNTIFS(F9:F14,"<>",G9:G14,TD_LEGUMES)=0,"Le plat chaud ne comporte pas de légumes","")),"") | H32: =IF(COUNTIF(H9:H14,"<>")>0,IF(COUNTIFS(H9:H14,"<>",I9:I14,TD_VIANDE)+COUNTIFS(H9:H14,"<>",I9:I14,TD_POISSON)<2,"Les plats chauds ne comportent pas une viande ET un poisson",IF(COUNTIFS(H9:H14,"<>",I9:I14,TD_LEGUMES)=0,"Le plat chaud ne comporte pas de légumes","")),"")

Sheet COMPOSITION
A1: SEMAINE DU | B1: =MENU!D1 -> 44991 | D1: au | E1: =MENU!F1 -> 44995
A2: lundi | B2: quantité utilisé (kg) | C2: coût | D2: mardi | E2: quantité utilisé (kg) | F2: coût | G2: jeudi | H2: quantité utilisé (kg) | I2: coût | J2: vendredi | K2: quantité utilisé (kg) | L2: coût
A3: =MENU!B3 -> Entrée | D3: =MENU!D3 -> Entrée | G3: =MENU!F3 -> Entrée | J3: =MENU!H3 -> Entrée
A4: =MENU!B4 -> Salade de tomates | D4: =MENU!D4 -> Filets de harengs | G4: =MENU!F4 -> 0 | J4: =MENU!H4 -> 0
A8: =MENU!B5 -> Pommes de terre en salade | D8: =MENU!D5 -> 0 | G8: =MENU!F5 -> 0 | J8: =MENU!H5 -> 0
A12: =MENU!B6 -> 0 | D12: =MENU!D6 -> 0 | G12: =MENU!F6 -> 0 | J12: =MENU!H6 -> 0
A16: =MENU!B7 -> 0 | D16: =MENU!D7 -> 0 | G16: =MENU!F7 -> 0 | J16: =MENU!H7 -> 0
A20: =MENU!B8 -> Plat chaud | D20: =MENU!D8 -> Plat chaud | G20: =MENU!F8 -> Plat chaud | J20: =MENU!H8 -> Plat chaud
A21: =MENU!B9 -> Blanquette de veau | D21: =MENU!D9 -> Sauté de dinde | G21: =MENU!F9 -> 0 | J21: =MENU!H9 -> 0
A27: =MENU!B10 -> Filet de merlan | D27: =MENU!D10 -> Lieu | G27: =MENU!F10 -> 0 | J27: =MENU!H10 -> 0
A33: =MENU!B11 -> Haricots verts | D33: =MENU!D11 -> 0 | G33: =MENU!F11 -> 0 | J33: =MENU!H11 -> 0
A39: =MENU!B12 -> Riz | D39: =MENU!D12 -> 0 | G39: =MENU!F12 -> 0 | J39: =MENU!H12 -> 0
A45: =MENU!B13 -> 0 | D45: =MENU!D13 -> 0 | G45: =MENU!F13 -> 0 | J45: =MENU!H13 -> 0
A51: =MENU!B14 -> 0 | D51: =MENU!D14 -> 0 | G51: =MENU!F14 -> 0 | J51: =MENU!H14 -> 0
A57: =MENU!B15 -> Dessert | D57: =MENU!D15 -> Dessert | G57: =MENU!F15 -> Dessert | J57: =MENU!H15 -> Dessert
A58: =MENU!B16 -> Tarte aux pommes | D58: =MENU!D16 -> Corbeille de fruits | G58: =MENU!F16 -> 0 | J58: =MENU!H16 -> s
A64: =MENU!B17 -> Salade de fruit frais | D64: =MENU!D17 -> 0 | G64: =MENU!F17 -> 0 | J64: =MENU!H17 -> 0
A70: =MENU!B18 -> 0 | D70: =MENU!D18 -> 0 | G70: =MENU!F18 -> 0 | J70: =MENU!H18 -> 0
A76: =MENU!B19 -> 0 | D76: =MENU!D19 -> 0 | G76: =MENU!F19 -> 0 | J76: =MENU!H19 -> 0
A82: Fromage | D82: Fromage | G82: Fromage | J82: Fromage
A89: =MENU!#REF! -> #REF! | D89: =MENU!#REF! -> #REF! | G89: =MENU!#REF! -> #REF! | J89: =MENU!#REF! -> #REF!
A90: =MENU!B24 -> 0 | D90: =MENU!D24 -> 0 | G90: =MENU!F24 -> 0 | J90: =MENU!H24 -> 0
A95: Composition d'un plateau :
A97: une entré
A98: une viande ou un poisson
A99: légume ou féculent
A100: 1 fromage ou 1 yaourt nature
A101: 1 dessert ou un fruit ou 1 yaourt aux fruits

Sheet COUT_MATIERE
A1: SEMAINE DU : | C1: =MENU!D1 -> 44991 | F1: au | G1: =MENU!F1 -> 44995
A2: lundi | D2: mardi | G2: jeudi | J2: vendredi
A3: Entrée | C3: coût | D3: Entrée | F3: coût | G3: Entrée | I3: coût | J3: Entrée | L3: coût
A4: =MENU!B4 -> Salade de tomates | D4: =MENU!D4 -> Filets de harengs | G4: =MENU!F4 -> 0 | J4: =MENU!H4 -> 0
A5: =MENU!B5 -> Pommes de terre en salade | D5: =MENU!D5 -> 0 | G5: =MENU!F5 -> 0 | J5: =MENU!H5 -> 0
A6: =MENU!B6 -> 0 | D6: =MENU!D6 -> 0 | G6: =MENU!F6 -> 0 | J6: =MENU!H6 -> 0
A7: =MENU!B7 -> 0 | D7: =MENU!D7 -> 0 | G7: =MENU!F7 -> 0 | J7: =MENU!H7 -> 0
A8: Plat chaud | D8: Plat chaud | G8: Plat chaud | J8: Plat chaud
A9: viande : | B9: =MENU!B9 -> Blanquette de veau | D9: viande : | E9: =MENU!D9 -> Sauté de dinde | G9: viande : | H9: =MENU!F9 -> 0 | J9: viande : | K9: =MENU!H9 -> 0
A10: poisson : | B10: =MENU!B10 -> Filet de merlan | D10: poisson : | E10: =MENU!D10 -> Lieu | G10: poisson : | H10: =MENU!F10 -> 0 | J10: poisson : | K10: =MENU!H10 -> 0
A11: légumes : | B11: =MENU!B11 -> Haricots verts | D11: légumes : | E11: =MENU!D11 -> 0 | G11: légumes : | H11: =MENU!F11 -> 0 | J11: légumes : | K11: =MENU!H11 -> 0
A12: féculent : | B12: =MENU!B12 -> Riz | D12: féculent : | E12: =MENU!D12 -> 0 | G12: féculent : | H12: =MENU!F12 -> 0 | J12: féculent : | K12: =MENU!H12 -> 0
A13: autre : | B13: =MENU!B13 -> 0 | D13: autre : | E13: =MENU!D13 -> 0 | G13: autre : | H13: =MENU!F13 -> 0 | J13: autre : | K13: =MENU!H13 -> 0
A14: autre : | B14: =MENU!B14 -> 0 | D14: autre : | E14: =MENU!D14 -> 0 | G14: autre : | H14: =MENU!F14 -> 0 | J14: autre : | K14: =MENU!H14 -> 0
A15: Dessert | D15: Dessert | G15: Dessert | J15: Dessert
A16: =MENU!B16 -> Tarte aux pommes | D16: =MENU!D16 -> Corbeille de fruits | G16: =MENU!F19 -> 0 | J16: =MENU!H16 -> s
A17: =MENU!B17 -> Salade de fruit frais | D17: =MENU!D17 -> 0 | G17: =MENU!F17 -> 0 | J17: =MENU!H17 -> 0
A18: =MENU!B18 -> 0 | D18: =MENU!D18 -> 0 | G18: =MENU!F18 -> 0 | J18: =MENU!H18 -> 0
A19: =MENU!B19 -> 0 | D19: =MENU!D19 -> 0 | G19: =MENU!F19 -> 0 | J19: =MENU!H19 -> 0
A20: Produits laitiers | D20: Produits laitiers | G20: Produits laitiers | J20: Produits laitiers
A21: yaourt nature | D21: yaourt nature | G21: yaourt nature | J21: yaourt nature
A22: yaourt fermier | D22: yaourt fermier | G22: yaourt fermier | J22: yaourt fermier
A23: fromage | D23: fromage | G23: fromage | J23: fromage
A24: autre : | B24: =MENU!B24 -> 0 | D24: autre : | E24: =MENU!D24 -> 0 | G24: autre : | H24: =MENU!F24 -> 0 | J24: autre : | K24: =MENU!H24 -> 0
A25: Fruits | D25: Fruits | G25: Fruits | J25: Fruits
A26: Pain | D26: Pain | G26: Pain | J26: Pain
A28: Nombre de repas | C28: 1000 | D28: Nombre de repas | G28: Nombre de repas | J28: Nombre de repas
A29: Coût TOTAL de lundi | C29: =SUM(C4:C26) -> 0 | D29: Coût TOTAL de mardi | F29: =SUM(F4:F26) -> 0 | G29: Coût TOTAL de jeudi | I29: =SUM(I4:I26) -> 0 | J29: Coût TOTAL de vendredi | L29: =SUM(L4:L26) -> 0
A30: Coût par élève | C30: =C29/C28 -> 0 | D30: Coût par élève | F30: =F29/F28 -> #DIV/0! | G30: Coût par élève | I30: =I29/I28 -> #DIV/0! | J30: Coût par élève | L30: =L29/L28 -> #DIV/0!
B32: Coût moyen par élève | D32: =(C30+F30+I30+L30)/4 -> #DIV/0! | E32: Objectif de coût par élève | G32: 1.9 | I32: coût Total entrées | K32: =SUM(C4:C7,F4:F7,I4:I7,L4:L7) -> 0
B33: Coût TOTAL de la semaine | D33: =SUM(C29,F29,I29,L29) -> 0 | E33: Objectif de coût TOTAL | G33: =D34*G32 -> 1900 | I33: coût Total plats chauds | K33: =SUM(C9:C13,F9:F13,I9:I13,L9:L13) -> 0
B34: repas servis cette semaine | D34: =SUM(C28,F28,I28,L28) -> 1000 | E34: Marge | G34: =G33-D33 -> 1900 | I34: coût Total desserts | K34: =SUM(C16:C19,F16:F19,I16:I19,L16:L19) -> 0
I35: coût Total produit laitiers | K35: =SUM(C21:C23,F21:F23,I21:I23,L21:L23) -> 0
I36: coût Total fruits | K36: =SUM(C25,F25,I25,L25) -> 0
I37: coût Total pain | K37: =SUM(C26,F26,I26,L26) -> 0

Sheet POIDS_MATIERE
A1: SEMAINE DU : | C1: =MENU!D1 -> 44991 | G1: au | H1: =MENU!F1 -> 44995
A2: lundi | F2: mardi | K2: jeudi | P2: vendredi
A3: Entrée | C3: Portion/u (g) | D3: nbr dressé | E3: Poids total (kg) | F3: Entrée | H3: Portion/u (g) | I3: nbr dressé | J3: Poids total (kg) | K3: Entrée | M3: Portion/u (g) | N3: nbr dressé | O3: Poids total (kg) | P3: Entrée | R3: Portion/u (g) | S3: nbr dressé | T3: Poids total (kg)
A4: =MENU!B4 -> Salade de tomates | E4: =C4*D4/1000 -> 0 | F4: =MENU!D4 -> Filets de harengs | J4: =H4*I4/1000 -> 0 | K4: =MENU!F4 -> 0 | O4: =M4*N4/1000 -> 0 | P4: =MENU!H4 -> 0 | T4: =R4*S4/1000 -> 0
A5: =MENU!B5 -> Pommes de terre en salade | E5: =C5*D5/1000 -> 0 | F5: =MENU!D5 -> 0 | J5: =H5*I5/1000 -> 0 | K5: =MENU!F5 -> 0 | O5: =M5*N5/1000 -> 0 | P5: =MENU!H5 -> 0 | T5: =R5*S5/1000 -> 0
A6: =MENU!B6 -> 0 | E6: =C6*D6/1000 -> 0 | F6: =MENU!D6 -> 0 | J6: =H6*I6/1000 -> 0 | K6: =MENU!F6 -> 0 | O6: =M6*N6/1000 -> 0 | P6: =MENU!H6 -> 0 | T6: =R6*S6/1000 -> 0
A7: =MENU!B7 -> 0 | E7: =C7*D7/1000 -> 0 | F7: =MENU!D7 -> 0 | J7: =H7*I7/1000 -> 0 | K7: =MENU!F7 -> 0 | O7: =M7*N7/1000 -> 0 | P7: =MENU!H7 -> 0 | T7: =R7*S7/1000 -> 0
A8: Plat chaud | E8: =C8*D8/1000 -> 0 | F8: Plat chaud | J8: =H8*I8/1000 -> 0 | K8: Plat chaud | O8: =M8*N8/1000 -> 0 | P8: Plat chaud | T8: =R8*S8/1000 -> 0
A9: viande : | B9: =MENU!B9 -> Blanquette de veau | E9: =C9*D9/1000 -> 0 | F9: viande : | G9: =MENU!D9 -> Sauté de dinde | J9: =H9*I9/1000 -> 0 | K9: viande : | L9: =MENU!F9 -> 0 | O9: =M9*N9/1000 -> 0 | P9: viande : | Q9: =MENU!H9 -> 0 | T9: =R9*S9/1000 -> 0
A10: poisson : | B10: =MENU!B10 -> Filet de merlan | E10: =C10*D10/1000 -> 0 | F10: poisson : | G10: =MENU!D10 -> Lieu | J10: =H10*I10/1000 -> 0 | K10: poisson : | L10: =MENU!F10 -> 0 | O10: =M10*N10/1000 -> 0 | P10: poisson : | Q10: =MENU!H10 -> 0 | T10: =R10*S10/1000 -> 0
A11: légumes : | B11: =MENU!B11 -> Haricots verts | E11: =C11*D11/1000 -> 0 | F11: légumes : | G11: =MENU!D11 -> 0 | J11: =H11*I11/1000 -> 0 | K11: légumes : | L11: =MENU!F11 -> 0 | O11: =M11*N11/1000 -> 0 | P11: légumes : | Q11: =MENU!H11 -> 0 | T11: =R11*S11/1000 -> 0
A12: féculent : | B12: =MENU!B12 -> Riz | E12: =C12*D12/1000 -> 0 | F12: féculent : | G12: =MENU!D12 -> 0 | J12: =H12*I12/1000 -> 0 | K12: féculent : | L12: =MENU!F12 -> 0 | O12: =M12*N12/1000 -> 0 | P12: féculent : | Q12: =MENU!H12 -> 0 | T12: =R12*S12/1000 -> 0
A13: autre : | B13: =MENU!B13 -> 0 | E13: =C13*D13/1000 -> 0 | F13: autre : | G13: =MENU!D13 -> 0 | J13: =H13*I13/1000 -> 0 | K13: autre : | L13: =MENU!F13 -> 0 | O13: =M13*N13/1000 -> 0 | P13: autre : | Q13: =MENU!H13 -> 0 | T13: =R13*S13/1000 -> 0
A14: autre : | B14: =MENU!B14 -> 0 | E14: =C14*D14/1000 -> 0 | F14: autre : | G14: =MENU!D14 -> 0 | J14: =H14*I14/1000 -> 0 | K14: autre : | L14: =MENU!F14 -> 0 | O14: =M14*N14/1000 -> 0 | P14: autre : | Q14: =MENU!H14 -> 0 | T14: =R14*S14/1000 -> 0
A15: Dessert | E15: =C15*D15/1000 -> 0 | F15: Dessert | J15: =H15*I15/1000 -> 0 | K15: Dessert | O15: =M15*N15/1000 -> 0 | P15: Dessert | T15: =R15*S15/1000 -> 0
A16: =MENU!B16 -> Tarte aux pommes | E16: =C16*D16/1000 -> 0 | F16: =MENU!D16 -> Corbeille de fruits | J16: =H16*I16/1000 -> 0 | K16: =MENU!F19 -> 0 | O16: =M16*N16/1000 -> 0 | P16: =MENU!H16 -> s | T16: =R16*S16/1000 -> 0
A17: =MENU!B17 -> Salade de fruit frais | E17: =C17*D17/1000 -> 0 | F17: =MENU!D17 -> 0 | J17: =H17*I17/1000 -> 0 | K17: =MENU!F17 -> 0 | O17: =M17*N17/1000 -> 0 | P17: =MENU!H17 -> 0 | T17: =R17*S17/1000 -> 0
A18: =MENU!B18 -> 0 | E18: =C18*D18/1000 -> 0 | F18: =MENU!D18 -> 0 | J18: =H18*I18/1000 -> 0 | K18: =MENU!F18 -> 0 | O18: =M18*N18/1000 -> 0 | P18: =MENU!H18 -> 0 | T18: =R18*S18/1000 -> 0
A19: =MENU!B19 -> 0 | E19: =C19*D19/1000 -> 0 | F19: =MENU!D19 -> 0 | J19: =H19*I19/1000 -> 0 | K19: =MENU!F19 -> 0 | O19: =M19*N19/1000 -> 0 | P19: =MENU!H19 -> 0 | T19: =R19*S19/1000 -> 0
A20: Produits laitiers | E20: =C20*D20/1000 -> 0 | F20: Produits laitiers | J20: =H20*I20/1000 -> 0 | K20: Produits laitiers | O20: =M20*N20/1000 -> 0 | P20: Produits laitiers | T20: =R20*S20/1000 -> 0
A21: yaourt nature | E21: =C21*D21/1000 -> 0 | F21: yaourt nature | J21: =H21*I21/1000 -> 0 | K21: yaourt nature | O21: =M21*N21/1000 -> 0 | P21: yaourt nature | T21: =R21*S21/1000 -> 0
A22: yaourt fermier | E22: =C22*D22/1000 -> 0 | F22: yaourt fermier | J22: =H22*I22/1000 -> 0 | K22: yaourt fermier | O22: =M22*N22/1000 -> 0 | P22: yaourt fermier | T22: =R22*S22/1000 -> 0
A23: fromage | E23: =C23*D23/1000 -> 0 | F23: fromage | J23: =H23*I23/1000 -> 0 | K23: fromage | O23: =M23*N23/1000 -> 0 | P23: fromage | T23: =R23*S23/1000 -> 0
A24: autre : | B24: =MENU!B24 -> 0 | E24: =C24*D24/1000 -> 0 | F24: autre : | G24: =MENU!D24 -> 0 | J24: =H24*I24/1000 -> 0 | K24: autre : | L24: =MENU!F24 -> 0 | O24: =M24*N24/1000 -> 0 | P24: autre : | Q24: =MENU!H24 -> 0 | T24: =R24*S24/1000 -> 0
A25: Fruits | E25: =C25*D25/1000 -> 0 | F25: Fruits | J25: =H25*I25/1000 -> 0 | K25: Fruits | O25: =M25*N25/1000 -> 0 | P25: Fruits | T25: =R25*S25/1000 -> 0
A26: Pain | E26: =C26*D26/1000 -> 0 | F26: Pain | J26: =H26*I26/1000 -> 0 | K26: Pain | O26: =M26*N26/1000 -> 0 | P26: Pain | T26: =R26*S26/1000 -> 0

Sheet LISTE_PRODUIT
A1: SEMAINE DU : | B1: =MENU!D1 -> 44991 | D1: au | F1: =MENU!F1 -> 44995
B2: quantité (kg) | C2: prix/kg | D2: coût HT | E2: TVA | F2: coût TTC | G2: marque | H2: fournisseur | I2: référence
A3: féculent | D3: =C3*B3 -> 0 | E3: 0.055 | F3: =D3*E3+D3 -> 0
A4: croûton de pain | D4: =B4*C4 -> 0 | E4: 0.055 | F4: =D4*E4+D4 -> 0
A5: ebli | D5: =B5*C5 -> 0 | E5: 0.055 | F5: =D5*E5+D5 -> 0
A6: farine t45 | D6: =B6*C6 -> 0 | E6: 0.055 | F6: =D6*E6+D6 -> 0
A7: farine t55 | D7: =B7*C7 -> 0 | E7: 0.055 | F7: =D7*E7+D7 -> 0
A8: lentille | D8: =B8*C8 -> 0 | E8: 0.055 | F8: =D8*E8+D8 -> 0
A9: maïzena | D9: =B9*C9 -> 0 | E9: 0.055 | F9: =D9*E9+D9 -> 0
A10: pain | D10: =B10*C10 -> 0 | E10: 0.055 | F10: =D10*E10+D10 -> 0
A11: pâtes | D11: =B11*C11 -> 0 | E11: 0.055 | F11: =D11*E11+D11 -> 0
A12: pomme de terre | D12: =B12*C12 -> 0 | E12: 0.055 | F12: =D12*E12+D12 -> 0
A13: purée | D13: =B13*C13 -> 0 | E13: 0.055 | F13: =D13*E13+D13 -> 0
A14: quinoa | D14: =B14*C14 -> 0 | E14: 0.055 | F14: =D14*E14+D14 -> 0
A15: riz | D15: =B15*C15 -> 0 | E15: 0.055 | F15: =D15*E15+D15 -> 0
A16: semoule | D16: =B16*C16 -> 0 | E16: 0.055 | F16: =D16*E16+D16 -> 0
D17: =B17*C17 -> 0 | E17: 0.055 | F17: =D17*E17+D17 -> 0
A18: légumes | D18: =B18*C18 -> 0 | E18: 0.055 | F18: =D18*E18+D18 -> 0
A19: céleri | D19: =B19*C19 -> 0 | E19: 0.055 | F19: =D19*E19+D19 -> 0
A20: concombre | D20: =B20*C20 -> 0 | E20: 0.055 | F20: =D20*E20+D20 -> 0
A21: courgette | D21: =B21*C21 -> 0 | E21: 0.055 | F21: =D21*E21+D21 -> 0
A22: poireaux | D22: =B22*C22 -> 0 | E22: 0.055 | F22: =D22*E22+D22 -> 0
A23: poivron | D23: =B23*C23 -> 0 | E23: 0.055 | F23: =D23*E23+D23 -> 0
A24: tomate | D24: =B24*C24 -> 0 | E24: 0.055 | F24: =D24*E24+D24 -> 0
D25: =B25*C25 -> 0 | E25: 0.055 | F25: =D25*E25+D25 -> 0
A26: fruits | D26: =B26*C26 -> 0 | E26: 0.055 | F26: =D26*E26+D26 -> 0
A27: ananas | D27: =B27*C27 -> 0 | E27: 0.055 | F27: =D27*E27+D27 -> 0
A28: clémentine | D28: =B28*C28 -> 0 | E28: 0.055 | F28: =D28*E28+D28 -> 0
A29: kiwi | D29: =B29*C29 -> 0 | E29: 0.055 | F29: =D29*E29+D29 -> 0
A30: mandarine | D30: =B30*C30 -> 0 | E30: 0.055 | F30: =D30*E30+D30 -> 0
A31: meulon | D31: =B31*C31 -> 0 | E31: 0.055 | F31: =D31*E31+D31 -> 0
A32: orange | D32: =B32*C32 -> 0 | E32: 0.055 | F32: =D32*E32+D32 -> 0
A33: pamplemousse | D33: =B33*C33 -> 0 | E33: 0.055 | F33: =D33*E33+D33 -> 0
A34: pastèque | D34: =B34*C34 -> 0 | E34: 0.055 | F34: =D34*E34+D34 -> 0
A35: poire | D35: =B35*C35 -> 0 | E35: 0.055 | F35: =D35*E35+D35 -> 0
A36: pomme | D36: =B36*C36 -> 0 | E36: 0.055 | F36: =D36*E36+D36 -> 0
A37: raisin | D37: =B37*C37 -> 0 | E37: 0.055 | F37: =D37*E37+D37 -> 0
D38: =B38*C38 -> 0 | E38: 0.055 | F38: =D38*E38+D38 -> 0
D39: =B39*C39 -> 0 | E39: 0.055 | F39: =D39*E39+D39 -> 0
A40: viande | D40: =B40*C40 -> 0 | E40: 0.055 | F40: =D40*E40+D40 -> 0
...

Sheet menu_à_imprimer
C4: ="MENUS DU "&TEXT(MENU!D1,"JJ/MM/AAAA")&" AU "&TEXT(MENU!F1,"JJ/MM/AAAA") -> MENUS DU 06/03/2023 AU 10/03/2023
A6: LUNDI | C6: MARDI | E6: JEUDI | G6: VENDREDI
A8: =IF(Paramètres!F8<>0,Paramètres!F8,"") -> Salade de tomates | B8: =IF(Paramètres!G8<>0,Paramètres!G8,"") -> Légumes et fruits crus | C8: =IF(Paramètres!H8<>0,Paramètres!H8,"") -> Filets de harengs | D8: =IF(Paramètres!I8<>0,Paramètres!I8,"") -> Plats protidiques | E8: =IF(Paramètres!J8<>0,Paramètres!J8,"") | F8: =IF(Paramètres!K8<>0,Paramètres!K8,"") | G8: =IF(Paramètres!L8<>0,Paramètres!L8,"") | H8: =IF(Paramètres!M8<>0,Paramètres!M8,"")
A9: =IF(Paramètres!F9<>0,Paramètres!F9,"") -> Pommes de terre en salade | B9: =IF(Paramètres!G9<>0,Paramètres!G9,"") -> Légumes et fruits cuits | C9: =IF(Paramètres!H9<>0,Paramètres!H9,"") | D9: =IF(Paramètres!I9<>0,Paramètres!I9,"") | E9: =IF(Paramètres!J9<>0,Paramètres!J9,"") | F9: =IF(Paramètres!K9<>0,Paramètres!K9,"") | G9: =IF(Paramètres!L9<>0,Paramètres!L9,"") | H9: =IF(Paramètres!M9<>0,Paramètres!M9,"")
A10: =IF(Paramètres!F10<>0,Paramètres!F10,"") | B10: =IF(Paramètres!G10<>0,Paramètres!G10,"") | C10: =IF(Paramètres!H10<>0,Paramètres!H10,"") | D10: =IF(Paramètres!I10<>0,Paramètres!I10,"") | E10: =IF(Paramètres!J10<>0,Paramètres!J10,"") | F10: =IF(Paramètres!K10<>0,Paramètres!K10,"") | G10: =IF(Paramètres!L10<>0,Paramètres!L10,"") | H10: =IF(Paramètres!M10<>0,Paramètres!M10,"")
A11: =IF(Paramètres!F11<>0,Paramètres!F11,"") -> Blanquette de veau | B11: =IF(Paramètres!G11<>0,Paramètres!G11,"") -> Viande | C11: =IF(Paramètres!H11<>0,Paramètres!H11,"") -> Sauté de dinde | D11: =IF(Paramètres!I11<>0,Paramètres!I11,"") -> Viande | E11: =IF(Paramètres!J11<>0,Paramètres!J11,"") | F11: =IF(Paramètres!K11<>0,Paramètres!K11,"") | G11: =IF(Paramètres!L11<>0,Paramètres!L11,"") | H11: =IF(Paramètres!M11<>0,Paramètres!M11,"")
A12: =IF(Paramètres!F12<>0,Paramètres!F12,"") -> Filet de merlan | B12: =IF(Paramètres!G12<>0,Paramètres!G12,"") -> Poisson | C12: =IF(Paramètres!H12<>0,Paramètres!H12,"") -> Lieu | D12: =IF(Paramètres!I12<>0,Paramètres!I12,"") -> Poisson | E12: =IF(Paramètres!J12<>0,Paramètres!J12,"") | F12: =IF(Paramètres!K12<>0,Paramètres!K12,"") | G12: =IF(Paramètres!L12<>0,Paramètres!L12,"") | H12: =IF(Paramètres!M12<>0,Paramètres!M12,"")
A13: =IF(Paramètres!F13<>0,Paramètres!F13,"") -> Haricots verts | B13: =IF(Paramètres!G13<>0,Paramètres!G13,"") -> Légumes | C13: =IF(Paramètres!H13<>0,Paramètres!H13,"") | D13: =IF(Paramètres!I13<>0,Paramètres!I13,"") | E13: =IF(Paramètres!J13<>0,Paramètres!J13,"") | F13: =IF(Paramètres!K13<>0,Paramètres!K13,"") | G13: =IF(Paramètres!L13<>0,Paramètres!L13,"") | H13: =IF(Paramètres!M13<>0,Paramètres!M13,"")
A14: =IF(Paramètres!F14<>0,Paramètres!F14,"") -> Riz | B14: =IF(Paramètres!G14<>0,Paramètres!G14,"") -> Féculents | C14: =IF(Paramètres!H14<>0,Paramètres!H14,"") | D14: =IF(Paramètres!I14<>0,Paramètres!I14,"") | E14: =IF(Paramètres!J14<>0,Paramètres!J14,"") | F14: =IF(Paramètres!K14<>0,Paramètres!K14,"") | G14: =IF(Paramètres!L14<>0,Paramètres!L14,"") | H14: =IF(Paramètres!M14<>0,Paramètres!M14,"")
A15: =IF(Paramètres!F15<>0,Paramètres!F15,"") | B15: =IF(Paramètres!G15<>0,Paramètres!G15,"") | C15: =IF(Paramètres!H15<>0,Paramètres!H15,"") | D15: =IF(Paramètres!I15<>0,Paramètres!I15,"") | E15: =IF(Paramètres!J15<>0,Paramètres!J15,"") | F15: =IF(Paramètres!K15<>0,Paramètres!K15,"") | G15: =IF(Paramètres!L15<>0,Paramètres!L15,"") | H15: =IF(Paramètres!M15<>0,Paramètres!M15,"")
A16: =IF(Paramètres!F16<>0,Paramètres!F16,"") -> Yaourt à la fraise | B16: =IF(Paramètres!G16<>0,Paramètres!G16,"") -> Produits laitiers | C16: =IF(Paramètres!H16<>0,Paramètres!H16,"") | D16: =IF(Paramètres!I16<>0,Paramètres!I16,"") -> Produits laitiers | E16: =IF(Paramètres!J16<>0,Paramètres!J16,"") | F16: =IF(Paramètres!K16<>0,Paramètres!K16,"") -> Produits laitiers | G16: =IF(Paramètres!L16<>0,Paramètres!L16,"") | H16: =IF(Paramètres!M16<>0,Paramètres!M16,"") -> Produits laitiers
A17: =IF(Paramètres!F17<>0,Paramètres!F17,"") -> Yaourt à la vanille | B17: =IF(Paramètres!G17<>0,Paramètres!G17,"") -> Produits laitiers | C17: =IF(Paramètres!H17<>0,Paramètres!H17,"") | D17: =IF(Paramètres!I17<>0,Paramètres!I17,"") -> Produits laitiers | E17: =IF(Paramètres!J17<>0,Paramètres!J17,"") | F17: =IF(Paramètres!K17<>0,Paramètres!K17,"") -> Produits laitiers | G17: =IF(Paramètres!L17<>0,Paramètres!L17,"") | H17: =IF(Paramètres!M17<>0,Paramètres!M17,"") -> Produits laitiers
A18: =IF(Paramètres!F18<>0,Paramètres!F18,"") -> Leerdammer | B18: =IF(Paramètres!G18<>0,Paramètres!G18,"") -> Produits laitiers | C18: =IF(Paramètres!H18<>0,Paramètres!H18,"") | D18: =IF(Paramètres!I18<>0,Paramètres!I18,"") -> Produits laitiers | E18: =IF(Paramètres!J18<>0,Paramètres!J18,"") | F18: =IF(Paramètres!K18<>0,Paramètres!K18,"") -> Produits laitiers | G18: =IF(Paramètres!L18<>0,Paramètres!L18,"") | H18: =IF(Paramètres!M18<>0,Paramètres!M18,"") -> Produits laitiers
A19: =IF(Paramètres!F19<>0,Paramètres!F19,"") | B19: =IF(Paramètres!G19<>0,Paramètres!G19,"") | C19: =IF(Paramètres!H19<>0,Paramètres!H19,"") | D19: =IF(Paramètres!I19<>0,Paramètres!I19,"") | E19: =IF(Paramètres!J19<>0,Paramètres!J19,"") | F19: =IF(Paramètres!K19<>0,Paramètres!K19,"") | G19: =IF(Paramètres!L19<>0,Paramètres!L19,"") | H19: =IF(Paramètres!M19<>0,Paramètres!M19,"")
... A31: =IF(Paramètres!F31<>0,Paramètres!F31,"") | B31: =IF(Paramètres!G31<>0,Paramètres!G31,"") | C31: =IF(Paramètres!H31<>0,Paramètres!H31,"") | D31: =IF(Paramètres!I31<>0,Paramètres!I31,"") | E31: =IF(Paramètres!J31<>0,Paramètres!J31,"") | F31: =IF(Paramètres!K31<>0,Paramètres!K31,"") | G31: =IF(Paramètres!L31<>0,Paramètres!L31,"") | H31: =IF(Paramètres!M31<>0,Paramètres!M31,"")

Sheet Paramètres
A1: Plats chauds détaillés | B1: Plats chauds regroupés | F1: Nom de la feuille menu source : | G1: MENU
A2: Viande | B2: Plats protidiques
A3: Poisson | B3: Plats protidiques | F3: Légende : | G3: Légende :
A4: Légumes | B4: Légumes et fruits cuits
A5: Féculents | B5: Féculents | F5: Invitation : | G5: =UPPER("Bon appétit") -> BON APPÉTIT
O6: Pavés | P6: Menu confectionné | R6: Menu imprimé | T6: Décalage 1ère ligne
D7: Cible | E7: Source | F7: B | G7: C | H7: D | I7: E | J7: F | K7: G | L7: H | M7: I | P7: Nbr de lignes | Q7: 1ère ligne | R7: 1ère ligne | S7: Dernière ligne
A8: Tous plats regroupés | D8: =R8 -> 8 | E8: =_xlfn.IFS(AND($D8>=$R$12,$D8<=$S$12),$D8-$T$12,AND($D8>=$R$11,$D8<=$S$11),$D8-$T$11,AND($D8>=$R$10,$D8<=$S$10),$D8-$T$10,AND($D8>=$R$9,$D8<=$S$9),$D8-$T$9,AND($D8>=$R$8,$D8<=$S$8),$D8-$T$8,1=1,0) -> 4 | F8: =IF($E8<>0,INDIRECT("'"&MENU_SOURCE&"'!"&F$7&$E8),"") -> Salade de tomates | G8: =IF($E8<>0,INDIRECT("'"&MENU_SOURCE&"'!"&G$7&$E8),"") -> Légumes et fruits crus | H8: =IF($E8<>0,INDIRECT("'"&MENU_SOURCE&"'!"&H$7&$E8),"") -> Filets de harengs | I8: =IF($E8<>0,INDIRECT("'"&MENU_SOURCE&"'!"&I$7&$E8),"") -> Plats protidiques | J8: =IF($E8<>0,INDIRECT("'"&MENU_SOURCE&"'!"&J$7&$E8),"") -> 0 | K8: =IF($E8<>0,INDIRECT("'"&MENU_SOURCE&"'!"&K$7&$E8),"") -> 0 | L8: =IF($E8<>0,INDIRECT("'"&MENU_SOURCE&"'!"&L$7&$E8),"") -> 0 | M8: =IF($E8<>0,INDIRECT("'"&MENU_SOURCE&"'!"&M$7&$E8),"") -> 0 | O8: Entrée | P8: =MAX(COUNTIF(MENU!B4:B7,"<>"),COUNTIF(MENU!D4:D7,"<>"),COUNTIF(MENU!F4:F7,"<>"),COUNTIF(MENU!H4:H7,"<>")) -> 2 | Q8: 4 | R8: 8 | S8: =R8+$P8-1 -> 9 | T8: =R8-Q8 -> 4
A9: Plats protidiques | D9: =D8+1 -> 9 | E9: =_xlfn.IFS(AND($D9>=$R$12,$D9<=$S$12),$D9-$T$12,AND($D9>=$R$11,$D9<=$S$11),$D9-$T$11,AND($D9>=$R$10,$D9<=$S$10),$D9-$T$10,AND($D9>=$R$9,$D9<=$S$9),$D9-$T$9,AND($D9>=$R$8,$D9<=$S$8),$D9-$T$8,1=1,0) -> 5 | F9: =IF($E9<>0,INDIRECT("'"&MENU_SOURCE&"'!"&F$7&$E9),"") -> Pommes de terre en salade | G9: =IF($E9<>0,INDIRECT("'"&MENU_SOURCE&"'!"&G$7&$E9),"") -> Légumes et fruits cuits | H9: =IF($E9<>0,INDIRECT("'"&MENU_SOURCE&"'!"&H$7&$E9),"") -> 0 | I9: =IF($E9<>0,INDIRECT("'"&MENU_SOURCE&"'!"&I$7&$E9),"") -> 0 | J9: =IF($E9<>0,INDIRECT("'"&MENU_SOURCE&"'!"&J$7&$E9),"") -> 0 | K9: =IF($E9<>0,INDIRECT("'"&MENU_SOURCE&"'!"&K$7&$E9),"") -> 0 | L9: =IF($E9<>0,INDIRECT("'"&MENU_SOURCE&"'!"&L$7&$E9),"") -> 0 | M9: =IF($E9<>0,INDIRECT("'"&MENU_SOURCE&"'!"&M$7&$E9),"") -> 0 | O9: Plat | P9: =MAX(COUNTIF(MENU!B9:B14,"<>"),COUNTIF(MENU!D9:D14,"<>"),COUNTIF(MENU!F9:F14,"<>"),COUNTIF(MENU!H9:H14,"<>")) -> 4 | Q9: 9 | R9: =S8+2 -> 11 | S9: =R9+$P9-1 -> 14 | T9: =R9-Q9 -> 2
A10: Légumes et fruits cuits | D10: =D9+1 -> 10 | E10: =_xlfn.IFS(AND($D10>=$R$12,$D10<=$S$12),$D10-$T$12,AND($D10>=$R$11,$D10<=$S$11),$D10-$T$11,AND($D10>=$R$10,$D10<=$S$10),$D10-$T$10,AND($D10>=$R$9,$D10<=$S$9),$D10-$T$9,AND($D10>=$R$8,$D10<=$S$8),$D10-$T$8,1=1,0) -> 0 | F10: =IF($E10<>0,INDIRECT("'"&MENU_SOURCE&"'!"&F$7&$E10),"") | G10: =IF($E10<>0,INDIRECT("'"&MENU_SOURCE&"'!"&G$7&$E10),"") | H10: =IF($E10<>0,INDIRECT("'"&MENU_SOURCE&"'!"&H$7&$E10),"") | I10: =IF($E10<>0,INDIRECT("'"&MENU_SOURCE&"'!"&I$7&$E10),"") | J10: =IF($E10<>0,INDIRECT("'"&MENU_SOURCE&"'!"&J$7&$E10),"") | K10: =IF($E10<>0,INDIRECT("'"&MENU_SOURCE&"'!"&K$7&$E10),"") | L10: =IF($E10<>0,INDIRECT("'"&MENU_SOURCE&"'!"&L$7&$E10),"") | M10: =IF($E10<>0,INDIRECT("'"&MENU_SOURCE&"'!"&M$7&$E10),"") | O10: Fromage / Yaourt | P10: =MAX(COUNTIF(MENU!B21:B24,"<>"),COUNTIF(MENU!D21:D24,"<>"),COUNTIF(MENU!F21:F24,"<>"),COUNTIF(MENU!H21:H24,"<>")) -> 3 | Q10: 21 | R10: =S9+2 -> 16 | S10: =R10+$P10-1 -> 18 | T10: =R10-Q10 -> -5
A11: Féculents | D11: =D10+1 -> 11 | E11: =_xlfn.IFS(AND($D11>=$R$12,$D11<=$S$12),$D11-$T$12,AND($D11>=$R$11,$D11<=$S$11),$D11-$T$11,AND($D11>=$R$10,$D11<=$S$10),$D11-$T$10,AND($D11>=$R$9,$D11<=$S$9),$D11-$T$9,AND($D11>=$R$8,$D11<=$S$8),$D11-$T$8,1=1,0) -> 9 | F11: =IF($E11<>0,INDIRECT("'"&MENU_SOURCE&"'!"&F$7&$E11),"") -> Blanquette de veau | G11: =IF($E11<>0,INDIRECT("'"&MENU_SOURCE&"'!"&G$7&$E11),"") -> Viande | H11: =IF($E11<>0,INDIRECT("'"&MENU_SOURCE&"'!"&H$7&$E11),"") -> Sauté de dinde | I11: =IF($E11<>0,INDIRECT("'"&MENU_SOURCE&"'!"&I$7&$E11),"") -> Viande | J11: =IF($E11<>0,INDIRECT("'"&MENU_SOURCE&"'!"&J$7&$E11),"") -> 0 | K11: =IF($E11<>0,INDIRECT("'"&MENU_SOURCE&"'!"&K$7&$E11),"") -> 0 | L11: =IF($E11<>0,INDIRECT("'"&MENU_SOURCE&"'!"&L$7&$E11),"") -> 0 | M11: =IF($E11<>0,INDIRECT("'"&MENU_SOURCE&"'!"&M$7&$E11),"") -> 0 | O11: Dessert | P11: =MAX(COUNTIF(MENU!B16:B19,"<>"),COUNTIF(MENU!D16:D19,"<>"),COUNTIF(MENU!F16:F19,"<>"),COUNTIF(MENU!H16:H19,"<>")) -> 2 | Q11: 16 | R11: =S10+2 -> 20 | S11: =R11+$P11-1 -> 21 | T11: =R11-Q11 -> 4
A12: Légumes et fruits crus | D12: =D11+1 -> 12 | E12: =_xlfn.IFS(AND($D12>=$R$12,$D12<=$S$12),$D12-$T$12,AND($D12>=$R$11,$D12<=$S$11),$D12-$T$11,AND($D12>=$R$10,$D12<=$S$10),$D12-$T$10,AND($D12>=$R$9,$D12<=$S$9),$D12-$T$9,AND($D12>=$R$8,$D12<=$S$8),$D12-$T$8,1=1,0) -> 10 | F12: =IF($E12<>0,INDIRECT("'"&MENU_SOURCE&"'!"&F$7&$E12),"") -> Filet de merlan | G12: =IF($E12<>0,INDIRECT("'"&MENU_SOURCE&"'!"&G$7&$E12),"") -> Poisson | H12: =IF($E12<>0,INDIRECT("'"&MENU_SOURCE&"'!"&H$7&$E12),"") -> Lieu | I12: =IF($E12<>0,INDIRECT("'"&MENU_SOURCE&"'!"&I$7&$E12),"") -> Poisson | J12: =IF($E12<>0,INDIRECT("'"&MENU_SOURCE&"'!"&J$7&$E12),"") -> 0 | K12: =IF($E12<>0,INDIRECT("'"&MENU_SOURCE&"'!"&K$7&$E12),"") -> 0 | L12: =IF($E12<>0,INDIRECT("'"&MENU_SOURCE&"'!"&L$7&$E12),"") -> 0 | M12: =IF($E12<>0,INDIRECT("'"&MENU_SOURCE&"'!"&M$7&$E12),"") -> 0 | O12: Légende | P12: 3 | Q12: 28 | R12: =S11+2 -> 23 | S12: =R12+$P12-1 -> 25 | T12: =R12-Q12 -> -5
A13: Produits laitiers | D13: =D12+1 -> 13 | E13: =_xlfn.IFS(AND($D13>=$R$12,$D13<=$S$12),$D13-$T$12,AND($D13>=$R$11,$D13<=$S$11),$D13-$T$11,AND($D13>=$R$10,$D13<=$S$10),$D13-$T$10,AND($D13>=$R$9,$D13<=$S$9),$D13-$T$9,AND($D13>=$R$8,$D13<=$S$8),$D13-$T$8,1=1,0) -> 11 | F13: =IF($E13<>0,INDIRECT("'"&MENU_SOURCE&"'!"&F$7&$E13),"") -> Haricots verts | G13: =IF($E13<>0,INDIRECT("'"&MENU_SOURCE&"'!"&G$7&$E13),"") -> Légumes | H13: =IF($E13<>0,INDIRECT("'"&MENU_SOURCE&"'!"&H$7&$E13),"") -> 0 | I13: =IF($E13<>0,INDIRECT("'"&MENU_SOURCE&"'!"&I$7&$E13),"") -> 0 | J13: =IF($E13<>0,INDIRECT("'"&MENU_SOURCE&"'!"&J$7&$E13),"") -> 0 | K13: =IF($E13<>0,INDIRECT("'"&MENU_SOURCE&"'!"&K$7&$E13),"") -> 0 | L13: =IF($E13<>0,INDIRECT("'"&MENU_SOURCE&"'!"&L$7&$E13),"") -> 0 | M13: =IF($E13<>0,INDIRECT("'"&MENU_SOURCE&"'!"&M$7&$E13),"") -> 0
D14: =D13+1 -> 14 | E14: =_xlfn.IFS(AND($D14>=$R$12,$D14<=$S$12),$D14-$T$12,AND($D14>=$R$11,$D14<=$S$11),$D14-$T$11,AND($D14>=$R$10,$D14<=$S$10),$D14-$T$10,AND($D14>=$R$9,$D14<=$S$9),$D14-$T$9,AND($D14>=$R$8,$D14<=$S$8),$D14-$T$8,1=1,0) -> 12 | F14: =IF($E14<>0,INDIRECT("'"&MENU_SOURCE&"'!"&F$7&$E14),"") -> Riz | G14: =IF($E14<>0,INDIRECT("'"&MENU_SOURCE&"'!"&G$7&$E14),"") -> Féculents | H14: =IF($E14<>0,INDIRECT("'"&MENU_SOURCE&"'!"&H$7&$E14),"") -> 0 | I14: =IF($E14<>0,INDIRECT("'"&MENU_SOURCE&"'!"&I$7&$E14),"") -> 0 | J14: =IF($E14<>0,INDIRECT("'"&MENU_SOURCE&"'!"&J$7&$E14),"") -> 0 | K14: =IF($E14<>0,INDIRECT("'"&MENU_SOURCE&"'!"&K$7&$E14),"") -> 0 | L14: =IF($E14<>0,INDIRECT("'"&MENU_SOURCE&"'!"&L$7&$E14),"") -> 0 | M14: =IF($E14<>0,INDIRECT("'"&MENU_SOURCE&"'!"&M$7&$E14),"") -> 0 | O14: Sur fond jaune, les cellules à actualiser en cas de modifications de la feuille "Menu"
D15: =D14+1 -> 15 | E15: =_xlfn.IFS(AND($D15>=$R$12,$D15<=$S$12),$D15-$T$12,AND($D15>=$R$11,$D15<=$S$11),$D15-$T$11,AND($D15>=$R$10,$D15<=$S$10),$D15-$T$10,AND($D15>=$R$9,$D15<=$S$9),$D15-$T$9,AND($D15>=$R$8,$D15<=$S$8),$D15-$T$8,1=1,0) -> 0 | F15: =IF($E15<>0,INDIRECT("'"&MENU_SOURCE&"'!"&F$7&$E15),"") | G15: =IF($E15<>0,INDIRECT("'"&MENU_SOURCE&"'!"&G$7&$E15),"") | H15: =IF($E15<>0,INDIRECT("'"&MENU_SOURCE&"'!"&H$7&$E15),"") | I15: =IF($E15<>0,INDIRECT("'"&MENU_SOURCE&"'!"&I$7&$E15),"") | J15: =IF($E15<>0,INDIRECT("'"&MENU_SOURCE&"'!"&J$7&$E15),"") | K15: =IF($E15<>0,INDIRECT("'"&MENU_SOURCE&"'!"&K$7&$E15),"") | L15: =IF($E15<>0,INDIRECT("'"&MENU_SOURCE&"'!"&L$7&$E15),"") | M15: =IF($E15<>0,INDIRECT("'"&MENU_SOURCE&"'!"&M$7&$E15),"") | O15: Sur fond orange, la cellule à actualiser en cas de modification de la 1ère ligne du "Menu_à_imprimer"
A16: Tous plats détaillés | B16: Tous plats regroupés | D16: =D15+1 -> 16 | E16: =_xlfn.IFS(AND($D16>=$R$12,$D16<=$S$12),$D16-$T$12,AND($D16>=$R$11,$D16<=$S$11),$D16-$T$11,AND($D16>=$R$10,$D16<=$S$10),$D16-$T$10,AND($D16>=$R$9,$D16<=$S$9),$D16-$T$9,AND($D16>=$R$8,$D16<=$S$8),$D16-$T$8,1=1,0) -> 21 | F16: =IF($E16<>0,INDIRECT("'"&MENU_SOURCE&"'!"&F$7&$E16),"") -> Yaourt à la fraise | G16: =IF($E16<>0,INDIRECT("'"&MENU_SOURCE&"'!"&G$7&$E16),"") -> Produits laitiers | H16: =IF($E16<>0,INDIRECT("'"&MENU_SOURCE&"'!"&H$7&$E16),"") -> 0 | I16: =IF($E16<>0,INDIRECT("'"&MENU_SOURCE&"'!"&I$7&$E16),"") -> Produits laitiers | J16: =IF($E16<>0,INDIRECT("'"&MENU_SOURCE&"'!"&J$7&$E16),"") -> 0 | K16: =IF($E16<>0,INDIRECT("'"&MENU_SOURCE&"'!"&K$7&$E16),"") -> Produits laitiers | L16: =IF($E16<>0,INDIRECT("'"&MENU_SOURCE&"'!"&L$7&$E16),"") -> 0 | M16: =IF($E16<>0,INDIRECT("'"&MENU_SOURCE&"'!"&M$7&$E16),"") -> Produits laitiers
A17: Viande | B17: Plats protidiques | D17: =D16+1 -> 17 | E17: =_xlfn.IFS(AND($D17>=$R$12,$D17<=$S$12),$D17-$T$12,AND($D17>=$R$11,$D17<=$S$11),$D17-$T$11,AND($D17>=$R$10,$D17<=$S$10),$D17-$T$10,AND($D17>=$R$9,$D17<=$S$9),$D17-$T$9,AND($D17>=$R$8,$D17<=$S$8),$D17-$T$8,1=1,0) -> 22 | F17: =IF($E17<>0,INDIRECT("'"&MENU_SOURCE&"'!"&F$7&$E17),"") -> Yaourt à la vanille | G17: =IF($E17<>0,INDIRECT("'"&MENU_SOURCE&"'!"&G$7&$E17),"") -> Produits laitiers | H17: =IF($E17<>0,INDIRECT("'"&MENU_SOURCE&"'!"&H$7&$E17),"") -> 0 | I17: =IF($E17<>0,INDIRECT("'"&MENU_SOURCE&"'!"&I$7&$E17),"") -> Produits laitiers | J17: =IF($E17<>0,INDIRECT("'"&MENU_SOURCE&"'!"&J$7&$E17),"") -> 0 | K17: =IF($E17<>0,INDIRECT("'"&MENU_SOURCE&"'!"&K$7&$E17),"") -> Produits laitiers | L17: =IF($E17<>0,INDIRECT("'"&MENU_SOURCE&"'!"&L$7&$E17),"") -> 0 | M17: =IF($E17<>0,INDIRECT("'"&MENU_SOURCE&"'!"&M$7&$E17),"") -> Produits laitiers
A18: Poisson | B18: Plats protidiques | D18: =D17+1 -> 18 | E18: =_xlfn.IFS(AND($D18>=$R$12,$D18<=$S$12),$D18-$T$12,AND($D18>=$R$11,$D18<=$S$11),$D18-$T$11,AND($D18>=$R$10,$D18<=$S$10),$D18-$T$10,AND($D18>=$R$9,$D18<=$S$9),$D18-$T$9,AND($D18>=$R$8,$D18<=$S$8),$D18-$T$8,1=1,0) -> 23 | F18: =IF($E18<>0,INDIRECT("'"&MENU_SOURCE&"'!"&F$7&$E18),"") -> Leerdammer | G18: =IF($E18<>0,INDIRECT("'"&MENU_SOURCE&"'!"&G$7&$E18),"") -> Produits laitiers | H18: =IF($E18<>0,INDIRECT("'"&MENU_SOURCE&"'!"&H$7&$E18),"") -> 0 | I18: =IF($E18<>0,INDIRECT("'"&MENU_SOURCE&"'!"&I$7&$E18),"") -> Produits laitiers | J18: =IF($E18<>0,INDIRECT("'"&MENU_SOURCE&"'!"&J$7&$E18),"") -> 0 | K18: =IF($E18<>0,INDIRECT("'"&MENU_SOURCE&"'!"&K$7&$E18),"") -> Produits laitiers | L18: =IF($E18<>0,INDIRECT("'"&MENU_SOURCE&"'!"&L$7&$E18),"") -> 0 | M18: =IF($E18<>0,INDIRECT("'"&MENU_SOURCE&"'!"&M$7&$E18),"") -> Produits laitiers
A19: Légumes | B19: Légumes et fruits cuits | D19: =D18+1 -> 19 | E19: =_xlfn.IFS(AND($D19>=$R$12,$D19<=$S$12),$D19-$T$12,AND($D19>=$R$11,$D19<=$S$11),$D19-$T$11,AND($D19>=$R$10,$D19<=$S$10),$D19-$T$10,AND($D19>=$R$9,$D19<=$S$9),$D19-$T$9,AND($D19>=$R$8,$D19<=$S$8),$D19-$T$8,1=1,0) -> 0 | F19: =IF($E19<>0,INDIRECT("'"&MENU_SOURCE&"'!"&F$7&$E19),"") | G19: =IF($E19<>0,INDIRECT("'"&MENU_SOURCE&"'!"&G$7&$E19),"") | H19: =IF($E19<>0,INDIRECT("'"&MENU_SOURCE&"'!"&H$7&$E19),"") | I19: =IF($E19<>0,INDIRECT("'"&MENU_SOURCE&"'!"&I$7&$E19),"") | J19: =IF($E19<>0,INDIRECT("'"&MENU_SOURCE&"'!"&J$7&$E19),"") | K19: =IF($E19<>0,INDIRECT("'"&MENU_SOURCE&"'!"&K$7&$E19),"") | L19: =IF($E19<>0,INDIRECT("'"&MENU_SOURCE&"'!"&L$7&$E19),"") | M19: =IF($E19<>0,INDIRECT("'"&MENU_SOURCE&"'!"&M$7&$E19),"")
A20: Féculents | B20: Féculents | D20: =D19+1 -> 20 | E20: =_xlfn.IFS(AND($D20>=$R$12,$D20<=$S$12),$D20-$T$12,AND($D20>=$R$11,$D20<=$S$11),$D20-$T$11,AND($D20>=$R$10,$D20<=$S$10),$D20-$T$10,AND($D20>=$R$9,$D20<=$S$9),$D20-$T$9,AND($D20>=$R$8,$D20<=$S$8),$D20-$T$8,1=1,0) -> 16 | F20: =IF($E20<>0,INDIRECT("'"&MENU_SOURCE&"'!"&F$7&$E20),"") -> Tarte aux pommes | G20: =IF($E20<>0,INDIRECT("'"&MENU_SOURCE&"'!"&G$7&$E20),"") -> Légumes et fruits cuits | H20: =IF($E20<>0,INDIRECT("'"&MENU_SOURCE&"'!"&H$7&$E20),"") -> Corbeille de fruits | I20: =IF($E20<>0,INDIRECT("'"&MENU_SOURCE&"'!"&I$7&$E20),"") -> Légumes et fruits crus | J20: =IF($E20<>0,INDIRECT("'"&MENU_SOURCE&"'!"&J$7&$E20),"") -> 0 | K20: =IF($E20<>0,INDIRECT("'"&MENU_SOURCE&"'!"&K$7&$E20),"") -> 0 | L20: =IF($E20<>0,INDIRECT("'"&MENU_SOURCE&"'!"&L$7&$E20),"") -> s | M20: =IF($E20<>0,INDIRECT("'"&MENU_SOURCE&"'!"&M$7&$E20),"") -> Féculents
A21: Plats protidiques | B21: Plats protidiques | D21: =D20+1 -> 21 | E21: =_xlfn.IFS(AND($D21>=$R$12,$D21<=$S$12),$D21-$T$12,AND($D21>=$R$11,$D21<=$S$11),$D21-$T$11,AND($D21>=$R$10,$D21<=$S$10),$D21-$T$10,AND($D21>=$R$9,$D21<=$S$9),$D21-$T$9,AND($D21>=$R$8,$D21<=$S$8),$D21-$T$8,1=1,0) -> 17 | F21: =IF($E21<>0,INDIRECT("'"&MENU_SOURCE&"'!"&F$7&$E21),"") -> Salade de fruit frais | G21: =IF($E21<>0,INDIRECT("'"&MENU_SOURCE&"'!"&G$7&$E21),"") -> Légumes et fruits crus | H21: =IF($E21<>0,INDIRECT("'"&MENU_SOURCE&"'!"&H$7&$E21),"") -> 0 | I21: =IF($E21<>0,INDIRECT("'"&MENU_SOURCE&"'!"&I$7&$E21),"") -> 0 | J21: =IF($E21<>0,INDIRECT("'"&MENU_SOURCE&"'!"&J$7&$E21),"") -> 0 | K21: =IF($E21<>0,INDIRECT("'"&MENU_SOURCE&"'!"&K$7&$E21),"") -> 0 | L21: =IF($E21<>0,INDIRECT("'"&MENU_SOURCE&"'!"&L$7&$E21),"") -> 0 | M21: =IF($E21<>0,INDIRECT("'"&MENU_SOURCE&"'!"&M$7&$E21),"") -> 0
A22: Légumes et fruits cuits | B22: Légumes et fruits cuits | D22: =D21+1 -> 22 | E22: =_xlfn.IFS(AND($D22>=$R$12,$D22<=$S$12),$D22-$T$12,AND($D22>=$R$11,$D22<=$S$11),$D22-$T$11,AND($D22>=$R$10,$D22<=$S$10),$D22-$T$10,AND($D22>=$R$9,$D22<=$S$9),$D22-$T$9,AND($D22>=$R$8,$D22<=$S$8),$D22-$T$8,1=1,0) -> 0 | F22: =IF($E22<>0,INDIRECT("'"&MENU_SOURCE&"'!"&F$7&$E22),"") | G22: =IF($E22<>0,INDIRECT("'"&MENU_SOURCE&"'!"&G$7&$E22),"") | H22: =IF($E22<>0,INDIRECT("'"&MENU_SOURCE&"'!"&H$7&$E22),"") | I22: =IF($E22<>0,INDIRECT("'"&MENU_SOURCE&"'!"&I$7&$E22),"") | J22: =IF($E22<>0,INDIRECT("'"&MENU_SOURCE&"'!"&J$7&$E22),"") | K22: =IF($E22<>0,INDIRECT("'"&MENU_SOURCE&"'!"&K$7&$E22),"") | L22: =IF($E22<>0,INDIRECT("'"&MENU_SOURCE&"'!"&L$7&$E22),"") | M22: =IF($E22<>0,INDIRECT("'"&MENU_SOURCE&"'!"&M$7&$E22),"")
A23: Féculents | B23: Féculents | D23: =D22+1 -> 23 | E23: =_xlfn.IFS(AND($D23>=$R$12,$D23<=$S$12),$D23-$T$12,AND($D23>=$R$11,$D23<=$S$11),$D23-$T$11,AND($D23>=$R$10,$D23<=$S$10),$D23-$T$10,AND($D23>=$R$9,$D23<=$S$9),$D23-$T$9,AND($D23>=$R$8,$D23<=$S$8),$D23-$T$8,1=1,0) -> 28 | F23: =IF($E23<>0,INDIRECT("'"&MENU_SOURCE&"'!"&F$7&$E23),"") -> Légende : | G23: =IF($E23<>0,INDIRECT("'"&MENU_SOURCE&"'!"&G$7&$E23),"") -> 0 | H23: =IF($E23<>0,INDIRECT("'"&MENU_SOURCE&"'!"&H$7&$E23),"") -> Légumes et fruits crus | I23: =IF($E23<>0,INDIRECT("'"&MENU_SOURCE&"'!"&I$7&$E23),"") -> Légumes et fruits crus | J23: =IF($E23<>0,INDIRECT("'"&MENU_SOURCE&"'!"&J$7&$E23),"") -> Plats protidiques | K23: =IF($E23<>0,INDIRECT("'"&MENU_SOURCE&"'!"&K$7&$E23),"") -> Plats protidiques | L23: =IF($E23<>0,INDIRECT("'"&MENU_SOURCE&"'!"&L$7&$E23),"") -> 0 | M23: =IF($E23<>0,INDIRECT("'"&MENU_SOURCE&"'!"&M$7&$E23),"") -> 0
A24: Légumes et fruits crus | B24: Légumes et fruits crus | D24: =D23+1 -> 24 | E24: =_xlfn.IFS(AND($D24>=$R$12,$D24<=$S$12),$D24-$T$12,AND($D24>=$R$11,$D24<=$S$11),$D24-$T$11,AND($D24>=$R$10,$D24<=$S$10),$D24-$T$10,AND($D24>=$R$9,$D24<=$S$9),$D24-$T$9,AND($D24>=$R$8,$D24<=$S$8),$D24-$T$8,1=1,0) -> 29 | F24: =IF($E24<>0,INDIRECT("'"&MENU_SOURCE&"'!"&F$7&$E24),"") -> 0 | G24: =IF($E24<>0,INDIRECT("'"&MENU_SOURCE&"'!"&G$7&$E24),"") -> 0 | H24: =IF($E24<>0,INDIRECT("'"&MENU_SOURCE&"'!"&H$7&$E24),"") -> Féculents | I24: =IF($E24<>0,INDIRECT("'"&MENU_SOURCE&"'!"&I$7&$E24),"") -> Féculents | J24: =IF($E24<>0,INDIRECT("'"&MENU_SOURCE&"'!"&J$7&$E24),"") -> Produits laitiers | K24: =IF($E24<>0,INDIRECT("'"&MENU_SOURCE&"'!"&K$7&$E24),"") -> Produits laitiers | L24: =IF($E24<>0,INDIRECT("'"&MENU_SOURCE&"'!"&L$7&$E24),"") -> 0 | M24: =IF($E24<>0,INDIRECT("'"&MENU_SOURCE&"'!"&M$7&$E24),"") -> 0
A25: Produits laitiers | B25: Produits laitiers | D25: =D24+1 -> 25 | E25: =_xlfn.IFS(AND($D25>=$R$12,$D25<=$S$12),$D25-$T$12,AND($D25>=$R$11,$D25<=$S$11),$D25-$T$11,AND($D25>=$R$10,$D25<=$S$10),$D25-$T$10,AND($D25>=$R$9,$D25<=$S$9),$D25-$T$9,AND($D25>=$R$8,$D25<=$S$8),$D25-$T$8,1=1,0) -> 30 | F25: =IF($E25<>0,INDIRECT("'"&MENU_SOURCE&"'!"&F$7&$E25),"") -> 0 | G25: =IF($E25<>0,INDIRECT("'"&MENU_SOURCE&"'!"&G$7&$E25),"") -> 0 | H25: =IF($E25<>0,INDIRECT("'"&MENU_SOURCE&"'!"&H$7&$E25),"") -> Légumes et fruits cuits | I25: =IF($E25<>0,INDIRECT("'"&MENU_SOURCE&"'!"&I$7&$E25),"") -> Légumes et fruits cuits | J25: =IF($E25<>0,INDIRECT("'"&MENU_SOURCE&"'!"&J$7&$E25),"") -> 0 | K25: =IF($E25<>0,INDIRECT("'"&MENU_SOURCE&"'!"&K$7&$E25),"") -> 0 | L25: =IF($E25<>0,INDIRECT("'"&MENU_SOURCE&"'!"&L$7&$E25),"") -> BON APPÉTIT | M25: =IF($E25<>0,INDIRECT("'"&MENU_SOURCE&"'!"&M$7&$E25),"") -> 0
D26: =D25+1 -> 26 | E26: =_xlfn.IFS(AND($D26>=$R$12,$D26<=$S$12),$D26-$T$12,AND($D26>=$R$11,$D26<=$S$11),$D26-$T$11,AND($D26>=$R$10,$D26<=$S$10),$D26-$T$10,AND($D26>=$R$9,$D26<=$S$9),$D26-$T$9,AND($D26>=$R$8,$D26<=$S$8),$D26-$T$8,1=1,0) -> 0 | F26: =IF($E26<>0,INDIRECT("'"&MENU_SOURCE&"'!"&F$7&$E26),"") | G26: =IF($E26<>0,INDIRECT("'"&MENU_SOURCE&"'!"&G$7&$E26),"") | H26: =IF($E26<>0,INDIRECT("'"&MENU_SOURCE&"'!"&H$7&$E26),"") | I26: =IF($E26<>0,INDIRECT("'"&MENU_SOURCE&"'!"&I$7&$E26),"") | J26: =IF($E26<>0,INDIRECT("'"&MENU_SOURCE&"'!"&J$7&$E26),"") | K26: =IF($E26<>0,INDIRECT("'"&MENU_SOURCE&"'!"&K$7&$E26),"") | L26: =IF($E26<>0,INDIRECT("'"&MENU_SOURCE&"'!"&L$7&$E26),"") | M26: =IF($E26<>0,INDIRECT("'"&MENU_SOURCE&"'!"&M$7&$E26),"")
D27: =D26+1 -> 27 | E27: =_xlfn.IFS(AND($D27>=$R$12,$D27<=$S$12),$D27-$T$12,AND($D27>=$R$11,$D27<=$S$11),$D27-$T$11,AND($D27>=$R$10,$D27<=$S$10),$D27-$T$10,AND($D27>=$R$9,$D27<=$S$9),$D27-$T$9,AND($D27>=$R$8,$D27<=$S$8),$D27-$T$8,1=1,0) -> 0 | F27: =IF($E27<>0,INDIRECT("'"&MENU_SOURCE&"'!"&F$7&$E27),"") | G27: =IF($E27<>0,INDIRECT("'"&MENU_SOURCE&"'!"&G$7&$E27),"") | H27: =IF($E27<>0,INDIRECT("'"&MENU_SOURCE&"'!"&H$7&$E27),"") | I27: =IF($E27<>0,INDIRECT("'"&MENU_SOURCE&"'!"&I$7&$E27),"") | J27: =IF($E27<>0,INDIRECT("'"&MENU_SOURCE&"'!"&J$7&$E27),"") | K27: =IF($E27<>0,INDIRECT("'"&MENU_SOURCE&"'!"&K$7&$E27),"") | L27: =IF($E27<>0,INDIRECT("'"&MENU_SOURCE&"'!"&L$7&$E27),"") | M27: =IF($E27<>0,INDIRECT("'"&MENU_SOURCE&"'!"&M$7&$E27),"")
D28: =D27+1 -> 28 | E28: =_xlfn.IFS(AND($D28>=$R$12,$D28<=$S$12),$D28-$T$12,AND($D28>=$R$11,$D28<=$S$11),$D28-$T$11,AND($D28>=$R$10,$D28<=$S$10),$D28-$T$10,AND($D28>=$R$9,$D28<=$S$9),$D28-$T$9,AND($D28>=$R$8,$D28<=$S$8),$D28-$T$8,1=1,0) -> 0 | F28: =IF($E28<>0,INDIRECT("'"&MENU_SOURCE&"'!"&F$7&$E28),"") | G28: =IF($E28<>0,INDIRECT("'"&MENU_SOURCE&"'!"&G$7&$E28),"") | H28: =IF($E28<>0,INDIRECT("'"&MENU_SOURCE&"'!"&H$7&$E28),"") | I28: =IF($E28<>0,INDIRECT("'"&MENU_SOURCE&"'!"&I$7&$E28),"") | J28: =IF($E28<>0,INDIRECT("'"&MENU_SOURCE&"'!"&J$7&$E28),"") | K28: =IF($E28<>0,INDIRECT("'"&MENU_SOURCE&"'!"&K$7&$E28),"") | L28: =IF($E28<>0,INDIRECT("'"&MENU_SOURCE&"'!"&L$7&$E28),"") | M28: =IF($E28<>0,INDIRECT("'"&MENU_SOURCE&"'!"&M$7&$E28),"")
D29: =D28+1 -> 29 | E29: =_xlfn.IFS(AND($D29>=$R$12,$D29<=$S$12),$D29-$T$12,AND($D29>=$R$11,$D29<=$S$11),$D29-$T$11,AND($D29>=$R$10,$D29<=$S$10),$D29-$T$10,AND($D29>=$R$9,$D29<=$S$9),$D29-$T$9,AND($D29>=$R$8,$D29<=$S$8),$D29-$T$8,1=1,0) -> 0 | F29: =IF($E29<>0,INDIRECT("'"&MENU_SOURCE&"'!"&F$7&$E29),"") | G29: =IF($E29<>0,INDIRECT("'"&MENU_SOURCE&"'!"&G$7&$E29),"") | H29: =IF($E29<>0,INDIRECT("'"&MENU_SOURCE&"'!"&H$7&$E29),"") | I29: =IF($E29<>0,INDIRECT("'"&MENU_SOURCE&"'!"&I$7&$E29),"") | J29: =IF($E29<>0,INDIRECT("'"&MENU_SOURCE&"'!"&J$7&$E29),"") | K29: =IF($E29<>0,INDIRECT("'"&MENU_SOURCE&"'!"&K$7&$E29),"") | L29: =IF($E29<>0,INDIRECT("'"&MENU_SOURCE&"'!"&L$7&$E29),"") | M29: =IF($E29<>0,INDIRECT("'"&MENU_SOURCE&"'!"&M$7&$E29),"")
D30: =D29+1 -> 30 | E30: =_xlfn.IFS(AND($D30>=$R$12,$D30<=$S$12),$D30-$T$12,AND($D30>=$R$11,$D30<=$S$11),$D30-$T$11,AND($D30>=$R$10,$D30<=$S$10),$D30-$T$10,AND($D30>=$R$9,$D30<=$S$9),$D30-$T$9,AND($D30>=$R$8,$D30<=$S$8),$D30-$T$8,1=1,0) -> 0 | F30: =IF($E30<>0,INDIRECT("'"&MENU_SOURCE&"'!"&F$7&$E30),"") | G30: =IF($E30<>0,INDIRECT("'"&MENU_SOURCE&"'!"&G$7&$E30),"") | H30: =IF($E30<>0,INDIRECT("'"&MENU_SOURCE&"'!"&H$7&$E30),"") | I30: =IF($E30<>0,INDIRECT("'"&MENU_SOURCE&"'!"&I$7&$E30),"") | J30: =IF($E30<>0,INDIRECT("'"&MENU_SOURCE&"'!"&J$7&$E30),"") | K30: =IF($E30<>0,INDIRECT("'"&MENU_SOURCE&"'!"&K$7&$E30),"") | L30: =IF($E30<>0,INDIRECT("'"&MENU_SOURCE&"'!"&L$7&$E30),"") | M30: =IF($E30<>0,INDIRECT("'"&MENU_SOURCE&"'!"&M$7&$E30),"")
D31: =D30+1 -> 31 | E31: =_xlfn.IFS(AND($D31>=$R$12,$D31<=$S$12),$D31-$T$12,AND($D31>=$R$11,$D31<=$S$11),$D31-$T$11,AND($D31>=$R$10,$D31<=$S$10),$D31-$T$10,AND($D31>=$R$9,$D31<=$S$9),$D31-$T$9,AND($D31>=$R$8,$D31<=$S$8),$D31-$T$8,1=1,0) -> 0 | F31: =IF($E31<>0,INDIRECT("'"&MENU_SOURCE&"'!"&F$7&$E31),"") | G31: =IF($E31<>0,INDIRECT("'"&MENU_SOURCE&"'!"&G$7&$E31),"") | H31: =IF($E31<>0,INDIRECT("'"&MENU_SOURCE&"'!"&H$7&$E31),"") | I31: =IF($E31<>0,INDIRECT("'"&MENU_SOURCE&"'!"&I$7&$E31),"") | J31: =IF($E31<>0,INDIRECT("'"&MENU_SOURCE&"'!"&J$7&$E31),"") | K31: =IF($E31<>0,INDIRECT("'"&MENU_SOURCE&"'!"&K$7&$E31),"") | L31: =IF($E31<>0,INDIRECT("'"&MENU_SOURCE&"'!"&L$7&$E31),"") | M31: =IF($E31<>0,INDIRECT("'"&MENU_SOURCE&"'!"&M$7&$E31),"")
