Workbook

Sheet Projets
K1: Complexité | L1: Total projets en cours | M1: Nombre d'heures | N1: Total projets terminés
I2: FOLLOW UP PACK | K2: 1 | L2: =SUMIFS(A:A,H:H,K2) -> 0 | M2: =L2*1 -> 0 | N2: =SUMIFS($E:$E,$B:$B,1,$H:$H,$K2) -> 0
K3: 2 | L3: =SUMIFS(A:A,H:H,K3) -> 0 | M3: =L3*3 -> 0 | N3: =SUMIFS($E:$E,$B:$B,1,$H:$H,$K3) -> 0
I4: Projets en cours | K4: 3 | L4: =SUMIFS(A:A,H:H,K4) -> 0 | M4: =L4*10 -> 0 | N4: =SUMIFS($E:$E,$B:$B,1,$H:$H,$K4) -> 10
I5: Total projet | J5: Total heures | K5: 4 | L5: =SUMIFS(A:A,H:H,K5) -> 1 | M5: =L5*20 -> 20 | N5: =SUMIFS($E:$E,$B:$B,1,$H:$H,$K5) -> 0
I6: =SUM(M2:M6) -> 60 | J6: =SUM(N2:N6) -> 10 | K6: 5 | L6: =SUMIFS(A:A,H:H,K6) -> 1 | M6: =L6*40 -> 40 | N6: =SUMIFS($E:$E,$B:$B,1,$H:$H,$K6) -> 0
H10: SUIVI PROJETS SERVICE PACK
A11: Cpteur en cours | B11: Cpteur terminé | C11: Date fin prévue ou réelle | D11: Nbre de mois | E11: Charge totale | F11: Charge par mois | G11: Terminé | H11: Complexité | I11: nb d'heure théorique | J11: DATE debut PROJET | K11: Code | L11: Libéllé | M11: Date fin projet estimée | N11: Date MAD | O11: Site de production | P11: AO ou attribué | Q11: Durée du projet | R11: Nombre de jours supplémentaires
A12: =1-T_PROJETS[[#This Row],[Cpteur terminé]] -> 1 | B12: =IF(T_PROJETS[[#This Row],[Terminé]]<>"",1,0) -> 0 | C12: =IF(T_PROJETS[[#This Row],[Cpteur terminé]]=1,T_PROJETS[[#This Row],[Terminé]],T_PROJETS[[#This Row],[Date fin projet estimée]]) -> 45291 | D12: =((YEAR(T_PROJETS[[#This Row],[Date fin prévue ou réelle]])*12)+MONTH(T_PROJETS[[#This Row],[Date fin prévue ou réelle]]))-((YEAR(T_PROJETS[[#This Row],[DATE debut PROJET]])*12)+MONTH(T_PROJETS[[#This Row],[DATE debut PROJET]]))+1 -> 7 | E12: =T_PROJETS[[#This Row],[nb d''heure théorique]]+T_PROJETS[[#This Row],[Nombre de jours supplémentaires]] -> 40 | F12: =T_PROJETS[[#This Row],[Charge totale]]/T_PROJETS[[#This Row],[Nbre de mois]] -> 5.7142857 | H12: 5 | I12: =IFERROR(VLOOKUP(T_PROJETS[[#This Row],[Complexité]],DATA!$A:$B,2,0),"-") -> 40 | J12: 45078 | L12: aaaa | M12: =IFERROR(DATE(YEAR(T_PROJETS[[#This Row],[DATE debut PROJET]]),MONTH(T_PROJETS[[#This Row],[DATE debut PROJET]])+VLOOKUP(T_PROJETS[[#This Row],[Complexité]],DATA!$A:$C,3,0),DAY(T_PROJETS[[#This Row],[DATE debut PROJET]]))-1,"") -> 45291
A13: =1-T_PROJETS[[#This Row],[Cpteur terminé]] -> 1 | B13: =IF(T_PROJETS[[#This Row],[Terminé]]<>"",1,0) -> 0 | C13: =IF(T_PROJETS[[#This Row],[Cpteur terminé]]=1,T_PROJETS[[#This Row],[Terminé]],T_PROJETS[[#This Row],[Date fin projet estimée]]) -> 45295 | D13: =((YEAR(T_PROJETS[[#This Row],[Date fin prévue ou réelle]])*12)+MONTH(T_PROJETS[[#This Row],[Date fin prévue ou réelle]]))-((YEAR(T_PROJETS[[#This Row],[DATE debut PROJET]])*12)+MONTH(T_PROJETS[[#This Row],[DATE debut PROJET]]))+1 -> 8 | E13: =T_PROJETS[[#This Row],[nb d''heure théorique]]+T_PROJETS[[#This Row],[Nombre de jours supplémentaires]] -> 20 | F13: =T_PROJETS[[#This Row],[Charge totale]]/T_PROJETS[[#This Row],[Nbre de mois]] -> 2.5 | H13: 4 | I13: =IFERROR(VLOOKUP(T_PROJETS[[#This Row],[Complexité]],DATA!$A:$B,2,0),"-") -> 20 | J13: 45082 | L13: bbbb | M13: =IFERROR(DATE(YEAR(T_PROJETS[[#This Row],[DATE debut PROJET]]),MONTH(T_PROJETS[[#This Row],[DATE debut PROJET]])+VLOOKUP(T_PROJETS[[#This Row],[Complexité]],DATA!$A:$C,3,0),DAY(T_PROJETS[[#This Row],[DATE debut PROJET]]))-1,"") -> 45295
A14: =1-T_PROJETS[[#This Row],[Cpteur terminé]] -> 0 | B14: =IF(T_PROJETS[[#This Row],[Terminé]]<>"",1,0) -> 1 | C14: =IF(T_PROJETS[[#This Row],[Cpteur terminé]]=1,T_PROJETS[[#This Row],[Terminé]],T_PROJETS[[#This Row],[Date fin projet estimée]]) -> 45107 | D14: =((YEAR(T_PROJETS[[#This Row],[Date fin prévue ou réelle]])*12)+MONTH(T_PROJETS[[#This Row],[Date fin prévue ou réelle]]))-((YEAR(T_PROJETS[[#This Row],[DATE debut PROJET]])*12)+MONTH(T_PROJETS[[#This Row],[DATE debut PROJET]]))+1 -> 3 | E14: =T_PROJETS[[#This Row],[nb d''heure théorique]]+T_PROJETS[[#This Row],[Nombre de jours supplémentaires]] -> 10 | F14: =T_PROJETS[[#This Row],[Charge totale]]/T_PROJETS[[#This Row],[Nbre de mois]] -> 3.3333333 | G14: 45107 | H14: 3 | I14: =IFERROR(VLOOKUP(T_PROJETS[[#This Row],[Complexité]],DATA!$A:$B,2,0),"-") -> 10 | J14: 45017 | L14: cccc | M14: =IFERROR(DATE(YEAR(T_PROJETS[[#This Row],[DATE debut PROJET]]),MONTH(T_PROJETS[[#This Row],[DATE debut PROJET]])+VLOOKUP(T_PROJETS[[#This Row],[Complexité]],DATA!$A:$C,3,0),DAY(T_PROJETS[[#This Row],[DATE debut PROJET]]))-1,"") -> 45169

Sheet Charges
C1: =EDATE(C2,1)-1 -> 44957 | D1: =EDATE(D2,1)-1 -> 44985 | E1: =EDATE(E2,1)-1 -> 45016 | F1: =EDATE(F2,1)-1 -> 45046 | G1: =EDATE(G2,1)-1 -> 45077 | H1: =EDATE(H2,1)-1 -> 45107 | I1: =EDATE(I2,1)-1 -> 45138 | J1: =EDATE(J2,1)-1 -> 45169 | ... W1: =EDATE(W2,1)-1 -> 45565
A2: Type projet | B2: nv compexité | C2: 44927 | D2: 44958 | E2: 44986 | F2: 45017 | G2: 45047 | H2: 45078 | I2: 45108 | J2: 45139 | K2: 45170 | L2: 45200 | M2: 45231 | N2: 45261 | O2: 45292 | P2: 45323 | Q2: 45352 | R2: 45383 | S2: 45413 | T2: 45444 | U2: 45474 | V2: 45505 | W2: 45536
A3: 1 = CUS < 1h = 1 mois | B3: 1 | C3: =SUMIFS(T_PROJETS[Charge par mois],T_PROJETS[Complexité],Charges!$B3,T_PROJETS[DATE debut PROJET],"<="&Charges!C$1,T_PROJETS[Date fin prévue ou réelle],">="&Charges!C$2) -> 0 | D3: =SUMIFS(T_PROJETS[Charge par mois],T_PROJETS[Complexité],Charges!$B3,T_PROJETS[DATE debut PROJET],"<="&Charges!D$1,T_PROJETS[Date fin prévue ou réelle],">="&Charges!D$2) -> 0 | E3: =SUMIFS(T_PROJETS[Charge par mois],T_PROJETS[Complexité],Charges!$B3,T_PROJETS[DATE debut PROJET],"<="&Charges!E$1,T_PROJETS[Date fin prévue ou réelle],">="&Charges!E$2) -> 0 | F3: =SUMIFS(T_PROJETS[Charge par mois],T_PROJETS[Complexité],Charges!$B3,T_PROJETS[DATE debut PROJET],"<="&Charges!F$1,T_PROJETS[Date fin prévue ou réelle],">="&Charges!F$2) -> 0 | G3: =SUMIFS(T_PROJETS[Charge par mois],T_PROJETS[Complexité],Charges!$B3,T_PROJETS[DATE debut PROJET],"<="&Charges!G$1,T_PROJETS[Date fin prévue ou réelle],">="&Charges!G$2) -> 0 | H3: =SUMIFS(T_PROJETS[Charge par mois],T_PROJETS[Complexité],Charges!$B3,T_PROJETS[DATE debut PROJET],"<="&Charges!H$1,T_PROJETS[Date fin prévue ou réelle],">="&Charges!H$2) -> 0 | I3: =SUMIFS(T_PROJETS[Charge par mois],T_PROJETS[Complexité],Charges!$B3,T_PROJETS[DATE debut PROJET],"<="&Charges!I$1,T_PROJETS[Date fin prévue ou réelle],">="&Charges!I$2) -> 0 | J3: =SUMIFS(T_PROJETS[Charge par mois],T_PROJETS[Complexité],Charges!$B3,T_PROJETS[DATE debut PROJET],"<="&Charges!J$1,T_PROJETS[Date fin prévue ou réelle],">="&Charges!J$2) -> 0 | ... W3: =SUMIFS(T_PROJETS[Charge par mois],T_PROJETS[Complexité],Charges!$B3,T_PROJETS[DATE debut PROJET],"<="&Charges!W$1,T_PROJETS[Date fin prévue ou réelle],">="&Charges!W$2) -> 0
A4: 2 = Décors < 3h = 2 mois | B4: 2 | C4: =SUMIFS(T_PROJETS[Charge par mois],T_PROJETS[Complexité],Charges!$B4,T_PROJETS[DATE debut PROJET],"<="&Charges!C$1,T_PROJETS[Date fin prévue ou réelle],">="&Charges!C$2) -> 0 | D4: =SUMIFS(T_PROJETS[Charge par mois],T_PROJETS[Complexité],Charges!$B4,T_PROJETS[DATE debut PROJET],"<="&Charges!D$1,T_PROJETS[Date fin prévue ou réelle],">="&Charges!D$2) -> 0 | E4: =SUMIFS(T_PROJETS[Charge par mois],T_PROJETS[Complexité],Charges!$B4,T_PROJETS[DATE debut PROJET],"<="&Charges!E$1,T_PROJETS[Date fin prévue ou réelle],">="&Charges!E$2) -> 0 | F4: =SUMIFS(T_PROJETS[Charge par mois],T_PROJETS[Complexité],Charges!$B4,T_PROJETS[DATE debut PROJET],"<="&Charges!F$1,T_PROJETS[Date fin prévue ou réelle],">="&Charges!F$2) -> 0 | G4: =SUMIFS(T_PROJETS[Charge par mois],T_PROJETS[Complexité],Charges!$B4,T_PROJETS[DATE debut PROJET],"<="&Charges!G$1,T_PROJETS[Date fin prévue ou réelle],">="&Charges!G$2) -> 0 | H4: =SUMIFS(T_PROJETS[Charge par mois],T_PROJETS[Complexité],Charges!$B4,T_PROJETS[DATE debut PROJET],"<="&Charges!H$1,T_PROJETS[Date fin prévue ou réelle],">="&Charges!H$2) -> 0 | I4: =SUMIFS(T_PROJETS[Charge par mois],T_PROJETS[Complexité],Charges!$B4,T_PROJETS[DATE debut PROJET],"<="&Charges!I$1,T_PROJETS[Date fin prévue ou réelle],">="&Charges!I$2) -> 0 | J4: =SUMIFS(T_PROJETS[Charge par mois],T_PROJETS[Complexité],Charges!$B4,T_PROJETS[DATE debut PROJET],"<="&Charges!J$1,T_PROJETS[Date fin prévue ou réelle],">="&Charges!J$2) -> 0 | ... W4: =SUMIFS(T_PROJETS[Charge par mois],T_PROJETS[Complexité],Charges!$B4,T_PROJETS[DATE debut PROJET],"<="&Charges!W$1,T_PROJETS[Date fin prévue ou réelle],">="&Charges!W$2) -> 0
A5: 3 = Semi full service < 10h = 5 mois | B5: 3 | C5: =SUMIFS(T_PROJETS[Charge par mois],T_PROJETS[Complexité],Charges!$B5,T_PROJETS[DATE debut PROJET],"<="&Charges!C$1,T_PROJETS[Date fin prévue ou réelle],">="&Charges!C$2) -> 0 | D5: =SUMIFS(T_PROJETS[Charge par mois],T_PROJETS[Complexité],Charges!$B5,T_PROJETS[DATE debut PROJET],"<="&Charges!D$1,T_PROJETS[Date fin prévue ou réelle],">="&Charges!D$2) -> 0 | E5: =SUMIFS(T_PROJETS[Charge par mois],T_PROJETS[Complexité],Charges!$B5,T_PROJETS[DATE debut PROJET],"<="&Charges!E$1,T_PROJETS[Date fin prévue ou réelle],">="&Charges!E$2) -> 0 | F5: =SUMIFS(T_PROJETS[Charge par mois],T_PROJETS[Complexité],Charges!$B5,T_PROJETS[DATE debut PROJET],"<="&Charges!F$1,T_PROJETS[Date fin prévue ou réelle],">="&Charges!F$2) -> 3.3333333 | G5: =SUMIFS(T_PROJETS[Charge par mois],T_PROJETS[Complexité],Charges!$B5,T_PROJETS[DATE debut PROJET],"<="&Charges!G$1,T_PROJETS[Date fin prévue ou réelle],">="&Charges!G$2) -> 3.3333333 | H5: =SUMIFS(T_PROJETS[Charge par mois],T_PROJETS[Complexité],Charges!$B5,T_PROJETS[DATE debut PROJET],"<="&Charges!H$1,T_PROJETS[Date fin prévue ou réelle],">="&Charges!H$2) -> 3.3333333 | I5: =SUMIFS(T_PROJETS[Charge par mois],T_PROJETS[Complexité],Charges!$B5,T_PROJETS[DATE debut PROJET],"<="&Charges!I$1,T_PROJETS[Date fin prévue ou réelle],">="&Charges!I$2) -> 0 | J5: =SUMIFS(T_PROJETS[Charge par mois],T_PROJETS[Complexité],Charges!$B5,T_PROJETS[DATE debut PROJET],"<="&Charges!J$1,T_PROJETS[Date fin prévue ou réelle],">="&Charges!J$2) -> 0 | ... W5: =SUMIFS(T_PROJETS[Charge par mois],T_PROJETS[Complexité],Charges!$B5,T_PROJETS[DATE debut PROJET],"<="&Charges!W$1,T_PROJETS[Date fin prévue ou réelle],">="&Charges!W$2) -> 0
A6: 4 = Full service simple < 20h = 7 mois | B6: 4 | C6: =SUMIFS(T_PROJETS[Charge par mois],T_PROJETS[Complexité],Charges!$B6,T_PROJETS[DATE debut PROJET],"<="&Charges!C$1,T_PROJETS[Date fin prévue ou réelle],">="&Charges!C$2) -> 0 | D6: =SUMIFS(T_PROJETS[Charge par mois],T_PROJETS[Complexité],Charges!$B6,T_PROJETS[DATE debut PROJET],"<="&Charges!D$1,T_PROJETS[Date fin prévue ou réelle],">="&Charges!D$2) -> 0 | E6: =SUMIFS(T_PROJETS[Charge par mois],T_PROJETS[Complexité],Charges!$B6,T_PROJETS[DATE debut PROJET],"<="&Charges!E$1,T_PROJETS[Date fin prévue ou réelle],">="&Charges!E$2) -> 0 | F6: =SUMIFS(T_PROJETS[Charge par mois],T_PROJETS[Complexité],Charges!$B6,T_PROJETS[DATE debut PROJET],"<="&Charges!F$1,T_PROJETS[Date fin prévue ou réelle],">="&Charges!F$2) -> 0 | G6: =SUMIFS(T_PROJETS[Charge par mois],T_PROJETS[Complexité],Charges!$B6,T_PROJETS[DATE debut PROJET],"<="&Charges!G$1,T_PROJETS[Date fin prévue ou réelle],">="&Charges!G$2) -> 0 | H6: =SUMIFS(T_PROJETS[Charge par mois],T_PROJETS[Complexité],Charges!$B6,T_PROJETS[DATE debut PROJET],"<="&Charges!H$1,T_PROJETS[Date fin prévue ou réelle],">="&Charges!H$2) -> 2.5 | I6: =SUMIFS(T_PROJETS[Charge par mois],T_PROJETS[Complexité],Charges!$B6,T_PROJETS[DATE debut PROJET],"<="&Charges!I$1,T_PROJETS[Date fin prévue ou réelle],">="&Charges!I$2) -> 2.5 | J6: =SUMIFS(T_PROJETS[Charge par mois],T_PROJETS[Complexité],Charges!$B6,T_PROJETS[DATE debut PROJET],"<="&Charges!J$1,T_PROJETS[Date fin prévue ou réelle],">="&Charges!J$2) -> 2.5 | ... W6: =SUMIFS(T_PROJETS[Charge par mois],T_PROJETS[Complexité],Charges!$B6,T_PROJETS[DATE debut PROJET],"<="&Charges!W$1,T_PROJETS[Date fin prévue ou réelle],">="&Charges!W$2) -> 0
A7: 5 = Full service complexe < 40h = 7 mois | B7: 5 | C7: =SUMIFS(T_PROJETS[Charge par mois],T_PROJETS[Complexité],Charges!$B7,T_PROJETS[DATE debut PROJET],"<="&Charges!C$1,T_PROJETS[Date fin prévue ou réelle],">="&Charges!C$2) -> 0 | D7: =SUMIFS(T_PROJETS[Charge par mois],T_PROJETS[Complexité],Charges!$B7,T_PROJETS[DATE debut PROJET],"<="&Charges!D$1,T_PROJETS[Date fin prévue ou réelle],">="&Charges!D$2) -> 0 | E7: =SUMIFS(T_PROJETS[Charge par mois],T_PROJETS[Complexité],Charges!$B7,T_PROJETS[DATE debut PROJET],"<="&Charges!E$1,T_PROJETS[Date fin prévue ou réelle],">="&Charges!E$2) -> 0 | F7: =SUMIFS(T_PROJETS[Charge par mois],T_PROJETS[Complexité],Charges!$B7,T_PROJETS[DATE debut PROJET],"<="&Charges!F$1,T_PROJETS[Date fin prévue ou réelle],">="&Charges!F$2) -> 0 | G7: =SUMIFS(T_PROJETS[Charge par mois],T_PROJETS[Complexité],Charges!$B7,T_PROJETS[DATE debut PROJET],"<="&Charges!G$1,T_PROJETS[Date fin prévue ou réelle],">="&Charges!G$2) -> 0 | H7: =SUMIFS(T_PROJETS[Charge par mois],T_PROJETS[Complexité],Charges!$B7,T_PROJETS[DATE debut PROJET],"<="&Charges!H$1,T_PROJETS[Date fin prévue ou réelle],">="&Charges!H$2) -> 5.7142857 | I7: =SUMIFS(T_PROJETS[Charge par mois],T_PROJETS[Complexité],Charges!$B7,T_PROJETS[DATE debut PROJET],"<="&Charges!I$1,T_PROJETS[Date fin prévue ou réelle],">="&Charges!I$2) -> 5.7142857 | J7: =SUMIFS(T_PROJETS[Charge par mois],T_PROJETS[Complexité],Charges!$B7,T_PROJETS[DATE debut PROJET],"<="&Charges!J$1,T_PROJETS[Date fin prévue ou réelle],">="&Charges!J$2) -> 5.7142857 | ... W7: =SUMIFS(T_PROJETS[Charge par mois],T_PROJETS[Complexité],Charges!$B7,T_PROJETS[DATE debut PROJET],"<="&Charges!W$1,T_PROJETS[Date fin prévue ou réelle],">="&Charges!W$2) -> 0
B8: nv compexité | C8: (Tous)
B10: Valeurs
B11: Somme de janv.-23 | C11: 0
B12: Somme de févr.-23 | C12: 0
B13: Somme de mars-23 | C13: 0
B14: Somme de avr.-23 | C14: 3.3333333
B15: Somme de mai-23 | C15: 3.3333333
B16: Somme de juin-23 | C16: 11.547619
B17: Somme de juil.-23 | C17: 8.2142857
B18: Somme de août-23 | C18: 8.2142857
B19: Somme de sept.-23 | C19: 8.2142857
B20: Somme de oct.-23 | C20: 8.2142857
B21: Somme de nov.-23 | C21: 8.2142857
B22: Somme de déc.-23 | C22: 8.2142857
B23: Somme de janv.-24 | C23: 2.5

Sheet DATA
A1: Complexité | B1: Nombre d'heures | C1: nb de mois
A2: 1 | B2: 1 | C2: 1
A3: 2 | B3: 3 | C3: 2
A4: 3 | B4: 10 | C4: 5
A5: 4 | B5: 20 | C5: 7
A6: 5 | B6: 40 | C6: 7
