Workbook

Sheet 2023
A1: TABLEAU CALCUL BON DE TRAVAIL POUR FACTURATION
A3: # BON DE TRAVAIL | B3: DATE | C3: PRODUITS | D3: QUANTITÉS | E3: TAUX | F3: $ TOTAL PRODUIT | G3: HEURE DÉBUT | H3: HEURE FIN | I3: DÎNER | J3: TOTAL HEURES | K3: NOMBRE EMPLOYÉS | L3: $ | M3: $ AVANT TAXES | N3: NOTES
A5: 0200 | B5: 44999 | C5: Sable Verre Recyclé 30/60 | D5: 20 | E5: =VLOOKUP(C5,PRODUITS!A1:B54,2,FALSE) -> 6.43 | F5: =D5*E5 -> 128.6 | G5: 0.23958333 | H5: 0.66666667 | I5: OUI | J5: =H5-G5-COUNTIF(I5,"OUI")/24/60*30 -> 0.40625 | K5: 2 | L5: =IF(K5=2,"225$","125$") -> 225$ | M5: =F5+(J5*24*L5) -> 2322.35
A6: 0275 | B6: 44998 | C6: Sable Verre Recyclé 30/60 | D6: 10 | E6: =VLOOKUP(C6,PRODUITS!A2:B55,2,FALSE) -> 6.43 | F6: =D6*E6 -> 64.3 | G6: 0.23958333 | H6: 0.65625 | I6: OUI | J6: =H6-G6-COUNTIF(I6,"OUI")/24/60*30 -> 0.39583333 | K6: 2 | L6: =IF(K6=2,"225$","125$") -> 225$ | M6: =F6+(J6*24*L6) -> 2201.8
A7: 0276 | B7: 45000 | C7: Sable Verre Recyclé 30/60 | D7: 31 | E7: =VLOOKUP(C7,PRODUITS!A3:B56,2,FALSE) -> 6.43 | F7: =D7*E7 -> 199.33 | G7: 0.23958333 | H7: 0.65625 | I7: OUI | J7: =H7-G7-COUNTIF(I7,"OUI")/24/60*30 -> 0.39583333 | K7: 2 | L7: =IF(K7=2,"225$","125$") -> 225$ | M7: =F7+(J7*24*L7) -> 2336.83
A8: 0277 | B8: 45001 | C8: Sable Verre Recyclé 30/60 | D8: 15 | E8: =VLOOKUP(C8,PRODUITS!A4:B57,2,FALSE) -> 6.43 | F8: =D8*E8 -> 96.45 | G8: 0.23958333 | H8: 0.60416667 | I8: OUI | J8: =H8-G8-COUNTIF(I8,"OUI")/24/60*30 -> 0.34375 | K8: 2 | L8: =IF(K8=2,"225$","125$") -> 225$ | M8: =F8+(J8*24*L8) -> 1952.7
A9: 0278 | B9: 45001 | C9: Sable Verre Recyclé 30/60 | D9: 3 | E9: =VLOOKUP(C9,PRODUITS!A5:B58,2,FALSE) -> 6.43 | F9: =D9*E9 -> 19.29 | G9: 0.23958333 | H9: 0.53125 | I9: OUI | J9: =H9-G9-COUNTIF(I9,"OUI")/24/60*30 -> 0.27083333 | K9: 2 | L9: =IF(K9=2,"225$","125$") -> 225$ | M9: =F9+(J9*24*L9) -> 1481.79
E10: =VLOOKUP(C10,PRODUITS!A6:B59,2,FALSE) -> #N/A | F10: =D10*E10 -> #N/A | J10: =H10-G10-COUNTIF(I10,"OUI")/24/60*30 -> 0 | L10: =IF(K10=2,"225$","125$") -> 125$ | M10: =F10+(J10*24*L10) -> #N/A
E11: =VLOOKUP(C11,PRODUITS!A7:B60,2,FALSE) -> #N/A | F11: =D11*E11 -> #N/A | J11: =H11-G11-COUNTIF(I11,"OUI")/24/60*30 -> 0 | L11: =IF(K11=2,"225$","125$") -> 125$ | M11: =F11+(J11*24*L11) -> #N/A
E12: =VLOOKUP(C12,PRODUITS!A8:B61,2,FALSE) -> #N/A | F12: =D12*E12 -> #N/A | J12: =H12-G12-COUNTIF(I12,"OUI")/24/60*30 -> 0 | L12: =IF(K12=2,"225$","125$") -> 125$ | M12: =F12+(J12*24*L12) -> #N/A
E13: =VLOOKUP(C13,PRODUITS!A9:B62,2,FALSE) -> #N/A | F13: =D13*E13 -> #N/A | J13: =H13-G13-COUNTIF(I13,"OUI")/24/60*30 -> 0 | L13: =IF(K13=2,"225$","125$") -> 125$ | M13: =F13+(J13*24*L13) -> #N/A
E14: =VLOOKUP(C14,PRODUITS!A10:B63,2,FALSE) -> #N/A | F14: =D14*E14 -> #N/A | J14: =H14-G14-COUNTIF(I14,"OUI")/24/60*30 -> 0 | L14: =IF(K14=2,"225$","125$") -> 125$ | M14: =F14+(J14*24*L14) -> #N/A
E15: =VLOOKUP(C15,PRODUITS!A11:B64,2,FALSE) -> #N/A | F15: =D15*E15 -> #N/A | J15: =H15-G15-COUNTIF(I15,"OUI")/24/60*30 -> 0 | L15: =IF(K15=2,"225$","125$") -> 125$ | M15: =F15+(J15*24*L15) -> #N/A
E16: =VLOOKUP(C16,PRODUITS!A12:B65,2,FALSE) -> #N/A | F16: =D16*E16 -> #N/A | J16: =H16-G16-COUNTIF(I16,"OUI")/24/60*30 -> 0 | L16: =IF(K16=2,"225$","125$") -> 125$ | M16: =F16+(J16*24*L16) -> #N/A
E17: =VLOOKUP(C17,PRODUITS!A13:B66,2,FALSE) -> #N/A | F17: =D17*E17 -> #N/A | J17: =H17-G17-COUNTIF(I17,"OUI")/24/60*30 -> 0 | L17: =IF(K17=2,"225$","125$") -> 125$ | M17: =F17+(J17*24*L17) -> #N/A
E18: =VLOOKUP(C18,PRODUITS!A14:B67,2,FALSE) -> #N/A | F18: =D18*E18 -> #N/A | J18: =H18-G18-COUNTIF(I18,"OUI")/24/60*30 -> 0 | L18: =IF(K18=2,"225$","125$") -> 125$ | M18: =F18+(J18*24*L18) -> #N/A
E19: =VLOOKUP(C19,PRODUITS!A15:B68,2,FALSE) -> #N/A | F19: =D19*E19 -> #N/A | J19: =H19-G19-COUNTIF(I19,"OUI")/24/60*30 -> 0 | L19: =IF(K19=2,"225$","125$") -> 125$ | M19: =F19+(J19*24*L19) -> #N/A
E20: =VLOOKUP(C20,PRODUITS!A16:B69,2,FALSE) -> #N/A | F20: =D20*E20 -> #N/A | J20: =H20-G20-COUNTIF(I20,"OUI")/24/60*30 -> 0 | L20: =IF(K20=2,"225$","125$") -> 125$ | M20: =F20+(J20*24*L20) -> #N/A
E21: =VLOOKUP(C21,PRODUITS!A17:B70,2,FALSE) -> #N/A | F21: =D21*E21 -> #N/A | J21: =H21-G21-COUNTIF(I21,"OUI")/24/60*30 -> 0 | L21: =IF(K21=2,"225$","125$") -> 125$ | M21: =F21+(J21*24*L21) -> #N/A
... E36: =VLOOKUP(C36,PRODUITS!A32:B85,2,FALSE) -> #N/A | F36: =D36*E36 -> #N/A | J36: =H36-G36-COUNTIF(I36,"OUI")/24/60*30 -> 0 | L36: =IF(K36=2,"225$","125$") -> 125$ | M36: =F36+(J36*24*L36) -> #N/A

Sheet PRODUITS
A1: Klean-Strip Aircraft paint remover (bleu) | B1: 106
A2: 3M Pellicule de masquage 99AMF 2,51m | B2: 17.33
A3: ABR 800FA | B3: 450
A4: Brillant Finish 63mm (2,5') | B4: 7
A5: Diedrich 101 | B5: 168.67
A6: Diedrich 101G | B6: 126.65
A7: Diedrich 202 | B7: 94
A8: Diedrich 202V | B8: 103.75
A9: Diedrich 505 | B9: 54.69
A10: Diedrich 606 | B10: 193.77
A11: Diedrich 707N | B11: 151.29
A12: Diedrich 808X | B12: 124.4
... A38: SCELLANT ZIP SEAL'N PEEL | B38: 4.78
A39: Sealignt Vocomp 20 | B39: ???
A40: Sika Guard SN40 LO VOC | B40: 271.89
A41: Sikagard SN 100 | B41: 489.32
A42: Solution B | B42: 115.39
A43: Solution C | B43: 80
A44: Solution M + Step 2 | B44: 200
A45: Sure Klean Asphalt & Tar Remover | B45: 130.5
A46: Sure Klean Biowash | B46: 230
A47: Sure Klean Ferrous Stain Remover | B47: 58.05
A48: Sure Klean Strippable Masking | B48: ???
A49: Sure Klean T515 Copper Stain Remover | B49: 416.5
A50: Sure Klean Vana Trol 5 gal | B50: 174.41
A51: Tape Gris | B51: 5.5
A52: Tape Vert 3M 2060 (Maçonnerie/Béton) | B52: 5.01
A53: ZEP Super Flash | B53: 99.5
A54: ZEP TNT | B54: 79.5

Sheet DÎNER
A2: NON
A3: OUI
