Workbook
Name Bpronos: [1]pronos!$E$11
Name Mpronos: [1]pronos!$E$16
Name Npronos: [1]pronos!$E$13

Sheet Règlements
A1: Score exact | C1: 2
A2: Resultat | C2: 1
A3: Rien | C3: 0
A4: vainqueur suite au tirs au but | C4: 1

Sheet Coupe
A2: Premier tour | F2: JOUEUR 1 | I2: JOUEUR 2 | L2: JOUEUR 3 | O2: JOUEUR 4
H4: Pts | K4: Pts | N4: Pts | Q4: Pts
A5: Angers | B5: 1 | C5: 1 | D5: Bastia | F5: 1 | G5: 1 | H5: =IF(AND(B5="",C5=""),"",IF(AND(F5="",G5=""),"",IF(AND(B5=F5,C5=G5),Règlements!$C$1,IF(AND(B5>C5,F5>G5),Règlements!$C$2,IF(AND(C5>B5,G5>F5),Règlements!$C$2,IF(AND(C5=B5,G5=F5),Règlements!$C$2,0)))))) -> 2 | I5: 1 | J5: 0 | K5: =IF(AND(B5="",C5=""),"",IF(AND(I5="",J5=""),"",IF(AND(B5=I5,C5=J5),Règlements!$C$1,IF(AND(B5>C5,I5>J5),Règlements!$C$2,IF(AND(C5>B5,J5>I5),Règlements!$C$2,IF(AND(C5=B5,J5=I5),Règlements!$C$2,0)))))) -> 0 | L5: 1 | M5: 1 | N5: =IF(AND(B5="",C5=""),"",IF(AND(L5="",M5=""),"",IF(AND(B5=L5,C5=M5),Règlements!$C$1,IF(AND(B5>C5,L5>M5),Règlements!$C$2,IF(AND(C5>B5,M5>L5),Règlements!$C$2,IF(AND(C5=B5,M5=L5),Règlements!$C$2,0)))))) -> 2 | O5: 0 | P5: 0 | Q5: =IF(AND(B5="",C5=""),"",IF(AND(O5="",P5=""),"",IF(AND(B5=O5,C5=P5),Règlements!$C$1,IF(AND(B5>C5,O5>P5),Règlements!$C$2,IF(AND(C5>B5,P5>O5),Règlements!$C$2,IF(AND(C5=B5,P5=O5),Règlements!$C$2,0)))))) -> 1
B6: 4 | C6: 3 | E6: tab | F6: 5 | G6: 4 | L6: 4 | M6: 3
A7: Strasbourg | D7: Evian | H7: =IF(AND(B7="",C7=""),"",IF(AND(F7="",G7=""),"",IF(AND(B7=F7,C7=G7),Règlements!$C$1,IF(AND(B7>C7,F7>G7),Règlements!$C$2,IF(AND(C7>B7,G7>F7),Règlements!$C$2,IF(AND(C7=B7,G7=F7),Règlements!$C$2,0)))))) | K7: =IF(AND(B7="",C7=""),"",IF(AND(I7="",J7=""),"",IF(AND(B7=I7,C7=J7),Règlements!$C$1,IF(AND(B7>C7,I7>J7),Règlements!$C$2,IF(AND(C7>B7,J7>I7),Règlements!$C$2,IF(AND(C7=B7,J7=I7),Règlements!$C$2,0)))))) | N7: =IF(AND(B7="",C7=""),"",IF(AND(L7="",M7=""),"",IF(AND(B7=L7,C7=M7),Règlements!$C$1,IF(AND(B7>C7,L7>M7),Règlements!$C$2,IF(AND(C7>B7,M7>L7),Règlements!$C$2,IF(AND(C7=B7,M7=L7),Règlements!$C$2,0)))))) | Q7: =IF(AND(B7="",C7=""),"",IF(AND(O7="",P7=""),"",IF(AND(B7=O7,C7=P7),Règlements!$C$1,IF(AND(B7>C7,O7>P7),Règlements!$C$2,IF(AND(C7>B7,P7>O7),Règlements!$C$2,IF(AND(C7=B7,P7=O7),Règlements!$C$2,0))))))
E8: tab
A9: Grenoble | D9: Guingamp | H9: =IF(AND(B9="",C9=""),"",IF(AND(F9="",G9=""),"",IF(AND(B9=F9,C9=G9),Règlements!$C$1,IF(AND(B9>C9,F9>G9),Règlements!$C$2,IF(AND(C9>B9,G9>F9),Règlements!$C$2,IF(AND(C9=B9,G9=F9),Règlements!$C$2,0)))))) | K9: =IF(AND(B9="",C9=""),"",IF(AND(I9="",J9=""),"",IF(AND(B9=I9,C9=J9),Règlements!$C$1,IF(AND(B9>C9,I9>J9),Règlements!$C$2,IF(AND(C9>B9,J9>I9),Règlements!$C$2,IF(AND(C9=B9,J9=I9),Règlements!$C$2,0)))))) | N9: =IF(AND(B9="",C9=""),"",IF(AND(L9="",M9=""),"",IF(AND(B9=L9,C9=M9),Règlements!$C$1,IF(AND(B9>C9,L9>M9),Règlements!$C$2,IF(AND(C9>B9,M9>L9),Règlements!$C$2,IF(AND(C9=B9,M9=L9),Règlements!$C$2,0)))))) | Q9: =IF(AND(B9="",C9=""),"",IF(AND(O9="",P9=""),"",IF(AND(B9=O9,C9=P9),Règlements!$C$1,IF(AND(B9>C9,O9>P9),Règlements!$C$2,IF(AND(C9>B9,P9>O9),Règlements!$C$2,IF(AND(C9=B9,P9=O9),Règlements!$C$2,0))))))
E10: tab
A11: Clermont | D11: Metz | H11: =IF(AND(B11="",C11=""),"",IF(AND(F11="",G11=""),"",IF(AND(B11=F11,C11=G11),Règlements!$C$1,IF(AND(B11>C11,F11>G11),Règlements!$C$2,IF(AND(C11>B11,G11>F11),Règlements!$C$2,IF(AND(C11=B11,G11=F11),Règlements!$C$2,0)))))) | K11: =IF(AND(B11="",C11=""),"",IF(AND(I11="",J11=""),"",IF(AND(B11=I11,C11=J11),Règlements!$C$1,IF(AND(B11>C11,I11>J11),Règlements!$C$2,IF(AND(C11>B11,J11>I11),Règlements!$C$2,IF(AND(C11=B11,J11=I11),Règlements!$C$2,0)))))) | N11: =IF(AND(B11="",C11=""),"",IF(AND(L11="",M11=""),"",IF(AND(B11=L11,C11=M11),Règlements!$C$1,IF(AND(B11>C11,L11>M11),Règlements!$C$2,IF(AND(C11>B11,M11>L11),Règlements!$C$2,IF(AND(C11=B11,M11=L11),Règlements!$C$2,0)))))) | Q11: =IF(AND(B11="",C11=""),"",IF(AND(O11="",P11=""),"",IF(AND(B11=O11,C11=P11),Règlements!$C$1,IF(AND(B11>C11,O11>P11),Règlements!$C$2,IF(AND(C11>B11,P11>O11),Règlements!$C$2,IF(AND(C11=B11,P11=O11),Règlements!$C$2,0))))))
E12: tab
A13: Dijon | D13: Amiens | H13: =IF(AND(B13="",C13=""),"",IF(AND(F13="",G13=""),"",IF(AND(B13=F13,C13=G13),Règlements!$C$1,IF(AND(B13>C13,F13>G13),Règlements!$C$2,IF(AND(C13>B13,G13>F13),Règlements!$C$2,IF(AND(C13=B13,G13=F13),Règlements!$C$2,0)))))) | K13: =IF(AND(B13="",C13=""),"",IF(AND(I13="",J13=""),"",IF(AND(B13=I13,C13=J13),Règlements!$C$1,IF(AND(B13>C13,I13>J13),Règlements!$C$2,IF(AND(C13>B13,J13>I13),Règlements!$C$2,IF(AND(C13=B13,J13=I13),Règlements!$C$2,0)))))) | N13: =IF(AND(B13="",C13=""),"",IF(AND(L13="",M13=""),"",IF(AND(B13=L13,C13=M13),Règlements!$C$1,IF(AND(B13>C13,L13>M13),Règlements!$C$2,IF(AND(C13>B13,M13>L13),Règlements!$C$2,IF(AND(C13=B13,M13=L13),Règlements!$C$2,0)))))) | Q13: =IF(AND(B13="",C13=""),"",IF(AND(O13="",P13=""),"",IF(AND(B13=O13,C13=P13),Règlements!$C$1,IF(AND(B13>C13,O13>P13),Règlements!$C$2,IF(AND(C13>B13,P13>O13),Règlements!$C$2,IF(AND(C13=B13,P13=O13),Règlements!$C$2,0))))))
E14: tab
A15: Troyes | D15: Reims | H15: =IF(AND(B15="",C15=""),"",IF(AND(F15="",G15=""),"",IF(AND(B15=F15,C15=G15),Règlements!$C$1,IF(AND(B15>C15,F15>G15),Règlements!$C$2,IF(AND(C15>B15,G15>F15),Règlements!$C$2,IF(AND(C15=B15,G15=F15),Règlements!$C$2,0)))))) | K15: =IF(AND(B15="",C15=""),"",IF(AND(I15="",J15=""),"",IF(AND(B15=I15,C15=J15),Règlements!$C$1,IF(AND(B15>C15,I15>J15),Règlements!$C$2,IF(AND(C15>B15,J15>I15),Règlements!$C$2,IF(AND(C15=B15,J15=I15),Règlements!$C$2,0)))))) | N15: =IF(AND(B15="",C15=""),"",IF(AND(L15="",M15=""),"",IF(AND(B15=L15,C15=M15),Règlements!$C$1,IF(AND(B15>C15,L15>M15),Règlements!$C$2,IF(AND(C15>B15,M15>L15),Règlements!$C$2,IF(AND(C15=B15,M15=L15),Règlements!$C$2,0)))))) | Q15: =IF(AND(B15="",C15=""),"",IF(AND(O15="",P15=""),"",IF(AND(B15=O15,C15=P15),Règlements!$C$1,IF(AND(B15>C15,O15>P15),Règlements!$C$2,IF(AND(C15>B15,P15>O15),Règlements!$C$2,IF(AND(C15=B15,P15=O15),Règlements!$C$2,0))))))
E16: tab
A17: Tours | D17: Vannes | H17: =IF(AND(B17="",C17=""),"",IF(AND(F17="",G17=""),"",IF(AND(B17=F17,C17=G17),Règlements!$C$1,IF(AND(B17>C17,F17>G17),Règlements!$C$2,IF(AND(C17>B17,G17>F17),Règlements!$C$2,IF(AND(C17=B17,G17=F17),Règlements!$C$2,0)))))) | K17: =IF(AND(B17="",C17=""),"",IF(AND(I17="",J17=""),"",IF(AND(B17=I17,C17=J17),Règlements!$C$1,IF(AND(B17>C17,I17>J17),Règlements!$C$2,IF(AND(C17>B17,J17>I17),Règlements!$C$2,IF(AND(C17=B17,J17=I17),Règlements!$C$2,0)))))) | N17: =IF(AND(B17="",C17=""),"",IF(AND(L17="",M17=""),"",IF(AND(B17=L17,C17=M17),Règlements!$C$1,IF(AND(B17>C17,L17>M17),Règlements!$C$2,IF(AND(C17>B17,M17>L17),Règlements!$C$2,IF(AND(C17=B17,M17=L17),Règlements!$C$2,0)))))) | Q17: =IF(AND(B17="",C17=""),"",IF(AND(O17="",P17=""),"",IF(AND(B17=O17,C17=P17),Règlements!$C$1,IF(AND(B17>C17,O17>P17),Règlements!$C$2,IF(AND(C17>B17,P17>O17),Règlements!$C$2,IF(AND(C17=B17,P17=O17),Règlements!$C$2,0))))))
E18: tab
A19: Ajaccio | D19: Istres | H19: =IF(AND(B19="",C19=""),"",IF(AND(F19="",G19=""),"",IF(AND(B19=F19,C19=G19),Règlements!$C$1,IF(AND(B19>C19,F19>G19),Règlements!$C$2,IF(AND(C19>B19,G19>F19),Règlements!$C$2,IF(AND(C19=B19,G19=F19),Règlements!$C$2,0)))))) | K19: =IF(AND(B19="",C19=""),"",IF(AND(I19="",J19=""),"",IF(AND(B19=I19,C19=J19),Règlements!$C$1,IF(AND(B19>C19,I19>J19),Règlements!$C$2,IF(AND(C19>B19,J19>I19),Règlements!$C$2,IF(AND(C19=B19,J19=I19),Règlements!$C$2,0)))))) | N19: =IF(AND(B19="",C19=""),"",IF(AND(L19="",M19=""),"",IF(AND(B19=L19,C19=M19),Règlements!$C$1,IF(AND(B19>C19,L19>M19),Règlements!$C$2,IF(AND(C19>B19,M19>L19),Règlements!$C$2,IF(AND(C19=B19,M19=L19),Règlements!$C$2,0)))))) | Q19: =IF(AND(B19="",C19=""),"",IF(AND(O19="",P19=""),"",IF(AND(B19=O19,C19=P19),Règlements!$C$1,IF(AND(B19>C19,O19>P19),Règlements!$C$2,IF(AND(C19>B19,P19>O19),Règlements!$C$2,IF(AND(C19=B19,P19=O19),Règlements!$C$2,0))))))
E20: tab
A21: Le Havre | D21: Le Mans | H21: =IF(AND(B21="",C21=""),"",IF(AND(F21="",G21=""),"",IF(AND(B21=F21,C21=G21),Règlements!$C$1,IF(AND(B21>C21,F21>G21),Règlements!$C$2,IF(AND(C21>B21,G21>F21),Règlements!$C$2,IF(AND(C21=B21,G21=F21),Règlements!$C$2,0)))))) | K21: =IF(AND(B21="",C21=""),"",IF(AND(I21="",J21=""),"",IF(AND(B21=I21,C21=J21),Règlements!$C$1,IF(AND(B21>C21,I21>J21),Règlements!$C$2,IF(AND(C21>B21,J21>I21),Règlements!$C$2,IF(AND(C21=B21,J21=I21),Règlements!$C$2,0)))))) | N21: =IF(AND(B21="",C21=""),"",IF(AND(L21="",M21=""),"",IF(AND(B21=L21,C21=M21),Règlements!$C$1,IF(AND(B21>C21,L21>M21),Règlements!$C$2,IF(AND(C21>B21,M21>L21),Règlements!$C$2,IF(AND(C21=B21,M21=L21),Règlements!$C$2,0)))))) | Q21: =IF(AND(B21="",C21=""),"",IF(AND(O21="",P21=""),"",IF(AND(B21=O21,C21=P21),Règlements!$C$1,IF(AND(B21>C21,O21>P21),Règlements!$C$2,IF(AND(C21>B21,P21>O21),Règlements!$C$2,IF(AND(C21=B21,P21=O21),Règlements!$C$2,0))))))
E22: tab
A23: Laval | D23: Châteauroux | H23: =IF(AND(B23="",C23=""),"",IF(AND(F23="",G23=""),"",IF(AND(B23=F23,C23=G23),Règlements!$C$1,IF(AND(B23>C23,F23>G23),Règlements!$C$2,IF(AND(C23>B23,G23>F23),Règlements!$C$2,IF(AND(C23=B23,G23=F23),Règlements!$C$2,0)))))) | K23: =IF(AND(B23="",C23=""),"",IF(AND(I23="",J23=""),"",IF(AND(B23=I23,C23=J23),Règlements!$C$1,IF(AND(B23>C23,I23>J23),Règlements!$C$2,IF(AND(C23>B23,J23>I23),Règlements!$C$2,IF(AND(C23=B23,J23=I23),Règlements!$C$2,0)))))) | N23: =IF(AND(B23="",C23=""),"",IF(AND(L23="",M23=""),"",IF(AND(B23=L23,C23=M23),Règlements!$C$1,IF(AND(B23>C23,L23>M23),Règlements!$C$2,IF(AND(C23>B23,M23>L23),Règlements!$C$2,IF(AND(C23=B23,M23=L23),Règlements!$C$2,0)))))) | Q23: =IF(AND(B23="",C23=""),"",IF(AND(O23="",P23=""),"",IF(AND(B23=O23,C23=P23),Règlements!$C$1,IF(AND(B23>C23,O23>P23),Règlements!$C$2,IF(AND(C23>B23,P23>O23),Règlements!$C$2,IF(AND(C23=B23,P23=O23),Règlements!$C$2,0))))))
E24: tab
A25: Sedan | D25: Nîmes | H25: =IF(AND(B25="",C25=""),"",IF(AND(F25="",G25=""),"",IF(AND(B25=F25,C25=G25),Règlements!$C$1,IF(AND(B25>C25,F25>G25),Règlements!$C$2,IF(AND(C25>B25,G25>F25),Règlements!$C$2,IF(AND(C25=B25,G25=F25),Règlements!$C$2,0)))))) | K25: =IF(AND(B25="",C25=""),"",IF(AND(I25="",J25=""),"",IF(AND(B25=I25,C25=J25),Règlements!$C$1,IF(AND(B25>C25,I25>J25),Règlements!$C$2,IF(AND(C25>B25,J25>I25),Règlements!$C$2,IF(AND(C25=B25,J25=I25),Règlements!$C$2,0)))))) | N25: =IF(AND(B25="",C25=""),"",IF(AND(L25="",M25=""),"",IF(AND(B25=L25,C25=M25),Règlements!$C$1,IF(AND(B25>C25,L25>M25),Règlements!$C$2,IF(AND(C25>B25,M25>L25),Règlements!$C$2,IF(AND(C25=B25,M25=L25),Règlements!$C$2,0)))))) | Q25: =IF(AND(B25="",C25=""),"",IF(AND(O25="",P25=""),"",IF(AND(B25=O25,C25=P25),Règlements!$C$1,IF(AND(B25>C25,O25>P25),Règlements!$C$2,IF(AND(C25>B25,P25>O25),Règlements!$C$2,IF(AND(C25=B25,P25=O25),Règlements!$C$2,0))))))
E26: tab
A27: Boulogne | D27: Nantes | H27: =IF(AND(B27="",C27=""),"",IF(AND(F27="",G27=""),"",IF(AND(B27=F27,C27=G27),Règlements!$C$1,IF(AND(B27>C27,F27>G27),Règlements!$C$2,IF(AND(C27>B27,G27>F27),Règlements!$C$2,IF(AND(C27=B27,G27=F27),Règlements!$C$2,0)))))) | K27: =IF(AND(B27="",C27=""),"",IF(AND(I27="",J27=""),"",IF(AND(B27=I27,C27=J27),Règlements!$C$1,IF(AND(B27>C27,I27>J27),Règlements!$C$2,IF(AND(C27>B27,J27>I27),Règlements!$C$2,IF(AND(C27=B27,J27=I27),Règlements!$C$2,0)))))) | N27: =IF(AND(B27="",C27=""),"",IF(AND(L27="",M27=""),"",IF(AND(B27=L27,C27=M27),Règlements!$C$1,IF(AND(B27>C27,L27>M27),Règlements!$C$2,IF(AND(C27>B27,M27>L27),Règlements!$C$2,IF(AND(C27=B27,M27=L27),Règlements!$C$2,0)))))) | Q27: =IF(AND(B27="",C27=""),"",IF(AND(O27="",P27=""),"",IF(AND(B27=O27,C27=P27),Règlements!$C$1,IF(AND(B27>C27,O27>P27),Règlements!$C$2,IF(AND(C27>B27,P27>O27),Règlements!$C$2,IF(AND(C27=B27,P27=O27),Règlements!$C$2,0))))))
E28: tab
A29: BONUS | H29: =IF(AND(B31=0),0,IF(AND(F31=""),"",IF(AND(B31=F31),Règlements!$C$7,0))) -> 0 | K29: =IF(AND(E31=0),0,IF(AND(I31=""),"",IF(AND(E31=I31),Règlements!$C$7,0))) -> 0 | N29: =IF(AND(H31=0),0,IF(AND(L31=""),"",IF(AND(H31=L31),Règlements!$C$7,0))) -> 0 | Q29: =IF(AND(K31=0),0,IF(AND(O31=""),"",IF(AND(K31=O31),Règlements!$C$7,0))) -> 0
H30: =SUM(H2:H27) -> 2 | K30: =SUM(K2:K27) -> 0 | N30: =SUM(N2:N27) -> 2 | Q30: =SUM(Q2:Q27) -> 1
A31: Nb de buts | B31: =SUM(B2:C27) -> 9 | F31: =SUM(F2:G27) -> 11 | I31: =SUM(I2:J27) -> 1 | L31: =SUM(L2:M27) -> 9 | O31: =SUM(O2:P27) -> 0
A33: TOTAL GENERAL | H33: =H30+H29 -> 2 | K33: =K30+K29 -> 0 | N33: =N30+N29 -> 2 | Q33: =Q30+Q29 -> 1
