Workbook
Name quotite_saisissable: Tableaux!$G$9:$G$11
Name tab_quotites: Tableaux!$G$9:$H$11

Sheet Situation
A1: SITUATION AU : | B1: 44949
A3: isolé | D3: 2 cohabitants
A4: Pension alimentaire : | B4: 0 | D4: Pension alimentaire : | E4: 0
A5: Enfants | B5: 0 | D5: Enfants | E5: 0
A7: PROCEDURE :
A9: Ordonnance d'admissibilité | B9: 43544 | C9: =DATEDIF(B9,B1,"y")&" ans " &DATEDIF(B9,B1,"ym")&" mois" -> 3 ans 10 mois
A11: =IF(B1>(EDATE(B9,36)),"Fin de procédure - 7 ans : "&TEXT(EDATE(B9,84),"jj/mm/aaaa"), "Fin de procédure - 3 ans : "&TEXT(EDATE(B9,36),"jj/mm/aaaa")&CHAR(10)&"Fin de procédure - 7 ans : "&TEXT(EDATE(B9,84),"jj/mm/aaaa")) -> Fin de procédure - 7 ans : 20/03/2026 | C11: =IF(B1>(EDATE(B9,36)),(DATEDIF(B1,EDATE(B9,85),"y")&" ans " &DATEDIF(B1,EDATE(B9,85),"ym")&" mois"),(DATEDIF(B1,EDATE(B9,37),"y")&" ans " &DATEDIF(B1,EDATE(B9,37),"ym")&" mois"&CHAR(10)&(DATEDIF(B1,EDATE(B9,85),"y")&" ans " &DATEDIF(B1,EDATE(B9,85),"ym")&" mois"))) -> 3 ans 2 mois
A13: PASSIF : PROVISOIRE
A15: Principal : | B15: 36419.13
A16: Intérêts : | B16: 5425.69
A17: Frais : | B17: 3455.49
A18: Total : | B18: =SUM(B15:B17) -> 45300.31
A20: Disponible pour un remboursement de 100% hors état des frais et honoraires
A22: =IF(B1>(EDATE(B9,36)), "Procédure - 7 ans : "&TEXT(ROUNDUP((B15/(DATEDIF(B1,EDATE(B9,85),"m"))),0),"#.##0,00 €;[Rouge]-#.##0,00 €"), "Procédure - 3 ans : "&TEXT(ROUNDUP(B18/(DATEDIF(B1,EDATE(B9,37),"m")),0),"#.##0,00 €;[Rouge]-#.##0,00 €")&CHAR(10)&"Procédure - 7 ans : "&TEXT(ROUNDUP((B15/(DATEDIF(B1,EDATE(B9,85),"m"))),0),"#.##0,00 €;[Rouge]-#.##0,00 €")) -> Procédure - 7 ans : 959,00 €
A24: RESSOURCES
A26: Projet de plan établi | D26: ="Situation au : "&TEXT(B1,"jj/mm/aaaa") -> Situation au : 23/01/2023 | F26: Boni/déficit
A27: Revenus mensuels
A28: Madame | B28: Taux | C28: Montant | D28: Taux | E28: Montant
A29: Salaire | C29: 0 | E29: 0 | F29: =IF($E$67=0,0,SUM(E29-C29)) -> 0
A30: Compl. Ch | C30: 0 | E30: 0 | F30: =IF($E$67=0,0,SUM(E30-C30)) -> 0
A31: Compl. Mut | C31: 0 | E31: 0 | F31: =IF($E$67=0,0,SUM(E31-C31)) -> 0
A32: RIS | C32: 0 | E32: 0
A33: Chômage tx/j | B33: 0 | C33: =(B33*26) -> 0 | D33: 0 | E33: =(D33*26) -> 0 | F33: =IF($E$67=0,0,SUM(E33-C33)) -> 0
A34: ="Montant minimum "&TEXT(SUM(B33*24),"#.##0,00") -> Montant minimum 0,00 | D34: ="Montant minimum "&TEXT(SUM(D33*24),"#.##0,00") -> Montant minimum 0,00
A35: ="Montant maximum "&TEXT(SUM(B33*27),"#.##0,00") -> Montant maximum 0,00 | D35: ="Montant maximum "&TEXT(SUM(D33*27),"#.##0,00") -> Montant maximum 0,00
A36: Mutuelle tx/j | B36: 0 | C36: =(B36*26) -> 0 | D36: 0 | E36: =(D36*26) -> 0 | F36: =IF($E$67=0,0,SUM(E36-C36)) -> 0
A37: ="Montant minimum "&TEXT(SUM(B36*24),"#.##0,00") -> Montant minimum 0,00 | D37: ="Montant minimum "&TEXT(SUM(D36*24),"#.##0,00") -> Montant minimum 0,00
A38: ="Montant maximum "&TEXT(SUM(B36*27),"#.##0,00") -> Montant maximum 0,00 | D38: ="Montant maximum "&TEXT(SUM(D36*27),"#.##0,00") -> Montant maximum 0,00
A39: Mutuelle ATP tx/j | B39: 0 | C39: =(B39*26) -> 0 | E39: 0 | F39: =(E39*26) -> 0
A40: ="Montant minimum "&TEXT(SUM(B39*24),"#.##0,00") -> Montant minimum 0,00 | D40: ="Montant minimum "&TEXT(SUM(E39*24),"#.##0,00") -> Montant minimum 0,00
A41: ="Montant maximum "&TEXT(SUM(B39*27),"#.##0,00") -> Montant maximum 0,00 | D41: ="Montant maximum "&TEXT(SUM(E39*27),"#.##0,00") -> Montant maximum 0,00
A42: Pension | C42: 0 | E42: 0 | F42: =IF($E$67=0,0,SUM(E42-C42)) -> 0
A43: SPF séc. So | C43: 0 | E43: 0 | F43: =IF($E$67=0,0,SUM(E43-C43)) -> 0
A44: Prime syndicale | C44: 0 | E44: 0 | F44: =IF($E$67=0,0,SUM(E44-C44)) -> 0
A45: Pension ali. | C45: 0 | E45: 0 | F45: =IF($E$67=0,0,SUM(E45-C45)) -> 0
A46: Participation autre | B46: 0 | C46: 0 | D46: 0 | E46: 0 | F46: =IF($E$67=0,0,SUM(E46-C46)) -> 0 | G46: *
A47: Alloc. Fam | C47: 0 | E47: 0 | F47: =IF($E$67=0,0,SUM(E47-C47)) -> 0
A48: Monsieur
A49: Salaire | C49: 2609 | E49: 0 | F49: =IF($E$67=0,0,SUM(E49-C49)) -> 0
A50: Compl. Ch | C50: 0 | E50: 0 | F50: =IF($E$67=0,0,SUM(E50-C50)) -> 0
...

Sheet Tableau de répartition plan
B1: =Situation!B9 -> 43544 | D1: =Situation!B159 -> 44441 | E1: =Situation!B152 -> 660 | F1: =Situation!C130 -> 700 | G1: =Situation!B145 -> 1030 | K1: =Situation!B165 -> 17460 | L1: =Situation!C170 -> 39874.62
A2: Nbre de mois | B2: Date d'admissibilité | C2: Nombre de mois | D2: Date de plan | E2: Revenus annuel | F2: EFH | G2: Disponible | H2: Total | I2: N° | J2: Annuité | K2: Montant annuité | L2: Solde restant dû | N2: Nombre de mois restant | O2: =IF(D1=0,0,DATEDIF(D1,EDATE(B1,85),"m")) -> 55 | P2: =EDATE(Situation!B9,84) -> 46101
A3: 1 | B3: =EDATE($B$1,A3) -> 43575 | C3: =IF(B3<$D$1,0, IF(AND(MONTH(B3)&YEAR(B3)=MONTH($D$1)&YEAR($D$1),DAY($D$1)),1,0)) -> 0 | D3: =IF(C3<>0,B3,0) -> 0 | E3: =IF(C3=0,0, IF(Situation!$B$152=0,0, IF(MOD(C3,12)<>0,0,$E$1))) -> 0 | F3: =IF($D$1=0,0, IF(D3=$P$6,$F$1, 0)) -> 0 | G3: {=IFERROR(IF(B3=$P$4,$K$1, IF(B3=EDATE($B$1,84),0, IF(COUNTIF($N$9:$N$20,B3),LOOKUP(2,1/($N$9:$N$20=B3),$Q$9:$Q$21)*-1, IF(C3<>0,$G$1,0)))),0)} -> 0 | H3: =SUM(E3+G3) -> 0 | I3: =IF(B3=$P$4,1, IF(AND(C3>=1,C3<=12),2, IF(AND(C3>=13,C3<=24),3, IF(AND(C3>=25,C3<=36),4, IF(AND(C3>=37,C3<=48),5, IF(AND(C3>=49,C3<=60),6, IF(AND(C3>=61,C3<=72),7, IF(AND(C3>=73,C3<=84),8, 0)))))))) -> 0 | J3: =IF(K3<>"",CONCATENATE("Annuité ",COUNT($K$3:K3)),"") | K3: =IF(B3=$P$4,$K$1, IF(C3=0,"", IF(AND(OR(C3=12,C3=24,C3=36,C3=48,C3=60,C3=72),$M$7<1),$O$8, IF(OR(C3=12,C3=24,C3=36,C3=48,C3=60,C3=72),$O$7, IF(B3=$P$6,$O$8,""))))) | L3: =IFERROR(SUM(L1-H3),0) -> 39874.62 | N3: Passif | O3: =L1 -> 39874.62
A4: 2 | B4: =EDATE($B$1,A4) -> 43605 | C4: =IF(B4=$P$4,0, IF(B3=$P$4,1, IF(C3=0,0, IF(C3=$O$6,0, SUM(C3+1))))) -> 0 | D4: =IF(C4<>0,B4,0) -> 0 | E4: {=IF(C4=0,0, IF(Situation!$B$152=0,0, IF(OR(C4=12,C4=24,C4=36,C4=48,C4=60,C4=72),$E$1, IF(AND(C4>=1,C4<=SUM($M$7*12)),0, IF(AND(I4<=$M$7,TEXT(D4,"aaaa")=TEXT($P$6,"aaaa")),0, IF($M$7=0,SUM((Situation!$B$71:$B$85=MONTH(1&"/"&TEXT(D4,"mmmm")))*(Situation!$C$71:$C$85)), IF(TEXT(D4,"aaaa")=TEXT($P$6,"aaaa"),SUM((Situation!$B$71:$B$85=MONTH(1&"/"&TEXT(D4,"mmmm")))*(Situation!$C$71:$C$85)), 0)))))))} -> 0 | F4: =IF($D$1=0,0, IF(D4=$P$6,$F$1, 0)) -> 0 | G4: {=IFERROR(IF(B4=$P$4,$K$1, IF(B4=EDATE($B$1,84),0, IF(COUNTIF($N$9:$N$20,B4),LOOKUP(2,1/($N$9:$N$20=B4),$Q$9:$Q$21)*-1, IF(C4<>0,$G$1,0)))),0)} -> 0 | H4: =IF(L3<SUM(E4+G4),L3,SUM(E4+G4)) -> 0 | I4: =IF(B4=$P$4,1, IF(AND(C4>=1,C4<=12),2, IF(AND(C4>=13,C4<=24),3, IF(AND(C4>=25,C4<=36),4, IF(AND(C4>=37,C4<=48),5, IF(AND(C4>=49,C4<=60),6, IF(AND(C4>=61,C4<=72),7, IF(AND(C4>=73,C4<=84),8, 0)))))))) -> 0 | J4: =IF(K4<>"",CONCATENATE("Annuité ",COUNT($K$3:K4)),"") | K4: =IF(B4=$P$4,$K$1, IF(C4=0,"", IF(AND(OR(C4=12,C4=24,C4=36,C4=48,C4=60,C4=72),$M$7<1),$O$8, IF(OR(C4=12,C4=24,C4=36,C4=48,C4=60,C4=72),$O$7, IF(B4=$P$6,$O$8,""))))) | L4: =SUM(L3-H4) -> 39874.62 | N4: Annuité | O4: =-K1 -> -17460 | P4: =IFERROR(EDATE(B1,SUM(DATEDIF(B1,D1,"m"))),0) -> 44428
A5: 3 | B5: =EDATE($B$1,A5) -> 43636 | C5: =IF(B5=$P$4,0, IF(B4=$P$4,1, IF(C4=0,0, IF(C4=$O$6,0, SUM(C4+1))))) -> 0 | D5: =IF(C5<>0,B5,0) -> 0 | E5: {=IF(C5=0,0, IF(Situation!$B$152=0,0, IF(OR(C5=12,C5=24,C5=36,C5=48,C5=60,C5=72),$E$1, IF(AND(C5>=1,C5<=SUM($M$7*12)),0, IF(AND(I5<=$M$7,TEXT(D5,"aaaa")=TEXT($P$6,"aaaa")),0, IF($M$7=0,SUM((Situation!$B$71:$B$85=MONTH(1&"/"&TEXT(D5,"mmmm")))*(Situation!$C$71:$C$85)), IF(TEXT(D5,"aaaa")=TEXT($P$6,"aaaa"),SUM((Situation!$B$71:$B$85=MONTH(1&"/"&TEXT(D5,"mmmm")))*(Situation!$C$71:$C$85)), 0)))))))} -> 0 | F5: =IF($D$1=0,0, IF(D5=$P$6,$F$1, 0)) -> 0 | G5: {=IFERROR(IF(B5=$P$4,$K$1, IF(B5=EDATE($B$1,84),0, IF(COUNTIF($N$9:$N$20,B5),LOOKUP(2,1/($N$9:$N$20=B5),$Q$9:$Q$21)*-1, IF(C5<>0,$G$1,0)))),0)} -> 0 | H5: =IF(L4<SUM(E5+G5),L4,SUM(E5+G5)) -> 0 | I5: =IF(B5=$P$4,1, IF(AND(C5>=1,C5<=12),2, IF(AND(C5>=13,C5<=24),3, IF(AND(C5>=25,C5<=36),4, IF(AND(C5>=37,C5<=48),5, IF(AND(C5>=49,C5<=60),6, IF(AND(C5>=61,C5<=72),7, IF(AND(C5>=73,C5<=84),8, 0)))))))) -> 0 | J5: =IF(K5<>"",CONCATENATE("Annuité ",COUNT($K$3:K5)),"") | K5: =IF(B5=$P$4,$K$1, IF(C5=0,"", IF(AND(OR(C5=12,C5=24,C5=36,C5=48,C5=60,C5=72),$M$7<1),$O$8, IF(OR(C5=12,C5=24,C5=36,C5=48,C5=60,C5=72),$O$7, IF(B5=$P$6,$O$8,""))))) | L5: =SUM(L4-H5) -> 39874.62 | N5: Solde : | O5: =SUM(O3:O4) -> 22414.62
A6: 4 | B6: =EDATE($B$1,A6) -> 43666 | C6: =IF(B6=$P$4,0, IF(B5=$P$4,1, IF(C5=0,0, IF(C5=$O$6,0, SUM(C5+1))))) -> 0 | D6: =IF(C6<>0,B6,0) -> 0 | E6: {=IF(C6=0,0, IF(Situation!$B$152=0,0, IF(OR(C6=12,C6=24,C6=36,C6=48,C6=60,C6=72),$E$1, IF(AND(C6>=1,C6<=SUM($M$7*12)),0, IF(AND(I6<=$M$7,TEXT(D6,"aaaa")=TEXT($P$6,"aaaa")),0, IF($M$7=0,SUM((Situation!$B$71:$B$85=MONTH(1&"/"&TEXT(D6,"mmmm")))*(Situation!$C$71:$C$85)), IF(TEXT(D6,"aaaa")=TEXT($P$6,"aaaa"),SUM((Situation!$B$71:$B$85=MONTH(1&"/"&TEXT(D6,"mmmm")))*(Situation!$C$71:$C$85)), 0)))))))} -> 0 | F6: =IF($D$1=0,0, IF(D6=$P$6,$F$1, 0)) -> 0 | G6: {=IFERROR(IF(B6=$P$4,$K$1, IF(B6=EDATE($B$1,84),0, IF(COUNTIF($N$9:$N$20,B6),LOOKUP(2,1/($N$9:$N$20=B6),$Q$9:$Q$21)*-1, IF(C6<>0,$G$1,0)))),0)} -> 0 | H6: =IF(L5<SUM(E6+G6),L5,SUM(E6+G6)) -> 0 | I6: =IF(B6=$P$4,1, IF(AND(C6>=1,C6<=12),2, IF(AND(C6>=13,C6<=24),3, IF(AND(C6>=25,C6<=36),4, IF(AND(C6>=37,C6<=48),5, IF(AND(C6>=49,C6<=60),6, IF(AND(C6>=61,C6<=72),7, IF(AND(C6>=73,C6<=84),8, 0)))))))) -> 0 | J6: =IF(K6<>"",CONCATENATE("Annuité ",COUNT($K$3:K6)),"") | K6: =IF(B6=$P$4,$K$1, IF(C6=0,"", IF(AND(OR(C6=12,C6=24,C6=36,C6=48,C6=60,C6=72),$M$7<1),$O$8, IF(OR(C6=12,C6=24,C6=36,C6=48,C6=60,C6=72),$O$7, IF(B6=$P$6,$O$8,""))))) | L6: =SUM(L5-H6) -> 39874.62 | N6: Nb de mois | O6: =IF(SUM(SUM(M7*12)+M8)>O2,O2,SUM(SUM(M7*12)+M8)) -> 22 | P6: {=IFERROR(IF(M8=0,P8,LOOKUP(2,1/($Q$9:$Q$20<>0),$N$9:$N$20)),0)} -> 45097 | Q6: {=IFERROR(LOOKUP(2,1/($H$3:$H$86<>0),$A$3:$A$86),0)} -> 51
A7: 5 | B7: =EDATE($B$1,A7) -> 43697 | C7: =IF(B7=$P$4,0, IF(B6=$P$4,1, IF(C6=0,0, IF(C6=$O$6,0, SUM(C6+1))))) -> 0 | D7: =IF(C7<>0,B7,0) -> 0 | E7: {=IF(C7=0,0, IF(Situation!$B$152=0,0, IF(OR(C7=12,C7=24,C7=36,C7=48,C7=60,C7=72),$E$1, IF(AND(C7>=1,C7<=SUM($M$7*12)),0, IF(AND(I7<=$M$7,TEXT(D7,"aaaa")=TEXT($P$6,"aaaa")),0, IF($M$7=0,SUM((Situation!$B$71:$B$85=MONTH(1&"/"&TEXT(D7,"mmmm")))*(Situation!$C$71:$C$85)), IF(TEXT(D7,"aaaa")=TEXT($P$6,"aaaa"),SUM((Situation!$B$71:$B$85=MONTH(1&"/"&TEXT(D7,"mmmm")))*(Situation!$C$71:$C$85)), 0)))))))} -> 0 | F7: =IF($D$1=0,0, IF(D7=$P$6,$F$1, 0)) -> 0 | G7: {=IFERROR(IF(B7=$P$4,$K$1, IF(B7=EDATE($B$1,84),0, IF(COUNTIF($N$9:$N$20,B7),LOOKUP(2,1/($N$9:$N$20=B7),$Q$9:$Q$21)*-1, IF(C7<>0,$G$1,0)))),0)} -> 0 | H7: =IF(L6<SUM(E7+G7),L6,SUM(E7+G7)) -> 0 | I7: =IF(B7=$P$4,1, IF(AND(C7>=1,C7<=12),2, IF(AND(C7>=13,C7<=24),3, IF(AND(C7>=25,C7<=36),4, IF(AND(C7>=37,C7<=48),5, IF(AND(C7>=49,C7<=60),6, IF(AND(C7>=61,C7<=72),7, IF(AND(C7>=73,C7<=84),8, 0)))))))) -> 0 | J7: =IF(K7<>"",CONCATENATE("Annuité ",COUNT($K$3:K7)),"") | K7: =IF(B7=$P$4,$K$1, IF(C7=0,"", IF(AND(OR(C7=12,C7=24,C7=36,C7=48,C7=60,C7=72),$M$7<1),$O$8, IF(OR(C7=12,C7=24,C7=36,C7=48,C7=60,C7=72),$O$7, IF(B7=$P$6,$O$8,""))))) | L7: =SUM(L6-H7) -> 39874.62 | M7: =IFERROR(IF(ROUNDDOWN(SUM(O5/O7),0)>ROUNDDOWN(SUM(O2/12),0),ROUNDDOWN(SUM(O2/12),0),ROUNDDOWN(SUM(O5/O7),0)),0) -> 1 | N7: Annuité | O7: =IF(D1=0,0,SUM(E1+SUM(G1*12))) -> 13020
A8: 6 | B8: =EDATE($B$1,A8) -> 43728 | C8: =IF(B8=$P$4,0, IF(B7=$P$4,1, IF(C7=0,0, IF(C7=$O$6,0, SUM(C7+1))))) -> 0 | D8: =IF(C8<>0,B8,0) -> 0 | E8: {=IF(C8=0,0, IF(Situation!$B$152=0,0, IF(OR(C8=12,C8=24,C8=36,C8=48,C8=60,C8=72),$E$1, IF(AND(C8>=1,C8<=SUM($M$7*12)),0, IF(AND(I8<=$M$7,TEXT(D8,"aaaa")=TEXT($P$6,"aaaa")),0, IF($M$7=0,SUM((Situation!$B$71:$B$85=MONTH(1&"/"&TEXT(D8,"mmmm")))*(Situation!$C$71:$C$85)), IF(TEXT(D8,"aaaa")=TEXT($P$6,"aaaa"),SUM((Situation!$B$71:$B$85=MONTH(1&"/"&TEXT(D8,"mmmm")))*(Situation!$C$71:$C$85)), 0)))))))} -> 0 | F8: =IF($D$1=0,0, IF(D8=$P$6,$F$1, 0)) -> 0 | G8: {=IFERROR(IF(B8=$P$4,$K$1, IF(B8=EDATE($B$1,84),0, IF(COUNTIF($N$9:$N$20,B8),LOOKUP(2,1/($N$9:$N$20=B8),$Q$9:$Q$21)*-1, IF(C8<>0,$G$1,0)))),0)} -> 0 | H8: =IF(L7<SUM(E8+G8),L7,SUM(E8+G8)) -> 0 | I8: =IF(B8=$P$4,1, IF(AND(C8>=1,C8<=12),2, IF(AND(C8>=13,C8<=24),3, IF(AND(C8>=25,C8<=36),4, IF(AND(C8>=37,C8<=48),5, IF(AND(C8>=49,C8<=60),6, IF(AND(C8>=61,C8<=72),7, IF(AND(C8>=73,C8<=84),8, 0)))))))) -> 0 | J8: =IF(K8<>"",CONCATENATE("Annuité ",COUNT($K$3:K8)),"") | K8: =IF(B8=$P$4,$K$1, IF(C8=0,"", IF(AND(OR(C8=12,C8=24,C8=36,C8=48,C8=60,C8=72),$M$7<1),$O$8, IF(OR(C8=12,C8=24,C8=36,C8=48,C8=60,C8=72),$O$7, IF(B8=$P$6,$O$8,""))))) | L8: =SUM(L7-H8) -> 39874.62 | M8: {=IFERROR(LOOKUP(2,1/($Q$9:$Q$20<>0),$M$9:$M$20),0)} -> 10 | N8: Mois : Dernière annuité | O8: =SUM(Q9:Q20)*-1 -> 9394.62 | P8: =IFERROR(EDATE(P4,SUM(M7*12)),0) -> 44793 | Q8: =SUM(O5-SUM(O7*M7)) -> 9394.62
A9: 7 | B9: =EDATE($B$1,A9) -> 43758 | C9: =IF(B9=$P$4,0, IF(B8=$P$4,1, IF(C8=0,0, IF(C8=$O$6,0, SUM(C8+1))))) -> 0 | D9: =IF(C9<>0,B9,0) -> 0 | E9: {=IF(C9=0,0, IF(Situation!$B$152=0,0, IF(OR(C9=12,C9=24,C9=36,C9=48,C9=60,C9=72),$E$1, IF(AND(C9>=1,C9<=SUM($M$7*12)),0, IF(AND(I9<=$M$7,TEXT(D9,"aaaa")=TEXT($P$6,"aaaa")),0, IF($M$7=0,SUM((Situation!$B$71:$B$85=MONTH(1&"/"&TEXT(D9,"mmmm")))*(Situation!$C$71:$C$85)), IF(TEXT(D9,"aaaa")=TEXT($P$6,"aaaa"),SUM((Situation!$B$71:$B$85=MONTH(1&"/"&TEXT(D9,"mmmm")))*(Situation!$C$71:$C$85)), 0)))))))} -> 0 | F9: =IF($D$1=0,0, IF(D9=$P$6,$F$1, 0)) -> 0 | G9: {=IFERROR(IF(B9=$P$4,$K$1, IF(B9=EDATE($B$1,84),0, IF(COUNTIF($N$9:$N$20,B9),LOOKUP(2,1/($N$9:$N$20=B9),$Q$9:$Q$21)*-1, IF(C9<>0,$G$1,0)))),0)} -> 0 | H9: =IF(L8<SUM(E9+G9),L8,SUM(E9+G9)) -> 0 | I9: =IF(B9=$P$4,1, IF(AND(C9>=1,C9<=12),2, IF(AND(C9>=13,C9<=24),3, IF(AND(C9>=25,C9<=36),4, IF(AND(C9>=37,C9<=48),5, IF(AND(C9>=49,C9<=60),6, IF(AND(C9>=61,C9<=72),7, IF(AND(C9>=73,C9<=84),8, 0)))))))) -> 0 | J9: =IF(K9<>"",CONCATENATE("Annuité ",COUNT($K$3:K9)),"") | K9: =IF(B9=$P$4,$K$1, IF(C9=0,"", IF(AND(OR(C9=12,C9=24,C9=36,C9=48,C9=60,C9=72),$M$7<1),$O$8, IF(OR(C9=12,C9=24,C9=36,C9=48,C9=60,C9=72),$O$7, IF(B9=$P$6,$O$8,""))))) | L9: =SUM(L8-H9) -> 39874.62 | M9: =IF(N9=0,0,1) -> 1 | N9: =IF($Q$8=0,0, IF(P8=P2,0, IF(IF(AND(OR(DAY(B1)=29,DAY(B1)=30,DAY(B1)=31),OR(DAY(P8)=28,DAY(P8)=29)),SUM(P8+DAY(B1)+1))=EDATE($B$1,84),0, IF(EDATE(P8,1)=EDATE($B$1,84),0, EDATE($P$8,1))))) -> 44824 | O9: {=IF(N9=0,0, IF(Situation!$B$152=0,0, SUM((Situation!$B$71:$B$85=MONTH(1&"/"&TEXT(N9,"mmmm")))*(Situation!$C$71:$C$85))))} -> 0 | P9: =IF(N9=0,0, IF(AND(SUM($Q$8/$G$1)>11,SUM($Q$8/$G$1)<=12),$G$1, IF(Situation!$B$143=0,SUM($G$1-SUM($F$1/12)),$G$1))) -> 971.66667 | Q9: =IF(N9=0,0, IF(SUM(O9:P9)>Q8,-Q8, -SUM(O9:P9))) -> -971.66667 | R9: =SUM(Q8+Q9) -> 8422.9533
A10: 8 | B10: =EDATE($B$1,A10) -> 43789 | C10: =IF(B10=$P$4,0, IF(B9=$P$4,1, IF(C9=0,0, IF(C9=$O$6,0, SUM(C9+1))))) -> 0 | D10: =IF(C10<>0,B10,0) -> 0 | E10: {=IF(C10=0,0, IF(Situation!$B$152=0,0, IF(OR(C10=12,C10=24,C10=36,C10=48,C10=60,C10=72),$E$1, IF(AND(C10>=1,C10<=SUM($M$7*12)),0, IF(AND(I10<=$M$7,TEXT(D10,"aaaa")=TEXT($P$6,"aaaa")),0, IF($M$7=0,SUM((Situation!$B$71:$B$85=MONTH(1&"/"&TEXT(D10,"mmmm")))*(Situation!$C$71:$C$85)), IF(TEXT(D10,"aaaa")=TEXT($P$6,"aaaa"),SUM((Situation!$B$71:$B$85=MONTH(1&"/"&TEXT(D10,"mmmm")))*(Situation!$C$71:$C$85)), 0)))))))} -> 0 | F10: =IF($D$1=0,0, IF(D10=$P$6,$F$1, 0)) -> 0 | G10: {=IFERROR(IF(B10=$P$4,$K$1, IF(B10=EDATE($B$1,84),0, IF(COUNTIF($N$9:$N$20,B10),LOOKUP(2,1/($N$9:$N$20=B10),$Q$9:$Q$21)*-1, IF(C10<>0,$G$1,0)))),0)} -> 0 | H10: =IF(L9<SUM(E10+G10),L9,SUM(E10+G10)) -> 0 | I10: =IF(B10=$P$4,1, IF(AND(C10>=1,C10<=12),2, IF(AND(C10>=13,C10<=24),3, IF(AND(C10>=25,C10<=36),4, IF(AND(C10>=37,C10<=48),5, IF(AND(C10>=49,C10<=60),6, IF(AND(C10>=61,C10<=72),7, IF(AND(C10>=73,C10<=84),8, 0)))))))) -> 0 | J10: =IF(K10<>"",CONCATENATE("Annuité ",COUNT($K$3:K10)),"") | K10: =IF(B10=$P$4,$K$1, IF(C10=0,"", IF(AND(OR(C10=12,C10=24,C10=36,C10=48,C10=60,C10=72),$M$7<1),$O$8, IF(OR(C10=12,C10=24,C10=36,C10=48,C10=60,C10=72),$O$7, IF(B10=$P$6,$O$8,""))))) | L10: =SUM(L9-H10) -> 39874.62 | M10: =IF(N10=0,0,SUM(M9+1)) -> 2 | N10: =IF(N9=0,0, IF(R9=0,0, IF(EDATE(N9,1)=EDATE($B$1,84),0, EDATE(N9,1)))) -> 44854 | O10: {=IF(N10=0,0, IF(Situation!$B$152=0,0, SUM((Situation!$B$71:$B$85=MONTH(1&"/"&TEXT(N10,"mmmm")))*(Situation!$C$71:$C$85))))} -> 0 | P10: =IF(N10=0,0, IF(AND(SUM($Q$8/$G$1)>11,SUM($Q$8/$G$1)<=12),$G$1, IF(Situation!$B$143=0,SUM($G$1-SUM($F$1/12)),$G$1))) -> 971.66667 | Q10: =IF(N10=0,0, IF(SUM(O10:P10)>R9,-R9,-SUM(O10:P10))) -> -971.66667 | R10: =SUM(R9+Q10) -> 7451.2867
A11: 9 | B11: =EDATE($B$1,A11) -> 43819 | C11: =IF(B11=$P$4,0, IF(B10=$P$4,1, IF(C10=0,0, IF(C10=$O$6,0, SUM(C10+1))))) -> 0 | D11: =IF(C11<>0,B11,0) -> 0 | E11: {=IF(C11=0,0, IF(Situation!$B$152=0,0, IF(OR(C11=12,C11=24,C11=36,C11=48,C11=60,C11=72),$E$1, IF(AND(C11>=1,C11<=SUM($M$7*12)),0, IF(AND(I11<=$M$7,TEXT(D11,"aaaa")=TEXT($P$6,"aaaa")),0, IF($M$7=0,SUM((Situation!$B$71:$B$85=MONTH(1&"/"&TEXT(D11,"mmmm")))*(Situation!$C$71:$C$85)), IF(TEXT(D11,"aaaa")=TEXT($P$6,"aaaa"),SUM((Situation!$B$71:$B$85=MONTH(1&"/"&TEXT(D11,"mmmm")))*(Situation!$C$71:$C$85)), 0)))))))} -> 0 | F11: =IF($D$1=0,0, IF(D11=$P$6,$F$1, 0)) -> 0 | G11: {=IFERROR(IF(B11=$P$4,$K$1, IF(B11=EDATE($B$1,84),0, IF(COUNTIF($N$9:$N$20,B11),LOOKUP(2,1/($N$9:$N$20=B11),$Q$9:$Q$21)*-1, IF(C11<>0,$G$1,0)))),0)} -> 0 | H11: =IF(L10<SUM(E11+G11),L10,SUM(E11+G11)) -> 0 | I11: =IF(B11=$P$4,1, IF(AND(C11>=1,C11<=12),2, IF(AND(C11>=13,C11<=24),3, IF(AND(C11>=25,C11<=36),4, IF(AND(C11>=37,C11<=48),5, IF(AND(C11>=49,C11<=60),6, IF(AND(C11>=61,C11<=72),7, IF(AND(C11>=73,C11<=84),8, 0)))))))) -> 0 | J11: =IF(K11<>"",CONCATENATE("Annuité ",COUNT($K$3:K11)),"") | K11: =IF(B11=$P$4,$K$1, IF(C11=0,"", IF(AND(OR(C11=12,C11=24,C11=36,C11=48,C11=60,C11=72),$M$7<1),$O$8, IF(OR(C11=12,C11=24,C11=36,C11=48,C11=60,C11=72),$O$7, IF(B11=$P$6,$O$8,""))))) | L11: =SUM(L10-H11) -> 39874.62 | M11: =IF(N11=0,0,SUM(M10+1)) -> 3 | N11: =IF(N10=0,0, IF(R10=0,0, IF(EDATE(N10,1)=EDATE($B$1,84),0, EDATE(N10,1)))) -> 44885 | O11: {=IF(N11=0,0, IF(Situation!$B$152=0,0, SUM((Situation!$B$71:$B$85=MONTH(1&"/"&TEXT(N11,"mmmm")))*(Situation!$C$71:$C$85))))} -> 0 | P11: =IF(N11=0,0, IF(AND(SUM($Q$8/$G$1)>11,SUM($Q$8/$G$1)<=12),$G$1, IF(Situation!$B$143=0,SUM($G$1-SUM($F$1/12)),$G$1))) -> 971.66667 | Q11: =IF(N11=0,0, IF(SUM(O11:P11)>R10,-R10,-SUM(O11:P11))) -> -971.66667 | R11: =SUM(R10+Q11) -> 6479.62
A12: 10 | B12: =EDATE($B$1,A12) -> 43850 | C12: =IF(B12=$P$4,0, IF(B11=$P$4,1, IF(C11=0,0, IF(C11=$O$6,0, SUM(C11+1))))) -> 0 | D12: =IF(C12<>0,B12,0) -> 0 | E12: {=IF(C12=0,0, IF(Situation!$B$152=0,0, IF(OR(C12=12,C12=24,C12=36,C12=48,C12=60,C12=72),$E$1, IF(AND(C12>=1,C12<=SUM($M$7*12)),0, IF(AND(I12<=$M$7,TEXT(D12,"aaaa")=TEXT($P$6,"aaaa")),0, IF($M$7=0,SUM((Situation!$B$71:$B$85=MONTH(1&"/"&TEXT(D12,"mmmm")))*(Situation!$C$71:$C$85)), IF(TEXT(D12,"aaaa")=TEXT($P$6,"aaaa"),SUM((Situation!$B$71:$B$85=MONTH(1&"/"&TEXT(D12,"mmmm")))*(Situation!$C$71:$C$85)), 0)))))))} -> 0 | F12: =IF($D$1=0,0, IF(D12=$P$6,$F$1, 0)) -> 0 | G12: {=IFERROR(IF(B12=$P$4,$K$1, IF(B12=EDATE($B$1,84),0, IF(COUNTIF($N$9:$N$20,B12),LOOKUP(2,1/($N$9:$N$20=B12),$Q$9:$Q$21)*-1, IF(C12<>0,$G$1,0)))),0)} -> 0 | H12: =IF(L11<SUM(E12+G12),L11,SUM(E12+G12)) -> 0 | I12: =IF(B12=$P$4,1, IF(AND(C12>=1,C12<=12),2, IF(AND(C12>=13,C12<=24),3, IF(AND(C12>=25,C12<=36),4, IF(AND(C12>=37,C12<=48),5, IF(AND(C12>=49,C12<=60),6, IF(AND(C12>=61,C12<=72),7, IF(AND(C12>=73,C12<=84),8, 0)))))))) -> 0 | J12: =IF(K12<>"",CONCATENATE("Annuité ",COUNT($K$3:K12)),"") | K12: =IF(B12=$P$4,$K$1, IF(C12=0,"", IF(AND(OR(C12=12,C12=24,C12=36,C12=48,C12=60,C12=72),$M$7<1),$O$8, IF(OR(C12=12,C12=24,C12=36,C12=48,C12=60,C12=72),$O$7, IF(B12=$P$6,$O$8,""))))) | L12: =SUM(L11-H12) -> 39874.62 | M12: =IF(N12=0,0,SUM(M11+1)) -> 4 | N12: =IF(N11=0,0, IF(R11=0,0, IF(EDATE(N11,1)=EDATE($B$1,84),0, EDATE(N11,1)))) -> 44915 | O12: {=IF(N12=0,0, IF(Situation!$B$152=0,0, SUM((Situation!$B$71:$B$85=MONTH(1&"/"&TEXT(N12,"mmmm")))*(Situation!$C$71:$C$85))))} -> 0 | P12: =IF(N12=0,0, IF(AND(SUM($Q$8/$G$1)>11,SUM($Q$8/$G$1)<=12),$G$1, IF(Situation!$B$143=0,SUM($G$1-SUM($F$1/12)),$G$1))) -> 971.66667 | Q12: =IF(N12=0,0, IF(SUM(O12:P12)>R11,-R11,-SUM(O12:P12))) -> -971.66667 | R12: =SUM(R11+Q12) -> 5507.9533
A13: 11 | B13: =EDATE($B$1,A13) -> 43881 | C13: =IF(B13=$P$4,0, IF(B12=$P$4,1, IF(C12=0,0, IF(C12=$O$6,0, SUM(C12+1))))) -> 0 | D13: =IF(C13<>0,B13,0) -> 0 | E13: {=IF(C13=0,0, IF(Situation!$B$152=0,0, IF(OR(C13=12,C13=24,C13=36,C13=48,C13=60,C13=72),$E$1, IF(AND(C13>=1,C13<=SUM($M$7*12)),0, IF(AND(I13<=$M$7,TEXT(D13,"aaaa")=TEXT($P$6,"aaaa")),0, IF($M$7=0,SUM((Situation!$B$71:$B$85=MONTH(1&"/"&TEXT(D13,"mmmm")))*(Situation!$C$71:$C$85)), IF(TEXT(D13,"aaaa")=TEXT($P$6,"aaaa"),SUM((Situation!$B$71:$B$85=MONTH(1&"/"&TEXT(D13,"mmmm")))*(Situation!$C$71:$C$85)), 0)))))))} -> 0 | F13: =IF($D$1=0,0, IF(D13=$P$6,$F$1, 0)) -> 0 | G13: {=IFERROR(IF(B13=$P$4,$K$1, IF(B13=EDATE($B$1,84),0, IF(COUNTIF($N$9:$N$20,B13),LOOKUP(2,1/($N$9:$N$20=B13),$Q$9:$Q$21)*-1, IF(C13<>0,$G$1,0)))),0)} -> 0 | H13: =IF(L12<SUM(E13+G13),L12,SUM(E13+G13)) -> 0 | I13: =IF(B13=$P$4,1, IF(AND(C13>=1,C13<=12),2, IF(AND(C13>=13,C13<=24),3, IF(AND(C13>=25,C13<=36),4, IF(AND(C13>=37,C13<=48),5, IF(AND(C13>=49,C13<=60),6, IF(AND(C13>=61,C13<=72),7, IF(AND(C13>=73,C13<=84),8, 0)))))))) -> 0 | J13: =IF(K13<>"",CONCATENATE("Annuité ",COUNT($K$3:K13)),"") | K13: =IF(B13=$P$4,$K$1, IF(C13=0,"", IF(AND(OR(C13=12,C13=24,C13=36,C13=48,C13=60,C13=72),$M$7<1),$O$8, IF(OR(C13=12,C13=24,C13=36,C13=48,C13=60,C13=72),$O$7, IF(B13=$P$6,$O$8,""))))) | L13: =SUM(L12-H13) -> 39874.62 | M13: =IF(N13=0,0,SUM(M12+1)) -> 5 | N13: =IF(N12=0,0, IF(R12=0,0, IF(EDATE(N12,1)=EDATE($B$1,84),0, EDATE(N12,1)))) -> 44946 | O13: {=IF(N13=0,0, IF(Situation!$B$152=0,0, SUM((Situation!$B$71:$B$85=MONTH(1&"/"&TEXT(N13,"mmmm")))*(Situation!$C$71:$C$85))))} -> 0 | P13: =IF(N13=0,0, IF(AND(SUM($Q$8/$G$1)>11,SUM($Q$8/$G$1)<=12),$G$1, IF(Situation!$B$143=0,SUM($G$1-SUM($F$1/12)),$G$1))) -> 971.66667 | Q13: =IF(N13=0,0, IF(SUM(O13:P13)>R12,-R12,-SUM(O13:P13))) -> -971.66667 | R13: =SUM(R12+Q13) -> 4536.2867
A14: 12 | B14: =EDATE($B$1,A14) -> 43910 | C14: =IF(B14=$P$4,0, IF(B13=$P$4,1, IF(C13=0,0, IF(C13=$O$6,0, SUM(C13+1))))) -> 0 | D14: =IF(C14<>0,B14,0) -> 0 | E14: {=IF(C14=0,0, IF(Situation!$B$152=0,0, IF(OR(C14=12,C14=24,C14=36,C14=48,C14=60,C14=72),$E$1, IF(AND(C14>=1,C14<=SUM($M$7*12)),0, IF(AND(I14<=$M$7,TEXT(D14,"aaaa")=TEXT($P$6,"aaaa")),0, IF($M$7=0,SUM((Situation!$B$71:$B$85=MONTH(1&"/"&TEXT(D14,"mmmm")))*(Situation!$C$71:$C$85)), IF(TEXT(D14,"aaaa")=TEXT($P$6,"aaaa"),SUM((Situation!$B$71:$B$85=MONTH(1&"/"&TEXT(D14,"mmmm")))*(Situation!$C$71:$C$85)), 0)))))))} -> 0 | F14: =IF($D$1=0,0, IF(D14=$P$6,$F$1, 0)) -> 0 | G14: {=IFERROR(IF(B14=$P$4,$K$1, IF(B14=EDATE($B$1,84),0, IF(COUNTIF($N$9:$N$20,B14),LOOKUP(2,1/($N$9:$N$20=B14),$Q$9:$Q$21)*-1, IF(C14<>0,$G$1,0)))),0)} -> 0 | H14: =IF(L13<SUM(E14+G14),L13,SUM(E14+G14)) -> 0 | I14: =IF(B14=$P$4,1, IF(AND(C14>=1,C14<=12),2, IF(AND(C14>=13,C14<=24),3, IF(AND(C14>=25,C14<=36),4, IF(AND(C14>=37,C14<=48),5, IF(AND(C14>=49,C14<=60),6, IF(AND(C14>=61,C14<=72),7, IF(AND(C14>=73,C14<=84),8, 0)))))))) -> 0 | J14: =IF(K14<>"",CONCATENATE("Annuité ",COUNT($K$3:K14)),"") | K14: =IF(B14=$P$4,$K$1, IF(C14=0,"", IF(AND(OR(C14=12,C14=24,C14=36,C14=48,C14=60,C14=72),$M$7<1),$O$8, IF(OR(C14=12,C14=24,C14=36,C14=48,C14=60,C14=72),$O$7, IF(B14=$P$6,$O$8,""))))) | L14: =SUM(L13-H14) -> 39874.62 | M14: =IF(N14=0,0,SUM(M13+1)) -> 6 | N14: =IF(N13=0,0, IF(R13=0,0, IF(EDATE(N13,1)=EDATE($B$1,84),0, EDATE(N13,1)))) -> 44977 | O14: {=IF(N14=0,0, IF(Situation!$B$152=0,0, SUM((Situation!$B$71:$B$85=MONTH(1&"/"&TEXT(N14,"mmmm")))*(Situation!$C$71:$C$85))))} -> 0 | P14: =IF(N14=0,0, IF(AND(SUM($Q$8/$G$1)>11,SUM($Q$8/$G$1)<=12),$G$1, IF(Situation!$B$143=0,SUM($G$1-SUM($F$1/12)),$G$1))) -> 971.66667 | Q14: =IF(N14=0,0, IF(SUM(O14:P14)>R13,-R13,-SUM(O14:P14))) -> -971.66667 | R14: =SUM(R13+Q14) -> 3564.62
A15: 13 | B15: =EDATE($B$1,A15) -> 43941 | C15: =IF(B15=$P$4,0, IF(B14=$P$4,1, IF(C14=0,0, IF(C14=$O$6,0, SUM(C14+1))))) -> 0 | D15: =IF(C15<>0,B15,0) -> 0 | E15: {=IF(C15=0,0, IF(Situation!$B$152=0,0, IF(OR(C15=12,C15=24,C15=36,C15=48,C15=60,C15=72),$E$1, IF(AND(C15>=1,C15<=SUM($M$7*12)),0, IF(AND(I15<=$M$7,TEXT(D15,"aaaa")=TEXT($P$6,"aaaa")),0, IF($M$7=0,SUM((Situation!$B$71:$B$85=MONTH(1&"/"&TEXT(D15,"mmmm")))*(Situation!$C$71:$C$85)), IF(TEXT(D15,"aaaa")=TEXT($P$6,"aaaa"),SUM((Situation!$B$71:$B$85=MONTH(1&"/"&TEXT(D15,"mmmm")))*(Situation!$C$71:$C$85)), 0)))))))} -> 0 | F15: =IF($D$1=0,0, IF(D15=$P$6,$F$1, 0)) -> 0 | G15: {=IFERROR(IF(B15=$P$4,$K$1, IF(B15=EDATE($B$1,84),0, IF(COUNTIF($N$9:$N$20,B15),LOOKUP(2,1/($N$9:$N$20=B15),$Q$9:$Q$21)*-1, IF(C15<>0,$G$1,0)))),0)} -> 0 | H15: =IF(L14<SUM(E15+G15),L14,SUM(E15+G15)) -> 0 | I15: =IF(B15=$P$4,1, IF(AND(C15>=1,C15<=12),2, IF(AND(C15>=13,C15<=24),3, IF(AND(C15>=25,C15<=36),4, IF(AND(C15>=37,C15<=48),5, IF(AND(C15>=49,C15<=60),6, IF(AND(C15>=61,C15<=72),7, IF(AND(C15>=73,C15<=84),8, 0)))))))) -> 0 | J15: =IF(K15<>"",CONCATENATE("Annuité ",COUNT($K$3:K15)),"") | K15: =IF(B15=$P$4,$K$1, IF(C15=0,"", IF(AND(OR(C15=12,C15=24,C15=36,C15=48,C15=60,C15=72),$M$7<1),$O$8, IF(OR(C15=12,C15=24,C15=36,C15=48,C15=60,C15=72),$O$7, IF(B15=$P$6,$O$8,""))))) | L15: =SUM(L14-H15) -> 39874.62 | M15: =IF(N15=0,0,SUM(M14+1)) -> 7 | N15: =IF(N14=0,0, IF(R14=0,0, IF(EDATE(N14,1)=EDATE($B$1,84),0, EDATE(N14,1)))) -> 45005 | O15: {=IF(N15=0,0, IF(Situation!$B$152=0,0, SUM((Situation!$B$71:$B$85=MONTH(1&"/"&TEXT(N15,"mmmm")))*(Situation!$C$71:$C$85))))} -> 0 | P15: =IF(N15=0,0, IF(AND(SUM($Q$8/$G$1)>11,SUM($Q$8/$G$1)<=12),$G$1, IF(Situation!$B$143=0,SUM($G$1-SUM($F$1/12)),$G$1))) -> 971.66667 | Q15: =IF(N15=0,0, IF(SUM(O15:P15)>R14,-R14,-SUM(O15:P15))) -> -971.66667 | R15: =SUM(R14+Q15) -> 2592.9533
A16: 14 | B16: =EDATE($B$1,A16) -> 43971 | C16: =IF(B16=$P$4,0, IF(B15=$P$4,1, IF(C15=0,0, IF(C15=$O$6,0, SUM(C15+1))))) -> 0 | D16: =IF(C16<>0,B16,0) -> 0 | E16: {=IF(C16=0,0, IF(Situation!$B$152=0,0, IF(OR(C16=12,C16=24,C16=36,C16=48,C16=60,C16=72),$E$1, IF(AND(C16>=1,C16<=SUM($M$7*12)),0, IF(AND(I16<=$M$7,TEXT(D16,"aaaa")=TEXT($P$6,"aaaa")),0, IF($M$7=0,SUM((Situation!$B$71:$B$85=MONTH(1&"/"&TEXT(D16,"mmmm")))*(Situation!$C$71:$C$85)), IF(TEXT(D16,"aaaa")=TEXT($P$6,"aaaa"),SUM((Situation!$B$71:$B$85=MONTH(1&"/"&TEXT(D16,"mmmm")))*(Situation!$C$71:$C$85)), 0)))))))} -> 0 | F16: =IF($D$1=0,0, IF(D16=$P$6,$F$1, 0)) -> 0 | G16: {=IFERROR(IF(B16=$P$4,$K$1, IF(B16=EDATE($B$1,84),0, IF(COUNTIF($N$9:$N$20,B16),LOOKUP(2,1/($N$9:$N$20=B16),$Q$9:$Q$21)*-1, IF(C16<>0,$G$1,0)))),0)} -> 0 | H16: =IF(L15<SUM(E16+G16),L15,SUM(E16+G16)) -> 0 | I16: =IF(B16=$P$4,1, IF(AND(C16>=1,C16<=12),2, IF(AND(C16>=13,C16<=24),3, IF(AND(C16>=25,C16<=36),4, IF(AND(C16>=37,C16<=48),5, IF(AND(C16>=49,C16<=60),6, IF(AND(C16>=61,C16<=72),7, IF(AND(C16>=73,C16<=84),8, 0)))))))) -> 0 | J16: =IF(K16<>"",CONCATENATE("Annuité ",COUNT($K$3:K16)),"") | K16: =IF(B16=$P$4,$K$1, IF(C16=0,"", IF(AND(OR(C16=12,C16=24,C16=36,C16=48,C16=60,C16=72),$M$7<1),$O$8, IF(OR(C16=12,C16=24,C16=36,C16=48,C16=60,C16=72),$O$7, IF(B16=$P$6,$O$8,""))))) | L16: =SUM(L15-H16) -> 39874.62 | M16: =IF(N16=0,0,SUM(M15+1)) -> 8 | N16: =IF(N15=0,0, IF(R15=0,0, IF(EDATE(N15,1)=EDATE($B$1,84),0, EDATE(N15,1)))) -> 45036 | O16: {=IF(N16=0,0, IF(Situation!$B$152=0,0, SUM((Situation!$B$71:$B$85=MONTH(1&"/"&TEXT(N16,"mmmm")))*(Situation!$C$71:$C$85))))} -> 0 | P16: =IF(N16=0,0, IF(AND(SUM($Q$8/$G$1)>11,SUM($Q$8/$G$1)<=12),$G$1, IF(Situation!$B$143=0,SUM($G$1-SUM($F$1/12)),$G$1))) -> 971.66667 | Q16: =IF(N16=0,0, IF(SUM(O16:P16)>R15,-R15,-SUM(O16:P16))) -> -971.66667 | R16: =SUM(R15+Q16) -> 1621.2867
A17: 15 | B17: =EDATE($B$1,A17) -> 44002 | C17: =IF(B17=$P$4,0, IF(B16=$P$4,1, IF(C16=0,0, IF(C16=$O$6,0, SUM(C16+1))))) -> 0 | D17: =IF(C17<>0,B17,0) -> 0 | E17: {=IF(C17=0,0, IF(Situation!$B$152=0,0, IF(OR(C17=12,C17=24,C17=36,C17=48,C17=60,C17=72),$E$1, IF(AND(C17>=1,C17<=SUM($M$7*12)),0, IF(AND(I17<=$M$7,TEXT(D17,"aaaa")=TEXT($P$6,"aaaa")),0, IF($M$7=0,SUM((Situation!$B$71:$B$85=MONTH(1&"/"&TEXT(D17,"mmmm")))*(Situation!$C$71:$C$85)), IF(TEXT(D17,"aaaa")=TEXT($P$6,"aaaa"),SUM((Situation!$B$71:$B$85=MONTH(1&"/"&TEXT(D17,"mmmm")))*(Situation!$C$71:$C$85)), 0)))))))} -> 0 | F17: =IF($D$1=0,0, IF(D17=$P$6,$F$1, 0)) -> 0 | G17: {=IFERROR(IF(B17=$P$4,$K$1, IF(B17=EDATE($B$1,84),0, IF(COUNTIF($N$9:$N$20,B17),LOOKUP(2,1/($N$9:$N$20=B17),$Q$9:$Q$21)*-1, IF(C17<>0,$G$1,0)))),0)} -> 0 | H17: =IF(L16<SUM(E17+G17),L16,SUM(E17+G17)) -> 0 | I17: =IF(B17=$P$4,1, IF(AND(C17>=1,C17<=12),2, IF(AND(C17>=13,C17<=24),3, IF(AND(C17>=25,C17<=36),4, IF(AND(C17>=37,C17<=48),5, IF(AND(C17>=49,C17<=60),6, IF(AND(C17>=61,C17<=72),7, IF(AND(C17>=73,C17<=84),8, 0)))))))) -> 0 | J17: =IF(K17<>"",CONCATENATE("Annuité ",COUNT($K$3:K17)),"") | K17: =IF(B17=$P$4,$K$1, IF(C17=0,"", IF(AND(OR(C17=12,C17=24,C17=36,C17=48,C17=60,C17=72),$M$7<1),$O$8, IF(OR(C17=12,C17=24,C17=36,C17=48,C17=60,C17=72),$O$7, IF(B17=$P$6,$O$8,""))))) | L17: =SUM(L16-H17) -> 39874.62 | M17: =IF(N17=0,0,SUM(M16+1)) -> 9 | N17: =IF(N16=0,0, IF(R16=0,0, IF(EDATE(N16,1)=EDATE($B$1,84),0, EDATE(N16,1)))) -> 45066 | O17: {=IF(N17=0,0, IF(Situation!$B$152=0,0, SUM((Situation!$B$71:$B$85=MONTH(1&"/"&TEXT(N17,"mmmm")))*(Situation!$C$71:$C$85))))} -> 0 | P17: =IF(N17=0,0, IF(AND(SUM($Q$8/$G$1)>11,SUM($Q$8/$G$1)<=12),$G$1, IF(Situation!$B$143=0,SUM($G$1-SUM($F$1/12)),$G$1))) -> 971.66667 | Q17: =IF(N17=0,0, IF(SUM(O17:P17)>R16,-R16,-SUM(O17:P17))) -> -971.66667 | R17: =SUM(R16+Q17) -> 649.62
A18: 16 | B18: =EDATE($B$1,A18) -> 44032 | C18: =IF(B18=$P$4,0, IF(B17=$P$4,1, IF(C17=0,0, IF(C17=$O$6,0, SUM(C17+1))))) -> 0 | D18: =IF(C18<>0,B18,0) -> 0 | E18: {=IF(C18=0,0, IF(Situation!$B$152=0,0, IF(OR(C18=12,C18=24,C18=36,C18=48,C18=60,C18=72),$E$1, IF(AND(C18>=1,C18<=SUM($M$7*12)),0, IF(AND(I18<=$M$7,TEXT(D18,"aaaa")=TEXT($P$6,"aaaa")),0, IF($M$7=0,SUM((Situation!$B$71:$B$85=MONTH(1&"/"&TEXT(D18,"mmmm")))*(Situation!$C$71:$C$85)), IF(TEXT(D18,"aaaa")=TEXT($P$6,"aaaa"),SUM((Situation!$B$71:$B$85=MONTH(1&"/"&TEXT(D18,"mmmm")))*(Situation!$C$71:$C$85)), 0)))))))} -> 0 | F18: =IF($D$1=0,0, IF(D18=$P$6,$F$1, 0)) -> 0 | G18: {=IFERROR(IF(B18=$P$4,$K$1, IF(B18=EDATE($B$1,84),0, IF(COUNTIF($N$9:$N$20,B18),LOOKUP(2,1/($N$9:$N$20=B18),$Q$9:$Q$21)*-1, IF(C18<>0,$G$1,0)))),0)} -> 0 | H18: =IF(L17<SUM(E18+G18),L17,SUM(E18+G18)) -> 0 | I18: =IF(B18=$P$4,1, IF(AND(C18>=1,C18<=12),2, IF(AND(C18>=13,C18<=24),3, IF(AND(C18>=25,C18<=36),4, IF(AND(C18>=37,C18<=48),5, IF(AND(C18>=49,C18<=60),6, IF(AND(C18>=61,C18<=72),7, IF(AND(C18>=73,C18<=84),8, 0)))))))) -> 0 | J18: =IF(K18<>"",CONCATENATE("Annuité ",COUNT($K$3:K18)),"") | K18: =IF(B18=$P$4,$K$1, IF(C18=0,"", IF(AND(OR(C18=12,C18=24,C18=36,C18=48,C18=60,C18=72),$M$7<1),$O$8, IF(OR(C18=12,C18=24,C18=36,C18=48,C18=60,C18=72),$O$7, IF(B18=$P$6,$O$8,""))))) | L18: =SUM(L17-H18) -> 39874.62 | M18: =IF(N18=0,0,SUM(M17+1)) -> 10 | N18: =IF(N17=0,0, IF(R17=0,0, IF(EDATE(N17,1)=EDATE($B$1,84),0, EDATE(N17,1)))) -> 45097 | O18: {=IF(N18=0,0, IF(Situation!$B$152=0,0, SUM((Situation!$B$71:$B$85=MONTH(1&"/"&TEXT(N18,"mmmm")))*(Situation!$C$71:$C$85))))} -> 1861.88 | P18: =IF(N18=0,0, IF(AND(SUM($Q$8/$G$1)>11,SUM($Q$8/$G$1)<=12),$G$1, IF(Situation!$B$143=0,SUM($G$1-SUM($F$1/12)),$G$1))) -> 971.66667 | Q18: =IF(N18=0,0, IF(SUM(O18:P18)>R17,-R17,-SUM(O18:P18))) -> -649.62 | R18: =SUM(R17+Q18) -> 0
A19: 17 | B19: =EDATE($B$1,A19) -> 44063 | C19: =IF(B19=$P$4,0, IF(B18=$P$4,1, IF(C18=0,0, IF(C18=$O$6,0, SUM(C18+1))))) -> 0 | D19: =IF(C19<>0,B19,0) -> 0 | E19: {=IF(C19=0,0, IF(Situation!$B$152=0,0, IF(OR(C19=12,C19=24,C19=36,C19=48,C19=60,C19=72),$E$1, IF(AND(C19>=1,C19<=SUM($M$7*12)),0, IF(AND(I19<=$M$7,TEXT(D19,"aaaa")=TEXT($P$6,"aaaa")),0, IF($M$7=0,SUM((Situation!$B$71:$B$85=MONTH(1&"/"&TEXT(D19,"mmmm")))*(Situation!$C$71:$C$85)), IF(TEXT(D19,"aaaa")=TEXT($P$6,"aaaa"),SUM((Situation!$B$71:$B$85=MONTH(1&"/"&TEXT(D19,"mmmm")))*(Situation!$C$71:$C$85)), 0)))))))} -> 0 | F19: =IF($D$1=0,0, IF(D19=$P$6,$F$1, 0)) -> 0 | G19: {=IFERROR(IF(B19=$P$4,$K$1, IF(B19=EDATE($B$1,84),0, IF(COUNTIF($N$9:$N$20,B19),LOOKUP(2,1/($N$9:$N$20=B19),$Q$9:$Q$21)*-1, IF(C19<>0,$G$1,0)))),0)} -> 0 | H19: =IF(L18<SUM(E19+G19),L18,SUM(E19+G19)) -> 0 | I19: =IF(B19=$P$4,1, IF(AND(C19>=1,C19<=12),2, IF(AND(C19>=13,C19<=24),3, IF(AND(C19>=25,C19<=36),4, IF(AND(C19>=37,C19<=48),5, IF(AND(C19>=49,C19<=60),6, IF(AND(C19>=61,C19<=72),7, IF(AND(C19>=73,C19<=84),8, 0)))))))) -> 0 | J19: =IF(K19<>"",CONCATENATE("Annuité ",COUNT($K$3:K19)),"") | K19: =IF(B19=$P$4,$K$1, IF(C19=0,"", IF(AND(OR(C19=12,C19=24,C19=36,C19=48,C19=60,C19=72),$M$7<1),$O$8, IF(OR(C19=12,C19=24,C19=36,C19=48,C19=60,C19=72),$O$7, IF(B19=$P$6,$O$8,""))))) | L19: =SUM(L18-H19) -> 39874.62 | M19: =IF(N19=0,0,SUM(M18+1)) -> 0 | N19: =IF(N18=0,0, IF(R18=0,0, IF(EDATE(N18,1)=EDATE($B$1,84),0, EDATE(N18,1)))) -> 0 | O19: {=IF(N19=0,0, IF(Situation!$B$152=0,0, SUM((Situation!$B$71:$B$85=MONTH(1&"/"&TEXT(N19,"mmmm")))*(Situation!$C$71:$C$85))))} -> 0 | P19: =IF(N19=0,0, IF(AND(SUM($Q$8/$G$1)>11,SUM($Q$8/$G$1)<=12),$G$1, IF(Situation!$B$143=0,SUM($G$1-SUM($F$1/12)),$G$1))) -> 0 | Q19: =IF(N19=0,0, IF(SUM(O19:P19)>R18,-R18,-SUM(O19:P19))) -> 0 | R19: =SUM(R18+Q19) -> 0
A20: 18 | B20: =EDATE($B$1,A20) -> 44094 | C20: =IF(B20=$P$4,0, IF(B19=$P$4,1, IF(C19=0,0, IF(C19=$O$6,0, SUM(C19+1))))) -> 0 | D20: =IF(C20<>0,B20,0) -> 0 | E20: {=IF(C20=0,0, IF(Situation!$B$152=0,0, IF(OR(C20=12,C20=24,C20=36,C20=48,C20=60,C20=72),$E$1, IF(AND(C20>=1,C20<=SUM($M$7*12)),0, IF(AND(I20<=$M$7,TEXT(D20,"aaaa")=TEXT($P$6,"aaaa")),0, IF($M$7=0,SUM((Situation!$B$71:$B$85=MONTH(1&"/"&TEXT(D20,"mmmm")))*(Situation!$C$71:$C$85)), IF(TEXT(D20,"aaaa")=TEXT($P$6,"aaaa"),SUM((Situation!$B$71:$B$85=MONTH(1&"/"&TEXT(D20,"mmmm")))*(Situation!$C$71:$C$85)), 0)))))))} -> 0 | F20: =IF($D$1=0,0, IF(D20=$P$6,$F$1, 0)) -> 0 | G20: {=IFERROR(IF(B20=$P$4,$K$1, IF(B20=EDATE($B$1,84),0, IF(COUNTIF($N$9:$N$20,B20),LOOKUP(2,1/($N$9:$N$20=B20),$Q$9:$Q$21)*-1, IF(C20<>0,$G$1,0)))),0)} -> 0 | H20: =IF(L19<SUM(E20+G20),L19,SUM(E20+G20)) -> 0 | I20: =IF(B20=$P$4,1, IF(AND(C20>=1,C20<=12),2, IF(AND(C20>=13,C20<=24),3, IF(AND(C20>=25,C20<=36),4, IF(AND(C20>=37,C20<=48),5, IF(AND(C20>=49,C20<=60),6, IF(AND(C20>=61,C20<=72),7, IF(AND(C20>=73,C20<=84),8, 0)))))))) -> 0 | J20: =IF(K20<>"",CONCATENATE("Annuité ",COUNT($K$3:K20)),"") | K20: =IF(B20=$P$4,$K$1, IF(C20=0,"", IF(AND(OR(C20=12,C20=24,C20=36,C20=48,C20=60,C20=72),$M$7<1),$O$8, IF(OR(C20=12,C20=24,C20=36,C20=48,C20=60,C20=72),$O$7, IF(B20=$P$6,$O$8,""))))) | L20: =SUM(L19-H20) -> 39874.62 | M20: =IF(N20=0,0,SUM(M19+1)) -> 0 | N20: =IF(N19=0,0, IF(R19=0,0, IF(EDATE(N19,1)=EDATE($B$1,84),0, EDATE(N19,1)))) -> 0 | O20: {=IF(N20=0,0, IF(Situation!$B$152=0,0, SUM((Situation!$B$71:$B$85=MONTH(1&"/"&TEXT(N20,"mmmm")))*(Situation!$C$71:$C$85))))} -> 0 | P20: =IF(N20=0,0, IF(AND(SUM($Q$8/$G$1)>11,SUM($Q$8/$G$1)<=12),$G$1, IF(Situation!$B$143=0,SUM($G$1-SUM($F$1/12)),$G$1))) -> 0 | Q20: =IF(N20=0,0, IF(SUM(O20:P20)>R19,-R19,-SUM(O20:P20))) -> 0 | R20: =SUM(R19+Q20) -> 0
A21: 19 | B21: =EDATE($B$1,A21) -> 44124 | C21: =IF(B21=$P$4,0, IF(B20=$P$4,1, IF(C20=0,0, IF(C20=$O$6,0, SUM(C20+1))))) -> 0 | D21: =IF(C21<>0,B21,0) -> 0 | E21: {=IF(C21=0,0, IF(Situation!$B$152=0,0, IF(OR(C21=12,C21=24,C21=36,C21=48,C21=60,C21=72),$E$1, IF(AND(C21>=1,C21<=SUM($M$7*12)),0, IF(AND(I21<=$M$7,TEXT(D21,"aaaa")=TEXT($P$6,"aaaa")),0, IF($M$7=0,SUM((Situation!$B$71:$B$85=MONTH(1&"/"&TEXT(D21,"mmmm")))*(Situation!$C$71:$C$85)), IF(TEXT(D21,"aaaa")=TEXT($P$6,"aaaa"),SUM((Situation!$B$71:$B$85=MONTH(1&"/"&TEXT(D21,"mmmm")))*(Situation!$C$71:$C$85)), 0)))))))} -> 0 | F21: =IF($D$1=0,0, IF(D21=$P$6,$F$1, 0)) -> 0 | G21: {=IFERROR(IF(B21=$P$4,$K$1, IF(B21=EDATE($B$1,84),0, IF(COUNTIF($N$9:$N$20,B21),LOOKUP(2,1/($N$9:$N$20=B21),$Q$9:$Q$21)*-1, IF(C21<>0,$G$1,0)))),0)} -> 0 | H21: =IF(L20<SUM(E21+G21),L20,SUM(E21+G21)) -> 0 | I21: =IF(B21=$P$4,1, IF(AND(C21>=1,C21<=12),2, IF(AND(C21>=13,C21<=24),3, IF(AND(C21>=25,C21<=36),4, IF(AND(C21>=37,C21<=48),5, IF(AND(C21>=49,C21<=60),6, IF(AND(C21>=61,C21<=72),7, IF(AND(C21>=73,C21<=84),8, 0)))))))) -> 0 | J21: =IF(K21<>"",CONCATENATE("Annuité ",COUNT($K$3:K21)),"") | K21: =IF(B21=$P$4,$K$1, IF(C21=0,"", IF(AND(OR(C21=12,C21=24,C21=36,C21=48,C21=60,C21=72),$M$7<1),$O$8, IF(OR(C21=12,C21=24,C21=36,C21=48,C21=60,C21=72),$O$7, IF(B21=$P$6,$O$8,""))))) | L21: =SUM(L20-H21) -> 39874.62
A22: 20 | B22: =EDATE($B$1,A22) -> 44155 | C22: =IF(B22=$P$4,0, IF(B21=$P$4,1, IF(C21=0,0, IF(C21=$O$6,0, SUM(C21+1))))) -> 0 | D22: =IF(C22<>0,B22,0) -> 0 | E22: {=IF(C22=0,0, IF(Situation!$B$152=0,0, IF(OR(C22=12,C22=24,C22=36,C22=48,C22=60,C22=72),$E$1, IF(AND(C22>=1,C22<=SUM($M$7*12)),0, IF(AND(I22<=$M$7,TEXT(D22,"aaaa")=TEXT($P$6,"aaaa")),0, IF($M$7=0,SUM((Situation!$B$71:$B$85=MONTH(1&"/"&TEXT(D22,"mmmm")))*(Situation!$C$71:$C$85)), IF(TEXT(D22,"aaaa")=TEXT($P$6,"aaaa"),SUM((Situation!$B$71:$B$85=MONTH(1&"/"&TEXT(D22,"mmmm")))*(Situation!$C$71:$C$85)), 0)))))))} -> 0 | F22: =IF($D$1=0,0, IF(D22=$P$6,$F$1, 0)) -> 0 | G22: {=IFERROR(IF(B22=$P$4,$K$1, IF(B22=EDATE($B$1,84),0, IF(COUNTIF($N$9:$N$20,B22),LOOKUP(2,1/($N$9:$N$20=B22),$Q$9:$Q$21)*-1, IF(C22<>0,$G$1,0)))),0)} -> 0 | H22: =IF(L21<SUM(E22+G22),L21,SUM(E22+G22)) -> 0 | I22: =IF(B22=$P$4,1, IF(AND(C22>=1,C22<=12),2, IF(AND(C22>=13,C22<=24),3, IF(AND(C22>=25,C22<=36),4, IF(AND(C22>=37,C22<=48),5, IF(AND(C22>=49,C22<=60),6, IF(AND(C22>=61,C22<=72),7, IF(AND(C22>=73,C22<=84),8, 0)))))))) -> 0 | J22: =IF(K22<>"",CONCATENATE("Annuité ",COUNT($K$3:K22)),"") | K22: =IF(B22=$P$4,$K$1, IF(C22=0,"", IF(AND(OR(C22=12,C22=24,C22=36,C22=48,C22=60,C22=72),$M$7<1),$O$8, IF(OR(C22=12,C22=24,C22=36,C22=48,C22=60,C22=72),$O$7, IF(B22=$P$6,$O$8,""))))) | L22: =SUM(L21-H22) -> 39874.62 | N22: Tableau récapitulatif | P22: =L1 -> 39874.62 | Q22: ok
A23: 21 | B23: =EDATE($B$1,A23) -> 44185 | C23: =IF(B23=$P$4,0, IF(B22=$P$4,1, IF(C22=0,0, IF(C22=$O$6,0, SUM(C22+1))))) -> 0 | D23: =IF(C23<>0,B23,0) -> 0 | E23: {=IF(C23=0,0, IF(Situation!$B$152=0,0, IF(OR(C23=12,C23=24,C23=36,C23=48,C23=60,C23=72),$E$1, IF(AND(C23>=1,C23<=SUM($M$7*12)),0, IF(AND(I23<=$M$7,TEXT(D23,"aaaa")=TEXT($P$6,"aaaa")),0, IF($M$7=0,SUM((Situation!$B$71:$B$85=MONTH(1&"/"&TEXT(D23,"mmmm")))*(Situation!$C$71:$C$85)), IF(TEXT(D23,"aaaa")=TEXT($P$6,"aaaa"),SUM((Situation!$B$71:$B$85=MONTH(1&"/"&TEXT(D23,"mmmm")))*(Situation!$C$71:$C$85)), 0)))))))} -> 0 | F23: =IF($D$1=0,0, IF(D23=$P$6,$F$1, 0)) -> 0 | G23: {=IFERROR(IF(B23=$P$4,$K$1, IF(B23=EDATE($B$1,84),0, IF(COUNTIF($N$9:$N$20,B23),LOOKUP(2,1/($N$9:$N$20=B23),$Q$9:$Q$21)*-1, IF(C23<>0,$G$1,0)))),0)} -> 0 | H23: =IF(L22<SUM(E23+G23),L22,SUM(E23+G23)) -> 0 | I23: =IF(B23=$P$4,1, IF(AND(C23>=1,C23<=12),2, IF(AND(C23>=13,C23<=24),3, IF(AND(C23>=25,C23<=36),4, IF(AND(C23>=37,C23<=48),5, IF(AND(C23>=49,C23<=60),6, IF(AND(C23>=61,C23<=72),7, IF(AND(C23>=73,C23<=84),8, 0)))))))) -> 0 | J23: =IF(K23<>"",CONCATENATE("Annuité ",COUNT($K$3:K23)),"") | K23: =IF(B23=$P$4,$K$1, IF(C23=0,"", IF(AND(OR(C23=12,C23=24,C23=36,C23=48,C23=60,C23=72),$M$7<1),$O$8, IF(OR(C23=12,C23=24,C23=36,C23=48,C23=60,C23=72),$O$7, IF(B23=$P$6,$O$8,""))))) | L23: =SUM(L22-H23) -> 39874.62 | N23: Annuité 1 | O23: =P4 -> 44428 | P23: {=IFERROR(LOOKUP(2,1/($J$3:$J$86=N23),-$K$3:$K$86),"")} -> -17460 | Q23: ok
A24: 22 | B24: =EDATE($B$1,A24) -> 44216 | C24: =IF(B24=$P$4,0, IF(B23=$P$4,1, IF(C23=0,0, IF(C23=$O$6,0, SUM(C23+1))))) -> 0 | D24: =IF(C24<>0,B24,0) -> 0 | E24: {=IF(C24=0,0, IF(Situation!$B$152=0,0, IF(OR(C24=12,C24=24,C24=36,C24=48,C24=60,C24=72),$E$1, IF(AND(C24>=1,C24<=SUM($M$7*12)),0, IF(AND(I24<=$M$7,TEXT(D24,"aaaa")=TEXT($P$6,"aaaa")),0, IF($M$7=0,SUM((Situation!$B$71:$B$85=MONTH(1&"/"&TEXT(D24,"mmmm")))*(Situation!$C$71:$C$85)), IF(TEXT(D24,"aaaa")=TEXT($P$6,"aaaa"),SUM((Situation!$B$71:$B$85=MONTH(1&"/"&TEXT(D24,"mmmm")))*(Situation!$C$71:$C$85)), 0)))))))} -> 0 | F24: =IF($D$1=0,0, IF(D24=$P$6,$F$1, 0)) -> 0 | G24: {=IFERROR(IF(B24=$P$4,$K$1, IF(B24=EDATE($B$1,84),0, IF(COUNTIF($N$9:$N$20,B24),LOOKUP(2,1/($N$9:$N$20=B24),$Q$9:$Q$21)*-1, IF(C24<>0,$G$1,0)))),0)} -> 0 | H24: =IF(L23<SUM(E24+G24),L23,SUM(E24+G24)) -> 0 | I24: =IF(B24=$P$4,1, IF(AND(C24>=1,C24<=12),2, IF(AND(C24>=13,C24<=24),3, IF(AND(C24>=25,C24<=36),4, IF(AND(C24>=37,C24<=48),5, IF(AND(C24>=49,C24<=60),6, IF(AND(C24>=61,C24<=72),7, IF(AND(C24>=73,C24<=84),8, 0)))))))) -> 0 | J24: =IF(K24<>"",CONCATENATE("Annuité ",COUNT($K$3:K24)),"") | K24: =IF(B24=$P$4,$K$1, IF(C24=0,"", IF(AND(OR(C24=12,C24=24,C24=36,C24=48,C24=60,C24=72),$M$7<1),$O$8, IF(OR(C24=12,C24=24,C24=36,C24=48,C24=60,C24=72),$O$7, IF(B24=$P$6,$O$8,""))))) | L24: =SUM(L23-H24) -> 39874.62 | N24: Annuité 2 | O24: {=IFERROR(LOOKUP(2,1/($J$3:$J$86=N24),$D$3:$D$86),"")} -> 44793 | P24: {=IFERROR(LOOKUP(2,1/($J$3:$J$86=N24),-$K$3:$K$86),"")} -> -13020 | Q24: ok
A25: 23 | B25: =EDATE($B$1,A25) -> 44247 | C25: =IF(B25=$P$4,0, IF(B24=$P$4,1, IF(C24=0,0, IF(C24=$O$6,0, SUM(C24+1))))) -> 0 | D25: =IF(C25<>0,B25,0) -> 0 | E25: {=IF(C25=0,0, IF(Situation!$B$152=0,0, IF(OR(C25=12,C25=24,C25=36,C25=48,C25=60,C25=72),$E$1, IF(AND(C25>=1,C25<=SUM($M$7*12)),0, IF(AND(I25<=$M$7,TEXT(D25,"aaaa")=TEXT($P$6,"aaaa")),0, IF($M$7=0,SUM((Situation!$B$71:$B$85=MONTH(1&"/"&TEXT(D25,"mmmm")))*(Situation!$C$71:$C$85)), IF(TEXT(D25,"aaaa")=TEXT($P$6,"aaaa"),SUM((Situation!$B$71:$B$85=MONTH(1&"/"&TEXT(D25,"mmmm")))*(Situation!$C$71:$C$85)), 0)))))))} -> 0 | F25: =IF($D$1=0,0, IF(D25=$P$6,$F$1, 0)) -> 0 | G25: {=IFERROR(IF(B25=$P$4,$K$1, IF(B25=EDATE($B$1,84),0, IF(COUNTIF($N$9:$N$20,B25),LOOKUP(2,1/($N$9:$N$20=B25),$Q$9:$Q$21)*-1, IF(C25<>0,$G$1,0)))),0)} -> 0 | H25: =IF(L24<SUM(E25+G25),L24,SUM(E25+G25)) -> 0 | I25: =IF(B25=$P$4,1, IF(AND(C25>=1,C25<=12),2, IF(AND(C25>=13,C25<=24),3, IF(AND(C25>=25,C25<=36),4, IF(AND(C25>=37,C25<=48),5, IF(AND(C25>=49,C25<=60),6, IF(AND(C25>=61,C25<=72),7, IF(AND(C25>=73,C25<=84),8, 0)))))))) -> 0 | J25: =IF(K25<>"",CONCATENATE("Annuité ",COUNT($K$3:K25)),"") | K25: =IF(B25=$P$4,$K$1, IF(C25=0,"", IF(AND(OR(C25=12,C25=24,C25=36,C25=48,C25=60,C25=72),$M$7<1),$O$8, IF(OR(C25=12,C25=24,C25=36,C25=48,C25=60,C25=72),$O$7, IF(B25=$P$6,$O$8,""))))) | L25: =SUM(L24-H25) -> 39874.62 | N25: Annuité 3 | O25: {=IFERROR(LOOKUP(2,1/($J$3:$J$86=N25),$D$3:$D$86),"")} -> 45097 | P25: {=IFERROR(LOOKUP(2,1/($J$3:$J$86=N25),-$K$3:$K$86),"")} -> -9394.62 | Q25: ok
A26: 24 | B26: =EDATE($B$1,A26) -> 44275 | C26: =IF(B26=$P$4,0, IF(B25=$P$4,1, IF(C25=0,0, IF(C25=$O$6,0, SUM(C25+1))))) -> 0 | D26: =IF(C26<>0,B26,0) -> 0 | E26: {=IF(C26=0,0, IF(Situation!$B$152=0,0, IF(OR(C26=12,C26=24,C26=36,C26=48,C26=60,C26=72),$E$1, IF(AND(C26>=1,C26<=SUM($M$7*12)),0, IF(AND(I26<=$M$7,TEXT(D26,"aaaa")=TEXT($P$6,"aaaa")),0, IF($M$7=0,SUM((Situation!$B$71:$B$85=MONTH(1&"/"&TEXT(D26,"mmmm")))*(Situation!$C$71:$C$85)), IF(TEXT(D26,"aaaa")=TEXT($P$6,"aaaa"),SUM((Situation!$B$71:$B$85=MONTH(1&"/"&TEXT(D26,"mmmm")))*(Situation!$C$71:$C$85)), 0)))))))} -> 0 | F26: =IF($D$1=0,0, IF(D26=$P$6,$F$1, 0)) -> 0 | G26: {=IFERROR(IF(B26=$P$4,$K$1, IF(B26=EDATE($B$1,84),0, IF(COUNTIF($N$9:$N$20,B26),LOOKUP(2,1/($N$9:$N$20=B26),$Q$9:$Q$21)*-1, IF(C26<>0,$G$1,0)))),0)} -> 0 | H26: =IF(L25<SUM(E26+G26),L25,SUM(E26+G26)) -> 0 | I26: =IF(B26=$P$4,1, IF(AND(C26>=1,C26<=12),2, IF(AND(C26>=13,C26<=24),3, IF(AND(C26>=25,C26<=36),4, IF(AND(C26>=37,C26<=48),5, IF(AND(C26>=49,C26<=60),6, IF(AND(C26>=61,C26<=72),7, IF(AND(C26>=73,C26<=84),8, 0)))))))) -> 0 | J26: =IF(K26<>"",CONCATENATE("Annuité ",COUNT($K$3:K26)),"") | K26: =IF(B26=$P$4,$K$1, IF(C26=0,"", IF(AND(OR(C26=12,C26=24,C26=36,C26=48,C26=60,C26=72),$M$7<1),$O$8, IF(OR(C26=12,C26=24,C26=36,C26=48,C26=60,C26=72),$O$7, IF(B26=$P$6,$O$8,""))))) | L26: =SUM(L25-H26) -> 39874.62 | N26: Annuité 4 | O26: {=IFERROR(LOOKUP(2,1/($J$3:$J$86=N26),$D$3:$D$86),"")} | P26: {=IFERROR(LOOKUP(2,1/($J$3:$J$86=N26),-$K$3:$K$86),"")}
A27: 25 | B27: =EDATE($B$1,A27) -> 44306 | C27: =IF(B27=$P$4,0, IF(B26=$P$4,1, IF(C26=0,0, IF(C26=$O$6,0, SUM(C26+1))))) -> 0 | D27: =IF(C27<>0,B27,0) -> 0 | E27: {=IF(C27=0,0, IF(Situation!$B$152=0,0, IF(OR(C27=12,C27=24,C27=36,C27=48,C27=60,C27=72),$E$1, IF(AND(C27>=1,C27<=SUM($M$7*12)),0, IF(AND(I27<=$M$7,TEXT(D27,"aaaa")=TEXT($P$6,"aaaa")),0, IF($M$7=0,SUM((Situation!$B$71:$B$85=MONTH(1&"/"&TEXT(D27,"mmmm")))*(Situation!$C$71:$C$85)), IF(TEXT(D27,"aaaa")=TEXT($P$6,"aaaa"),SUM((Situation!$B$71:$B$85=MONTH(1&"/"&TEXT(D27,"mmmm")))*(Situation!$C$71:$C$85)), 0)))))))} -> 0 | F27: =IF($D$1=0,0, IF(D27=$P$6,$F$1, 0)) -> 0 | G27: {=IFERROR(IF(B27=$P$4,$K$1, IF(B27=EDATE($B$1,84),0, IF(COUNTIF($N$9:$N$20,B27),LOOKUP(2,1/($N$9:$N$20=B27),$Q$9:$Q$21)*-1, IF(C27<>0,$G$1,0)))),0)} -> 0 | H27: =IF(L26<SUM(E27+G27),L26,SUM(E27+G27)) -> 0 | I27: =IF(B27=$P$4,1, IF(AND(C27>=1,C27<=12),2, IF(AND(C27>=13,C27<=24),3, IF(AND(C27>=25,C27<=36),4, IF(AND(C27>=37,C27<=48),5, IF(AND(C27>=49,C27<=60),6, IF(AND(C27>=61,C27<=72),7, IF(AND(C27>=73,C27<=84),8, 0)))))))) -> 0 | J27: =IF(K27<>"",CONCATENATE("Annuité ",COUNT($K$3:K27)),"") | K27: =IF(B27=$P$4,$K$1, IF(C27=0,"", IF(AND(OR(C27=12,C27=24,C27=36,C27=48,C27=60,C27=72),$M$7<1),$O$8, IF(OR(C27=12,C27=24,C27=36,C27=48,C27=60,C27=72),$O$7, IF(B27=$P$6,$O$8,""))))) | L27: =SUM(L26-H27) -> 39874.62 | N27: Annuité 5 | O27: {=IFERROR(LOOKUP(2,1/($J$3:$J$86=N27),$D$3:$D$86),"")} | P27: {=IFERROR(LOOKUP(2,1/($J$3:$J$86=N27),-$K$3:$K$86),"")}
A28: 26 | B28: =EDATE($B$1,A28) -> 44336 | C28: =IF(B28=$P$4,0, IF(B27=$P$4,1, IF(C27=0,0, IF(C27=$O$6,0, SUM(C27+1))))) -> 0 | D28: =IF(C28<>0,B28,0) -> 0 | E28: {=IF(C28=0,0, IF(Situation!$B$152=0,0, IF(OR(C28=12,C28=24,C28=36,C28=48,C28=60,C28=72),$E$1, IF(AND(C28>=1,C28<=SUM($M$7*12)),0, IF(AND(I28<=$M$7,TEXT(D28,"aaaa")=TEXT($P$6,"aaaa")),0, IF($M$7=0,SUM((Situation!$B$71:$B$85=MONTH(1&"/"&TEXT(D28,"mmmm")))*(Situation!$C$71:$C$85)), IF(TEXT(D28,"aaaa")=TEXT($P$6,"aaaa"),SUM((Situation!$B$71:$B$85=MONTH(1&"/"&TEXT(D28,"mmmm")))*(Situation!$C$71:$C$85)), 0)))))))} -> 0 | F28: =IF($D$1=0,0, IF(D28=$P$6,$F$1, 0)) -> 0 | G28: {=IFERROR(IF(B28=$P$4,$K$1, IF(B28=EDATE($B$1,84),0, IF(COUNTIF($N$9:$N$20,B28),LOOKUP(2,1/($N$9:$N$20=B28),$Q$9:$Q$21)*-1, IF(C28<>0,$G$1,0)))),0)} -> 0 | H28: =IF(L27<SUM(E28+G28),L27,SUM(E28+G28)) -> 0 | I28: =IF(B28=$P$4,1, IF(AND(C28>=1,C28<=12),2, IF(AND(C28>=13,C28<=24),3, IF(AND(C28>=25,C28<=36),4, IF(AND(C28>=37,C28<=48),5, IF(AND(C28>=49,C28<=60),6, IF(AND(C28>=61,C28<=72),7, IF(AND(C28>=73,C28<=84),8, 0)))))))) -> 0 | J28: =IF(K28<>"",CONCATENATE("Annuité ",COUNT($K$3:K28)),"") | K28: =IF(B28=$P$4,$K$1, IF(C28=0,"", IF(AND(OR(C28=12,C28=24,C28=36,C28=48,C28=60,C28=72),$M$7<1),$O$8, IF(OR(C28=12,C28=24,C28=36,C28=48,C28=60,C28=72),$O$7, IF(B28=$P$6,$O$8,""))))) | L28: =SUM(L27-H28) -> 39874.62 | N28: Annuité 6 | O28: {=IFERROR(LOOKUP(2,1/($J$3:$J$86=N28),$D$3:$D$86),"")} | P28: {=IFERROR(LOOKUP(2,1/($J$3:$J$86=N28),-$K$3:$K$86),"")}
A29: 27 | B29: =EDATE($B$1,A29) -> 44367 | C29: =IF(B29=$P$4,0, IF(B28=$P$4,1, IF(C28=0,0, IF(C28=$O$6,0, SUM(C28+1))))) -> 0 | D29: =IF(C29<>0,B29,0) -> 0 | E29: {=IF(C29=0,0, IF(Situation!$B$152=0,0, IF(OR(C29=12,C29=24,C29=36,C29=48,C29=60,C29=72),$E$1, IF(AND(C29>=1,C29<=SUM($M$7*12)),0, IF(AND(I29<=$M$7,TEXT(D29,"aaaa")=TEXT($P$6,"aaaa")),0, IF($M$7=0,SUM((Situation!$B$71:$B$85=MONTH(1&"/"&TEXT(D29,"mmmm")))*(Situation!$C$71:$C$85)), IF(TEXT(D29,"aaaa")=TEXT($P$6,"aaaa"),SUM((Situation!$B$71:$B$85=MONTH(1&"/"&TEXT(D29,"mmmm")))*(Situation!$C$71:$C$85)), 0)))))))} -> 0 | F29: =IF($D$1=0,0, IF(D29=$P$6,$F$1, 0)) -> 0 | G29: {=IFERROR(IF(B29=$P$4,$K$1, IF(B29=EDATE($B$1,84),0, IF(COUNTIF($N$9:$N$20,B29),LOOKUP(2,1/($N$9:$N$20=B29),$Q$9:$Q$21)*-1, IF(C29<>0,$G$1,0)))),0)} -> 0 | H29: =IF(L28<SUM(E29+G29),L28,SUM(E29+G29)) -> 0 | I29: =IF(B29=$P$4,1, IF(AND(C29>=1,C29<=12),2, IF(AND(C29>=13,C29<=24),3, IF(AND(C29>=25,C29<=36),4, IF(AND(C29>=37,C29<=48),5, IF(AND(C29>=49,C29<=60),6, IF(AND(C29>=61,C29<=72),7, IF(AND(C29>=73,C29<=84),8, 0)))))))) -> 0 | J29: =IF(K29<>"",CONCATENATE("Annuité ",COUNT($K$3:K29)),"") | K29: =IF(B29=$P$4,$K$1, IF(C29=0,"", IF(AND(OR(C29=12,C29=24,C29=36,C29=48,C29=60,C29=72),$M$7<1),$O$8, IF(OR(C29=12,C29=24,C29=36,C29=48,C29=60,C29=72),$O$7, IF(B29=$P$6,$O$8,""))))) | L29: =SUM(L28-H29) -> 39874.62 | N29: Annuité 7 | O29: {=IFERROR(LOOKUP(2,1/($J$3:$J$86=N29),$D$3:$D$86),"")} | P29: {=IFERROR(LOOKUP(2,1/($J$3:$J$86=N29),-$K$3:$K$86),"")}
A30: 28 | B30: =EDATE($B$1,A30) -> 44397 | C30: =IF(B30=$P$4,0, IF(B29=$P$4,1, IF(C29=0,0, IF(C29=$O$6,0, SUM(C29+1))))) -> 0 | D30: =IF(C30<>0,B30,0) -> 0 | E30: {=IF(C30=0,0, IF(Situation!$B$152=0,0, IF(OR(C30=12,C30=24,C30=36,C30=48,C30=60,C30=72),$E$1, IF(AND(C30>=1,C30<=SUM($M$7*12)),0, IF(AND(I30<=$M$7,TEXT(D30,"aaaa")=TEXT($P$6,"aaaa")),0, IF($M$7=0,SUM((Situation!$B$71:$B$85=MONTH(1&"/"&TEXT(D30,"mmmm")))*(Situation!$C$71:$C$85)), IF(TEXT(D30,"aaaa")=TEXT($P$6,"aaaa"),SUM((Situation!$B$71:$B$85=MONTH(1&"/"&TEXT(D30,"mmmm")))*(Situation!$C$71:$C$85)), 0)))))))} -> 0 | F30: =IF($D$1=0,0, IF(D30=$P$6,$F$1, 0)) -> 0 | G30: {=IFERROR(IF(B30=$P$4,$K$1, IF(B30=EDATE($B$1,84),0, IF(COUNTIF($N$9:$N$20,B30),LOOKUP(2,1/($N$9:$N$20=B30),$Q$9:$Q$21)*-1, IF(C30<>0,$G$1,0)))),0)} -> 0 | H30: =IF(L29<SUM(E30+G30),L29,SUM(E30+G30)) -> 0 | I30: =IF(B30=$P$4,1, IF(AND(C30>=1,C30<=12),2, IF(AND(C30>=13,C30<=24),3, IF(AND(C30>=25,C30<=36),4, IF(AND(C30>=37,C30<=48),5, IF(AND(C30>=49,C30<=60),6, IF(AND(C30>=61,C30<=72),7, IF(AND(C30>=73,C30<=84),8, 0)))))))) -> 0 | J30: =IF(K30<>"",CONCATENATE("Annuité ",COUNT($K$3:K30)),"") | K30: =IF(B30=$P$4,$K$1, IF(C30=0,"", IF(AND(OR(C30=12,C30=24,C30=36,C30=48,C30=60,C30=72),$M$7<1),$O$8, IF(OR(C30=12,C30=24,C30=36,C30=48,C30=60,C30=72),$O$7, IF(B30=$P$6,$O$8,""))))) | L30: =SUM(L29-H30) -> 39874.62 | N30: Annuité 8 | O30: {=IFERROR(LOOKUP(2,1/($J$3:$J$86=N30),$D$3:$D$86),"")} | P30: {=IFERROR(LOOKUP(2,1/($J$3:$J$86=N30),-$K$3:$K$86),"")}
A31: 29 | B31: =EDATE($B$1,A31) -> 44428 | C31: =IF(B31=$P$4,0, IF(B30=$P$4,1, IF(C30=0,0, IF(C30=$O$6,0, SUM(C30+1))))) -> 0 | D31: =IF(C31<>0,B31,0) -> 0 | E31: {=IF(C31=0,0, IF(Situation!$B$152=0,0, IF(OR(C31=12,C31=24,C31=36,C31=48,C31=60,C31=72),$E$1, IF(AND(C31>=1,C31<=SUM($M$7*12)),0, IF(AND(I31<=$M$7,TEXT(D31,"aaaa")=TEXT($P$6,"aaaa")),0, IF($M$7=0,SUM((Situation!$B$71:$B$85=MONTH(1&"/"&TEXT(D31,"mmmm")))*(Situation!$C$71:$C$85)), IF(TEXT(D31,"aaaa")=TEXT($P$6,"aaaa"),SUM((Situation!$B$71:$B$85=MONTH(1&"/"&TEXT(D31,"mmmm")))*(Situation!$C$71:$C$85)), 0)))))))} -> 0 | F31: =IF($D$1=0,0, IF(D31=$P$6,$F$1, 0)) -> 0 | G31: {=IFERROR(IF(B31=$P$4,$K$1, IF(B31=EDATE($B$1,84),0, IF(COUNTIF($N$9:$N$20,B31),LOOKUP(2,1/($N$9:$N$20=B31),$Q$9:$Q$21)*-1, IF(C31<>0,$G$1,0)))),0)} -> 17460 | H31: =IF(L30<SUM(E31+G31),L30,SUM(E31+G31)) -> 17460 | I31: =IF(B31=$P$4,1, IF(AND(C31>=1,C31<=12),2, IF(AND(C31>=13,C31<=24),3, IF(AND(C31>=25,C31<=36),4, IF(AND(C31>=37,C31<=48),5, IF(AND(C31>=49,C31<=60),6, IF(AND(C31>=61,C31<=72),7, IF(AND(C31>=73,C31<=84),8, 0)))))))) -> 1 | J31: =IF(K31<>"",CONCATENATE("Annuité ",COUNT($K$3:K31)),"") -> Annuité 1 | K31: =IF(B31=$P$4,$K$1, IF(C31=0,"", IF(AND(OR(C31=12,C31=24,C31=36,C31=48,C31=60,C31=72),$M$7<1),$O$8, IF(OR(C31=12,C31=24,C31=36,C31=48,C31=60,C31=72),$O$7, IF(B31=$P$6,$O$8,""))))) -> 17460 | L31: =SUM(L30-H31) -> 22414.62 | N31: Date paiement | P31: =SUM(P22:P29) -> 0 | Q31: ok
A32: 30 | B32: =EDATE($B$1,A32) -> 44459 | C32: =IF(B32=$P$4,0, IF(B31=$P$4,1, IF(C31=0,0, IF(C31=$O$6,0, SUM(C31+1))))) -> 1 | D32: =IF(C32<>0,B32,0) -> 44459 | E32: {=IF(C32=0,0, IF(Situation!$B$152=0,0, IF(OR(C32=12,C32=24,C32=36,C32=48,C32=60,C32=72),$E$1, IF(AND(C32>=1,C32<=SUM($M$7*12)),0, IF(AND(I32<=$M$7,TEXT(D32,"aaaa")=TEXT($P$6,"aaaa")),0, IF($M$7=0,SUM((Situation!$B$71:$B$85=MONTH(1&"/"&TEXT(D32,"mmmm")))*(Situation!$C$71:$C$85)), IF(TEXT(D32,"aaaa")=TEXT($P$6,"aaaa"),SUM((Situation!$B$71:$B$85=MONTH(1&"/"&TEXT(D32,"mmmm")))*(Situation!$C$71:$C$85)), 0)))))))} -> 0 | F32: =IF($D$1=0,0, IF(D32=$P$6,$F$1, 0)) -> 0 | G32: {=IFERROR(IF(B32=$P$4,$K$1, IF(B32=EDATE($B$1,84),0, IF(COUNTIF($N$9:$N$20,B32),LOOKUP(2,1/($N$9:$N$20=B32),$Q$9:$Q$21)*-1, IF(C32<>0,$G$1,0)))),0)} -> 1030 | H32: =IF(L31<SUM(E32+G32),L31,SUM(E32+G32)) -> 1030 | I32: =IF(B32=$P$4,1, IF(AND(C32>=1,C32<=12),2, IF(AND(C32>=13,C32<=24),3, IF(AND(C32>=25,C32<=36),4, IF(AND(C32>=37,C32<=48),5, IF(AND(C32>=49,C32<=60),6, IF(AND(C32>=61,C32<=72),7, IF(AND(C32>=73,C32<=84),8, 0)))))))) -> 2 | J32: =IF(K32<>"",CONCATENATE("Annuité ",COUNT($K$3:K32)),"") | K32: =IF(B32=$P$4,$K$1, IF(C32=0,"", IF(AND(OR(C32=12,C32=24,C32=36,C32=48,C32=60,C32=72),$M$7<1),$O$8, IF(OR(C32=12,C32=24,C32=36,C32=48,C32=60,C32=72),$O$7, IF(B32=$P$6,$O$8,""))))) | L32: =SUM(L31-H32) -> 21384.62 | M32: =D32 -> 44459 | N32: =IF(Q23="ok",N23,"") -> Annuité 1 | O32: 44459 | P32: =IF(Q32="ok",P23,"") -> -17460 | Q32: ok
A33: 31 | B33: =EDATE($B$1,A33) -> 44489 | C33: =IF(B33=$P$4,0, IF(B32=$P$4,1, IF(C32=0,0, IF(C32=$O$6,0, SUM(C32+1))))) -> 2 | D33: =IF(C33<>0,B33,0) -> 44489 | E33: {=IF(C33=0,0, IF(Situation!$B$152=0,0, IF(OR(C33=12,C33=24,C33=36,C33=48,C33=60,C33=72),$E$1, IF(AND(C33>=1,C33<=SUM($M$7*12)),0, IF(AND(I33<=$M$7,TEXT(D33,"aaaa")=TEXT($P$6,"aaaa")),0, IF($M$7=0,SUM((Situation!$B$71:$B$85=MONTH(1&"/"&TEXT(D33,"mmmm")))*(Situation!$C$71:$C$85)), IF(TEXT(D33,"aaaa")=TEXT($P$6,"aaaa"),SUM((Situation!$B$71:$B$85=MONTH(1&"/"&TEXT(D33,"mmmm")))*(Situation!$C$71:$C$85)), 0)))))))} -> 0 | F33: =IF($D$1=0,0, IF(D33=$P$6,$F$1, 0)) -> 0 | G33: {=IFERROR(IF(B33=$P$4,$K$1, IF(B33=EDATE($B$1,84),0, IF(COUNTIF($N$9:$N$20,B33),LOOKUP(2,1/($N$9:$N$20=B33),$Q$9:$Q$21)*-1, IF(C33<>0,$G$1,0)))),0)} -> 1030 | H33: =IF(L32<SUM(E33+G33),L32,SUM(E33+G33)) -> 1030 | I33: =IF(B33=$P$4,1, IF(AND(C33>=1,C33<=12),2, IF(AND(C33>=13,C33<=24),3, IF(AND(C33>=25,C33<=36),4, IF(AND(C33>=37,C33<=48),5, IF(AND(C33>=49,C33<=60),6, IF(AND(C33>=61,C33<=72),7, IF(AND(C33>=73,C33<=84),8, 0)))))))) -> 2 | J33: =IF(K33<>"",CONCATENATE("Annuité ",COUNT($K$3:K33)),"") | K33: =IF(B33=$P$4,$K$1, IF(C33=0,"", IF(AND(OR(C33=12,C33=24,C33=36,C33=48,C33=60,C33=72),$M$7<1),$O$8, IF(OR(C33=12,C33=24,C33=36,C33=48,C33=60,C33=72),$O$7, IF(B33=$P$6,$O$8,""))))) | L33: =SUM(L32-H33) -> 20354.62 | M33: =D33 -> 44489 | N33: =IF(Q24="ok",N24,"") -> Annuité 2 | O33: 44824 | P33: =IF(Q33="ok",P24,"") -> -13020 | Q33: ok
A34: 32 | B34: =EDATE($B$1,A34) -> 44520 | C34: =IF(B34=$P$4,0, IF(B33=$P$4,1, IF(C33=0,0, IF(C33=$O$6,0, SUM(C33+1))))) -> 3 | D34: =IF(C34<>0,B34,0) -> 44520 | E34: {=IF(C34=0,0, IF(Situation!$B$152=0,0, IF(OR(C34=12,C34=24,C34=36,C34=48,C34=60,C34=72),$E$1, IF(AND(C34>=1,C34<=SUM($M$7*12)),0, IF(AND(I34<=$M$7,TEXT(D34,"aaaa")=TEXT($P$6,"aaaa")),0, IF($M$7=0,SUM((Situation!$B$71:$B$85=MONTH(1&"/"&TEXT(D34,"mmmm")))*(Situation!$C$71:$C$85)), IF(TEXT(D34,"aaaa")=TEXT($P$6,"aaaa"),SUM((Situation!$B$71:$B$85=MONTH(1&"/"&TEXT(D34,"mmmm")))*(Situation!$C$71:$C$85)), 0)))))))} -> 0 | F34: =IF($D$1=0,0, IF(D34=$P$6,$F$1, 0)) -> 0 | G34: {=IFERROR(IF(B34=$P$4,$K$1, IF(B34=EDATE($B$1,84),0, IF(COUNTIF($N$9:$N$20,B34),LOOKUP(2,1/($N$9:$N$20=B34),$Q$9:$Q$21)*-1, IF(C34<>0,$G$1,0)))),0)} -> 1030 | H34: =IF(L33<SUM(E34+G34),L33,SUM(E34+G34)) -> 1030 | I34: =IF(B34=$P$4,1, IF(AND(C34>=1,C34<=12),2, IF(AND(C34>=13,C34<=24),3, IF(AND(C34>=25,C34<=36),4, IF(AND(C34>=37,C34<=48),5, IF(AND(C34>=49,C34<=60),6, IF(AND(C34>=61,C34<=72),7, IF(AND(C34>=73,C34<=84),8, 0)))))))) -> 2 | J34: =IF(K34<>"",CONCATENATE("Annuité ",COUNT($K$3:K34)),"") | K34: =IF(B34=$P$4,$K$1, IF(C34=0,"", IF(AND(OR(C34=12,C34=24,C34=36,C34=48,C34=60,C34=72),$M$7<1),$O$8, IF(OR(C34=12,C34=24,C34=36,C34=48,C34=60,C34=72),$O$7, IF(B34=$P$6,$O$8,""))))) | L34: =SUM(L33-H34) -> 19324.62 | M34: =D34 -> 44520 | N34: =IF(Q25="ok",N25,"") -> Annuité 3 | O34: 45097 | P34: =IF(Q34="ok",P25,"") -> -9394.62 | Q34: ok
A35: 33 | B35: =EDATE($B$1,A35) -> 44550 | C35: =IF(B35=$P$4,0, IF(B34=$P$4,1, IF(C34=0,0, IF(C34=$O$6,0, SUM(C34+1))))) -> 4 | D35: =IF(C35<>0,B35,0) -> 44550 | E35: {=IF(C35=0,0, IF(Situation!$B$152=0,0, IF(OR(C35=12,C35=24,C35=36,C35=48,C35=60,C35=72),$E$1, IF(AND(C35>=1,C35<=SUM($M$7*12)),0, IF(AND(I35<=$M$7,TEXT(D35,"aaaa")=TEXT($P$6,"aaaa")),0, IF($M$7=0,SUM((Situation!$B$71:$B$85=MONTH(1&"/"&TEXT(D35,"mmmm")))*(Situation!$C$71:$C$85)), IF(TEXT(D35,"aaaa")=TEXT($P$6,"aaaa"),SUM((Situation!$B$71:$B$85=MONTH(1&"/"&TEXT(D35,"mmmm")))*(Situation!$C$71:$C$85)), 0)))))))} -> 0 | F35: =IF($D$1=0,0, IF(D35=$P$6,$F$1, 0)) -> 0 | G35: {=IFERROR(IF(B35=$P$4,$K$1, IF(B35=EDATE($B$1,84),0, IF(COUNTIF($N$9:$N$20,B35),LOOKUP(2,1/($N$9:$N$20=B35),$Q$9:$Q$21)*-1, IF(C35<>0,$G$1,0)))),0)} -> 1030 | H35: =IF(L34<SUM(E35+G35),L34,SUM(E35+G35)) -> 1030 | I35: =IF(B35=$P$4,1, IF(AND(C35>=1,C35<=12),2, IF(AND(C35>=13,C35<=24),3, IF(AND(C35>=25,C35<=36),4, IF(AND(C35>=37,C35<=48),5, IF(AND(C35>=49,C35<=60),6, IF(AND(C35>=61,C35<=72),7, IF(AND(C35>=73,C35<=84),8, 0)))))))) -> 2 | J35: =IF(K35<>"",CONCATENATE("Annuité ",COUNT($K$3:K35)),"") | K35: =IF(B35=$P$4,$K$1, IF(C35=0,"", IF(AND(OR(C35=12,C35=24,C35=36,C35=48,C35=60,C35=72),$M$7<1),$O$8, IF(OR(C35=12,C35=24,C35=36,C35=48,C35=60,C35=72),$O$7, IF(B35=$P$6,$O$8,""))))) | L35: =SUM(L34-H35) -> 18294.62 | M35: =D35 -> 44550 | N35: =IF(Q26="ok",N26,"") | P35: =IF(Q35="ok",P26,"")
A36: 34 | B36: =EDATE($B$1,A36) -> 44581 | C36: =IF(B36=$P$4,0, IF(B35=$P$4,1, IF(C35=0,0, IF(C35=$O$6,0, SUM(C35+1))))) -> 5 | D36: =IF(C36<>0,B36,0) -> 44581 | E36: {=IF(C36=0,0, IF(Situation!$B$152=0,0, IF(OR(C36=12,C36=24,C36=36,C36=48,C36=60,C36=72),$E$1, IF(AND(C36>=1,C36<=SUM($M$7*12)),0, IF(AND(I36<=$M$7,TEXT(D36,"aaaa")=TEXT($P$6,"aaaa")),0, IF($M$7=0,SUM((Situation!$B$71:$B$85=MONTH(1&"/"&TEXT(D36,"mmmm")))*(Situation!$C$71:$C$85)), IF(TEXT(D36,"aaaa")=TEXT($P$6,"aaaa"),SUM((Situation!$B$71:$B$85=MONTH(1&"/"&TEXT(D36,"mmmm")))*(Situation!$C$71:$C$85)), 0)))))))} -> 0 | F36: =IF($D$1=0,0, IF(D36=$P$6,$F$1, 0)) -> 0 | G36: {=IFERROR(IF(B36=$P$4,$K$1, IF(B36=EDATE($B$1,84),0, IF(COUNTIF($N$9:$N$20,B36),LOOKUP(2,1/($N$9:$N$20=B36),$Q$9:$Q$21)*-1, IF(C36<>0,$G$1,0)))),0)} -> 1030 | H36: =IF(L35<SUM(E36+G36),L35,SUM(E36+G36)) -> 1030 | I36: =IF(B36=$P$4,1, IF(AND(C36>=1,C36<=12),2, IF(AND(C36>=13,C36<=24),3, IF(AND(C36>=25,C36<=36),4, IF(AND(C36>=37,C36<=48),5, IF(AND(C36>=49,C36<=60),6, IF(AND(C36>=61,C36<=72),7, IF(AND(C36>=73,C36<=84),8, 0)))))))) -> 2 | J36: =IF(K36<>"",CONCATENATE("Annuité ",COUNT($K$3:K36)),"") | K36: =IF(B36=$P$4,$K$1, IF(C36=0,"", IF(AND(OR(C36=12,C36=24,C36=36,C36=48,C36=60,C36=72),$M$7<1),$O$8, IF(OR(C36=12,C36=24,C36=36,C36=48,C36=60,C36=72),$O$7, IF(B36=$P$6,$O$8,""))))) | L36: =SUM(L35-H36) -> 17264.62 | M36: =D36 -> 44581 | N36: =IF(Q27="ok",N27,"") | P36: =IF(Q36="ok",P27,"")
A37: 35 | B37: =EDATE($B$1,A37) -> 44612 | C37: =IF(B37=$P$4,0, IF(B36=$P$4,1, IF(C36=0,0, IF(C36=$O$6,0, SUM(C36+1))))) -> 6 | D37: =IF(C37<>0,B37,0) -> 44612 | E37: {=IF(C37=0,0, IF(Situation!$B$152=0,0, IF(OR(C37=12,C37=24,C37=36,C37=48,C37=60,C37=72),$E$1, IF(AND(C37>=1,C37<=SUM($M$7*12)),0, IF(AND(I37<=$M$7,TEXT(D37,"aaaa")=TEXT($P$6,"aaaa")),0, IF($M$7=0,SUM((Situation!$B$71:$B$85=MONTH(1&"/"&TEXT(D37,"mmmm")))*(Situation!$C$71:$C$85)), IF(TEXT(D37,"aaaa")=TEXT($P$6,"aaaa"),SUM((Situation!$B$71:$B$85=MONTH(1&"/"&TEXT(D37,"mmmm")))*(Situation!$C$71:$C$85)), 0)))))))} -> 0 | F37: =IF($D$1=0,0, IF(D37=$P$6,$F$1, 0)) -> 0 | G37: {=IFERROR(IF(B37=$P$4,$K$1, IF(B37=EDATE($B$1,84),0, IF(COUNTIF($N$9:$N$20,B37),LOOKUP(2,1/($N$9:$N$20=B37),$Q$9:$Q$21)*-1, IF(C37<>0,$G$1,0)))),0)} -> 1030 | H37: =IF(L36<SUM(E37+G37),L36,SUM(E37+G37)) -> 1030 | I37: =IF(B37=$P$4,1, IF(AND(C37>=1,C37<=12),2, IF(AND(C37>=13,C37<=24),3, IF(AND(C37>=25,C37<=36),4, IF(AND(C37>=37,C37<=48),5, IF(AND(C37>=49,C37<=60),6, IF(AND(C37>=61,C37<=72),7, IF(AND(C37>=73,C37<=84),8, 0)))))))) -> 2 | J37: =IF(K37<>"",CONCATENATE("Annuité ",COUNT($K$3:K37)),"") | K37: =IF(B37=$P$4,$K$1, IF(C37=0,"", IF(AND(OR(C37=12,C37=24,C37=36,C37=48,C37=60,C37=72),$M$7<1),$O$8, IF(OR(C37=12,C37=24,C37=36,C37=48,C37=60,C37=72),$O$7, IF(B37=$P$6,$O$8,""))))) | L37: =SUM(L36-H37) -> 16234.62 | M37: =D37 -> 44612 | N37: =IF(Q28="ok",N28,"") | P37: =IF(Q37="ok",P28,"")
