Workbook

Sheet Feuil1
A1: N° commande DP | B1: N° de commande Emilie
A2: 0.8363.3:S478517560484911975293 | B2: 0.8363.3:S478500017560484911975293
A3: 00652:FAQ1519147904911881197 | B3: 00652:FAQ1500019147904911881197
A4: 00S11B:F1317CC1004911947878 | B4: 00S11B:F1317CC1004911947878
A5: 0106PAVO:F414418154844911947297 | B5: 0106PAVO:F414400018154844911947297
A6: 017085:F756719321524911950691 | B6: 017085:F756700019321524911950691
A7: 01-P46610J002:1VPW802503056/M4911887934 | B7: 01-P46610J002:1VPW802503056/M4911887934
A8: 01-P46610J002:1VPW85187S001/A4911951686 | B8: 01-P46610J002:1VPW85187S001/A4911951686
A9: 01S02B:F1317SC8274911947878 | B9: 01S02B:F1317SC8274911947878
A10: 036639:F0754C37935/5AU4911850620 | B10: 036639:F0754C37935/5AU4911850620
A11: 036639:F0754C37936/5AU4911857964 | B11: 036639:F0754C37936/5AU4911857964
A12: 036639:F0754C37937/5AU4911857967 | B12: 036639:F0754C37937/5AU4911857967
... A2238: SA9-27020PF:FAK2719004224911945043 | B2238: ZVH-K39:FA0565153Z012/A4911877999
A2239: SA9-27020PF:FAK2719004224911967044
A2240: SDSIDC5A:F3184SIA25046224911937299
A2241: SMB100A+SMB-B101:FA0565154Z064/A4911865149
A2242: SMBV100B/B103/B1/K22/K23/K24/K7-:FA056AMB010/5AN4911895655
A2243: SMBV100B/B103/B1/K22/K23/K24/K7-:FA056SDP002/5AN4911899025
A2244: SMBV100B/B103/B1/K22/K23/K24/K7-:FA056SMBV100B/B4911898963
A2245: SMR27OPTSMR-B1-B4-B5-B14-B15:FA0565101Z046/A4911895473
A2246: SMR27OPTSMR-B1-B4-B5-B14-B15:FA0565168Z003/A4911963576
A2247: SP.2085D:F05415154Z029/A4911917459
A2248: SP.2085D:F05415178Z008/A4911917883
A2249: SP1733:F05415141Z034/A4911875888
A2250: SP1733:F05415141Z036/A4911875890
... A2450: ZVH-K39:FA0565153Z012/A4911877999

Sheet Feuil2
A1: Commande | B1: Occurrences DP | C1: Occurrences Émilie | D1: Différence DP - Émilie | E1: Différence Émilie - DP | F1: Écart | G1: Qui + autre | H1: Qui - autre
A2: 0.8363.3:S478500017560484911975293 | B2: =COUNTIF(Feuil1!A:A,A2) -> 0 | C2: =COUNTIF(Feuil1!B:B,A2) -> 1 | D2: =B2-C2 -> -1 | E2: =C2-B2 -> 1 | F2: =ABS(B2-C2) -> 1 | G2: =IF(F2=0,"Égalité",IF(B2>C2,"DP","Émilie")) -> Émilie | H2: =IF(G2="Égalité","Égalité",IF(G2="Émilie","DP","Émilie")) -> DP
A3: 0.8363.3:S478517560484911975293 | B3: =COUNTIF(Feuil1!A:A,A3) -> 1 | C3: =COUNTIF(Feuil1!B:B,A3) -> 0 | D3: =B3-C3 -> 1 | E3: =C3-B3 -> -1 | F3: =ABS(B3-C3) -> 1 | G3: =IF(F3=0,"Égalité",IF(B3>C3,"DP","Émilie")) -> DP | H3: =IF(G3="Égalité","Égalité",IF(G3="Émilie","DP","Émilie")) -> Émilie
A4: 00652:FAQ1500019147904911881197 | B4: =COUNTIF(Feuil1!A:A,A4) -> 0 | C4: =COUNTIF(Feuil1!B:B,A4) -> 1 | D4: =B4-C4 -> -1 | E4: =C4-B4 -> 1 | F4: =ABS(B4-C4) -> 1 | G4: =IF(F4=0,"Égalité",IF(B4>C4,"DP","Émilie")) -> Émilie | H4: =IF(G4="Égalité","Égalité",IF(G4="Émilie","DP","Émilie")) -> DP
A5: 00652:FAQ1519147904911881197 | B5: =COUNTIF(Feuil1!A:A,A5) -> 1 | C5: =COUNTIF(Feuil1!B:B,A5) -> 0 | D5: =B5-C5 -> 1 | E5: =C5-B5 -> -1 | F5: =ABS(B5-C5) -> 1 | G5: =IF(F5=0,"Égalité",IF(B5>C5,"DP","Émilie")) -> DP | H5: =IF(G5="Égalité","Égalité",IF(G5="Émilie","DP","Émilie")) -> Émilie
A6: 00S11B:F1317CC1004911947878 | B6: =COUNTIF(Feuil1!A:A,A6) -> 1 | C6: =COUNTIF(Feuil1!B:B,A6) -> 1 | D6: =B6-C6 -> 0 | E6: =C6-B6 -> 0 | F6: =ABS(B6-C6) -> 0 | G6: =IF(F6=0,"Égalité",IF(B6>C6,"DP","Émilie")) -> Égalité | H6: =IF(G6="Égalité","Égalité",IF(G6="Émilie","DP","Émilie")) -> Égalité
A7: 0106PAVO:F414400018154844911947297 | B7: =COUNTIF(Feuil1!A:A,A7) -> 0 | C7: =COUNTIF(Feuil1!B:B,A7) -> 1 | D7: =B7-C7 -> -1 | E7: =C7-B7 -> 1 | F7: =ABS(B7-C7) -> 1 | G7: =IF(F7=0,"Égalité",IF(B7>C7,"DP","Émilie")) -> Émilie | H7: =IF(G7="Égalité","Égalité",IF(G7="Émilie","DP","Émilie")) -> DP
A8: 0106PAVO:F414418154844911947297 | B8: =COUNTIF(Feuil1!A:A,A8) -> 1 | C8: =COUNTIF(Feuil1!B:B,A8) -> 0 | D8: =B8-C8 -> 1 | E8: =C8-B8 -> -1 | F8: =ABS(B8-C8) -> 1 | G8: =IF(F8=0,"Égalité",IF(B8>C8,"DP","Émilie")) -> DP | H8: =IF(G8="Égalité","Égalité",IF(G8="Émilie","DP","Émilie")) -> Émilie
A9: 017085:F756700019321524911950691 | B9: =COUNTIF(Feuil1!A:A,A9) -> 0 | C9: =COUNTIF(Feuil1!B:B,A9) -> 1 | D9: =B9-C9 -> -1 | E9: =C9-B9 -> 1 | F9: =ABS(B9-C9) -> 1 | G9: =IF(F9=0,"Égalité",IF(B9>C9,"DP","Émilie")) -> Émilie | H9: =IF(G9="Égalité","Égalité",IF(G9="Émilie","DP","Émilie")) -> DP
A10: 017085:F756719321524911950691 | B10: =COUNTIF(Feuil1!A:A,A10) -> 1 | C10: =COUNTIF(Feuil1!B:B,A10) -> 0 | D10: =B10-C10 -> 1 | E10: =C10-B10 -> -1 | F10: =ABS(B10-C10) -> 1 | G10: =IF(F10=0,"Égalité",IF(B10>C10,"DP","Émilie")) -> DP | H10: =IF(G10="Égalité","Égalité",IF(G10="Émilie","DP","Émilie")) -> Émilie
A11: 01-P46610J002:1VPW802503056/M4911887934 | B11: =COUNTIF(Feuil1!A:A,A11) -> 1 | C11: =COUNTIF(Feuil1!B:B,A11) -> 1 | D11: =B11-C11 -> 0 | E11: =C11-B11 -> 0 | F11: =ABS(B11-C11) -> 0 | G11: =IF(F11=0,"Égalité",IF(B11>C11,"DP","Émilie")) -> Égalité | H11: =IF(G11="Égalité","Égalité",IF(G11="Émilie","DP","Émilie")) -> Égalité
A12: 01-P46610J002:1VPW85187S001/A4911951686 | B12: =COUNTIF(Feuil1!A:A,A12) -> 1 | C12: =COUNTIF(Feuil1!B:B,A12) -> 1 | D12: =B12-C12 -> 0 | E12: =C12-B12 -> 0 | F12: =ABS(B12-C12) -> 0 | G12: =IF(F12=0,"Égalité",IF(B12>C12,"DP","Émilie")) -> Égalité | H12: =IF(G12="Égalité","Égalité",IF(G12="Émilie","DP","Émilie")) -> Égalité
A13: 01S02B:F1317SC8274911947878 | B13: =COUNTIF(Feuil1!A:A,A13) -> 1 | C13: =COUNTIF(Feuil1!B:B,A13) -> 1 | D13: =B13-C13 -> 0 | E13: =C13-B13 -> 0 | F13: =ABS(B13-C13) -> 0 | G13: =IF(F13=0,"Égalité",IF(B13>C13,"DP","Émilie")) -> Égalité | H13: =IF(G13="Égalité","Égalité",IF(G13="Émilie","DP","Émilie")) -> Égalité
... A2927: ZVH-K39:FA0565153Z012/A4911877999 | B2927: =COUNTIF(Feuil1!A:A,A2927) -> 1 | C2927: =COUNTIF(Feuil1!B:B,A2927) -> 1 | D2927: =B2927-C2927 -> 0 | E2927: =C2927-B2927 -> 0 | F2927: =ABS(B2927-C2927) -> 0 | G2927: =IF(F2927=0,"Égalité",IF(B2927>C2927,"DP","Émilie")) -> Égalité | H2927: =IF(G2927="Égalité","Égalité",IF(G2927="Émilie","DP","Émilie")) -> Égalité
