Workbook

Sheet janvier
A1: JANVIER
A2: Date | B2: Pleines mers | F2: Basses mers
B3: Heure | C3: Coefficient | D3: Heure | E3: Coefficient | F3: Heure | G3: Heure
A4: 45658 | B4: =INDEX(HorairesMarais!G:G,MATCH(A4&" | high | 1",HorairesMarais!F:F,0)) -> 05:39 | C4: =INDEX(HorairesMarais!A:A,MATCH(A4&" | high | 1",HorairesMarais!F:F,0)) -> 80 | D4: =IFERROR(INDEX(HorairesMarais!G:G,MATCH(A4&" | high | 2",HorairesMarais!F:F,0)),"--:--") -> 18:05 | E4: =IFERROR(INDEX(HorairesMarais!A:A,MATCH(A4&" | high | 2",HorairesMarais!F:F,0)),"---") -> 81 | F4: =INDEX(HorairesMarais!G:G,MATCH(A4&" | low | 1",HorairesMarais!F:F,0)) -> 11:50 | G4: =IFERROR(INDEX(HorairesMarais!G:G,MATCH(A4&" | low | 2",HorairesMarais!F:F,0)),"--:--") -> --:--
A5: 45659 | B5: =INDEX(HorairesMarais!G:G,MATCH(A5&" | high | 1",HorairesMarais!F:F,0)) -> 06:20 | C5: =INDEX(HorairesMarais!A:A,MATCH(A5&" | high | 1",HorairesMarais!F:F,0)) -> 82 | D5: =IFERROR(INDEX(HorairesMarais!G:G,MATCH(A5&" | high | 2",HorairesMarais!F:F,0)),"--:--") -> 18:45 | E5: =IFERROR(INDEX(HorairesMarais!A:A,MATCH(A5&" | high | 2",HorairesMarais!F:F,0)),"---") -> 83 | F5: =INDEX(HorairesMarais!G:G,MATCH(A5&" | low | 1",HorairesMarais!F:F,0)) -> 00:05 | G5: =IFERROR(INDEX(HorairesMarais!G:G,MATCH(A5&" | low | 2",HorairesMarais!F:F,0)),"--:--") -> 12:32 | L5: =IF(A5=[1]Feuil1!P3,[1]Feuil1!Q3,"") | M5: =IF(A5=[1]Feuil1!P3,[1]Feuil1!G3,"")
A6: 45660 | B6: =INDEX(HorairesMarais!G:G,MATCH(A6&" | high | 1",HorairesMarais!F:F,0)) -> 07:03 | C6: =INDEX(HorairesMarais!A:A,MATCH(A6&" | high | 1",HorairesMarais!F:F,0)) -> 82 | D6: =IFERROR(INDEX(HorairesMarais!G:G,MATCH(A6&" | high | 2",HorairesMarais!F:F,0)),"--:--") -> 19:28 | E6: =IFERROR(INDEX(HorairesMarais!A:A,MATCH(A6&" | high | 2",HorairesMarais!F:F,0)),"---") -> 81 | F6: =INDEX(HorairesMarais!G:G,MATCH(A6&" | low | 1",HorairesMarais!F:F,0)) -> 00:47 | G6: =IFERROR(INDEX(HorairesMarais!G:G,MATCH(A6&" | low | 2",HorairesMarais!F:F,0)),"--:--") -> 13:15 | L6: =IF(A6=[1]Feuil1!P4,[1]Feuil1!Q4,"") | M6: =IF(A6=[1]Feuil1!P4,[1]Feuil1!G4,"")
A7: 45661 | B7: =INDEX(HorairesMarais!G:G,MATCH(A7&" | high | 1",HorairesMarais!F:F,0)) -> 07:49 | C7: =INDEX(HorairesMarais!A:A,MATCH(A7&" | high | 1",HorairesMarais!F:F,0)) -> 80 | D7: =IFERROR(INDEX(HorairesMarais!G:G,MATCH(A7&" | high | 2",HorairesMarais!F:F,0)),"--:--") -> 20:15 | E7: =IFERROR(INDEX(HorairesMarais!A:A,MATCH(A7&" | high | 2",HorairesMarais!F:F,0)),"---") -> 78 | F7: =INDEX(HorairesMarais!G:G,MATCH(A7&" | low | 1",HorairesMarais!F:F,0)) -> 01:30 | G7: =IFERROR(INDEX(HorairesMarais!G:G,MATCH(A7&" | low | 2",HorairesMarais!F:F,0)),"--:--") -> 13:58 | L7: =IF(A7=[1]Feuil1!P5,[1]Feuil1!Q5,"") | M7: =IF(A7=[1]Feuil1!P5,[1]Feuil1!G5,"")
A8: 45662 | B8: =INDEX(HorairesMarais!G:G,MATCH(A8&" | high | 1",HorairesMarais!F:F,0)) -> 08:38 | C8: =INDEX(HorairesMarais!A:A,MATCH(A8&" | high | 1",HorairesMarais!F:F,0)) -> 75 | D8: =IFERROR(INDEX(HorairesMarais!G:G,MATCH(A8&" | high | 2",HorairesMarais!F:F,0)),"--:--") -> 21:07 | E8: =IFERROR(INDEX(HorairesMarais!A:A,MATCH(A8&" | high | 2",HorairesMarais!F:F,0)),"---") -> 72 | F8: =INDEX(HorairesMarais!G:G,MATCH(A8&" | low | 1",HorairesMarais!F:F,0)) -> 02:15 | G8: =IFERROR(INDEX(HorairesMarais!G:G,MATCH(A8&" | low | 2",HorairesMarais!F:F,0)),"--:--") -> 14:44 | L8: =IF(A8=[1]Feuil1!P6,[1]Feuil1!Q6,"") | M8: =IF(A8=[1]Feuil1!P6,[1]Feuil1!G6,"")
A9: 45663 | B9: =INDEX(HorairesMarais!G:G,MATCH(A9&" | high | 1",HorairesMarais!F:F,0)) -> 09:33 | C9: =INDEX(HorairesMarais!A:A,MATCH(A9&" | high | 1",HorairesMarais!F:F,0)) -> 68 | D9: =IFERROR(INDEX(HorairesMarais!G:G,MATCH(A9&" | high | 2",HorairesMarais!F:F,0)),"--:--") -> 22:08 | E9: =IFERROR(INDEX(HorairesMarais!A:A,MATCH(A9&" | high | 2",HorairesMarais!F:F,0)),"---") -> 64 | F9: =INDEX(HorairesMarais!G:G,MATCH(A9&" | low | 1",HorairesMarais!F:F,0)) -> 03:04 | G9: =IFERROR(INDEX(HorairesMarais!G:G,MATCH(A9&" | low | 2",HorairesMarais!F:F,0)),"--:--") -> 15:34 | L9: =IF(A9=[1]Feuil1!P7,[1]Feuil1!Q7,"") | M9: =IF(A9=[1]Feuil1!P7,[1]Feuil1!G7,"")
A10: 45664 | B10: =INDEX(HorairesMarais!G:G,MATCH(A10&" | high | 1",HorairesMarais!F:F,0)) -> 10:35 | C10: =INDEX(HorairesMarais!A:A,MATCH(A10&" | high | 1",HorairesMarais!F:F,0)) -> 61 | D10: =IFERROR(INDEX(HorairesMarais!G:G,MATCH(A10&" | high | 2",HorairesMarais!F:F,0)),"--:--") -> 23:17 | E10: =IFERROR(INDEX(HorairesMarais!A:A,MATCH(A10&" | high | 2",HorairesMarais!F:F,0)),"---") -> 58 | F10: =INDEX(HorairesMarais!G:G,MATCH(A10&" | low | 1",HorairesMarais!F:F,0)) -> 03:59 | G10: =IFERROR(INDEX(HorairesMarais!G:G,MATCH(A10&" | low | 2",HorairesMarais!F:F,0)),"--:--") -> 16:32 | L10: =IF(A10=[1]Feuil1!P8,[1]Feuil1!Q8,"") | M10: =IF(A10=[1]Feuil1!P8,[1]Feuil1!G8,"")
A11: 45665 | B11: =INDEX(HorairesMarais!G:G,MATCH(A11&" | high | 1",HorairesMarais!F:F,0)) -> 11:46 | C11: =INDEX(HorairesMarais!A:A,MATCH(A11&" | high | 1",HorairesMarais!F:F,0)) -> 55 | D11: =IFERROR(INDEX(HorairesMarais!G:G,MATCH(A11&" | high | 2",HorairesMarais!F:F,0)),"--:--") -> --:-- | E11: =IFERROR(INDEX(HorairesMarais!A:A,MATCH(A11&" | high | 2",HorairesMarais!F:F,0)),"---") -> --- | F11: =INDEX(HorairesMarais!G:G,MATCH(A11&" | low | 1",HorairesMarais!F:F,0)) -> 05:03 | G11: =IFERROR(INDEX(HorairesMarais!G:G,MATCH(A11&" | low | 2",HorairesMarais!F:F,0)),"--:--") -> 17:38 | L11: =IF(A11=[1]Feuil1!P9,[1]Feuil1!Q9,"") | M11: =IF(A11=[1]Feuil1!P9,[1]Feuil1!G9,"")
A12: 45666 | B12: =INDEX(HorairesMarais!G:G,MATCH(A12&" | high | 1",HorairesMarais!F:F,0)) -> 00:30 | C12: =INDEX(HorairesMarais!A:A,MATCH(A12&" | high | 1",HorairesMarais!F:F,0)) -> 54 | D12: =IFERROR(INDEX(HorairesMarais!G:G,MATCH(A12&" | high | 2",HorairesMarais!F:F,0)),"--:--") -> 13:01 | E12: =IFERROR(INDEX(HorairesMarais!A:A,MATCH(A12&" | high | 2",HorairesMarais!F:F,0)),"---") -> 54 | F12: =INDEX(HorairesMarais!G:G,MATCH(A12&" | low | 1",HorairesMarais!F:F,0)) -> 06:14 | G12: =IFERROR(INDEX(HorairesMarais!G:G,MATCH(A12&" | low | 2",HorairesMarais!F:F,0)),"--:--") -> 18:50 | L12: =IF(A12=[1]Feuil1!P10,[1]Feuil1!Q10,"") | M12: =IF(A12=[1]Feuil1!P10,[1]Feuil1!G10,"")
A13: 45667 | B13: =INDEX(HorairesMarais!G:G,MATCH(A13&" | high | 1",HorairesMarais!F:F,0)) -> 01:40 | C13: =INDEX(HorairesMarais!A:A,MATCH(A13&" | high | 1",HorairesMarais!F:F,0)) -> 55 | D13: =IFERROR(INDEX(HorairesMarais!G:G,MATCH(A13&" | high | 2",HorairesMarais!F:F,0)),"--:--") -> 14:12 | E13: =IFERROR(INDEX(HorairesMarais!A:A,MATCH(A13&" | high | 2",HorairesMarais!F:F,0)),"---") -> 58 | F13: =INDEX(HorairesMarais!G:G,MATCH(A13&" | low | 1",HorairesMarais!F:F,0)) -> 07:27 | G13: =IFERROR(INDEX(HorairesMarais!G:G,MATCH(A13&" | low | 2",HorairesMarais!F:F,0)),"--:--") -> 20:00 | L13: =IF(A13=[1]Feuil1!P11,[1]Feuil1!Q11,"") | M13: =IF(A13=[1]Feuil1!P11,[1]Feuil1!G11,"")
A14: 45668 | B14: =INDEX(HorairesMarais!G:G,MATCH(A14&" | high | 1",HorairesMarais!F:F,0)) -> 02:41 | C14: =INDEX(HorairesMarais!A:A,MATCH(A14&" | high | 1",HorairesMarais!F:F,0)) -> 61 | D14: =IFERROR(INDEX(HorairesMarais!G:G,MATCH(A14&" | high | 2",HorairesMarais!F:F,0)),"--:--") -> 15:13 | E14: =IFERROR(INDEX(HorairesMarais!A:A,MATCH(A14&" | high | 2",HorairesMarais!F:F,0)),"---") -> 65 | F14: =INDEX(HorairesMarais!G:G,MATCH(A14&" | low | 1",HorairesMarais!F:F,0)) -> 08:37 | G14: =IFERROR(INDEX(HorairesMarais!G:G,MATCH(A14&" | low | 2",HorairesMarais!F:F,0)),"--:--") -> 21:02 | L14: =IF(A14=[1]Feuil1!P12,[1]Feuil1!Q12,"") | M14: =IF(A14=[1]Feuil1!P12,[1]Feuil1!G12,"")
A15: 45669 | B15: =INDEX(HorairesMarais!G:G,MATCH(A15&" | high | 1",HorairesMarais!F:F,0)) -> 03:34 | C15: =INDEX(HorairesMarais!A:A,MATCH(A15&" | high | 1",HorairesMarais!F:F,0)) -> 69 | D15: =IFERROR(INDEX(HorairesMarais!G:G,MATCH(A15&" | high | 2",HorairesMarais!F:F,0)),"--:--") -> 16:06 | E15: =IFERROR(INDEX(HorairesMarais!A:A,MATCH(A15&" | high | 2",HorairesMarais!F:F,0)),"---") -> 74 | F15: =INDEX(HorairesMarais!G:G,MATCH(A15&" | low | 1",HorairesMarais!F:F,0)) -> 09:37 | G15: =IFERROR(INDEX(HorairesMarais!G:G,MATCH(A15&" | low | 2",HorairesMarais!F:F,0)),"--:--") -> 21:56 | L15: =IF(A15=[1]Feuil1!P13,[1]Feuil1!Q13,"") | M15: =IF(A15=[1]Feuil1!P13,[1]Feuil1!G13,"")
A16: 45670 | B16: =INDEX(HorairesMarais!G:G,MATCH(A16&" | high | 1",HorairesMarais!F:F,0)) -> 04:22 | C16: =INDEX(HorairesMarais!A:A,MATCH(A16&" | high | 1",HorairesMarais!F:F,0)) -> 77 | D16: =IFERROR(INDEX(HorairesMarais!G:G,MATCH(A16&" | high | 2",HorairesMarais!F:F,0)),"--:--") -> 16:53 | E16: =IFERROR(INDEX(HorairesMarais!A:A,MATCH(A16&" | high | 2",HorairesMarais!F:F,0)),"---") -> 81 | F16: =INDEX(HorairesMarais!G:G,MATCH(A16&" | low | 1",HorairesMarais!F:F,0)) -> 10:30 | G16: =IFERROR(INDEX(HorairesMarais!G:G,MATCH(A16&" | low | 2",HorairesMarais!F:F,0)),"--:--") -> 22:44 | L16: =IF(A16=[1]Feuil1!P14,[1]Feuil1!Q14,"") | M16: =IF(A16=[1]Feuil1!P14,[1]Feuil1!G14,"")
... A34: 45688 | B34: =INDEX(HorairesMarais!G:G,MATCH(A34&" | high | 1",HorairesMarais!F:F,0)) -> 06:06 | C34: =INDEX(HorairesMarais!A:A,MATCH(A34&" | high | 1",HorairesMarais!F:F,0)) -> 96 | D34: =IFERROR(INDEX(HorairesMarais!G:G,MATCH(A34&" | high | 2",HorairesMarais!F:F,0)),"--:--") -> 18:30 | E34: =IFERROR(INDEX(HorairesMarais!A:A,MATCH(A34&" | high | 2",HorairesMarais!F:F,0)),"---") -> 98 | F34: =INDEX(HorairesMarais!G:G,MATCH(A34&" | low | 1",HorairesMarais!F:F,0)) -> 12:21 | G34: =IFERROR(INDEX(HorairesMarais!G:G,MATCH(A34&" | low | 2",HorairesMarais!F:F,0)),"--:--") -> --:-- | L34: =IF(A34=[1]Feuil1!P32,[1]Feuil1!Q32,"") | M34: =IF(A34=[1]Feuil1!P32,[1]Feuil1!G32,"")

Sheet février
B2: Pleines mers | F2: Basses mers
B3: Heure | C3: Coefficient | D3: Heure | E3: Coefficient | F3: Heure | G3: Heure
A4: 45689 | B4: =INDEX(HorairesMarais!G:G,MATCH(A4&" | high | 1",HorairesMarais!F:F,0)) -> 06:47 | C4: =INDEX(HorairesMarais!A:A,MATCH(A4&" | high | 1",HorairesMarais!F:F,0)) -> 99 | D4: =IFERROR(INDEX(HorairesMarais!G:G,MATCH(A4&" | high | 2",HorairesMarais!F:F,0)),"--:--") -> 19:10 | E4: =IFERROR(INDEX(HorairesMarais!A:A,MATCH(A4&" | high | 2",HorairesMarais!F:F,0)),"---") -> 98 | F4: =INDEX(HorairesMarais!G:G,MATCH(A4&" | low | 1",HorairesMarais!F:F,0)) -> 00:36 | G4: =IFERROR(INDEX(HorairesMarais!G:G,MATCH(A4&" | low | 2",HorairesMarais!F:F,0)),"--:--") -> 13:01
A5: 45690 | B5: =INDEX(HorairesMarais!G:G,MATCH(A5&" | high | 1",HorairesMarais!F:F,0)) -> 07:30 | C5: =INDEX(HorairesMarais!A:A,MATCH(A5&" | high | 1",HorairesMarais!F:F,0)) -> 96 | D5: =IFERROR(INDEX(HorairesMarais!G:G,MATCH(A5&" | high | 2",HorairesMarais!F:F,0)),"--:--") -> 19:52 | E5: =IFERROR(INDEX(HorairesMarais!A:A,MATCH(A5&" | high | 2",HorairesMarais!F:F,0)),"---") -> 93 | F5: =INDEX(HorairesMarais!G:G,MATCH(A5&" | low | 1",HorairesMarais!F:F,0)) -> 01:17 | G5: =IFERROR(INDEX(HorairesMarais!G:G,MATCH(A5&" | low | 2",HorairesMarais!F:F,0)),"--:--") -> 13:41
A6: 45691 | B6: =INDEX(HorairesMarais!G:G,MATCH(A6&" | high | 1",HorairesMarais!F:F,0)) -> 08:15 | C6: =INDEX(HorairesMarais!A:A,MATCH(A6&" | high | 1",HorairesMarais!F:F,0)) -> 89 | D6: =IFERROR(INDEX(HorairesMarais!G:G,MATCH(A6&" | high | 2",HorairesMarais!F:F,0)),"--:--") -> 20:37 | E6: =IFERROR(INDEX(HorairesMarais!A:A,MATCH(A6&" | high | 2",HorairesMarais!F:F,0)),"---") -> 84 | F6: =INDEX(HorairesMarais!G:G,MATCH(A6&" | low | 1",HorairesMarais!F:F,0)) -> 01:58 | G6: =IFERROR(INDEX(HorairesMarais!G:G,MATCH(A6&" | low | 2",HorairesMarais!F:F,0)),"--:--") -> 14:22
A7: 45692 | B7: =INDEX(HorairesMarais!G:G,MATCH(A7&" | high | 1",HorairesMarais!F:F,0)) -> 09:04 | C7: =INDEX(HorairesMarais!A:A,MATCH(A7&" | high | 1",HorairesMarais!F:F,0)) -> 78 | D7: =IFERROR(INDEX(HorairesMarais!G:G,MATCH(A7&" | high | 2",HorairesMarais!F:F,0)),"--:--") -> 21:29 | E7: =IFERROR(INDEX(HorairesMarais!A:A,MATCH(A7&" | high | 2",HorairesMarais!F:F,0)),"---") -> 71 | F7: =INDEX(HorairesMarais!G:G,MATCH(A7&" | low | 1",HorairesMarais!F:F,0)) -> 02:41 | G7: =IFERROR(INDEX(HorairesMarais!G:G,MATCH(A7&" | low | 2",HorairesMarais!F:F,0)),"--:--") -> 15:06
A8: 45693 | B8: =INDEX(HorairesMarais!G:G,MATCH(A8&" | high | 1",HorairesMarais!F:F,0)) -> 10:03 | C8: =INDEX(HorairesMarais!A:A,MATCH(A8&" | high | 1",HorairesMarais!F:F,0)) -> 64 | D8: =IFERROR(INDEX(HorairesMarais!G:G,MATCH(A8&" | high | 2",HorairesMarais!F:F,0)),"--:--") -> 22:36 | E8: =IFERROR(INDEX(HorairesMarais!A:A,MATCH(A8&" | high | 2",HorairesMarais!F:F,0)),"---") -> 57 | F8: =INDEX(HorairesMarais!G:G,MATCH(A8&" | low | 1",HorairesMarais!F:F,0)) -> 03:31 | G8: =IFERROR(INDEX(HorairesMarais!G:G,MATCH(A8&" | low | 2",HorairesMarais!F:F,0)),"--:--") -> 15:59
A9: 45694 | B9: =INDEX(HorairesMarais!G:G,MATCH(A9&" | high | 1",HorairesMarais!F:F,0)) -> 11:18 | C9: =INDEX(HorairesMarais!A:A,MATCH(A9&" | high | 1",HorairesMarais!F:F,0)) -> 50 | D9: =IFERROR(INDEX(HorairesMarais!G:G,MATCH(A9&" | high | 2",HorairesMarais!F:F,0)),"--:--") -> --:-- | E9: =IFERROR(INDEX(HorairesMarais!A:A,MATCH(A9&" | high | 2",HorairesMarais!F:F,0)),"---") -> --- | F9: =INDEX(HorairesMarais!G:G,MATCH(A9&" | low | 1",HorairesMarais!F:F,0)) -> 04:33 | G9: =IFERROR(INDEX(HorairesMarais!G:G,MATCH(A9&" | low | 2",HorairesMarais!F:F,0)),"--:--") -> 17:06
A10: 45695 | B10: =INDEX(HorairesMarais!G:G,MATCH(A10&" | high | 1",HorairesMarais!F:F,0)) -> 00:04 | C10: =INDEX(HorairesMarais!A:A,MATCH(A10&" | high | 1",HorairesMarais!F:F,0)) -> 46 | D10: =IFERROR(INDEX(HorairesMarais!G:G,MATCH(A10&" | high | 2",HorairesMarais!F:F,0)),"--:--") -> 12:52 | E10: =IFERROR(INDEX(HorairesMarais!A:A,MATCH(A10&" | high | 2",HorairesMarais!F:F,0)),"---") -> 43 | F10: =INDEX(HorairesMarais!G:G,MATCH(A10&" | low | 1",HorairesMarais!F:F,0)) -> 05:51 | G10: =IFERROR(INDEX(HorairesMarais!G:G,MATCH(A10&" | low | 2",HorairesMarais!F:F,0)),"--:--") -> 18:30
A11: 45696 | B11: =INDEX(HorairesMarais!G:G,MATCH(A11&" | high | 1",HorairesMarais!F:F,0)) -> 01:32 | C11: =INDEX(HorairesMarais!A:A,MATCH(A11&" | high | 1",HorairesMarais!F:F,0)) -> 43 | D11: =IFERROR(INDEX(HorairesMarais!G:G,MATCH(A11&" | high | 2",HorairesMarais!F:F,0)),"--:--") -> 14:14 | E11: =IFERROR(INDEX(HorairesMarais!A:A,MATCH(A11&" | high | 2",HorairesMarais!F:F,0)),"---") -> 46 | F11: =INDEX(HorairesMarais!G:G,MATCH(A11&" | low | 1",HorairesMarais!F:F,0)) -> 07:21 | G11: =IFERROR(INDEX(HorairesMarais!G:G,MATCH(A11&" | low | 2",HorairesMarais!F:F,0)),"--:--") -> 19:54
A12: 45697 | B12: =INDEX(HorairesMarais!G:G,MATCH(A12&" | high | 1",HorairesMarais!F:F,0)) -> 02:40 | C12: =INDEX(HorairesMarais!A:A,MATCH(A12&" | high | 1",HorairesMarais!F:F,0)) -> 50 | D12: =IFERROR(INDEX(HorairesMarais!G:G,MATCH(A12&" | high | 2",HorairesMarais!F:F,0)),"--:--") -> 15:16 | E12: =IFERROR(INDEX(HorairesMarais!A:A,MATCH(A12&" | high | 2",HorairesMarais!F:F,0)),"---") -> 56 | F12: =INDEX(HorairesMarais!G:G,MATCH(A12&" | low | 1",HorairesMarais!F:F,0)) -> 08:38 | G12: =IFERROR(INDEX(HorairesMarais!G:G,MATCH(A12&" | low | 2",HorairesMarais!F:F,0)),"--:--") -> 21:00
A13: 45698 | B13: =INDEX(HorairesMarais!G:G,MATCH(A13&" | high | 1",HorairesMarais!F:F,0)) -> 03:34 | C13: =INDEX(HorairesMarais!A:A,MATCH(A13&" | high | 1",HorairesMarais!F:F,0)) -> 62 | D13: =IFERROR(INDEX(HorairesMarais!G:G,MATCH(A13&" | high | 2",HorairesMarais!F:F,0)),"--:--") -> 16:04 | E13: =IFERROR(INDEX(HorairesMarais!A:A,MATCH(A13&" | high | 2",HorairesMarais!F:F,0)),"---") -> 68 | F13: =INDEX(HorairesMarais!G:G,MATCH(A13&" | low | 1",HorairesMarais!F:F,0)) -> 09:37 | G13: =IFERROR(INDEX(HorairesMarais!G:G,MATCH(A13&" | low | 2",HorairesMarais!F:F,0)),"--:--") -> 21:52
A14: 45699 | B14: =INDEX(HorairesMarais!G:G,MATCH(A14&" | high | 1",HorairesMarais!F:F,0)) -> 04:18 | C14: =INDEX(HorairesMarais!A:A,MATCH(A14&" | high | 1",HorairesMarais!F:F,0)) -> 74 | D14: =IFERROR(INDEX(HorairesMarais!G:G,MATCH(A14&" | high | 2",HorairesMarais!F:F,0)),"--:--") -> 16:44 | E14: =IFERROR(INDEX(HorairesMarais!A:A,MATCH(A14&" | high | 2",HorairesMarais!F:F,0)),"---") -> 78 | F14: =INDEX(HorairesMarais!G:G,MATCH(A14&" | low | 1",HorairesMarais!F:F,0)) -> 10:25 | G14: =IFERROR(INDEX(HorairesMarais!G:G,MATCH(A14&" | low | 2",HorairesMarais!F:F,0)),"--:--") -> 22:36
A15: 45700 | B15: =INDEX(HorairesMarais!G:G,MATCH(A15&" | high | 1",HorairesMarais!F:F,0)) -> 04:56 | C15: =INDEX(HorairesMarais!A:A,MATCH(A15&" | high | 1",HorairesMarais!F:F,0)) -> 82 | D15: =IFERROR(INDEX(HorairesMarais!G:G,MATCH(A15&" | high | 2",HorairesMarais!F:F,0)),"--:--") -> 17:19 | E15: =IFERROR(INDEX(HorairesMarais!A:A,MATCH(A15&" | high | 2",HorairesMarais!F:F,0)),"---") -> 86 | F15: =INDEX(HorairesMarais!G:G,MATCH(A15&" | low | 1",HorairesMarais!F:F,0)) -> 11:07 | G15: =IFERROR(INDEX(HorairesMarais!G:G,MATCH(A15&" | low | 2",HorairesMarais!F:F,0)),"--:--") -> 23:16
... A31: 45716 | B31: =INDEX(HorairesMarais!G:G,MATCH(A31&" | high | 1",HorairesMarais!F:F,0)) -> 05:05 | C31: =INDEX(HorairesMarais!A:A,MATCH(A31&" | high | 1",HorairesMarais!F:F,0)) -> 99 | D31: =IFERROR(INDEX(HorairesMarais!G:G,MATCH(A31&" | high | 2",HorairesMarais!F:F,0)),"--:--") -> 17:30 | E31: =IFERROR(INDEX(HorairesMarais!A:A,MATCH(A31&" | high | 2",HorairesMarais!F:F,0)),"---") -> 104 | F31: =INDEX(HorairesMarais!G:G,MATCH(A31&" | low | 1",HorairesMarais!F:F,0)) -> 11:20 | G31: =IFERROR(INDEX(HorairesMarais!G:G,MATCH(A31&" | low | 2",HorairesMarais!F:F,0)),"--:--") -> 23:37

Sheet mars
B2: Pleines mers | F2: Basses mers
B3: Heure | C3: Coefficient | D3: Heure | E3: Coefficient | F3: Heure | G3: Heure
A4: 45717 | B4: =INDEX(HorairesMarais!G:G,MATCH(A4&" | high | 1",HorairesMarais!F:F,0)) -> 05:44 | C4: =INDEX(HorairesMarais!A:A,MATCH(A4&" | high | 1",HorairesMarais!F:F,0)) -> 108 | D4: =IFERROR(INDEX(HorairesMarais!G:G,MATCH(A4&" | high | 2",HorairesMarais!F:F,0)),"--:--") -> 18:08 | E4: =IFERROR(INDEX(HorairesMarais!A:A,MATCH(A4&" | high | 2",HorairesMarais!F:F,0)),"---") -> 110 | F4: =INDEX(HorairesMarais!G:G,MATCH(A4&" | low | 1",HorairesMarais!F:F,0)) -> 12:00 | G4: =IFERROR(INDEX(HorairesMarais!G:G,MATCH(A4&" | low | 2",HorairesMarais!F:F,0)),"--:--") -> --:--
A5: 45718 | B5: =INDEX(HorairesMarais!G:G,MATCH(A5&" | high | 1",HorairesMarais!F:F,0)) -> 06:25 | C5: =INDEX(HorairesMarais!A:A,MATCH(A5&" | high | 1",HorairesMarais!F:F,0)) -> 111 | D5: =IFERROR(INDEX(HorairesMarais!G:G,MATCH(A5&" | high | 2",HorairesMarais!F:F,0)),"--:--") -> 18:47 | E5: =IFERROR(INDEX(HorairesMarais!A:A,MATCH(A5&" | high | 2",HorairesMarais!F:F,0)),"---") -> 109 | F5: =INDEX(HorairesMarais!G:G,MATCH(A5&" | low | 1",HorairesMarais!F:F,0)) -> 00:17 | G5: =IFERROR(INDEX(HorairesMarais!G:G,MATCH(A5&" | low | 2",HorairesMarais!F:F,0)),"--:--") -> 12:40
A6: 45719 | B6: =INDEX(HorairesMarais!G:G,MATCH(A6&" | high | 1",HorairesMarais!F:F,0)) -> 07:07 | C6: =INDEX(HorairesMarais!A:A,MATCH(A6&" | high | 1",HorairesMarais!F:F,0)) -> 107 | D6: =IFERROR(INDEX(HorairesMarais!G:G,MATCH(A6&" | high | 2",HorairesMarais!F:F,0)),"--:--") -> 19:27 | E6: =IFERROR(INDEX(HorairesMarais!A:A,MATCH(A6&" | high | 2",HorairesMarais!F:F,0)),"---") -> 102 | F6: =INDEX(HorairesMarais!G:G,MATCH(A6&" | low | 1",HorairesMarais!F:F,0)) -> 00:57 | G6: =IFERROR(INDEX(HorairesMarais!G:G,MATCH(A6&" | low | 2",HorairesMarais!F:F,0)),"--:--") -> 13:18
A7: 45720 | B7: =INDEX(HorairesMarais!G:G,MATCH(A7&" | high | 1",HorairesMarais!F:F,0)) -> 07:52 | C7: =INDEX(HorairesMarais!A:A,MATCH(A7&" | high | 1",HorairesMarais!F:F,0)) -> 96 | D7: =IFERROR(INDEX(HorairesMarais!G:G,MATCH(A7&" | high | 2",HorairesMarais!F:F,0)),"--:--") -> 20:10 | E7: =IFERROR(INDEX(HorairesMarais!A:A,MATCH(A7&" | high | 2",HorairesMarais!F:F,0)),"---") -> 89 | F7: =INDEX(HorairesMarais!G:G,MATCH(A7&" | low | 1",HorairesMarais!F:F,0)) -> 01:37 | G7: =IFERROR(INDEX(HorairesMarais!G:G,MATCH(A7&" | low | 2",HorairesMarais!F:F,0)),"--:--") -> 13:58
A8: 45721 | B8: =INDEX(HorairesMarais!G:G,MATCH(A8&" | high | 1",HorairesMarais!F:F,0)) -> 08:40 | C8: =INDEX(HorairesMarais!A:A,MATCH(A8&" | high | 1",HorairesMarais!F:F,0)) -> 80 | D8: =IFERROR(INDEX(HorairesMarais!G:G,MATCH(A8&" | high | 2",HorairesMarais!F:F,0)),"--:--") -> 20:59 | E8: =IFERROR(INDEX(HorairesMarais!A:A,MATCH(A8&" | high | 2",HorairesMarais!F:F,0)),"---") -> 72 | F8: =INDEX(HorairesMarais!G:G,MATCH(A8&" | low | 1",HorairesMarais!F:F,0)) -> 02:19 | G8: =IFERROR(INDEX(HorairesMarais!G:G,MATCH(A8&" | low | 2",HorairesMarais!F:F,0)),"--:--") -> 14:41
A9: 45722 | B9: =INDEX(HorairesMarais!G:G,MATCH(A9&" | high | 1",HorairesMarais!F:F,0)) -> 09:38 | C9: =INDEX(HorairesMarais!A:A,MATCH(A9&" | high | 1",HorairesMarais!F:F,0)) -> 62 | D9: =IFERROR(INDEX(HorairesMarais!G:G,MATCH(A9&" | high | 2",HorairesMarais!F:F,0)),"--:--") -> 22:04 | E9: =IFERROR(INDEX(HorairesMarais!A:A,MATCH(A9&" | high | 2",HorairesMarais!F:F,0)),"---") -> 53 | F9: =INDEX(HorairesMarais!G:G,MATCH(A9&" | low | 1",HorairesMarais!F:F,0)) -> 03:08 | G9: =IFERROR(INDEX(HorairesMarais!G:G,MATCH(A9&" | low | 2",HorairesMarais!F:F,0)),"--:--") -> 15:32
A10: 45723 | B10: =INDEX(HorairesMarais!G:G,MATCH(A10&" | high | 1",HorairesMarais!F:F,0)) -> 11:05 | C10: =INDEX(HorairesMarais!A:A,MATCH(A10&" | high | 1",HorairesMarais!F:F,0)) -> 45 | D10: =IFERROR(INDEX(HorairesMarais!G:G,MATCH(A10&" | high | 2",HorairesMarais!F:F,0)),"--:--") -> 23:50 | E10: =IFERROR(INDEX(HorairesMarais!A:A,MATCH(A10&" | high | 2",HorairesMarais!F:F,0)),"---") -> 39 | F10: =INDEX(HorairesMarais!G:G,MATCH(A10&" | low | 1",HorairesMarais!F:F,0)) -> 04:10 | G10: =IFERROR(INDEX(HorairesMarais!G:G,MATCH(A10&" | low | 2",HorairesMarais!F:F,0)),"--:--") -> 16:41
A11: 45724 | B11: =INDEX(HorairesMarais!G:G,MATCH(A11&" | high | 1",HorairesMarais!F:F,0)) -> 12:53 | C11: =INDEX(HorairesMarais!A:A,MATCH(A11&" | high | 1",HorairesMarais!F:F,0)) -> 36 | D11: =IFERROR(INDEX(HorairesMarais!G:G,MATCH(A11&" | high | 2",HorairesMarais!F:F,0)),"--:--") -> --:-- | E11: =IFERROR(INDEX(HorairesMarais!A:A,MATCH(A11&" | high | 2",HorairesMarais!F:F,0)),"---") -> --- | F11: =INDEX(HorairesMarais!G:G,MATCH(A11&" | low | 1",HorairesMarais!F:F,0)) -> 05:40 | G11: =IFERROR(INDEX(HorairesMarais!G:G,MATCH(A11&" | low | 2",HorairesMarais!F:F,0)),"--:--") -> 18:18
A12: 45725 | B12: =INDEX(HorairesMarais!G:G,MATCH(A12&" | high | 1",HorairesMarais!F:F,0)) -> 01:27 | C12: =INDEX(HorairesMarais!A:A,MATCH(A12&" | high | 1",HorairesMarais!F:F,0)) -> 37 | D12: =IFERROR(INDEX(HorairesMarais!G:G,MATCH(A12&" | high | 2",HorairesMarais!F:F,0)),"--:--") -> 14:13 | E12: =IFERROR(INDEX(HorairesMarais!A:A,MATCH(A12&" | high | 2",HorairesMarais!F:F,0)),"---") -> 41 | F12: =INDEX(HorairesMarais!G:G,MATCH(A12&" | low | 1",HorairesMarais!F:F,0)) -> 07:19 | G12: =IFERROR(INDEX(HorairesMarais!G:G,MATCH(A12&" | low | 2",HorairesMarais!F:F,0)),"--:--") -> 19:47
A13: 45726 | B13: =INDEX(HorairesMarais!G:G,MATCH(A13&" | high | 1",HorairesMarais!F:F,0)) -> 02:35 | C13: =INDEX(HorairesMarais!A:A,MATCH(A13&" | high | 1",HorairesMarais!F:F,0)) -> 47 | D13: =IFERROR(INDEX(HorairesMarais!G:G,MATCH(A13&" | high | 2",HorairesMarais!F:F,0)),"--:--") -> 15:10 | E13: =IFERROR(INDEX(HorairesMarais!A:A,MATCH(A13&" | high | 2",HorairesMarais!F:F,0)),"---") -> 54 | F13: =INDEX(HorairesMarais!G:G,MATCH(A13&" | low | 1",HorairesMarais!F:F,0)) -> 08:33 | G13: =IFERROR(INDEX(HorairesMarais!G:G,MATCH(A13&" | low | 2",HorairesMarais!F:F,0)),"--:--") -> 20:50
A14: 45727 | B14: =INDEX(HorairesMarais!G:G,MATCH(A14&" | high | 1",HorairesMarais!F:F,0)) -> 03:25 | C14: =INDEX(HorairesMarais!A:A,MATCH(A14&" | high | 1",HorairesMarais!F:F,0)) -> 61 | D14: =IFERROR(INDEX(HorairesMarais!G:G,MATCH(A14&" | high | 2",HorairesMarais!F:F,0)),"--:--") -> 15:51 | E14: =IFERROR(INDEX(HorairesMarais!A:A,MATCH(A14&" | high | 2",HorairesMarais!F:F,0)),"---") -> 68 | F14: =INDEX(HorairesMarais!G:G,MATCH(A14&" | low | 1",HorairesMarais!F:F,0)) -> 09:25 | G14: =IFERROR(INDEX(HorairesMarais!G:G,MATCH(A14&" | low | 2",HorairesMarais!F:F,0)),"--:--") -> 21:37
A15: 45728 | B15: =INDEX(HorairesMarais!G:G,MATCH(A15&" | high | 1",HorairesMarais!F:F,0)) -> 04:03 | C15: =INDEX(HorairesMarais!A:A,MATCH(A15&" | high | 1",HorairesMarais!F:F,0)) -> 73 | D15: =IFERROR(INDEX(HorairesMarais!G:G,MATCH(A15&" | high | 2",HorairesMarais!F:F,0)),"--:--") -> 16:24 | E15: =IFERROR(INDEX(HorairesMarais!A:A,MATCH(A15&" | high | 2",HorairesMarais!F:F,0)),"---") -> 78 | F15: =INDEX(HorairesMarais!G:G,MATCH(A15&" | low | 1",HorairesMarais!F:F,0)) -> 10:07 | G15: =IFERROR(INDEX(HorairesMarais!G:G,MATCH(A15&" | low | 2",HorairesMarais!F:F,0)),"--:--") -> 22:18
... A34: 45747 | B34: =INDEX(HorairesMarais!G:G,MATCH(A34&" | high | 1",HorairesMarais!F:F,0)) -> 07:03 | C34: =INDEX(HorairesMarais!A:A,MATCH(A34&" | high | 1",HorairesMarais!F:F,0)) -> 114 | D34: =IFERROR(INDEX(HorairesMarais!G:G,MATCH(A34&" | high | 2",HorairesMarais!F:F,0)),"--:--") -> 19:23 | E34: =IFERROR(INDEX(HorairesMarais!A:A,MATCH(A34&" | high | 2",HorairesMarais!F:F,0)),"---") -> 111 | F34: =INDEX(HorairesMarais!G:G,MATCH(A34&" | low | 1",HorairesMarais!F:F,0)) -> 00:54 | G34: =IFERROR(INDEX(HorairesMarais!G:G,MATCH(A34&" | low | 2",HorairesMarais!F:F,0)),"--:--") -> 13:14

Sheet avril
B2: Pleines mers | F2: Basses mers
B3: Heure | C3: Coefficient | D3: Heure | E3: Coefficient | F3: Heure | G3: Heure
A4: 45748 | B4: =INDEX(HorairesMarais!G:G,MATCH(A4&" | high | 1",HorairesMarais!F:F,0)) -> 07:47 | C4: =INDEX(HorairesMarais!A:A,MATCH(A4&" | high | 1",HorairesMarais!F:F,0)) -> 107 | D4: =IFERROR(INDEX(HorairesMarais!G:G,MATCH(A4&" | high | 2",HorairesMarais!F:F,0)),"--:--") -> 20:05 | E4: =IFERROR(INDEX(HorairesMarais!A:A,MATCH(A4&" | high | 2",HorairesMarais!F:F,0)),"---") -> 102 | F4: =INDEX(HorairesMarais!G:G,MATCH(A4&" | low | 1",HorairesMarais!F:F,0)) -> 01:35 | G4: =IFERROR(INDEX(HorairesMarais!G:G,MATCH(A4&" | low | 2",HorairesMarais!F:F,0)),"--:--") -> 13:54
A5: 45749 | B5: =INDEX(HorairesMarais!G:G,MATCH(A5&" | high | 1",HorairesMarais!F:F,0)) -> 08:33 | C5: =INDEX(HorairesMarais!A:A,MATCH(A5&" | high | 1",HorairesMarais!F:F,0)) -> 95 | D5: =IFERROR(INDEX(HorairesMarais!G:G,MATCH(A5&" | high | 2",HorairesMarais!F:F,0)),"--:--") -> 20:49 | E5: =IFERROR(INDEX(HorairesMarais!A:A,MATCH(A5&" | high | 2",HorairesMarais!F:F,0)),"---") -> 87 | F5: =INDEX(HorairesMarais!G:G,MATCH(A5&" | low | 1",HorairesMarais!F:F,0)) -> 02:16 | G5: =IFERROR(INDEX(HorairesMarais!G:G,MATCH(A5&" | low | 2",HorairesMarais!F:F,0)),"--:--") -> 14:34
A6: 45750 | B6: =INDEX(HorairesMarais!G:G,MATCH(A6&" | high | 1",HorairesMarais!F:F,0)) -> 09:23 | C6: =INDEX(HorairesMarais!A:A,MATCH(A6&" | high | 1",HorairesMarais!F:F,0)) -> 77 | D6: =IFERROR(INDEX(HorairesMarais!G:G,MATCH(A6&" | high | 2",HorairesMarais!F:F,0)),"--:--") -> 21:40 | E6: =IFERROR(INDEX(HorairesMarais!A:A,MATCH(A6&" | high | 2",HorairesMarais!F:F,0)),"---") -> 68 | F6: =INDEX(HorairesMarais!G:G,MATCH(A6&" | low | 1",HorairesMarais!F:F,0)) -> 03:00 | G6: =IFERROR(INDEX(HorairesMarais!G:G,MATCH(A6&" | low | 2",HorairesMarais!F:F,0)),"--:--") -> 15:18
A7: 45751 | B7: =INDEX(HorairesMarais!G:G,MATCH(A7&" | high | 1",HorairesMarais!F:F,0)) -> 10:26 | C7: =INDEX(HorairesMarais!A:A,MATCH(A7&" | high | 1",HorairesMarais!F:F,0)) -> 58 | D7: =IFERROR(INDEX(HorairesMarais!G:G,MATCH(A7&" | high | 2",HorairesMarais!F:F,0)),"--:--") -> 22:49 | E7: =IFERROR(INDEX(HorairesMarais!A:A,MATCH(A7&" | high | 2",HorairesMarais!F:F,0)),"---") -> 50 | F7: =INDEX(HorairesMarais!G:G,MATCH(A7&" | low | 1",HorairesMarais!F:F,0)) -> 03:51 | G7: =IFERROR(INDEX(HorairesMarais!G:G,MATCH(A7&" | low | 2",HorairesMarais!F:F,0)),"--:--") -> 16:11
A8: 45752 | B8: =INDEX(HorairesMarais!G:G,MATCH(A8&" | high | 1",HorairesMarais!F:F,0)) -> 12:02 | C8: =INDEX(HorairesMarais!A:A,MATCH(A8&" | high | 1",HorairesMarais!F:F,0)) -> 42 | D8: =IFERROR(INDEX(HorairesMarais!G:G,MATCH(A8&" | high | 2",HorairesMarais!F:F,0)),"--:--") -> --:-- | E8: =IFERROR(INDEX(HorairesMarais!A:A,MATCH(A8&" | high | 2",HorairesMarais!F:F,0)),"---") -> --- | F8: =INDEX(HorairesMarais!G:G,MATCH(A8&" | low | 1",HorairesMarais!F:F,0)) -> 04:55 | G8: =IFERROR(INDEX(HorairesMarais!G:G,MATCH(A8&" | low | 2",HorairesMarais!F:F,0)),"--:--") -> 17:23
A9: 45753 | B9: =INDEX(HorairesMarais!G:G,MATCH(A9&" | high | 1",HorairesMarais!F:F,0)) -> 00:36 | C9: =INDEX(HorairesMarais!A:A,MATCH(A9&" | high | 1",HorairesMarais!F:F,0)) -> 37 | D9: =IFERROR(INDEX(HorairesMarais!G:G,MATCH(A9&" | high | 2",HorairesMarais!F:F,0)),"--:--") -> 13:41 | E9: =IFERROR(INDEX(HorairesMarais!A:A,MATCH(A9&" | high | 2",HorairesMarais!F:F,0)),"---") -> 35 | F9: =INDEX(HorairesMarais!G:G,MATCH(A9&" | low | 1",HorairesMarais!F:F,0)) -> 06:27 | G9: =IFERROR(INDEX(HorairesMarais!G:G,MATCH(A9&" | low | 2",HorairesMarais!F:F,0)),"--:--") -> 18:59
A10: 45754 | B10: =INDEX(HorairesMarais!G:G,MATCH(A10&" | high | 1",HorairesMarais!F:F,0)) -> 02:06 | C10: =INDEX(HorairesMarais!A:A,MATCH(A10&" | high | 1",HorairesMarais!F:F,0)) -> 37 | D10: =IFERROR(INDEX(HorairesMarais!G:G,MATCH(A10&" | high | 2",HorairesMarais!F:F,0)),"--:--") -> 14:54 | E10: =IFERROR(INDEX(HorairesMarais!A:A,MATCH(A10&" | high | 2",HorairesMarais!F:F,0)),"---") -> 42 | F10: =INDEX(HorairesMarais!G:G,MATCH(A10&" | low | 1",HorairesMarais!F:F,0)) -> 08:00 | G10: =IFERROR(INDEX(HorairesMarais!G:G,MATCH(A10&" | low | 2",HorairesMarais!F:F,0)),"--:--") -> 20:22
A11: 45755 | B11: =INDEX(HorairesMarais!G:G,MATCH(A11&" | high | 1",HorairesMarais!F:F,0)) -> 03:12 | C11: =INDEX(HorairesMarais!A:A,MATCH(A11&" | high | 1",HorairesMarais!F:F,0)) -> 47 | D11: =IFERROR(INDEX(HorairesMarais!G:G,MATCH(A11&" | high | 2",HorairesMarais!F:F,0)),"--:--") -> 15:46 | E11: =IFERROR(INDEX(HorairesMarais!A:A,MATCH(A11&" | high | 2",HorairesMarais!F:F,0)),"---") -> 54 | F11: =INDEX(HorairesMarais!G:G,MATCH(A11&" | low | 1",HorairesMarais!F:F,0)) -> 09:07 | G11: =IFERROR(INDEX(HorairesMarais!G:G,MATCH(A11&" | low | 2",HorairesMarais!F:F,0)),"--:--") -> 21:22
A12: 45756 | B12: =INDEX(HorairesMarais!G:G,MATCH(A12&" | high | 1",HorairesMarais!F:F,0)) -> 04:00 | C12: =INDEX(HorairesMarais!A:A,MATCH(A12&" | high | 1",HorairesMarais!F:F,0)) -> 59 | D12: =IFERROR(INDEX(HorairesMarais!G:G,MATCH(A12&" | high | 2",HorairesMarais!F:F,0)),"--:--") -> 16:23 | E12: =IFERROR(INDEX(HorairesMarais!A:A,MATCH(A12&" | high | 2",HorairesMarais!F:F,0)),"---") -> 65 | F12: =INDEX(HorairesMarais!G:G,MATCH(A12&" | low | 1",HorairesMarais!F:F,0)) -> 09:56 | G12: =IFERROR(INDEX(HorairesMarais!G:G,MATCH(A12&" | low | 2",HorairesMarais!F:F,0)),"--:--") -> 22:09
A13: 45757 | B13: =INDEX(HorairesMarais!G:G,MATCH(A13&" | high | 1",HorairesMarais!F:F,0)) -> 04:37 | C13: =INDEX(HorairesMarais!A:A,MATCH(A13&" | high | 1",HorairesMarais!F:F,0)) -> 70 | D13: =IFERROR(INDEX(HorairesMarais!G:G,MATCH(A13&" | high | 2",HorairesMarais!F:F,0)),"--:--") -> 16:54 | E13: =IFERROR(INDEX(HorairesMarais!A:A,MATCH(A13&" | high | 2",HorairesMarais!F:F,0)),"---") -> 74 | F13: =INDEX(HorairesMarais!G:G,MATCH(A13&" | low | 1",HorairesMarais!F:F,0)) -> 10:37 | G13: =IFERROR(INDEX(HorairesMarais!G:G,MATCH(A13&" | low | 2",HorairesMarais!F:F,0)),"--:--") -> 22:49
A14: 45758 | B14: =INDEX(HorairesMarais!G:G,MATCH(A14&" | high | 1",HorairesMarais!F:F,0)) -> 05:07 | C14: =INDEX(HorairesMarais!A:A,MATCH(A14&" | high | 1",HorairesMarais!F:F,0)) -> 78 | D14: =IFERROR(INDEX(HorairesMarais!G:G,MATCH(A14&" | high | 2",HorairesMarais!F:F,0)),"--:--") -> 17:21 | E14: =IFERROR(INDEX(HorairesMarais!A:A,MATCH(A14&" | high | 2",HorairesMarais!F:F,0)),"---") -> 81 | F14: =INDEX(HorairesMarais!G:G,MATCH(A14&" | low | 1",HorairesMarais!F:F,0)) -> 11:13 | G14: =IFERROR(INDEX(HorairesMarais!G:G,MATCH(A14&" | low | 2",HorairesMarais!F:F,0)),"--:--") -> 23:24
A15: 45759 | B15: =INDEX(HorairesMarais!G:G,MATCH(A15&" | high | 1",HorairesMarais!F:F,0)) -> 05:34 | C15: =INDEX(HorairesMarais!A:A,MATCH(A15&" | high | 1",HorairesMarais!F:F,0)) -> 83 | D15: =IFERROR(INDEX(HorairesMarais!G:G,MATCH(A15&" | high | 2",HorairesMarais!F:F,0)),"--:--") -> 17:47 | E15: =IFERROR(INDEX(HorairesMarais!A:A,MATCH(A15&" | high | 2",HorairesMarais!F:F,0)),"---") -> 84 | F15: =INDEX(HorairesMarais!G:G,MATCH(A15&" | low | 1",HorairesMarais!F:F,0)) -> 11:45 | G15: =IFERROR(INDEX(HorairesMarais!G:G,MATCH(A15&" | low | 2",HorairesMarais!F:F,0)),"--:--") -> 23:56
... A33: 45777 | B33: =INDEX(HorairesMarais!G:G,MATCH(A33&" | high | 1",HorairesMarais!F:F,0)) -> 07:31 | C33: =INDEX(HorairesMarais!A:A,MATCH(A33&" | high | 1",HorairesMarais!F:F,0)) -> 101 | D33: =IFERROR(INDEX(HorairesMarais!G:G,MATCH(A33&" | high | 2",HorairesMarais!F:F,0)),"--:--") -> 19:49 | E33: =IFERROR(INDEX(HorairesMarais!A:A,MATCH(A33&" | high | 2",HorairesMarais!F:F,0)),"---") -> 96 | F33: =INDEX(HorairesMarais!G:G,MATCH(A33&" | low | 1",HorairesMarais!F:F,0)) -> 01:14 | G33: =IFERROR(INDEX(HorairesMarais!G:G,MATCH(A33&" | low | 2",HorairesMarais!F:F,0)),"--:--") -> 13:31

Sheet mai
B2: Pleines mers | F2: Basses mers
B3: Heure | C3: Coefficient | D3: Heure | E3: Coefficient | F3: Heure | G3: Heure
A4: 45778 | B4: =INDEX(HorairesMarais!G:G,MATCH(A4&" | high | 1",HorairesMarais!F:F,0)) -> 08:21 | C4: =INDEX(HorairesMarais!A:A,MATCH(A4&" | high | 1",HorairesMarais!F:F,0)) -> 89 | D4: =IFERROR(INDEX(HorairesMarais!G:G,MATCH(A4&" | high | 2",HorairesMarais!F:F,0)),"--:--") -> 20:37 | E4: =IFERROR(INDEX(HorairesMarais!A:A,MATCH(A4&" | high | 2",HorairesMarais!F:F,0)),"---") -> 82 | F4: =INDEX(HorairesMarais!G:G,MATCH(A4&" | low | 1",HorairesMarais!F:F,0)) -> 01:59 | G4: =IFERROR(INDEX(HorairesMarais!G:G,MATCH(A4&" | low | 2",HorairesMarais!F:F,0)),"--:--") -> 14:14
A5: 45779 | B5: =INDEX(HorairesMarais!G:G,MATCH(A5&" | high | 1",HorairesMarais!F:F,0)) -> 09:14 | C5: =INDEX(HorairesMarais!A:A,MATCH(A5&" | high | 1",HorairesMarais!F:F,0)) -> 74 | D5: =IFERROR(INDEX(HorairesMarais!G:G,MATCH(A5&" | high | 2",HorairesMarais!F:F,0)),"--:--") -> 21:32 | E5: =IFERROR(INDEX(HorairesMarais!A:A,MATCH(A5&" | high | 2",HorairesMarais!F:F,0)),"---") -> 66 | F5: =INDEX(HorairesMarais!G:G,MATCH(A5&" | low | 1",HorairesMarais!F:F,0)) -> 02:46 | G5: =IFERROR(INDEX(HorairesMarais!G:G,MATCH(A5&" | low | 2",HorairesMarais!F:F,0)),"--:--") -> 15:01
A6: 45780 | B6: =INDEX(HorairesMarais!G:G,MATCH(A6&" | high | 1",HorairesMarais!F:F,0)) -> 10:19 | C6: =INDEX(HorairesMarais!A:A,MATCH(A6&" | high | 1",HorairesMarais!F:F,0)) -> 58 | D6: =IFERROR(INDEX(HorairesMarais!G:G,MATCH(A6&" | high | 2",HorairesMarais!F:F,0)),"--:--") -> 22:40 | E6: =IFERROR(INDEX(HorairesMarais!A:A,MATCH(A6&" | high | 2",HorairesMarais!F:F,0)),"---") -> 51 | F6: =INDEX(HorairesMarais!G:G,MATCH(A6&" | low | 1",HorairesMarais!F:F,0)) -> 03:38 | G6: =IFERROR(INDEX(HorairesMarais!G:G,MATCH(A6&" | low | 2",HorairesMarais!F:F,0)),"--:--") -> 15:55
A7: 45781 | B7: =INDEX(HorairesMarais!G:G,MATCH(A7&" | high | 1",HorairesMarais!F:F,0)) -> 11:42 | C7: =INDEX(HorairesMarais!A:A,MATCH(A7&" | high | 1",HorairesMarais!F:F,0)) -> 45 | D7: =IFERROR(INDEX(HorairesMarais!G:G,MATCH(A7&" | high | 2",HorairesMarais!F:F,0)),"--:--") -> --:-- | E7: =IFERROR(INDEX(HorairesMarais!A:A,MATCH(A7&" | high | 2",HorairesMarais!F:F,0)),"---") -> --- | F7: =INDEX(HorairesMarais!G:G,MATCH(A7&" | low | 1",HorairesMarais!F:F,0)) -> 04:40 | G7: =IFERROR(INDEX(HorairesMarais!G:G,MATCH(A7&" | low | 2",HorairesMarais!F:F,0)),"--:--") -> 17:03
A8: 45782 | B8: =INDEX(HorairesMarais!G:G,MATCH(A8&" | high | 1",HorairesMarais!F:F,0)) -> 00:05 | C8: =INDEX(HorairesMarais!A:A,MATCH(A8&" | high | 1",HorairesMarais!F:F,0)) -> 42 | D8: =IFERROR(INDEX(HorairesMarais!G:G,MATCH(A8&" | high | 2",HorairesMarais!F:F,0)),"--:--") -> 13:04 | E8: =IFERROR(INDEX(HorairesMarais!A:A,MATCH(A8&" | high | 2",HorairesMarais!F:F,0)),"---") -> 40 | F8: =INDEX(HorairesMarais!G:G,MATCH(A8&" | low | 1",HorairesMarais!F:F,0)) -> 05:59 | G8: =IFERROR(INDEX(HorairesMarais!G:G,MATCH(A8&" | low | 2",HorairesMarais!F:F,0)),"--:--") -> 18:24
A9: 45783 | B9: =INDEX(HorairesMarais!G:G,MATCH(A9&" | high | 1",HorairesMarais!F:F,0)) -> 01:24 | C9: =INDEX(HorairesMarais!A:A,MATCH(A9&" | high | 1",HorairesMarais!F:F,0)) -> 40 | D9: =IFERROR(INDEX(HorairesMarais!G:G,MATCH(A9&" | high | 2",HorairesMarais!F:F,0)),"--:--") -> 14:11 | E9: =IFERROR(INDEX(HorairesMarais!A:A,MATCH(A9&" | high | 2",HorairesMarais!F:F,0)),"---") -> 43 | F9: =INDEX(HorairesMarais!G:G,MATCH(A9&" | low | 1",HorairesMarais!F:F,0)) -> 07:18 | G9: =IFERROR(INDEX(HorairesMarais!G:G,MATCH(A9&" | low | 2",HorairesMarais!F:F,0)),"--:--") -> 19:39
A10: 45784 | B10: =INDEX(HorairesMarais!G:G,MATCH(A10&" | high | 1",HorairesMarais!F:F,0)) -> 02:29 | C10: =INDEX(HorairesMarais!A:A,MATCH(A10&" | high | 1",HorairesMarais!F:F,0)) -> 46 | D10: =IFERROR(INDEX(HorairesMarais!G:G,MATCH(A10&" | high | 2",HorairesMarais!F:F,0)),"--:--") -> 15:03 | E10: =IFERROR(INDEX(HorairesMarais!A:A,MATCH(A10&" | high | 2",HorairesMarais!F:F,0)),"---") -> 50 | F10: =INDEX(HorairesMarais!G:G,MATCH(A10&" | low | 1",HorairesMarais!F:F,0)) -> 08:23 | G10: =IFERROR(INDEX(HorairesMarais!G:G,MATCH(A10&" | low | 2",HorairesMarais!F:F,0)),"--:--") -> 20:40
A11: 45785 | B11: =INDEX(HorairesMarais!G:G,MATCH(A11&" | high | 1",HorairesMarais!F:F,0)) -> 03:20 | C11: =INDEX(HorairesMarais!A:A,MATCH(A11&" | high | 1",HorairesMarais!F:F,0)) -> 54 | D11: =IFERROR(INDEX(HorairesMarais!G:G,MATCH(A11&" | high | 2",HorairesMarais!F:F,0)),"--:--") -> 15:43 | E11: =IFERROR(INDEX(HorairesMarais!A:A,MATCH(A11&" | high | 2",HorairesMarais!F:F,0)),"---") -> 58 | F11: =INDEX(HorairesMarais!G:G,MATCH(A11&" | low | 1",HorairesMarais!F:F,0)) -> 09:15 | G11: =IFERROR(INDEX(HorairesMarais!G:G,MATCH(A11&" | low | 2",HorairesMarais!F:F,0)),"--:--") -> 21:30
A12: 45786 | B12: =INDEX(HorairesMarais!G:G,MATCH(A12&" | high | 1",HorairesMarais!F:F,0)) -> 03:59 | C12: =INDEX(HorairesMarais!A:A,MATCH(A12&" | high | 1",HorairesMarais!F:F,0)) -> 62 | D12: =IFERROR(INDEX(HorairesMarais!G:G,MATCH(A12&" | high | 2",HorairesMarais!F:F,0)),"--:--") -> 16:16 | E12: =IFERROR(INDEX(HorairesMarais!A:A,MATCH(A12&" | high | 2",HorairesMarais!F:F,0)),"---") -> 65 | F12: =INDEX(HorairesMarais!G:G,MATCH(A12&" | low | 1",HorairesMarais!F:F,0)) -> 09:58 | G12: =IFERROR(INDEX(HorairesMarais!G:G,MATCH(A12&" | low | 2",HorairesMarais!F:F,0)),"--:--") -> 22:12
A13: 45787 | B13: =INDEX(HorairesMarais!G:G,MATCH(A13&" | high | 1",HorairesMarais!F:F,0)) -> 04:32 | C13: =INDEX(HorairesMarais!A:A,MATCH(A13&" | high | 1",HorairesMarais!F:F,0)) -> 68 | D13: =IFERROR(INDEX(HorairesMarais!G:G,MATCH(A13&" | high | 2",HorairesMarais!F:F,0)),"--:--") -> 16:45 | E13: =IFERROR(INDEX(HorairesMarais!A:A,MATCH(A13&" | high | 2",HorairesMarais!F:F,0)),"---") -> 71 | F13: =INDEX(HorairesMarais!G:G,MATCH(A13&" | low | 1",HorairesMarais!F:F,0)) -> 10:35 | G13: =IFERROR(INDEX(HorairesMarais!G:G,MATCH(A13&" | low | 2",HorairesMarais!F:F,0)),"--:--") -> 22:49
A14: 45788 | B14: =INDEX(HorairesMarais!G:G,MATCH(A14&" | high | 1",HorairesMarais!F:F,0)) -> 05:03 | C14: =INDEX(HorairesMarais!A:A,MATCH(A14&" | high | 1",HorairesMarais!F:F,0)) -> 73 | D14: =IFERROR(INDEX(HorairesMarais!G:G,MATCH(A14&" | high | 2",HorairesMarais!F:F,0)),"--:--") -> 17:15 | E14: =IFERROR(INDEX(HorairesMarais!A:A,MATCH(A14&" | high | 2",HorairesMarais!F:F,0)),"---") -> 75 | F14: =INDEX(HorairesMarais!G:G,MATCH(A14&" | low | 1",HorairesMarais!F:F,0)) -> 11:09 | G14: =IFERROR(INDEX(HorairesMarais!G:G,MATCH(A14&" | low | 2",HorairesMarais!F:F,0)),"--:--") -> 23:23
A15: 45789 | B15: =INDEX(HorairesMarais!G:G,MATCH(A15&" | high | 1",HorairesMarais!F:F,0)) -> 05:34 | C15: =INDEX(HorairesMarais!A:A,MATCH(A15&" | high | 1",HorairesMarais!F:F,0)) -> 76 | D15: =IFERROR(INDEX(HorairesMarais!G:G,MATCH(A15&" | high | 2",HorairesMarais!F:F,0)),"--:--") -> 17:46 | E15: =IFERROR(INDEX(HorairesMarais!A:A,MATCH(A15&" | high | 2",HorairesMarais!F:F,0)),"---") -> 76 | F15: =INDEX(HorairesMarais!G:G,MATCH(A15&" | low | 1",HorairesMarais!F:F,0)) -> 11:40 | G15: =IFERROR(INDEX(HorairesMarais!G:G,MATCH(A15&" | low | 2",HorairesMarais!F:F,0)),"--:--") -> 23:55
... A34: 45808 | B34: =INDEX(HorairesMarais!G:G,MATCH(A34&" | high | 1",HorairesMarais!F:F,0)) -> 09:04 | C34: =INDEX(HorairesMarais!A:A,MATCH(A34&" | high | 1",HorairesMarais!F:F,0)) -> 74 | D34: =IFERROR(INDEX(HorairesMarais!G:G,MATCH(A34&" | high | 2",HorairesMarais!F:F,0)),"--:--") -> 21:21 | E34: =IFERROR(INDEX(HorairesMarais!A:A,MATCH(A34&" | high | 2",HorairesMarais!F:F,0)),"---") -> 69 | F34: =INDEX(HorairesMarais!G:G,MATCH(A34&" | low | 1",HorairesMarais!F:F,0)) -> 02:35 | G34: =IFERROR(INDEX(HorairesMarais!G:G,MATCH(A34&" | low | 2",HorairesMarais!F:F,0)),"--:--") -> 14:47

Sheet juin
B2: Pleines mers | F2: Basses mers
B3: Heure | C3: Coefficient | D3: Heure | E3: Coefficient | F3: Heure | G3: Heure
A4: 45809 | B4: =INDEX(HorairesMarais!G:G,MATCH(A4&" | high | 1",HorairesMarais!F:F,0)) -> 09:59 | C4: =INDEX(HorairesMarais!A:A,MATCH(A4&" | high | 1",HorairesMarais!F:F,0)) -> 63 | D4: =IFERROR(INDEX(HorairesMarais!G:G,MATCH(A4&" | high | 2",HorairesMarais!F:F,0)),"--:--") -> 22:17 | E4: =IFERROR(INDEX(HorairesMarais!A:A,MATCH(A4&" | high | 2",HorairesMarais!F:F,0)),"---") -> 58 | F4: =INDEX(HorairesMarais!G:G,MATCH(A4&" | low | 1",HorairesMarais!F:F,0)) -> 03:25 | G4: =IFERROR(INDEX(HorairesMarais!G:G,MATCH(A4&" | low | 2",HorairesMarais!F:F,0)),"--:--") -> 15:38
A5: 45810 | B5: =INDEX(HorairesMarais!G:G,MATCH(A5&" | high | 1",HorairesMarais!F:F,0)) -> 10:59 | C5: =INDEX(HorairesMarais!A:A,MATCH(A5&" | high | 1",HorairesMarais!F:F,0)) -> 53 | D5: =IFERROR(INDEX(HorairesMarais!G:G,MATCH(A5&" | high | 2",HorairesMarais!F:F,0)),"--:--") -> 23:18 | E5: =IFERROR(INDEX(HorairesMarais!A:A,MATCH(A5&" | high | 2",HorairesMarais!F:F,0)),"---") -> 49 | F5: =INDEX(HorairesMarais!G:G,MATCH(A5&" | low | 1",HorairesMarais!F:F,0)) -> 04:18 | G5: =IFERROR(INDEX(HorairesMarais!G:G,MATCH(A5&" | low | 2",HorairesMarais!F:F,0)),"--:--") -> 16:34
A6: 45811 | B6: =INDEX(HorairesMarais!G:G,MATCH(A6&" | high | 1",HorairesMarais!F:F,0)) -> 12:02 | C6: =INDEX(HorairesMarais!A:A,MATCH(A6&" | high | 1",HorairesMarais!F:F,0)) -> 46 | D6: =IFERROR(INDEX(HorairesMarais!G:G,MATCH(A6&" | high | 2",HorairesMarais!F:F,0)),"--:--") -> --:-- | E6: =IFERROR(INDEX(HorairesMarais!A:A,MATCH(A6&" | high | 2",HorairesMarais!F:F,0)),"---") -> --- | F6: =INDEX(HorairesMarais!G:G,MATCH(A6&" | low | 1",HorairesMarais!F:F,0)) -> 05:18 | G6: =IFERROR(INDEX(HorairesMarais!G:G,MATCH(A6&" | low | 2",HorairesMarais!F:F,0)),"--:--") -> 17:38
A7: 45812 | B7: =INDEX(HorairesMarais!G:G,MATCH(A7&" | high | 1",HorairesMarais!F:F,0)) -> 00:21 | C7: =INDEX(HorairesMarais!A:A,MATCH(A7&" | high | 1",HorairesMarais!F:F,0)) -> 44 | D7: =IFERROR(INDEX(HorairesMarais!G:G,MATCH(A7&" | high | 2",HorairesMarais!F:F,0)),"--:--") -> 13:05 | E7: =IFERROR(INDEX(HorairesMarais!A:A,MATCH(A7&" | high | 2",HorairesMarais!F:F,0)),"---") -> 43 | F7: =INDEX(HorairesMarais!G:G,MATCH(A7&" | low | 1",HorairesMarais!F:F,0)) -> 06:21 | G7: =IFERROR(INDEX(HorairesMarais!G:G,MATCH(A7&" | low | 2",HorairesMarais!F:F,0)),"--:--") -> 18:43
A8: 45813 | B8: =INDEX(HorairesMarais!G:G,MATCH(A8&" | high | 1",HorairesMarais!F:F,0)) -> 01:22 | C8: =INDEX(HorairesMarais!A:A,MATCH(A8&" | high | 1",HorairesMarais!F:F,0)) -> 43 | D8: =IFERROR(INDEX(HorairesMarais!G:G,MATCH(A8&" | high | 2",HorairesMarais!F:F,0)),"--:--") -> 14:02 | E8: =IFERROR(INDEX(HorairesMarais!A:A,MATCH(A8&" | high | 2",HorairesMarais!F:F,0)),"---") -> 44 | F8: =INDEX(HorairesMarais!G:G,MATCH(A8&" | low | 1",HorairesMarais!F:F,0)) -> 07:24 | G8: =IFERROR(INDEX(HorairesMarais!G:G,MATCH(A8&" | low | 2",HorairesMarais!F:F,0)),"--:--") -> 19:45
A9: 45814 | B9: =INDEX(HorairesMarais!G:G,MATCH(A9&" | high | 1",HorairesMarais!F:F,0)) -> 02:21 | C9: =INDEX(HorairesMarais!A:A,MATCH(A9&" | high | 1",HorairesMarais!F:F,0)) -> 46 | D9: =IFERROR(INDEX(HorairesMarais!G:G,MATCH(A9&" | high | 2",HorairesMarais!F:F,0)),"--:--") -> 14:52 | E9: =IFERROR(INDEX(HorairesMarais!A:A,MATCH(A9&" | high | 2",HorairesMarais!F:F,0)),"---") -> 48 | F9: =INDEX(HorairesMarais!G:G,MATCH(A9&" | low | 1",HorairesMarais!F:F,0)) -> 08:22 | G9: =IFERROR(INDEX(HorairesMarais!G:G,MATCH(A9&" | low | 2",HorairesMarais!F:F,0)),"--:--") -> 20:40
A10: 45815 | B10: =INDEX(HorairesMarais!G:G,MATCH(A10&" | high | 1",HorairesMarais!F:F,0)) -> 03:11 | C10: =INDEX(HorairesMarais!A:A,MATCH(A10&" | high | 1",HorairesMarais!F:F,0)) -> 51 | D10: =IFERROR(INDEX(HorairesMarais!G:G,MATCH(A10&" | high | 2",HorairesMarais!F:F,0)),"--:--") -> 15:34 | E10: =IFERROR(INDEX(HorairesMarais!A:A,MATCH(A10&" | high | 2",HorairesMarais!F:F,0)),"---") -> 53 | F10: =INDEX(HorairesMarais!G:G,MATCH(A10&" | low | 1",HorairesMarais!F:F,0)) -> 09:12 | G10: =IFERROR(INDEX(HorairesMarais!G:G,MATCH(A10&" | low | 2",HorairesMarais!F:F,0)),"--:--") -> 21:30
A11: 45816 | B11: =INDEX(HorairesMarais!G:G,MATCH(A11&" | high | 1",HorairesMarais!F:F,0)) -> 03:55 | C11: =INDEX(HorairesMarais!A:A,MATCH(A11&" | high | 1",HorairesMarais!F:F,0)) -> 56 | D11: =IFERROR(INDEX(HorairesMarais!G:G,MATCH(A11&" | high | 2",HorairesMarais!F:F,0)),"--:--") -> 16:12 | E11: =IFERROR(INDEX(HorairesMarais!A:A,MATCH(A11&" | high | 2",HorairesMarais!F:F,0)),"---") -> 59 | F11: =INDEX(HorairesMarais!G:G,MATCH(A11&" | low | 1",HorairesMarais!F:F,0)) -> 09:56 | G11: =IFERROR(INDEX(HorairesMarais!G:G,MATCH(A11&" | low | 2",HorairesMarais!F:F,0)),"--:--") -> 22:13
A12: 45817 | B12: =INDEX(HorairesMarais!G:G,MATCH(A12&" | high | 1",HorairesMarais!F:F,0)) -> 04:35 | C12: =INDEX(HorairesMarais!A:A,MATCH(A12&" | high | 1",HorairesMarais!F:F,0)) -> 61 | D12: =IFERROR(INDEX(HorairesMarais!G:G,MATCH(A12&" | high | 2",HorairesMarais!F:F,0)),"--:--") -> 16:49 | E12: =IFERROR(INDEX(HorairesMarais!A:A,MATCH(A12&" | high | 2",HorairesMarais!F:F,0)),"---") -> 64 | F12: =INDEX(HorairesMarais!G:G,MATCH(A12&" | low | 1",HorairesMarais!F:F,0)) -> 10:34 | G12: =IFERROR(INDEX(HorairesMarais!G:G,MATCH(A12&" | low | 2",HorairesMarais!F:F,0)),"--:--") -> 22:52
A13: 45818 | B13: =INDEX(HorairesMarais!G:G,MATCH(A13&" | high | 1",HorairesMarais!F:F,0)) -> 05:12 | C13: =INDEX(HorairesMarais!A:A,MATCH(A13&" | high | 1",HorairesMarais!F:F,0)) -> 66 | D13: =IFERROR(INDEX(HorairesMarais!G:G,MATCH(A13&" | high | 2",HorairesMarais!F:F,0)),"--:--") -> 17:25 | E13: =IFERROR(INDEX(HorairesMarais!A:A,MATCH(A13&" | high | 2",HorairesMarais!F:F,0)),"---") -> 67 | F13: =INDEX(HorairesMarais!G:G,MATCH(A13&" | low | 1",HorairesMarais!F:F,0)) -> 11:11 | G13: =IFERROR(INDEX(HorairesMarais!G:G,MATCH(A13&" | low | 2",HorairesMarais!F:F,0)),"--:--") -> 23:30
A14: 45819 | B14: =INDEX(HorairesMarais!G:G,MATCH(A14&" | high | 1",HorairesMarais!F:F,0)) -> 05:49 | C14: =INDEX(HorairesMarais!A:A,MATCH(A14&" | high | 1",HorairesMarais!F:F,0)) -> 69 | D14: =IFERROR(INDEX(HorairesMarais!G:G,MATCH(A14&" | high | 2",HorairesMarais!F:F,0)),"--:--") -> 18:01 | E14: =IFERROR(INDEX(HorairesMarais!A:A,MATCH(A14&" | high | 2",HorairesMarais!F:F,0)),"---") -> 70 | F14: =INDEX(HorairesMarais!G:G,MATCH(A14&" | low | 1",HorairesMarais!F:F,0)) -> 11:46 | G14: =IFERROR(INDEX(HorairesMarais!G:G,MATCH(A14&" | low | 2",HorairesMarais!F:F,0)),"--:--") -> --:--
A15: 45820 | B15: =INDEX(HorairesMarais!G:G,MATCH(A15&" | high | 1",HorairesMarais!F:F,0)) -> 06:25 | C15: =INDEX(HorairesMarais!A:A,MATCH(A15&" | high | 1",HorairesMarais!F:F,0)) -> 71 | D15: =IFERROR(INDEX(HorairesMarais!G:G,MATCH(A15&" | high | 2",HorairesMarais!F:F,0)),"--:--") -> 18:38 | E15: =IFERROR(INDEX(HorairesMarais!A:A,MATCH(A15&" | high | 2",HorairesMarais!F:F,0)),"---") -> 71 | F15: =INDEX(HorairesMarais!G:G,MATCH(A15&" | low | 1",HorairesMarais!F:F,0)) -> 00:08 | G15: =IFERROR(INDEX(HorairesMarais!G:G,MATCH(A15&" | low | 2",HorairesMarais!F:F,0)),"--:--") -> 12:22
... A33: 45838 | B33: =INDEX(HorairesMarais!G:G,MATCH(A33&" | high | 1",HorairesMarais!F:F,0)) -> 09:24 | C33: =INDEX(HorairesMarais!A:A,MATCH(A33&" | high | 1",HorairesMarais!F:F,0)) -> 71 | D33: =IFERROR(INDEX(HorairesMarais!G:G,MATCH(A33&" | high | 2",HorairesMarais!F:F,0)),"--:--") -> 21:40 | E33: =IFERROR(INDEX(HorairesMarais!A:A,MATCH(A33&" | high | 2",HorairesMarais!F:F,0)),"---") -> 67 | F33: =INDEX(HorairesMarais!G:G,MATCH(A33&" | low | 1",HorairesMarais!F:F,0)) -> 03:05 | G33: =IFERROR(INDEX(HorairesMarais!G:G,MATCH(A33&" | low | 2",HorairesMarais!F:F,0)),"--:--") -> 15:15

Sheet juillet
B2: Pleines mers | F2: Basses mers
B3: Heure | C3: Coefficient | D3: Heure | E3: Coefficient | F3: Heure | G3: Heure
A4: 45839 | B4: =INDEX(HorairesMarais!G:G,MATCH(A4&" | high | 1",HorairesMarais!F:F,0)) -> 10:06 | C4: =INDEX(HorairesMarais!A:A,MATCH(A4&" | high | 1",HorairesMarais!F:F,0)) -> 62 | D4: =IFERROR(INDEX(HorairesMarais!G:G,MATCH(A4&" | high | 2",HorairesMarais!F:F,0)),"--:--") -> 22:24 | E4: =IFERROR(INDEX(HorairesMarais!A:A,MATCH(A4&" | high | 2",HorairesMarais!F:F,0)),"---") -> 57 | F4: =INDEX(HorairesMarais!G:G,MATCH(A4&" | low | 1",HorairesMarais!F:F,0)) -> 03:48 | G4: =IFERROR(INDEX(HorairesMarais!G:G,MATCH(A4&" | low | 2",HorairesMarais!F:F,0)),"--:--") -> 16:00
A5: 45840 | B5: =INDEX(HorairesMarais!G:G,MATCH(A5&" | high | 1",HorairesMarais!F:F,0)) -> 10:53 | C5: =INDEX(HorairesMarais!A:A,MATCH(A5&" | high | 1",HorairesMarais!F:F,0)) -> 53 | D5: =IFERROR(INDEX(HorairesMarais!G:G,MATCH(A5&" | high | 2",HorairesMarais!F:F,0)),"--:--") -> 23:13 | E5: =IFERROR(INDEX(HorairesMarais!A:A,MATCH(A5&" | high | 2",HorairesMarais!F:F,0)),"---") -> 49 | F5: =INDEX(HorairesMarais!G:G,MATCH(A5&" | low | 1",HorairesMarais!F:F,0)) -> 04:33 | G5: =IFERROR(INDEX(HorairesMarais!G:G,MATCH(A5&" | low | 2",HorairesMarais!F:F,0)),"--:--") -> 16:49
A6: 45841 | B6: =INDEX(HorairesMarais!G:G,MATCH(A6&" | high | 1",HorairesMarais!F:F,0)) -> 11:48 | C6: =INDEX(HorairesMarais!A:A,MATCH(A6&" | high | 1",HorairesMarais!F:F,0)) -> 45 | D6: =IFERROR(INDEX(HorairesMarais!G:G,MATCH(A6&" | high | 2",HorairesMarais!F:F,0)),"--:--") -> --:-- | E6: =IFERROR(INDEX(HorairesMarais!A:A,MATCH(A6&" | high | 2",HorairesMarais!F:F,0)),"---") -> --- | F6: =INDEX(HorairesMarais!G:G,MATCH(A6&" | low | 1",HorairesMarais!F:F,0)) -> 05:23 | G6: =IFERROR(INDEX(HorairesMarais!G:G,MATCH(A6&" | low | 2",HorairesMarais!F:F,0)),"--:--") -> 17:44
A7: 45842 | B7: =INDEX(HorairesMarais!G:G,MATCH(A7&" | high | 1",HorairesMarais!F:F,0)) -> 00:10 | C7: =INDEX(HorairesMarais!A:A,MATCH(A7&" | high | 1",HorairesMarais!F:F,0)) -> 42 | D7: =IFERROR(INDEX(HorairesMarais!G:G,MATCH(A7&" | high | 2",HorairesMarais!F:F,0)),"--:--") -> 12:50 | E7: =IFERROR(INDEX(HorairesMarais!A:A,MATCH(A7&" | high | 2",HorairesMarais!F:F,0)),"---") -> 39 | F7: =INDEX(HorairesMarais!G:G,MATCH(A7&" | low | 1",HorairesMarais!F:F,0)) -> 06:19 | G7: =IFERROR(INDEX(HorairesMarais!G:G,MATCH(A7&" | low | 2",HorairesMarais!F:F,0)),"--:--") -> 18:45
A8: 45843 | B8: =INDEX(HorairesMarais!G:G,MATCH(A8&" | high | 1",HorairesMarais!F:F,0)) -> 01:12 | C8: =INDEX(HorairesMarais!A:A,MATCH(A8&" | high | 1",HorairesMarais!F:F,0)) -> 38 | D8: =IFERROR(INDEX(HorairesMarais!G:G,MATCH(A8&" | high | 2",HorairesMarais!F:F,0)),"--:--") -> 13:55 | E8: =IFERROR(INDEX(HorairesMarais!A:A,MATCH(A8&" | high | 2",HorairesMarais!F:F,0)),"---") -> 38 | F8: =INDEX(HorairesMarais!G:G,MATCH(A8&" | low | 1",HorairesMarais!F:F,0)) -> 07:21 | G8: =IFERROR(INDEX(HorairesMarais!G:G,MATCH(A8&" | low | 2",HorairesMarais!F:F,0)),"--:--") -> 19:48
A9: 45844 | B9: =INDEX(HorairesMarais!G:G,MATCH(A9&" | high | 1",HorairesMarais!F:F,0)) -> 02:19 | C9: =INDEX(HorairesMarais!A:A,MATCH(A9&" | high | 1",HorairesMarais!F:F,0)) -> 39 | D9: =IFERROR(INDEX(HorairesMarais!G:G,MATCH(A9&" | high | 2",HorairesMarais!F:F,0)),"--:--") -> 14:54 | E9: =IFERROR(INDEX(HorairesMarais!A:A,MATCH(A9&" | high | 2",HorairesMarais!F:F,0)),"---") -> 41 | F9: =INDEX(HorairesMarais!G:G,MATCH(A9&" | low | 1",HorairesMarais!F:F,0)) -> 08:23 | G9: =IFERROR(INDEX(HorairesMarais!G:G,MATCH(A9&" | low | 2",HorairesMarais!F:F,0)),"--:--") -> 20:48
A10: 45845 | B10: =INDEX(HorairesMarais!G:G,MATCH(A10&" | high | 1",HorairesMarais!F:F,0)) -> 03:22 | C10: =INDEX(HorairesMarais!A:A,MATCH(A10&" | high | 1",HorairesMarais!F:F,0)) -> 44 | D10: =IFERROR(INDEX(HorairesMarais!G:G,MATCH(A10&" | high | 2",HorairesMarais!F:F,0)),"--:--") -> 15:45 | E10: =IFERROR(INDEX(HorairesMarais!A:A,MATCH(A10&" | high | 2",HorairesMarais!F:F,0)),"---") -> 47 | F10: =INDEX(HorairesMarais!G:G,MATCH(A10&" | low | 1",HorairesMarais!F:F,0)) -> 09:19 | G10: =IFERROR(INDEX(HorairesMarais!G:G,MATCH(A10&" | low | 2",HorairesMarais!F:F,0)),"--:--") -> 21:42
A11: 45846 | B11: =INDEX(HorairesMarais!G:G,MATCH(A11&" | high | 1",HorairesMarais!F:F,0)) -> 04:13 | C11: =INDEX(HorairesMarais!A:A,MATCH(A11&" | high | 1",HorairesMarais!F:F,0)) -> 50 | D11: =IFERROR(INDEX(HorairesMarais!G:G,MATCH(A11&" | high | 2",HorairesMarais!F:F,0)),"--:--") -> 16:28 | E11: =IFERROR(INDEX(HorairesMarais!A:A,MATCH(A11&" | high | 2",HorairesMarais!F:F,0)),"---") -> 54 | F11: =INDEX(HorairesMarais!G:G,MATCH(A11&" | low | 1",HorairesMarais!F:F,0)) -> 10:07 | G11: =IFERROR(INDEX(HorairesMarais!G:G,MATCH(A11&" | low | 2",HorairesMarais!F:F,0)),"--:--") -> 22:29
A12: 45847 | B12: =INDEX(HorairesMarais!G:G,MATCH(A12&" | high | 1",HorairesMarais!F:F,0)) -> 04:57 | C12: =INDEX(HorairesMarais!A:A,MATCH(A12&" | high | 1",HorairesMarais!F:F,0)) -> 58 | D12: =IFERROR(INDEX(HorairesMarais!G:G,MATCH(A12&" | high | 2",HorairesMarais!F:F,0)),"--:--") -> 17:08 | E12: =IFERROR(INDEX(HorairesMarais!A:A,MATCH(A12&" | high | 2",HorairesMarais!F:F,0)),"---") -> 62 | F12: =INDEX(HorairesMarais!G:G,MATCH(A12&" | low | 1",HorairesMarais!F:F,0)) -> 10:50 | G12: =IFERROR(INDEX(HorairesMarais!G:G,MATCH(A12&" | low | 2",HorairesMarais!F:F,0)),"--:--") -> 23:13
A13: 45848 | B13: =INDEX(HorairesMarais!G:G,MATCH(A13&" | high | 1",HorairesMarais!F:F,0)) -> 05:36 | C13: =INDEX(HorairesMarais!A:A,MATCH(A13&" | high | 1",HorairesMarais!F:F,0)) -> 65 | D13: =IFERROR(INDEX(HorairesMarais!G:G,MATCH(A13&" | high | 2",HorairesMarais!F:F,0)),"--:--") -> 17:47 | E13: =IFERROR(INDEX(HorairesMarais!A:A,MATCH(A13&" | high | 2",HorairesMarais!F:F,0)),"---") -> 68 | F13: =INDEX(HorairesMarais!G:G,MATCH(A13&" | low | 1",HorairesMarais!F:F,0)) -> 11:30 | G13: =IFERROR(INDEX(HorairesMarais!G:G,MATCH(A13&" | low | 2",HorairesMarais!F:F,0)),"--:--") -> 23:55
A14: 45849 | B14: =INDEX(HorairesMarais!G:G,MATCH(A14&" | high | 1",HorairesMarais!F:F,0)) -> 06:13 | C14: =INDEX(HorairesMarais!A:A,MATCH(A14&" | high | 1",HorairesMarais!F:F,0)) -> 71 | D14: =IFERROR(INDEX(HorairesMarais!G:G,MATCH(A14&" | high | 2",HorairesMarais!F:F,0)),"--:--") -> 18:25 | E14: =IFERROR(INDEX(HorairesMarais!A:A,MATCH(A14&" | high | 2",HorairesMarais!F:F,0)),"---") -> 74 | F14: =INDEX(HorairesMarais!G:G,MATCH(A14&" | low | 1",HorairesMarais!F:F,0)) -> 12:10 | G14: =IFERROR(INDEX(HorairesMarais!G:G,MATCH(A14&" | low | 2",HorairesMarais!F:F,0)),"--:--") -> --:--
A15: 45850 | B15: =INDEX(HorairesMarais!G:G,MATCH(A15&" | high | 1",HorairesMarais!F:F,0)) -> 06:50 | C15: =INDEX(HorairesMarais!A:A,MATCH(A15&" | high | 1",HorairesMarais!F:F,0)) -> 76 | D15: =IFERROR(INDEX(HorairesMarais!G:G,MATCH(A15&" | high | 2",HorairesMarais!F:F,0)),"--:--") -> 19:03 | E15: =IFERROR(INDEX(HorairesMarais!A:A,MATCH(A15&" | high | 2",HorairesMarais!F:F,0)),"---") -> 78 | F15: =INDEX(HorairesMarais!G:G,MATCH(A15&" | low | 1",HorairesMarais!F:F,0)) -> 00:35 | G15: =IFERROR(INDEX(HorairesMarais!G:G,MATCH(A15&" | low | 2",HorairesMarais!F:F,0)),"--:--") -> 12:50
... A34: 45869 | B34: =INDEX(HorairesMarais!G:G,MATCH(A34&" | high | 1",HorairesMarais!F:F,0)) -> 09:50 | C34: =INDEX(HorairesMarais!A:A,MATCH(A34&" | high | 1",HorairesMarais!F:F,0)) -> 58 | D34: =IFERROR(INDEX(HorairesMarais!G:G,MATCH(A34&" | high | 2",HorairesMarais!F:F,0)),"--:--") -> 22:10 | E34: =IFERROR(INDEX(HorairesMarais!A:A,MATCH(A34&" | high | 2",HorairesMarais!F:F,0)),"---") -> 53 | F34: =INDEX(HorairesMarais!G:G,MATCH(A34&" | low | 1",HorairesMarais!F:F,0)) -> 03:48 | G34: =IFERROR(INDEX(HorairesMarais!G:G,MATCH(A34&" | low | 2",HorairesMarais!F:F,0)),"--:--") -> 16:00

Sheet août
B2: Pleines mers | F2: Basses mers
B3: Heure | C3: Coefficient | D3: Heure | E3: Coefficient | F3: Heure | G3: Heure
A4: 45870 | B4: =INDEX(HorairesMarais!G:G,MATCH(A4&" | high | 1",HorairesMarais!F:F,0)) -> 10:37 | C4: =INDEX(HorairesMarais!A:A,MATCH(A4&" | high | 1",HorairesMarais!F:F,0)) -> 47 | D4: =IFERROR(INDEX(HorairesMarais!G:G,MATCH(A4&" | high | 2",HorairesMarais!F:F,0)),"--:--") -> 23:01 | E4: =IFERROR(INDEX(HorairesMarais!A:A,MATCH(A4&" | high | 2",HorairesMarais!F:F,0)),"---") -> 42 | F4: =INDEX(HorairesMarais!G:G,MATCH(A4&" | low | 1",HorairesMarais!F:F,0)) -> 04:26 | G4: =IFERROR(INDEX(HorairesMarais!G:G,MATCH(A4&" | low | 2",HorairesMarais!F:F,0)),"--:--") -> 16:45
A5: 45871 | B5: =INDEX(HorairesMarais!G:G,MATCH(A5&" | high | 1",HorairesMarais!F:F,0)) -> 11:41 | C5: =INDEX(HorairesMarais!A:A,MATCH(A5&" | high | 1",HorairesMarais!F:F,0)) -> 37 | D5: =IFERROR(INDEX(HorairesMarais!G:G,MATCH(A5&" | high | 2",HorairesMarais!F:F,0)),"--:--") -> --:-- | E5: =IFERROR(INDEX(HorairesMarais!A:A,MATCH(A5&" | high | 2",HorairesMarais!F:F,0)),"---") -> --- | F5: =INDEX(HorairesMarais!G:G,MATCH(A5&" | low | 1",HorairesMarais!F:F,0)) -> 05:14 | G5: =IFERROR(INDEX(HorairesMarais!G:G,MATCH(A5&" | low | 2",HorairesMarais!F:F,0)),"--:--") -> 17:43
A6: 45872 | B6: =INDEX(HorairesMarais!G:G,MATCH(A6&" | high | 1",HorairesMarais!F:F,0)) -> 00:09 | C6: =INDEX(HorairesMarais!A:A,MATCH(A6&" | high | 1",HorairesMarais!F:F,0)) -> 33 | D6: =IFERROR(INDEX(HorairesMarais!G:G,MATCH(A6&" | high | 2",HorairesMarais!F:F,0)),"--:--") -> 13:00 | E6: =IFERROR(INDEX(HorairesMarais!A:A,MATCH(A6&" | high | 2",HorairesMarais!F:F,0)),"---") -> 30 | F6: =INDEX(HorairesMarais!G:G,MATCH(A6&" | low | 1",HorairesMarais!F:F,0)) -> 06:18 | G6: =IFERROR(INDEX(HorairesMarais!G:G,MATCH(A6&" | low | 2",HorairesMarais!F:F,0)),"--:--") -> 18:58
A7: 45873 | B7: =INDEX(HorairesMarais!G:G,MATCH(A7&" | high | 1",HorairesMarais!F:F,0)) -> 01:33 | C7: =INDEX(HorairesMarais!A:A,MATCH(A7&" | high | 1",HorairesMarais!F:F,0)) -> 29 | D7: =IFERROR(INDEX(HorairesMarais!G:G,MATCH(A7&" | high | 2",HorairesMarais!F:F,0)),"--:--") -> 14:19 | E7: =IFERROR(INDEX(HorairesMarais!A:A,MATCH(A7&" | high | 2",HorairesMarais!F:F,0)),"---") -> 31 | F7: =INDEX(HorairesMarais!G:G,MATCH(A7&" | low | 1",HorairesMarais!F:F,0)) -> 07:36 | G7: =IFERROR(INDEX(HorairesMarais!G:G,MATCH(A7&" | low | 2",HorairesMarais!F:F,0)),"--:--") -> 20:13
A8: 45874 | B8: =INDEX(HorairesMarais!G:G,MATCH(A8&" | high | 1",HorairesMarais!F:F,0)) -> 02:55 | C8: =INDEX(HorairesMarais!A:A,MATCH(A8&" | high | 1",HorairesMarais!F:F,0)) -> 34 | D8: =IFERROR(INDEX(HorairesMarais!G:G,MATCH(A8&" | high | 2",HorairesMarais!F:F,0)),"--:--") -> 15:21 | E8: =IFERROR(INDEX(HorairesMarais!A:A,MATCH(A8&" | high | 2",HorairesMarais!F:F,0)),"---") -> 38 | F8: =INDEX(HorairesMarais!G:G,MATCH(A8&" | low | 1",HorairesMarais!F:F,0)) -> 08:48 | G8: =IFERROR(INDEX(HorairesMarais!G:G,MATCH(A8&" | low | 2",HorairesMarais!F:F,0)),"--:--") -> 21:18
A9: 45875 | B9: =INDEX(HorairesMarais!G:G,MATCH(A9&" | high | 1",HorairesMarais!F:F,0)) -> 03:54 | C9: =INDEX(HorairesMarais!A:A,MATCH(A9&" | high | 1",HorairesMarais!F:F,0)) -> 43 | D9: =IFERROR(INDEX(HorairesMarais!G:G,MATCH(A9&" | high | 2",HorairesMarais!F:F,0)),"--:--") -> 16:08 | E9: =IFERROR(INDEX(HorairesMarais!A:A,MATCH(A9&" | high | 2",HorairesMarais!F:F,0)),"---") -> 49 | F9: =INDEX(HorairesMarais!G:G,MATCH(A9&" | low | 1",HorairesMarais!F:F,0)) -> 09:46 | G9: =IFERROR(INDEX(HorairesMarais!G:G,MATCH(A9&" | low | 2",HorairesMarais!F:F,0)),"--:--") -> 22:11
A10: 45876 | B10: =INDEX(HorairesMarais!G:G,MATCH(A10&" | high | 1",HorairesMarais!F:F,0)) -> 04:39 | C10: =INDEX(HorairesMarais!A:A,MATCH(A10&" | high | 1",HorairesMarais!F:F,0)) -> 55 | D10: =IFERROR(INDEX(HorairesMarais!G:G,MATCH(A10&" | high | 2",HorairesMarais!F:F,0)),"--:--") -> 16:50 | E10: =IFERROR(INDEX(HorairesMarais!A:A,MATCH(A10&" | high | 2",HorairesMarais!F:F,0)),"---") -> 61 | F10: =INDEX(HorairesMarais!G:G,MATCH(A10&" | low | 1",HorairesMarais!F:F,0)) -> 10:33 | G10: =IFERROR(INDEX(HorairesMarais!G:G,MATCH(A10&" | low | 2",HorairesMarais!F:F,0)),"--:--") -> 22:57
A11: 45877 | B11: =INDEX(HorairesMarais!G:G,MATCH(A11&" | high | 1",HorairesMarais!F:F,0)) -> 05:18 | C11: =INDEX(HorairesMarais!A:A,MATCH(A11&" | high | 1",HorairesMarais!F:F,0)) -> 67 | D11: =IFERROR(INDEX(HorairesMarais!G:G,MATCH(A11&" | high | 2",HorairesMarais!F:F,0)),"--:--") -> 17:28 | E11: =IFERROR(INDEX(HorairesMarais!A:A,MATCH(A11&" | high | 2",HorairesMarais!F:F,0)),"---") -> 73 | F11: =INDEX(HorairesMarais!G:G,MATCH(A11&" | low | 1",HorairesMarais!F:F,0)) -> 11:15 | G11: =IFERROR(INDEX(HorairesMarais!G:G,MATCH(A11&" | low | 2",HorairesMarais!F:F,0)),"--:--") -> 23:39
A12: 45878 | B12: =INDEX(HorairesMarais!G:G,MATCH(A12&" | high | 1",HorairesMarais!F:F,0)) -> 05:54 | C12: =INDEX(HorairesMarais!A:A,MATCH(A12&" | high | 1",HorairesMarais!F:F,0)) -> 78 | D12: =IFERROR(INDEX(HorairesMarais!G:G,MATCH(A12&" | high | 2",HorairesMarais!F:F,0)),"--:--") -> 18:05 | E12: =IFERROR(INDEX(HorairesMarais!A:A,MATCH(A12&" | high | 2",HorairesMarais!F:F,0)),"---") -> 83 | F12: =INDEX(HorairesMarais!G:G,MATCH(A12&" | low | 1",HorairesMarais!F:F,0)) -> 11:55 | G12: =IFERROR(INDEX(HorairesMarais!G:G,MATCH(A12&" | low | 2",HorairesMarais!F:F,0)),"--:--") -> --:--
A13: 45879 | B13: =INDEX(HorairesMarais!G:G,MATCH(A13&" | high | 1",HorairesMarais!F:F,0)) -> 06:30 | C13: =INDEX(HorairesMarais!A:A,MATCH(A13&" | high | 1",HorairesMarais!F:F,0)) -> 87 | D13: =IFERROR(INDEX(HorairesMarais!G:G,MATCH(A13&" | high | 2",HorairesMarais!F:F,0)),"--:--") -> 18:42 | E13: =IFERROR(INDEX(HorairesMarais!A:A,MATCH(A13&" | high | 2",HorairesMarais!F:F,0)),"---") -> 90 | F13: =INDEX(HorairesMarais!G:G,MATCH(A13&" | low | 1",HorairesMarais!F:F,0)) -> 00:20 | G13: =IFERROR(INDEX(HorairesMarais!G:G,MATCH(A13&" | low | 2",HorairesMarais!F:F,0)),"--:--") -> 12:35
A14: 45880 | B14: =INDEX(HorairesMarais!G:G,MATCH(A14&" | high | 1",HorairesMarais!F:F,0)) -> 07:06 | C14: =INDEX(HorairesMarais!A:A,MATCH(A14&" | high | 1",HorairesMarais!F:F,0)) -> 93 | D14: =IFERROR(INDEX(HorairesMarais!G:G,MATCH(A14&" | high | 2",HorairesMarais!F:F,0)),"--:--") -> 19:21 | E14: =IFERROR(INDEX(HorairesMarais!A:A,MATCH(A14&" | high | 2",HorairesMarais!F:F,0)),"---") -> 95 | F14: =INDEX(HorairesMarais!G:G,MATCH(A14&" | low | 1",HorairesMarais!F:F,0)) -> 00:59 | G14: =IFERROR(INDEX(HorairesMarais!G:G,MATCH(A14&" | low | 2",HorairesMarais!F:F,0)),"--:--") -> 13:14
A15: 45881 | B15: =INDEX(HorairesMarais!G:G,MATCH(A15&" | high | 1",HorairesMarais!F:F,0)) -> 07:43 | C15: =INDEX(HorairesMarais!A:A,MATCH(A15&" | high | 1",HorairesMarais!F:F,0)) -> 95 | D15: =IFERROR(INDEX(HorairesMarais!G:G,MATCH(A15&" | high | 2",HorairesMarais!F:F,0)),"--:--") -> 20:01 | E15: =IFERROR(INDEX(HorairesMarais!A:A,MATCH(A15&" | high | 2",HorairesMarais!F:F,0)),"---") -> 95 | F15: =INDEX(HorairesMarais!G:G,MATCH(A15&" | low | 1",HorairesMarais!F:F,0)) -> 01:37 | G15: =IFERROR(INDEX(HorairesMarais!G:G,MATCH(A15&" | low | 2",HorairesMarais!F:F,0)),"--:--") -> 13:52
... A34: 45900 | B34: =INDEX(HorairesMarais!G:G,MATCH(A34&" | high | 1",HorairesMarais!F:F,0)) -> 10:31 | C34: =INDEX(HorairesMarais!A:A,MATCH(A34&" | high | 1",HorairesMarais!F:F,0)) -> 37 | D34: =IFERROR(INDEX(HorairesMarais!G:G,MATCH(A34&" | high | 2",HorairesMarais!F:F,0)),"--:--") -> 23:04 | E34: =IFERROR(INDEX(HorairesMarais!A:A,MATCH(A34&" | high | 2",HorairesMarais!F:F,0)),"---") -> 32 | F34: =INDEX(HorairesMarais!G:G,MATCH(A34&" | low | 1",HorairesMarais!F:F,0)) -> 04:11 | G34: =IFERROR(INDEX(HorairesMarais!G:G,MATCH(A34&" | low | 2",HorairesMarais!F:F,0)),"--:--") -> 16:40

Sheet septembre
B2: Pleines mers | F2: Basses mers
B3: Heure | C3: Coefficient | D3: Heure | E3: Coefficient | F3: Heure | G3: Heure
A4: 45901 | B4: =INDEX(HorairesMarais!G:G,MATCH(A4&" | high | 1",HorairesMarais!F:F,0)) -> 12:02 | C4: =INDEX(HorairesMarais!A:A,MATCH(A4&" | high | 1",HorairesMarais!F:F,0)) -> 27 | D4: =IFERROR(INDEX(HorairesMarais!G:G,MATCH(A4&" | high | 2",HorairesMarais!F:F,0)),"--:--") -> --:-- | E4: =IFERROR(INDEX(HorairesMarais!A:A,MATCH(A4&" | high | 2",HorairesMarais!F:F,0)),"---") -> --- | F4: =INDEX(HorairesMarais!G:G,MATCH(A4&" | low | 1",HorairesMarais!F:F,0)) -> 05:06 | G4: =IFERROR(INDEX(HorairesMarais!G:G,MATCH(A4&" | low | 2",HorairesMarais!F:F,0)),"--:--") -> 18:02
A5: 45902 | B5: =INDEX(HorairesMarais!G:G,MATCH(A5&" | high | 1",HorairesMarais!F:F,0)) -> 00:53 | C5: =INDEX(HorairesMarais!A:A,MATCH(A5&" | high | 1",HorairesMarais!F:F,0)) -> 24 | D5: =IFERROR(INDEX(HorairesMarais!G:G,MATCH(A5&" | high | 2",HorairesMarais!F:F,0)),"--:--") -> 13:42 | E5: =IFERROR(INDEX(HorairesMarais!A:A,MATCH(A5&" | high | 2",HorairesMarais!F:F,0)),"---") -> 24 | F5: =INDEX(HorairesMarais!G:G,MATCH(A5&" | low | 1",HorairesMarais!F:F,0)) -> 06:48 | G5: =IFERROR(INDEX(HorairesMarais!G:G,MATCH(A5&" | low | 2",HorairesMarais!F:F,0)),"--:--") -> 19:42
A6: 45903 | B6: =INDEX(HorairesMarais!G:G,MATCH(A6&" | high | 1",HorairesMarais!F:F,0)) -> 02:29 | C6: =INDEX(HorairesMarais!A:A,MATCH(A6&" | high | 1",HorairesMarais!F:F,0)) -> 28 | D6: =IFERROR(INDEX(HorairesMarais!G:G,MATCH(A6&" | high | 2",HorairesMarais!F:F,0)),"--:--") -> 14:53 | E6: =IFERROR(INDEX(HorairesMarais!A:A,MATCH(A6&" | high | 2",HorairesMarais!F:F,0)),"---") -> 34 | F6: =INDEX(HorairesMarais!G:G,MATCH(A6&" | low | 1",HorairesMarais!F:F,0)) -> 08:19 | G6: =IFERROR(INDEX(HorairesMarais!G:G,MATCH(A6&" | low | 2",HorairesMarais!F:F,0)),"--:--") -> 20:54
A7: 45904 | B7: =INDEX(HorairesMarais!G:G,MATCH(A7&" | high | 1",HorairesMarais!F:F,0)) -> 03:29 | C7: =INDEX(HorairesMarais!A:A,MATCH(A7&" | high | 1",HorairesMarais!F:F,0)) -> 41 | D7: =IFERROR(INDEX(HorairesMarais!G:G,MATCH(A7&" | high | 2",HorairesMarais!F:F,0)),"--:--") -> 15:43 | E7: =IFERROR(INDEX(HorairesMarais!A:A,MATCH(A7&" | high | 2",HorairesMarais!F:F,0)),"---") -> 49 | F7: =INDEX(HorairesMarais!G:G,MATCH(A7&" | low | 1",HorairesMarais!F:F,0)) -> 09:21 | G7: =IFERROR(INDEX(HorairesMarais!G:G,MATCH(A7&" | low | 2",HorairesMarais!F:F,0)),"--:--") -> 21:48
A8: 45905 | B8: =INDEX(HorairesMarais!G:G,MATCH(A8&" | high | 1",HorairesMarais!F:F,0)) -> 04:14 | C8: =INDEX(HorairesMarais!A:A,MATCH(A8&" | high | 1",HorairesMarais!F:F,0)) -> 56 | D8: =IFERROR(INDEX(HorairesMarais!G:G,MATCH(A8&" | high | 2",HorairesMarais!F:F,0)),"--:--") -> 16:24 | E8: =IFERROR(INDEX(HorairesMarais!A:A,MATCH(A8&" | high | 2",HorairesMarais!F:F,0)),"---") -> 65 | F8: =INDEX(HorairesMarais!G:G,MATCH(A8&" | low | 1",HorairesMarais!F:F,0)) -> 10:09 | G8: =IFERROR(INDEX(HorairesMarais!G:G,MATCH(A8&" | low | 2",HorairesMarais!F:F,0)),"--:--") -> 22:33
A9: 45906 | B9: =INDEX(HorairesMarais!G:G,MATCH(A9&" | high | 1",HorairesMarais!F:F,0)) -> 04:51 | C9: =INDEX(HorairesMarais!A:A,MATCH(A9&" | high | 1",HorairesMarais!F:F,0)) -> 72 | D9: =IFERROR(INDEX(HorairesMarais!G:G,MATCH(A9&" | high | 2",HorairesMarais!F:F,0)),"--:--") -> 17:02 | E9: =IFERROR(INDEX(HorairesMarais!A:A,MATCH(A9&" | high | 2",HorairesMarais!F:F,0)),"---") -> 80 | F9: =INDEX(HorairesMarais!G:G,MATCH(A9&" | low | 1",HorairesMarais!F:F,0)) -> 10:52 | G9: =IFERROR(INDEX(HorairesMarais!G:G,MATCH(A9&" | low | 2",HorairesMarais!F:F,0)),"--:--") -> 23:15
A10: 45907 | B10: =INDEX(HorairesMarais!G:G,MATCH(A10&" | high | 1",HorairesMarais!F:F,0)) -> 05:27 | C10: =INDEX(HorairesMarais!A:A,MATCH(A10&" | high | 1",HorairesMarais!F:F,0)) -> 86 | D10: =IFERROR(INDEX(HorairesMarais!G:G,MATCH(A10&" | high | 2",HorairesMarais!F:F,0)),"--:--") -> 17:39 | E10: =IFERROR(INDEX(HorairesMarais!A:A,MATCH(A10&" | high | 2",HorairesMarais!F:F,0)),"---") -> 92 | F10: =INDEX(HorairesMarais!G:G,MATCH(A10&" | low | 1",HorairesMarais!F:F,0)) -> 11:32 | G10: =IFERROR(INDEX(HorairesMarais!G:G,MATCH(A10&" | low | 2",HorairesMarais!F:F,0)),"--:--") -> 23:55
A11: 45908 | B11: =INDEX(HorairesMarais!G:G,MATCH(A11&" | high | 1",HorairesMarais!F:F,0)) -> 06:02 | C11: =INDEX(HorairesMarais!A:A,MATCH(A11&" | high | 1",HorairesMarais!F:F,0)) -> 97 | D11: =IFERROR(INDEX(HorairesMarais!G:G,MATCH(A11&" | high | 2",HorairesMarais!F:F,0)),"--:--") -> 18:17 | E11: =IFERROR(INDEX(HorairesMarais!A:A,MATCH(A11&" | high | 2",HorairesMarais!F:F,0)),"---") -> 101 | F11: =INDEX(HorairesMarais!G:G,MATCH(A11&" | low | 1",HorairesMarais!F:F,0)) -> 12:12 | G11: =IFERROR(INDEX(HorairesMarais!G:G,MATCH(A11&" | low | 2",HorairesMarais!F:F,0)),"--:--") -> --:--
A12: 45909 | B12: =INDEX(HorairesMarais!G:G,MATCH(A12&" | high | 1",HorairesMarais!F:F,0)) -> 06:39 | C12: =INDEX(HorairesMarais!A:A,MATCH(A12&" | high | 1",HorairesMarais!F:F,0)) -> 104 | D12: =IFERROR(INDEX(HorairesMarais!G:G,MATCH(A12&" | high | 2",HorairesMarais!F:F,0)),"--:--") -> 18:56 | E12: =IFERROR(INDEX(HorairesMarais!A:A,MATCH(A12&" | high | 2",HorairesMarais!F:F,0)),"---") -> 106 | F12: =INDEX(HorairesMarais!G:G,MATCH(A12&" | low | 1",HorairesMarais!F:F,0)) -> 00:34 | G12: =IFERROR(INDEX(HorairesMarais!G:G,MATCH(A12&" | low | 2",HorairesMarais!F:F,0)),"--:--") -> 12:51
A13: 45910 | B13: =INDEX(HorairesMarais!G:G,MATCH(A13&" | high | 1",HorairesMarais!F:F,0)) -> 07:16 | C13: =INDEX(HorairesMarais!A:A,MATCH(A13&" | high | 1",HorairesMarais!F:F,0)) -> 106 | D13: =IFERROR(INDEX(HorairesMarais!G:G,MATCH(A13&" | high | 2",HorairesMarais!F:F,0)),"--:--") -> 19:36 | E13: =IFERROR(INDEX(HorairesMarais!A:A,MATCH(A13&" | high | 2",HorairesMarais!F:F,0)),"---") -> 104 | F13: =INDEX(HorairesMarais!G:G,MATCH(A13&" | low | 1",HorairesMarais!F:F,0)) -> 01:13 | G13: =IFERROR(INDEX(HorairesMarais!G:G,MATCH(A13&" | low | 2",HorairesMarais!F:F,0)),"--:--") -> 13:30
A14: 45911 | B14: =INDEX(HorairesMarais!G:G,MATCH(A14&" | high | 1",HorairesMarais!F:F,0)) -> 07:56 | C14: =INDEX(HorairesMarais!A:A,MATCH(A14&" | high | 1",HorairesMarais!F:F,0)) -> 101 | D14: =IFERROR(INDEX(HorairesMarais!G:G,MATCH(A14&" | high | 2",HorairesMarais!F:F,0)),"--:--") -> 20:20 | E14: =IFERROR(INDEX(HorairesMarais!A:A,MATCH(A14&" | high | 2",HorairesMarais!F:F,0)),"---") -> 96 | F14: =INDEX(HorairesMarais!G:G,MATCH(A14&" | low | 1",HorairesMarais!F:F,0)) -> 01:51 | G14: =IFERROR(INDEX(HorairesMarais!G:G,MATCH(A14&" | low | 2",HorairesMarais!F:F,0)),"--:--") -> 14:09
A15: 45912 | B15: =INDEX(HorairesMarais!G:G,MATCH(A15&" | high | 1",HorairesMarais!F:F,0)) -> 08:38 | C15: =INDEX(HorairesMarais!A:A,MATCH(A15&" | high | 1",HorairesMarais!F:F,0)) -> 90 | D15: =IFERROR(INDEX(HorairesMarais!G:G,MATCH(A15&" | high | 2",HorairesMarais!F:F,0)),"--:--") -> 21:08 | E15: =IFERROR(INDEX(HorairesMarais!A:A,MATCH(A15&" | high | 2",HorairesMarais!F:F,0)),"---") -> 83 | F15: =INDEX(HorairesMarais!G:G,MATCH(A15&" | low | 1",HorairesMarais!F:F,0)) -> 02:29 | G15: =IFERROR(INDEX(HorairesMarais!G:G,MATCH(A15&" | low | 2",HorairesMarais!F:F,0)),"--:--") -> 14:50
... A33: 45930 | B33: =INDEX(HorairesMarais!G:G,MATCH(A33&" | high | 1",HorairesMarais!F:F,0)) -> 11:09 | C33: =INDEX(HorairesMarais!A:A,MATCH(A33&" | high | 1",HorairesMarais!F:F,0)) -> 28 | D33: =IFERROR(INDEX(HorairesMarais!G:G,MATCH(A33&" | high | 2",HorairesMarais!F:F,0)),"--:--") -> --:-- | E33: =IFERROR(INDEX(HorairesMarais!A:A,MATCH(A33&" | high | 2",HorairesMarais!F:F,0)),"---") -> --- | F33: =INDEX(HorairesMarais!G:G,MATCH(A33&" | low | 1",HorairesMarais!F:F,0)) -> 04:19 | G33: =IFERROR(INDEX(HorairesMarais!G:G,MATCH(A33&" | low | 2",HorairesMarais!F:F,0)),"--:--") -> 17:10

Sheet octobre
B2: Pleines mers | F2: Basses mers
B3: Heure | C3: Coefficient | D3: Heure | E3: Coefficient | F3: Heure | G3: Heure
A4: 45931 | B4: =INDEX(HorairesMarais!G:G,MATCH(A4&" | high | 1",HorairesMarais!F:F,0)) -> 00:14 | C4: =INDEX(HorairesMarais!A:A,MATCH(A4&" | high | 1",HorairesMarais!F:F,0)) -> 25 | D4: =IFERROR(INDEX(HorairesMarais!G:G,MATCH(A4&" | high | 2",HorairesMarais!F:F,0)),"--:--") -> 12:59 | E4: =IFERROR(INDEX(HorairesMarais!A:A,MATCH(A4&" | high | 2",HorairesMarais!F:F,0)),"---") -> 24 | F4: =INDEX(HorairesMarais!G:G,MATCH(A4&" | low | 1",HorairesMarais!F:F,0)) -> 05:54 | G4: =IFERROR(INDEX(HorairesMarais!G:G,MATCH(A4&" | low | 2",HorairesMarais!F:F,0)),"--:--") -> 19:02
A5: 45932 | B5: =INDEX(HorairesMarais!G:G,MATCH(A5&" | high | 1",HorairesMarais!F:F,0)) -> 01:53 | C5: =INDEX(HorairesMarais!A:A,MATCH(A5&" | high | 1",HorairesMarais!F:F,0)) -> 28 | D5: =IFERROR(INDEX(HorairesMarais!G:G,MATCH(A5&" | high | 2",HorairesMarais!F:F,0)),"--:--") -> 14:14 | E5: =IFERROR(INDEX(HorairesMarais!A:A,MATCH(A5&" | high | 2",HorairesMarais!F:F,0)),"---") -> 34 | F5: =INDEX(HorairesMarais!G:G,MATCH(A5&" | low | 1",HorairesMarais!F:F,0)) -> 07:39 | G5: =IFERROR(INDEX(HorairesMarais!G:G,MATCH(A5&" | low | 2",HorairesMarais!F:F,0)),"--:--") -> 20:18
A6: 45933 | B6: =INDEX(HorairesMarais!G:G,MATCH(A6&" | high | 1",HorairesMarais!F:F,0)) -> 02:54 | C6: =INDEX(HorairesMarais!A:A,MATCH(A6&" | high | 1",HorairesMarais!F:F,0)) -> 42 | D6: =IFERROR(INDEX(HorairesMarais!G:G,MATCH(A6&" | high | 2",HorairesMarais!F:F,0)),"--:--") -> 15:07 | E6: =IFERROR(INDEX(HorairesMarais!A:A,MATCH(A6&" | high | 2",HorairesMarais!F:F,0)),"---") -> 50 | F6: =INDEX(HorairesMarais!G:G,MATCH(A6&" | low | 1",HorairesMarais!F:F,0)) -> 08:44 | G6: =IFERROR(INDEX(HorairesMarais!G:G,MATCH(A6&" | low | 2",HorairesMarais!F:F,0)),"--:--") -> 21:13
A7: 45934 | B7: =INDEX(HorairesMarais!G:G,MATCH(A7&" | high | 1",HorairesMarais!F:F,0)) -> 03:39 | C7: =INDEX(HorairesMarais!A:A,MATCH(A7&" | high | 1",HorairesMarais!F:F,0)) -> 59 | D7: =IFERROR(INDEX(HorairesMarais!G:G,MATCH(A7&" | high | 2",HorairesMarais!F:F,0)),"--:--") -> 15:51 | E7: =IFERROR(INDEX(HorairesMarais!A:A,MATCH(A7&" | high | 2",HorairesMarais!F:F,0)),"---") -> 68 | F7: =INDEX(HorairesMarais!G:G,MATCH(A7&" | low | 1",HorairesMarais!F:F,0)) -> 09:34 | G7: =IFERROR(INDEX(HorairesMarais!G:G,MATCH(A7&" | low | 2",HorairesMarais!F:F,0)),"--:--") -> 21:59
A8: 45935 | B8: =INDEX(HorairesMarais!G:G,MATCH(A8&" | high | 1",HorairesMarais!F:F,0)) -> 04:18 | C8: =INDEX(HorairesMarais!A:A,MATCH(A8&" | high | 1",HorairesMarais!F:F,0)) -> 76 | D8: =IFERROR(INDEX(HorairesMarais!G:G,MATCH(A8&" | high | 2",HorairesMarais!F:F,0)),"--:--") -> 16:31 | E8: =IFERROR(INDEX(HorairesMarais!A:A,MATCH(A8&" | high | 2",HorairesMarais!F:F,0)),"---") -> 84 | F8: =INDEX(HorairesMarais!G:G,MATCH(A8&" | low | 1",HorairesMarais!F:F,0)) -> 10:19 | G8: =IFERROR(INDEX(HorairesMarais!G:G,MATCH(A8&" | low | 2",HorairesMarais!F:F,0)),"--:--") -> 22:42
A9: 45936 | B9: =INDEX(HorairesMarais!G:G,MATCH(A9&" | high | 1",HorairesMarais!F:F,0)) -> 04:55 | C9: =INDEX(HorairesMarais!A:A,MATCH(A9&" | high | 1",HorairesMarais!F:F,0)) -> 91 | D9: =IFERROR(INDEX(HorairesMarais!G:G,MATCH(A9&" | high | 2",HorairesMarais!F:F,0)),"--:--") -> 17:10 | E9: =IFERROR(INDEX(HorairesMarais!A:A,MATCH(A9&" | high | 2",HorairesMarais!F:F,0)),"---") -> 98 | F9: =INDEX(HorairesMarais!G:G,MATCH(A9&" | low | 1",HorairesMarais!F:F,0)) -> 11:02 | G9: =IFERROR(INDEX(HorairesMarais!G:G,MATCH(A9&" | low | 2",HorairesMarais!F:F,0)),"--:--") -> 23:24
A10: 45937 | B10: =INDEX(HorairesMarais!G:G,MATCH(A10&" | high | 1",HorairesMarais!F:F,0)) -> 05:33 | C10: =INDEX(HorairesMarais!A:A,MATCH(A10&" | high | 1",HorairesMarais!F:F,0)) -> 103 | D10: =IFERROR(INDEX(HorairesMarais!G:G,MATCH(A10&" | high | 2",HorairesMarais!F:F,0)),"--:--") -> 17:50 | E10: =IFERROR(INDEX(HorairesMarais!A:A,MATCH(A10&" | high | 2",HorairesMarais!F:F,0)),"---") -> 107 | F10: =INDEX(HorairesMarais!G:G,MATCH(A10&" | low | 1",HorairesMarais!F:F,0)) -> 11:44 | G10: =IFERROR(INDEX(HorairesMarais!G:G,MATCH(A10&" | low | 2",HorairesMarais!F:F,0)),"--:--") -> --:--
A11: 45938 | B11: =INDEX(HorairesMarais!G:G,MATCH(A11&" | high | 1",HorairesMarais!F:F,0)) -> 06:11 | C11: =INDEX(HorairesMarais!A:A,MATCH(A11&" | high | 1",HorairesMarais!F:F,0)) -> 109 | D11: =IFERROR(INDEX(HorairesMarais!G:G,MATCH(A11&" | high | 2",HorairesMarais!F:F,0)),"--:--") -> 18:32 | E11: =IFERROR(INDEX(HorairesMarais!A:A,MATCH(A11&" | high | 2",HorairesMarais!F:F,0)),"---") -> 110 | F11: =INDEX(HorairesMarais!G:G,MATCH(A11&" | low | 1",HorairesMarais!F:F,0)) -> 00:05 | G11: =IFERROR(INDEX(HorairesMarais!G:G,MATCH(A11&" | low | 2",HorairesMarais!F:F,0)),"--:--") -> 12:25
A12: 45939 | B12: =INDEX(HorairesMarais!G:G,MATCH(A12&" | high | 1",HorairesMarais!F:F,0)) -> 06:51 | C12: =INDEX(HorairesMarais!A:A,MATCH(A12&" | high | 1",HorairesMarais!F:F,0)) -> 109 | D12: =IFERROR(INDEX(HorairesMarais!G:G,MATCH(A12&" | high | 2",HorairesMarais!F:F,0)),"--:--") -> 19:16 | E12: =IFERROR(INDEX(HorairesMarais!A:A,MATCH(A12&" | high | 2",HorairesMarais!F:F,0)),"---") -> 106 | F12: =INDEX(HorairesMarais!G:G,MATCH(A12&" | low | 1",HorairesMarais!F:F,0)) -> 00:46 | G12: =IFERROR(INDEX(HorairesMarais!G:G,MATCH(A12&" | low | 2",HorairesMarais!F:F,0)),"--:--") -> 13:07
A13: 45940 | B13: =INDEX(HorairesMarais!G:G,MATCH(A13&" | high | 1",HorairesMarais!F:F,0)) -> 07:34 | C13: =INDEX(HorairesMarais!A:A,MATCH(A13&" | high | 1",HorairesMarais!F:F,0)) -> 102 | D13: =IFERROR(INDEX(HorairesMarais!G:G,MATCH(A13&" | high | 2",HorairesMarais!F:F,0)),"--:--") -> 20:03 | E13: =IFERROR(INDEX(HorairesMarais!A:A,MATCH(A13&" | high | 2",HorairesMarais!F:F,0)),"---") -> 96 | F13: =INDEX(HorairesMarais!G:G,MATCH(A13&" | low | 1",HorairesMarais!F:F,0)) -> 01:26 | G13: =IFERROR(INDEX(HorairesMarais!G:G,MATCH(A13&" | low | 2",HorairesMarais!F:F,0)),"--:--") -> 13:49
A14: 45941 | B14: =INDEX(HorairesMarais!G:G,MATCH(A14&" | high | 1",HorairesMarais!F:F,0)) -> 08:20 | C14: =INDEX(HorairesMarais!A:A,MATCH(A14&" | high | 1",HorairesMarais!F:F,0)) -> 89 | D14: =IFERROR(INDEX(HorairesMarais!G:G,MATCH(A14&" | high | 2",HorairesMarais!F:F,0)),"--:--") -> 20:55 | E14: =IFERROR(INDEX(HorairesMarais!A:A,MATCH(A14&" | high | 2",HorairesMarais!F:F,0)),"---") -> 81 | F14: =INDEX(HorairesMarais!G:G,MATCH(A14&" | low | 1",HorairesMarais!F:F,0)) -> 02:07 | G14: =IFERROR(INDEX(HorairesMarais!G:G,MATCH(A14&" | low | 2",HorairesMarais!F:F,0)),"--:--") -> 14:33
A15: 45942 | B15: =INDEX(HorairesMarais!G:G,MATCH(A15&" | high | 1",HorairesMarais!F:F,0)) -> 09:13 | C15: =INDEX(HorairesMarais!A:A,MATCH(A15&" | high | 1",HorairesMarais!F:F,0)) -> 72 | D15: =IFERROR(INDEX(HorairesMarais!G:G,MATCH(A15&" | high | 2",HorairesMarais!F:F,0)),"--:--") -> 21:58 | E15: =IFERROR(INDEX(HorairesMarais!A:A,MATCH(A15&" | high | 2",HorairesMarais!F:F,0)),"---") -> 63 | F15: =INDEX(HorairesMarais!G:G,MATCH(A15&" | low | 1",HorairesMarais!F:F,0)) -> 02:51 | G15: =IFERROR(INDEX(HorairesMarais!G:G,MATCH(A15&" | low | 2",HorairesMarais!F:F,0)),"--:--") -> 15:23
... A34: 45961 | B34: =INDEX(HorairesMarais!G:G,MATCH(A34&" | high | 1",HorairesMarais!F:F,0)) -> 00:05 | C34: =INDEX(HorairesMarais!A:A,MATCH(A34&" | high | 1",HorairesMarais!F:F,0)) -> 33 | D34: =IFERROR(INDEX(HorairesMarais!G:G,MATCH(A34&" | high | 2",HorairesMarais!F:F,0)),"--:--") -> 12:25 | E34: =IFERROR(INDEX(HorairesMarais!A:A,MATCH(A34&" | high | 2",HorairesMarais!F:F,0)),"---") -> 38 | F34: =INDEX(HorairesMarais!G:G,MATCH(A34&" | low | 1",HorairesMarais!F:F,0)) -> 05:46 | G34: =IFERROR(INDEX(HorairesMarais!G:G,MATCH(A34&" | low | 2",HorairesMarais!F:F,0)),"--:--") -> 18:28

Sheet novembre
B2: Pleines mers | F2: Basses mers
B3: Heure | C3: Coefficient | D3: Heure | E3: Coefficient | F3: Heure | G3: Heure
A4: 45962 | B4: =INDEX(HorairesMarais!G:G,MATCH(A4&" | high | 1",HorairesMarais!F:F,0)) -> 01:08 | C4: =INDEX(HorairesMarais!A:A,MATCH(A4&" | high | 1",HorairesMarais!F:F,0)) -> 44 | D4: =IFERROR(INDEX(HorairesMarais!G:G,MATCH(A4&" | high | 2",HorairesMarais!F:F,0)),"--:--") -> 13:24 | E4: =IFERROR(INDEX(HorairesMarais!A:A,MATCH(A4&" | high | 2",HorairesMarais!F:F,0)),"---") -> 52 | F4: =INDEX(HorairesMarais!G:G,MATCH(A4&" | low | 1",HorairesMarais!F:F,0)) -> 06:54 | G4: =IFERROR(INDEX(HorairesMarais!G:G,MATCH(A4&" | low | 2",HorairesMarais!F:F,0)),"--:--") -> 19:27
A5: 45963 | B5: =INDEX(HorairesMarais!G:G,MATCH(A5&" | high | 1",HorairesMarais!F:F,0)) -> 01:58 | C5: =INDEX(HorairesMarais!A:A,MATCH(A5&" | high | 1",HorairesMarais!F:F,0)) -> 60 | D5: =IFERROR(INDEX(HorairesMarais!G:G,MATCH(A5&" | high | 2",HorairesMarais!F:F,0)),"--:--") -> 14:14 | E5: =IFERROR(INDEX(HorairesMarais!A:A,MATCH(A5&" | high | 2",HorairesMarais!F:F,0)),"---") -> 68 | F5: =INDEX(HorairesMarais!G:G,MATCH(A5&" | low | 1",HorairesMarais!F:F,0)) -> 07:50 | G5: =IFERROR(INDEX(HorairesMarais!G:G,MATCH(A5&" | low | 2",HorairesMarais!F:F,0)),"--:--") -> 20:19
A6: 45964 | B6: =INDEX(HorairesMarais!G:G,MATCH(A6&" | high | 1",HorairesMarais!F:F,0)) -> 02:42 | C6: =INDEX(HorairesMarais!A:A,MATCH(A6&" | high | 1",HorairesMarais!F:F,0)) -> 76 | D6: =IFERROR(INDEX(HorairesMarais!G:G,MATCH(A6&" | high | 2",HorairesMarais!F:F,0)),"--:--") -> 15:00 | E6: =IFERROR(INDEX(HorairesMarais!A:A,MATCH(A6&" | high | 2",HorairesMarais!F:F,0)),"---") -> 84 | F6: =INDEX(HorairesMarais!G:G,MATCH(A6&" | low | 1",HorairesMarais!F:F,0)) -> 08:40 | G6: =IFERROR(INDEX(HorairesMarais!G:G,MATCH(A6&" | low | 2",HorairesMarais!F:F,0)),"--:--") -> 21:06
A7: 45965 | B7: =INDEX(HorairesMarais!G:G,MATCH(A7&" | high | 1",HorairesMarais!F:F,0)) -> 03:24 | C7: =INDEX(HorairesMarais!A:A,MATCH(A7&" | high | 1",HorairesMarais!F:F,0)) -> 90 | D7: =IFERROR(INDEX(HorairesMarais!G:G,MATCH(A7&" | high | 2",HorairesMarais!F:F,0)),"--:--") -> 15:44 | E7: =IFERROR(INDEX(HorairesMarais!A:A,MATCH(A7&" | high | 2",HorairesMarais!F:F,0)),"---") -> 96 | F7: =INDEX(HorairesMarais!G:G,MATCH(A7&" | low | 1",HorairesMarais!F:F,0)) -> 09:28 | G7: =IFERROR(INDEX(HorairesMarais!G:G,MATCH(A7&" | low | 2",HorairesMarais!F:F,0)),"--:--") -> 21:52
A8: 45966 | B8: =INDEX(HorairesMarais!G:G,MATCH(A8&" | high | 1",HorairesMarais!F:F,0)) -> 04:06 | C8: =INDEX(HorairesMarais!A:A,MATCH(A8&" | high | 1",HorairesMarais!F:F,0)) -> 101 | D8: =IFERROR(INDEX(HorairesMarais!G:G,MATCH(A8&" | high | 2",HorairesMarais!F:F,0)),"--:--") -> 16:29 | E8: =IFERROR(INDEX(HorairesMarais!A:A,MATCH(A8&" | high | 2",HorairesMarais!F:F,0)),"---") -> 104 | F8: =INDEX(HorairesMarais!G:G,MATCH(A8&" | low | 1",HorairesMarais!F:F,0)) -> 10:15 | G8: =IFERROR(INDEX(HorairesMarais!G:G,MATCH(A8&" | low | 2",HorairesMarais!F:F,0)),"--:--") -> 22:37
A9: 45967 | B9: =INDEX(HorairesMarais!G:G,MATCH(A9&" | high | 1",HorairesMarais!F:F,0)) -> 04:48 | C9: =INDEX(HorairesMarais!A:A,MATCH(A9&" | high | 1",HorairesMarais!F:F,0)) -> 106 | D9: =IFERROR(INDEX(HorairesMarais!G:G,MATCH(A9&" | high | 2",HorairesMarais!F:F,0)),"--:--") -> 17:15 | E9: =IFERROR(INDEX(HorairesMarais!A:A,MATCH(A9&" | high | 2",HorairesMarais!F:F,0)),"---") -> 106 | F9: =INDEX(HorairesMarais!G:G,MATCH(A9&" | low | 1",HorairesMarais!F:F,0)) -> 11:02 | G9: =IFERROR(INDEX(HorairesMarais!G:G,MATCH(A9&" | low | 2",HorairesMarais!F:F,0)),"--:--") -> 23:21
A10: 45968 | B10: =INDEX(HorairesMarais!G:G,MATCH(A10&" | high | 1",HorairesMarais!F:F,0)) -> 05:34 | C10: =INDEX(HorairesMarais!A:A,MATCH(A10&" | high | 1",HorairesMarais!F:F,0)) -> 105 | D10: =IFERROR(INDEX(HorairesMarais!G:G,MATCH(A10&" | high | 2",HorairesMarais!F:F,0)),"--:--") -> 18:03 | E10: =IFERROR(INDEX(HorairesMarais!A:A,MATCH(A10&" | high | 2",HorairesMarais!F:F,0)),"---") -> 102 | F10: =INDEX(HorairesMarais!G:G,MATCH(A10&" | low | 1",HorairesMarais!F:F,0)) -> 11:48 | G10: =IFERROR(INDEX(HorairesMarais!G:G,MATCH(A10&" | low | 2",HorairesMarais!F:F,0)),"--:--") -> --:--
A11: 45969 | B11: =INDEX(HorairesMarais!G:G,MATCH(A11&" | high | 1",HorairesMarais!F:F,0)) -> 06:21 | C11: =INDEX(HorairesMarais!A:A,MATCH(A11&" | high | 1",HorairesMarais!F:F,0)) -> 98 | D11: =IFERROR(INDEX(HorairesMarais!G:G,MATCH(A11&" | high | 2",HorairesMarais!F:F,0)),"--:--") -> 18:54 | E11: =IFERROR(INDEX(HorairesMarais!A:A,MATCH(A11&" | high | 2",HorairesMarais!F:F,0)),"---") -> 93 | F11: =INDEX(HorairesMarais!G:G,MATCH(A11&" | low | 1",HorairesMarais!F:F,0)) -> 00:05 | G11: =IFERROR(INDEX(HorairesMarais!G:G,MATCH(A11&" | low | 2",HorairesMarais!F:F,0)),"--:--") -> 12:34
A12: 45970 | B12: =INDEX(HorairesMarais!G:G,MATCH(A12&" | high | 1",HorairesMarais!F:F,0)) -> 07:12 | C12: =INDEX(HorairesMarais!A:A,MATCH(A12&" | high | 1",HorairesMarais!F:F,0)) -> 87 | D12: =IFERROR(INDEX(HorairesMarais!G:G,MATCH(A12&" | high | 2",HorairesMarais!F:F,0)),"--:--") -> 19:49 | E12: =IFERROR(INDEX(HorairesMarais!A:A,MATCH(A12&" | high | 2",HorairesMarais!F:F,0)),"---") -> 79 | F12: =INDEX(HorairesMarais!G:G,MATCH(A12&" | low | 1",HorairesMarais!F:F,0)) -> 00:50 | G12: =IFERROR(INDEX(HorairesMarais!G:G,MATCH(A12&" | low | 2",HorairesMarais!F:F,0)),"--:--") -> 13:22
A13: 45971 | B13: =INDEX(HorairesMarais!G:G,MATCH(A13&" | high | 1",HorairesMarais!F:F,0)) -> 08:08 | C13: =INDEX(HorairesMarais!A:A,MATCH(A13&" | high | 1",HorairesMarais!F:F,0)) -> 72 | D13: =IFERROR(INDEX(HorairesMarais!G:G,MATCH(A13&" | high | 2",HorairesMarais!F:F,0)),"--:--") -> 20:54 | E13: =IFERROR(INDEX(HorairesMarais!A:A,MATCH(A13&" | high | 2",HorairesMarais!F:F,0)),"---") -> 65 | F13: =INDEX(HorairesMarais!G:G,MATCH(A13&" | low | 1",HorairesMarais!F:F,0)) -> 01:38 | G13: =IFERROR(INDEX(HorairesMarais!G:G,MATCH(A13&" | low | 2",HorairesMarais!F:F,0)),"--:--") -> 14:14
A14: 45972 | B14: =INDEX(HorairesMarais!G:G,MATCH(A14&" | high | 1",HorairesMarais!F:F,0)) -> 09:16 | C14: =INDEX(HorairesMarais!A:A,MATCH(A14&" | high | 1",HorairesMarais!F:F,0)) -> 58 | D14: =IFERROR(INDEX(HorairesMarais!G:G,MATCH(A14&" | high | 2",HorairesMarais!F:F,0)),"--:--") -> 22:15 | E14: =IFERROR(INDEX(HorairesMarais!A:A,MATCH(A14&" | high | 2",HorairesMarais!F:F,0)),"---") -> 52 | F14: =INDEX(HorairesMarais!G:G,MATCH(A14&" | low | 1",HorairesMarais!F:F,0)) -> 02:31 | G14: =IFERROR(INDEX(HorairesMarais!G:G,MATCH(A14&" | low | 2",HorairesMarais!F:F,0)),"--:--") -> 15:15
A15: 45973 | B15: =INDEX(HorairesMarais!G:G,MATCH(A15&" | high | 1",HorairesMarais!F:F,0)) -> 10:40 | C15: =INDEX(HorairesMarais!A:A,MATCH(A15&" | high | 1",HorairesMarais!F:F,0)) -> 47 | D15: =IFERROR(INDEX(HorairesMarais!G:G,MATCH(A15&" | high | 2",HorairesMarais!F:F,0)),"--:--") -> 23:35 | E15: =IFERROR(INDEX(HorairesMarais!A:A,MATCH(A15&" | high | 2",HorairesMarais!F:F,0)),"---") -> 45 | F15: =INDEX(HorairesMarais!G:G,MATCH(A15&" | low | 1",HorairesMarais!F:F,0)) -> 03:35 | G15: =IFERROR(INDEX(HorairesMarais!G:G,MATCH(A15&" | low | 2",HorairesMarais!F:F,0)),"--:--") -> 16:29
... A33: 45991 | B33: =INDEX(HorairesMarais!G:G,MATCH(A33&" | high | 1",HorairesMarais!F:F,0)) -> 00:19 | C33: =INDEX(HorairesMarais!A:A,MATCH(A33&" | high | 1",HorairesMarais!F:F,0)) -> 48 | D33: =IFERROR(INDEX(HorairesMarais!G:G,MATCH(A33&" | high | 2",HorairesMarais!F:F,0)),"--:--") -> 12:38 | E33: =IFERROR(INDEX(HorairesMarais!A:A,MATCH(A33&" | high | 2",HorairesMarais!F:F,0)),"---") -> 53 | F33: =INDEX(HorairesMarais!G:G,MATCH(A33&" | low | 1",HorairesMarais!F:F,0)) -> 06:03 | G33: =IFERROR(INDEX(HorairesMarais!G:G,MATCH(A33&" | low | 2",HorairesMarais!F:F,0)),"--:--") -> 18:38

Sheet décembre
B2: Pleines mers | F2: Basses mers
B3: Heure | C3: Coefficient | D3: Heure | E3: Coefficient | F3: Heure | G3: Heure
A4: 45992 | B4: =INDEX(HorairesMarais!G:G,MATCH(A4&" | high | 1",HorairesMarais!F:F,0)) -> 01:17 | C4: =INDEX(HorairesMarais!A:A,MATCH(A4&" | high | 1",HorairesMarais!F:F,0)) -> 58 | D4: =IFERROR(INDEX(HorairesMarais!G:G,MATCH(A4&" | high | 2",HorairesMarais!F:F,0)),"--:--") -> 13:37 | E4: =IFERROR(INDEX(HorairesMarais!A:A,MATCH(A4&" | high | 2",HorairesMarais!F:F,0)),"---") -> 64 | F4: =INDEX(HorairesMarais!G:G,MATCH(A4&" | low | 1",HorairesMarais!F:F,0)) -> 07:05 | G4: =IFERROR(INDEX(HorairesMarais!G:G,MATCH(A4&" | low | 2",HorairesMarais!F:F,0)),"--:--") -> 19:37
A5: 45993 | B5: =INDEX(HorairesMarais!G:G,MATCH(A5&" | high | 1",HorairesMarais!F:F,0)) -> 02:09 | C5: =INDEX(HorairesMarais!A:A,MATCH(A5&" | high | 1",HorairesMarais!F:F,0)) -> 70 | D5: =IFERROR(INDEX(HorairesMarais!G:G,MATCH(A5&" | high | 2",HorairesMarais!F:F,0)),"--:--") -> 14:32 | E5: =IFERROR(INDEX(HorairesMarais!A:A,MATCH(A5&" | high | 2",HorairesMarais!F:F,0)),"---") -> 76 | F5: =INDEX(HorairesMarais!G:G,MATCH(A5&" | low | 1",HorairesMarais!F:F,0)) -> 08:03 | G5: =IFERROR(INDEX(HorairesMarais!G:G,MATCH(A5&" | low | 2",HorairesMarais!F:F,0)),"--:--") -> 20:32
A6: 45994 | B6: =INDEX(HorairesMarais!G:G,MATCH(A6&" | high | 1",HorairesMarais!F:F,0)) -> 02:58 | C6: =INDEX(HorairesMarais!A:A,MATCH(A6&" | high | 1",HorairesMarais!F:F,0)) -> 82 | D6: =IFERROR(INDEX(HorairesMarais!G:G,MATCH(A6&" | high | 2",HorairesMarais!F:F,0)),"--:--") -> 15:25 | E6: =IFERROR(INDEX(HorairesMarais!A:A,MATCH(A6&" | high | 2",HorairesMarais!F:F,0)),"---") -> 87 | F6: =INDEX(HorairesMarais!G:G,MATCH(A6&" | low | 1",HorairesMarais!F:F,0)) -> 08:59 | G6: =IFERROR(INDEX(HorairesMarais!G:G,MATCH(A6&" | low | 2",HorairesMarais!F:F,0)),"--:--") -> 21:25
A7: 45995 | B7: =INDEX(HorairesMarais!G:G,MATCH(A7&" | high | 1",HorairesMarais!F:F,0)) -> 03:46 | C7: =INDEX(HorairesMarais!A:A,MATCH(A7&" | high | 1",HorairesMarais!F:F,0)) -> 91 | D7: =IFERROR(INDEX(HorairesMarais!G:G,MATCH(A7&" | high | 2",HorairesMarais!F:F,0)),"--:--") -> 16:16 | E7: =IFERROR(INDEX(HorairesMarais!A:A,MATCH(A7&" | high | 2",HorairesMarais!F:F,0)),"---") -> 94 | F7: =INDEX(HorairesMarais!G:G,MATCH(A7&" | low | 1",HorairesMarais!F:F,0)) -> 09:53 | G7: =IFERROR(INDEX(HorairesMarais!G:G,MATCH(A7&" | low | 2",HorairesMarais!F:F,0)),"--:--") -> 22:15
A8: 45996 | B8: =INDEX(HorairesMarais!G:G,MATCH(A8&" | high | 1",HorairesMarais!F:F,0)) -> 04:35 | C8: =INDEX(HorairesMarais!A:A,MATCH(A8&" | high | 1",HorairesMarais!F:F,0)) -> 97 | D8: =IFERROR(INDEX(HorairesMarais!G:G,MATCH(A8&" | high | 2",HorairesMarais!F:F,0)),"--:--") -> 17:06 | E8: =IFERROR(INDEX(HorairesMarais!A:A,MATCH(A8&" | high | 2",HorairesMarais!F:F,0)),"---") -> 98 | F8: =INDEX(HorairesMarais!G:G,MATCH(A8&" | low | 1",HorairesMarais!F:F,0)) -> 10:45 | G8: =IFERROR(INDEX(HorairesMarais!G:G,MATCH(A8&" | low | 2",HorairesMarais!F:F,0)),"--:--") -> 23:04
A9: 45997 | B9: =INDEX(HorairesMarais!G:G,MATCH(A9&" | high | 1",HorairesMarais!F:F,0)) -> 05:24 | C9: =INDEX(HorairesMarais!A:A,MATCH(A9&" | high | 1",HorairesMarais!F:F,0)) -> 98 | D9: =IFERROR(INDEX(HorairesMarais!G:G,MATCH(A9&" | high | 2",HorairesMarais!F:F,0)),"--:--") -> 17:57 | E9: =IFERROR(INDEX(HorairesMarais!A:A,MATCH(A9&" | high | 2",HorairesMarais!F:F,0)),"---") -> 97 | F9: =INDEX(HorairesMarais!G:G,MATCH(A9&" | low | 1",HorairesMarais!F:F,0)) -> 11:36 | G9: =IFERROR(INDEX(HorairesMarais!G:G,MATCH(A9&" | low | 2",HorairesMarais!F:F,0)),"--:--") -> 23:52
A10: 45998 | B10: =INDEX(HorairesMarais!G:G,MATCH(A10&" | high | 1",HorairesMarais!F:F,0)) -> 06:15 | C10: =INDEX(HorairesMarais!A:A,MATCH(A10&" | high | 1",HorairesMarais!F:F,0)) -> 95 | D10: =IFERROR(INDEX(HorairesMarais!G:G,MATCH(A10&" | high | 2",HorairesMarais!F:F,0)),"--:--") -> 18:49 | E10: =IFERROR(INDEX(HorairesMarais!A:A,MATCH(A10&" | high | 2",HorairesMarais!F:F,0)),"---") -> 92 | F10: =INDEX(HorairesMarais!G:G,MATCH(A10&" | low | 1",HorairesMarais!F:F,0)) -> 12:25 | G10: =IFERROR(INDEX(HorairesMarais!G:G,MATCH(A10&" | low | 2",HorairesMarais!F:F,0)),"--:--") -> --:--
A11: 45999 | B11: =INDEX(HorairesMarais!G:G,MATCH(A11&" | high | 1",HorairesMarais!F:F,0)) -> 07:06 | C11: =INDEX(HorairesMarais!A:A,MATCH(A11&" | high | 1",HorairesMarais!F:F,0)) -> 88 | D11: =IFERROR(INDEX(HorairesMarais!G:G,MATCH(A11&" | high | 2",HorairesMarais!F:F,0)),"--:--") -> 19:42 | E11: =IFERROR(INDEX(HorairesMarais!A:A,MATCH(A11&" | high | 2",HorairesMarais!F:F,0)),"---") -> 83 | F11: =INDEX(HorairesMarais!G:G,MATCH(A11&" | low | 1",HorairesMarais!F:F,0)) -> 00:39 | G11: =IFERROR(INDEX(HorairesMarais!G:G,MATCH(A11&" | low | 2",HorairesMarais!F:F,0)),"--:--") -> 13:14
A12: 46000 | B12: =INDEX(HorairesMarais!G:G,MATCH(A12&" | high | 1",HorairesMarais!F:F,0)) -> 08:00 | C12: =INDEX(HorairesMarais!A:A,MATCH(A12&" | high | 1",HorairesMarais!F:F,0)) -> 78 | D12: =IFERROR(INDEX(HorairesMarais!G:G,MATCH(A12&" | high | 2",HorairesMarais!F:F,0)),"--:--") -> 20:37 | E12: =IFERROR(INDEX(HorairesMarais!A:A,MATCH(A12&" | high | 2",HorairesMarais!F:F,0)),"---") -> 72 | F12: =INDEX(HorairesMarais!G:G,MATCH(A12&" | low | 1",HorairesMarais!F:F,0)) -> 01:27 | G12: =IFERROR(INDEX(HorairesMarais!G:G,MATCH(A12&" | low | 2",HorairesMarais!F:F,0)),"--:--") -> 14:04
A13: 46001 | B13: =INDEX(HorairesMarais!G:G,MATCH(A13&" | high | 1",HorairesMarais!F:F,0)) -> 08:56 | C13: =INDEX(HorairesMarais!A:A,MATCH(A13&" | high | 1",HorairesMarais!F:F,0)) -> 67 | D13: =IFERROR(INDEX(HorairesMarais!G:G,MATCH(A13&" | high | 2",HorairesMarais!F:F,0)),"--:--") -> 21:37 | E13: =IFERROR(INDEX(HorairesMarais!A:A,MATCH(A13&" | high | 2",HorairesMarais!F:F,0)),"---") -> 61 | F13: =INDEX(HorairesMarais!G:G,MATCH(A13&" | low | 1",HorairesMarais!F:F,0)) -> 02:17 | G13: =IFERROR(INDEX(HorairesMarais!G:G,MATCH(A13&" | low | 2",HorairesMarais!F:F,0)),"--:--") -> 14:56
A14: 46002 | B14: =INDEX(HorairesMarais!G:G,MATCH(A14&" | high | 1",HorairesMarais!F:F,0)) -> 09:57 | C14: =INDEX(HorairesMarais!A:A,MATCH(A14&" | high | 1",HorairesMarais!F:F,0)) -> 57 | D14: =IFERROR(INDEX(HorairesMarais!G:G,MATCH(A14&" | high | 2",HorairesMarais!F:F,0)),"--:--") -> 22:39 | E14: =IFERROR(INDEX(HorairesMarais!A:A,MATCH(A14&" | high | 2",HorairesMarais!F:F,0)),"---") -> 52 | F14: =INDEX(HorairesMarais!G:G,MATCH(A14&" | low | 1",HorairesMarais!F:F,0)) -> 03:11 | G14: =IFERROR(INDEX(HorairesMarais!G:G,MATCH(A14&" | low | 2",HorairesMarais!F:F,0)),"--:--") -> 15:53
A15: 46003 | B15: =INDEX(HorairesMarais!G:G,MATCH(A15&" | high | 1",HorairesMarais!F:F,0)) -> 11:01 | C15: =INDEX(HorairesMarais!A:A,MATCH(A15&" | high | 1",HorairesMarais!F:F,0)) -> 49 | D15: =IFERROR(INDEX(HorairesMarais!G:G,MATCH(A15&" | high | 2",HorairesMarais!F:F,0)),"--:--") -> 23:43 | E15: =IFERROR(INDEX(HorairesMarais!A:A,MATCH(A15&" | high | 2",HorairesMarais!F:F,0)),"---") -> 46 | F15: =INDEX(HorairesMarais!G:G,MATCH(A15&" | low | 1",HorairesMarais!F:F,0)) -> 04:10 | G15: =IFERROR(INDEX(HorairesMarais!G:G,MATCH(A15&" | low | 2",HorairesMarais!F:F,0)),"--:--") -> 16:54
... A34: 46022 | B34: =INDEX(HorairesMarais!G:G,MATCH(A34&" | high | 1",HorairesMarais!F:F,0)) -> 01:43 | C34: =INDEX(HorairesMarais!A:A,MATCH(A34&" | high | 1",HorairesMarais!F:F,0)) -> 60 | D34: =IFERROR(INDEX(HorairesMarais!G:G,MATCH(A34&" | high | 2",HorairesMarais!F:F,0)),"--:--") -> 14:15 | E34: =IFERROR(INDEX(HorairesMarais!A:A,MATCH(A34&" | high | 2",HorairesMarais!F:F,0)),"---") -> 64 | F34: =INDEX(HorairesMarais!G:G,MATCH(A34&" | low | 1",HorairesMarais!F:F,0)) -> 07:34 | G34: =IFERROR(INDEX(HorairesMarais!G:G,MATCH(A34&" | low | 2",HorairesMarais!F:F,0)),"--:--") -> 20:06

Sheet HorairesMarais
A1: coef | B1: state | C1: dateTime | D1: ID date haut/bas | E1: Index | F1: ID date haut/bas index | G1: Heure
A2: 80 | B2: high | C2: 2025-01-01T05:39:00+01:00 | D2: =DATE(LEFT(HorairesMarais!$C2,4),MID(HorairesMarais!$C2,6,2),MID(HorairesMarais!$C2,9,2))&" | "&HorairesMarais!$B2 -> 45658 | high | E2: =COUNTIF(D$1:D2,HorairesMarais!$D2) -> 1 | F2: =D2&" | "&E2 -> 45658 | high | 1 | G2: =MID(C2,12,5) -> 05:39
B3: low | C3: 2025-01-01T11:50:00+01:00 | D3: =DATE(LEFT(HorairesMarais!$C3,4),MID(HorairesMarais!$C3,6,2),MID(HorairesMarais!$C3,9,2))&" | "&HorairesMarais!$B3 -> 45658 | low | E3: =COUNTIF(D$1:D3,HorairesMarais!$D3) -> 1 | F3: =D3&" | "&E3 -> 45658 | low | 1 | G3: =MID(C3,12,5) -> 11:50
A4: 81 | B4: high | C4: 2025-01-01T18:05:00+01:00 | D4: =DATE(LEFT(HorairesMarais!$C4,4),MID(HorairesMarais!$C4,6,2),MID(HorairesMarais!$C4,9,2))&" | "&HorairesMarais!$B4 -> 45658 | high | E4: =COUNTIF(D$1:D4,HorairesMarais!$D4) -> 2 | F4: =D4&" | "&E4 -> 45658 | high | 2 | G4: =MID(C4,12,5) -> 18:05
B5: low | C5: 2025-01-02T00:05:00+01:00 | D5: =DATE(LEFT(HorairesMarais!$C5,4),MID(HorairesMarais!$C5,6,2),MID(HorairesMarais!$C5,9,2))&" | "&HorairesMarais!$B5 -> 45659 | low | E5: =COUNTIF(D$1:D5,HorairesMarais!$D5) -> 1 | F5: =D5&" | "&E5 -> 45659 | low | 1 | G5: =MID(C5,12,5) -> 00:05
A6: 82 | B6: high | C6: 2025-01-02T06:20:00+01:00 | D6: =DATE(LEFT(HorairesMarais!$C6,4),MID(HorairesMarais!$C6,6,2),MID(HorairesMarais!$C6,9,2))&" | "&HorairesMarais!$B6 -> 45659 | high | E6: =COUNTIF(D$1:D6,HorairesMarais!$D6) -> 1 | F6: =D6&" | "&E6 -> 45659 | high | 1 | G6: =MID(C6,12,5) -> 06:20
B7: low | C7: 2025-01-02T12:32:00+01:00 | D7: =DATE(LEFT(HorairesMarais!$C7,4),MID(HorairesMarais!$C7,6,2),MID(HorairesMarais!$C7,9,2))&" | "&HorairesMarais!$B7 -> 45659 | low | E7: =COUNTIF(D$1:D7,HorairesMarais!$D7) -> 2 | F7: =D7&" | "&E7 -> 45659 | low | 2 | G7: =MID(C7,12,5) -> 12:32
A8: 83 | B8: high | C8: 2025-01-02T18:45:00+01:00 | D8: =DATE(LEFT(HorairesMarais!$C8,4),MID(HorairesMarais!$C8,6,2),MID(HorairesMarais!$C8,9,2))&" | "&HorairesMarais!$B8 -> 45659 | high | E8: =COUNTIF(D$1:D8,HorairesMarais!$D8) -> 2 | F8: =D8&" | "&E8 -> 45659 | high | 2 | G8: =MID(C8,12,5) -> 18:45
B9: low | C9: 2025-01-03T00:47:00+01:00 | D9: =DATE(LEFT(HorairesMarais!$C9,4),MID(HorairesMarais!$C9,6,2),MID(HorairesMarais!$C9,9,2))&" | "&HorairesMarais!$B9 -> 45660 | low | E9: =COUNTIF(D$1:D9,HorairesMarais!$D9) -> 1 | F9: =D9&" | "&E9 -> 45660 | low | 1 | G9: =MID(C9,12,5) -> 00:47
A10: 82 | B10: high | C10: 2025-01-03T07:03:00+01:00 | D10: =DATE(LEFT(HorairesMarais!$C10,4),MID(HorairesMarais!$C10,6,2),MID(HorairesMarais!$C10,9,2))&" | "&HorairesMarais!$B10 -> 45660 | high | E10: =COUNTIF(D$1:D10,HorairesMarais!$D10) -> 1 | F10: =D10&" | "&E10 -> 45660 | high | 1 | G10: =MID(C10,12,5) -> 07:03
B11: low | C11: 2025-01-03T13:15:00+01:00 | D11: =DATE(LEFT(HorairesMarais!$C11,4),MID(HorairesMarais!$C11,6,2),MID(HorairesMarais!$C11,9,2))&" | "&HorairesMarais!$B11 -> 45660 | low | E11: =COUNTIF(D$1:D11,HorairesMarais!$D11) -> 2 | F11: =D11&" | "&E11 -> 45660 | low | 2 | G11: =MID(C11,12,5) -> 13:15
A12: 81 | B12: high | C12: 2025-01-03T19:28:00+01:00 | D12: =DATE(LEFT(HorairesMarais!$C12,4),MID(HorairesMarais!$C12,6,2),MID(HorairesMarais!$C12,9,2))&" | "&HorairesMarais!$B12 -> 45660 | high | E12: =COUNTIF(D$1:D12,HorairesMarais!$D12) -> 2 | F12: =D12&" | "&E12 -> 45660 | high | 2 | G12: =MID(C12,12,5) -> 19:28
B13: low | C13: 2025-01-04T01:30:00+01:00 | D13: =DATE(LEFT(HorairesMarais!$C13,4),MID(HorairesMarais!$C13,6,2),MID(HorairesMarais!$C13,9,2))&" | "&HorairesMarais!$B13 -> 45661 | low | E13: =COUNTIF(D$1:D13,HorairesMarais!$D13) -> 1 | F13: =D13&" | "&E13 -> 45661 | low | 1 | G13: =MID(C13,12,5) -> 01:30
A14: 80 | B14: high | C14: 2025-01-04T07:49:00+01:00 | D14: =DATE(LEFT(HorairesMarais!$C14,4),MID(HorairesMarais!$C14,6,2),MID(HorairesMarais!$C14,9,2))&" | "&HorairesMarais!$B14 -> 45661 | high | E14: =COUNTIF(D$1:D14,HorairesMarais!$D14) -> 1 | F14: =D14&" | "&E14 -> 45661 | high | 1 | G14: =MID(C14,12,5) -> 07:49
B15: low | C15: 2025-01-04T13:58:00+01:00 | D15: =DATE(LEFT(HorairesMarais!$C15,4),MID(HorairesMarais!$C15,6,2),MID(HorairesMarais!$C15,9,2))&" | "&HorairesMarais!$B15 -> 45661 | low | E15: =COUNTIF(D$1:D15,HorairesMarais!$D15) -> 2 | F15: =D15&" | "&E15 -> 45661 | low | 2 | G15: =MID(C15,12,5) -> 13:58
A16: 78 | B16: high | C16: 2025-01-04T20:15:00+01:00 | D16: =DATE(LEFT(HorairesMarais!$C16,4),MID(HorairesMarais!$C16,6,2),MID(HorairesMarais!$C16,9,2))&" | "&HorairesMarais!$B16 -> 45661 | high | E16: =COUNTIF(D$1:D16,HorairesMarais!$D16) -> 2 | F16: =D16&" | "&E16 -> 45661 | high | 2 | G16: =MID(C16,12,5) -> 20:15
B17: low | C17: 2025-01-05T02:15:00+01:00 | D17: =DATE(LEFT(HorairesMarais!$C17,4),MID(HorairesMarais!$C17,6,2),MID(HorairesMarais!$C17,9,2))&" | "&HorairesMarais!$B17 -> 45662 | low | E17: =COUNTIF(D$1:D17,HorairesMarais!$D17) -> 1 | F17: =D17&" | "&E17 -> 45662 | low | 1 | G17: =MID(C17,12,5) -> 02:15
A18: 75 | B18: high | C18: 2025-01-05T08:38:00+01:00 | D18: =DATE(LEFT(HorairesMarais!$C18,4),MID(HorairesMarais!$C18,6,2),MID(HorairesMarais!$C18,9,2))&" | "&HorairesMarais!$B18 -> 45662 | high | E18: =COUNTIF(D$1:D18,HorairesMarais!$D18) -> 1 | F18: =D18&" | "&E18 -> 45662 | high | 1 | G18: =MID(C18,12,5) -> 08:38
B19: low | C19: 2025-01-05T14:44:00+01:00 | D19: =DATE(LEFT(HorairesMarais!$C19,4),MID(HorairesMarais!$C19,6,2),MID(HorairesMarais!$C19,9,2))&" | "&HorairesMarais!$B19 -> 45662 | low | E19: =COUNTIF(D$1:D19,HorairesMarais!$D19) -> 2 | F19: =D19&" | "&E19 -> 45662 | low | 2 | G19: =MID(C19,12,5) -> 14:44
A20: 72 | B20: high | C20: 2025-01-05T21:07:00+01:00 | D20: =DATE(LEFT(HorairesMarais!$C20,4),MID(HorairesMarais!$C20,6,2),MID(HorairesMarais!$C20,9,2))&" | "&HorairesMarais!$B20 -> 45662 | high | E20: =COUNTIF(D$1:D20,HorairesMarais!$D20) -> 2 | F20: =D20&" | "&E20 -> 45662 | high | 2 | G20: =MID(C20,12,5) -> 21:07
B21: low | C21: 2025-01-06T03:04:00+01:00 | D21: =DATE(LEFT(HorairesMarais!$C21,4),MID(HorairesMarais!$C21,6,2),MID(HorairesMarais!$C21,9,2))&" | "&HorairesMarais!$B21 -> 45663 | low | E21: =COUNTIF(D$1:D21,HorairesMarais!$D21) -> 1 | F21: =D21&" | "&E21 -> 45663 | low | 1 | G21: =MID(C21,12,5) -> 03:04
A22: 68 | B22: high | C22: 2025-01-06T09:33:00+01:00 | D22: =DATE(LEFT(HorairesMarais!$C22,4),MID(HorairesMarais!$C22,6,2),MID(HorairesMarais!$C22,9,2))&" | "&HorairesMarais!$B22 -> 45663 | high | E22: =COUNTIF(D$1:D22,HorairesMarais!$D22) -> 1 | F22: =D22&" | "&E22 -> 45663 | high | 1 | G22: =MID(C22,12,5) -> 09:33
B23: low | C23: 2025-01-06T15:34:00+01:00 | D23: =DATE(LEFT(HorairesMarais!$C23,4),MID(HorairesMarais!$C23,6,2),MID(HorairesMarais!$C23,9,2))&" | "&HorairesMarais!$B23 -> 45663 | low | E23: =COUNTIF(D$1:D23,HorairesMarais!$D23) -> 2 | F23: =D23&" | "&E23 -> 45663 | low | 2 | G23: =MID(C23,12,5) -> 15:34
A24: 64 | B24: high | C24: 2025-01-06T22:08:00+01:00 | D24: =DATE(LEFT(HorairesMarais!$C24,4),MID(HorairesMarais!$C24,6,2),MID(HorairesMarais!$C24,9,2))&" | "&HorairesMarais!$B24 -> 45663 | high | E24: =COUNTIF(D$1:D24,HorairesMarais!$D24) -> 2 | F24: =D24&" | "&E24 -> 45663 | high | 2 | G24: =MID(C24,12,5) -> 22:08
B25: low | C25: 2025-01-07T03:59:00+01:00 | D25: =DATE(LEFT(HorairesMarais!$C25,4),MID(HorairesMarais!$C25,6,2),MID(HorairesMarais!$C25,9,2))&" | "&HorairesMarais!$B25 -> 45664 | low | E25: =COUNTIF(D$1:D25,HorairesMarais!$D25) -> 1 | F25: =D25&" | "&E25 -> 45664 | low | 1 | G25: =MID(C25,12,5) -> 03:59
A26: 61 | B26: high | C26: 2025-01-07T10:35:00+01:00 | D26: =DATE(LEFT(HorairesMarais!$C26,4),MID(HorairesMarais!$C26,6,2),MID(HorairesMarais!$C26,9,2))&" | "&HorairesMarais!$B26 -> 45664 | high | E26: =COUNTIF(D$1:D26,HorairesMarais!$D26) -> 1 | F26: =D26&" | "&E26 -> 45664 | high | 1 | G26: =MID(C26,12,5) -> 10:35
B27: low | C27: 2025-01-07T16:32:00+01:00 | D27: =DATE(LEFT(HorairesMarais!$C27,4),MID(HorairesMarais!$C27,6,2),MID(HorairesMarais!$C27,9,2))&" | "&HorairesMarais!$B27 -> 45664 | low | E27: =COUNTIF(D$1:D27,HorairesMarais!$D27) -> 2 | F27: =D27&" | "&E27 -> 45664 | low | 2 | G27: =MID(C27,12,5) -> 16:32
A28: 58 | B28: high | C28: 2025-01-07T23:17:00+01:00 | D28: =DATE(LEFT(HorairesMarais!$C28,4),MID(HorairesMarais!$C28,6,2),MID(HorairesMarais!$C28,9,2))&" | "&HorairesMarais!$B28 -> 45664 | high | E28: =COUNTIF(D$1:D28,HorairesMarais!$D28) -> 2 | F28: =D28&" | "&E28 -> 45664 | high | 2 | G28: =MID(C28,12,5) -> 23:17
B29: low | C29: 2025-01-08T05:03:00+01:00 | D29: =DATE(LEFT(HorairesMarais!$C29,4),MID(HorairesMarais!$C29,6,2),MID(HorairesMarais!$C29,9,2))&" | "&HorairesMarais!$B29 -> 45665 | low | E29: =COUNTIF(D$1:D29,HorairesMarais!$D29) -> 1 | F29: =D29&" | "&E29 -> 45665 | low | 1 | G29: =MID(C29,12,5) -> 05:03
A30: 55 | B30: high | C30: 2025-01-08T11:46:00+01:00 | D30: =DATE(LEFT(HorairesMarais!$C30,4),MID(HorairesMarais!$C30,6,2),MID(HorairesMarais!$C30,9,2))&" | "&HorairesMarais!$B30 -> 45665 | high | E30: =COUNTIF(D$1:D30,HorairesMarais!$D30) -> 1 | F30: =D30&" | "&E30 -> 45665 | high | 1 | G30: =MID(C30,12,5) -> 11:46
B31: low | C31: 2025-01-08T17:38:00+01:00 | D31: =DATE(LEFT(HorairesMarais!$C31,4),MID(HorairesMarais!$C31,6,2),MID(HorairesMarais!$C31,9,2))&" | "&HorairesMarais!$B31 -> 45665 | low | E31: =COUNTIF(D$1:D31,HorairesMarais!$D31) -> 2 | F31: =D31&" | "&E31 -> 45665 | low | 2 | G31: =MID(C31,12,5) -> 17:38
A32: 54 | B32: high | C32: 2025-01-09T00:30:00+01:00 | D32: =DATE(LEFT(HorairesMarais!$C32,4),MID(HorairesMarais!$C32,6,2),MID(HorairesMarais!$C32,9,2))&" | "&HorairesMarais!$B32 -> 45666 | high | E32: =COUNTIF(D$1:D32,HorairesMarais!$D32) -> 1 | F32: =D32&" | "&E32 -> 45666 | high | 1 | G32: =MID(C32,12,5) -> 00:30
B33: low | C33: 2025-01-09T06:14:00+01:00 | D33: =DATE(LEFT(HorairesMarais!$C33,4),MID(HorairesMarais!$C33,6,2),MID(HorairesMarais!$C33,9,2))&" | "&HorairesMarais!$B33 -> 45666 | low | E33: =COUNTIF(D$1:D33,HorairesMarais!$D33) -> 1 | F33: =D33&" | "&E33 -> 45666 | low | 1 | G33: =MID(C33,12,5) -> 06:14
A34: 54 | B34: high | C34: 2025-01-09T13:01:00+01:00 | D34: =DATE(LEFT(HorairesMarais!$C34,4),MID(HorairesMarais!$C34,6,2),MID(HorairesMarais!$C34,9,2))&" | "&HorairesMarais!$B34 -> 45666 | high | E34: =COUNTIF(D$1:D34,HorairesMarais!$D34) -> 2 | F34: =D34&" | "&E34 -> 45666 | high | 2 | G34: =MID(C34,12,5) -> 13:01
B35: low | C35: 2025-01-09T18:50:00+01:00 | D35: =DATE(LEFT(HorairesMarais!$C35,4),MID(HorairesMarais!$C35,6,2),MID(HorairesMarais!$C35,9,2))&" | "&HorairesMarais!$B35 -> 45666 | low | E35: =COUNTIF(D$1:D35,HorairesMarais!$D35) -> 2 | F35: =D35&" | "&E35 -> 45666 | low | 2 | G35: =MID(C35,12,5) -> 18:50
A36: 55 | B36: high | C36: 2025-01-10T01:40:00+01:00 | D36: =DATE(LEFT(HorairesMarais!$C36,4),MID(HorairesMarais!$C36,6,2),MID(HorairesMarais!$C36,9,2))&" | "&HorairesMarais!$B36 -> 45667 | high | E36: =COUNTIF(D$1:D36,HorairesMarais!$D36) -> 1 | F36: =D36&" | "&E36 -> 45667 | high | 1 | G36: =MID(C36,12,5) -> 01:40
B37: low | C37: 2025-01-10T07:27:00+01:00 | D37: =DATE(LEFT(HorairesMarais!$C37,4),MID(HorairesMarais!$C37,6,2),MID(HorairesMarais!$C37,9,2))&" | "&HorairesMarais!$B37 -> 45667 | low | E37: =COUNTIF(D$1:D37,HorairesMarais!$D37) -> 1 | F37: =D37&" | "&E37 -> 45667 | low | 1 | G37: =MID(C37,12,5) -> 07:27
A38: 58 | B38: high | C38: 2025-01-10T14:12:00+01:00 | D38: =DATE(LEFT(HorairesMarais!$C38,4),MID(HorairesMarais!$C38,6,2),MID(HorairesMarais!$C38,9,2))&" | "&HorairesMarais!$B38 -> 45667 | high | E38: =COUNTIF(D$1:D38,HorairesMarais!$D38) -> 2 | F38: =D38&" | "&E38 -> 45667 | high | 2 | G38: =MID(C38,12,5) -> 14:12
B39: low | C39: 2025-01-10T20:00:00+01:00 | D39: =DATE(LEFT(HorairesMarais!$C39,4),MID(HorairesMarais!$C39,6,2),MID(HorairesMarais!$C39,9,2))&" | "&HorairesMarais!$B39 -> 45667 | low | E39: =COUNTIF(D$1:D39,HorairesMarais!$D39) -> 2 | F39: =D39&" | "&E39 -> 45667 | low | 2 | G39: =MID(C39,12,5) -> 20:00
A40: 61 | B40: high | C40: 2025-01-11T02:41:00+01:00 | D40: =DATE(LEFT(HorairesMarais!$C40,4),MID(HorairesMarais!$C40,6,2),MID(HorairesMarais!$C40,9,2))&" | "&HorairesMarais!$B40 -> 45668 | high | E40: =COUNTIF(D$1:D40,HorairesMarais!$D40) -> 1 | F40: =D40&" | "&E40 -> 45668 | high | 1 | G40: =MID(C40,12,5) -> 02:41
B41: low | C41: 2025-01-11T08:37:00+01:00 | D41: =DATE(LEFT(HorairesMarais!$C41,4),MID(HorairesMarais!$C41,6,2),MID(HorairesMarais!$C41,9,2))&" | "&HorairesMarais!$B41 -> 45668 | low | E41: =COUNTIF(D$1:D41,HorairesMarais!$D41) -> 1 | F41: =D41&" | "&E41 -> 45668 | low | 1 | G41: =MID(C41,12,5) -> 08:37
A42: 65 | B42: high | C42: 2025-01-11T15:13:00+01:00 | D42: =DATE(LEFT(HorairesMarais!$C42,4),MID(HorairesMarais!$C42,6,2),MID(HorairesMarais!$C42,9,2))&" | "&HorairesMarais!$B42 -> 45668 | high | E42: =COUNTIF(D$1:D42,HorairesMarais!$D42) -> 2 | F42: =D42&" | "&E42 -> 45668 | high | 2 | G42: =MID(C42,12,5) -> 15:13
B43: low | C43: 2025-01-11T21:02:00+01:00 | D43: =DATE(LEFT(HorairesMarais!$C43,4),MID(HorairesMarais!$C43,6,2),MID(HorairesMarais!$C43,9,2))&" | "&HorairesMarais!$B43 -> 45668 | low | E43: =COUNTIF(D$1:D43,HorairesMarais!$D43) -> 2 | F43: =D43&" | "&E43 -> 45668 | low | 2 | G43: =MID(C43,12,5) -> 21:02
A44: 69 | B44: high | C44: 2025-01-12T03:34:00+01:00 | D44: =DATE(LEFT(HorairesMarais!$C44,4),MID(HorairesMarais!$C44,6,2),MID(HorairesMarais!$C44,9,2))&" | "&HorairesMarais!$B44 -> 45669 | high | E44: =COUNTIF(D$1:D44,HorairesMarais!$D44) -> 1 | F44: =D44&" | "&E44 -> 45669 | high | 1 | G44: =MID(C44,12,5) -> 03:34
B45: low | C45: 2025-01-12T09:37:00+01:00 | D45: =DATE(LEFT(HorairesMarais!$C45,4),MID(HorairesMarais!$C45,6,2),MID(HorairesMarais!$C45,9,2))&" | "&HorairesMarais!$B45 -> 45669 | low | E45: =COUNTIF(D$1:D45,HorairesMarais!$D45) -> 1 | F45: =D45&" | "&E45 -> 45669 | low | 1 | G45: =MID(C45,12,5) -> 09:37
A46: 74 | B46: high | C46: 2025-01-12T16:06:00+01:00 | D46: =DATE(LEFT(HorairesMarais!$C46,4),MID(HorairesMarais!$C46,6,2),MID(HorairesMarais!$C46,9,2))&" | "&HorairesMarais!$B46 -> 45669 | high | E46: =COUNTIF(D$1:D46,HorairesMarais!$D46) -> 2 | F46: =D46&" | "&E46 -> 45669 | high | 2 | G46: =MID(C46,12,5) -> 16:06
B47: low | C47: 2025-01-12T21:56:00+01:00 | D47: =DATE(LEFT(HorairesMarais!$C47,4),MID(HorairesMarais!$C47,6,2),MID(HorairesMarais!$C47,9,2))&" | "&HorairesMarais!$B47 -> 45669 | low | E47: =COUNTIF(D$1:D47,HorairesMarais!$D47) -> 2 | F47: =D47&" | "&E47 -> 45669 | low | 2 | G47: =MID(C47,12,5) -> 21:56
A48: 77 | B48: high | C48: 2025-01-13T04:22:00+01:00 | D48: =DATE(LEFT(HorairesMarais!$C48,4),MID(HorairesMarais!$C48,6,2),MID(HorairesMarais!$C48,9,2))&" | "&HorairesMarais!$B48 -> 45670 | high | E48: =COUNTIF(D$1:D48,HorairesMarais!$D48) -> 1 | F48: =D48&" | "&E48 -> 45670 | high | 1 | G48: =MID(C48,12,5) -> 04:22
B49: low | C49: 2025-01-13T10:30:00+01:00 | D49: =DATE(LEFT(HorairesMarais!$C49,4),MID(HorairesMarais!$C49,6,2),MID(HorairesMarais!$C49,9,2))&" | "&HorairesMarais!$B49 -> 45670 | low | E49: =COUNTIF(D$1:D49,HorairesMarais!$D49) -> 1 | F49: =D49&" | "&E49 -> 45670 | low | 1 | G49: =MID(C49,12,5) -> 10:30
A50: 81 | B50: high | C50: 2025-01-13T16:53:00+01:00 | D50: =DATE(LEFT(HorairesMarais!$C50,4),MID(HorairesMarais!$C50,6,2),MID(HorairesMarais!$C50,9,2))&" | "&HorairesMarais!$B50 -> 45670 | high | E50: =COUNTIF(D$1:D50,HorairesMarais!$D50) -> 2 | F50: =D50&" | "&E50 -> 45670 | high | 2 | G50: =MID(C50,12,5) -> 16:53
B51: low | C51: 2025-01-13T22:44:00+01:00 | D51: =DATE(LEFT(HorairesMarais!$C51,4),MID(HorairesMarais!$C51,6,2),MID(HorairesMarais!$C51,9,2))&" | "&HorairesMarais!$B51 -> 45670 | low | E51: =COUNTIF(D$1:D51,HorairesMarais!$D51) -> 2 | F51: =D51&" | "&E51 -> 45670 | low | 2 | G51: =MID(C51,12,5) -> 22:44
A52: 83 | B52: high | C52: 2025-01-14T05:07:00+01:00 | D52: =DATE(LEFT(HorairesMarais!$C52,4),MID(HorairesMarais!$C52,6,2),MID(HorairesMarais!$C52,9,2))&" | "&HorairesMarais!$B52 -> 45671 | high | E52: =COUNTIF(D$1:D52,HorairesMarais!$D52) -> 1 | F52: =D52&" | "&E52 -> 45671 | high | 1 | G52: =MID(C52,12,5) -> 05:07
B53: low | C53: 2025-01-14T11:18:00+01:00 | D53: =DATE(LEFT(HorairesMarais!$C53,4),MID(HorairesMarais!$C53,6,2),MID(HorairesMarais!$C53,9,2))&" | "&HorairesMarais!$B53 -> 45671 | low | E53: =COUNTIF(D$1:D53,HorairesMarais!$D53) -> 1 | F53: =D53&" | "&E53 -> 45671 | low | 1 | G53: =MID(C53,12,5) -> 11:18
A54: 85 | B54: high | C54: 2025-01-14T17:35:00+01:00 | D54: =DATE(LEFT(HorairesMarais!$C54,4),MID(HorairesMarais!$C54,6,2),MID(HorairesMarais!$C54,9,2))&" | "&HorairesMarais!$B54 -> 45671 | high | E54: =COUNTIF(D$1:D54,HorairesMarais!$D54) -> 2 | F54: =D54&" | "&E54 -> 45671 | high | 2 | G54: =MID(C54,12,5) -> 17:35
B55: low | C55: 2025-01-14T23:28:00+01:00 | D55: =DATE(LEFT(HorairesMarais!$C55,4),MID(HorairesMarais!$C55,6,2),MID(HorairesMarais!$C55,9,2))&" | "&HorairesMarais!$B55 -> 45671 | low | E55: =COUNTIF(D$1:D55,HorairesMarais!$D55) -> 2 | F55: =D55&" | "&E55 -> 45671 | low | 2 | G55: =MID(C55,12,5) -> 23:28
A56: 86 | B56: high | C56: 2025-01-15T05:48:00+01:00 | D56: =DATE(LEFT(HorairesMarais!$C56,4),MID(HorairesMarais!$C56,6,2),MID(HorairesMarais!$C56,9,2))&" | "&HorairesMarais!$B56 -> 45672 | high | E56: =COUNTIF(D$1:D56,HorairesMarais!$D56) -> 1 | F56: =D56&" | "&E56 -> 45672 | high | 1 | G56: =MID(C56,12,5) -> 05:48
B57: low | C57: 2025-01-15T12:01:00+01:00 | D57: =DATE(LEFT(HorairesMarais!$C57,4),MID(HorairesMarais!$C57,6,2),MID(HorairesMarais!$C57,9,2))&" | "&HorairesMarais!$B57 -> 45672 | low | E57: =COUNTIF(D$1:D57,HorairesMarais!$D57) -> 1 | F57: =D57&" | "&E57 -> 45672 | low | 1 | G57: =MID(C57,12,5) -> 12:01
A58: 86 | B58: high | C58: 2025-01-15T18:14:00+01:00 | D58: =DATE(LEFT(HorairesMarais!$C58,4),MID(HorairesMarais!$C58,6,2),MID(HorairesMarais!$C58,9,2))&" | "&HorairesMarais!$B58 -> 45672 | high | E58: =COUNTIF(D$1:D58,HorairesMarais!$D58) -> 2 | F58: =D58&" | "&E58 -> 45672 | high | 2 | G58: =MID(C58,12,5) -> 18:14
B59: low | C59: 2025-01-16T00:09:00+01:00 | D59: =DATE(LEFT(HorairesMarais!$C59,4),MID(HorairesMarais!$C59,6,2),MID(HorairesMarais!$C59,9,2))&" | "&HorairesMarais!$B59 -> 45673 | low | E59: =COUNTIF(D$1:D59,HorairesMarais!$D59) -> 1 | F59: =D59&" | "&E59 -> 45673 | low | 1 | G59: =MID(C59,12,5) -> 00:09
A60: 86 | B60: high | C60: 2025-01-16T06:27:00+01:00 | D60: =DATE(LEFT(HorairesMarais!$C60,4),MID(HorairesMarais!$C60,6,2),MID(HorairesMarais!$C60,9,2))&" | "&HorairesMarais!$B60 -> 45673 | high | E60: =COUNTIF(D$1:D60,HorairesMarais!$D60) -> 1 | F60: =D60&" | "&E60 -> 45673 | high | 1 | G60: =MID(C60,12,5) -> 06:27
B61: low | C61: 2025-01-16T12:41:00+01:00 | D61: =DATE(LEFT(HorairesMarais!$C61,4),MID(HorairesMarais!$C61,6,2),MID(HorairesMarais!$C61,9,2))&" | "&HorairesMarais!$B61 -> 45673 | low | E61: =COUNTIF(D$1:D61,HorairesMarais!$D61) -> 2 | F61: =D61&" | "&E61 -> 45673 | low | 2 | G61: =MID(C61,12,5) -> 12:41
A62: 85 | B62: high | C62: 2025-01-16T18:50:00+01:00 | D62: =DATE(LEFT(HorairesMarais!$C62,4),MID(HorairesMarais!$C62,6,2),MID(HorairesMarais!$C62,9,2))&" | "&HorairesMarais!$B62 -> 45673 | high | E62: =COUNTIF(D$1:D62,HorairesMarais!$D62) -> 2 | F62: =D62&" | "&E62 -> 45673 | high | 2 | G62: =MID(C62,12,5) -> 18:50
B63: low | C63: 2025-01-17T00:47:00+01:00 | D63: =DATE(LEFT(HorairesMarais!$C63,4),MID(HorairesMarais!$C63,6,2),MID(HorairesMarais!$C63,9,2))&" | "&HorairesMarais!$B63 -> 45674 | low | E63: =COUNTIF(D$1:D63,HorairesMarais!$D63) -> 1 | F63: =D63&" | "&E63 -> 45674 | low | 1 | G63: =MID(C63,12,5) -> 00:47
A64: 83 | B64: high | C64: 2025-01-17T07:02:00+01:00 | D64: =DATE(LEFT(HorairesMarais!$C64,4),MID(HorairesMarais!$C64,6,2),MID(HorairesMarais!$C64,9,2))&" | "&HorairesMarais!$B64 -> 45674 | high | E64: =COUNTIF(D$1:D64,HorairesMarais!$D64) -> 1 | F64: =D64&" | "&E64 -> 45674 | high | 1 | G64: =MID(C64,12,5) -> 07:02
B65: low | C65: 2025-01-17T13:17:00+01:00 | D65: =DATE(LEFT(HorairesMarais!$C65,4),MID(HorairesMarais!$C65,6,2),MID(HorairesMarais!$C65,9,2))&" | "&HorairesMarais!$B65 -> 45674 | low | E65: =COUNTIF(D$1:D65,HorairesMarais!$D65) -> 2 | F65: =D65&" | "&E65 -> 45674 | low | 2 | G65: =MID(C65,12,5) -> 13:17
A66: 80 | B66: high | C66: 2025-01-17T19:23:00+01:00 | D66: =DATE(LEFT(HorairesMarais!$C66,4),MID(HorairesMarais!$C66,6,2),MID(HorairesMarais!$C66,9,2))&" | "&HorairesMarais!$B66 -> 45674 | high | E66: =COUNTIF(D$1:D66,HorairesMarais!$D66) -> 2 | F66: =D66&" | "&E66 -> 45674 | high | 2 | G66: =MID(C66,12,5) -> 19:23
B67: low | C67: 2025-01-18T01:23:00+01:00 | D67: =DATE(LEFT(HorairesMarais!$C67,4),MID(HorairesMarais!$C67,6,2),MID(HorairesMarais!$C67,9,2))&" | "&HorairesMarais!$B67 -> 45675 | low | E67: =COUNTIF(D$1:D67,HorairesMarais!$D67) -> 1 | F67: =D67&" | "&E67 -> 45675 | low | 1 | G67: =MID(C67,12,5) -> 01:23
A68: 76 | B68: high | C68: 2025-01-18T07:36:00+01:00 | D68: =DATE(LEFT(HorairesMarais!$C68,4),MID(HorairesMarais!$C68,6,2),MID(HorairesMarais!$C68,9,2))&" | "&HorairesMarais!$B68 -> 45675 | high | E68: =COUNTIF(D$1:D68,HorairesMarais!$D68) -> 1 | F68: =D68&" | "&E68 -> 45675 | high | 1 | G68: =MID(C68,12,5) -> 07:36
B69: low | C69: 2025-01-18T13:52:00+01:00 | D69: =DATE(LEFT(HorairesMarais!$C69,4),MID(HorairesMarais!$C69,6,2),MID(HorairesMarais!$C69,9,2))&" | "&HorairesMarais!$B69 -> 45675 | low | E69: =COUNTIF(D$1:D69,HorairesMarais!$D69) -> 2 | F69: =D69&" | "&E69 -> 45675 | low | 2 | G69: =MID(C69,12,5) -> 13:52
A70: 72 | B70: high | C70: 2025-01-18T19:55:00+01:00 | D70: =DATE(LEFT(HorairesMarais!$C70,4),MID(HorairesMarais!$C70,6,2),MID(HorairesMarais!$C70,9,2))&" | "&HorairesMarais!$B70 -> 45675 | high | E70: =COUNTIF(D$1:D70,HorairesMarais!$D70) -> 2 | F70: =D70&" | "&E70 -> 45675 | high | 2 | G70: =MID(C70,12,5) -> 19:55
B71: low | C71: 2025-01-19T01:59:00+01:00 | D71: =DATE(LEFT(HorairesMarais!$C71,4),MID(HorairesMarais!$C71,6,2),MID(HorairesMarais!$C71,9,2))&" | "&HorairesMarais!$B71 -> 45676 | low | E71: =COUNTIF(D$1:D71,HorairesMarais!$D71) -> 1 | F71: =D71&" | "&E71 -> 45676 | low | 1 | G71: =MID(C71,12,5) -> 01:59
A72: 68 | B72: high | C72: 2025-01-19T08:09:00+01:00 | D72: =DATE(LEFT(HorairesMarais!$C72,4),MID(HorairesMarais!$C72,6,2),MID(HorairesMarais!$C72,9,2))&" | "&HorairesMarais!$B72 -> 45676 | high | E72: =COUNTIF(D$1:D72,HorairesMarais!$D72) -> 1 | F72: =D72&" | "&E72 -> 45676 | high | 1 | G72: =MID(C72,12,5) -> 08:09
B73: low | C73: 2025-01-19T14:27:00+01:00 | D73: =DATE(LEFT(HorairesMarais!$C73,4),MID(HorairesMarais!$C73,6,2),MID(HorairesMarais!$C73,9,2))&" | "&HorairesMarais!$B73 -> 45676 | low | E73: =COUNTIF(D$1:D73,HorairesMarais!$D73) -> 2 | F73: =D73&" | "&E73 -> 45676 | low | 2 | G73: =MID(C73,12,5) -> 14:27
A74: 63 | B74: high | C74: 2025-01-19T20:30:00+01:00 | D74: =DATE(LEFT(HorairesMarais!$C74,4),MID(HorairesMarais!$C74,6,2),MID(HorairesMarais!$C74,9,2))&" | "&HorairesMarais!$B74 -> 45676 | high | E74: =COUNTIF(D$1:D74,HorairesMarais!$D74) -> 2 | F74: =D74&" | "&E74 -> 45676 | high | 2 | G74: =MID(C74,12,5) -> 20:30
B75: low | C75: 2025-01-20T02:36:00+01:00 | D75: =DATE(LEFT(HorairesMarais!$C75,4),MID(HorairesMarais!$C75,6,2),MID(HorairesMarais!$C75,9,2))&" | "&HorairesMarais!$B75 -> 45677 | low | E75: =COUNTIF(D$1:D75,HorairesMarais!$D75) -> 1 | F75: =D75&" | "&E75 -> 45677 | low | 1 | G75: =MID(C75,12,5) -> 02:36
A76: 59 | B76: high | C76: 2025-01-20T08:46:00+01:00 | D76: =DATE(LEFT(HorairesMarais!$C76,4),MID(HorairesMarais!$C76,6,2),MID(HorairesMarais!$C76,9,2))&" | "&HorairesMarais!$B76 -> 45677 | high | E76: =COUNTIF(D$1:D76,HorairesMarais!$D76) -> 1 | F76: =D76&" | "&E76 -> 45677 | high | 1 | G76: =MID(C76,12,5) -> 08:46
B77: low | C77: 2025-01-20T15:04:00+01:00 | D77: =DATE(LEFT(HorairesMarais!$C77,4),MID(HorairesMarais!$C77,6,2),MID(HorairesMarais!$C77,9,2))&" | "&HorairesMarais!$B77 -> 45677 | low | E77: =COUNTIF(D$1:D77,HorairesMarais!$D77) -> 2 | F77: =D77&" | "&E77 -> 45677 | low | 2 | G77: =MID(C77,12,5) -> 15:04
A78: 53 | B78: high | C78: 2025-01-20T21:11:00+01:00 | D78: =DATE(LEFT(HorairesMarais!$C78,4),MID(HorairesMarais!$C78,6,2),MID(HorairesMarais!$C78,9,2))&" | "&HorairesMarais!$B78 -> 45677 | high | E78: =COUNTIF(D$1:D78,HorairesMarais!$D78) -> 2 | F78: =D78&" | "&E78 -> 45677 | high | 2 | G78: =MID(C78,12,5) -> 21:11
B79: low | C79: 2025-01-21T03:16:00+01:00 | D79: =DATE(LEFT(HorairesMarais!$C79,4),MID(HorairesMarais!$C79,6,2),MID(HorairesMarais!$C79,9,2))&" | "&HorairesMarais!$B79 -> 45678 | low | E79: =COUNTIF(D$1:D79,HorairesMarais!$D79) -> 1 | F79: =D79&" | "&E79 -> 45678 | low | 1 | G79: =MID(C79,12,5) -> 03:16
A80: 48 | B80: high | C80: 2025-01-21T09:29:00+01:00 | D80: =DATE(LEFT(HorairesMarais!$C80,4),MID(HorairesMarais!$C80,6,2),MID(HorairesMarais!$C80,9,2))&" | "&HorairesMarais!$B80 -> 45678 | high | E80: =COUNTIF(D$1:D80,HorairesMarais!$D80) -> 1 | F80: =D80&" | "&E80 -> 45678 | high | 1 | G80: =MID(C80,12,5) -> 09:29
B81: low | C81: 2025-01-21T15:46:00+01:00 | D81: =DATE(LEFT(HorairesMarais!$C81,4),MID(HorairesMarais!$C81,6,2),MID(HorairesMarais!$C81,9,2))&" | "&HorairesMarais!$B81 -> 45678 | low | E81: =COUNTIF(D$1:D81,HorairesMarais!$D81) -> 2 | F81: =D81&" | "&E81 -> 45678 | low | 2 | G81: =MID(C81,12,5) -> 15:46
A82: 43 | B82: high | C82: 2025-01-21T22:04:00+01:00 | D82: =DATE(LEFT(HorairesMarais!$C82,4),MID(HorairesMarais!$C82,6,2),MID(HorairesMarais!$C82,9,2))&" | "&HorairesMarais!$B82 -> 45678 | high | E82: =COUNTIF(D$1:D82,HorairesMarais!$D82) -> 2 | F82: =D82&" | "&E82 -> 45678 | high | 2 | G82: =MID(C82,12,5) -> 22:04
B83: low | C83: 2025-01-22T04:04:00+01:00 | D83: =DATE(LEFT(HorairesMarais!$C83,4),MID(HorairesMarais!$C83,6,2),MID(HorairesMarais!$C83,9,2))&" | "&HorairesMarais!$B83 -> 45679 | low | E83: =COUNTIF(D$1:D83,HorairesMarais!$D83) -> 1 | F83: =D83&" | "&E83 -> 45679 | low | 1 | G83: =MID(C83,12,5) -> 04:04
A84: 39 | B84: high | C84: 2025-01-22T10:25:00+01:00 | D84: =DATE(LEFT(HorairesMarais!$C84,4),MID(HorairesMarais!$C84,6,2),MID(HorairesMarais!$C84,9,2))&" | "&HorairesMarais!$B84 -> 45679 | high | E84: =COUNTIF(D$1:D84,HorairesMarais!$D84) -> 1 | F84: =D84&" | "&E84 -> 45679 | high | 1 | G84: =MID(C84,12,5) -> 10:25
B85: low | C85: 2025-01-22T16:39:00+01:00 | D85: =DATE(LEFT(HorairesMarais!$C85,4),MID(HorairesMarais!$C85,6,2),MID(HorairesMarais!$C85,9,2))&" | "&HorairesMarais!$B85 -> 45679 | low | E85: =COUNTIF(D$1:D85,HorairesMarais!$D85) -> 2 | F85: =D85&" | "&E85 -> 45679 | low | 2 | G85: =MID(C85,12,5) -> 16:39
A86: 35 | B86: high | C86: 2025-01-22T23:12:00+01:00 | D86: =DATE(LEFT(HorairesMarais!$C86,4),MID(HorairesMarais!$C86,6,2),MID(HorairesMarais!$C86,9,2))&" | "&HorairesMarais!$B86 -> 45679 | high | E86: =COUNTIF(D$1:D86,HorairesMarais!$D86) -> 2 | F86: =D86&" | "&E86 -> 45679 | high | 2 | G86: =MID(C86,12,5) -> 23:12
B87: low | C87: 2025-01-23T05:07:00+01:00 | D87: =DATE(LEFT(HorairesMarais!$C87,4),MID(HorairesMarais!$C87,6,2),MID(HorairesMarais!$C87,9,2))&" | "&HorairesMarais!$B87 -> 45680 | low | E87: =COUNTIF(D$1:D87,HorairesMarais!$D87) -> 1 | F87: =D87&" | "&E87 -> 45680 | low | 1 | G87: =MID(C87,12,5) -> 05:07
A88: 32 | B88: high | C88: 2025-01-23T11:39:00+01:00 | D88: =DATE(LEFT(HorairesMarais!$C88,4),MID(HorairesMarais!$C88,6,2),MID(HorairesMarais!$C88,9,2))&" | "&HorairesMarais!$B88 -> 45680 | high | E88: =COUNTIF(D$1:D88,HorairesMarais!$D88) -> 1 | F88: =D88&" | "&E88 -> 45680 | high | 1 | G88: =MID(C88,12,5) -> 11:39
B89: low | C89: 2025-01-23T17:48:00+01:00 | D89: =DATE(LEFT(HorairesMarais!$C89,4),MID(HorairesMarais!$C89,6,2),MID(HorairesMarais!$C89,9,2))&" | "&HorairesMarais!$B89 -> 45680 | low | E89: =COUNTIF(D$1:D89,HorairesMarais!$D89) -> 2 | F89: =D89&" | "&E89 -> 45680 | low | 2 | G89: =MID(C89,12,5) -> 17:48
A90: 31 | B90: high | C90: 2025-01-24T00:29:00+01:00 | D90: =DATE(LEFT(HorairesMarais!$C90,4),MID(HorairesMarais!$C90,6,2),MID(HorairesMarais!$C90,9,2))&" | "&HorairesMarais!$B90 -> 45681 | high | E90: =COUNTIF(D$1:D90,HorairesMarais!$D90) -> 1 | F90: =D90&" | "&E90 -> 45681 | high | 1 | G90: =MID(C90,12,5) -> 00:29
B91: low | C91: 2025-01-24T06:20:00+01:00 | D91: =DATE(LEFT(HorairesMarais!$C91,4),MID(HorairesMarais!$C91,6,2),MID(HorairesMarais!$C91,9,2))&" | "&HorairesMarais!$B91 -> 45681 | low | E91: =COUNTIF(D$1:D91,HorairesMarais!$D91) -> 1 | F91: =D91&" | "&E91 -> 45681 | low | 1 | G91: =MID(C91,12,5) -> 06:20
A92: 31 | B92: high | C92: 2025-01-24T13:03:00+01:00 | D92: =DATE(LEFT(HorairesMarais!$C92,4),MID(HorairesMarais!$C92,6,2),MID(HorairesMarais!$C92,9,2))&" | "&HorairesMarais!$B92 -> 45681 | high | E92: =COUNTIF(D$1:D92,HorairesMarais!$D92) -> 2 | F92: =D92&" | "&E92 -> 45681 | high | 2 | G92: =MID(C92,12,5) -> 13:03
B93: low | C93: 2025-01-24T19:02:00+01:00 | D93: =DATE(LEFT(HorairesMarais!$C93,4),MID(HorairesMarais!$C93,6,2),MID(HorairesMarais!$C93,9,2))&" | "&HorairesMarais!$B93 -> 45681 | low | E93: =COUNTIF(D$1:D93,HorairesMarais!$D93) -> 2 | F93: =D93&" | "&E93 -> 45681 | low | 2 | G93: =MID(C93,12,5) -> 19:02
A94: 34 | B94: high | C94: 2025-01-25T01:41:00+01:00 | D94: =DATE(LEFT(HorairesMarais!$C94,4),MID(HorairesMarais!$C94,6,2),MID(HorairesMarais!$C94,9,2))&" | "&HorairesMarais!$B94 -> 45682 | high | E94: =COUNTIF(D$1:D94,HorairesMarais!$D94) -> 1 | F94: =D94&" | "&E94 -> 45682 | high | 1 | G94: =MID(C94,12,5) -> 01:41
B95: low | C95: 2025-01-25T07:31:00+01:00 | D95: =DATE(LEFT(HorairesMarais!$C95,4),MID(HorairesMarais!$C95,6,2),MID(HorairesMarais!$C95,9,2))&" | "&HorairesMarais!$B95 -> 45682 | low | E95: =COUNTIF(D$1:D95,HorairesMarais!$D95) -> 1 | F95: =D95&" | "&E95 -> 45682 | low | 1 | G95: =MID(C95,12,5) -> 07:31
A96: 37 | B96: high | C96: 2025-01-25T14:18:00+01:00 | D96: =DATE(LEFT(HorairesMarais!$C96,4),MID(HorairesMarais!$C96,6,2),MID(HorairesMarais!$C96,9,2))&" | "&HorairesMarais!$B96 -> 45682 | high | E96: =COUNTIF(D$1:D96,HorairesMarais!$D96) -> 2 | F96: =D96&" | "&E96 -> 45682 | high | 2 | G96: =MID(C96,12,5) -> 14:18
B97: low | C97: 2025-01-25T20:08:00+01:00 | D97: =DATE(LEFT(HorairesMarais!$C97,4),MID(HorairesMarais!$C97,6,2),MID(HorairesMarais!$C97,9,2))&" | "&HorairesMarais!$B97 -> 45682 | low | E97: =COUNTIF(D$1:D97,HorairesMarais!$D97) -> 2 | F97: =D97&" | "&E97 -> 45682 | low | 2 | G97: =MID(C97,12,5) -> 20:08
A98: 43 | B98: high | C98: 2025-01-26T02:38:00+01:00 | D98: =DATE(LEFT(HorairesMarais!$C98,4),MID(HorairesMarais!$C98,6,2),MID(HorairesMarais!$C98,9,2))&" | "&HorairesMarais!$B98 -> 45683 | high | E98: =COUNTIF(D$1:D98,HorairesMarais!$D98) -> 1 | F98: =D98&" | "&E98 -> 45683 | high | 1 | G98: =MID(C98,12,5) -> 02:38
B99: low | C99: 2025-01-26T08:34:00+01:00 | D99: =DATE(LEFT(HorairesMarais!$C99,4),MID(HorairesMarais!$C99,6,2),MID(HorairesMarais!$C99,9,2))&" | "&HorairesMarais!$B99 -> 45683 | low | E99: =COUNTIF(D$1:D99,HorairesMarais!$D99) -> 1 | F99: =D99&" | "&E99 -> 45683 | low | 1 | G99: =MID(C99,12,5) -> 08:34
A100: 48 | B100: high | C100: 2025-01-26T15:13:00+01:00 | D100: =DATE(LEFT(HorairesMarais!$C100,4),MID(HorairesMarais!$C100,6,2),MID(HorairesMarais!$C100,9,2))&" | "&HorairesMarais!$B100 -> 45683 | high | E100: =COUNTIF(D$1:D100,HorairesMarais!$D100) -> 2 | F100: =D100&" | "&E100 -> 45683 | high | 2 | G100: =MID(C100,12,5) -> 15:13
...
