Workbook

Sheet janvier
A1: JANVIER
A2: Date | B2: Pleines mers | F2: Basses mers
B3: Heure | C3: Coefficient | D3: Heure | E3: Coefficient | F3: Heure | G3: Heure
A4: 45658 | B4: =INDEX(HorairesMarais!G:G,MATCH(A4&" | high | 1",HorairesMarais!F:F,0)) -> 05:39 | C4: =INDEX(HorairesMarais!A:A,MATCH(A4&" | high | 1",HorairesMarais!F:F,0)) -> 80 | D4: =IFERROR(INDEX(HorairesMarais!G:G,MATCH(A4&" | high | 2",HorairesMarais!F:F,0)),"--:--") -> 18:05 | E4: =IFERROR(INDEX(HorairesMarais!A:A,MATCH(A4&" | high | 2",HorairesMarais!F:F,0)),"---") -> 81 | F4: =INDEX(HorairesMarais!G:G,MATCH(A4&" | low | 1",HorairesMarais!F:F,0)) -> 11:50 | G4: =IFERROR(INDEX(HorairesMarais!G:G,MATCH(A4&" | low | 2",HorairesMarais!F:F,0)),"--:--") -> --:--
A5: 45659 | B5: =INDEX(HorairesMarais!G:G,MATCH(A5&" | high | 1",HorairesMarais!F:F,0)) -> 06:20 | C5: =INDEX(HorairesMarais!A:A,MATCH(A5&" | high | 1",HorairesMarais!F:F,0)) -> 82 | D5: =IFERROR(INDEX(HorairesMarais!G:G,MATCH(A5&" | high | 2",HorairesMarais!F:F,0)),"--:--") -> 18:45 | E5: =IFERROR(INDEX(HorairesMarais!A:A,MATCH(A5&" | high | 2",HorairesMarais!F:F,0)),"---") -> 83 | F5: =INDEX(HorairesMarais!G:G,MATCH(A5&" | low | 1",HorairesMarais!F:F,0)) -> 00:05 | G5: =IFERROR(INDEX(HorairesMarais!G:G,MATCH(A5&" | low | 2",HorairesMarais!F:F,0)),"--:--") -> 12:32 | L5: =IF(A5=[1]Feuil1!P3,[1]Feuil1!Q3,"") | M5: =IF(A5=[1]Feuil1!P3,[1]Feuil1!G3,"")
A6: 45660 | B6: =INDEX(HorairesMarais!G:G,MATCH(A6&" | high | 1",HorairesMarais!F:F,0)) -> 07:03 | C6: =INDEX(HorairesMarais!A:A,MATCH(A6&" | high | 1",HorairesMarais!F:F,0)) -> 82 | D6: =IFERROR(INDEX(HorairesMarais!G:G,MATCH(A6&" | high | 2",HorairesMarais!F:F,0)),"--:--") -> 19:28 | E6: =IFERROR(INDEX(HorairesMarais!A:A,MATCH(A6&" | high | 2",HorairesMarais!F:F,0)),"---") -> 81 | F6: =INDEX(HorairesMarais!G:G,MATCH(A6&" | low | 1",HorairesMarais!F:F,0)) -> 00:47 | G6: =IFERROR(INDEX(HorairesMarais!G:G,MATCH(A6&" | low | 2",HorairesMarais!F:F,0)),"--:--") -> 13:15 | L6: =IF(A6=[1]Feuil1!P4,[1]Feuil1!Q4,"") | M6: =IF(A6=[1]Feuil1!P4,[1]Feuil1!G4,"")
A7: 45661 | B7: =INDEX(HorairesMarais!G:G,MATCH(A7&" | high | 1",HorairesMarais!F:F,0)) -> 07:49 | C7: =INDEX(HorairesMarais!A:A,MATCH(A7&" | high | 1",HorairesMarais!F:F,0)) -> 80 | D7: =IFERROR(INDEX(HorairesMarais!G:G,MATCH(A7&" | high | 2",HorairesMarais!F:F,0)),"--:--") -> 20:15 | E7: =IFERROR(INDEX(HorairesMarais!A:A,MATCH(A7&" | high | 2",HorairesMarais!F:F,0)),"---") -> 78 | F7: =INDEX(HorairesMarais!G:G,MATCH(A7&" | low | 1",HorairesMarais!F:F,0)) -> 01:30 | G7: =IFERROR(INDEX(HorairesMarais!G:G,MATCH(A7&" | low | 2",HorairesMarais!F:F,0)),"--:--") -> 13:58 | L7: =IF(A7=[1]Feuil1!P5,[1]Feuil1!Q5,"") | M7: =IF(A7=[1]Feuil1!P5,[1]Feuil1!G5,"")
A8: 45662 | B8: =INDEX(HorairesMarais!G:G,MATCH(A8&" | high | 1",HorairesMarais!F:F,0)) -> 08:38 | C8: =INDEX(HorairesMarais!A:A,MATCH(A8&" | high | 1",HorairesMarais!F:F,0)) -> 75 | D8: =IFERROR(INDEX(HorairesMarais!G:G,MATCH(A8&" | high | 2",HorairesMarais!F:F,0)),"--:--") -> 21:07 | E8: =IFERROR(INDEX(HorairesMarais!A:A,MATCH(A8&" | high | 2",HorairesMarais!F:F,0)),"---") -> 72 | F8: =INDEX(HorairesMarais!G:G,MATCH(A8&" | low | 1",HorairesMarais!F:F,0)) -> 02:15 | G8: =IFERROR(INDEX(HorairesMarais!G:G,MATCH(A8&" | low | 2",HorairesMarais!F:F,0)),"--:--") -> 14:44 | L8: =IF(A8=[1]Feuil1!P6,[1]Feuil1!Q6,"") | M8: =IF(A8=[1]Feuil1!P6,[1]Feuil1!G6,"")
A9: 45663 | B9: =INDEX(HorairesMarais!G:G,MATCH(A9&" | high | 1",HorairesMarais!F:F,0)) -> 09:33 | C9: =INDEX(HorairesMarais!A:A,MATCH(A9&" | high | 1",HorairesMarais!F:F,0)) -> 68 | D9: =IFERROR(INDEX(HorairesMarais!G:G,MATCH(A9&" | high | 2",HorairesMarais!F:F,0)),"--:--") -> 22:08 | E9: =IFERROR(INDEX(HorairesMarais!A:A,MATCH(A9&" | high | 2",HorairesMarais!F:F,0)),"---") -> 64 | F9: =INDEX(HorairesMarais!G:G,MATCH(A9&" | low | 1",HorairesMarais!F:F,0)) -> 03:04 | G9: =IFERROR(INDEX(HorairesMarais!G:G,MATCH(A9&" | low | 2",HorairesMarais!F:F,0)),"--:--") -> 15:34 | L9: =IF(A9=[1]Feuil1!P7,[1]Feuil1!Q7,"") | M9: =IF(A9=[1]Feuil1!P7,[1]Feuil1!G7,"")
A10: 45664 | B10: =INDEX(HorairesMarais!G:G,MATCH(A10&" | high | 1",HorairesMarais!F:F,0)) -> 10:35 | C10: =INDEX(HorairesMarais!A:A,MATCH(A10&" | high | 1",HorairesMarais!F:F,0)) -> 61 | D10: =IFERROR(INDEX(HorairesMarais!G:G,MATCH(A10&" | high | 2",HorairesMarais!F:F,0)),"--:--") -> 23:17 | E10: =IFERROR(INDEX(HorairesMarais!A:A,MATCH(A10&" | high | 2",HorairesMarais!F:F,0)),"---") -> 58 | F10: =INDEX(HorairesMarais!G:G,MATCH(A10&" | low | 1",HorairesMarais!F:F,0)) -> 03:59 | G10: =IFERROR(INDEX(HorairesMarais!G:G,MATCH(A10&" | low | 2",HorairesMarais!F:F,0)),"--:--") -> 16:32 | L10: =IF(A10=[1]Feuil1!P8,[1]Feuil1!Q8,"") | M10: =IF(A10=[1]Feuil1!P8,[1]Feuil1!G8,"")
A11: 45665 | B11: =INDEX(HorairesMarais!G:G,MATCH(A11&" | high | 1",HorairesMarais!F:F,0)) -> 11:46 | C11: =INDEX(HorairesMarais!A:A,MATCH(A11&" | high | 1",HorairesMarais!F:F,0)) -> 55 | D11: =IFERROR(INDEX(HorairesMarais!G:G,MATCH(A11&" | high | 2",HorairesMarais!F:F,0)),"--:--") -> --:-- | E11: =IFERROR(INDEX(HorairesMarais!A:A,MATCH(A11&" | high | 2",HorairesMarais!F:F,0)),"---") -> --- | F11: =INDEX(HorairesMarais!G:G,MATCH(A11&" | low | 1",HorairesMarais!F:F,0)) -> 05:03 | G11: =IFERROR(INDEX(HorairesMarais!G:G,MATCH(A11&" | low | 2",HorairesMarais!F:F,0)),"--:--") -> 17:38 | L11: =IF(A11=[1]Feuil1!P9,[1]Feuil1!Q9,"") | M11: =IF(A11=[1]Feuil1!P9,[1]Feuil1!G9,"")
A12: 45666 | B12: =INDEX(HorairesMarais!G:G,MATCH(A12&" | high | 1",HorairesMarais!F:F,0)) -> 00:30 | C12: =INDEX(HorairesMarais!A:A,MATCH(A12&" | high | 1",HorairesMarais!F:F,0)) -> 54 | D12: =IFERROR(INDEX(HorairesMarais!G:G,MATCH(A12&" | high | 2",HorairesMarais!F:F,0)),"--:--") -> 13:01 | E12: =IFERROR(INDEX(HorairesMarais!A:A,MATCH(A12&" | high | 2",HorairesMarais!F:F,0)),"---") -> 54 | F12: =INDEX(HorairesMarais!G:G,MATCH(A12&" | low | 1",HorairesMarais!F:F,0)) -> 06:14 | G12: =IFERROR(INDEX(HorairesMarais!G:G,MATCH(A12&" | low | 2",HorairesMarais!F:F,0)),"--:--") -> 18:50 | L12: =IF(A12=[1]Feuil1!P10,[1]Feuil1!Q10,"") | M12: =IF(A12=[1]Feuil1!P10,[1]Feuil1!G10,"")
A13: 45667 | B13: =INDEX(HorairesMarais!G:G,MATCH(A13&" | high | 1",HorairesMarais!F:F,0)) -> 01:40 | C13: =INDEX(HorairesMarais!A:A,MATCH(A13&" | high | 1",HorairesMarais!F:F,0)) -> 55 | D13: =IFERROR(INDEX(HorairesMarais!G:G,MATCH(A13&" | high | 2",HorairesMarais!F:F,0)),"--:--") -> 14:12 | E13: =IFERROR(INDEX(HorairesMarais!A:A,MATCH(A13&" | high | 2",HorairesMarais!F:F,0)),"---") -> 58 | F13: =INDEX(HorairesMarais!G:G,MATCH(A13&" | low | 1",HorairesMarais!F:F,0)) -> 07:27 | G13: =IFERROR(INDEX(HorairesMarais!G:G,MATCH(A13&" | low | 2",HorairesMarais!F:F,0)),"--:--") -> 20:00 | L13: =IF(A13=[1]Feuil1!P11,[1]Feuil1!Q11,"") | M13: =IF(A13=[1]Feuil1!P11,[1]Feuil1!G11,"")
A14: 45668 | B14: =INDEX(HorairesMarais!G:G,MATCH(A14&" | high | 1",HorairesMarais!F:F,0)) -> 02:41 | C14: =INDEX(HorairesMarais!A:A,MATCH(A14&" | high | 1",HorairesMarais!F:F,0)) -> 61 | D14: =IFERROR(INDEX(HorairesMarais!G:G,MATCH(A14&" | high | 2",HorairesMarais!F:F,0)),"--:--") -> 15:13 | E14: =IFERROR(INDEX(HorairesMarais!A:A,MATCH(A14&" | high | 2",HorairesMarais!F:F,0)),"---") -> 65 | F14: =INDEX(HorairesMarais!G:G,MATCH(A14&" | low | 1",HorairesMarais!F:F,0)) -> 08:37 | G14: =IFERROR(INDEX(HorairesMarais!G:G,MATCH(A14&" | low | 2",HorairesMarais!F:F,0)),"--:--") -> 21:02 | L14: =IF(A14=[1]Feuil1!P12,[1]Feuil1!Q12,"") | M14: =IF(A14=[1]Feuil1!P12,[1]Feuil1!G12,"")
A15: 45669 | B15: =INDEX(HorairesMarais!G:G,MATCH(A15&" | high | 1",HorairesMarais!F:F,0)) -> 03:34 | C15: =INDEX(HorairesMarais!A:A,MATCH(A15&" | high | 1",HorairesMarais!F:F,0)) -> 69 | D15: =IFERROR(INDEX(HorairesMarais!G:G,MATCH(A15&" | high | 2",HorairesMarais!F:F,0)),"--:--") -> 16:06 | E15: =IFERROR(INDEX(HorairesMarais!A:A,MATCH(A15&" | high | 2",HorairesMarais!F:F,0)),"---") -> 74 | F15: =INDEX(HorairesMarais!G:G,MATCH(A15&" | low | 1",HorairesMarais!F:F,0)) -> 09:37 | G15: =IFERROR(INDEX(HorairesMarais!G:G,MATCH(A15&" | low | 2",HorairesMarais!F:F,0)),"--:--") -> 21:56 | L15: =IF(A15=[1]Feuil1!P13,[1]Feuil1!Q13,"") | M15: =IF(A15=[1]Feuil1!P13,[1]Feuil1!G13,"")
A16: 45670 | B16: =INDEX(HorairesMarais!G:G,MATCH(A16&" | high | 1",HorairesMarais!F:F,0)) -> 04:22 | C16: =INDEX(HorairesMarais!A:A,MATCH(A16&" | high | 1",HorairesMarais!F:F,0)) -> 77 | D16: =IFERROR(INDEX(HorairesMarais!G:G,MATCH(A16&" | high | 2",HorairesMarais!F:F,0)),"--:--") -> 16:53 | E16: =IFERROR(INDEX(HorairesMarais!A:A,MATCH(A16&" | high | 2",HorairesMarais!F:F,0)),"---") -> 81 | F16: =INDEX(HorairesMarais!G:G,MATCH(A16&" | low | 1",HorairesMarais!F:F,0)) -> 10:30 | G16: =IFERROR(INDEX(HorairesMarais!G:G,MATCH(A16&" | low | 2",HorairesMarais!F:F,0)),"--:--") -> 22:44 | L16: =IF(A16=[1]Feuil1!P14,[1]Feuil1!Q14,"") | M16: =IF(A16=[1]Feuil1!P14,[1]Feuil1!G14,"")
... A34: 45688 | B34: =INDEX(HorairesMarais!G:G,MATCH(A34&" | high | 1",HorairesMarais!F:F,0)) -> 06:06 | C34: =INDEX(HorairesMarais!A:A,MATCH(A34&" | high | 1",HorairesMarais!F:F,0)) -> 96 | D34: =IFERROR(INDEX(HorairesMarais!G:G,MATCH(A34&" | high | 2",HorairesMarais!F:F,0)),"--:--") -> 18:30 | E34: =IFERROR(INDEX(HorairesMarais!A:A,MATCH(A34&" | high | 2",HorairesMarais!F:F,0)),"---") -> 98 | F34: =INDEX(HorairesMarais!G:G,MATCH(A34&" | low | 1",HorairesMarais!F:F,0)) -> 12:21 | G34: =IFERROR(INDEX(HorairesMarais!G:G,MATCH(A34&" | low | 2",HorairesMarais!F:F,0)),"--:--") -> --:-- | L34: =IF(A34=[1]Feuil1!P32,[1]Feuil1!Q32,"") | M34: =IF(A34=[1]Feuil1!P32,[1]Feuil1!G32,"")

Sheet février
B2: Pleines mers | F2: Basses mers
B3: Heure | C3: Coefficient | D3: Heure | E3: Coefficient | F3: Heure | G3: Heure
A4: 45689 | B4: =INDEX(HorairesMarais!G:G,MATCH(A4&" | high | 1",HorairesMarais!F:F,0)) -> 06:47 | C4: =INDEX(HorairesMarais!A:A,MATCH(A4&" | high | 1",HorairesMarais!F:F,0)) -> 99 | D4: =IFERROR(INDEX(HorairesMarais!G:G,MATCH(A4&" | high | 2",HorairesMarais!F:F,0)),"--:--") -> 19:10 | E4: =IFERROR(INDEX(HorairesMarais!A:A,MATCH(A4&" | high | 2",HorairesMarais!F:F,0)),"---") -> 98 | F4: =INDEX(HorairesMarais!G:G,MATCH(A4&" | low | 1",HorairesMarais!F:F,0)) -> 00:36 | G4: =IFERROR(INDEX(HorairesMarais!G:G,MATCH(A4&" | low | 2",HorairesMarais!F:F,0)),"--:--") -> 13:01
A5: 45690 | B5: =INDEX(HorairesMarais!G:G,MATCH(A5&" | high | 1",HorairesMarais!F:F,0)) -> 07:30 | C5: =INDEX(HorairesMarais!A:A,MATCH(A5&" | high | 1",HorairesMarais!F:F,0)) -> 96 | D5: =IFERROR(INDEX(HorairesMarais!G:G,MATCH(A5&" | high | 2",HorairesMarais!F:F,0)),"--:--") -> 19:52 | E5: =IFERROR(INDEX(HorairesMarais!A:A,MATCH(A5&" | high | 2",HorairesMarais!F:F,0)),"---") -> 93 | F5: =INDEX(HorairesMarais!G:G,MATCH(A5&" | low | 1",HorairesMarais!F:F,0)) -> 01:17 | G5: =IFERROR(INDEX(HorairesMarais!G:G,MATCH(A5&" | low | 2",HorairesMarais!F:F,0)),"--:--") -> 13:41
A6: 45691 | B6: =INDEX(HorairesMarais!G:G,MATCH(A6&" | high | 1",HorairesMarais!F:F,0)) -> 08:15 | C6: =INDEX(HorairesMarais!A:A,MATCH(A6&" | high | 1",HorairesMarais!F:F,0)) -> 89 | D6: =IFERROR(INDEX(HorairesMarais!G:G,MATCH(A6&" | high | 2",HorairesMarais!F:F,0)),"--:--") -> 20:37 | E6: =IFERROR(INDEX(HorairesMarais!A:A,MATCH(A6&" | high | 2",HorairesMarais!F:F,0)),"---") -> 84 | F6: =INDEX(HorairesMarais!G:G,MATCH(A6&" | low | 1",HorairesMarais!F:F,0)) -> 01:58 | G6: =IFERROR(INDEX(HorairesMarais!G:G,MATCH(A6&" | low | 2",HorairesMarais!F:F,0)),"--:--") -> 14:22
A7: 45692 | B7: =INDEX(HorairesMarais!G:G,MATCH(A7&" | high | 1",HorairesMarais!F:F,0)) -> 09:04 | C7: =INDEX(HorairesMarais!A:A,MATCH(A7&" | high | 1",HorairesMarais!F:F,0)) -> 78 | D7: =IFERROR(INDEX(HorairesMarais!G:G,MATCH(A7&" | high | 2",HorairesMarais!F:F,0)),"--:--") -> 21:29 | E7: =IFERROR(INDEX(HorairesMarais!A:A,MATCH(A7&" | high | 2",HorairesMarais!F:F,0)),"---") -> 71 | F7: =INDEX(HorairesMarais!G:G,MATCH(A7&" | low | 1",HorairesMarais!F:F,0)) -> 02:41 | G7: =IFERROR(INDEX(HorairesMarais!G:G,MATCH(A7&" | low | 2",HorairesMarais!F:F,0)),"--:--") -> 15:06
A8: 45693 | B8: =INDEX(HorairesMarais!G:G,MATCH(A8&" | high | 1",HorairesMarais!F:F,0)) -> 10:03 | C8: =INDEX(HorairesMarais!A:A,MATCH(A8&" | high | 1",HorairesMarais!F:F,0)) -> 64 | D8: =IFERROR(INDEX(HorairesMarais!G:G,MATCH(A8&" | high | 2",HorairesMarais!F:F,0)),"--:--") -> 22:36 | E8: =IFERROR(INDEX(HorairesMarais!A:A,MATCH(A8&" | high | 2",HorairesMarais!F:F,0)),"---") -> 57 | F8: =INDEX(HorairesMarais!G:G,MATCH(A8&" | low | 1",HorairesMarais!F:F,0)) -> 03:31 | G8: =IFERROR(INDEX(HorairesMarais!G:G,MATCH(A8&" | low | 2",HorairesMarais!F:F,0)),"--:--") -> 15:59
A9: 45694 | B9: =INDEX(HorairesMarais!G:G,MATCH(A9&" | high | 1",HorairesMarais!F:F,0)) -> 11:18 | C9: =INDEX(HorairesMarais!A:A,MATCH(A9&" | high | 1",HorairesMarais!F:F,0)) -> 50 | D9: =IFERROR(INDEX(HorairesMarais!G:G,MATCH(A9&" | high | 2",HorairesMarais!F:F,0)),"--:--") -> --:-- | E9: =IFERROR(INDEX(HorairesMarais!A:A,MATCH(A9&" | high | 2",HorairesMarais!F:F,0)),"---") -> --- | F9: =INDEX(HorairesMarais!G:G,MATCH(A9&" | low | 1",HorairesMarais!F:F,0)) -> 04:33 | G9: =IFERROR(INDEX(HorairesMarais!G:G,MATCH(A9&" | low | 2",HorairesMarais!F:F,0)),"--:--") -> 17:06
A10: 45695 | B10: =INDEX(HorairesMarais!G:G,MATCH(A10&" | high | 1",HorairesMarais!F:F,0)) -> 00:04 | C10: =INDEX(HorairesMarais!A:A,MATCH(A10&" | high | 1",HorairesMarais!F:F,0)) -> 46 | D10: =IFERROR(INDEX(HorairesMarais!G:G,MATCH(A10&" | high | 2",HorairesMarais!F:F,0)),"--:--") -> 12:52 | E10: =IFERROR(INDEX(HorairesMarais!A:A,MATCH(A10&" | high | 2",HorairesMarais!F:F,0)),"---") -> 43 | F10: =INDEX(HorairesMarais!G:G,MATCH(A10&" | low | 1",HorairesMarais!F:F,0)) -> 05:51 | G10: =IFERROR(INDEX(HorairesMarais!G:G,MATCH(A10&" | low | 2",HorairesMarais!F:F,0)),"--:--") -> 18:30
A11: 45696 | B11: =INDEX(HorairesMarais!G:G,MATCH(A11&" | high | 1",HorairesMarais!F:F,0)) -> 01:32 | C11: =INDEX(HorairesMarais!A:A,MATCH(A11&" | high | 1",HorairesMarais!F:F,0)) -> 43 | D11: =IFERROR(INDEX(HorairesMarais!G:G,MATCH(A11&" | high | 2",HorairesMarais!F:F,0)),"--:--") -> 14:14 | E11: =IFERROR(INDEX(HorairesMarais!A:A,MATCH(A11&" | high | 2",HorairesMarais!F:F,0)),"---") -> 46 | F11: =INDEX(HorairesMarais!G:G,MATCH(A11&" | low | 1",HorairesMarais!F:F,0)) -> 07:21 | G11: =IFERROR(INDEX(HorairesMarais!G:G,MATCH(A11&" | low | 2",HorairesMarais!F:F,0)),"--:--") -> 19:54
A12: 45697 | B12: =INDEX(HorairesMarais!G:G,MATCH(A12&" | high | 1",HorairesMarais!F:F,0)) -> 02:40 | C12: =INDEX(HorairesMarais!A:A,MATCH(A12&" | high | 1",HorairesMarais!F:F,0)) -> 50 | D12: =IFERROR(INDEX(HorairesMarais!G:G,MATCH(A12&" | high | 2",HorairesMarais!F:F,0)),"--:--") -> 15:16 | E12: =IFERROR(INDEX(HorairesMarais!A:A,MATCH(A12&" | high | 2",HorairesMarais!F:F,0)),"---") -> 56 | F12: =INDEX(HorairesMarais!G:G,MATCH(A12&" | low | 1",HorairesMarais!F:F,0)) -> 08:38 | G12: =IFERROR(INDEX(HorairesMarais!G:G,MATCH(A12&" | low | 2",HorairesMarais!F:F,0)),"--:--") -> 21:00
A13: 45698 | B13: =INDEX(HorairesMarais!G:G,MATCH(A13&" | high | 1",HorairesMarais!F:F,0)) -> 03:34 | C13: =INDEX(HorairesMarais!A:A,MATCH(A13&" | high | 1",HorairesMarais!F:F,0)) -> 62 | D13: =IFERROR(INDEX(HorairesMarais!G:G,MATCH(A13&" | high | 2",HorairesMarais!F:F,0)),"--:--") -> 16:04 | E13: =IFERROR(INDEX(HorairesMarais!A:A,MATCH(A13&" | high | 2",HorairesMarais!F:F,0)),"---") -> 68 | F13: =INDEX(HorairesMarais!G:G,MATCH(A13&" | low | 1",HorairesMarais!F:F,0)) -> 09:37 | G13: =IFERROR(INDEX(HorairesMarais!G:G,MATCH(A13&" | low | 2",HorairesMarais!F:F,0)),"--:--") -> 21:52
A14: 45699 | B14: =INDEX(HorairesMarais!G:G,MATCH(A14&" | high | 1",HorairesMarais!F:F,0)) -> 04:18 | C14: =INDEX(HorairesMarais!A:A,MATCH(A14&" | high | 1",HorairesMarais!F:F,0)) -> 74 | D14: =IFERROR(INDEX(HorairesMarais!G:G,MATCH(A14&" | high | 2",HorairesMarais!F:F,0)),"--:--") -> 16:44 | E14: =IFERROR(INDEX(HorairesMarais!A:A,MATCH(A14&" | high | 2",HorairesMarais!F:F,0)),"---") -> 78 | F14: =INDEX(HorairesMarais!G:G,MATCH(A14&" | low | 1",HorairesMarais!F:F,0)) -> 10:25 | G14: =IFERROR(INDEX(HorairesMarais!G:G,MATCH(A14&" | low | 2",HorairesMarais!F:F,0)),"--:--") -> 22:36
A15: 45700 | B15: =INDEX(HorairesMarais!G:G,MATCH(A15&" | high | 1",HorairesMarais!F:F,0)) -> 04:56 | C15: =INDEX(HorairesMarais!A:A,MATCH(A15&" | high | 1",HorairesMarais!F:F,0)) -> 82 | D15: =IFERROR(INDEX(HorairesMarais!G:G,MATCH(A15&" | high | 2",HorairesMarais!F:F,0)),"--:--") -> 17:19 | E15: =IFERROR(INDEX(HorairesMarais!A:A,MATCH(A15&" | high | 2",HorairesMarais!F:F,0)),"---") -> 86 | F15: =INDEX(HorairesMarais!G:G,MATCH(A15&" | low | 1",HorairesMarais!F:F,0)) -> 11:07 | G15: =IFERROR(INDEX(HorairesMarais!G:G,MATCH(A15&" | low | 2",HorairesMarais!F:F,0)),"--:--") -> 23:16
... A31: 45716 | B31: =INDEX(HorairesMarais!G:G,MATCH(A31&" | high | 1",HorairesMarais!F:F,0)) -> 05:05 | C31: =INDEX(HorairesMarais!A:A,MATCH(A31&" | high | 1",HorairesMarais!F:F,0)) -> 99 | D31: =IFERROR(INDEX(HorairesMarais!G:G,MATCH(A31&" | high | 2",HorairesMarais!F:F,0)),"--:--") -> 17:30 | E31: =IFERROR(INDEX(HorairesMarais!A:A,MATCH(A31&" | high | 2",HorairesMarais!F:F,0)),"---") -> 104 | F31: =INDEX(HorairesMarais!G:G,MATCH(A31&" | low | 1",HorairesMarais!F:F,0)) -> 11:20 | G31: =IFERROR(INDEX(HorairesMarais!G:G,MATCH(A31&" | low | 2",HorairesMarais!F:F,0)),"--:--") -> 23:37

Sheet mars
B2: Pleines mers | F2: Basses mers
B3: Heure | C3: Coefficient | D3: Heure | E3: Coefficient | F3: Heure | G3: Heure
A4: 45717 | B4: =INDEX(HorairesMarais!G:G,MATCH(A4&" | high | 1",HorairesMarais!F:F,0)) -> 05:44 | C4: =INDEX(HorairesMarais!A:A,MATCH(A4&" | high | 1",HorairesMarais!F:F,0)) -> 108 | D4: =IFERROR(INDEX(HorairesMarais!G:G,MATCH(A4&" | high | 2",HorairesMarais!F:F,0)),"--:--") -> 18:08 | E4: =IFERROR(INDEX(HorairesMarais!A:A,MATCH(A4&" | high | 2",HorairesMarais!F:F,0)),"---") -> 110 | F4: =INDEX(HorairesMarais!G:G,MATCH(A4&" | low | 1",HorairesMarais!F:F,0)) -> 12:00 | G4: =IFERROR(INDEX(HorairesMarais!G:G,MATCH(A4&" | low | 2",HorairesMarais!F:F,0)),"--:--") -> --:--
A5: 45718 | B5: =INDEX(HorairesMarais!G:G,MATCH(A5&" | high | 1",HorairesMarais!F:F,0)) -> 06:25 | C5: =INDEX(HorairesMarais!A:A,MATCH(A5&" | high | 1",HorairesMarais!F:F,0)) -> 111 | D5: =IFERROR(INDEX(HorairesMarais!G:G,MATCH(A5&" | high | 2",HorairesMarais!F:F,0)),"--:--") -> 18:47 | E5: =IFERROR(INDEX(HorairesMarais!A:A,MATCH(A5&" | high | 2",HorairesMarais!F:F,0)),"---") -> 109 | F5: =INDEX(HorairesMarais!G:G,MATCH(A5&" | low | 1",HorairesMarais!F:F,0)) -> 00:17 | G5: =IFERROR(INDEX(HorairesMarais!G:G,MATCH(A5&" | low | 2",HorairesMarais!F:F,0)),"--:--") -> 12:40
A6: 45719 | B6: =INDEX(HorairesMarais!G:G,MATCH(A6&" | high | 1",HorairesMarais!F:F,0)) -> 07:07 | C6: =INDEX(HorairesMarais!A:A,MATCH(A6&" | high | 1",HorairesMarais!F:F,0)) -> 107 | D6: =IFERROR(INDEX(HorairesMarais!G:G,MATCH(A6&" | high | 2",HorairesMarais!F:F,0)),"--:--") -> 19:27 | E6: =IFERROR(INDEX(HorairesMarais!A:A,MATCH(A6&" | high | 2",HorairesMarais!F:F,0)),"---") -> 102 | F6: =INDEX(HorairesMarais!G:G,MATCH(A6&" | low | 1",HorairesMarais!F:F,0)) -> 00:57 | G6: =IFERROR(INDEX(HorairesMarais!G:G,MATCH(A6&" | low | 2",HorairesMarais!F:F,0)),"--:--") -> 13:18
A7: 45720 | B7: =INDEX(HorairesMarais!G:G,MATCH(A7&" | high | 1",HorairesMarais!F:F,0)) -> 07:52 | C7: =INDEX(HorairesMarais!A:A,MATCH(A7&" | high | 1",HorairesMarais!F:F,0)) -> 96 | D7: =IFERROR(INDEX(HorairesMarais!G:G,MATCH(A7&" | high | 2",HorairesMarais!F:F,0)),"--:--") -> 20:10 | E7: =IFERROR(INDEX(HorairesMarais!A:A,MATCH(A7&" | high | 2",HorairesMarais!F:F,0)),"---") -> 89 | F7: =INDEX(HorairesMarais!G:G,MATCH(A7&" | low | 1",HorairesMarais!F:F,0)) -> 01:37 | G7: =IFERROR(INDEX(HorairesMarais!G:G,MATCH(A7&" | low | 2",HorairesMarais!F:F,0)),"--:--") -> 13:58
A8: 45721 | B8: =INDEX(HorairesMarais!G:G,MATCH(A8&" | high | 1",HorairesMarais!F:F,0)) -> 08:40 | C8: =INDEX(HorairesMarais!A:A,MATCH(A8&" | high | 1",HorairesMarais!F:F,0)) -> 80 | D8: =IFERROR(INDEX(HorairesMarais!G:G,MATCH(A8&" | high | 2",HorairesMarais!F:F,0)),"--:--") -> 20:59 | E8: =IFERROR(INDEX(HorairesMarais!A:A,MATCH(A8&" | high | 2",HorairesMarais!F:F,0)),"---") -> 72 | F8: =INDEX(HorairesMarais!G:G,MATCH(A8&" | low | 1",HorairesMarais!F:F,0)) -> 02:19 | G8: =IFERROR(INDEX(HorairesMarais!G:G,MATCH(A8&" | low | 2",HorairesMarais!F:F,0)),"--:--") -> 14:41
A9: 45722 | B9: =INDEX(HorairesMarais!G:G,MATCH(A9&" | high | 1",HorairesMarais!F:F,0)) -> 09:38 | C9: =INDEX(HorairesMarais!A:A,MATCH(A9&" | high | 1",HorairesMarais!F:F,0)) -> 62 | D9: =IFERROR(INDEX(HorairesMarais!G:G,MATCH(A9&" | high | 2",HorairesMarais!F:F,0)),"--:--") -> 22:04 | E9: =IFERROR(INDEX(HorairesMarais!A:A,MATCH(A9&" | high | 2",HorairesMarais!F:F,0)),"---") -> 53 | F9: =INDEX(HorairesMarais!G:G,MATCH(A9&" | low | 1",HorairesMarais!F:F,0)) -> 03:08 | G9: =IFERROR(INDEX(HorairesMarais!G:G,MATCH(A9&" | low | 2",HorairesMarais!F:F,0)),"--:--") -> 15:32
A10: 45723 | B10: =INDEX(HorairesMarais!G:G,MATCH(A10&" | high | 1",HorairesMarais!F:F,0)) -> 11:05 | C10: =INDEX(HorairesMarais!A:A,MATCH(A10&" | high | 1",HorairesMarais!F:F,0)) -> 45 | D10: =IFERROR(INDEX(HorairesMarais!G:G,MATCH(A10&" | high | 2",HorairesMarais!F:F,0)),"--:--") -> 23:50 | E10: =IFERROR(INDEX(HorairesMarais!A:A,MATCH(A10&" | high | 2",HorairesMarais!F:F,0)),"---") -> 39 | F10: =INDEX(HorairesMarais!G:G,MATCH(A10&" | low | 1",HorairesMarais!F:F,0)) -> 04:10 | G10: =IFERROR(INDEX(HorairesMarais!G:G,MATCH(A10&" | low | 2",HorairesMarais!F:F,0)),"--:--") -> 16:41
A11: 45724 | B11: =INDEX(HorairesMarais!G:G,MATCH(A11&" | high | 1",HorairesMarais!F:F,0)) -> 12:53 | C11: =INDEX(HorairesMarais!A:A,MATCH(A11&" | high | 1",HorairesMarais!F:F,0)) -> 36 | D11: =IFERROR(INDEX(HorairesMarais!G:G,MATCH(A11&" | high | 2",HorairesMarais!F:F,0)),"--:--") -> --:-- | E11: =IFERROR(INDEX(HorairesMarais!A:A,MATCH(A11&" | high | 2",HorairesMarais!F:F,0)),"---") -> --- | F11: =INDEX(HorairesMarais!G:G,MATCH(A11&" | low | 1",HorairesMarais!F:F,0)) -> 05:40 | G11: =IFERROR(INDEX(HorairesMarais!G:G,MATCH(A11&" | low | 2",HorairesMarais!F:F,0)),"--:--") -> 18:18
A12: 45725 | B12: =INDEX(HorairesMarais!G:G,MATCH(A12&" | high | 1",HorairesMarais!F:F,0)) -> 01:27 | C12: =INDEX(HorairesMarais!A:A,MATCH(A12&" | high | 1",HorairesMarais!F:F,0)) -> 37 | D12: =IFERROR(INDEX(HorairesMarais!G:G,MATCH(A12&" | high | 2",HorairesMarais!F:F,0)),"--:--") -> 14:13 | E12: =IFERROR(INDEX(HorairesMarais!A:A,MATCH(A12&" | high | 2",HorairesMarais!F:F,0)),"---") -> 41 | F12: =INDEX(HorairesMarais!G:G,MATCH(A12&" | low | 1",HorairesMarais!F:F,0)) -> 07:19 | G12: =IFERROR(INDEX(HorairesMarais!G:G,MATCH(A12&" | low | 2",HorairesMarais!F:F,0)),"--:--") -> 19:47
A13: 45726 | B13: =INDEX(HorairesMarais!G:G,MATCH(A13&" | high | 1",HorairesMarais!F:F,0)) -> 02:35 | C13: =INDEX(HorairesMarais!A:A,MATCH(A13&" | high | 1",HorairesMarais!F:F,0)) -> 47 | D13: =IFERROR(INDEX(HorairesMarais!G:G,MATCH(A13&" | high | 2",HorairesMarais!F:F,0)),"--:--") -> 15:10 | E13: =IFERROR(INDEX(HorairesMarais!A:A,MATCH(A13&" | high | 2",HorairesMarais!F:F,0)),"---") -> 54 | F13: =INDEX(HorairesMarais!G:G,MATCH(A13&" | low | 1",HorairesMarais!F:F,0)) -> 08:33 | G13: =IFERROR(INDEX(HorairesMarais!G:G,MATCH(A13&" | low | 2",HorairesMarais!F:F,0)),"--:--") -> 20:50
A14: 45727 | B14: =INDEX(HorairesMarais!G:G,MATCH(A14&" | high | 1",HorairesMarais!F:F,0)) -> 03:25 | C14: =INDEX(HorairesMarais!A:A,MATCH(A14&" | high | 1",HorairesMarais!F:F,0)) -> 61 | D14: =IFERROR(INDEX(HorairesMarais!G:G,MATCH(A14&" | high | 2",HorairesMarais!F:F,0)),"--:--") -> 15:51 | E14: =IFERROR(INDEX(HorairesMarais!A:A,MATCH(A14&" | high | 2",HorairesMarais!F:F,0)),"---") -> 68 | F14: =INDEX(HorairesMarais!G:G,MATCH(A14&" | low | 1",HorairesMarais!F:F,0)) -> 09:25 | G14: =IFERROR(INDEX(HorairesMarais!G:G,MATCH(A14&" | low | 2",HorairesMarais!F:F,0)),"--:--") -> 21:37
A15: 45728 | B15: =INDEX(HorairesMarais!G:G,MATCH(A15&" | high | 1",HorairesMarais!F:F,0)) -> 04:03 | C15: =INDEX(HorairesMarais!A:A,MATCH(A15&" | high | 1",HorairesMarais!F:F,0)) -> 73 | D15: =IFERROR(INDEX(HorairesMarais!G:G,MATCH(A15&" | high | 2",HorairesMarais!F:F,0)),"--:--") -> 16:24 | E15: =IFERROR(INDEX(HorairesMarais!A:A,MATCH(A15&" | high | 2",HorairesMarais!F:F,0)),"---") -> 78 | F15: =INDEX(HorairesMarais!G:G,MATCH(A15&" | low | 1",HorairesMarais!F:F,0)) -> 10:07 | G15: =IFERROR(INDEX(HorairesMarais!G:G,MATCH(A15&" | low | 2",HorairesMarais!F:F,0)),"--:--") -> 22:18
... A34: 45747 | B34: =INDEX(HorairesMarais!G:G,MATCH(A34&" | high | 1",HorairesMarais!F:F,0)) -> 07:03 | C34: =INDEX(HorairesMarais!A:A,MATCH(A34&" | high | 1",HorairesMarais!F:F,0)) -> 114 | D34: =IFERROR(INDEX(HorairesMarais!G:G,MATCH(A34&" | high | 2",HorairesMarais!F:F,0)),"--:--") -> 19:23 | E34: =IFERROR(INDEX(HorairesMarais!A:A,MATCH(A34&" | high | 2",HorairesMarais!F:F,0)),"---") -> 111 | F34: =INDEX(HorairesMarais!G:G,MATCH(A34&" | low | 1",HorairesMarais!F:F,0)) -> 00:54 | G34: =IFERROR(INDEX(HorairesMarais!G:G,MATCH(A34&" | low | 2",HorairesMarais!F:F,0)),"--:--") -> 13:14

Sheet avril
B2: Pleines mers | F2: Basses mers
B3: Heure | C3: Coefficient | D3: Heure | E3: Coefficient | F3: Heure | G3: Heure
A4: 45748 | B4: =INDEX(HorairesMarais!G:G,MATCH(A4&" | high | 1",HorairesMarais!F:F,0)) -> 07:47 | C4: =INDEX(HorairesMarais!A:A,MATCH(A4&" | high | 1",HorairesMarais!F:F,0)) -> 107 | D4: =IFERROR(INDEX(HorairesMarais!G:G,MATCH(A4&" | high | 2",HorairesMarais!F:F,0)),"--:--") -> 20:05 | E4: =IFERROR(INDEX(HorairesMarais!A:A,MATCH(A4&" | high | 2",HorairesMarais!F:F,0)),"---") -> 102 | F4: =INDEX(HorairesMarais!G:G,MATCH(A4&" | low | 1",HorairesMarais!F:F,0)) -> 01:35 | G4: =IFERROR(INDEX(HorairesMarais!G:G,MATCH(A4&" | low | 2",HorairesMarais!F:F,0)),"--:--") -> 13:54
A5: 45749 | B5: =INDEX(HorairesMarais!G:G,MATCH(A5&" | high | 1",HorairesMarais!F:F,0)) -> 08:33 | C5: =INDEX(HorairesMarais!A:A,MATCH(A5&" | high | 1",HorairesMarais!F:F,0)) -> 95 | D5: =IFERROR(INDEX(HorairesMarais!G:G,MATCH(A5&" | high | 2",HorairesMarais!F:F,0)),"--:--") -> 20:49 | E5: =IFERROR(INDEX(HorairesMarais!A:A,MATCH(A5&" | high | 2",HorairesMarais!F:F,0)),"---") -> 87 | F5: =INDEX(HorairesMarais!G:G,MATCH(A5&" | low | 1",HorairesMarais!F:F,0)) -> 02:16 | G5: =IFERROR(INDEX(HorairesMarais!G:G,MATCH(A5&" | low | 2",HorairesMarais!F:F,0)),"--:--") -> 14:34
A6: 45750 | B6: =INDEX(HorairesMarais!G:G,MATCH(A6&" | high | 1",HorairesMarais!F:F,0)) -> 09:23 | C6: =INDEX(HorairesMarais!A:A,MATCH(A6&" | high | 1",HorairesMarais!F:F,0)) -> 77 | D6: =IFERROR(INDEX(HorairesMarais!G:G,MATCH(A6&" | high | 2",HorairesMarais!F:F,0)),"--:--") -> 21:40 | E6: =IFERROR(INDEX(HorairesMarais!A:A,MATCH(A6&" | high | 2",HorairesMarais!F:F,0)),"---") -> 68 | F6: =INDEX(HorairesMarais!G:G,MATCH(A6&" | low | 1",HorairesMarais!F:F,0)) -> 03:00 | G6: =IFERROR(INDEX(HorairesMarais!G:G,MATCH(A6&" | low | 2",HorairesMarais!F:F,0)),"--:--") -> 15:18
A7: 45751 | B7: =INDEX(HorairesMarais!G:G,MATCH(A7&" | high | 1",HorairesMarais!F:F,0)) -> 10:26 | C7: =INDEX(HorairesMarais!A:A,MATCH(A7&" | high | 1",HorairesMarais!F:F,0)) -> 58 | D7: =IFERROR(INDEX(HorairesMarais!G:G,MATCH(A7&" | high | 2",HorairesMarais!F:F,0)),"--:--") -> 22:49 | E7: =IFERROR(INDEX(HorairesMarais!A:A,MATCH(A7&" | high | 2",HorairesMarais!F:F,0)),"---") -> 50 | F7: =INDEX(HorairesMarais!G:G,MATCH(A7&" | low | 1",HorairesMarais!F:F,0)) -> 03:51 | G7: =IFERROR(INDEX(HorairesMarais!G:G,MATCH(A7&" | low | 2",HorairesMarais!F:F,0)),"--:--") -> 16:11
A8: 45752 | B8: =INDEX(HorairesMarais!G:G,MATCH(A8&" | high | 1",HorairesMarais!F:F,0)) -> 12:02 | C8: =INDEX(HorairesMarais!A:A,MATCH(A8&" | high | 1",HorairesMarais!F:F,0)) -> 42 | D8: =IFERROR(INDEX(HorairesMarais!G:G,MATCH(A8&" | high | 2",HorairesMarais!F:F,0)),"--:--") -> --:-- | E8: =IFERROR(INDEX(HorairesMarais!A:A,MATCH(A8&" | high | 2",HorairesMarais!F:F,0)),"---") -> --- | F8: =INDEX(HorairesMarais!G:G,MATCH(A8&" | low | 1",HorairesMarais!F:F,0)) -> 04:55 | G8: =IFERROR(INDEX(HorairesMarais!G:G,MATCH(A8&" | low | 2",HorairesMarais!F:F,0)),"--:--") -> 17:23
A9: 45753 | B9: =INDEX(HorairesMarais!G:G,MATCH(A9&" | high | 1",HorairesMarais!F:F,0)) -> 00:36 | C9: =INDEX(HorairesMarais!A:A,MATCH(A9&" | high | 1",HorairesMarais!F:F,0)) -> 37 | D9: =IFERROR(INDEX(HorairesMarais!G:G,MATCH(A9&" | high | 2",HorairesMarais!F:F,0)),"--:--") -> 13:41 | E9: =IFERROR(INDEX(HorairesMarais!A:A,MATCH(A9&" | high | 2",HorairesMarais!F:F,0)),"---") -> 35 | F9: =INDEX(HorairesMarais!G:G,MATCH(A9&" | low | 1",HorairesMarais!F:F,0)) -> 06:27 | G9: =IFERROR(INDEX(HorairesMarais!G:G,MATCH(A9&" | low | 2",HorairesMarais!F:F,0)),"--:--") -> 18:59
A10: 45754 | B10: =INDEX(HorairesMarais!G:G,MATCH(A10&" | high | 1",HorairesMarais!F:F,0)) -> 02:06 | C10: =INDEX(HorairesMarais!A:A,MATCH(A10&" | high | 1",HorairesMarais!F:F,0)) -> 37 | D10: =IFERROR(INDEX(HorairesMarais!G:G,MATCH(A10&" | high | 2",HorairesMarais!F:F,0)),"--:--") -> 14:54 | E10: =IFERROR(INDEX(HorairesMarais!A:A,MATCH(A10&" | high | 2",HorairesMarais!F:F,0)),"---") -> 42 | F10: =INDEX(HorairesMarais!G:G,MATCH(A10&" | low | 1",HorairesMarais!F:F,0)) -> 08:00 | G10: =IFERROR(INDEX(HorairesMarais!G:G,MATCH(A10&" | low | 2",HorairesMarais!F:F,0)),"--:--") -> 20:22
A11: 45755 | B11: =INDEX(HorairesMarais!G:G,MATCH(A11&" | high | 1",HorairesMarais!F:F,0)) -> 03:12 | C11: =INDEX(HorairesMarais!A:A,MATCH(A11&" | high | 1",HorairesMarais!F:F,0)) -> 47 | D11: =IFERROR(INDEX(HorairesMarais!G:G,MATCH(A11&" | high | 2",HorairesMarais!F:F,0)),"--:--") -> 15:46 | E11: =IFERROR(INDEX(HorairesMarais!A:A,MATCH(A11&" | high | 2",HorairesMarais!F:F,0)),"---") -> 54 | F11: =INDEX(HorairesMarais!G:G,MATCH(A11&" | low | 1",HorairesMarais!F:F,0)) -> 09:07 | G11: =IFERROR(INDEX(HorairesMarais!G:G,MATCH(A11&" | low | 2",HorairesMarais!F:F,0)),"--:--") -> 21:22
A12: 45756 | B12: =INDEX(HorairesMarais!G:G,MATCH(A12&" | high | 1",HorairesMarais!F:F,0)) -> 04:00 | C12: =INDEX(HorairesMarais!A:A,MATCH(A12&" | high | 1",HorairesMarais!F:F,0)) -> 59 | D12: =IFERROR(INDEX(HorairesMarais!G:G,MATCH(A12&" | high | 2",HorairesMarais!F:F,0)),"--:--") -> 16:23 | E12: =IFERROR(INDEX(HorairesMarais!A:A,MATCH(A12&" | high | 2",HorairesMarais!F:F,0)),"---") -> 65 | F12: =INDEX(HorairesMarais!G:G,MATCH(A12&" | low | 1",HorairesMarais!F:F,0)) -> 09:56 | G12: =IFERROR(INDEX(HorairesMarais!G:G,MATCH(A12&" | low | 2",HorairesMarais!F:F,0)),"--:--") -> 22:09
A13: 45757 | B13: =INDEX(HorairesMarais!G:G,MATCH(A13&" | high | 1",HorairesMarais!F:F,0)) -> 04:37 | C13: =INDEX(HorairesMarais!A:A,MATCH(A13&" | high | 1",HorairesMarais!F:F,0)) -> 70 | D13: =IFERROR(INDEX(HorairesMarais!G:G,MATCH(A13&" | high | 2",HorairesMarais!F:F,0)),"--:--") -> 16:54 | E13: =IFERROR(INDEX(HorairesMarais!A:A,MATCH(A13&" | high | 2",HorairesMarais!F:F,0)),"---") -> 74 | F13: =INDEX(HorairesMarais!G:G,MATCH(A13&" | low | 1",HorairesMarais!F:F,0)) -> 10:37 | G13: =IFERROR(INDEX(HorairesMarais!G:G,MATCH(A13&" | low | 2",HorairesMarais!F:F,0)),"--:--") -> 22:49
A14: 45758 | B14: =INDEX(HorairesMarais!G:G,MATCH(A14&" | high | 1",HorairesMarais!F:F,0)) -> 05:07 | C14: =INDEX(HorairesMarais!A:A,MATCH(A14&" | high | 1",HorairesMarais!F:F,0)) -> 78 | D14: =IFERROR(INDEX(HorairesMarais!G:G,MATCH(A14&" | high | 2",HorairesMarais!F:F,0)),"--:--") -> 17:21 | E14: =IFERROR(INDEX(HorairesMarais!A:A,MATCH(A14&" | high | 2",HorairesMarais!F:F,0)),"---") -> 81 | F14: =INDEX(HorairesMarais!G:G,MATCH(A14&" | low | 1",HorairesMarais!F:F,0)) -> 11:13 | G14: =IFERROR(INDEX(HorairesMarais!G:G,MATCH(A14&" | low | 2",HorairesMarais!F:F,0)),"--:--") -> 23:24
A15: 45759 | B15: =INDEX(HorairesMarais!G:G,MATCH(A15&" | high | 1",HorairesMarais!F:F,0)) -> 05:34 | C15: =INDEX(HorairesMarais!A:A,MATCH(A15&" | high | 1",HorairesMarais!F:F,0)) -> 83 | D15: =IFERROR(INDEX(HorairesMarais!G:G,MATCH(A15&" | high | 2",HorairesMarais!F:F,0)),"--:--") -> 17:47 | E15: =IFERROR(INDEX(HorairesMarais!A:A,MATCH(A15&" | high | 2",HorairesMarais!F:F,0)),"---") -> 84 | F15: =INDEX(HorairesMarais!G:G,MATCH(A15&" | low | 1",HorairesMarais!F:F,0)) -> 11:45 | G15: =IFERROR(INDEX(HorairesMarais!G:G,MATCH(A15&" | low | 2",HorairesMarais!F:F,0)),"--:--") -> 23:56
... A33: 45777 | B33: =INDEX(HorairesMarais!G:G,MATCH(A33&" | high | 1",HorairesMarais!F:F,0)) -> 07:31 | C33: =INDEX(HorairesMarais!A:A,MATCH(A33&" | high | 1",HorairesMarais!F:F,0)) -> 101 | D33: =IFERROR(INDEX(HorairesMarais!G:G,MATCH(A33&" | high | 2",HorairesMarais!F:F,0)),"--:--") -> 19:49 | E33: =IFERROR(INDEX(HorairesMarais!A:A,MATCH(A33&" | high | 2",HorairesMarais!F:F,0)),"---") -> 96 | F33: =INDEX(HorairesMarais!G:G,MATCH(A33&" | low | 1",HorairesMarais!F:F,0)) -> 01:14 | G33: =IFERROR(INDEX(HorairesMarais!G:G,MATCH(A33&" | low | 2",HorairesMarais!F:F,0)),"--:--") -> 13:31

Sheet mai
B2: Pleines mers | F2: Basses mers
B3: Heure | C3: Coefficient | D3: Heure | E3: Coefficient | F3: Heure | G3: Heure
A4: 45778 | B4: =INDEX(HorairesMarais!G:G,MATCH(A4&" | high | 1",HorairesMarais!F:F,0)) -> 08:21 | C4: =INDEX(HorairesMarais!A:A,MATCH(A4&" | high | 1",HorairesMarais!F:F,0)) -> 89 | D4: =IFERROR(INDEX(HorairesMarais!G:G,MATCH(A4&" | high | 2",HorairesMarais!F:F,0)),"--:--") -> 20:37 | E4: =IFERROR(INDEX(HorairesMarais!A:A,MATCH(A4&" | high | 2",HorairesMarais!F:F,0)),"---") -> 82 | F4: =INDEX(HorairesMarais!G:G,MATCH(A4&" | low | 1",HorairesMarais!F:F,0)) -> 01:59 | G4: =IFERROR(INDEX(HorairesMarais!G:G,MATCH(A4&" | low | 2",HorairesMarais!F:F,0)),"--:--") -> 14:14
A5: 45779 | B5: =INDEX(HorairesMarais!G:G,MATCH(A5&" | high | 1",HorairesMarais!F:F,0)) -> 09:14 | C5: =INDEX(HorairesMarais!A:A,MATCH(A5&" | high | 1",HorairesMarais!F:F,0)) -> 74 | D5: =IFERROR(INDEX(HorairesMarais!G:G,MATCH(A5&" | high | 2",HorairesMarais!F:F,0)),"--:--") -> 21:32 | E5: =IFERROR(INDEX(HorairesMarais!A:A,MATCH(A5&" | high | 2",HorairesMarais!F:F,0)),"---") -> 66 | F5: =INDEX(HorairesMarais!G:G,MATCH(A5&" | low | 1",HorairesMarais!F:F,0)) -> 02:46 | G5: =IFERROR(INDEX(HorairesMarais!G:G,MATCH(A5&" | low | 2",HorairesMarais!F:F,0)),"--:--") -> 15:01
A6: 45780 | B6: =INDEX(HorairesMarais!G:G,MATCH(A6&" | high | 1",HorairesMarais!F:F,0)) -> 10:19 | C6: =INDEX(HorairesMarais!A:A,MATCH(A6&" | high | 1",HorairesMarais!F:F,0)) -> 58 | D6: =IFERROR(INDEX(HorairesMarais!G:G,MATCH(A6&" | high | 2",HorairesMarais!F:F,0)),"--:--") -> 22:40 | E6: =IFERROR(INDEX(HorairesMarais!A:A,MATCH(A6&" | high | 2",HorairesMarais!F:F,0)),"---") -> 51 | F6: =INDEX(HorairesMarais!G:G,MATCH(A6&" | low | 1",HorairesMarais!F:F,0)) -> 03:38 | G6: =IFERROR(INDEX(HorairesMarais!G:G,MATCH(A6&" | low | 2",HorairesMarais!F:F,0)),"--:--") -> 15:55
A7: 45781 | B7: =INDEX(HorairesMarais!G:G,MATCH(A7&" | high | 1",HorairesMarais!F:F,0)) -> 11:42 | C7: =INDEX(HorairesMarais!A:A,MATCH(A7&" | high | 1",HorairesMarais!F:F,0)) -> 45 | D7: =IFERROR(INDEX(HorairesMarais!G:G,MATCH(A7&" | high | 2",HorairesMarais!F:F,0)),"--:--") -> --:-- | E7: =IFERROR(INDEX(HorairesMarais!A:A,MATCH(A7&" | high | 2",HorairesMarais!F:F,0)),"---") -> --- | F7: =INDEX(HorairesMarais!G:G,MATCH(A7&" | low | 1",HorairesMarais!F:F,0)) -> 04:40 | G7: =IFERROR(INDEX(HorairesMarais!G:G,MATCH(A7&" | low | 2",HorairesMarais!F:F,0)),"--:--") -> 17:03
A8: 45782 | B8: =INDEX(HorairesMarais!G:G,MATCH(A8&" | high | 1",HorairesMarais!F:F,0)) -> 00:05 | C8: =INDEX(HorairesMarais!A:A,MATCH(A8&" | high | 1",HorairesMarais!F:F,0)) -> 42 | D8: =IFERROR(INDEX(HorairesMarais!G:G,MATCH(A8&" | high | 2",HorairesMarais!F:F,0)),"--:--") -> 13:04 | E8: =IFERROR(INDEX(HorairesMarais!A:A,MATCH(A8&" | high | 2",HorairesMarais!F:F,0)),"---") -> 40 | F8: =INDEX(HorairesMarais!G:G,MATCH(A8&" | low | 1",HorairesMarais!F:F,0)) -> 05:59 | G8: =IFERROR(INDEX(HorairesMarais!G:G,MATCH(A8&" | low | 2",HorairesMarais!F:F,0)),"--:--") -> 18:24
A9: 45783 | B9: =INDEX(HorairesMarais!G:G,MATCH(A9&" | high | 1",HorairesMarais!F:F,0)) -> 01:24 | C9: =INDEX(HorairesMarais!A:A,MATCH(A9&" | high | 1",HorairesMarais!F:F,0)) -> 40 | D9: =IFERROR(INDEX(HorairesMarais!G:G,MATCH(A9&" | high | 2",HorairesMarais!F:F,0)),"--:--") -> 14:11 | E9: =IFERROR(INDEX(HorairesMarais!A:A,MATCH(A9&" | high | 2",HorairesMarais!F:F,0)),"---") -> 43 | F9: =INDEX(HorairesMarais!G:G,MATCH(A9&" | low | 1",HorairesMarais!F:F,0)) -> 07:18 | G9: =IFERROR(INDEX(HorairesMarais!G:G,MATCH(A9&" | low | 2",HorairesMarais!F:F,0)),"--:--") -> 19:39
A10: 45784 | B10: =INDEX(HorairesMarais!G:G,MATCH(A10&" | high | 1",HorairesMarais!F:F,0)) -> 02:29 | C10: =INDEX(HorairesMarais!A:A,MATCH(A10&" | high | 1",HorairesMarais!F:F,0)) -> 46 | D10: =IFERROR(INDEX(HorairesMarais!G:G,MATCH(A10&" | high | 2",HorairesMarais!F:F,0)),"--:--") -> 15:03 | E10: =IFERROR(INDEX(HorairesMarais!A:A,MATCH(A10&" | high | 2",HorairesMarais!F:F,0)),"---") -> 50 | F10: =INDEX(HorairesMarais!G:G,MATCH(A10&" | low | 1",HorairesMarais!F:F,0)) -> 08:23 | G10: =IFERROR(INDEX(HorairesMarais!G:G,MATCH(A10&" | low | 2",HorairesMarais!F:F,0)),"--:--") -> 20:40
A11: 45785 | B11: =INDEX(HorairesMarais!G:G,MATCH(A11&" | high | 1",HorairesMarais!F:F,0)) -> 03:20 | C11: =INDEX(HorairesMarais!A:A,MATCH(A11&" | high | 1",HorairesMarais!F:F,0)) -> 54 | D11: =IFERROR(INDEX(HorairesMarais!G:G,MATCH(A11&" | high | 2",HorairesMarais!F:F,0)),"--:--") -> 15:43 | E11: =IFERROR(INDEX(HorairesMarais!A:A,MATCH(A11&" | high | 2",HorairesMarais!F:F,0)),"---") -> 58 | F11: =INDEX(HorairesMarais!G:G,MATCH(A11&" | low | 1",HorairesMarais!F:F,0)) -> 09:15 | G11: =IFERROR(INDEX(HorairesMarais!G:G,MATCH(A11&" | low | 2",HorairesMarais!F:F,0)),"--:--") -> 21:30
A12: 45786 | B12: =INDEX(HorairesMarais!G:G,MATCH(A12&" | high | 1",HorairesMarais!F:F,0)) -> 03:59 | C12: =INDEX(HorairesMarais!A:A,MATCH(A12&" | high | 1",HorairesMarais!F:F,0)) -> 62 | D12: =IFERROR(INDEX(HorairesMarais!G:G,MATCH(A12&" | high | 2",HorairesMarais!F:F,0)),"--:--") -> 16:16 | E12: =IFERROR(INDEX(HorairesMarais!A:A,MATCH(A12&" | high | 2",HorairesMarais!F:F,0)),"---") -> 65 | F12: =INDEX(HorairesMarais!G:G,MATCH(A12&" | low | 1",HorairesMarais!F:F,0)) -> 09:58 | G12: =IFERROR(INDEX(HorairesMarais!G:G,MATCH(A12&" | low | 2",HorairesMarais!F:F,0)),"--:--") -> 22:12
A13: 45787 | B13: =INDEX(HorairesMarais!G:G,MATCH(A13&" | high | 1",HorairesMarais!F:F,0)) -> 04:32 | C13: =INDEX(HorairesMarais!A:A,MATCH(A13&" | high | 1",HorairesMarais!F:F,0)) -> 68 | D13: =IFERROR(INDEX(HorairesMarais!G:G,MATCH(A13&" | high | 2",HorairesMarais!F:F,0)),"--:--") -> 16:45 | E13: =IFERROR(INDEX(HorairesMarais!A:A,MATCH(A13&" | high | 2",HorairesMarais!F:F,0)),"---") -> 71 | F13: =INDEX(HorairesMarais!G:G,MATCH(A13&" | low | 1",HorairesMarais!F:F,0)) -> 10:35 | G13: =IFERROR(INDEX(HorairesMarais!G:G,MATCH(A13&" | low | 2",HorairesMarais!F:F,0)),"--:--") -> 22:49
A14: 45788 | B14: =INDEX(HorairesMarais!G:G,MATCH(A14&" | high | 1",HorairesMarais!F:F,0)) -> 05:03 | C14: =INDEX(HorairesMarais!A:A,MATCH(A14&" | high | 1",HorairesMarais!F:F,0)) -> 73 | D14: =IFERROR(INDEX(HorairesMarais!G:G,MATCH(A14&" | high | 2",HorairesMarais!F:F,0)),"--:--") -> 17:15 | E14: =IFERROR(INDEX(HorairesMarais!A:A,MATCH(A14&" | high | 2",HorairesMarais!F:F,0)),"---") -> 75 | F14: =INDEX(HorairesMarais!G:G,MATCH(A14&" | low | 1",HorairesMarais!F:F,0)) -> 11:09 | G14: =IFERROR(INDEX(HorairesMarais!G:G,MATCH(A14&" | low | 2",HorairesMarais!F:F,0)),"--:--") -> 23:23
A15: 45789 | B15: =INDEX(HorairesMarais!G:G,MATCH(A15&" | high | 1",HorairesMarais!F:F,0)) -> 05:34 | C15: =INDEX(HorairesMarais!A:A,MATCH(A15&" | high | 1",HorairesMarais!F:F,0)) -> 76 | D15: =IFERROR(INDEX(HorairesMarais!G:G,MATCH(A15&" | high | 2",HorairesMarais!F:F,0)),"--:--") -> 17:46 | E15: =IFERROR(INDEX(HorairesMarais!A:A,MATCH(A15&" | high | 2",HorairesMarais!F:F,0)),"---") -> 76 | F15: =INDEX(HorairesMarais!G:G,MATCH(A15&" | low | 1",HorairesMarais!F:F,0)) -> 11:40 | G15: =IFERROR(INDEX(HorairesMarais!G:G,MATCH(A15&" | low | 2",HorairesMarais!F:F,0)),"--:--") -> 23:55
... A34: 45808 | B34: =INDEX(HorairesMarais!G:G,MATCH(A34&" | high | 1",HorairesMarais!F:F,0)) -> 09:04 | C34: =INDEX(HorairesMarais!A:A,MATCH(A34&" | high | 1",HorairesMarais!F:F,0)) -> 74 | D34: =IFERROR(INDEX(HorairesMarais!G:G,MATCH(A34&" | high | 2",HorairesMarais!F:F,0)),"--:--") -> 21:21 | E34: =IFERROR(INDEX(HorairesMarais!A:A,MATCH(A34&" | high | 2",HorairesMarais!F:F,0)),"---") -> 69 | F34: =INDEX(HorairesMarais!G:G,MATCH(A34&" | low | 1",HorairesMarais!F:F,0)) -> 02:35 | G34: =IFERROR(INDEX(HorairesMarais!G:G,MATCH(A34&" | low | 2",HorairesMarais!F:F,0)),"--:--") -> 14:47

Sheet juin
B2: Pleines mers | F2: Basses mers
B3: Heure | C3: Coefficient | D3: Heure | E3: Coefficient | F3: Heure | G3: Heure
A4: 45809 | B4: =INDEX(HorairesMarais!G:G,MATCH(A4&" | high | 1",HorairesMarais!F:F,0)) -> 09:59 | C4: =INDEX(HorairesMarais!A:A,MATCH(A4&" | high | 1",HorairesMarais!F:F,0)) -> 63 | D4: =IFERROR(INDEX(HorairesMarais!G:G,MATCH(A4&" | high | 2",HorairesMarais!F:F,0)),"--:--") -> 22:17 | E4: =IFERROR(INDEX(HorairesMarais!A:A,MATCH(A4&" | high | 2",HorairesMarais!F:F,0)),"---") -> 58 | F4: =INDEX(HorairesMarais!G:G,MATCH(A4&" | low | 1",HorairesMarais!F:F,0)) -> 03:25 | G4: =IFERROR(INDEX(HorairesMarais!G:G,MATCH(A4&" | low | 2",HorairesMarais!F:F,0)),"--:--") -> 15:38
A5: 45810 | B5: =INDEX(HorairesMarais!G:G,MATCH(A5&" | high | 1",HorairesMarais!F:F,0)) -> 10:59 | C5: =INDEX(HorairesMarais!A:A,MATCH(A5&" | high | 1",HorairesMarais!F:F,0)) -> 53 | D5: =IFERROR(INDEX(HorairesMarais!G:G,MATCH(A5&" | high | 2",HorairesMarais!F:F,0)),"--:--") -> 23:18 | E5: =IFERROR(INDEX(HorairesMarais!A:A,MATCH(A5&" | high | 2",HorairesMarais!F:F,0)),"---") -> 49 | F5: =INDEX(HorairesMarais!G:G,MATCH(A5&" | low | 1",HorairesMarais!F:F,0)) -> 04:18 | G5: =IFERROR(INDEX(HorairesMarais!G:G,MATCH(A5&" | low | 2",HorairesMarais!F:F,0)),"--:--") -> 16:34
A6: 45811 | B6: =INDEX(HorairesMarais!G:G,MATCH(A6&" | high | 1",HorairesMarais!F:F,0)) -> 12:02 | C6: =INDEX(HorairesMarais!A:A,MATCH(A6&" | high | 1",HorairesMarais!F:F,0)) -> 46 | D6: =IFERROR(INDEX(HorairesMarais!G:G,MATCH(A6&" | high | 2",HorairesMarais!F:F,0)),"--:--") -> --:-- | E6: =IFERROR(INDEX(HorairesMarais!A:A,MATCH(A6&" | high | 2",HorairesMarais!F:F,0)),"---") -> --- | F6: =INDEX(HorairesMarais!G:G,MATCH(A6&" | low | 1",HorairesMarais!F:F,0)) -> 05:18 | G6: =IFERROR(INDEX(HorairesMarais!G:G,MATCH(A6&" | low | 2",HorairesMarais!F:F,0)),"--:--") -> 17:38
A7: 45812 | B7: =INDEX(HorairesMarais!G:G,MATCH(A7&" | high | 1",HorairesMarais!F:F,0)) -> 00:21 | C7: =INDEX(HorairesMarais!A:A,MATCH(A7&" | high | 1",HorairesMarais!F:F,0)) -> 44 | D7: =IFERROR(INDEX(HorairesMarais!G:G,MATCH(A7&" | high | 2",HorairesMarais!F:F,0)),"--:--") -> 13:05 | E7: =IFERROR(INDEX(HorairesMarais!A:A,MATCH(A7&" | high | 2",HorairesMarais!F:F,0)),"---") -> 43 | F7: =INDEX(HorairesMarais!G:G,MATCH(A7&" | low | 1",HorairesMarais!F:F,0)) -> 06:21 | G7: =IFERROR(INDEX(HorairesMarais!G:G,MATCH(A7&" | low | 2",HorairesMarais!F:F,0)),"--:--") -> 18:43
A8: 45813 | B8: =INDEX(HorairesMarais!G:G,MATCH(A8&" | high | 1",HorairesMarais!F:F,0)) -> 01:22 | C8: =INDEX(HorairesMarais!A:A,MATCH(A8&" | high | 1",HorairesMarais!F:F,0)) -> 43 | D8: =IFERROR(INDEX(HorairesMarais!G:G,MATCH(A8&" | high | 2",HorairesMarais!F:F,0)),"--:--") -> 14:02 | E8: =IFERROR(INDEX(HorairesMarais!A:A,MATCH(A8&" | high | 2",HorairesMarais!F:F,0)),"---") -> 44 | F8: =INDEX(HorairesMarais!G:G,MATCH(A8&" | low | 1",HorairesMarais!F:F,0)) -> 07:24 | G8: =IFERROR(INDEX(HorairesMarais!G:G,MATCH(A8&" | low | 2",HorairesMarais!F:F,0)),"--:--") -> 19:45
A9: 45814 | B9: =INDEX(HorairesMarais!G:G,MATCH(A9&" | high | 1",HorairesMarais!F:F,0)) -> 02:21 | C9: =INDEX(HorairesMarais!A:A,MATCH(A9&" | high | 1",HorairesMarais!F:F,0)) -> 46 | D9: =IFERROR(INDEX(HorairesMarais!G:G,MATCH(A9&" | high | 2",HorairesMarais!F:F,0)),"--:--") -> 14:52 | E9: =IFERROR(INDEX(HorairesMarais!A:A,MATCH(A9&" | high | 2",HorairesMarais!F:F,0)),"---") -> 48 | F9: =INDEX(HorairesMarais!G:G,MATCH(A9&" | low | 1",HorairesMarais!F:F,0)) -> 08:22 | G9: =IFERROR(INDEX(HorairesMarais!G:G,MATCH(A9&" | low | 2",HorairesMarais!F:F,0)),"--:--") -> 20:40
A10: 45815 | B10: =INDEX(HorairesMarais!G:G,MATCH(A10&" | high | 1",HorairesMarais!F:F,0)) -> 03:11 | C10: =INDEX(HorairesMarais!A:A,MATCH(A10&" | high | 1",HorairesMarais!F:F,0)) -> 51 | D10: =IFERROR(INDEX(HorairesMarais!G:G,MATCH(A10&" | high | 2",HorairesMarais!F:F,0)),"--:--") -> 15:34 | E10: =IFERROR(INDEX(HorairesMarais!A:A,MATCH(A10&" | high | 2",HorairesMarais!F:F,0)),"---") -> 53 | F10: =INDEX(HorairesMarais!G:G,MATCH(A10&" | low | 1",HorairesMarais!F:F,0)) -> 09:12 | G10: =IFERROR(INDEX(HorairesMarais!G:G,MATCH(A10&" | low | 2",HorairesMarais!F:F,0)),"--:--") -> 21:30
A11: 45816 | B11: =INDEX(HorairesMarais!G:G,MATCH(A11&" | high | 1",HorairesMarais!F:F,0)) -> 03:55 | C11: =INDEX(HorairesMarais!A:A,MATCH(A11&" | high | 1",HorairesMarais!F:F,0)) -> 56 | D11: =IFERROR(INDEX(HorairesMarais!G:G,MATCH(A11&" | high | 2",HorairesMarais!F:F,0)),"--:--") -> 16:12 | E11: =IFERROR(INDEX(HorairesMarais!A:A,MATCH(A11&" | high | 2",HorairesMarais!F:F,0)),"---") -> 59 | F11: =INDEX(HorairesMarais!G:G,MATCH(A11&" | low | 1",HorairesMarais!F:F,0)) -> 09:56 | G11: =IFERROR(INDEX(HorairesMarais!G:G,MATCH(A11&" | low | 2",HorairesMarais!F:F,0)),"--:--") -> 22:13
A12: 45817 | B12: =INDEX(HorairesMarais!G:G,MATCH(A12&" | high | 1",HorairesMarais!F:F,0)) -> 04:35 | C12: =INDEX(HorairesMarais!A:A,MATCH(A12&" | high | 1",HorairesMarais!F:F,0)) -> 61 | D12: =IFERROR(INDEX(HorairesMarais!G:G,MATCH(A12&" | high | 2",HorairesMarais!F:F,0)),"--:--") -> 16:49 | E12: =IFERROR(INDEX(HorairesMarais!A:A,MATCH(A12&" | high | 2",HorairesMarais!F:F,0)),"---") -> 64 | F12: =INDEX(HorairesMarais!G:G,MATCH(A12&" | low | 1",HorairesMarais!F:F,0)) -> 10:34 | G12: =IFERROR(INDEX(HorairesMarais!G:G,MATCH(A12&" | low | 2",HorairesMarais!F:F,0)),"--:--") -> 22:52
A13: 45818 | B13: =INDEX(HorairesMarais!G:G,MATCH(A13&" | high | 1",HorairesMarais!F:F,0)) -> 05:12 | C13: =INDEX(HorairesMarais!A:A,MATCH(A13&" | high | 1",HorairesMarais!F:F,0)) -> 66 | D13: =IFERROR(INDEX(HorairesMarais!G:G,MATCH(A13&" | high | 2",HorairesMarais!F:F,0)),"--:--") -> 17:25 | E13: =IFERROR(INDEX(HorairesMarais!A:A,MATCH(A13&" | high | 2",HorairesMarais!F:F,0)),"---") -> 67 | F13: =INDEX(HorairesMarais!G:G,MATCH(A13&" | low | 1",HorairesMarais!F:F,0)) -> 11:11 | G13: =IFERROR(INDEX(HorairesMarais!G:G,MATCH(A13&" | low | 2",HorairesMarais!F:F,0)),"--:--") -> 23:30
A14: 45819 | B14: =INDEX(HorairesMarais!G:G,MATCH(A14&" | high | 1",HorairesMarais!F:F,0)) -> 05:49 | C14: =INDEX(HorairesMarais!A:A,MATCH(A14&" | high | 1",HorairesMarais!F:F,0)) -> 69 | D14: =IFERROR(INDEX(HorairesMarais!G:G,MATCH(A14&" | high | 2",HorairesMarais!F:F,0)),"--:--") -> 18:01 | E14: =IFERROR(INDEX(HorairesMarais!A:A,MATCH(A14&" | high | 2",HorairesMarais!F:F,0)),"---") -> 70 | F14: =INDEX(HorairesMarais!G:G,MATCH(A14&" | low | 1",HorairesMarais!F:F,0)) -> 11:46 | G14: =IFERROR(INDEX(HorairesMarais!G:G,MATCH(A14&" | low | 2",HorairesMarais!F:F,0)),"--:--") -> --:--
A15: 45820 | B15: =INDEX(HorairesMarais!G:G,MATCH(A15&" | high | 1",HorairesMarais!F:F,0)) -> 06:25 | C15: =INDEX(HorairesMarais!A:A,MATCH(A15&" | high | 1",HorairesMarais!F:F,0)) -> 71 | D15: =IFERROR(INDEX(HorairesMarais!G:G,MATCH(A15&" | high | 2",HorairesMarais!F:F,0)),"--:--") -> 18:38 | E15: =IFERROR(INDEX(HorairesMarais!A:A,MATCH(A15&" | high | 2",HorairesMarais!F:F,0)),"---") -> 71 | F15: =INDEX(HorairesMarais!G:G,MATCH(A15&" | low | 1",HorairesMarais!F:F,0)) -> 00:08 | G15: =IFERROR(INDEX(HorairesMarais!G:G,MATCH(A15&" | low | 2",HorairesMarais!F:F,0)),"--:--") -> 12:22
... A33: 45838 | B33: =INDEX(HorairesMarais!G:G,MATCH(A33&" | high | 1",HorairesMarais!F:F,0)) -> 09:24 | C33: =INDEX(HorairesMarais!A:A,MATCH(A33&" | high | 1",HorairesMarais!F:F,0)) -> 71 | D33: =IFERROR(INDEX(HorairesMarais!G:G,MATCH(A33&" | high | 2",HorairesMarais!F:F,0)),"--:--") -> 21:40 | E33: =IFERROR(INDEX(HorairesMarais!A:A,MATCH(A33&" | high | 2",HorairesMarais!F:F,0)),"---") -> 67 | F33: =INDEX(HorairesMarais!G:G,MATCH(A33&" | low | 1",HorairesMarais!F:F,0)) -> 03:05 | G33: =IFERROR(INDEX(HorairesMarais!G:G,MATCH(A33&" | low | 2",HorairesMarais!F:F,0)),"--:--") -> 15:15

Sheet juillet
B2: Pleines mers | F2: Basses mers
B3: Heure | C3: Coefficient | D3: Heure | E3: Coefficient | F3: Heure | G3: Heure
A4: 45839 | B4: =INDEX(HorairesMarais!G:G,MATCH(A4&" | high | 1",HorairesMarais!F:F,0)) -> 10:06 | C4: =INDEX(HorairesMarais!A:A,MATCH(A4&" | high | 1",HorairesMarais!F:F,0)) -> 62 | D4: =IFERROR(INDEX(HorairesMarais!G:G,MATCH(A4&" | high | 2",HorairesMarais!F:F,0)),"--:--") -> 22:24 | E4: =IFERROR(INDEX(HorairesMarais!A:A,MATCH(A4&" | high | 2",HorairesMarais!F:F,0)),"---") -> 57 | F4: =INDEX(HorairesMarais!G:G,MATCH(A4&" | low | 1",HorairesMarais!F:F,0)) -> 03:48 | G4: =IFERROR(INDEX(HorairesMarais!G:G,MATCH(A4&" | low | 2",HorairesMarais!F:F,0)),"--:--") -> 16:00
A5: 45840 | B5: =INDEX(HorairesMarais!G:G,MATCH(A5&" | high | 1",HorairesMarais!F:F,0)) -> 10:53 | C5: =INDEX(HorairesMarais!A:A,MATCH(A5&" | high | 1",HorairesMarais!F:F,0)) -> 53 | D5: =IFERROR(INDEX(HorairesMarais!G:G,MATCH(A5&" | high | 2",HorairesMarais!F:F,0)),"--:--") -> 23:13 | E5: =IFERROR(INDEX(HorairesMarais!A:A,MATCH(A5&" | high | 2",HorairesMarais!F:F,0)),"---") -> 49 | F5: =INDEX(HorairesMarais!G:G,MATCH(A5&" | low | 1",HorairesMarais!F:F,0)) -> 04:33 | G5: =IFERROR(INDEX(HorairesMarais!G:G,MATCH(A5&" | low | 2",HorairesMarais!F:F,0)),"--:--") -> 16:49
A6: 45841 | B6: =INDEX(HorairesMarais!G:G,MATCH(A6&" | high | 1",HorairesMarais!F:F,0)) -> 11:48 | C6: =INDEX(HorairesMarais!A:A,MATCH(A6&" | high | 1",HorairesMarais!F:F,0)) -> 45 | D6: =IFERROR(INDEX(HorairesMarais!G:G,MATCH(A6&" | high | 2",HorairesMarais!F:F,0)),"--:--") -> --:-- | E6: =IFERROR(INDEX(HorairesMarais!A:A,MATCH(A6&" | high | 2",HorairesMarais!F:F,0)),"---") -> --- | F6: =INDEX(HorairesMarais!G:G,MATCH(A6&" | low | 1",HorairesMarais!F:F,0)) -> 05:23 | G6: =IFERROR(INDEX(HorairesMarais!G:G,MATCH(A6&" | low | 2",HorairesMarais!F:F,0)),"--:--") -> 17:44
A7: 45842 | B7: =INDEX(HorairesMarais!G:G,MATCH(A7&" | high | 1",HorairesMarais!F:F,0)) -> 00:10 | C7: =INDEX(HorairesMarais!A:A,MATCH(A7&" | high | 1",HorairesMarais!F:F,0)) -> 42 | D7: =IFERROR(INDEX(HorairesMarais!G:G,MATCH(A7&" | high | 2",HorairesMarais!F:F,0)),"--:--") -> 12:50 | E7: =IFERROR(INDEX(HorairesMarais!A:A,MATCH(A7&" | high | 2",HorairesMarais!F:F,0)),"---") -> 39 | F7: =INDEX(HorairesMarais!G:G,MATCH(A7&" | low | 1",HorairesMarais!F:F,0)) -> 06:19 | G7: =IFERROR(INDEX(HorairesMarais!G:G,MATCH(A7&" | low | 2",HorairesMarais!F:F,0)),"--:--") -> 18:45
A8: 45843 | B8: =INDEX(HorairesMarais!G:G,MATCH(A8&" | high | 1",HorairesMarais!F:F,0)) -> 01:12 | C8: =INDEX(HorairesMarais!A:A,MATCH(A8&" | high | 1",HorairesMarais!F:F,0)) -> 38 | D8: =IFERROR(INDEX(HorairesMarais!G:G,MATCH(A8&" | high | 2",HorairesMarais!F:F,0)),"--:--") -> 13:55 | E8: =IFERROR(INDEX(HorairesMarais!A:A,MATCH(A8&" | high | 2",HorairesMarais!F:F,0)),"---") -> 38 | F8: =INDEX(HorairesMarais!G:G,MATCH(A8&" | low | 1",HorairesMarais!F:F,0)) -> 07:21 | G8: =IFERROR(INDEX(HorairesMarais!G:G,MATCH(A8&" | low | 2",HorairesMarais!F:F,0)),"--:--") -> 19:48
A9: 45844 | B9: =INDEX(HorairesMarais!G:G,MATCH(A9&" | high | 1",HorairesMarais!F:F,0)) -> 02:19 | C9: =INDEX(HorairesMarais!A:A,MATCH(A9&" | high | 1",HorairesMarais!F:F,0)) -> 39 | D9: =IFERROR(INDEX(HorairesMarais!G:G,MATCH(A9&" | high | 2",HorairesMarais!F:F,0)),"--:--") -> 14:54 | E9: =IFERROR(INDEX(HorairesMarais!A:A,MATCH(A9&" | high | 2",HorairesMarais!F:F,0)),"---") -> 41 | F9: =INDEX(HorairesMarais!G:G,MATCH(A9&" | low | 1",HorairesMarais!F:F,0)) -> 08:23 | G9: =IFERROR(INDEX(HorairesMarais!G:G,MATCH(A9&" | low | 2",HorairesMarais!F:F,0)),"--:--") -> 20:48
A10: 45845 | B10: =INDEX(HorairesMarais!G:G,MATCH(A10&" | high | 1",HorairesMarais!F:F,0)) -> 03:22 | C10: =INDEX(HorairesMarais!A:A,MATCH(A10&" | high | 1",HorairesMarais!F:F,0)) -> 44 | D10: =IFERROR(INDEX(HorairesMarais!G:G,MATCH(A10&" | high | 2",HorairesMarais!F:F,0)),"--:--") -> 15:45 | E10: =IFERROR(INDEX(HorairesMarais!A:A,MATCH(A10&" | high | 2",HorairesMarais!F:F,0)),"---") -> 47 | F10: =INDEX(HorairesMarais!G:G,MATCH(A10&" | low | 1",HorairesMarais!F:F,0)) -> 09:19 | G10: =IFERROR(INDEX(HorairesMarais!G:G,MATCH(A10&" | low | 2",HorairesMarais!F:F,0)),"--:--") -> 21:42
A11: 45846 | B11: =INDEX(HorairesMarais!G:G,MATCH(A11&" | high | 1",HorairesMarais!F:F,0)) -> 04:13 | C11: =INDEX(HorairesMarais!A:A,MATCH(A11&" | high | 1",HorairesMarais!F:F,0)) -> 50 | D11: =IFERROR(INDEX(HorairesMarais!G:G,MATCH(A11&" | high | 2",HorairesMarais!F:F,0)),"--:--") -> 16:28 | E11: =IFERROR(INDEX(HorairesMarais!A:A,MATCH(A11&" | high | 2",HorairesMarais!F:F,0)),"---") -> 54 | F11: =INDEX(HorairesMarais!G:G,MATCH(A11&" | low | 1",HorairesMarais!F:F,0)) -> 10:07 | G11: =IFERROR(INDEX(HorairesMarais!G:G,MATCH(A11&" | low | 2",HorairesMarais!F:F,0)),"--:--") -> 22:29
A12: 45847 | B12: =INDEX(HorairesMarais!G:G,MATCH(A12&" | high | 1",HorairesMarais!F:F,0)) -> 04:57 | C12: =INDEX(HorairesMarais!A:A,MATCH(A12&" | high | 1",HorairesMarais!F:F,0)) -> 58 | D12: =IFERROR(INDEX(HorairesMarais!G:G,MATCH(A12&" | high | 2",HorairesMarais!F:F,0)),"--:--") -> 17:08 | E12: =IFERROR(INDEX(HorairesMarais!A:A,MATCH(A12&" | high | 2",HorairesMarais!F:F,0)),"---") -> 62 | F12: =INDEX(HorairesMarais!G:G,MATCH(A12&" | low | 1",HorairesMarais!F:F,0)) -> 10:50 | G12: =IFERROR(INDEX(HorairesMarais!G:G,MATCH(A12&" | low | 2",HorairesMarais!F:F,0)),"--:--") -> 23:13
A13: 45848 | B13: =INDEX(HorairesMarais!G:G,MATCH(A13&" | high | 1",HorairesMarais!F:F,0)) -> 05:36 | C13: =INDEX(HorairesMarais!A:A,MATCH(A13&" | high | 1",HorairesMarais!F:F,0)) -> 65 | D13: =IFERROR(INDEX(HorairesMarais!G:G,MATCH(A13&" | high | 2",HorairesMarais!F:F,0)),"--:--") -> 17:47 | E13: =IFERROR(INDEX(HorairesMarais!A:A,MATCH(A13&" | high | 2",HorairesMarais!F:F,0)),"---") -> 68 | F13: =INDEX(HorairesMarais!G:G,MATCH(A13&" | low | 1",HorairesMarais!F:F,0)) -> 11:30 | G13: =IFERROR(INDEX(HorairesMarais!G:G,MATCH(A13&" | low | 2",HorairesMarais!F:F,0)),"--:--") -> 23:55
A14: 45849 | B14: =INDEX(HorairesMarais!G:G,MATCH(A14&" | high | 1",HorairesMarais!F:F,0)) -> 06:13 | C14: =INDEX(HorairesMarais!A:A,MATCH(A14&" | high | 1",HorairesMarais!F:F,0)) -> 71 | D14: =IFERROR(INDEX(HorairesMarais!G:G,MATCH(A14&" | high | 2",HorairesMarais!F:F,0)),"--:--") -> 18:25 | E14: =IFERROR(INDEX(HorairesMarais!A:A,MATCH(A14&" | high | 2",HorairesMarais!F:F,0)),"---") -> 74 | F14: =INDEX(HorairesMarais!G:G,MATCH(A14&" | low | 1",HorairesMarais!F:F,0)) -> 12:10 | G14: =IFERROR(INDEX(HorairesMarais!G:G,MATCH(A14&" | low | 2",HorairesMarais!F:F,0)),"--:--") -> --:--
A15: 45850 | B15: =INDEX(HorairesMarais!G:G,MATCH(A15&" | high | 1",HorairesMarais!F:F,0)) -> 06:50 | C15: =INDEX(HorairesMarais!A:A,MATCH(A15&" | high | 1",HorairesMarais!F:F,0)) -> 76 | D15: =IFERROR(INDEX(HorairesMarais!G:G,MATCH(A15&" | high | 2",HorairesMarais!F:F,0)),"--:--") -> 19:03 | E15: =IFERROR(INDEX(HorairesMarais!A:A,MATCH(A15&" | high | 2",HorairesMarais!F:F,0)),"---") -> 78 | F15: =INDEX(HorairesMarais!G:G,MATCH(A15&" | low | 1",HorairesMarais!F:F,0)) -> 00:35 | G15: =IFERROR(INDEX(HorairesMarais!G:G,MATCH(A15&" | low | 2",HorairesMarais!F:F,0)),"--:--") -> 12:50
... A34: 45869 | B34: =INDEX(HorairesMarais!G:G,MATCH(A34&" | high | 1",HorairesMarais!F:F,0)) -> 09:50 | C34: =INDEX(HorairesMarais!A:A,MATCH(A34&" | high | 1",HorairesMarais!F:F,0)) -> 58 | D34: =IFERROR(INDEX(HorairesMarais!G:G,MATCH(A34&" | high | 2",HorairesMarais!F:F,0)),"--:--") -> 22:10 | E34: =IFERROR(INDEX(HorairesMarais!A:A,MATCH(A34&" | high | 2",HorairesMarais!F:F,0)),"---") -> 53 | F34: =INDEX(HorairesMarais!G:G,MATCH(A34&" | low | 1",HorairesMarais!F:F,0)) -> 03:48 | G34: =IFERROR(INDEX(HorairesMarais!G:G,MATCH(A34&" | low | 2",HorairesMarais!F:F,0)),"--:--") -> 16:00

Sheet août
B2: Pleines mers | F2: Basses mers
B3: Heure | C3: Coefficient | D3: Heure | E3: Coefficient | F3: Heure | G3: Heure
A4: 45870 | B4: =INDEX(HorairesMarais!G:G,MATCH(A4&" | high | 1",HorairesMarais!F:F,0)) -> 10:37 | C4: =INDEX(HorairesMarais!A:A,MATCH(A4&" | high | 1",HorairesMarais!F:F,0)) -> 47 | D4: =IFERROR(INDEX(HorairesMarais!G:G,MATCH(A4&" | high | 2",HorairesMarais!F:F,0)),"--:--") -> 23:01 | E4: =IFERROR(INDEX(HorairesMarais!A:A,MATCH(A4&" | high | 2",HorairesMarais!F:F,0)),"---") -> 42 | F4: =INDEX(HorairesMarais!G:G,MATCH(A4&" | low | 1",HorairesMarais!F:F,0)) -> 04:26 | G4: =IFERROR(INDEX(HorairesMarais!G:G,MATCH(A4&" | low | 2",HorairesMarais!F:F,0)),"--:--") -> 16:45
A5: 45871 | B5: =INDEX(HorairesMarais!G:G,MATCH(A5&" | high | 1",HorairesMarais!F:F,0)) -> 11:41 | C5: =INDEX(HorairesMarais!A:A,MATCH(A5&" | high | 1",HorairesMarais!F:F,0)) -> 37 | D5: =IFERROR(INDEX(HorairesMarais!G:G,MATCH(A5&" | high | 2",HorairesMarais!F:F,0)),"--:--") -> --:-- | E5: =IFERROR(INDEX(HorairesMarais!A:A,MATCH(A5&" | high | 2",HorairesMarais!F:F,0)),"---") -> --- | F5: =INDEX(HorairesMarais!G:G,MATCH(A5&" | low | 1",HorairesMarais!F:F,0)) -> 05:14 | G5: =IFERROR(INDEX(HorairesMarais!G:G,MATCH(A5&" | low | 2",HorairesMarais!F:F,0)),"--:--") -> 17:43
A6: 45872 | B6: =INDEX(HorairesMarais!G:G,MATCH(A6&" | high | 1",HorairesMarais!F:F,0)) -> 00:09 | C6: =INDEX(HorairesMarais!A:A,MATCH(A6&" | high | 1",HorairesMarais!F:F,0)) -> 33 | D6: =IFERROR(INDEX(HorairesMarais!G:G,MATCH(A6&" | high | 2",HorairesMarais!F:F,0)),"--:--") -> 13:00 | E6: =IFERROR(INDEX(HorairesMarais!A:A,MATCH(A6&" | high | 2",HorairesMarais!F:F,0)),"---") -> 30 | F6: =INDEX(HorairesMarais!G:G,MATCH(A6&" | low | 1",HorairesMarais!F:F,0)) -> 06:18 | G6: =IFERROR(INDEX(HorairesMarais!G:G,MATCH(A6&" | low | 2",HorairesMarais!F:F,0)),"--:--") -> 18:58
A7: 45873 | B7: =INDEX(HorairesMarais!G:G,MATCH(A7&" | high | 1",HorairesMarais!F:F,0)) -> 01:33 | C7: =INDEX(HorairesMarais!A:A,MATCH(A7&" | high | 1",HorairesMarais!F:F,0)) -> 29 | D7: =IFERROR(INDEX(HorairesMarais!G:G,MATCH(A7&" | high | 2",HorairesMarais!F:F,0)),"--:--") -> 14:19 | E7: =IFERROR(INDEX(HorairesMarais!A:A,MATCH(A7&" | high | 2",HorairesMarais!F:F,0)),"---") -> 31 | F7: =INDEX(HorairesMarais!G:G,MATCH(A7&" | low | 1",HorairesMarais!F:F,0)) -> 07:36 | G7: =IFERROR(INDEX(HorairesMarais!G:G,MATCH(A7&" | low | 2",HorairesMarais!F:F,0)),"--:--") -> 20:13
A8: 45874 | B8: =INDEX(HorairesMarais!G:G,MATCH(A8&" | high | 1",HorairesMarais!F:F,0)) -> 02:55 | C8: =INDEX(HorairesMarais!A:A,MATCH(A8&" | high | 1",HorairesMarais!F:F,0)) -> 34 | D8: =IFERROR(INDEX(HorairesMarais!G:G,MATCH(A8&" | high | 2",HorairesMarais!F:F,0)),"--:--") -> 15:21 | E8: =IFERROR(INDEX(HorairesMarais!A:A,MATCH(A8&" | high | 2",HorairesMarais!F:F,0)),"---") -> 38 | F8: =INDEX(HorairesMarais!G:G,MATCH(A8&" | low | 1",HorairesMarais!F:F,0)) -> 08:48 | G8: =IFERROR(INDEX(HorairesMarais!G:G,MATCH(A8&" | low | 2",HorairesMarais!F:F,0)),"--:--") -> 21:18
A9: 45875 | B9: =INDEX(HorairesMarais!G:G,MATCH(A9&" | high | 1",HorairesMarais!F:F,0)) -> 03:54 | C9: =INDEX(HorairesMarais!A:A,MATCH(A9&" | high | 1",HorairesMarais!F:F,0)) -> 43 | D9: =IFERROR(INDEX(HorairesMarais!G:G,MATCH(A9&" | high | 2",HorairesMarais!F:F,0)),"--:--") -> 16:08 | E9: =IFERROR(INDEX(HorairesMarais!A:A,MATCH(A9&" | high | 2",HorairesMarais!F:F,0)),"---") -> 49 | F9: =INDEX(HorairesMarais!G:G,MATCH(A9&" | low | 1",HorairesMarais!F:F,0)) -> 09:46 | G9: =IFERROR(INDEX(HorairesMarais!G:G,MATCH(A9&" | low | 2",HorairesMarais!F:F,0)),"--:--") -> 22:11
A10: 45876 | B10: =INDEX(HorairesMarais!G:G,MATCH(A10&" | high | 1",HorairesMarais!F:F,0)) -> 04:39 | C10: =INDEX(HorairesMarais!A:A,MATCH(A10&" | high | 1",HorairesMarais!F:F,0)) -> 55 | D10: =IFERROR(INDEX(HorairesMarais!G:G,MATCH(A10&" | high | 2",HorairesMarais!F:F,0)),"--:--") -> 16:50 | E10: =IFERROR(INDEX(HorairesMarais!A:A,MATCH(A10&" | high | 2",HorairesMarais!F:F,0)),"---") -> 61 | F10: =INDEX(HorairesMarais!G:G,MATCH(A10&" | low | 1",HorairesMarais!F:F,0)) -> 10:33 | G10: =IFERROR(INDEX(HorairesMarais!G:G,MATCH(A10&" | low | 2",HorairesMarais!F:F,0)),"--:--") -> 22:57
