Workbook

Sheet Debug
A1: DASHBOARD PWC
AE2: max | AH2: max | AM2: max | AR2: max
A3: OVERALL PERFORMANCE | B3: EFFECTIVE EXECUTION | C3: MARKET PENETRATION | D3: CUSTOMER ORIENTATION | F3: START TIME | AE3: + 10 Minutes | AH3: +55 minutes | AM3: + 90 Minutes | AR3: +125 Minutes
F4: 0.58194444 | AE4: =$F$4+10/(24*60) -> 0.58888889 | AH4: =$F$4+55/(24*60) -> 0.62013889 | AM4: =$F$4+90/(24*60) -> 0.64444444 | AR4: =$F$4+125/(24*60) -> 0.66875 | AT4: QUIZ ?
AJ5: bug formule à 14:34 et à 14h24 | AO5: 15H10 | AS5: MP CP 3 ?
A6: COHORT NB 1 | G6: =CONCATENATE("COMMON CHECK POINTS"," - """,A6,""""," (Effective Execution)") -> COMMON CHECK POINTS - "COHORT NB 1" (Effective Execution) | AE6: =CONCATENATE("START POINT"," - """,A$6,"""") -> START POINT - "COHORT NB 1" | AH6: =CONCATENATE("CHECK POINT 1"," - """,A$6,"""") -> CHECK POINT 1 - "COHORT NB 1" | AM6: =CONCATENATE("CHECK POINT 2"," - """,A$6,"""") -> CHECK POINT 2 - "COHORT NB 1" | AR6: =CONCATENATE("CHECK POINT 3"," - """,A$6,"""") -> CHECK POINT 3 - "COHORT NB 1" | AU6: =CONCATENATE("CROSS TERRITORY"," ","""",A$6,"""") -> CROSS TERRITORY "COHORT NB 1"
A7: OVERALL PERFORMANCE | B7: EFFECTIVE EXECUTION | C7: MARKET PENETRATION | D7: CUSTOMER ORIENTATION | F7: TEAMS | G7: CO 1 Ranking | H7: CO 1 Points | I7: CO 2 Ranking | J7: CO 2 Points | K7: CO 3 Ranking | L7: CO 3 Points | M7: CO 4 Ranking | N7: CO 4 Points | O7: CO 5 Ranking | P7: CO 5 Points | Q7: CO 6 Ranking | R7: CO 6 Points | S7: CO 7 Ranking | T7: CO 7 Points | U7: CO 8 Ranking | V7: CO 8 Points | W7: CO 9 Ranking | X7: CO 9 Points | Y7: CO 10 Ranking | Z7: CO 10 Points | AA7: CO 11 Ranking | AB7: CO 11 Points | AC7: CO 12 Ranking | AD7: CO 12 Points | AE7: SP Time | AF7: Market Penetration | AG7: Effective Execution | AH7: CP 1 Time | AI7: Market Penetration | AJ7: Effective Execution | AK7: QUIZ Check Point 1 | AM7: CP 2 Time | AN7: Market Penetration | AO7: Effective Execution | AP7: QUIZ Check Point 2 | AR7: CP 3 Time | AS7: Market Penetration | AT7: Effective Execution | AU7: MP Ranking | AV7: Market Penetration
A9: =SUM(B9:D9) -> -26 | B9: =H9+J9+L9+N9+P9+R9+T9+V9+X9+Z9+AB9+AD9+AG9+AJ9+AO9+AT9 -> -27 | C9: =AF9+AI9+AN9+AS9+AV9 -> 17 | D9: =AL9+AQ9 -> -16 | F9: 1 | H9: =IF(G9="",1,IF(G9=1,2,"erreur")) -> 1 | J9: =IF(I9="",1,IF(I9=1,2,"erreur")) -> 1 | L9: =IF(K9="",1,IF(K9=1,2,"erreur")) -> 1 | N9: =IF(M9="",1,IF(M9=1,2,"erreur")) -> 1 | P9: =IF(O9="",1,IF(O9=1,2,"erreur")) -> 1 | R9: =IF(Q9="",1,IF(Q9=1,2,"erreur")) -> 1 | T9: =IF(S9="",1,IF(S9=1,2,"erreur")) -> 1 | V9: =IF(U9="",1,IF(U9=1,2,"erreur")) -> 1 | X9: =IF(W9="",1,IF(W9=1,2,"erreur")) -> 1 | Z9: =IF(Y9="",1,IF(Y9=1,2,"erreur")) -> 1 | AB9: =IF(AA9="",1,IF(AA9=1,2,"erreur")) -> 1 | AD9: =IF(AC9="",1,IF(AC9=1,2,"erreur")) -> 1 | AE9: 0.59166667 | AF9: =IF(AE9="",0,1) -> 1 | AG9: =IF(AE9="",0,IF(AE9=$AE$4,1,IF(AE9=($AE$4+TIME(0,1,0)),-2,IF(AE9=($AE$4+TIME(0,2,0)),-4,IF(AE9=($AE$4+TIME(0,3,0)),-6,IF(AE9=($AE$4+TIME(0,4,0)),-8,IF(AE9=($AE$4+TIME(0,5,0)),-10,IF(AE9=($AE$4+TIME(0,6,0)),-12,IF(AE9>($AE$4+TIME(0,6,0)),-15,IF(AE9=($AE$4-TIME(0,1,0)),1,IF(AE9=($AE$4-TIME(0,2,0)),2,IF(AE9=($AE$4-TIME(0,3,0)),3,IF(AE9=($AE$4-TIME(0,4,0)),4,IF(AE9=($AE$4-TIME(0,5,0)),5,IF(AE9=($AE$4-TIME(0,6,0)),6,IF(AE9=($AE$4-TIME(0,7,0)),7,IF(AE9=($AE$4-TIME(0,8,0)),8,IF(AE9=($AE$4-TIME(0,9,0)),9,"Erreur")))))))))))))))))) -> -8 | AH9: 0.625 | AI9: =IF(AH9="",0,IF(AH9<($AH$4+TIME(0,7,0)),3,IF(AH9>($AH$4+TIME(0,6,0)),1,("Erreur")))) -> 1 | AJ9: =IF(AH9="",0,IF(AH9=AH$4,1,IF(AH9=(AH$4+TIME(0,1,0)),-2,IF(AH9=(AH$4+TIME(0,2,0)),-4,IF(AH9=(AH$4+TIME(0,3,0)),-6,IF(AH9=(AH$4+TIME(0,4,0)),-8,IF(AH9=(AH$4+TIME(0,5,0)),-10,IF(AH9=(AH$4+TIME(0,6,0)),-12,IF(AH9>(AH$4+TIME(0,6,0)),-15,IF(AH9=(AH$4-TIME(0,1,0)),1,IF(AH9=(AH$4-TIME(0,2,0)),2,IF(AH9=(AH$4-TIME(0,3,0)),3,IF(AH9=(AH$4-TIME(0,4,0)),4,IF(AH9=(AH$4-TIME(0,5,0)),5,IF(AH9=(AH$4-TIME(0,6,0)),6,IF(AH9=(AH$4-TIME(0,7,0)),7,IF(AH9=(AH$4-TIME(0,8,0)),8,IF(AH9=(AH$4-TIME(0,9,0)),9,IF(AH9=(AH$4-TIME(0,10,0)),10,IF(AH9=(AH$4-TIME(0,11,0)),11,IF(AH9=(AH$4-TIME(0,12,0)),12,IF(AH9=(AH$4-TIME(0,13,0)),13,IF(AH9=(AH$4-TIME(0,14,0)),14,IF(AH9=(AH$4-TIME(0,15,0)),15,IF(AH9=(AH$4-TIME(0,16,0)),16,IF(AH9=(AH$4-TIME(0,17,0)),17,IF(AH9=(AH$4-TIME(0,18,0)),18,IF(AH9=(AH$4-TIME(0,19,0)),19,IF(AH9=(AH$4-TIME(0,20,0)),20,IF(AH9=(AH$4-TIME(0,21,0)),21,IF(AH9=(AH$4-TIME(0,22,0)),22,IF(AH9=(AH$4-TIME(0,23,0)),23,IF(AH9=(AH$4-TIME(0,24,0)),24,IF(AH9=(AH$4-TIME(0,25,0)),25,IF(AH9=(AH$4-TIME(0,26,0)),26,IF(AH9=(AH$4-TIME(0,27,0)),27,IF(AH9=(AH$4-TIME(0,28,0)),28,IF(AH9=(AH$4-TIME(0,29,0)),29,IF(AH9=(AH$4-TIME(0,30,0)),30,"Erreur"))))))))))))))))))))))))))))))))))))))) -> -15 | AK9: 0 | AL9: =IF(AK9="",0,IF(AK9=0,-8,IF(AK9=1,-6,IF(AK9=2,-4,IF(AK9=3,-2,IF(AK9=4,0,IF(AK9=5,4,IF(AK9=6,6,IF(AK9=7,8,IF(AK9=8,10,IF(AK9=9,12,IF(AK9=10,16,"Erreur")))))))))))) -> -8 | AM9: 0.64583333 | AN9: =IF(AM9="",0,IF(AM9<(AM$4+TIME(0,7,0)),5,IF(AM9>(AM$4+TIME(0,6,0)),1,("Erreur")))) -> 5 | AO9: =IF(AM9="",0,IF(AM9=AM$4,1,IF(AM9=(AM$4+TIME(0,1,0)),-2,IF(AM9=(AM$4+TIME(0,2,0)),-4,IF(AM9=(AM$4+TIME(0,3,0)),-6,IF(AM9=(AM$4+TIME(0,4,0)),-8,IF(AM9=(AM$4+TIME(0,5,0)),-10,IF(AM9=(AM$4+TIME(0,6,0)),-12,IF(AM9>(AM$4+TIME(0,6,0)),-15,IF(AM9=(AM$4-TIME(0,1,0)),1,IF(AM9=(AM$4-TIME(0,2,0)),2,IF(AM9=(AM$4-TIME(0,3,0)),3,IF(AM9=(AM$4-TIME(0,4,0)),4,IF(AM9=(AM$4-TIME(0,5,0)),5,IF(AM9=(AM$4-TIME(0,6,0)),6,IF(AM9=(AM$4-TIME(0,7,0)),7,IF(AM9=(AM$4-TIME(0,8,0)),8,IF(AM9=(AM$4-TIME(0,9,0)),9,IF(AM9=(AM$4-TIME(0,10,0)),10,IF(AM9=(AM$4-TIME(0,11,0)),11,IF(AM9=(AM$4-TIME(0,12,0)),12,IF(AM9=(AM$4-TIME(0,13,0)),13,IF(AM9=(AM$4-TIME(0,14,0)),14,IF(AM9=(AM$4-TIME(0,15,0)),15,IF(AM9=(AM$4-TIME(0,16,0)),16,IF(AM9=(AM$4-TIME(0,17,0)),17,IF(AM9=(AM$4-TIME(0,18,0)),18,IF(AM9=(AM$4-TIME(0,19,0)),19,IF(AM9=(AM$4-TIME(0,20,0)),20,IF(AM9=(AM$4-TIME(0,21,0)),21,IF(AM9=(AM$4-TIME(0,22,0)),22,IF(AM9=(AM$4-TIME(0,23,0)),23,IF(AM9=(AM$4-TIME(0,24,0)),24,IF(AM9=(AM$4-TIME(0,25,0)),25,IF(AM9=(AM$4-TIME(0,26,0)),26,IF(AM9=(AM$4-TIME(0,27,0)),27,IF(AM9=(AM$4-TIME(0,28,0)),28,IF(AM9=(AM$4-TIME(0,29,0)),29,IF(AM9=(AM$4-TIME(0,30,0)),30,IF(AM9=(AM$4-TIME(0,31,0)),31,IF(AM9=(AM$4-TIME(0,32,0)),32,IF(AM9=(AM$4-TIME(0,33,0)),33,IF(AM9=(AM$4-TIME(0,34,0)),34,IF(AM9=(AM$4-TIME(0,35,0)),35,IF(AM9=(AM$4-TIME(0,36,0)),36,IF(AM9=(AM$4-TIME(0,37,0)),37,IF(AM9=(AM$4-TIME(0,38,0)),38,IF(AM9=(AM$4-TIME(0,39,0)),39,IF(AM9=(AM$4-TIME(0,40,0)),40,"Erreur"))))))))))))))))))))))))))))))))))))))))))))))))) -> -4 | AP9: 0 | AQ9: =IF(AP9="",0,IF(AP9=0,-8,IF(AP9=1,-6,IF(AP9=2,-4,IF(AP9=3,-2,IF(AP9=4,0,IF(AP9=5,4,IF(AP9=6,6,IF(AP9=7,8,IF(AP9=8,10,IF(AP9=9,12,IF(AP9=10,16,"Erreur")))))))))))) -> -8 | AR9: 0.67291667 | AS9: =IF(AR9="",0,IF(AR9<(AR$4+TIME(0,7,0)),9,IF(AR9>(AR$4+TIME(0,6,0)),1,("Erreur")))) -> 9 | AT9: =IF(AR9="",0,IF(AR9=AR$4,1,IF(AR9=(AR$4+TIME(0,1,0)),-2,IF(AR9=(AR$4+TIME(0,2,0)),-4,IF(AR9=(AR$4+TIME(0,3,0)),-6,IF(AR9=(AR$4+TIME(0,4,0)),-8,IF(AR9=(AR$4+TIME(0,5,0)),-10,IF(AR9=(AR$4+TIME(0,6,0)),-12,IF(AR9>(AR$4+TIME(0,6,0)),-15,IF(AR9=(AR$4-TIME(0,1,0)),1,IF(AR9=(AR$4-TIME(0,2,0)),2,IF(AR9=(AR$4-TIME(0,3,0)),3,IF(AR9=(AR$4-TIME(0,4,0)),4,IF(AR9=(AR$4-TIME(0,5,0)),5,IF(AR9=(AR$4-TIME(0,6,0)),6,IF(AR9=(AR$4-TIME(0,7,0)),7,IF(AR9=(AR$4-TIME(0,8,0)),8,IF(AR9=(AR$4-TIME(0,9,0)),9,IF(AR9=(AR$4-TIME(0,10,0)),10,IF(AR9=(AR$4-TIME(0,11,0)),11,IF(AR9=(AR$4-TIME(0,12,0)),12,IF(AR9=(AR$4-TIME(0,13,0)),13,IF(AR9=(AR$4-TIME(0,14,0)),14,IF(AR9=(AR$4-TIME(0,15,0)),15,IF(AR9=(AR$4-TIME(0,16,0)),16,IF(AR9=(AR$4-TIME(0,17,0)),17,IF(AR9=(AR$4-TIME(0,18,0)),18,IF(AR9=(AR$4-TIME(0,19,0)),19,IF(AR9=(AR$4-TIME(0,20,0)),20,IF(AR9=(AR$4-TIME(0,21,0)),21,IF(AR9=(AR$4-TIME(0,22,0)),22,IF(AR9=(AR$4-TIME(0,23,0)),23,IF(AR9=(AR$4-TIME(0,24,0)),24,IF(AR9=(AR$4-TIME(0,25,0)),25,IF(AR9=(AR$4-TIME(0,26,0)),26,IF(AR9=(AR$4-TIME(0,27,0)),27,IF(AR9=(AR$4-TIME(0,28,0)),28,IF(AR9=(AR$4-TIME(0,29,0)),29,IF(AR9=(AR$4-TIME(0,30,0)),30,IF(AR9=(AR$4-TIME(0,31,0)),31,IF(AR9=(AR$4-TIME(0,32,0)),32,IF(AR9=(AR$4-TIME(0,33,0)),33,IF(AR9=(AR$4-TIME(0,34,0)),34,IF(AR9=(AR$4-TIME(0,35,0)),35,IF(AR9=(AR$4-TIME(0,36,0)),36,IF(AR9=(AR$4-TIME(0,37,0)),37,IF(AR9=(AR$4-TIME(0,38,0)),38,IF(AR9=(AR$4-TIME(0,39,0)),39,IF(AR9=(AR$4-TIME(0,40,0)),40,"Erreur"))))))))))))))))))))))))))))))))))))))))))))))))) -> -12 | AU9: 3 | AV9: =IF(AU9="",0,IF(AU9=1,9,1)) -> 1
A10: =SUM(B10:D10) -> -38 | B10: =H10+J10+L10+N10+P10+R10+T10+V10+X10+Z10+AB10+AD10+AG10+AJ10+AO10+AT10 -> -45 | C10: =AF10+AI10+AN10+AS10+AV10 -> 13 | D10: =AL10+AQ10 -> -6 | F10: 2 | H10: =IF(G10="",1,IF(G10=1,2,"erreur")) -> 1 | J10: =IF(I10="",1,IF(I10=1,2,"erreur")) -> 1 | L10: =IF(K10="",1,IF(K10=1,2,"erreur")) -> 1 | N10: =IF(M10="",1,IF(M10=1,2,"erreur")) -> 1 | P10: =IF(O10="",1,IF(O10=1,2,"erreur")) -> 1 | R10: =IF(Q10="",1,IF(Q10=1,2,"erreur")) -> 1 | T10: =IF(S10="",1,IF(S10=1,2,"erreur")) -> 1 | V10: =IF(U10="",1,IF(U10=1,2,"erreur")) -> 1 | X10: =IF(W10="",1,IF(W10=1,2,"erreur")) -> 1 | Z10: =IF(Y10="",1,IF(Y10=1,2,"erreur")) -> 1 | AB10: =IF(AA10="",1,IF(AA10=1,2,"erreur")) -> 1 | AD10: =IF(AC10="",1,IF(AC10=1,2,"erreur")) -> 1 | AE10: 0.59305556 | AF10: =IF(AE10="",0,1) -> 1 | AG10: =IF(AE10="",0,IF(AE10=$AE$4,1,IF(AE10=($AE$4+TIME(0,1,0)),-2,IF(AE10=($AE$4+TIME(0,2,0)),-4,IF(AE10=($AE$4+TIME(0,3,0)),-6,IF(AE10=($AE$4+TIME(0,4,0)),-8,IF(AE10=($AE$4+TIME(0,5,0)),-10,IF(AE10=($AE$4+TIME(0,6,0)),-12,IF(AE10>($AE$4+TIME(0,6,0)),-15,IF(AE10=($AE$4-TIME(0,1,0)),1,IF(AE10=($AE$4-TIME(0,2,0)),2,IF(AE10=($AE$4-TIME(0,3,0)),3,IF(AE10=($AE$4-TIME(0,4,0)),4,IF(AE10=($AE$4-TIME(0,5,0)),5,IF(AE10=($AE$4-TIME(0,6,0)),6,IF(AE10=($AE$4-TIME(0,7,0)),7,IF(AE10=($AE$4-TIME(0,8,0)),8,IF(AE10=($AE$4-TIME(0,9,0)),9,"Erreur")))))))))))))))))) -> -12 | AH10: 0.63055556 | AI10: =IF(AH10="",0,IF(AH10<($AH$4+TIME(0,7,0)),3,IF(AH10>($AH$4+TIME(0,6,0)),1,("Erreur")))) -> 1 | AJ10: =IF(AH10="",0,IF(AH10=AH$4,1,IF(AH10=(AH$4+TIME(0,1,0)),-2,IF(AH10=(AH$4+TIME(0,2,0)),-4,IF(AH10=(AH$4+TIME(0,3,0)),-6,IF(AH10=(AH$4+TIME(0,4,0)),-8,IF(AH10=(AH$4+TIME(0,5,0)),-10,IF(AH10=(AH$4+TIME(0,6,0)),-12,IF(AH10>(AH$4+TIME(0,6,0)),-15,IF(AH10=(AH$4-TIME(0,1,0)),1,IF(AH10=(AH$4-TIME(0,2,0)),2,IF(AH10=(AH$4-TIME(0,3,0)),3,IF(AH10=(AH$4-TIME(0,4,0)),4,IF(AH10=(AH$4-TIME(0,5,0)),5,IF(AH10=(AH$4-TIME(0,6,0)),6,IF(AH10=(AH$4-TIME(0,7,0)),7,IF(AH10=(AH$4-TIME(0,8,0)),8,IF(AH10=(AH$4-TIME(0,9,0)),9,IF(AH10=(AH$4-TIME(0,10,0)),10,IF(AH10=(AH$4-TIME(0,11,0)),11,IF(AH10=(AH$4-TIME(0,12,0)),12,IF(AH10=(AH$4-TIME(0,13,0)),13,IF(AH10=(AH$4-TIME(0,14,0)),14,IF(AH10=(AH$4-TIME(0,15,0)),15,IF(AH10=(AH$4-TIME(0,16,0)),16,IF(AH10=(AH$4-TIME(0,17,0)),17,IF(AH10=(AH$4-TIME(0,18,0)),18,IF(AH10=(AH$4-TIME(0,19,0)),19,IF(AH10=(AH$4-TIME(0,20,0)),20,IF(AH10=(AH$4-TIME(0,21,0)),21,IF(AH10=(AH$4-TIME(0,22,0)),22,IF(AH10=(AH$4-TIME(0,23,0)),23,IF(AH10=(AH$4-TIME(0,24,0)),24,IF(AH10=(AH$4-TIME(0,25,0)),25,IF(AH10=(AH$4-TIME(0,26,0)),26,IF(AH10=(AH$4-TIME(0,27,0)),27,IF(AH10=(AH$4-TIME(0,28,0)),28,IF(AH10=(AH$4-TIME(0,29,0)),29,IF(AH10=(AH$4-TIME(0,30,0)),30,"Erreur"))))))))))))))))))))))))))))))))))))))) -> -15 | AK10: 3 | AL10: =IF(AK10="",0,IF(AK10=0,-8,IF(AK10=1,-6,IF(AK10=2,-4,IF(AK10=3,-2,IF(AK10=4,0,IF(AK10=5,4,IF(AK10=6,6,IF(AK10=7,8,IF(AK10=8,10,IF(AK10=9,12,IF(AK10=10,16,"Erreur")))))))))))) -> -2 | AM10: 0.64930556 | AN10: =IF(AM10="",0,IF(AM10<(AM$4+TIME(0,7,0)),5,IF(AM10>(AM$4+TIME(0,6,0)),1,("Erreur")))) -> 1 | AO10: =IF(AM10="",0,IF(AM10=AM$4,1,IF(AM10=(AM$4+TIME(0,1,0)),-2,IF(AM10=(AM$4+TIME(0,2,0)),-4,IF(AM10=(AM$4+TIME(0,3,0)),-6,IF(AM10=(AM$4+TIME(0,4,0)),-8,IF(AM10=(AM$4+TIME(0,5,0)),-10,IF(AM10=(AM$4+TIME(0,6,0)),-12,IF(AM10>(AM$4+TIME(0,6,0)),-15,IF(AM10=(AM$4-TIME(0,1,0)),1,IF(AM10=(AM$4-TIME(0,2,0)),2,IF(AM10=(AM$4-TIME(0,3,0)),3,IF(AM10=(AM$4-TIME(0,4,0)),4,IF(AM10=(AM$4-TIME(0,5,0)),5,IF(AM10=(AM$4-TIME(0,6,0)),6,IF(AM10=(AM$4-TIME(0,7,0)),7,IF(AM10=(AM$4-TIME(0,8,0)),8,IF(AM10=(AM$4-TIME(0,9,0)),9,IF(AM10=(AM$4-TIME(0,10,0)),10,IF(AM10=(AM$4-TIME(0,11,0)),11,IF(AM10=(AM$4-TIME(0,12,0)),12,IF(AM10=(AM$4-TIME(0,13,0)),13,IF(AM10=(AM$4-TIME(0,14,0)),14,IF(AM10=(AM$4-TIME(0,15,0)),15,IF(AM10=(AM$4-TIME(0,16,0)),16,IF(AM10=(AM$4-TIME(0,17,0)),17,IF(AM10=(AM$4-TIME(0,18,0)),18,IF(AM10=(AM$4-TIME(0,19,0)),19,IF(AM10=(AM$4-TIME(0,20,0)),20,IF(AM10=(AM$4-TIME(0,21,0)),21,IF(AM10=(AM$4-TIME(0,22,0)),22,IF(AM10=(AM$4-TIME(0,23,0)),23,IF(AM10=(AM$4-TIME(0,24,0)),24,IF(AM10=(AM$4-TIME(0,25,0)),25,IF(AM10=(AM$4-TIME(0,26,0)),26,IF(AM10=(AM$4-TIME(0,27,0)),27,IF(AM10=(AM$4-TIME(0,28,0)),28,IF(AM10=(AM$4-TIME(0,29,0)),29,IF(AM10=(AM$4-TIME(0,30,0)),30,IF(AM10=(AM$4-TIME(0,31,0)),31,IF(AM10=(AM$4-TIME(0,32,0)),32,IF(AM10=(AM$4-TIME(0,33,0)),33,IF(AM10=(AM$4-TIME(0,34,0)),34,IF(AM10=(AM$4-TIME(0,35,0)),35,IF(AM10=(AM$4-TIME(0,36,0)),36,IF(AM10=(AM$4-TIME(0,37,0)),37,IF(AM10=(AM$4-TIME(0,38,0)),38,IF(AM10=(AM$4-TIME(0,39,0)),39,IF(AM10=(AM$4-TIME(0,40,0)),40,"Erreur"))))))))))))))))))))))))))))))))))))))))))))))))) -> -15 | AP10: 2 | AQ10: =IF(AP10="",0,IF(AP10=0,-8,IF(AP10=1,-6,IF(AP10=2,-4,IF(AP10=3,-2,IF(AP10=4,0,IF(AP10=5,4,IF(AP10=6,6,IF(AP10=7,8,IF(AP10=8,10,IF(AP10=9,12,IF(AP10=10,16,"Erreur")))))))))))) -> -4 | AR10: 0.67361111 | AS10: =IF(AR10="",0,IF(AR10<(AR$4+TIME(0,7,0)),9,IF(AR10>(AR$4+TIME(0,6,0)),1,("Erreur")))) -> 1 | AT10: =IF(AR10="",0,IF(AR10=AR$4,1,IF(AR10=(AR$4+TIME(0,1,0)),-2,IF(AR10=(AR$4+TIME(0,2,0)),-4,IF(AR10=(AR$4+TIME(0,3,0)),-6,IF(AR10=(AR$4+TIME(0,4,0)),-8,IF(AR10=(AR$4+TIME(0,5,0)),-10,IF(AR10=(AR$4+TIME(0,6,0)),-12,IF(AR10>(AR$4+TIME(0,6,0)),-15,IF(AR10=(AR$4-TIME(0,1,0)),1,IF(AR10=(AR$4-TIME(0,2,0)),2,IF(AR10=(AR$4-TIME(0,3,0)),3,IF(AR10=(AR$4-TIME(0,4,0)),4,IF(AR10=(AR$4-TIME(0,5,0)),5,IF(AR10=(AR$4-TIME(0,6,0)),6,IF(AR10=(AR$4-TIME(0,7,0)),7,IF(AR10=(AR$4-TIME(0,8,0)),8,IF(AR10=(AR$4-TIME(0,9,0)),9,IF(AR10=(AR$4-TIME(0,10,0)),10,IF(AR10=(AR$4-TIME(0,11,0)),11,IF(AR10=(AR$4-TIME(0,12,0)),12,IF(AR10=(AR$4-TIME(0,13,0)),13,IF(AR10=(AR$4-TIME(0,14,0)),14,IF(AR10=(AR$4-TIME(0,15,0)),15,IF(AR10=(AR$4-TIME(0,16,0)),16,IF(AR10=(AR$4-TIME(0,17,0)),17,IF(AR10=(AR$4-TIME(0,18,0)),18,IF(AR10=(AR$4-TIME(0,19,0)),19,IF(AR10=(AR$4-TIME(0,20,0)),20,IF(AR10=(AR$4-TIME(0,21,0)),21,IF(AR10=(AR$4-TIME(0,22,0)),22,IF(AR10=(AR$4-TIME(0,23,0)),23,IF(AR10=(AR$4-TIME(0,24,0)),24,IF(AR10=(AR$4-TIME(0,25,0)),25,IF(AR10=(AR$4-TIME(0,26,0)),26,IF(AR10=(AR$4-TIME(0,27,0)),27,IF(AR10=(AR$4-TIME(0,28,0)),28,IF(AR10=(AR$4-TIME(0,29,0)),29,IF(AR10=(AR$4-TIME(0,30,0)),30,IF(AR10=(AR$4-TIME(0,31,0)),31,IF(AR10=(AR$4-TIME(0,32,0)),32,IF(AR10=(AR$4-TIME(0,33,0)),33,IF(AR10=(AR$4-TIME(0,34,0)),34,IF(AR10=(AR$4-TIME(0,35,0)),35,IF(AR10=(AR$4-TIME(0,36,0)),36,IF(AR10=(AR$4-TIME(0,37,0)),37,IF(AR10=(AR$4-TIME(0,38,0)),38,IF(AR10=(AR$4-TIME(0,39,0)),39,IF(AR10=(AR$4-TIME(0,40,0)),40,"Erreur"))))))))))))))))))))))))))))))))))))))))))))))))) -> -15 | AU10: 1 | AV10: =IF(AU10="",0,IF(AU10=1,9,1)) -> 9
A11: =SUM(B11:D11) -> -17 | B11: =H11+J11+L11+N11+P11+R11+T11+V11+X11+Z11+AB11+AD11+AG11+AJ11+AO11+AT11 -> -30 | C11: =AF11+AI11+AN11+AS11+AV11 -> 13 | D11: =AL11+AQ11 -> 0 | F11: 3 | H11: =IF(G11="",1,IF(G11=1,2,"erreur")) -> 1 | J11: =IF(I11="",1,IF(I11=1,2,"erreur")) -> 1 | L11: =IF(K11="",1,IF(K11=1,2,"erreur")) -> 1 | N11: =IF(M11="",1,IF(M11=1,2,"erreur")) -> 1 | P11: =IF(O11="",1,IF(O11=1,2,"erreur")) -> 1 | R11: =IF(Q11="",1,IF(Q11=1,2,"erreur")) -> 1 | T11: =IF(S11="",1,IF(S11=1,2,"erreur")) -> 1 | V11: =IF(U11="",1,IF(U11=1,2,"erreur")) -> 1 | X11: =IF(W11="",1,IF(W11=1,2,"erreur")) -> 1 | Z11: =IF(Y11="",1,IF(Y11=1,2,"erreur")) -> 1 | AB11: =IF(AA11="",1,IF(AA11=1,2,"erreur")) -> 1 | AD11: =IF(AC11="",1,IF(AC11=1,2,"erreur")) -> 1 | AE11: 0.58958333 | AF11: =IF(AE11="",0,1) -> 1 | AG11: =IF(AE11="",0,IF(AE11=$AE$4,1,IF(AE11=($AE$4+TIME(0,1,0)),-2,IF(AE11=($AE$4+TIME(0,2,0)),-4,IF(AE11=($AE$4+TIME(0,3,0)),-6,IF(AE11=($AE$4+TIME(0,4,0)),-8,IF(AE11=($AE$4+TIME(0,5,0)),-10,IF(AE11=($AE$4+TIME(0,6,0)),-12,IF(AE11>($AE$4+TIME(0,6,0)),-15,IF(AE11=($AE$4-TIME(0,1,0)),1,IF(AE11=($AE$4-TIME(0,2,0)),2,IF(AE11=($AE$4-TIME(0,3,0)),3,IF(AE11=($AE$4-TIME(0,4,0)),4,IF(AE11=($AE$4-TIME(0,5,0)),5,IF(AE11=($AE$4-TIME(0,6,0)),6,IF(AE11=($AE$4-TIME(0,7,0)),7,IF(AE11=($AE$4-TIME(0,8,0)),8,IF(AE11=($AE$4-TIME(0,9,0)),9,"Erreur")))))))))))))))))) -> -2 | AH11: 0.62986111 | AI11: =IF(AH11="",0,IF(AH11<($AH$4+TIME(0,7,0)),3,IF(AH11>($AH$4+TIME(0,6,0)),1,("Erreur")))) -> 1 | AJ11: =IF(AH11="",0,IF(AH11=AH$4,1,IF(AH11=(AH$4+TIME(0,1,0)),-2,IF(AH11=(AH$4+TIME(0,2,0)),-4,IF(AH11=(AH$4+TIME(0,3,0)),-6,IF(AH11=(AH$4+TIME(0,4,0)),-8,IF(AH11=(AH$4+TIME(0,5,0)),-10,IF(AH11=(AH$4+TIME(0,6,0)),-12,IF(AH11>(AH$4+TIME(0,6,0)),-15,IF(AH11=(AH$4-TIME(0,1,0)),1,IF(AH11=(AH$4-TIME(0,2,0)),2,IF(AH11=(AH$4-TIME(0,3,0)),3,IF(AH11=(AH$4-TIME(0,4,0)),4,IF(AH11=(AH$4-TIME(0,5,0)),5,IF(AH11=(AH$4-TIME(0,6,0)),6,IF(AH11=(AH$4-TIME(0,7,0)),7,IF(AH11=(AH$4-TIME(0,8,0)),8,IF(AH11=(AH$4-TIME(0,9,0)),9,IF(AH11=(AH$4-TIME(0,10,0)),10,IF(AH11=(AH$4-TIME(0,11,0)),11,IF(AH11=(AH$4-TIME(0,12,0)),12,IF(AH11=(AH$4-TIME(0,13,0)),13,IF(AH11=(AH$4-TIME(0,14,0)),14,IF(AH11=(AH$4-TIME(0,15,0)),15,IF(AH11=(AH$4-TIME(0,16,0)),16,IF(AH11=(AH$4-TIME(0,17,0)),17,IF(AH11=(AH$4-TIME(0,18,0)),18,IF(AH11=(AH$4-TIME(0,19,0)),19,IF(AH11=(AH$4-TIME(0,20,0)),20,IF(AH11=(AH$4-TIME(0,21,0)),21,IF(AH11=(AH$4-TIME(0,22,0)),22,IF(AH11=(AH$4-TIME(0,23,0)),23,IF(AH11=(AH$4-TIME(0,24,0)),24,IF(AH11=(AH$4-TIME(0,25,0)),25,IF(AH11=(AH$4-TIME(0,26,0)),26,IF(AH11=(AH$4-TIME(0,27,0)),27,IF(AH11=(AH$4-TIME(0,28,0)),28,IF(AH11=(AH$4-TIME(0,29,0)),29,IF(AH11=(AH$4-TIME(0,30,0)),30,"Erreur"))))))))))))))))))))))))))))))))))))))) -> -15 | AK11: 4 | AL11: =IF(AK11="",0,IF(AK11=0,-8,IF(AK11=1,-6,IF(AK11=2,-4,IF(AK11=3,-2,IF(AK11=4,0,IF(AK11=5,4,IF(AK11=6,6,IF(AK11=7,8,IF(AK11=8,10,IF(AK11=9,12,IF(AK11=10,16,"Erreur")))))))))))) -> 0 | AM11: 0.65277778 | AN11: =IF(AM11="",0,IF(AM11<(AM$4+TIME(0,7,0)),5,IF(AM11>(AM$4+TIME(0,6,0)),1,("Erreur")))) -> 1 | AO11: =IF(AM11="",0,IF(AM11=AM$4,1,IF(AM11=(AM$4+TIME(0,1,0)),-2,IF(AM11=(AM$4+TIME(0,2,0)),-4,IF(AM11=(AM$4+TIME(0,3,0)),-6,IF(AM11=(AM$4+TIME(0,4,0)),-8,IF(AM11=(AM$4+TIME(0,5,0)),-10,IF(AM11=(AM$4+TIME(0,6,0)),-12,IF(AM11>(AM$4+TIME(0,6,0)),-15,IF(AM11=(AM$4-TIME(0,1,0)),1,IF(AM11=(AM$4-TIME(0,2,0)),2,IF(AM11=(AM$4-TIME(0,3,0)),3,IF(AM11=(AM$4-TIME(0,4,0)),4,IF(AM11=(AM$4-TIME(0,5,0)),5,IF(AM11=(AM$4-TIME(0,6,0)),6,IF(AM11=(AM$4-TIME(0,7,0)),7,IF(AM11=(AM$4-TIME(0,8,0)),8,IF(AM11=(AM$4-TIME(0,9,0)),9,IF(AM11=(AM$4-TIME(0,10,0)),10,IF(AM11=(AM$4-TIME(0,11,0)),11,IF(AM11=(AM$4-TIME(0,12,0)),12,IF(AM11=(AM$4-TIME(0,13,0)),13,IF(AM11=(AM$4-TIME(0,14,0)),14,IF(AM11=(AM$4-TIME(0,15,0)),15,IF(AM11=(AM$4-TIME(0,16,0)),16,IF(AM11=(AM$4-TIME(0,17,0)),17,IF(AM11=(AM$4-TIME(0,18,0)),18,IF(AM11=(AM$4-TIME(0,19,0)),19,IF(AM11=(AM$4-TIME(0,20,0)),20,IF(AM11=(AM$4-TIME(0,21,0)),21,IF(AM11=(AM$4-TIME(0,22,0)),22,IF(AM11=(AM$4-TIME(0,23,0)),23,IF(AM11=(AM$4-TIME(0,24,0)),24,IF(AM11=(AM$4-TIME(0,25,0)),25,IF(AM11=(AM$4-TIME(0,26,0)),26,IF(AM11=(AM$4-TIME(0,27,0)),27,IF(AM11=(AM$4-TIME(0,28,0)),28,IF(AM11=(AM$4-TIME(0,29,0)),29,IF(AM11=(AM$4-TIME(0,30,0)),30,IF(AM11=(AM$4-TIME(0,31,0)),31,IF(AM11=(AM$4-TIME(0,32,0)),32,IF(AM11=(AM$4-TIME(0,33,0)),33,IF(AM11=(AM$4-TIME(0,34,0)),34,IF(AM11=(AM$4-TIME(0,35,0)),35,IF(AM11=(AM$4-TIME(0,36,0)),36,IF(AM11=(AM$4-TIME(0,37,0)),37,IF(AM11=(AM$4-TIME(0,38,0)),38,IF(AM11=(AM$4-TIME(0,39,0)),39,IF(AM11=(AM$4-TIME(0,40,0)),40,"Erreur"))))))))))))))))))))))))))))))))))))))))))))))))) -> -15 | AP11: 4 | AQ11: =IF(AP11="",0,IF(AP11=0,-8,IF(AP11=1,-6,IF(AP11=2,-4,IF(AP11=3,-2,IF(AP11=4,0,IF(AP11=5,4,IF(AP11=6,6,IF(AP11=7,8,IF(AP11=8,10,IF(AP11=9,12,IF(AP11=10,16,"Erreur")))))))))))) -> 0 | AR11: 0.67222222 | AS11: =IF(AR11="",0,IF(AR11<(AR$4+TIME(0,7,0)),9,IF(AR11>(AR$4+TIME(0,6,0)),1,("Erreur")))) -> 9 | AT11: =IF(AR11="",0,IF(AR11=AR$4,1,IF(AR11=(AR$4+TIME(0,1,0)),-2,IF(AR11=(AR$4+TIME(0,2,0)),-4,IF(AR11=(AR$4+TIME(0,3,0)),-6,IF(AR11=(AR$4+TIME(0,4,0)),-8,IF(AR11=(AR$4+TIME(0,5,0)),-10,IF(AR11=(AR$4+TIME(0,6,0)),-12,IF(AR11>(AR$4+TIME(0,6,0)),-15,IF(AR11=(AR$4-TIME(0,1,0)),1,IF(AR11=(AR$4-TIME(0,2,0)),2,IF(AR11=(AR$4-TIME(0,3,0)),3,IF(AR11=(AR$4-TIME(0,4,0)),4,IF(AR11=(AR$4-TIME(0,5,0)),5,IF(AR11=(AR$4-TIME(0,6,0)),6,IF(AR11=(AR$4-TIME(0,7,0)),7,IF(AR11=(AR$4-TIME(0,8,0)),8,IF(AR11=(AR$4-TIME(0,9,0)),9,IF(AR11=(AR$4-TIME(0,10,0)),10,IF(AR11=(AR$4-TIME(0,11,0)),11,IF(AR11=(AR$4-TIME(0,12,0)),12,IF(AR11=(AR$4-TIME(0,13,0)),13,IF(AR11=(AR$4-TIME(0,14,0)),14,IF(AR11=(AR$4-TIME(0,15,0)),15,IF(AR11=(AR$4-TIME(0,16,0)),16,IF(AR11=(AR$4-TIME(0,17,0)),17,IF(AR11=(AR$4-TIME(0,18,0)),18,IF(AR11=(AR$4-TIME(0,19,0)),19,IF(AR11=(AR$4-TIME(0,20,0)),20,IF(AR11=(AR$4-TIME(0,21,0)),21,IF(AR11=(AR$4-TIME(0,22,0)),22,IF(AR11=(AR$4-TIME(0,23,0)),23,IF(AR11=(AR$4-TIME(0,24,0)),24,IF(AR11=(AR$4-TIME(0,25,0)),25,IF(AR11=(AR$4-TIME(0,26,0)),26,IF(AR11=(AR$4-TIME(0,27,0)),27,IF(AR11=(AR$4-TIME(0,28,0)),28,IF(AR11=(AR$4-TIME(0,29,0)),29,IF(AR11=(AR$4-TIME(0,30,0)),30,IF(AR11=(AR$4-TIME(0,31,0)),31,IF(AR11=(AR$4-TIME(0,32,0)),32,IF(AR11=(AR$4-TIME(0,33,0)),33,IF(AR11=(AR$4-TIME(0,34,0)),34,IF(AR11=(AR$4-TIME(0,35,0)),35,IF(AR11=(AR$4-TIME(0,36,0)),36,IF(AR11=(AR$4-TIME(0,37,0)),37,IF(AR11=(AR$4-TIME(0,38,0)),38,IF(AR11=(AR$4-TIME(0,39,0)),39,IF(AR11=(AR$4-TIME(0,40,0)),40,"Erreur"))))))))))))))))))))))))))))))))))))))))))))))))) -> -10 | AU11: 5 | AV11: =IF(AU11="",0,IF(AU11=1,9,1)) -> 1
A12: =SUM(B12:D12) -> #VALUE! | B12: =H12+J12+L12+N12+P12+R12+T12+V12+X12+Z12+AB12+AD12+AG12+AJ12+AO12+AT12 -> #VALUE! | C12: =AF12+AI12+AN12+AS12+AV12 -> 19 | D12: =AL12+AQ12 -> 10 | F12: 4 | H12: =IF(G12="",1,IF(G12=1,2,"erreur")) -> 1 | J12: =IF(I12="",1,IF(I12=1,2,"erreur")) -> 1 | L12: =IF(K12="",1,IF(K12=1,2,"erreur")) -> 1 | N12: =IF(M12="",1,IF(M12=1,2,"erreur")) -> 1 | P12: =IF(O12="",1,IF(O12=1,2,"erreur")) -> 1 | R12: =IF(Q12="",1,IF(Q12=1,2,"erreur")) -> 1 | T12: =IF(S12="",1,IF(S12=1,2,"erreur")) -> 1 | V12: =IF(U12="",1,IF(U12=1,2,"erreur")) -> 1 | X12: =IF(W12="",1,IF(W12=1,2,"erreur")) -> 1 | Z12: =IF(Y12="",1,IF(Y12=1,2,"erreur")) -> 1 | AB12: =IF(AA12="",1,IF(AA12=1,2,"erreur")) -> 1 | AD12: =IF(AC12="",1,IF(AC12=1,2,"erreur")) -> 1 | AE12: 0.58888889 | AF12: =IF(AE12="",0,1) -> 1 | AG12: =IF(AE12="",0,IF(AE12=$AE$4,1,IF(AE12=($AE$4+TIME(0,1,0)),-2,IF(AE12=($AE$4+TIME(0,2,0)),-4,IF(AE12=($AE$4+TIME(0,3,0)),-6,IF(AE12=($AE$4+TIME(0,4,0)),-8,IF(AE12=($AE$4+TIME(0,5,0)),-10,IF(AE12=($AE$4+TIME(0,6,0)),-12,IF(AE12>($AE$4+TIME(0,6,0)),-15,IF(AE12=($AE$4-TIME(0,1,0)),1,IF(AE12=($AE$4-TIME(0,2,0)),2,IF(AE12=($AE$4-TIME(0,3,0)),3,IF(AE12=($AE$4-TIME(0,4,0)),4,IF(AE12=($AE$4-TIME(0,5,0)),5,IF(AE12=($AE$4-TIME(0,6,0)),6,IF(AE12=($AE$4-TIME(0,7,0)),7,IF(AE12=($AE$4-TIME(0,8,0)),8,IF(AE12=($AE$4-TIME(0,9,0)),9,"Erreur")))))))))))))))))) -> 1 | AH12: 0.61944444 | AI12: =IF(AH12="",0,IF(AH12<($AH$4+TIME(0,7,0)),3,IF(AH12>($AH$4+TIME(0,6,0)),1,("Erreur")))) -> 3 | AJ12: =IF(AH12="",0,IF(AH12=AH$4,1,IF(AH12=(AH$4+TIME(0,1,0)),-2,IF(AH12=(AH$4+TIME(0,2,0)),-4,IF(AH12=(AH$4+TIME(0,3,0)),-6,IF(AH12=(AH$4+TIME(0,4,0)),-8,IF(AH12=(AH$4+TIME(0,5,0)),-10,IF(AH12=(AH$4+TIME(0,6,0)),-12,IF(AH12>(AH$4+TIME(0,6,0)),-15,IF(AH12=(AH$4-TIME(0,1,0)),1,IF(AH12=(AH$4-TIME(0,2,0)),2,IF(AH12=(AH$4-TIME(0,3,0)),3,IF(AH12=(AH$4-TIME(0,4,0)),4,IF(AH12=(AH$4-TIME(0,5,0)),5,IF(AH12=(AH$4-TIME(0,6,0)),6,IF(AH12=(AH$4-TIME(0,7,0)),7,IF(AH12=(AH$4-TIME(0,8,0)),8,IF(AH12=(AH$4-TIME(0,9,0)),9,IF(AH12=(AH$4-TIME(0,10,0)),10,IF(AH12=(AH$4-TIME(0,11,0)),11,IF(AH12=(AH$4-TIME(0,12,0)),12,IF(AH12=(AH$4-TIME(0,13,0)),13,IF(AH12=(AH$4-TIME(0,14,0)),14,IF(AH12=(AH$4-TIME(0,15,0)),15,IF(AH12=(AH$4-TIME(0,16,0)),16,IF(AH12=(AH$4-TIME(0,17,0)),17,IF(AH12=(AH$4-TIME(0,18,0)),18,IF(AH12=(AH$4-TIME(0,19,0)),19,IF(AH12=(AH$4-TIME(0,20,0)),20,IF(AH12=(AH$4-TIME(0,21,0)),21,IF(AH12=(AH$4-TIME(0,22,0)),22,IF(AH12=(AH$4-TIME(0,23,0)),23,IF(AH12=(AH$4-TIME(0,24,0)),24,IF(AH12=(AH$4-TIME(0,25,0)),25,IF(AH12=(AH$4-TIME(0,26,0)),26,IF(AH12=(AH$4-TIME(0,27,0)),27,IF(AH12=(AH$4-TIME(0,28,0)),28,IF(AH12=(AH$4-TIME(0,29,0)),29,IF(AH12=(AH$4-TIME(0,30,0)),30,"Erreur"))))))))))))))))))))))))))))))))))))))) -> 1 | AK12: 5 | AL12: =IF(AK12="",0,IF(AK12=0,-8,IF(AK12=1,-6,IF(AK12=2,-4,IF(AK12=3,-2,IF(AK12=4,0,IF(AK12=5,4,IF(AK12=6,6,IF(AK12=7,8,IF(AK12=8,10,IF(AK12=9,12,IF(AK12=10,16,"Erreur")))))))))))) -> 4 | AM12: 0.63194444 | AN12: =IF(AM12="",0,IF(AM12<(AM$4+TIME(0,7,0)),5,IF(AM12>(AM$4+TIME(0,6,0)),1,("Erreur")))) -> 5 | AO12: =IF(AM12="",0,IF(AM12=AM$4,1,IF(AM12=(AM$4+TIME(0,1,0)),-2,IF(AM12=(AM$4+TIME(0,2,0)),-4,IF(AM12=(AM$4+TIME(0,3,0)),-6,IF(AM12=(AM$4+TIME(0,4,0)),-8,IF(AM12=(AM$4+TIME(0,5,0)),-10,IF(AM12=(AM$4+TIME(0,6,0)),-12,IF(AM12>(AM$4+TIME(0,6,0)),-15,IF(AM12=(AM$4-TIME(0,1,0)),1,IF(AM12=(AM$4-TIME(0,2,0)),2,IF(AM12=(AM$4-TIME(0,3,0)),3,IF(AM12=(AM$4-TIME(0,4,0)),4,IF(AM12=(AM$4-TIME(0,5,0)),5,IF(AM12=(AM$4-TIME(0,6,0)),6,IF(AM12=(AM$4-TIME(0,7,0)),7,IF(AM12=(AM$4-TIME(0,8,0)),8,IF(AM12=(AM$4-TIME(0,9,0)),9,IF(AM12=(AM$4-TIME(0,10,0)),10,IF(AM12=(AM$4-TIME(0,11,0)),11,IF(AM12=(AM$4-TIME(0,12,0)),12,IF(AM12=(AM$4-TIME(0,13,0)),13,IF(AM12=(AM$4-TIME(0,14,0)),14,IF(AM12=(AM$4-TIME(0,15,0)),15,IF(AM12=(AM$4-TIME(0,16,0)),16,IF(AM12=(AM$4-TIME(0,17,0)),17,IF(AM12=(AM$4-TIME(0,18,0)),18,IF(AM12=(AM$4-TIME(0,19,0)),19,IF(AM12=(AM$4-TIME(0,20,0)),20,IF(AM12=(AM$4-TIME(0,21,0)),21,IF(AM12=(AM$4-TIME(0,22,0)),22,IF(AM12=(AM$4-TIME(0,23,0)),23,IF(AM12=(AM$4-TIME(0,24,0)),24,IF(AM12=(AM$4-TIME(0,25,0)),25,IF(AM12=(AM$4-TIME(0,26,0)),26,IF(AM12=(AM$4-TIME(0,27,0)),27,IF(AM12=(AM$4-TIME(0,28,0)),28,IF(AM12=(AM$4-TIME(0,29,0)),29,IF(AM12=(AM$4-TIME(0,30,0)),30,IF(AM12=(AM$4-TIME(0,31,0)),31,IF(AM12=(AM$4-TIME(0,32,0)),32,IF(AM12=(AM$4-TIME(0,33,0)),33,IF(AM12=(AM$4-TIME(0,34,0)),34,IF(AM12=(AM$4-TIME(0,35,0)),35,IF(AM12=(AM$4-TIME(0,36,0)),36,IF(AM12=(AM$4-TIME(0,37,0)),37,IF(AM12=(AM$4-TIME(0,38,0)),38,IF(AM12=(AM$4-TIME(0,39,0)),39,IF(AM12=(AM$4-TIME(0,40,0)),40,"Erreur"))))))))))))))))))))))))))))))))))))))))))))))))) -> Erreur | AP12: 6 | AQ12: =IF(AP12="",0,IF(AP12=0,-8,IF(AP12=1,-6,IF(AP12=2,-4,IF(AP12=3,-2,IF(AP12=4,0,IF(AP12=5,4,IF(AP12=6,6,IF(AP12=7,8,IF(AP12=8,10,IF(AP12=9,12,IF(AP12=10,16,"Erreur")))))))))))) -> 6 | AR12: 0.64583333 | AS12: =IF(AR12="",0,IF(AR12<(AR$4+TIME(0,7,0)),9,IF(AR12>(AR$4+TIME(0,6,0)),1,("Erreur")))) -> 9 | AT12: =IF(AR12="",0,IF(AR12=AR$4,1,IF(AR12=(AR$4+TIME(0,1,0)),-2,IF(AR12=(AR$4+TIME(0,2,0)),-4,IF(AR12=(AR$4+TIME(0,3,0)),-6,IF(AR12=(AR$4+TIME(0,4,0)),-8,IF(AR12=(AR$4+TIME(0,5,0)),-10,IF(AR12=(AR$4+TIME(0,6,0)),-12,IF(AR12>(AR$4+TIME(0,6,0)),-15,IF(AR12=(AR$4-TIME(0,1,0)),1,IF(AR12=(AR$4-TIME(0,2,0)),2,IF(AR12=(AR$4-TIME(0,3,0)),3,IF(AR12=(AR$4-TIME(0,4,0)),4,IF(AR12=(AR$4-TIME(0,5,0)),5,IF(AR12=(AR$4-TIME(0,6,0)),6,IF(AR12=(AR$4-TIME(0,7,0)),7,IF(AR12=(AR$4-TIME(0,8,0)),8,IF(AR12=(AR$4-TIME(0,9,0)),9,IF(AR12=(AR$4-TIME(0,10,0)),10,IF(AR12=(AR$4-TIME(0,11,0)),11,IF(AR12=(AR$4-TIME(0,12,0)),12,IF(AR12=(AR$4-TIME(0,13,0)),13,IF(AR12=(AR$4-TIME(0,14,0)),14,IF(AR12=(AR$4-TIME(0,15,0)),15,IF(AR12=(AR$4-TIME(0,16,0)),16,IF(AR12=(AR$4-TIME(0,17,0)),17,IF(AR12=(AR$4-TIME(0,18,0)),18,IF(AR12=(AR$4-TIME(0,19,0)),19,IF(AR12=(AR$4-TIME(0,20,0)),20,IF(AR12=(AR$4-TIME(0,21,0)),21,IF(AR12=(AR$4-TIME(0,22,0)),22,IF(AR12=(AR$4-TIME(0,23,0)),23,IF(AR12=(AR$4-TIME(0,24,0)),24,IF(AR12=(AR$4-TIME(0,25,0)),25,IF(AR12=(AR$4-TIME(0,26,0)),26,IF(AR12=(AR$4-TIME(0,27,0)),27,IF(AR12=(AR$4-TIME(0,28,0)),28,IF(AR12=(AR$4-TIME(0,29,0)),29,IF(AR12=(AR$4-TIME(0,30,0)),30,IF(AR12=(AR$4-TIME(0,31,0)),31,IF(AR12=(AR$4-TIME(0,32,0)),32,IF(AR12=(AR$4-TIME(0,33,0)),33,IF(AR12=(AR$4-TIME(0,34,0)),34,IF(AR12=(AR$4-TIME(0,35,0)),35,IF(AR12=(AR$4-TIME(0,36,0)),36,IF(AR12=(AR$4-TIME(0,37,0)),37,IF(AR12=(AR$4-TIME(0,38,0)),38,IF(AR12=(AR$4-TIME(0,39,0)),39,IF(AR12=(AR$4-TIME(0,40,0)),40,"Erreur"))))))))))))))))))))))))))))))))))))))))))))))))) -> 33 | AU12: 2 | AV12: =IF(AU12="",0,IF(AU12=1,9,1)) -> 1
A13: =SUM(B13:D13) -> 113 | B13: =H13+J13+L13+N13+P13+R13+T13+V13+X13+Z13+AB13+AD13+AG13+AJ13+AO13+AT13 -> 74 | C13: =AF13+AI13+AN13+AS13+AV13 -> 19 | D13: =AL13+AQ13 -> 20 | F13: 5 | H13: =IF(G13="",1,IF(G13=1,2,"erreur")) -> 1 | J13: =IF(I13="",1,IF(I13=1,2,"erreur")) -> 1 | L13: =IF(K13="",1,IF(K13=1,2,"erreur")) -> 1 | N13: =IF(M13="",1,IF(M13=1,2,"erreur")) -> 1 | P13: =IF(O13="",1,IF(O13=1,2,"erreur")) -> 1 | R13: =IF(Q13="",1,IF(Q13=1,2,"erreur")) -> 1 | T13: =IF(S13="",1,IF(S13=1,2,"erreur")) -> 1 | V13: =IF(U13="",1,IF(U13=1,2,"erreur")) -> 1 | X13: =IF(W13="",1,IF(W13=1,2,"erreur")) -> 1 | Z13: =IF(Y13="",1,IF(Y13=1,2,"erreur")) -> 1 | AB13: =IF(AA13="",1,IF(AA13=1,2,"erreur")) -> 1 | AD13: =IF(AC13="",1,IF(AC13=1,2,"erreur")) -> 1 | AE13: 0.59375 | AF13: =IF(AE13="",0,1) -> 1 | AG13: =IF(AE13="",0,IF(AE13=$AE$4,1,IF(AE13=($AE$4+TIME(0,1,0)),-2,IF(AE13=($AE$4+TIME(0,2,0)),-4,IF(AE13=($AE$4+TIME(0,3,0)),-6,IF(AE13=($AE$4+TIME(0,4,0)),-8,IF(AE13=($AE$4+TIME(0,5,0)),-10,IF(AE13=($AE$4+TIME(0,6,0)),-12,IF(AE13>($AE$4+TIME(0,6,0)),-15,IF(AE13=($AE$4-TIME(0,1,0)),1,IF(AE13=($AE$4-TIME(0,2,0)),2,IF(AE13=($AE$4-TIME(0,3,0)),3,IF(AE13=($AE$4-TIME(0,4,0)),4,IF(AE13=($AE$4-TIME(0,5,0)),5,IF(AE13=($AE$4-TIME(0,6,0)),6,IF(AE13=($AE$4-TIME(0,7,0)),7,IF(AE13=($AE$4-TIME(0,8,0)),8,IF(AE13=($AE$4-TIME(0,9,0)),9,"Erreur")))))))))))))))))) -> -15 | AH13: 0.60625 | AI13: =IF(AH13="",0,IF(AH13<($AH$4+TIME(0,7,0)),3,IF(AH13>($AH$4+TIME(0,6,0)),1,("Erreur")))) -> 3 | AJ13: =IF(AH13="",0,IF(AH13=AH$4,1,IF(AH13=(AH$4+TIME(0,1,0)),-2,IF(AH13=(AH$4+TIME(0,2,0)),-4,IF(AH13=(AH$4+TIME(0,3,0)),-6,IF(AH13=(AH$4+TIME(0,4,0)),-8,IF(AH13=(AH$4+TIME(0,5,0)),-10,IF(AH13=(AH$4+TIME(0,6,0)),-12,IF(AH13>(AH$4+TIME(0,6,0)),-15,IF(AH13=(AH$4-TIME(0,1,0)),1,IF(AH13=(AH$4-TIME(0,2,0)),2,IF(AH13=(AH$4-TIME(0,3,0)),3,IF(AH13=(AH$4-TIME(0,4,0)),4,IF(AH13=(AH$4-TIME(0,5,0)),5,IF(AH13=(AH$4-TIME(0,6,0)),6,IF(AH13=(AH$4-TIME(0,7,0)),7,IF(AH13=(AH$4-TIME(0,8,0)),8,IF(AH13=(AH$4-TIME(0,9,0)),9,IF(AH13=(AH$4-TIME(0,10,0)),10,IF(AH13=(AH$4-TIME(0,11,0)),11,IF(AH13=(AH$4-TIME(0,12,0)),12,IF(AH13=(AH$4-TIME(0,13,0)),13,IF(AH13=(AH$4-TIME(0,14,0)),14,IF(AH13=(AH$4-TIME(0,15,0)),15,IF(AH13=(AH$4-TIME(0,16,0)),16,IF(AH13=(AH$4-TIME(0,17,0)),17,IF(AH13=(AH$4-TIME(0,18,0)),18,IF(AH13=(AH$4-TIME(0,19,0)),19,IF(AH13=(AH$4-TIME(0,20,0)),20,IF(AH13=(AH$4-TIME(0,21,0)),21,IF(AH13=(AH$4-TIME(0,22,0)),22,IF(AH13=(AH$4-TIME(0,23,0)),23,IF(AH13=(AH$4-TIME(0,24,0)),24,IF(AH13=(AH$4-TIME(0,25,0)),25,IF(AH13=(AH$4-TIME(0,26,0)),26,IF(AH13=(AH$4-TIME(0,27,0)),27,IF(AH13=(AH$4-TIME(0,28,0)),28,IF(AH13=(AH$4-TIME(0,29,0)),29,IF(AH13=(AH$4-TIME(0,30,0)),30,"Erreur"))))))))))))))))))))))))))))))))))))))) -> 20 | AK13: 8 | AL13: =IF(AK13="",0,IF(AK13=0,-8,IF(AK13=1,-6,IF(AK13=2,-4,IF(AK13=3,-2,IF(AK13=4,0,IF(AK13=5,4,IF(AK13=6,6,IF(AK13=7,8,IF(AK13=8,10,IF(AK13=9,12,IF(AK13=10,16,"Erreur")))))))))))) -> 10 | AM13: 0.63263889 | AN13: =IF(AM13="",0,IF(AM13<(AM$4+TIME(0,7,0)),5,IF(AM13>(AM$4+TIME(0,6,0)),1,("Erreur")))) -> 5 | AO13: =IF(AM13="",0,IF(AM13=AM$4,1,IF(AM13=(AM$4+TIME(0,1,0)),-2,IF(AM13=(AM$4+TIME(0,2,0)),-4,IF(AM13=(AM$4+TIME(0,3,0)),-6,IF(AM13=(AM$4+TIME(0,4,0)),-8,IF(AM13=(AM$4+TIME(0,5,0)),-10,IF(AM13=(AM$4+TIME(0,6,0)),-12,IF(AM13>(AM$4+TIME(0,6,0)),-15,IF(AM13=(AM$4-TIME(0,1,0)),1,IF(AM13=(AM$4-TIME(0,2,0)),2,IF(AM13=(AM$4-TIME(0,3,0)),3,IF(AM13=(AM$4-TIME(0,4,0)),4,IF(AM13=(AM$4-TIME(0,5,0)),5,IF(AM13=(AM$4-TIME(0,6,0)),6,IF(AM13=(AM$4-TIME(0,7,0)),7,IF(AM13=(AM$4-TIME(0,8,0)),8,IF(AM13=(AM$4-TIME(0,9,0)),9,IF(AM13=(AM$4-TIME(0,10,0)),10,IF(AM13=(AM$4-TIME(0,11,0)),11,IF(AM13=(AM$4-TIME(0,12,0)),12,IF(AM13=(AM$4-TIME(0,13,0)),13,IF(AM13=(AM$4-TIME(0,14,0)),14,IF(AM13=(AM$4-TIME(0,15,0)),15,IF(AM13=(AM$4-TIME(0,16,0)),16,IF(AM13=(AM$4-TIME(0,17,0)),17,IF(AM13=(AM$4-TIME(0,18,0)),18,IF(AM13=(AM$4-TIME(0,19,0)),19,IF(AM13=(AM$4-TIME(0,20,0)),20,IF(AM13=(AM$4-TIME(0,21,0)),21,IF(AM13=(AM$4-TIME(0,22,0)),22,IF(AM13=(AM$4-TIME(0,23,0)),23,IF(AM13=(AM$4-TIME(0,24,0)),24,IF(AM13=(AM$4-TIME(0,25,0)),25,IF(AM13=(AM$4-TIME(0,26,0)),26,IF(AM13=(AM$4-TIME(0,27,0)),27,IF(AM13=(AM$4-TIME(0,28,0)),28,IF(AM13=(AM$4-TIME(0,29,0)),29,IF(AM13=(AM$4-TIME(0,30,0)),30,IF(AM13=(AM$4-TIME(0,31,0)),31,IF(AM13=(AM$4-TIME(0,32,0)),32,IF(AM13=(AM$4-TIME(0,33,0)),33,IF(AM13=(AM$4-TIME(0,34,0)),34,IF(AM13=(AM$4-TIME(0,35,0)),35,IF(AM13=(AM$4-TIME(0,36,0)),36,IF(AM13=(AM$4-TIME(0,37,0)),37,IF(AM13=(AM$4-TIME(0,38,0)),38,IF(AM13=(AM$4-TIME(0,39,0)),39,IF(AM13=(AM$4-TIME(0,40,0)),40,"Erreur"))))))))))))))))))))))))))))))))))))))))))))))))) -> 17 | AP13: 8 | AQ13: =IF(AP13="",0,IF(AP13=0,-8,IF(AP13=1,-6,IF(AP13=2,-4,IF(AP13=3,-2,IF(AP13=4,0,IF(AP13=5,4,IF(AP13=6,6,IF(AP13=7,8,IF(AP13=8,10,IF(AP13=9,12,IF(AP13=10,16,"Erreur")))))))))))) -> 10 | AR13: 0.64097222 | AS13: =IF(AR13="",0,IF(AR13<(AR$4+TIME(0,7,0)),9,IF(AR13>(AR$4+TIME(0,6,0)),1,("Erreur")))) -> 9 | AT13: =IF(AR13="",0,IF(AR13=AR$4,1,IF(AR13=(AR$4+TIME(0,1,0)),-2,IF(AR13=(AR$4+TIME(0,2,0)),-4,IF(AR13=(AR$4+TIME(0,3,0)),-6,IF(AR13=(AR$4+TIME(0,4,0)),-8,IF(AR13=(AR$4+TIME(0,5,0)),-10,IF(AR13=(AR$4+TIME(0,6,0)),-12,IF(AR13>(AR$4+TIME(0,6,0)),-15,IF(AR13=(AR$4-TIME(0,1,0)),1,IF(AR13=(AR$4-TIME(0,2,0)),2,IF(AR13=(AR$4-TIME(0,3,0)),3,IF(AR13=(AR$4-TIME(0,4,0)),4,IF(AR13=(AR$4-TIME(0,5,0)),5,IF(AR13=(AR$4-TIME(0,6,0)),6,IF(AR13=(AR$4-TIME(0,7,0)),7,IF(AR13=(AR$4-TIME(0,8,0)),8,IF(AR13=(AR$4-TIME(0,9,0)),9,IF(AR13=(AR$4-TIME(0,10,0)),10,IF(AR13=(AR$4-TIME(0,11,0)),11,IF(AR13=(AR$4-TIME(0,12,0)),12,IF(AR13=(AR$4-TIME(0,13,0)),13,IF(AR13=(AR$4-TIME(0,14,0)),14,IF(AR13=(AR$4-TIME(0,15,0)),15,IF(AR13=(AR$4-TIME(0,16,0)),16,IF(AR13=(AR$4-TIME(0,17,0)),17,IF(AR13=(AR$4-TIME(0,18,0)),18,IF(AR13=(AR$4-TIME(0,19,0)),19,IF(AR13=(AR$4-TIME(0,20,0)),20,IF(AR13=(AR$4-TIME(0,21,0)),21,IF(AR13=(AR$4-TIME(0,22,0)),22,IF(AR13=(AR$4-TIME(0,23,0)),23,IF(AR13=(AR$4-TIME(0,24,0)),24,IF(AR13=(AR$4-TIME(0,25,0)),25,IF(AR13=(AR$4-TIME(0,26,0)),26,IF(AR13=(AR$4-TIME(0,27,0)),27,IF(AR13=(AR$4-TIME(0,28,0)),28,IF(AR13=(AR$4-TIME(0,29,0)),29,IF(AR13=(AR$4-TIME(0,30,0)),30,IF(AR13=(AR$4-TIME(0,31,0)),31,IF(AR13=(AR$4-TIME(0,32,0)),32,IF(AR13=(AR$4-TIME(0,33,0)),33,IF(AR13=(AR$4-TIME(0,34,0)),34,IF(AR13=(AR$4-TIME(0,35,0)),35,IF(AR13=(AR$4-TIME(0,36,0)),36,IF(AR13=(AR$4-TIME(0,37,0)),37,IF(AR13=(AR$4-TIME(0,38,0)),38,IF(AR13=(AR$4-TIME(0,39,0)),39,IF(AR13=(AR$4-TIME(0,40,0)),40,"Erreur"))))))))))))))))))))))))))))))))))))))))))))))))) -> 40 | AU13: 4 | AV13: =IF(AU13="",0,IF(AU13=1,9,1)) -> 1
A14: =SUM(B14:D14) -> 147 | B14: =H14+J14+L14+N14+P14+R14+T14+V14+X14+Z14+AB14+AD14+AG14+AJ14+AO14+AT14 -> 98 | C14: =AF14+AI14+AN14+AS14+AV14 -> 17 | D14: =AL14+AQ14 -> 32 | F14: 6 | H14: =IF(G14="",1,IF(G14=1,2,"erreur")) -> 1 | J14: =IF(I14="",1,IF(I14=1,2,"erreur")) -> 1 | L14: =IF(K14="",1,IF(K14=1,2,"erreur")) -> 1 | N14: =IF(M14="",1,IF(M14=1,2,"erreur")) -> 1 | P14: =IF(O14="",1,IF(O14=1,2,"erreur")) -> 1 | R14: =IF(Q14="",1,IF(Q14=1,2,"erreur")) -> 1 | T14: =IF(S14="",1,IF(S14=1,2,"erreur")) -> 1 | V14: =IF(U14="",1,IF(U14=1,2,"erreur")) -> 1 | X14: =IF(W14="",1,IF(W14=1,2,"erreur")) -> 1 | Z14: =IF(Y14="",1,IF(Y14=1,2,"erreur")) -> 1 | AB14: =IF(AA14="",1,IF(AA14=1,2,"erreur")) -> 1 | AD14: =IF(AC14="",1,IF(AC14=1,2,"erreur")) -> 1 | AF14: =IF(AE14="",0,1) -> 0 | AG14: =IF(AE14="",0,IF(AE14=$AE$4,1,IF(AE14=($AE$4+TIME(0,1,0)),-2,IF(AE14=($AE$4+TIME(0,2,0)),-4,IF(AE14=($AE$4+TIME(0,3,0)),-6,IF(AE14=($AE$4+TIME(0,4,0)),-8,IF(AE14=($AE$4+TIME(0,5,0)),-10,IF(AE14=($AE$4+TIME(0,6,0)),-12,IF(AE14>($AE$4+TIME(0,6,0)),-15,IF(AE14=($AE$4-TIME(0,1,0)),1,IF(AE14=($AE$4-TIME(0,2,0)),2,IF(AE14=($AE$4-TIME(0,3,0)),3,IF(AE14=($AE$4-TIME(0,4,0)),4,IF(AE14=($AE$4-TIME(0,5,0)),5,IF(AE14=($AE$4-TIME(0,6,0)),6,IF(AE14=($AE$4-TIME(0,7,0)),7,IF(AE14=($AE$4-TIME(0,8,0)),8,IF(AE14=($AE$4-TIME(0,9,0)),9,"Erreur")))))))))))))))))) -> 0 | AH14: 0.6 | AI14: =IF(AH14="",0,IF(AH14<($AH$4+TIME(0,7,0)),3,IF(AH14>($AH$4+TIME(0,6,0)),1,("Erreur")))) -> 3 | AJ14: =IF(AH14="",0,IF(AH14=AH$4,1,IF(AH14=(AH$4+TIME(0,1,0)),-2,IF(AH14=(AH$4+TIME(0,2,0)),-4,IF(AH14=(AH$4+TIME(0,3,0)),-6,IF(AH14=(AH$4+TIME(0,4,0)),-8,IF(AH14=(AH$4+TIME(0,5,0)),-10,IF(AH14=(AH$4+TIME(0,6,0)),-12,IF(AH14>(AH$4+TIME(0,6,0)),-15,IF(AH14=(AH$4-TIME(0,1,0)),1,IF(AH14=(AH$4-TIME(0,2,0)),2,IF(AH14=(AH$4-TIME(0,3,0)),3,IF(AH14=(AH$4-TIME(0,4,0)),4,IF(AH14=(AH$4-TIME(0,5,0)),5,IF(AH14=(AH$4-TIME(0,6,0)),6,IF(AH14=(AH$4-TIME(0,7,0)),7,IF(AH14=(AH$4-TIME(0,8,0)),8,IF(AH14=(AH$4-TIME(0,9,0)),9,IF(AH14=(AH$4-TIME(0,10,0)),10,IF(AH14=(AH$4-TIME(0,11,0)),11,IF(AH14=(AH$4-TIME(0,12,0)),12,IF(AH14=(AH$4-TIME(0,13,0)),13,IF(AH14=(AH$4-TIME(0,14,0)),14,IF(AH14=(AH$4-TIME(0,15,0)),15,IF(AH14=(AH$4-TIME(0,16,0)),16,IF(AH14=(AH$4-TIME(0,17,0)),17,IF(AH14=(AH$4-TIME(0,18,0)),18,IF(AH14=(AH$4-TIME(0,19,0)),19,IF(AH14=(AH$4-TIME(0,20,0)),20,IF(AH14=(AH$4-TIME(0,21,0)),21,IF(AH14=(AH$4-TIME(0,22,0)),22,IF(AH14=(AH$4-TIME(0,23,0)),23,IF(AH14=(AH$4-TIME(0,24,0)),24,IF(AH14=(AH$4-TIME(0,25,0)),25,IF(AH14=(AH$4-TIME(0,26,0)),26,IF(AH14=(AH$4-TIME(0,27,0)),27,IF(AH14=(AH$4-TIME(0,28,0)),28,IF(AH14=(AH$4-TIME(0,29,0)),29,IF(AH14=(AH$4-TIME(0,30,0)),30,"Erreur"))))))))))))))))))))))))))))))))))))))) -> 29 | AK14: 10 | AL14: =IF(AK14="",0,IF(AK14=0,-8,IF(AK14=1,-6,IF(AK14=2,-4,IF(AK14=3,-2,IF(AK14=4,0,IF(AK14=5,4,IF(AK14=6,6,IF(AK14=7,8,IF(AK14=8,10,IF(AK14=9,12,IF(AK14=10,16,"Erreur")))))))))))) -> 16 | AM14: 0.61805556 | AN14: =IF(AM14="",0,IF(AM14<(AM$4+TIME(0,7,0)),5,IF(AM14>(AM$4+TIME(0,6,0)),1,("Erreur")))) -> 5 | AO14: =IF(AM14="",0,IF(AM14=AM$4,1,IF(AM14=(AM$4+TIME(0,1,0)),-2,IF(AM14=(AM$4+TIME(0,2,0)),-4,IF(AM14=(AM$4+TIME(0,3,0)),-6,IF(AM14=(AM$4+TIME(0,4,0)),-8,IF(AM14=(AM$4+TIME(0,5,0)),-10,IF(AM14=(AM$4+TIME(0,6,0)),-12,IF(AM14>(AM$4+TIME(0,6,0)),-15,IF(AM14=(AM$4-TIME(0,1,0)),1,IF(AM14=(AM$4-TIME(0,2,0)),2,IF(AM14=(AM$4-TIME(0,3,0)),3,IF(AM14=(AM$4-TIME(0,4,0)),4,IF(AM14=(AM$4-TIME(0,5,0)),5,IF(AM14=(AM$4-TIME(0,6,0)),6,IF(AM14=(AM$4-TIME(0,7,0)),7,IF(AM14=(AM$4-TIME(0,8,0)),8,IF(AM14=(AM$4-TIME(0,9,0)),9,IF(AM14=(AM$4-TIME(0,10,0)),10,IF(AM14=(AM$4-TIME(0,11,0)),11,IF(AM14=(AM$4-TIME(0,12,0)),12,IF(AM14=(AM$4-TIME(0,13,0)),13,IF(AM14=(AM$4-TIME(0,14,0)),14,IF(AM14=(AM$4-TIME(0,15,0)),15,IF(AM14=(AM$4-TIME(0,16,0)),16,IF(AM14=(AM$4-TIME(0,17,0)),17,IF(AM14=(AM$4-TIME(0,18,0)),18,IF(AM14=(AM$4-TIME(0,19,0)),19,IF(AM14=(AM$4-TIME(0,20,0)),20,IF(AM14=(AM$4-TIME(0,21,0)),21,IF(AM14=(AM$4-TIME(0,22,0)),22,IF(AM14=(AM$4-TIME(0,23,0)),23,IF(AM14=(AM$4-TIME(0,24,0)),24,IF(AM14=(AM$4-TIME(0,25,0)),25,IF(AM14=(AM$4-TIME(0,26,0)),26,IF(AM14=(AM$4-TIME(0,27,0)),27,IF(AM14=(AM$4-TIME(0,28,0)),28,IF(AM14=(AM$4-TIME(0,29,0)),29,IF(AM14=(AM$4-TIME(0,30,0)),30,IF(AM14=(AM$4-TIME(0,31,0)),31,IF(AM14=(AM$4-TIME(0,32,0)),32,IF(AM14=(AM$4-TIME(0,33,0)),33,IF(AM14=(AM$4-TIME(0,34,0)),34,IF(AM14=(AM$4-TIME(0,35,0)),35,IF(AM14=(AM$4-TIME(0,36,0)),36,IF(AM14=(AM$4-TIME(0,37,0)),37,IF(AM14=(AM$4-TIME(0,38,0)),38,IF(AM14=(AM$4-TIME(0,39,0)),39,IF(AM14=(AM$4-TIME(0,40,0)),40,"Erreur"))))))))))))))))))))))))))))))))))))))))))))))))) -> 38 | AP14: 10 | AQ14: =IF(AP14="",0,IF(AP14=0,-8,IF(AP14=1,-6,IF(AP14=2,-4,IF(AP14=3,-2,IF(AP14=4,0,IF(AP14=5,4,IF(AP14=6,6,IF(AP14=7,8,IF(AP14=8,10,IF(AP14=9,12,IF(AP14=10,16,"Erreur")))))))))))) -> 16 | AR14: 0.65555556 | AS14: =IF(AR14="",0,IF(AR14<(AR$4+TIME(0,7,0)),9,IF(AR14>(AR$4+TIME(0,6,0)),1,("Erreur")))) -> 9 | AT14: =IF(AR14="",0,IF(AR14=AR$4,1,IF(AR14=(AR$4+TIME(0,1,0)),-2,IF(AR14=(AR$4+TIME(0,2,0)),-4,IF(AR14=(AR$4+TIME(0,3,0)),-6,IF(AR14=(AR$4+TIME(0,4,0)),-8,IF(AR14=(AR$4+TIME(0,5,0)),-10,IF(AR14=(AR$4+TIME(0,6,0)),-12,IF(AR14>(AR$4+TIME(0,6,0)),-15,IF(AR14=(AR$4-TIME(0,1,0)),1,IF(AR14=(AR$4-TIME(0,2,0)),2,IF(AR14=(AR$4-TIME(0,3,0)),3,IF(AR14=(AR$4-TIME(0,4,0)),4,IF(AR14=(AR$4-TIME(0,5,0)),5,IF(AR14=(AR$4-TIME(0,6,0)),6,IF(AR14=(AR$4-TIME(0,7,0)),7,IF(AR14=(AR$4-TIME(0,8,0)),8,IF(AR14=(AR$4-TIME(0,9,0)),9,IF(AR14=(AR$4-TIME(0,10,0)),10,IF(AR14=(AR$4-TIME(0,11,0)),11,IF(AR14=(AR$4-TIME(0,12,0)),12,IF(AR14=(AR$4-TIME(0,13,0)),13,IF(AR14=(AR$4-TIME(0,14,0)),14,IF(AR14=(AR$4-TIME(0,15,0)),15,IF(AR14=(AR$4-TIME(0,16,0)),16,IF(AR14=(AR$4-TIME(0,17,0)),17,IF(AR14=(AR$4-TIME(0,18,0)),18,IF(AR14=(AR$4-TIME(0,19,0)),19,IF(AR14=(AR$4-TIME(0,20,0)),20,IF(AR14=(AR$4-TIME(0,21,0)),21,IF(AR14=(AR$4-TIME(0,22,0)),22,IF(AR14=(AR$4-TIME(0,23,0)),23,IF(AR14=(AR$4-TIME(0,24,0)),24,IF(AR14=(AR$4-TIME(0,25,0)),25,IF(AR14=(AR$4-TIME(0,26,0)),26,IF(AR14=(AR$4-TIME(0,27,0)),27,IF(AR14=(AR$4-TIME(0,28,0)),28,IF(AR14=(AR$4-TIME(0,29,0)),29,IF(AR14=(AR$4-TIME(0,30,0)),30,IF(AR14=(AR$4-TIME(0,31,0)),31,IF(AR14=(AR$4-TIME(0,32,0)),32,IF(AR14=(AR$4-TIME(0,33,0)),33,IF(AR14=(AR$4-TIME(0,34,0)),34,IF(AR14=(AR$4-TIME(0,35,0)),35,IF(AR14=(AR$4-TIME(0,36,0)),36,IF(AR14=(AR$4-TIME(0,37,0)),37,IF(AR14=(AR$4-TIME(0,38,0)),38,IF(AR14=(AR$4-TIME(0,39,0)),39,IF(AR14=(AR$4-TIME(0,40,0)),40,"Erreur"))))))))))))))))))))))))))))))))))))))))))))))))) -> 19 | AV14: =IF(AU14="",0,IF(AU14=1,9,1)) -> 0
AM16: formule en isolant 15:10
AM17: =IF(AM12=(AM$4-TIME(0,16,0)),16,"Erreur") -> Erreur
AM18: version texte
AM19: SI(AM14=(AM$4-TEMPS(0;16;0));16;"Erreur")
AM21: formule en isolant 14:50
AM22: =IF(AM14=(AM$4-TIME(0,38,0)),38,"Erreur") -> 38
AM23: version texte
AM24: SI(AM14=(AM$4-TEMPS(0;38;0));38;"Erreur")

Sheet bonus_malus
A1: Écart minutes | B1: Attribution points
A2: -90 | B2: 180 | E2: max | F2: =Debug!AM4 -> 0.64444444
A3: =A2+1 -> -89 | B3: 178 | E3: CP 2 Time | F3: Effective Execution | H3: et si tu veux détailler en affichant les minutes d'écart
A4: =A3+1 -> -88 | B4: 176 | E4: =Debug!AM9 -> 0.64583333 | F4: =IF(E4<>"",INDEX(B:B,MATCH(IF(F$2>E4,-MINUTE(F$2-E4),MINUTE(E4-F$2)),A:A,0)),"") -> -4 | H4: =IF(E4<>"",IF(F$2>E4,-MINUTE(F$2-E4),MINUTE(E4-F$2)),"") -> 2
A5: =A4+1 -> -87 | B5: 174 | E5: =Debug!AM10 -> 0.64930556 | F5: =IF(E5<>"",INDEX(B:B,MATCH(IF(F$2>E5,-MINUTE(F$2-E5),MINUTE(E5-F$2)),A:A,0)),"") -> -14 | H5: =IF(E5<>"",IF(F$2>E5,-MINUTE(F$2-E5),MINUTE(E5-F$2)),"") -> 7
A6: =A5+1 -> -86 | B6: 172 | E6: =Debug!AM11 -> 0.65277778 | F6: =IF(E6<>"",INDEX(B:B,MATCH(IF(F$2>E6,-MINUTE(F$2-E6),MINUTE(E6-F$2)),A:A,0)),"") -> -24 | H6: =IF(E6<>"",IF(F$2>E6,-MINUTE(F$2-E6),MINUTE(E6-F$2)),"") -> 12
A7: =A6+1 -> -85 | B7: 170 | E7: =Debug!AM12 -> 0.63194444 | F7: =IF(E7<>"",INDEX(B:B,MATCH(IF(F$2>E7,-MINUTE(F$2-E7),MINUTE(E7-F$2)),A:A,0)),"") -> 36 | H7: =IF(E7<>"",IF(F$2>E7,-MINUTE(F$2-E7),MINUTE(E7-F$2)),"") -> -18
A8: =A7+1 -> -84 | B8: 168 | E8: =Debug!AM13 -> 0.63263889 | F8: =IF(E8<>"",INDEX(B:B,MATCH(IF(F$2>E8,-MINUTE(F$2-E8),MINUTE(E8-F$2)),A:A,0)),"") -> 34 | H8: =IF(E8<>"",IF(F$2>E8,-MINUTE(F$2-E8),MINUTE(E8-F$2)),"") -> -17
A9: =A8+1 -> -83 | B9: 166 | E9: =Debug!AM14 -> 0.61805556 | F9: =IF(E9<>"",INDEX(B:B,MATCH(IF(F$2>E9,-MINUTE(F$2-E9),MINUTE(E9-F$2)),A:A,0)),"") -> 76 | H9: =IF(E9<>"",IF(F$2>E9,-MINUTE(F$2-E9),MINUTE(E9-F$2)),"") -> -38
A10: =A9+1 -> -82 | B10: 164
A11: =A10+1 -> -81 | B11: 162
A12: =A11+1 -> -80 | B12: 160
A13: =A12+1 -> -79 | B13: 158
A14: =A13+1 -> -78 | B14: 156
A15: =A14+1 -> -77 | B15: 154
A16: =A15+1 -> -76 | B16: 152
A17: =A16+1 -> -75 | B17: 150
A18: =A17+1 -> -74 | B18: 148
A19: =A18+1 -> -73 | B19: 146
A20: =A19+1 -> -72 | B20: 144
A21: =A20+1 -> -71 | B21: 142
... A182: =A181+1 -> 90 | B182: -180
