Workbook

Sheet Accueil
A1: Anglais - Verbes irréguliers
A5: • Matériel nécessaire | N5: Version 2.21 - pour Excel 2007
M6: Fonctionnel [Dernière modif. : 24/01/2010]
A7: - Microsoft Excel sous Windows | O7: Historique des versions
A8: • Fonctionnement
A10: Le fonctionnement est simple, et permet d'apprendre la liste de tous les verbes irréguliers à apprendre. Commencez par inscrire le numéro de votre essai en haut à gauche. Les verbes sont donnés dans l'ordre alphabétique, dans une liste. Par défaut, les verbes à trouver sont cachés d'une couleur noire. Le premier niveau consiste à trouver les préterit et participe passé des verbes donnés. Le deuxième niveau, quant à lui, ne donne que la traduction, vous devrez donc trouver le verbe, le préterit et le participe passé. Cette méthode vous entraîne à reconnaître les verbes irréguliers. Une fois le test terminé, cliquez sur "voir mon score". Vous pouvez découvrir vos erreurs en allant à la droite de la colonne "score", ou en découvrant les verbes cachés.
A14: • Calcul de votre score
A16: A la droite de chacune de vos réponses se situe une colonne "note". Celle-ci affiche le nombre de points selon les bonnes ou les mauvaises réponses pour chaque catégorie. Par défaut, elle est en noir, vous devrez changer la couleur pour voir votre score sur chaque ligne.
A18: - Si votre réponse est exacte, sur toute la ligne, vous gagnez trois points (un point par bonne réponse); mettez le numéro du verbe (colonne A) en vert.
A19: - Si une ou deux réponses sont justes, vous gagnez un ou deux points ; mettez le numéro du verbe (colonne A) en jaune.
A20: - Si votre réponse est fausse, voire lamentable, vous ne gagnez aucune point ; mettez le numéro du verbe (colonne A) en rouge.
A21: Le score sera affiché sur la page d'accueil, ainsi qu'en bas de la feuille de verbes. Mettre le numéro en couleur permet de savoir les verbes où vous avez du mal.
A22: • Séquence de verbes
A24: Si vous ne souhaitez faire qu'une partie des verbes à apprendre, faites le même test en ne faisant que les verbes qui vous interressent, par exemple, les lettres A et B. 20 séquences sont disponibles par test (à voir après les résultats des tests), elles calculent automatiquement votre score sur la séquence correspondante.
A26: • Cacher les réponses
A28: Séléctionnez les colonnes D et E en faisant un cliquer-déplacer dessus, et cliquez sur l'outil de coloriage pour peinturlurer la colonne en noir.
... A37: Révision
A42: Le test [Niveau 1] | F42: Le test [Niveau 2] | K42: Dernier résultat [Niveau 1] | N42: Dernier résultat [Niveau 2]
K43: ='Scores (Niveau 2)'!F12 -> 0 | N43: ='Scores (Niveau 1)'!F12 -> 0
A47: Scores [Niveau 1] | F47: Scores [Niveau 2] | K47: Meilleur résultat [Niveau 1] | N47: Meilleur résultat [Niveau 2]
K48: =MAX('Scores (Niveau 2)'!F53:G72,'Scores (Niveau 2)'!O53:P72) -> 0 | N48: =MAX('Scores (Niveau 1)'!F53:G72,'Scores (Niveau 1)'!O53:P72) -> 0
A53: Rapporter une erreur

Sheet Révision
A1: Révision
A5: • Schémas répétitifs
A7: On retrouve certains schémas qui se répètent dans le trio verbe/prétérit/participe passé. En voici les cinq principaux exemples.
A8: NB : L'astérisque (*) symbolise la terminaison.
A9: 1) | B9: -* / -* / -* | I9: 2) | J9: -?* / -?* / -*n
B11: Trois fois la même terminaison. | J11: Terminaison en o- (chosen) ou i- (ridden) puis en/ne/n au participe passé.
B13: Itérations : | C13: 17 | J13: Itérations : | K13: 43
B14: Exemples : | C14: cut - cut - cut | J14: Exemples : | K14: awake, awoke, awoken
C15: cost - cost - cost | K15: break, broke, broken
C16: let - let - let | K16: swear, swore, sworn
A17: 3) | B17: -* / -t / -t | I17: 4) | J17: -i* / -uoua* / -u*
B19: Prétérit et participe passé identiques, finissant par un t. | J19: Verbe ayant un -i- au présent, puis un -u- ou -a- au préterit et -u- au participe passé.
B21: Itérations : | C21: 32 | J21: Itérations : | K21: 17
B22: Exemples : | C22: bend - bent - bent | J22: Exemples : | K22: begin, began, begun
C23: dream - dreamt - dreamt | K23: cling, clung, clung
C24: feel - felt - felt | K24: dig, dug, dug
A25: 5) | B25: -* / -*d / -*d
B27: Terminaison en -d au préterit et au participe passé.
B29: Itérations : | C29: 20
B30: Exemples : | C30: have, had, had
C31: flee, fled, fled
C32: hear, heard, heard

Sheet Test (Niveau 1)
C1: Test [Niveau 1] | G1: Essai n°
G2: 1
A3: n° | B3: Verbe | C3: Traduction | D3: Préterit | E3: Participe passé | F3: Préterit | G3: Participe passé | H3: Note | I3: Préterit | J3: Participe passé
A4: 1 | B4: awake | C4: (se) réveiller | D4: awoke | E4: awoken | H4: =I4+J4 -> 0 | I4: =D4=F4 -> FALSE | J4: =E4=G4 -> FALSE
A5: 2 | B5: bear | C5: supporter | D5: bore | E5: borne | H5: =I5+J5 -> 0 | I5: =D5=F5 -> FALSE | J5: =E5=G5 -> FALSE
A6: 3 | B6: beat | C6: battre | D6: beat | E6: beaten | H6: =I6+J6 -> 0 | I6: =D6=F6 -> FALSE | J6: =E6=G6 -> FALSE
A7: 4 | B7: become | C7: devenir | D7: became | E7: become | H7: =I7+J7 -> 0 | I7: =D7=F7 -> FALSE | J7: =E7=G7 -> FALSE
A8: 5 | B8: begin | C8: commencer | D8: began | E8: begun | H8: =I8+J8 -> 0 | I8: =D8=F8 -> FALSE | J8: =E8=G8 -> FALSE
A9: 6 | B9: bend | C9: (se) courber | D9: bent | E9: bent | H9: =I9+J9 -> 0 | I9: =D9=F9 -> FALSE | J9: =E9=G9 -> FALSE
A10: 7 | B10: bet | C10: parier | D10: bet | E10: bet | H10: =I10+J10 -> 0 | I10: =D10=F10 -> FALSE | J10: =E10=G10 -> FALSE
A11: 8 | B11: bid | C11: offrir (un prix) | D11: bid | E11: bid | H11: =I11+J11 -> 0 | I11: =D11=F11 -> FALSE | J11: =E11=G11 -> FALSE
A12: 9 | B12: bind | C12: lier, relier | D12: bound | E12: bound | H12: =I12+J12 -> 0 | I12: =D12=F12 -> FALSE | J12: =E12=G12 -> FALSE
A13: 10 | B13: bite | C13: mordre | D13: bit | E13: bitten | H13: =I13+J13 -> 0 | I13: =D13=F13 -> FALSE | J13: =E13=G13 -> FALSE
A14: 11 | B14: bleed | C14: saigner | D14: bled | E14: bled | H14: =I14+J14 -> 0 | I14: =D14=F14 -> FALSE | J14: =E14=G14 -> FALSE
A15: 12 | B15: blow | C15: souffler | D15: blew | E15: blown | H15: =I15+J15 -> 0 | I15: =D15=F15 -> FALSE | J15: =E15=G15 -> FALSE
... A157: 154 | B157: write | C157: écrire | D157: wrote | E157: wrote | H157: =I157+J157 -> 0 | I157: =D157=F157 -> FALSE | J157: =E157=G157 -> FALSE
H158: =SUM(H4:H157) -> 0
D160: Voir mon score

Sheet Scores (Niveau 1)
A1: Scores [Niveau 1]
A6: Score du dernier essai
B8: Essai n° | F8: ='Test (Niveau 1)'!G2 -> 1
B10: Points | F10: ='Test (Niveau 1)'!H158&"/308" -> 0/308
B12: Taux | F12: =('Test (Niveau 1)'!H158*100/308)/100 -> 0
A16: Par séquence
A19: Séquence de lettres | J19: Séquence de numéros
A22: Séquence | B22: A-B | D22: C-E | F22: F-G | J22: Séquence | K22: 1-25 | M22: 26-50 | O22: 51-75
A24: Points | B24: =SUM('Test (Niveau 1)'!H4:H22) -> 0 | C24: 38 | D24: =SUM('Test (Niveau 1)'!H23:H39) -> 0 | E24: 34 | F24: =SUM('Test (Niveau 1)'!H40:H56) -> 0 | G24: 34 | J24: Points | K24: =SUM('Test (Niveau 1)'!H4:H28) -> 0 | L24: 50 | M24: =SUM('Test (Niveau 1)'!H29:H53) -> 0 | N24: 50 | O24: =SUM('Test (Niveau 1)'!H54:H78) -> 0 | P24: 50
A26: Taux | B26: =(B24*100/C24)/100 -> 0 | D26: =(D24*100/E24)/100 -> 0 | F26: =(F24*100/G24)/100 -> 0 | J26: Taux | K26: =(K24*100/L24)/100 -> 0 | M26: =(M24*100/N24)/100 -> 0 | O26: =(O24*100/P24)/100 -> 0
A28: Séquence | B28: H-L | D28: M-R | F28: S | J28: Séquence | K28: 76-100 | M28: 101-125 | O28: 126-154
A30: Points | B30: =SUM('Test (Niveau 1)'!H57:H77) -> 0 | C30: 42 | D30: =SUM('Test (Niveau 1)'!H78:H89) -> 0 | E30: 24 | F30: =SUM('Test (Niveau 1)'!H90:H140) -> 0 | G30: 102 | J30: Points | K30: =SUM('Test (Niveau 1)'!H79:H103) -> 0 | L30: 50 | M30: =SUM('Test (Niveau 1)'!H104:H128) -> 0 | N30: 50 | O30: =SUM('Test (Niveau 1)'!H129:H157) -> 0 | P30: 58
A32: Taux | B32: =(B30*100/C30)/100 -> 0 | D32: =(D30*100/E30)/100 -> 0 | F32: =(F30*100/G30)/100 -> 0 | J32: Taux | K32: =(K30*100/L30)/100 -> 0 | M32: =(M30*100/N30)/100 -> 0 | O32: =(O30*100/P30)/100 -> 0
A34: Séquence | B34: Saw-Smell | D34: Sow-Swing | F34: T-W | J34: Séquence | K34: 1-50 | M34: 51-100 | O34: 101-154
A36: Points | B36: =SUM('Test (Niveau 1)'!H90:H115) -> 0 | C36: 52 | D36: =SUM('Test (Niveau 1)'!H116:H140) -> 0 | E36: 50 | F36: =SUM('Test (Niveau 1)'!H141:H157) -> 0 | G36: 34 | J36: Points | K36: =SUM('Test (Niveau 1)'!H4:H53) -> 0 | L36: 100 | M36: =SUM('Test (Niveau 1)'!H54:H103) -> 0 | N36: 100 | O36: =SUM('Test (Niveau 1)'!H104:H157) -> 0 | P36: 108
A38: Taux | B38: =(B36*100/C36)/100 -> 0 | D38: =(D36*100/E36)/100 -> 0 | F38: =(F36*100/G36)/100 -> 0 | J38: Taux | K38: =(K36*100/L36)/100 -> 0 | M38: =(M36*100/N36)/100 -> 0 | O38: =(O36*100/P36)/100 -> 0
J40: Séquence | K40: 1-75 | M40: 76-154
J42: Points | K42: =SUM('Test (Niveau 1)'!H4:H78) -> 0 | L42: 150 | M42: =SUM('Test (Niveau 1)'!H79:H157) -> 0 | N42: 158
J44: Taux | K44: =(K42*100/L42)/100 -> 0 | M44: =(M42*100/N42)/100 -> 0
A48: Historique des résultats | J48: Historique des résultats
A51: Essai | B51: Séquence | D51: Points | F51: Taux | J51: Essai | K51: Séquence | M51: Points | O51: Taux
A53: 1 | B53: Tous | D53: 0 | F53: =(D53*100/308)/100 -> 0 | J53: 11 | K53: Tous | M53: 0 | O53: =(M53*100/308)/100 -> 0
A55: 2 | B55: Tous | D55: 0 | F55: =(D55*100/308)/100 -> 0 | J55: 12 | K55: Tous | M55: 0 | O55: =(M55*100/308)/100 -> 0
A57: 3 | B57: Tous | D57: 0 | F57: =(D57*100/308)/100 -> 0 | J57: 13 | K57: Tous | M57: 0 | O57: =(M57*100/308)/100 -> 0
A59: 4 | B59: Tous | D59: 0 | F59: =(D59*100/308)/100 -> 0 | J59: 14 | K59: Tous | M59: 0 | O59: =(M59*100/308)/100 -> 0
A61: 5 | B61: Tous | D61: 0 | F61: =(D61*100/308)/100 -> 0 | J61: 15 | K61: Tous | M61: 0 | O61: =(M61*100/308)/100 -> 0
A63: 6 | B63: Tous | D63: 0 | F63: =(D63*100/308)/100 -> 0 | J63: 16 | K63: Tous | M63: 0 | O63: =(M63*100/308)/100 -> 0
A65: 7 | B65: Tous | D65: 0 | F65: =(D65*100/308)/100 -> 0 | J65: 17 | K65: Tous | M65: 0 | O65: =(M65*100/308)/100 -> 0
A67: 8 | B67: Tous | D67: 0 | F67: =(D67*100/308)/100 -> 0 | J67: 18 | K67: Tous | M67: 0 | O67: =(M67*100/308)/100 -> 0
A69: 9 | B69: Tous | D69: 0 | F69: =(D69*100/308)/100 -> 0 | J69: 19 | K69: Tous | M69: 0 | O69: =(M69*100/308)/100 -> 0
A71: 10 | B71: Tous | D71: 0 | F71: =(D71*100/308)/100 -> 0 | J71: 20 | K71: Tous | M71: 0 | O71: =(M71*100/308)/100 -> 0

Sheet Test (Niveau 2)
C1: Test [Niveau 2] | H1: Essai n°
H2: 1
A3: n° | B3: Traduction | C3: Verbe | D3: Préterit | E3: Participe passé | F3: Verbe | G3: Préterit | H3: Participe passé | I3: Note | J3: Verbe | K3: Préterit | L3: Participe passé
A4: 1 | B4: acheter | C4: buy | D4: bought | E4: bought | I4: =J4+K4+L4 -> 0 | J4: =C4=F4 -> FALSE | K4: =D4=G4 -> FALSE | L4: =E4=H4 -> FALSE
A5: 2 | B5: aller | C5: go | D5: went | E5: gone | I5: =J5+K5+L5 -> 0 | J5: =C5=F5 -> FALSE | K5: =D5=G5 -> FALSE | L5: =E5=H5 -> FALSE
A6: 3 | B6: aller à toute vitesse | C6: speed | D6: sped | E6: sped | I6: =J6+K6+L6 -> 0 | J6: =C6=F6 -> FALSE | K6: =D6=G6 -> FALSE | L6: =E6=H6 -> FALSE
A7: 4 | B7: aller furtivement | C7: slink | D7: slunk | E7: slunk | I7: =J7+K7+L7 -> 0 | J7: =C7=F7 -> FALSE | K7: =D7=G7 -> FALSE | L7: =E7=H7 -> FALSE
A8: 5 | B8: allumer | C8: light | D8: lit | E8: lit | I8: =J8+K8+L8 -> 0 | J8: =C8=F8 -> FALSE | K8: =D8=G8 -> FALSE | L8: =E8=H8 -> FALSE
A9: 6 | B9: apporter | C9: bring | D9: brought | E9: brought | I9: =J9+K9+L9 -> 0 | J9: =C9=F9 -> FALSE | K9: =D9=G9 -> FALSE | L9: =E9=H9 -> FALSE
A10: 7 | B10: apprendre | C10: learn | D10: learnt | E10: learnt | I10: =J10+K10+L10 -> 0 | J10: =C10=F10 -> FALSE | K10: =D10=G10 -> FALSE | L10: =E10=H10 -> FALSE
A11: 8 | B11: attraper | C11: catch | D11: caught | E11: caught | I11: =J11+K11+L11 -> 0 | J11: =C11=F11 -> FALSE | K11: =D11=G11 -> FALSE | L11: =E11=H11 -> FALSE
A12: 9 | B12: avoir | C12: have | D12: had | E12: had | I12: =J12+K12+L12 -> 0 | J12: =C12=F12 -> FALSE | K12: =D12=G12 -> FALSE | L12: =E12=H12 -> FALSE
A13: 10 | B13: balayer | C13: sweep | D13: swept | E13: swept | I13: =J13+K13+L13 -> 0 | J13: =C13=F13 -> FALSE | K13: =D13=G13 -> FALSE | L13: =E13=H13 -> FALSE
A14: 11 | B14: battre | C14: beat | D14: beat | E14: beaten | I14: =J14+K14+L14 -> 0 | J14: =C14=F14 -> FALSE | K14: =D14=G14 -> FALSE | L14: =E14=H14 -> FALSE
A15: 12 | B15: blesser | C15: hurt | D15: hurt | E15: hurt | I15: =J15+K15+L15 -> 0 | J15: =C15=F15 -> FALSE | K15: =D15=G15 -> FALSE | L15: =E15=H15 -> FALSE
... A157: 154 | B157: voler, dérober | C157: steal | D157: stole | E157: stolen | I157: =J157+K157+L157 -> 0 | J157: =C157=F157 -> FALSE | K157: =D157=G157 -> FALSE | L157: =E157=H157 -> FALSE
I158: =SUM(I4:I157) -> 0
D160: Voir mon score

Sheet Scores (Niveau 2)
A1: Scores [Niveau 2]
A6: Score du dernier essai
B8: Essai n° | F8: ='Test (Niveau 2)'!H2 -> 1
B10: Points | F10: ='Test (Niveau 2)'!I158&"/462" -> 0/462
B12: Taux | F12: =('Test (Niveau 2)'!I158*100/462)/100 -> 0
A16: Par séquence
A19: Séquence de lettres | J19: Séquence de numéros
A22: Séquence | B22: A-B | D22: C | F22: D-E | J22: Séquence | K22: 1-25 | M22: 26-50 | O22: 51-75
A24: Points | B24: =SUM('Test (Niveau 2)'!I4:I18) -> 0 | C24: 45 | D24: =SUM('Test (Niveau 2)'!I19:I39) -> 0 | E24: 62 | F24: =SUM('Test (Niveau 2)'!I40:I63) -> 0 | G24: 72 | J24: Points | K24: =SUM('Test (Niveau 2)'!I4:I28) -> 0 | L24: 75 | M24: =SUM('Test (Niveau 2)'!I29:I53) -> 0 | N24: 75 | O24: =SUM('Test (Niveau 2)'!I54:I78) -> 0 | P24: 75
A26: Taux | B26: =(B24*100/C24)/100 -> 0 | D26: =(D24*100/E24)/100 -> 0 | F26: =(F24*100/G24)/100 -> 0 | J26: Taux | K26: =(K24*100/L24)/100 -> 0 | M26: =(M24*100/N24)/100 -> 0 | O26: =(O24*100/P24)/100 -> 0
A28: Séquence | B28: F-I | D28: J-O | F28: P-R | J28: Séquence | K28: 76-100 | M28: 101-125 | O28: 126-154
A30: Points | B30: =SUM('Test (Niveau 2)'!I64:I81) -> 0 | C30: 63 | D30: =SUM('Test (Niveau 2)'!I82:I102) -> 0 | E30: 36 | F30: =SUM('Test (Niveau 2)'!I103:I125) -> 0 | G30: 69 | J30: Points | K30: =SUM('Test (Niveau 2)'!I79:I103) -> 0 | L30: 75 | M30: =SUM('Test (Niveau 2)'!I104:I128) -> 0 | N30: 75 | O30: =SUM('Test (Niveau 2)'!I129:I157) -> 0 | P30: 87
A32: Taux | B32: =(B30*100/C30)/100 -> 0 | D32: =(D30*100/E30)/100 -> 0 | F32: =(F30*100/G30)/100 -> 0 | J32: Taux | K32: =(K30*100/L30)/100 -> 0 | M32: =(M30*100/N30)/100 -> 0 | O32: =(O30*100/P30)/100 -> 0
A34: Séquence | B34: S | D34: T-V | J34: Séquence | K34: 1-50 | M34: 51-100 | O34: 101-154
A36: Points | B36: =SUM('Test (Niveau 2)'!I126:I144) -> 0 | C36: 57 | D36: =SUM('Test (Niveau 2)'!I145:I157) -> 0 | E36: 39 | J36: Points | K36: =SUM('Test (Niveau 2)'!I4:I53) -> 0 | L36: 150 | M36: =SUM('Test (Niveau 2)'!I54:I103) -> 0 | N36: 150 | O36: =SUM('Test (Niveau 2)'!I104:I157) -> 0 | P36: 162
A38: Taux | B38: =(B36*100/C36)/100 -> 0 | D38: =(D36*100/E36)/100 -> 0 | J38: Taux | K38: =(K36*100/L36)/100 -> 0 | M38: =(M36*100/N36)/100 -> 0 | O38: =(O36*100/P36)/100 -> 0
J40: Séquence | K40: 1-75 | M40: 76-154
J42: Points | K42: =SUM('Test (Niveau 2)'!I4:I78) -> 0 | L42: 225 | M42: =SUM('Test (Niveau 2)'!I79:I157) -> 0 | N42: 237
J44: Taux | K44: =(K42*100/L42)/100 -> 0 | M44: =(M42*100/N42)/100 -> 0
A48: Historique des résultats | J48: Historique des résultats
A51: Essai | B51: Séquence | D51: Points | F51: Taux | J51: Essai | K51: Séquence | M51: Points | O51: Taux
A53: 1 | B53: Tous | D53: 0 | F53: =(D53*100/462)/100 -> 0 | J53: 11 | K53: Tous | M53: 0 | O53: =(M53*100/462)/100 -> 0
A55: 2 | B55: Tous | D55: 0 | F55: =(D55*100/462)/100 -> 0 | J55: 12 | K55: Tous | M55: 0 | O55: =(M55*100/462)/100 -> 0
A57: 3 | B57: Tous | D57: 0 | F57: =(D57*100/462)/100 -> 0 | J57: 13 | K57: Tous | M57: 0 | O57: =(M57*100/462)/100 -> 0
A59: 4 | B59: Tous | D59: 0 | F59: =(D59*100/462)/100 -> 0 | J59: 14 | K59: Tous | M59: 0 | O59: =(M59*100/462)/100 -> 0
A61: 5 | B61: Tous | D61: 0 | F61: =(D61*100/462)/100 -> 0 | J61: 15 | K61: Tous | M61: 0 | O61: =(M61*100/462)/100 -> 0
A63: 6 | B63: Tous | D63: 0 | F63: =(D63*100/462)/100 -> 0 | J63: 16 | K63: Tous | M63: 0 | O63: =(M63*100/462)/100 -> 0
A65: 7 | B65: Tous | D65: 0 | F65: =(D65*100/462)/100 -> 0 | J65: 17 | K65: Tous | M65: 0 | O65: =(M65*100/462)/100 -> 0
A67: 8 | B67: Tous | D67: 0 | F67: =(D67*100/462)/100 -> 0 | J67: 18 | K67: Tous | M67: 0 | O67: =(M67*100/462)/100 -> 0
A69: 9 | B69: Tous | D69: 0 | F69: =(D69*100/462)/100 -> 0 | J69: 19 | K69: Tous | M69: 0 | O69: =(M69*100/462)/100 -> 0
A71: 10 | B71: Tous | D71: 0 | F71: =(D71*100/462)/100 -> 0 | J71: 20 | K71: Tous | M71: 0 | O71: =(M71*100/462)/100 -> 0

Sheet Versions
A1: Historique des versions
A3: Version | B3: Date | C3: Modifications
A4: 0.00 (Alpha) | B4: 40197 | C4: Création du fichier.
A5: 0.20 (Alpha) | B5: 40197 | C5: Création de la page d'accueil, modifications sur la page d'accueil, création de la page de test, modifications sur la page de test, ajout de verbes (3), ajout de couleurs.
A6: 0.80 (Bêta) | B6: 40198 | C6: Page d'accueil terminée, ajout de couleurs, ajout de liens hypertextes, ajout de formules page test, ajout de verbes (154), page de test terminée, ajout de la page Versions.
A7: 1.00 | B7: 40198 | C7: Page fonctionnelle. Ajout des scores, ajout de couleurs, ajout de liens hypertextes dans le coin haut-gauche, corrections, ajout du lien "rapporter une erreur", ajout de formules.
A8: 1.02 | B8: 40198 | C8: Cache sur les verbes dans la section "Test", correction partie Test.
A9: 2.00 | B9: 40199 | C9: Le test est maintenant disponible en deux parties : verbes à découvert et traduction à découvert. Diverses corrections, notemment dans les scores. Nombreuses modifications mineures.
A10: 2.10 | B10: 40199 | C10: Supression d'un commentaire sur la feuille de test "traduction". Ajout de quelques aides partie test - traduction. Corrections partie scores - traduction, ajout de 10 places dans les scores.
A11: 2.20 | B11: 40200 | C11: Nouveau système : niveaux, corrections, version "Finale".
A12: 2.21 | B12: 40202 | C12: Modifications mineures sur la page d'accueil.
