Workbook

Sheet Feuil1
A1: FEUILLE DE POINTAGE | J1: =TODAY() -> 45184
A2: Nom : Nom de l'utilisateur de la session Windows
A3: ="SEMAINE N°"&Feuil2!B2&"/"&Feuil2!C2 -> SEMAINE N°37/2023
A4: Semaine de | B4: Nuit
B6: Date | C6: Heure de prise de service | D6: Heure de fin de service | E6: Début pause | F6: Fin pause | G6: Réservé au service RH | J6: Commentaires et/ou motif du dépassement d’horaire
G7: Calcul heures | H7: Heures de Jour | I7: Heures de nuit
A8: LUNDI | C8: =IF(B4="Jour",Feuil2!B8,IF(B4="chaleur",Feuil2!B10,"0")) -> 0 | D8: =IF(B4="Jour",Feuil2!C8,IF(B4="chaleur",Feuil2!C10,"0")) -> 0 | E8: =IF(B4="Jour",Feuil2!D8,IF(B4="CHALEUR",Feuil2!D10,"0")) -> 0 | F8: =IF(B4="Jour",Feuil2!E8,IF(B4="chaleur",Feuil2!E10,"0")) -> 0 | G8: =Q8-P8+IF(P8>Q8,1)+R8-S8 -> 0 | L8: =UPPER(C8) -> 0 | M8: =UPPER(D8) -> 0 | N8: =UPPER(E8) -> 0 | O8: =UPPER(F8) -> 0 | P8: =SUBSTITUTE(L8,"H",":") -> 0 | Q8: =SUBSTITUTE(M8,"H",":") -> 0 | R8: =SUBSTITUTE(N8,"H",":") -> 0 | S8: =SUBSTITUTE(O8,"H",":") -> 0
A9: LUNDI / MARDI | C9: =IF(B4="nuit","21H00","0") -> 21H00 | D9: =IF(B4="nuit","6H15","0") -> 6H15 | E9: =IF(B4="nuit","2H15","0") -> 2H15 | F9: =IF(B4="nuit","2H45","0") -> 2H45 | G9: =R9-S9+Q9-P9+IF(P9>Q9,1) -> -0.63541667 | L9: =UPPER(C9) -> 21H00 | M9: =UPPER(D9) -> 6H15 | N9: =UPPER(E9) -> 2H15 | O9: =UPPER(F9) -> 2H45 | P9: =SUBSTITUTE(L9,"H",":") -> 21:00 | Q9: =SUBSTITUTE(M9,"H",":") -> 6:15 | R9: =SUBSTITUTE(N9,"H",":") -> 2:15 | S9: =SUBSTITUTE(O9,"H",":") -> 2:45
A10: MARDI | C10: =IF(B4="Jour",Feuil2!B8,IF(B4="chaleur",Feuil2!B10,"0")) -> 0 | D10: =IF(B4="Jour",Feuil2!C8,IF(B4="chaleur",Feuil2!C10,"0")) -> 0 | E10: =IF(B4="Jour",Feuil2!D8,IF(B4="CHALEUR",Feuil2!D10,"0")) -> 0 | F10: =IF(B4="Jour",Feuil2!E8,IF(B4="chaleur",Feuil2!E10,"0")) -> 0 | G10: =Q10-P10+IF(P10>Q10,1)+R10-S10 -> 0 | L10: =UPPER(C10) -> 0 | M10: =UPPER(D10) -> 0 | N10: =UPPER(E10) -> 0 | O10: =UPPER(F10) -> 0 | P10: =SUBSTITUTE(L10,"H",":") -> 0 | Q10: =SUBSTITUTE(M10,"H",":") -> 0 | R10: =SUBSTITUTE(N10,"H",":") -> 0 | S10: =SUBSTITUTE(O10,"H",":") -> 0
A11: MARDI / MERCREDI | C11: =IF(B4="nuit","21H00","0") -> 21H00 | D11: =IF(B4="nuit","6H15","0") -> 6H15 | E11: =IF(B4="nuit","2H15","0") -> 2H15 | F11: =IF(B4="nuit","2H45","0") -> 2H45 | G11: =Q11-P11+IF(P11>Q11,1)+R11-S11 -> -0.63541667 | L11: =UPPER(C11) -> 21H00 | M11: =UPPER(D11) -> 6H15 | N11: =UPPER(E11) -> 2H15 | O11: =UPPER(F11) -> 2H45 | P11: =SUBSTITUTE(L11,"H",":") -> 21:00 | Q11: =SUBSTITUTE(M11,"H",":") -> 6:15 | R11: =SUBSTITUTE(N11,"H",":") -> 2:15 | S11: =SUBSTITUTE(O11,"H",":") -> 2:45
A12: MERCREDI | C12: =IF(B4="Jour",Feuil2!B8,IF(B4="chaleur",Feuil2!B10,"0")) -> 0 | D12: =IF(B4="Jour",Feuil2!C8,IF(B4="chaleur",Feuil2!C10,"0")) -> 0 | E12: =IF(B4="Jour",Feuil2!D8,IF(B4="CHALEUR",Feuil2!D10,"0")) -> 0 | F12: =IF(B4="Jour",Feuil2!E8,IF(B4="chaleur",Feuil2!E10,"0")) -> 0 | G12: =Q12-P12+IF(P12>Q12,1)+R12-S12 -> 0 | L12: =UPPER(C12) -> 0 | M12: =UPPER(D12) -> 0 | N12: =UPPER(E12) -> 0 | O12: =UPPER(F12) -> 0 | P12: =SUBSTITUTE(L12,"H",":") -> 0 | Q12: =SUBSTITUTE(M12,"H",":") -> 0 | R12: =SUBSTITUTE(N12,"H",":") -> 0 | S12: =SUBSTITUTE(O12,"H",":") -> 0
A13: MERCREDI / JEUDI | C13: =IF(B4="nuit","21H00","0") -> 21H00 | D13: =IF(B4="nuit","6H15","0") -> 6H15 | E13: =IF(B4="nuit","2H15","0") -> 2H15 | F13: =IF(B4="nuit","2H45","0") -> 2H45 | G13: =Q13-P13+IF(P13>Q13,1)+R13-S13 -> -0.63541667 | L13: =UPPER(C13) -> 21H00 | M13: =UPPER(D13) -> 6H15 | N13: =UPPER(E13) -> 2H15 | O13: =UPPER(F13) -> 2H45 | P13: =SUBSTITUTE(L13,"H",":") -> 21:00 | Q13: =SUBSTITUTE(M13,"H",":") -> 6:15 | R13: =SUBSTITUTE(N13,"H",":") -> 2:15 | S13: =SUBSTITUTE(O13,"H",":") -> 2:45
A14: JEUDI | C14: =IF(B4="Jour",Feuil2!B8,IF(B4="chaleur",Feuil2!B10,"0")) -> 0 | D14: =IF(B4="Jour",Feuil2!C8,IF(B4="chaleur",Feuil2!C10,"0")) -> 0 | E14: =IF(B4="Jour",Feuil2!D8,IF(B4="CHALEUR",Feuil2!D10,"0")) -> 0 | F14: =IF(B4="Jour",Feuil2!E8,IF(B4="chaleur",Feuil2!E10,"0")) -> 0 | G14: =Q14-P14+IF(P14>Q14,1)+R14-S14 -> 0 | L14: =UPPER(C14) -> 0 | M14: =UPPER(D14) -> 0 | N14: =UPPER(E14) -> 0 | O14: =UPPER(F14) -> 0 | P14: =SUBSTITUTE(L14,"H",":") -> 0 | Q14: =SUBSTITUTE(M14,"H",":") -> 0 | R14: =SUBSTITUTE(N14,"H",":") -> 0 | S14: =SUBSTITUTE(O14,"H",":") -> 0
A15: JEUDI / VENDREDI | C15: =IF(B4="nuit","21H00","0") -> 21H00 | D15: =IF(B4="nuit","6H15","0") -> 6H15 | E15: =IF(B4="nuit","2H15","0") -> 2H15 | F15: =IF(B4="nuit","2H45","0") -> 2H45 | G15: =Q15-P15+IF(P15>Q15,1)+R15-S15 -> -0.63541667 | L15: =UPPER(C15) -> 21H00 | M15: =UPPER(D15) -> 6H15 | N15: =UPPER(E15) -> 2H15 | O15: =UPPER(F15) -> 2H45 | P15: =SUBSTITUTE(L15,"H",":") -> 21:00 | Q15: =SUBSTITUTE(M15,"H",":") -> 6:15 | R15: =SUBSTITUTE(N15,"H",":") -> 2:15 | S15: =SUBSTITUTE(O15,"H",":") -> 2:45
A16: VENDREDI | C16: =IF(B4="Jour",Feuil2!B8,IF(B4="chaleur",Feuil2!B10,"0")) -> 0 | D16: =IF(B4="Jour",Feuil2!C8,IF(B4="chaleur",Feuil2!C10,"0")) -> 0 | E16: =IF(B4="Jour",Feuil2!D8,IF(B4="CHALEUR",Feuil2!D10,"0")) -> 0 | F16: =IF(B4="Jour",Feuil2!E8,IF(B4="chaleur",Feuil2!E10,"0")) -> 0 | G16: =Q16-P16+IF(P16>Q16,1)+R16-S16 -> 0 | L16: =UPPER(C16) -> 0 | M16: =UPPER(D16) -> 0 | N16: =UPPER(E16) -> 0 | O16: =UPPER(F16) -> 0 | P16: =SUBSTITUTE(L16,"H",":") -> 0 | Q16: =SUBSTITUTE(M16,"H",":") -> 0 | R16: =SUBSTITUTE(N16,"H",":") -> 0 | S16: =SUBSTITUTE(O16,"H",":") -> 0
A17: VENDREDI / SAMEDI | C17: 0 | D17: 0 | E17: 0 | F17: 0 | G17: =Q17-P17+IF(P17>Q17,1)+R17-S17 -> 0 | L17: =UPPER(C17) -> 0 | M17: =UPPER(D17) -> 0 | N17: =UPPER(E17) -> 0 | O17: =UPPER(F17) -> 0 | P17: =SUBSTITUTE(L17,"H",":") -> 0 | Q17: =SUBSTITUTE(M17,"H",":") -> 0 | R17: =SUBSTITUTE(N17,"H",":") -> 0 | S17: =SUBSTITUTE(O17,"H",":") -> 0

Sheet Feuil2
A1: Info
A2: date | B2: =WEEKNUM(Feuil1!J1) -> 37 | C2: =YEAR(Feuil1!J1) -> 2023
B6: Heure de prise de service | C6: Heure de fin de service | D6: Début pause | E6: Fin pause
A8: horaire de jour | B8: 8h30 | C8: 16h30 | D8: 12h00 | E8: 13H00
A9: horaire de nuit | B9: 21H00 | C9: 06H15 | D9: 02h15 | E9: 02h45
A10: Horaire d'été | B10: 7H00 | C10: 15h00 | D10: 12h00 | E10: 13H00
A12: Type semaine | B12: Jour | C12: Nuit | D12: Mixte | E12: Chaleur
A14: Adresse mail d'envoie | B14: a@mlmlml.com | C14: b@mlmlml.com
A16: heure de nuit | B16: 21h | C16: 6h15
