Workbook

Sheet Feuil1
B1: SOINS | G1: FACTURE | O1: CPAM | S1: MUTUELLE moi | X1: MUTUELLE Rod
A2: ok | B2: Date des soins | C2: Bénéficiaire | D2: nom | E2: spécialité | F2: intervention | G2: total facture | H2: ALD | I2: part sécu | J2: sécu déduite | K2: 41,27 € | L2: € règlt | M2: date règlt | N2: mode de paiement | O2: Date transmi° CPAM | P2: rembt CPAM le | Q2: € remb assuré | R2: € remb tiers | S2: nom mutuelle | T2: date transmi° mutuelle 1 | U2: date rembt mutuelle 1 | V2: € remb mutuelle assuré | W2: € remb mutuelle tiers | X2: nom mutuelle2 | Y2: date transmi° mutuelle 13 | Z2: date rembt mutuelle 14 | AA2: € remb mutuelle assuré5 | AB2: € remb mutuelle tiers6 | AC2: viremt Rod > Chrys le | AD2: € virés | AE2: reste à récupérer | AF2: reste à charge
B3: 45664 | C3: Chrys | D3: pharmacie de Valbonne | E3: pharmacie | F3: anti-douleurs | G3: =11.44+8.16+40.24+4.08+3.42+1.02+9.28+8.16+0.51+3.57+9.9 -> 99.78 | H3: non | I3: =1.72+1.22+26.16+2.65+2.22+0.66+6.03+5.3+0.33+2.32 -> 48.61 | J3: =[1]!Tableau1[[#This Row],[part sécu]] -> #REF! | K3: 0 | L3: 9.9 | M3: =[1]Feuil1!$A3 -> 45664 | N3: CB | O3: =[1]Feuil1!$A3 -> 45664 | P3: 45667 | R3: =Tableau2[[#This Row],[sécu déduite]] -> #REF! | S3: Repam | T3: =Feuil1!$O3 -> 45664 | U3: ! | V3: 0 | W3: =Feuil1!$K3 -> 0 | AC3: - | AD3: 0 | AE3: 0 | AF3: =Feuil1!$G3-Feuil1!$Q3-Feuil1!$R3-Feuil1!$V3-Feuil1!$W3 -> #REF!
B4: 45664 | C4: Chrys | D4: Dr ARCELLI Matteo | E4: anesthésiste | F4: consult pré-op | G4: 60 | H4: oui | I4: 60 | J4: =[1]!Tableau1[[#This Row],[part sécu]] -> #REF! | K4: 0 | L4: =[1]Feuil1!$F4-[1]Feuil1!$I4-[1]!Tableau1[[#This Row],[mutuelle déduite]] -> #REF! | M4: - | N4: - | O4: =[1]Feuil1!$A4 -> 45664 | P4: 45666 | Q4: 0 | R4: =Tableau2[[#This Row],[sécu déduite]] -> #REF! | AC4: - | AD4: 0 | AE4: 0 | AF4: =Feuil1!$G4-Feuil1!$Q4-Feuil1!$R4-Feuil1!$V4-Feuil1!$W4 -> #REF!
B5: 45667 | C5: Chrys | D5: institut Arnault Tzanck St Laurent | E5: institut | F5: embolisation | G5: =1131.09-20-24+20+300+300+300+581.4+581.4+581.4+581.4 -> 4332.69 | H5: oui | I5: 4312.69 | J5: =[1]!Tableau1[[#This Row],[part sécu]] -> #REF! | K5: 0 | L5: =[1]Feuil1!$F5-[1]Feuil1!$I5-[1]!Tableau1[[#This Row],[mutuelle déduite]] -> #REF! | O5: =[1]Feuil1!$A5 -> 45667 | P5: 45692 | Q5: 0 | R5: =Tableau2[[#This Row],[sécu déduite]] -> #REF! | AF5: =Feuil1!$G5-Feuil1!$Q5-Feuil1!$R5-Feuil1!$V5-Feuil1!$W5 -> #REF!
B6: 45667 | C6: Chrys | D6: institut Arnault Tzanck St Laurent | E6: institut | F6: embolisation | G6: =409+207.22 -> 616.22 | H6: non | I6: =209+107.22 -> 316.22 | J6: =[1]!Tableau1[[#This Row],[part sécu]] -> #REF! | K6: 0 | L6: =[1]Feuil1!$F6-[1]Feuil1!$I6-[1]!Tableau1[[#This Row],[mutuelle déduite]] -> #REF! | M6: =[1]Feuil1!$A6 -> 45667 | N6: Chq | O6: =[1]Feuil1!$A6 -> 45667 | Q6: 0 | R6: =Tableau2[[#This Row],[sécu déduite]] -> #REF! | S6: Repam | T6: =Feuil1!$O6 -> 45667 | W6: =Feuil1!$K6 -> 0 | AF6: =Feuil1!$G6-Feuil1!$Q6-Feuil1!$R6-Feuil1!$V6-Feuil1!$W6 -> #REF!
B7: 45667 | C7: Chrys | D7: Dr NOVELLAS Sébastien | E7: imagerie | F7: embolisation | G7: 75.6 | H7: oui | I7: =[1]!Tableau1[[#This Row],[total facture]] -> #REF! | J7: =[1]!Tableau1[[#This Row],[part sécu]] -> #REF! | K7: 0 | L7: =[1]Feuil1!$F7-[1]Feuil1!$I7-[1]!Tableau1[[#This Row],[mutuelle déduite]] -> #REF! | M7: - | N7: - | O7: =[1]Feuil1!$A7 -> 45667 | P7: 45692 | Q7: 0 | R7: =Tableau2[[#This Row],[sécu déduite]] -> #REF! | AF7: =Feuil1!$G7-Feuil1!$Q7-Feuil1!$R7-Feuil1!$V7-Feuil1!$W7 -> #REF!
B8: 45667 | C8: Chrys | D8: Dr ROGOPOULOS André | E8: chirurgien | F8: embolisation | G8: =409+109.79+104.5+109.79 -> 733.08 | H8: oui | I8: =[1]!Tableau1[[#This Row],[total facture]] -> #REF! | J8: =[1]!Tableau1[[#This Row],[part sécu]] -> #REF! | K8: 0 | L8: =[1]Feuil1!$F8-[1]Feuil1!$I8-[1]!Tableau1[[#This Row],[mutuelle déduite]] -> #REF! | M8: - | N8: - | O8: =[1]Feuil1!$A8 -> 45667 | P8: 45692 | Q8: 0 | R8: =Tableau2[[#This Row],[sécu déduite]] -> #REF! | AF8: =Feuil1!$G8-Feuil1!$Q8-Feuil1!$R8-Feuil1!$V8-Feuil1!$W8 -> #REF!
B9: 45667 | C9: Chrys | D9: Dr TRAN Laurie | E9: anesthésiste | F9: embolisation | G9: =207.22+53.61 -> 260.83 | H9: oui | I9: =[1]!Tableau1[[#This Row],[total facture]] -> #REF! | J9: =[1]!Tableau1[[#This Row],[part sécu]] -> #REF! | K9: 0 | L9: =[1]Feuil1!$F9-[1]Feuil1!$I9-[1]!Tableau1[[#This Row],[mutuelle déduite]] -> #REF! | M9: - | N9: - | O9: =[1]Feuil1!$A9 -> 45667 | P9: 45692 | Q9: 0 | R9: =Tableau2[[#This Row],[sécu déduite]] -> #REF! | AF9: =Feuil1!$G9-Feuil1!$Q9-Feuil1!$R9-Feuil1!$V9-Feuil1!$W9 -> #REF!
B10: 45668 | C10: Chrys | D10: Cerballiance | E10: laboratoire d'analyses | G10: =4.73+18.5 -> 23.23 | H10: oui | I10: 23.23 | J10: =[1]!Tableau1[[#This Row],[part sécu]] -> #REF! | K10: 0 | L10: =[1]Feuil1!$F10-[1]Feuil1!$I10-[1]!Tableau1[[#This Row],[mutuelle déduite]] -> #REF! | M10: - | N10: - | O10: =[1]Feuil1!$A10 -> 45668 | P10: 45692 | Q10: 0 | R10: =Tableau2[[#This Row],[sécu déduite]] -> #REF! | AF10: =Feuil1!$G10-Feuil1!$Q10-Feuil1!$R10-Feuil1!$V10-Feuil1!$W10 -> #REF!
B11: 45671 | C11: Chrys | D11: Dr PITOISET Lauranne (LANGLOIS) | E11: médecin traitant | F11: psoriasis | G11: 30 | H11: oui | I11: 30 | J11: =[1]!Tableau1[[#This Row],[part sécu]] -> #REF! | K11: 0 | L11: =[1]Feuil1!$F11-[1]Feuil1!$I11-[1]!Tableau1[[#This Row],[mutuelle déduite]] -> #REF! | M11: - | N11: - | O11: =[1]Feuil1!$A11 -> 45671 | P11: 45673 | Q11: 0 | R11: =Tableau2[[#This Row],[sécu déduite]] -> #REF! | AF11: =Feuil1!$G11-Feuil1!$Q11-Feuil1!$R11-Feuil1!$V11-Feuil1!$W11 -> #REF!
B12: 45671 | C12: Chrys | D12: EUROFINS LABAZUR | E12: laboratoire d'analyses | F12: analyses | G12: =67+25.25+3.15+4.73 -> 100.13 | H12: non | I12: =40.2+25.25+1.89+4.73 -> 72.07 | J12: =[1]!Tableau1[[#This Row],[part sécu]] -> #REF! | K12: =[1]!Tableau1[[#This Row],[total facture]]-[1]!Tableau1[[#This Row],[sécu déduite]] -> #REF! | L12: =[1]Feuil1!$F12-[1]Feuil1!$I12-[1]!Tableau1[[#This Row],[mutuelle déduite]] -> #REF! | M12: - | N12: - | O12: =[1]Feuil1!$A12 -> 45671 | P12: 45678 | Q12: 0 | R12: =Tableau2[[#This Row],[sécu déduite]] -> #REF! | S12: Repam | T12: =Feuil1!$O12 -> 45671 | W12: =Feuil1!$K12 -> #REF! | AF12: =Feuil1!$G12-Feuil1!$Q12-Feuil1!$R12-Feuil1!$V12-Feuil1!$W12 -> #REF!
B13: 45671 | C13: Chrys | D13: pharmacie de Sophia (Da Rosa) | E13: pharmacie | G13: =134.82+2.04+0.61 -> 137.47 | H13: non | I13: =87.63+1.33+0.4 -> 89.36 | J13: =[1]!Tableau1[[#This Row],[part sécu]] -> #REF! | K13: 36.99 | L13: =[1]Feuil1!$F13-[1]Feuil1!$I13-[1]!Tableau1[[#This Row],[mutuelle déduite]] -> #REF! | M13: =[1]Feuil1!$A13 -> 45671 | N13: CB | O13: =[1]Feuil1!$A13 -> 45671 | R13: =Tableau2[[#This Row],[sécu déduite]] -> #REF! | S13: Repam | T13: =Feuil1!$O13 -> 45671 | W13: =Feuil1!$K13 -> 36.99 | AF13: =Feuil1!$G13-Feuil1!$Q13-Feuil1!$R13-Feuil1!$V13-Feuil1!$W13 -> #REF!
B14: 45671 | C14: Thomas | D14: pharmacie BORIE | E14: pharmacie | F14: Humira | G14: 1013.16 | H14: oui | I14: =[1]!Tableau1[[#This Row],[total facture]] -> #REF! | J14: =[1]!Tableau1[[#This Row],[part sécu]] -> #REF! | K14: 0 | L14: =[1]Feuil1!$F14-[1]Feuil1!$I14 -> 0 | M14: - | N14: - | O14: =[1]Feuil1!$A14 -> 45671 | P14: 45677 | Q14: 0 | R14: =Tableau2[[#This Row],[sécu déduite]] -> #REF! | AF14: =Feuil1!$G14-Feuil1!$Q14-Feuil1!$R14-Feuil1!$V14-Feuil1!$W14 -> #REF!
B15: 45674 | C15: Chrys | D15: Dr PITOISET Lauranne (LANGLOIS) | E15: médecin traitant | F15: psoriasis | G15: 30 | H15: oui | I15: 30 | J15: =[1]!Tableau1[[#This Row],[part sécu]] -> #REF! | K15: 0 | L15: =[1]Feuil1!$F15-[1]Feuil1!$I15-[1]!Tableau1[[#This Row],[mutuelle déduite]] -> #REF! | M15: - | N15: - | O15: =[1]Feuil1!$A15 -> 45674 | P15: 45678 | Q15: 0 | R15: =Tableau2[[#This Row],[sécu déduite]] -> #REF! | AF15: =Feuil1!$G15-Feuil1!$Q15-Feuil1!$R15-Feuil1!$V15-Feuil1!$W15 -> #REF!
B16: 45674 | C16: Chrys | D16: pharmacie de Sophia (Da Rosa) | E16: pharmacie | F16: préparation magistrale | G16: 26.9 | H16: non | I16: 17.49 | J16: =[1]!Tableau1[[#This Row],[part sécu]] -> #REF! | K16: 9.41 | L16: =[1]Feuil1!$F16-[1]Feuil1!$I16-[1]!Tableau1[[#This Row],[mutuelle déduite]] -> #REF! | M16: - | N16: - | O16: =[1]Feuil1!$A16 -> 45674 | P16: 45684 | Q16: 0 | R16: =Tableau2[[#This Row],[sécu déduite]] -> #REF! | T16: =Feuil1!$O16 -> 45674 | W16: =Feuil1!$K16 -> 9.41 | Y16: =Feuil1!$O16 -> 45674 | AB16: =Feuil1!$K16 -> 9.41 | AF16: =Feuil1!$G16-Feuil1!$Q16-Feuil1!$R16-Feuil1!$V16-Feuil1!$W16 -> #REF!
B17: 45674 | C17: Chrys | D17: pharmacie de Sophia (Da Rosa) | E17: pharmacie | G17: =4.4+2.04+1.11+1.02+0.61 -> 9.18 | H17: non | I17: =2.86+1.33+0.72+0.66+0.4 -> 5.97 | J17: =[1]!Tableau1[[#This Row],[part sécu]] -> #REF! | K17: 3.21 | L17: =[1]Feuil1!$F17-[1]Feuil1!$I17-[1]!Tableau1[[#This Row],[mutuelle déduite]] -> #REF! | M17: - | N17: - | O17: =[1]Feuil1!$A17 -> 45674 | P17: 45678 | Q17: 0 | R17: =Tableau2[[#This Row],[sécu déduite]] -> #REF! | T17: =Feuil1!$O17 -> 45674 | W17: =Feuil1!$K17 -> 3.21 | Y17: =Feuil1!$O17 -> 45674 | AB17: =Feuil1!$K17 -> 3.21 | AF17: =Feuil1!$G17-Feuil1!$Q17-Feuil1!$R17-Feuil1!$V17-Feuil1!$W17 -> #REF!
B18: 45674 | C18: Thomas | D18: pharmacie de Sophia (Da Rosa) | E18: pharmacie | F18: vitamine D ? | G18: =1.11+1.02+0.61 -> 2.74 | H18: non | I18: =0.72+0.66+0.4 -> 1.78 | J18: =[1]!Tableau1[[#This Row],[part sécu]] -> #REF! | L18: =[1]Feuil1!$F18-[1]Feuil1!$I18 -> 0.96 | M18: =[1]Feuil1!$A18 -> 45674 | O18: =[1]Feuil1!$A18 -> 45674 | R18: =Tableau2[[#This Row],[sécu déduite]] -> #REF! | T18: =Feuil1!$O18 -> 45674 | W18: =Feuil1!$K18 -> 0 | Y18: =Feuil1!$O18 -> 45674 | AB18: =Feuil1!$K18 -> 0 | AF18: =Feuil1!$G18-Feuil1!$Q18-Feuil1!$R18-Feuil1!$V18-Feuil1!$W18 -> #REF!
B19: 45681 | C19: Lena | D19: Dr PITOISET Lauranne (LANGLOIS) | E19: médecin traitant | F19: consult inf urinaire | G19: 30 | H19: non | I19: 21 | J19: =[1]!Tableau1[[#This Row],[part sécu]] -> #REF! | K19: 0 | L19: =[1]Feuil1!$F19-[1]Feuil1!$I19-[1]!Tableau1[[#This Row],[mutuelle déduite]] -> #REF! | M19: =[1]Feuil1!$A19 -> 45681 | N19: CB | O19: =[1]Feuil1!$A19 -> 45681 | P19: 45685 | Q19: 0 | R19: =Tableau2[[#This Row],[sécu déduite]] -> #REF! | T19: =Feuil1!$O19 -> 45681 | W19: =Feuil1!$K19 -> 0 | Y19: =Feuil1!$O19 -> 45681 | AB19: =Feuil1!$K19 -> 0 | AF19: =Feuil1!$G19-Feuil1!$Q19-Feuil1!$R19-Feuil1!$V19-Feuil1!$W19 -> #REF!
B20: 45680 | C20: Lena | D20: pharmacie de Sophia (Da Rosa) | E20: pharmacie | F20: antibiotique inf urinaire | H20: non | J20: =[1]!Tableau1[[#This Row],[part sécu]] -> #REF! | L20: =[1]Feuil1!$F20-[1]Feuil1!$I20-[1]!Tableau1[[#This Row],[mutuelle déduite]] -> #REF! | M20: - | N20: - | O20: =[1]Feuil1!$A20 -> 45680 | R20: =Tableau2[[#This Row],[sécu déduite]] -> #REF! | T20: =Feuil1!$O20 -> 45680 | W20: =Feuil1!$K20 -> 0 | Y20: =Feuil1!$O20 -> 45680 | AB20: =Feuil1!$K20 -> 0 | AF20: =Feuil1!$G20-Feuil1!$Q20-Feuil1!$R20-Feuil1!$V20-Feuil1!$W20 -> #REF!
B21: 45686 | C21: Lena | D21: Dr RENAULT | E21: podologue | F21: bilan postural | G21: 45 | H21: non | J21: =[1]!Tableau1[[#This Row],[part sécu]] -> #REF! | K21: 0 | L21: =[1]Feuil1!$F21-[1]Feuil1!$I21-[1]!Tableau1[[#This Row],[mutuelle déduite]] -> #REF! | M21: =[1]Feuil1!$A21 -> 45686 | N21: chq | O21: =[1]Feuil1!$A21 -> 45686 | R21: =Tableau2[[#This Row],[sécu déduite]] -> #REF! | T21: =Feuil1!$O21 -> 45686 | W21: =Feuil1!$K21 -> 0 | Y21: =Feuil1!$O21 -> 45686 | AB21: =Feuil1!$K21 -> 0 | AF21: =Feuil1!$G21-Feuil1!$Q21-Feuil1!$R21-Feuil1!$V21-Feuil1!$W21 -> #REF!
B22: 45688 | C22: Chrys | D22: Dr PITOISET Lauranne (LANGLOIS) | E22: médecin traitant | F22: psoriasis | G22: 30 | H22: oui | I22: 30 | J22: =[1]!Tableau1[[#This Row],[part sécu]] -> #REF! | K22: 0 | L22: =[1]Feuil1!$F22-[1]Feuil1!$I22-[1]!Tableau1[[#This Row],[mutuelle déduite]] -> #REF! | M22: - | N22: - | O22: =[1]Feuil1!$A22 -> 45688 | P22: 45692 | Q22: 0 | R22: =Tableau2[[#This Row],[sécu déduite]] -> #REF! | T22: =Feuil1!$O22 -> 45688 | W22: =Feuil1!$K22 -> 0 | Y22: =Feuil1!$O22 -> 45688 | AB22: =Feuil1!$K22 -> 0 | AF22: =Feuil1!$G22-Feuil1!$Q22-Feuil1!$R22-Feuil1!$V22-Feuil1!$W22 -> #REF!
B23: 45693 | C23: Lena | D23: pharmacie de Sophia (Da Rosa) | E23: pharmacie | F23: pilule - pass santé | G23: 33.9 | H23: non | I23: 30 | J23: =[1]!Tableau1[[#This Row],[part sécu]] -> #REF! | K23: 0 | L23: =[1]Feuil1!$F23-[1]Feuil1!$I23-[1]!Tableau1[[#This Row],[mutuelle déduite]] -> #REF! | M23: =[1]Feuil1!$A23 -> 45693 | N23: CB | O23: =[1]Feuil1!$A23 -> 45693 | P23: pass santé | Q23: 0 | R23: =Tableau2[[#This Row],[sécu déduite]] -> #REF! | T23: =Feuil1!$O23 -> 45693 | W23: =Feuil1!$K23 -> 0 | Y23: =Feuil1!$O23 -> 45693 | AB23: =Feuil1!$K23 -> 0 | AF23: =Feuil1!$G23-Feuil1!$Q23-Feuil1!$R23-Feuil1!$V23-Feuil1!$W23 -> #REF!
B24: 45693 | C24: Lena | D24: EUROFINS LABAZUR | E24: laboratoire d'analyses | F24: infection urinaire | G24: =14.25+30+10+25.25+4.73+1.35 -> 85.58 | H24: non | I24: =8.55+18+25.25+4.73+1.35 -> 57.88 | J24: =[1]!Tableau1[[#This Row],[part sécu]] -> #REF! | K24: =[1]!Tableau1[[#This Row],[total facture]]-[1]!Tableau1[[#This Row],[sécu déduite]] -> #REF! | L24: 0 | M24: =[1]Feuil1!$A24 -> 45693 | O24: =[1]Feuil1!$A24 -> 45693 | R24: =Tableau2[[#This Row],[sécu déduite]] -> #REF! | T24: =Feuil1!$O24 -> 45693 | W24: =Feuil1!$K24 -> #REF! | Y24: =Feuil1!$O24 -> 45693 | AB24: =Feuil1!$K24 -> #REF! | AF24: =Feuil1!$G24-Feuil1!$Q24-Feuil1!$R24-Feuil1!$V24-Feuil1!$W24 -> #REF!
B25: 45695 | C25: Lena | D25: Dr BOUR Kévin | E25: médecin traitant | F25: infection urinaire | G25: 30 | H25: non | I25: 21 | J25: 0 | K25: 0 | L25: =[1]Feuil1!$F25-[1]Feuil1!$I25-[1]!Tableau1[[#This Row],[mutuelle déduite]] -> #REF! | M25: =[1]Feuil1!$A25 -> 45695 | N25: CB | O25: =[1]Feuil1!$A25 -> 45695 | P25: 45700 | Q25: 21 | R25: =Tableau2[[#This Row],[sécu déduite]] -> 0 | T25: =Feuil1!$O25 -> 45695 | W25: =Feuil1!$K25 -> 0 | Y25: =Feuil1!$O25 -> 45695 | AB25: =Feuil1!$K25 -> 0 | AF25: =Feuil1!$G25-Feuil1!$Q25-Feuil1!$R25-Feuil1!$V25-Feuil1!$W25 -> 9
B26: 45695 | C26: Chrys | D26: pharmacie de Sophia (Da Rosa) | E26: pharmacie | F26: Pentasa | G26: =36.67+1.02+0.61 -> 38.3 | H26: oui | I26: =[1]!Tableau1[[#This Row],[total facture]] -> #REF! | J26: =[1]!Tableau1[[#This Row],[part sécu]] -> #REF! | K26: 0 | L26: =[1]Feuil1!$F26-[1]Feuil1!$I26 -> 0 | M26: =[1]Feuil1!$A26 -> 45695 | N26: - | O26: =[1]Feuil1!$A26 -> 45695 | P26: 45699 | Q26: 0 | R26: =Tableau2[[#This Row],[sécu déduite]] -> #REF! | T26: =Feuil1!$O26 -> 45695 | W26: =Feuil1!$K26 -> 0 | Y26: =Feuil1!$O26 -> 45695 | AB26: =Feuil1!$K26 -> 0 | AF26: =Feuil1!$G26-Feuil1!$Q26-Feuil1!$R26-Feuil1!$V26-Feuil1!$W26 -> #REF!
B27: 45699 | C27: Lena | D27: Dr PITOISET Lauranne (LANGLOIS) | E27: médecin traitant | F27: ordo radio scoliose | G27: 30 | H27: non | I27: 21 | J27: 21 | K27: 0 | L27: =[1]Feuil1!$F27-[1]Feuil1!$I27-[1]!Tableau1[[#This Row],[mutuelle déduite]] -> #REF! | M27: =[1]Feuil1!$A27 -> 45699 | N27: CB | O27: =[1]Feuil1!$A27 -> 45699 | P27: 45701 | Q27: 0 | R27: =Tableau2[[#This Row],[sécu déduite]] -> 21 | T27: =Feuil1!$O27 -> 45699 | W27: =Feuil1!$K27 -> 0 | Y27: =Feuil1!$O27 -> 45699 | AB27: =Feuil1!$K27 -> 0 | AF27: =Feuil1!$G27-Feuil1!$Q27-Feuil1!$R27-Feuil1!$V27-Feuil1!$W27 -> 9
B28: 45700 | C28: Lena | D28: Dr MENEGAZZO David | E28: radiologue | F28: radios scoliose | G28: =86.32+11.56 -> 97.88 | H28: non | I28: =60.42+8.09 -> 68.51 | J28: =[1]!Tableau1[[#This Row],[part sécu]] -> #REF! | K28: 0 | L28: =[1]Feuil1!$F28-[1]Feuil1!$I28-[1]!Tableau1[[#This Row],[mutuelle déduite]] -> #REF! | M28: =[1]Feuil1!$A28 -> 45700 | N28: CB | O28: =[1]Feuil1!$A28 -> 45700 | P28: 45702 | Q28: 0 | R28: =Tableau2[[#This Row],[sécu déduite]] -> #REF! | T28: =Feuil1!$O28 -> 45700 | W28: =Feuil1!$K28 -> 0 | Y28: =Feuil1!$O28 -> 45700 | AB28: =Feuil1!$K28 -> 0 | AF28: =Feuil1!$G28-Feuil1!$Q28-Feuil1!$R28-Feuil1!$V28-Feuil1!$W28 -> #REF!
B29: 45705 | C29: Lena | D29: Dr COME Denis | E29: podologue | F29: bilan postural | G29: 110 | H29: non | I29: 0 | J29: =[1]!Tableau1[[#This Row],[part sécu]] -> #REF! | K29: 0 | L29: =[1]Feuil1!$F29-[1]Feuil1!$I29-[1]!Tableau1[[#This Row],[mutuelle déduite]] -> #REF! | M29: =[1]Feuil1!$A29 -> 45705 | N29: CB | O29: =[1]Feuil1!$A29 -> 45705 | P29: - | Q29: 0 | R29: =Tableau2[[#This Row],[sécu déduite]] -> #REF! | T29: =Feuil1!$O29 -> 45705 | W29: =Feuil1!$K29 -> 0 | Y29: =Feuil1!$O29 -> 45705 | AB29: =Feuil1!$K29 -> 0 | AF29: =Feuil1!$G29-Feuil1!$Q29-Feuil1!$R29-Feuil1!$V29-Feuil1!$W29 -> #REF!
