Workbook

Sheet BD
A2: ANNEE | B2: TYPE | C2: VISA | D2: DATE | E2: VALEURS | F2: Moy | G2: Moy+SIGMA | H2: Moy-SIGMA | I2: Moy+2SIGMA | J2: Moy-2SIGMA | K2: Moy+3SIGMA | L2: Moy-3SIGMA | M2: Conforme ?
A3: =IF(B3="","",TEXT(D3,"aaaa")) -> 2023 | B3: DCO 10 | C3: AA | D3: 44941 | E3: 9.98 | F3: 11.828463 | G3: 13.231131 | H3: 10.425796 | I3: 14.633799 | J3: 9.0231281 | K3: 16.036466 | L3: 7.6204604 | M3: =IF(OR(B3="",D3="",E3=""),"",IF(E3>K3,"NC",IF(E3<L3,"NC",IF(AND(E3>I3,E3<=K3),"ATTENTION",IF(AND(E3<J3,E3>=L3),"ATTENTION",IF(AND(E3>=J3,E3<=I3),"OK","")))))) -> OK
A4: =IF(B4="","",TEXT(D4,"aaaa")) -> 2023 | B4: DCO 10 | C4: AA | D4: 44942 | E4: 9.94 | F4: 99.718317 | G4: 101.63177 | H4: 97.804863 | I4: 103.54522 | J4: 95.89141 | K4: 105.45868 | L4: 93.977956 | M4: =IF(OR(B4="",D4="",E4=""),"",IF(E4>K4,"NC",IF(E4<L4,"NC",IF(AND(E4>I4,E4<=K4),"ATTENTION",IF(AND(E4<J4,E4>=L4),"ATTENTION",IF(AND(E4>=J4,E4<=I4),"OK","")))))) -> NC
A5: =IF(B5="","",TEXT(D5,"aaaa")) -> 2024 | B5: DCO 100 | C5: AA | D5: 45309 | E5: 98.12 | F5: 498.4 | G5: 502.86627 | H5: 493.93373 | I5: 507.33254 | J5: 489.46746 | K5: 511.7988 | L5: 485.0012 | M5: =IF(OR(B5="",D5="",E5=""),"",IF(E5>K5,"NC",IF(E5<L5,"NC",IF(AND(E5>I5,E5<=K5),"ATTENTION",IF(AND(E5<J5,E5>=L5),"ATTENTION",IF(AND(E5>=J5,E5<=I5),"OK","")))))) -> NC
A6: =IF(B6="","",TEXT(D6,"aaaa")) -> 2024 | B6: DCO 500 | C6: AA | D6: 45310 | E6: 497.36 | F6: 99.718317 | G6: 101.63177 | H6: 97.804863 | I6: 103.54522 | J6: 95.89141 | K6: 105.45868 | L6: 93.977956 | M6: =IF(OR(B6="",D6="",E6=""),"",IF(E6>K6,"NC",IF(E6<L6,"NC",IF(AND(E6>I6,E6<=K6),"ATTENTION",IF(AND(E6<J6,E6>=L6),"ATTENTION",IF(AND(E6>=J6,E6<=I6),"OK","")))))) -> NC
A7: =IF(B7="","",TEXT(D7,"aaaa")) | F7: 11.828463 | G7: 13.231131 | H7: 10.425796 | I7: 14.633799 | J7: 9.0231281 | K7: 16.036466 | L7: 7.6204604 | M7: =IF(OR(B7="",D7="",E7=""),"",IF(E7>K7,"NC",IF(E7<L7,"NC",IF(AND(E7>I7,E7<=K7),"ATTENTION",IF(AND(E7<J7,E7>=L7),"ATTENTION",IF(AND(E7>=J7,E7<=I7),"OK",""))))))
A8: =IF(B8="","",TEXT(D8,"aaaa")) | F8: 11.828463 | G8: 13.231131 | H8: 10.425796 | I8: 14.633799 | J8: 9.0231281 | K8: 16.036466 | L8: 7.6204604 | M8: =IF(OR(B8="",D8="",E8=""),"",IF(E8>K8,"NC",IF(E8<L8,"NC",IF(AND(E8>I8,E8<=K8),"ATTENTION",IF(AND(E8<J8,E8>=L8),"ATTENTION",IF(AND(E8>=J8,E8<=I8),"OK",""))))))
A9: =IF(B9="","",TEXT(D9,"aaaa")) | F9: 99.718317 | G9: 101.63177 | H9: 97.804863 | I9: 103.54522 | J9: 95.89141 | K9: 105.45868 | L9: 93.977956 | M9: =IF(OR(B9="",D9="",E9=""),"",IF(E9>K9,"NC",IF(E9<L9,"NC",IF(AND(E9>I9,E9<=K9),"ATTENTION",IF(AND(E9<J9,E9>=L9),"ATTENTION",IF(AND(E9>=J9,E9<=I9),"OK",""))))))
A10: =IF(B10="","",TEXT(D10,"aaaa")) | F10: 11.828463 | G10: 13.231131 | H10: 10.425796 | I10: 14.633799 | J10: 9.0231281 | K10: 16.036466 | L10: 7.6204604 | M10: =IF(OR(B10="",D10="",E10=""),"",IF(E10>K10,"NC",IF(E10<L10,"NC",IF(AND(E10>I10,E10<=K10),"ATTENTION",IF(AND(E10<J10,E10>=L10),"ATTENTION",IF(AND(E10>=J10,E10<=I10),"OK",""))))))
A11: =IF(B11="","",TEXT(D11,"aaaa")) | F11: 99.718317 | G11: 101.63177 | H11: 97.804863 | I11: 103.54522 | J11: 95.89141 | K11: 105.45868 | L11: 93.977956 | M11: =IF(OR(B11="",D11="",E11=""),"",IF(E11>K11,"NC",IF(E11<L11,"NC",IF(AND(E11>I11,E11<=K11),"ATTENTION",IF(AND(E11<J11,E11>=L11),"ATTENTION",IF(AND(E11>=J11,E11<=I11),"OK",""))))))
A12: =IF(B12="","",TEXT(D12,"aaaa")) | F12: 11.828463 | G12: 13.231131 | H12: 10.425796 | I12: 14.633799 | J12: 9.0231281 | K12: 16.036466 | L12: 7.6204604 | M12: =IF(OR(B12="",D12="",E12=""),"",IF(E12>K12,"NC",IF(E12<L12,"NC",IF(AND(E12>I12,E12<=K12),"ATTENTION",IF(AND(E12<J12,E12>=L12),"ATTENTION",IF(AND(E12>=J12,E12<=I12),"OK",""))))))
A13: =IF(B13="","",TEXT(D13,"aaaa")) | F13: 498.4 | G13: 502.86627 | H13: 493.93373 | I13: 507.33254 | J13: 489.46746 | K13: 511.7988 | L13: 485.0012 | M13: =IF(OR(B13="",D13="",E13=""),"",IF(E13>K13,"NC",IF(E13<L13,"NC",IF(AND(E13>I13,E13<=K13),"ATTENTION",IF(AND(E13<J13,E13>=L13),"ATTENTION",IF(AND(E13>=J13,E13<=I13),"OK",""))))))
A14: =IF(B14="","",TEXT(D14,"aaaa")) | F14: 498.4 | G14: 502.86627 | H14: 493.93373 | I14: 507.33254 | J14: 489.46746 | K14: 511.7988 | L14: 485.0012 | M14: =IF(OR(B14="",D14="",E14=""),"",IF(E14>K14,"NC",IF(E14<L14,"NC",IF(AND(E14>I14,E14<=K14),"ATTENTION",IF(AND(E14<J14,E14>=L14),"ATTENTION",IF(AND(E14>=J14,E14<=I14),"OK",""))))))
A15: =IF(B15="","",TEXT(D15,"aaaa")) | F15: 11.828463 | G15: 13.231131 | H15: 10.425796 | I15: 14.633799 | J15: 9.0231281 | K15: 16.036466 | L15: 7.6204604 | M15: =IF(OR(B15="",D15="",E15=""),"",IF(E15>K15,"NC",IF(E15<L15,"NC",IF(AND(E15>I15,E15<=K15),"ATTENTION",IF(AND(E15<J15,E15>=L15),"ATTENTION",IF(AND(E15>=J15,E15<=I15),"OK",""))))))
A16: =IF(B16="","",TEXT(D16,"aaaa")) | F16: 11.828463 | G16: 13.231131 | H16: 10.425796 | I16: 14.633799 | J16: 9.0231281 | K16: 16.036466 | L16: 7.6204604 | M16: =IF(OR(B16="",D16="",E16=""),"",IF(E16>K16,"NC",IF(E16<L16,"NC",IF(AND(E16>I16,E16<=K16),"ATTENTION",IF(AND(E16<J16,E16>=L16),"ATTENTION",IF(AND(E16>=J16,E16<=I16),"OK",""))))))
A17: =IF(B17="","",TEXT(D17,"aaaa")) | F17: 99.718317 | G17: 101.63177 | H17: 97.804863 | I17: 103.54522 | J17: 95.89141 | K17: 105.45868 | L17: 93.977956 | M17: =IF(OR(B17="",D17="",E17=""),"",IF(E17>K17,"NC",IF(E17<L17,"NC",IF(AND(E17>I17,E17<=K17),"ATTENTION",IF(AND(E17<J17,E17>=L17),"ATTENTION",IF(AND(E17>=J17,E17<=I17),"OK",""))))))
A18: =IF(B18="","",TEXT(D18,"aaaa")) | F18: 498.4 | G18: 502.86627 | H18: 493.93373 | I18: 507.33254 | J18: 489.46746 | K18: 511.7988 | L18: 485.0012 | M18: =IF(OR(B18="",D18="",E18=""),"",IF(E18>K18,"NC",IF(E18<L18,"NC",IF(AND(E18>I18,E18<=K18),"ATTENTION",IF(AND(E18<J18,E18>=L18),"ATTENTION",IF(AND(E18>=J18,E18<=I18),"OK",""))))))
... A28: =IF(B28="","",TEXT(D28,"aaaa")) | F28: 11.828463 | G28: 13.231131 | H28: 10.425796 | I28: 14.633799 | J28: 9.0231281 | K28: 16.036466 | L28: 7.6204604 | M28: =IF(OR(B28="",D28="",E28=""),"",IF(E28>K28,"NC",IF(E28<L28,"NC",IF(AND(E28>I28,E28<=K28),"ATTENTION",IF(AND(E28<J28,E28>=L28),"ATTENTION",IF(AND(E28>=J28,E28<=I28),"OK",""))))))

Sheet CALCUL
B2: 2023 | E2: 2024
B3: DCO 10 | C3: DCO 100 | D3: DCO 500 | E3: DCO 10 | F3: DCO 100 | G3: DCO 500
A4: moy | B4: =AVERAGEIFS(BD!E3:E28,BD!A3:A28,B2,BD!B3:B28,B3) -> 9.96 | C4: =AVERAGEIFS(BD!E3:E28,BD!A3:A28,B2,BD!B3:B28,C3) -> #DIV/0! | D4: =AVERAGEIFS(BD!E3:E28,BD!A3:A28,B2,BD!B3:B28,D3) -> #DIV/0! | E4: =AVERAGEIFS(BD!E3:E28,BD!A3:A28,E2,BD!B3:B28,E3) -> #DIV/0! | F4: =AVERAGEIFS(BD!E3:E28,BD!A3:A28,E2,BD!B3:B28,F3) -> 98.12 | G4: =AVERAGEIFS(BD!E3:E28,BD!A3:A28,E2,BD!B3:B28,G3) -> 497.36
A5: CV | B5: =B6/B4*100 -> 9.8660316 | C5: =C6/C4*100 -> #DIV/0! | D5: =D6/D4*100 -> #DIV/0! | E5: =E6/E4*100 -> #DIV/0! | F5: =F6/F4*100 -> 1.2769553 | G5: =G6/G4*100 -> 0.25463482
A6: Sigma (ecart type) | B6: =STDEV(B20:B27) -> 0.98265675 | C6: =STDEV(C20:C27) -> 0.99121138 | D6: =STDEV(D20:D27) -> 0.95212044 | E6: =STDEV(E20:E27) -> 2.1339166 | F6: =STDEV(F20:F27) -> 1.2529485 | G6: =STDEV(G20:G27) -> 1.2664517 | I6: {=STDEV(IF((BD!$B$3:$B$28=CALCUL!B$3)*(--BD!$A$3:$A$28=CALCUL!$B$2),BD!$E$3:$E$28,""))} -> #VALUE! | J6: {=STDEV(IF((BD!$B$3:$B$28=CALCUL!C$3)*(--BD!$A$3:$A$28=CALCUL!$B$2),BD!$E$3:$E$28,""))} -> #VALUE! | K6: {=STDEV(IF((BD!$B$3:$B$28=CALCUL!D$3)*(--BD!$A$3:$A$28=CALCUL!$B$2),BD!$E$3:$E$28,""))} -> #VALUE! | L6: {=STDEV(IF((BD!$B$3:$B$28=CALCUL!E$3)*(--BD!$A$3:$A$28=CALCUL!$E$2),BD!$E$3:$E$28,""))} -> #VALUE! | M6: {=STDEV(IF((BD!$B$3:$B$28=CALCUL!F$3)*(--BD!$A$3:$A$28=CALCUL!$E$2),BD!$E$3:$E$28,""))} -> #VALUE! | N6: {=STDEV(IF((BD!$B$3:$B$28=CALCUL!G$3)*(--BD!$A$3:$A$28=CALCUL!$E$2),BD!$E$3:$E$28,""))} -> #VALUE!
A7: 2 sigma | B7: =2*B6 -> 1.9653135 | C7: =2*C6 -> 1.9824228 | D7: =2*D6 -> 1.9042409 | E7: =2*E6 -> 4.2678332 | F7: =2*F6 -> 2.505897 | G7: =2*G6 -> 2.5329035
A8: 3 sigma | B8: =3*B6 -> 2.9479702 | C8: =3*C6 -> 2.9736341 | D8: =3*D6 -> 2.8563613 | E8: =3*E6 -> 6.4017498 | F8: =3*F6 -> 3.7588456 | G8: =3*G6 -> 3.7993552
A9: Nombre | B9: =COUNTIFS(BD!A3:A28,$B$2,BD!B3:B28,B3) -> 2 | C9: =COUNTIFS(BD!A3:A28,$B$2,BD!B3:B28,C3) -> 0 | D9: =COUNTIFS(BD!A3:A28,$B$2,BD!B3:B28,D3) -> 0 | E9: =COUNTIFS(BD!$A$3:$A$28,$E$2,BD!$B$3:$B$28,E3) -> 0 | F9: =COUNTIFS(BD!$A$3:$A$28,$E$2,BD!$B$3:$B$28,F3) -> 1 | G9: =COUNTIFS(BD!$A$3:$A$28,$E$2,BD!$B$3:$B$28,G3) -> 1
A10: réél | B10: =B4 -> 9.96 | C10: =C4 -> #DIV/0! | D10: =D4 -> #DIV/0! | E10: =E4 -> #DIV/0! | F10: =F4 -> 98.12 | G10: =G4 -> 497.36
A11: Moy+SIGMA | B11: =B10+B6 -> 10.942657 | C11: =C10+C6 -> #DIV/0! | D11: =D10+D6 -> #DIV/0! | E11: =E10+E6 -> #DIV/0! | F11: =F10+F6 -> 99.372949 | G11: =G10+G6 -> 498.62645
A12: Moy-SIGMA | B12: =B10-B6 -> 8.9773433 | C12: =C10-C6 -> #DIV/0! | D12: =D10-D6 -> #DIV/0! | E12: =E10-E6 -> #DIV/0! | F12: =F10-F6 -> 96.867051 | G12: =G10-G6 -> 496.09355
A13: Moy+2SIGMA | B13: =B10+B7 -> 11.925313 | C13: =C10+C7 -> #DIV/0! | D13: =D10+D7 -> #DIV/0! | E13: =E10+E7 -> #DIV/0! | F13: =F10+F7 -> 100.6259 | G13: =G10+G7 -> 499.8929
A14: Moy-2SIGMA | B14: =B10-B7 -> 7.9946865 | C14: =C10-C7 -> #DIV/0! | D14: =D10-D7 -> #DIV/0! | E14: =E10-E7 -> #DIV/0! | F14: =F10-F7 -> 95.614103 | G14: =G10-G7 -> 494.8271
A15: Moy+3SIGMA | B15: =B10+B8 -> 12.90797 | C15: =C10+C8 -> #DIV/0! | D15: =D10+D8 -> #DIV/0! | E15: =E10+E8 -> #DIV/0! | F15: =F10+F8 -> 101.87885 | G15: =G10+G8 -> 501.15936
A16: Moy-3SIGMA | B16: =B10-B8 -> 7.0120298 | C16: =C10-C8 -> #DIV/0! | D16: =D10-D8 -> #DIV/0! | E16: =E10-E8 -> #DIV/0! | F16: =F10-F8 -> 94.361154 | G16: =G10-G8 -> 493.56064
B18: Valeur répérées manuellement
B20: 10.1 | C20: 99.5 | D20: 498.3 | E20: 14.1 | F20: 98.12 | G20: 497.36
B21: 11.9 | C21: 97.6 | D21: 496.56 | E21: 9.82 | F21: 98.98 | G21: 495.48
B22: 12 | C22: 99.8 | D22: 498.1 | E22: 9.9 | F22: 100.02 | G22: 497.89
B23: 9.73 | C23: 98.6 | E23: 9.78 | F23: 99.58
B24: 10 | F24: 96.87
B25: 9.98
B26: 9.94

Sheet Feuil1
A1: DCO 10 | B1: AA | C1: 44929 | D1: 10.1
A2: DCO 100 | B2: AA | C2: 44930 | D2: 99.5
A3: DCO 500 | B3: AA | C3: 44931 | D3: 498.3
A4: DCO 100 | B4: AA | C4: 44932 | D4: 97.6
A5: DCO 10 | B5: AA | C5: 44933 | D5: 11.9
A6: DCO 10 | B6: AA | C6: 44934 | D6: 12
A7: DCO 100 | B7: AA | C7: 44935 | D7: 99.8
A8: DCO 10 | B8: AA | C8: 44936 | D8: 9.73
A9: DCO 100 | B9: AA | C9: 44937 | D9: 98.6
A10: DCO 10 | B10: AA | C10: 44938 | D10: 10
A11: DCO 500 | B11: AA | C11: 44939 | D11: 496.56
A12: DCO 500 | B12: AA | C12: 44940 | D12: 498.1
... A26: DCO 10 | B26: AA | C26: 45320 | D26: 9.78
