Workbook

Sheet Base horaire
A3: Centre 1 | B3: Centre 2
A4: 0.020138889 | B4: 0.0055555556
A5: 0.028472222 | B5: 0.011111111
A6: 0.074305556 | B6: 0.013888889
A7: 0.077777778 | B7: 0.01875
A8: 0.079861111 | B8: 0.020138889
B9: 0.023611111
B10: 0.028472222
B11: 0.029166667
B12: 0.05625
B13: 0.064583333
B14: 0.073611111
B15: 0.073611111
B16: 0.08125
B17: 0.088194444
B18: 0.10902778
B19: 0.11180556
B20: 0.12291667

Sheet Test
H1: NB.SI('Base horaire'!A4:B300;"<00:15")-NB.SI('Base horaire'!A4:B300;"<00:00")
A2: Plages horaires | C2: NB.SI.ENS('Base horaire'!A4:B300;"<01:45") | D2: NB.SI.ENS('Base horaire'!A4:B300;"<01:45") | E2: différence | H2: NB.SI('Base horaire'!A4:B300;"<00:45")-NB.SI('Base horaire'!A4:B300;"<00:31")
A3: 0 | B3: 0.010416667 | C3: =COUNTIF('Base horaire'!A4:B300,"<00:15")-COUNTIF('Base horaire'!A4:B300,"<00:00") -> 1
A4: 0.011111111 | B4: =B3+TIME(0,15,0) -> 0.020833333 | C4: =COUNTIF('Base horaire'!A4:B300,"<00:30")-COUNTIF('Base horaire'!A4:B300,"<00:16") -> 5
A5: =A4+TIME(0,15,0) -> 0.021527778 | B5: =B4+TIME(0,15,0) -> 0.03125 | C5: =COUNTIFS('Base horaire'!A3:B299,"<00:45") -> 10 | D5: =COUNTIFS('Base horaire'!A3:B299,"<00:31") -> 6 | E5: =C5-D5 -> 4
A6: =A5+TIME(0,15,0) -> 0.031944444 | B6: =B5+TIME(0,15,0) -> 0.041666667 | C6: =COUNTIFS('Base horaire'!A4:B300,"<01:00") -> 10 | D6: =COUNTIFS('Base horaire'!A4:B300,"<00:45") -> 10 | E6: =C6-D6 -> 0
A7: =A6+TIME(0,15,0) -> 0.042361111 | B7: =B6+TIME(0,15,0) -> 0.052083333 | C7: =COUNTIFS('Base horaire'!A4:B300,"<01:15") -> 10 | D7: =COUNTIFS('Base horaire'!A4:B300,"<01:01") -> 10 | E7: =C7-D7 -> 0
A8: =A7+TIME(0,15,0) -> 0.052777778 | B8: =B7+TIME(0,15,0) -> 0.0625 | C8: =COUNTIFS('Base horaire'!A4:B300,"<01:30") -> 11 | D8: =COUNTIFS('Base horaire'!A4:B300,"<01:16") -> 10 | E8: =C8-D8 -> 1
A9: =A8+TIME(0,15,0) -> 0.063194444 | B9: =B8+TIME(0,15,0) -> 0.072916667 | C9: =COUNTIFS('Base horaire'!A4:B300,"<01:45") -> 12 | D9: =COUNTIFS('Base horaire'!A4:B300,"<01:31") -> 11 | E9: =C9-D9 -> 1
A10: =A9+TIME(0,15,0) -> 0.073611111 | B10: =B9+TIME(0,15,0) -> 0.083333333
A11: =A10+TIME(0,15,0) -> 0.084027778 | B11: =B10+TIME(0,15,0) -> 0.09375
A12: =A11+TIME(0,15,0) -> 0.094444444 | B12: =B11+TIME(0,15,0) -> 0.10416667
A13: =A12+TIME(0,15,0) -> 0.10486111 | B13: =B12+TIME(0,15,0) -> 0.11458333
A14: =A13+TIME(0,15,0) -> 0.11527778 | B14: =B13+TIME(0,15,0) -> 0.125
A15: =A14+TIME(0,15,0) -> 0.12569444 | B15: =B14+TIME(0,15,0) -> 0.13541667
A16: =A15+TIME(0,15,0) -> 0.13611111 | B16: =B15+TIME(0,15,0) -> 0.14583333
A17: =A16+TIME(0,15,0) -> 0.14652778 | B17: =B16+TIME(0,15,0) -> 0.15625
A18: =A17+TIME(0,15,0) -> 0.15694444 | B18: =B17+TIME(0,15,0) -> 0.16666667
A19: =A18+TIME(0,15,0) -> 0.16736111 | B19: =B18+TIME(0,15,0) -> 0.17708333
A20: =A19+TIME(0,15,0) -> 0.17777778 | B20: =B19+TIME(0,15,0) -> 0.1875
A21: =A20+TIME(0,15,0) -> 0.18819444 | B21: =B20+TIME(0,15,0) -> 0.19791667
... A98: =A97+TIME(0,15,0) -> 0.99027778 | B98: =B97+TIME(0,15,0) -> 1
