Workbook

Sheet modèle
A2: NOM DU CHANTIER | F2: description des travaux : | H2: .
A4: NUMÉRO D'AFFAIRE
G6: fabrication | H6: pose | I6: métré | J6: débit | K6: laquage | M6: nbre kilomètre
A7: COÛT | F7: ouvrier 1 | M7: nbre repas
A8: fabrication | B8: =(G14+K14)*G27 -> 0 | F8: ouvrier 2
A9: pose | B9: =H14*G28 -> 0 | F9: ouvrier 3
A10: kilomètre | B10: =N6*G29 -> 0 | F10: ouvrier 4 | I10: =SUM(I7:I9) -> 0 | J10: =SUM(J7:J9) -> 0
A11: repas | B11: =N7*G30 -> 0 | F11: ouvrier 5
A12: matières | B12: =G24 -> 0 | F12: ouvrier 6
F13: ouvrier 7 | M13: total heures
F14: TOTAL HEURES | G14: =SUM(G7:G13) -> 0 | H14: =SUM(H7:H13) -> 0 | K14: =SUM(K7:K13) -> 0 | M14: =G14+H14+I10+J10+K14 -> 0
A15: total coût de revient | B15: =((G24+B8+B9+B10+B11)*G31)+(G24+B8+B9+B10+B11) -> 0
F16: ACHAT
A17: marge standard | B17: =B15*G32 -> 0 | F17: marchandise 1
F18: marchandise 2
A19: total HT | B19: =B15+B17 -> 0 | F19: marchandise 3
F20: marchandise 4
A21: seuil de rentabilité journalier | F21: marchandise 5
A22: montant facturé à la journée | B22: =IF(H14=0," ",B24/(H14/17)) | F22: marchandise 6
F23: marchandise 7
A24: MONTANT FACTURÉ | F24: TOTAL ACHATS | G24: =SUM(G17:G23) -> 0
A25: MARGE RÉALISÉE | B25: =B24-B15 -> 0 | J25: estim fab | K25: estim pose
A27: % marge | B27: =IF(B24=0," ",(B24-B15)/B15) | F27: taux horaire fab | I27: différence | J27: =IF(G14=0," ",J26-(G14+K14)) | K27: =IF(H14=0," ",K26-H14)
F28: taux horaire pose
F29: prix kilométrique
F30: prix repas
F31: frais généraux
F32: marge standard

Sheet client A
A2: NOM DU CHANTIER | F2: description des travaux : | H2: .
A4: NUMÉRO D'AFFAIRE
G6: fabrication | H6: pose | I6: métré | J6: débit | K6: laquage | M6: nbre kilomètre
A7: COÛT | F7: ouvrier 1 | M7: nbre repas
A8: fabrication | B8: =(G14+K14)*G27 -> 0 | F8: ouvrier 2
A9: pose | B9: =H14*G28 -> 0 | F9: ouvrier 3
A10: kilomètre | B10: =N6*G29 -> 0 | F10: ouvrier 4 | I10: =SUM(I7:I9) -> 0 | J10: =SUM(J7:J9) -> 0
A11: repas | B11: =N7*G30 -> 0 | F11: ouvrier 5
A12: matières | B12: =G24 -> 0 | F12: ouvrier 6
F13: ouvrier 7 | M13: total heures
F14: TOTAL HEURES | G14: =SUM(G7:G13) -> 0 | H14: =SUM(H7:H13) -> 0 | K14: =SUM(K7:K13) -> 0 | M14: =G14+H14+I10+J10+K14 -> 0
A15: total coût de revient | B15: =((G24+B8+B9+B10+B11)*G31)+(G24+B8+B9+B10+B11) -> 0
F16: ACHAT
A17: marge standard | B17: =B15*G32 -> 0 | F17: marchandise 1
F18: marchandise 2
A19: total HT | B19: =B15+B17 -> 0 | F19: marchandise 3
F20: marchandise 4
A21: seuil de rentabilité journalier | F21: marchandise 5
A22: montant facturé à la journée | B22: =IF(H14=0," ",B24/(H14/17)) | F22: marchandise 6
F23: marchandise 7
A24: MONTANT FACTURÉ | F24: TOTAL ACHATS | G24: =SUM(G17:G23) -> 0
A25: MARGE RÉALISÉE | B25: =B24-B15 -> 0 | J25: estim fab | K25: estim pose
A27: % marge | B27: =IF(B24=0," ",(B24-B15)/B15) | F27: taux horaire fab | I27: différence | J27: =IF(G14=0," ",J26-(G14+K14)) | K27: =IF(H14=0," ",K26-H14)
F28: taux horaire pose
F29: prix kilométrique
F30: prix repas
F31: frais généraux
F32: marge standard

Sheet client B
A2: NOM DU CHANTIER | F2: description des travaux : | H2: .
A4: NUMÉRO D'AFFAIRE
G6: fabrication | H6: pose | I6: métré | J6: débit | K6: laquage | M6: nbre kilomètre
A7: COÛT | F7: ouvrier 1 | M7: nbre repas
A8: fabrication | B8: =(G14+K14)*G27 -> 0 | F8: ouvrier 2
A9: pose | B9: =H14*G28 -> 0 | F9: ouvrier 3
A10: kilomètre | B10: =N6*G29 -> 0 | F10: ouvrier 4 | I10: =SUM(I7:I9) -> 0 | J10: =SUM(J7:J9) -> 0
A11: repas | B11: =N7*G30 -> 0 | F11: ouvrier 5
A12: matières | B12: =G24 -> 0 | F12: ouvrier 6
F13: ouvrier 7 | M13: total heures
F14: TOTAL HEURES | G14: =SUM(G7:G13) -> 0 | H14: =SUM(H7:H13) -> 0 | K14: =SUM(K7:K13) -> 0 | M14: =G14+H14+I10+J10+K14 -> 0
A15: total coût de revient | B15: =((G24+B8+B9+B10+B11)*G31)+(G24+B8+B9+B10+B11) -> 0
F16: ACHAT
A17: marge standard | B17: =B15*G32 -> 0 | F17: marchandise 1
F18: marchandise 2
A19: total HT | B19: =B15+B17 -> 0 | F19: marchandise 3
F20: marchandise 4
A21: seuil de rentabilité journalier | F21: marchandise 5
A22: montant facturé à la journée | B22: =IF(H14=0," ",B24/(H14/17)) | F22: marchandise 6
F23: marchandise 7
A24: MONTANT FACTURÉ | F24: TOTAL ACHATS | G24: =SUM(G17:G23) -> 0
A25: MARGE RÉALISÉE | B25: =B24-B15 -> 0 | J25: estim fab | K25: estim pose
A27: % marge | B27: =IF(B24=0," ",(B24-B15)/B15) | F27: taux horaire fab | I27: différence | J27: =IF(G14=0," ",J26-(G14+K14)) | K27: =IF(H14=0," ",K26-H14)
F28: taux horaire pose
F29: prix kilométrique
F30: prix repas
F31: frais généraux
F32: marge standard

Sheet client C
A2: NOM DU CHANTIER | F2: description des travaux : | H2: .
A4: NUMÉRO D'AFFAIRE
G6: fabrication | H6: pose | I6: métré | J6: débit | K6: laquage | M6: nbre kilomètre
A7: COÛT | F7: ouvrier 1 | M7: nbre repas
A8: fabrication | B8: =(G14+K14)*G27 -> 0 | F8: ouvrier 2
A9: pose | B9: =H14*G28 -> 0 | F9: ouvrier 3
A10: kilomètre | B10: =N6*G29 -> 0 | F10: ouvrier 4 | I10: =SUM(I7:I9) -> 0 | J10: =SUM(J7:J9) -> 0
A11: repas | B11: =N7*G30 -> 0 | F11: ouvrier 5
A12: matières | B12: =G24 -> 0 | F12: ouvrier 6
F13: ouvrier 7 | M13: total heures
F14: TOTAL HEURES | G14: =SUM(G7:G13) -> 0 | H14: =SUM(H7:H13) -> 0 | K14: =SUM(K7:K13) -> 0 | M14: =G14+H14+I10+J10+K14 -> 0
A15: total coût de revient | B15: =((G24+B8+B9+B10+B11)*G31)+(G24+B8+B9+B10+B11) -> 0
F16: ACHAT
A17: marge standard | B17: =B15*G32 -> 0 | F17: marchandise 1
F18: marchandise 2
A19: total HT | B19: =B15+B17 -> 0 | F19: marchandise 3
F20: marchandise 4
A21: seuil de rentabilité journalier | F21: marchandise 5
A22: montant facturé à la journée | B22: =IF(H14=0," ",B24/(H14/17)) | F22: marchandise 6
F23: marchandise 7
A24: MONTANT FACTURÉ | F24: TOTAL ACHATS | G24: =SUM(G17:G23) -> 0
A25: MARGE RÉALISÉE | B25: =B24-B15 -> 0 | J25: estim fab | K25: estim pose
A27: % marge | B27: =IF(B24=0," ",(B24-B15)/B15) | F27: taux horaire fab | I27: différence | J27: =IF(G14=0," ",J26-(G14+K14)) | K27: =IF(H14=0," ",K26-H14)
F28: taux horaire pose
F29: prix kilométrique
F30: prix repas
F31: frais généraux
F32: marge standard

Sheet client D
A2: NOM DU CHANTIER | F2: description des travaux : | H2: .
A4: NUMÉRO D'AFFAIRE
G6: fabrication | H6: pose | I6: métré | J6: débit | K6: laquage | M6: nbre kilomètre
A7: COÛT | F7: ouvrier 1 | M7: nbre repas
A8: fabrication | B8: =(G14+K14)*G27 -> 0 | F8: ouvrier 2
A9: pose | B9: =H14*G28 -> 0 | F9: ouvrier 3
A10: kilomètre | B10: =N6*G29 -> 0 | F10: ouvrier 4 | I10: =SUM(I7:I9) -> 0 | J10: =SUM(J7:J9) -> 0
A11: repas | B11: =N7*G30 -> 0 | F11: ouvrier 5
A12: matières | B12: =G24 -> 0 | F12: ouvrier 6
F13: ouvrier 7 | M13: total heures
F14: TOTAL HEURES | G14: =SUM(G7:G13) -> 0 | H14: =SUM(H7:H13) -> 0 | K14: =SUM(K7:K13) -> 0 | M14: =G14+H14+I10+J10+K14 -> 0
A15: total coût de revient | B15: =((G24+B8+B9+B10+B11)*G31)+(G24+B8+B9+B10+B11) -> 0
F16: ACHAT
A17: marge standard | B17: =B15*G32 -> 0 | F17: marchandise 1
F18: marchandise 2
A19: total HT | B19: =B15+B17 -> 0 | F19: marchandise 3
F20: marchandise 4
A21: seuil de rentabilité journalier | F21: marchandise 5
A22: montant facturé à la journée | B22: =IF(H14=0," ",B24/(H14/17)) | F22: marchandise 6
F23: marchandise 7
A24: MONTANT FACTURÉ | F24: TOTAL ACHATS | G24: =SUM(G17:G23) -> 0
A25: MARGE RÉALISÉE | B25: =B24-B15 -> 0 | J25: estim fab | K25: estim pose
A27: % marge | B27: =IF(B24=0," ",(B24-B15)/B15) | F27: taux horaire fab | I27: différence | J27: =IF(G14=0," ",J26-(G14+K14)) | K27: =IF(H14=0," ",K26-H14)
F28: taux horaire pose
F29: prix kilométrique
F30: prix repas
F31: frais généraux
F32: marge standard

Sheet client E
A2: NOM DU CHANTIER | F2: description des travaux : | H2: .
A4: NUMÉRO D'AFFAIRE
G6: fabrication | H6: pose | I6: métré | J6: débit | K6: laquage | M6: nbre kilomètre
A7: COÛT | F7: ouvrier 1 | M7: nbre repas
A8: fabrication | B8: =(G14+K14)*G27 -> 0 | F8: ouvrier 2
A9: pose | B9: =H14*G28 -> 0 | F9: ouvrier 3
A10: kilomètre | B10: =N6*G29 -> 0 | F10: ouvrier 4 | I10: =SUM(I7:I9) -> 0 | J10: =SUM(J7:J9) -> 0
A11: repas | B11: =N7*G30 -> 0 | F11: ouvrier 5
A12: matières | B12: =G24 -> 0 | F12: ouvrier 6
F13: ouvrier 7 | M13: total heures
F14: TOTAL HEURES | G14: =SUM(G7:G13) -> 0 | H14: =SUM(H7:H13) -> 0 | K14: =SUM(K7:K13) -> 0 | M14: =G14+H14+I10+J10+K14 -> 0
A15: total coût de revient | B15: =((G24+B8+B9+B10+B11)*G31)+(G24+B8+B9+B10+B11) -> 0
F16: ACHAT
A17: marge standard | B17: =B15*G32 -> 0 | F17: marchandise 1
F18: marchandise 2
A19: total HT | B19: =B15+B17 -> 0 | F19: marchandise 3
F20: marchandise 4
A21: seuil de rentabilité journalier | F21: marchandise 5
A22: montant facturé à la journée | B22: =IF(H14=0," ",B24/(H14/17)) | F22: marchandise 6
F23: marchandise 7
A24: MONTANT FACTURÉ | F24: TOTAL ACHATS | G24: =SUM(G17:G23) -> 0
A25: MARGE RÉALISÉE | B25: =B24-B15 -> 0 | J25: estim fab | K25: estim pose
A27: % marge | B27: =IF(B24=0," ",(B24-B15)/B15) | F27: taux horaire fab | I27: différence | J27: =IF(G14=0," ",J26-(G14+K14)) | K27: =IF(H14=0," ",K26-H14)
F28: taux horaire pose
F29: prix kilométrique
F30: prix repas
F31: frais généraux
F32: marge standard

Sheet CUMUL
A2: NOM DU CHANTIER | B2: CUMUL DU MOIS | F2: description des travaux : | H2: CUMUL DU MOIS
A4: NUMÉRO D'AFFAIRE
G6: fabrication | H6: pose | I6: métré | J6: débit | K6: laquage | M6: nbre kilomètre | N6: =SUM('modèle:client E'!N6) -> 0
A7: COÛT | F7: jean marie | G7: =SUM('modèle:client E'!G7) -> 0 | H7: =SUM('modèle:client E'!H7) -> 0 | I7: =SUM('modèle:client E'!I7) -> 0 | J7: =SUM('modèle:client E'!J7) -> 0 | K7: =SUM('modèle:client E'!K7) -> 0 | M7: nbre repas | N7: =SUM('modèle:client E'!N7) -> 0
A8: fabrication | B8: =(G14+K14)*G27 -> 0 | F8: cédric C | G8: =SUM('modèle:client E'!G8) -> 0 | H8: =SUM('modèle:client E'!H8) -> 0 | I8: =SUM('modèle:client E'!I8) -> 0 | J8: =SUM('modèle:client E'!J8) -> 0 | K8: =SUM('modèle:client E'!K8) -> 0
A9: pose | B9: =H14*G28 -> 0 | F9: damiens | G9: =SUM('modèle:client E'!G9) -> 0 | H9: =SUM('modèle:client E'!H9) -> 0 | I9: =SUM('modèle:client E'!I9) -> 0 | J9: =SUM('modèle:client E'!J9) -> 0 | K9: =SUM('modèle:client E'!K9) -> 0
A10: kilomètre | B10: =N6*G29 -> 0 | F10: cédric R | G10: =SUM('modèle:client E'!G10) -> 0 | H10: =SUM('modèle:client E'!H10) -> 0 | I10: =SUM(I7:I9) -> 0 | J10: =SUM(J7:J9) -> 0 | K10: =SUM('modèle:client E'!K10) -> 0
A11: repas | B11: =N7*G30 -> 0 | F11: esteban | G11: =SUM('modèle:client E'!G11) -> 0 | H11: =SUM('modèle:client E'!H11) -> 0 | K11: =SUM('modèle:client E'!K11) -> 0
A12: matières | B12: =G24 -> 0 | F12: nicolas | G12: =SUM('modèle:client E'!G12) -> 0 | H12: =SUM('modèle:client E'!H12) -> 0 | K12: =SUM('modèle:client E'!K12) -> 0
F13: david | G13: =SUM('modèle:client E'!G13) -> 0 | H13: =SUM('modèle:client E'!H13) -> 0 | K13: =SUM('modèle:client E'!K13) -> 0 | M13: total heures
F14: TOTAL HEURES | G14: =SUM(G7:G13) -> 0 | H14: =SUM(H7:H13) -> 0 | K14: =SUM(K7:K13) -> 0 | M14: =G14+H14+I10+J10+K14 -> 0
A15: total coût de revient | B15: =((G24+B8+B9+B10+B11)*G31)+(G24+B8+B9+B10+B11) -> 0
F16: ACHAT
A17: marge standard | B17: =B15*G32 -> 0 | F17: marchandise 1 | G17: =SUM('modèle:client E'!G17) -> 0
F18: marchandise 2 | G18: =SUM('modèle:client E'!G18) -> 0
A19: total HT | B19: =B15+B17 -> 0 | F19: marchandise 3 | G19: =SUM('modèle:client E'!G19) -> 0
F20: marchandise 4 | G20: =SUM('modèle:client E'!G20) -> 0
A21: seuil de rentabilité journalier | B21: 2450.81 | F21: marchandise 5 | G21: =SUM('modèle:client E'!G21) -> 0
A22: montant facturé à la journée | B22: =IF(H14=0," ",B24/(H14/17)) | F22: marchandise 6 | G22: =SUM('modèle:client E'!G22) -> 0
F23: marchandise 7 | G23: =SUM('modèle:client E'!G23) -> 0
A24: MONTANT FACTURÉ | B24: =SUM('modèle:client E'!B24) -> 0 | F24: TOTAL ACHATS | G24: =SUM(G17:G23) -> 0
A25: MARGE RÉALISÉE | B25: =B24-B15 -> 0 | J25: estim fab | K25: estim pose
J26: =SUM('modèle:client E'!J26) -> 0 | K26: =SUM('modèle:client E'!K26) -> 0
A27: % marge | B27: =IF(B24=0," ",(B24-B15)/B15) | F27: taux horaire fab | G27: 36.8 | I27: différence | J27: =IF(G14=0," ",J26-(G14+K14)) | K27: =IF(H14=0," ",K26-H14)
F28: taux horaire pose | G28: 21.1
F29: prix kilométrique | G29: 0.41
F30: prix repas | G30: 16.8
F31: frais généraux | G31: 0.514
F32: marge standard | G32: 0.15
