Workbook
Name code_et_briques: 'TARIF global'!$A$12:$B$22
Name liste_briques: 'TARIF global'!$B$12:$B$22
Name liste_code: 'TARIF global'!$A$12:$A$30
Name nombre_de_palettes: DEVIS!$R$40
Name type: DEVIS!$O$18

Sheet DEVIS
D13: NOM
D14: TELEPHONE
D15: MAIL
D16: ADRESSE
D17: ADRESSE
O18: partenaire
C19: DEVIS N°
B21: Objet : Fourniture de Briques | N21: nbrs de palettes | P21: partenaire | Q21: client | R21: métropole | S21: antille
N22: % remise de 1 à 4 | P22: 0.45 | Q22: 0.25 | R22: 0.25 | S22: 0.25
B23: Norme harmonisée : EN 771-3:2011* Organisme notifié : ON1164 CERIB | N23: % remise de 5 à 10 | P23: 0.45 | Q23: 0.35 | R23: 0.35 | S23: 0.35
N24: % remise de 11 à 20 | P24: 0.5 | Q24: 0.4 | R24: 0.4 | S24: 0.4
I25: remise sur briques | K25: =IFERROR(nombre_de_palettes,0) -> 0 | N25: % remise 21+ | P25: 0.56 | Q25: 0.45 | R25: 0.45 | S25: 0.45
B28: Désignation du produit | C28: Rèf. | D28: P.U. Brique | E28: P.U. M² | F28: Quantité Briques | G28: Quantité M² | H28: Unité | I28: P.U. Brique après remise | J28: P.U. M² après remise | K28: Montant | L28: Poids | O28: Poids unité | P28: m²/palette | Q28: Nb Palettes | R28: Taux de remise | T28: M² total
B29: =IFERROR(VLOOKUP(C29,'TARIF global'!$A$12:$T$30,2)&" "&VLOOKUP(C29,'TARIF global'!$A$12:$T$30,3),"vide") -> vide | D29: =IFERROR(VLOOKUP(C29,'TARIF global'!$A$12:$T$30,4),0) -> 0 | E29: =IFERROR(VLOOKUP(C29,'TARIF global'!$A$12:$T$30,5),0) -> 0 | F29: =IFERROR(IF(C29="vide","",G29*VLOOKUP(C29,'TARIF global'!$A$12:$T$30,14)),0) -> 0 | G29: =IFERROR(IF(C29="vide","",G29/VLOOKUP(C29,'TARIF global'!$A$12:$T$30,14)),0) -> 0 | H29: =IFERROR(VLOOKUP(C29,'TARIF global'!$A$12:$T$30,20),"vide") -> vide | I29: =IF(C29="vide","",(D29-$K$25*D29)) -> 0 | J29: =IF(C29="vide","",(E29-$K$25*E29)) -> 0 | K29: =IFERROR(IF(C29="vide",0,G29*J29),0) -> 0 | L29: =IFERROR(IF(C29="vide",0,F29*O29),0) -> 0 | O29: =IFERROR(VLOOKUP(C29,'TARIF global'!$A$12:$T$30,17),0) -> 0 | P29: =IFERROR(VLOOKUP(C29,'TARIF global'!$A$12:$T$30,16),0) -> 0 | Q29: =IF(H29="M²",G29/P29,0) -> 0 | R29: =SI(type="partenaire"(Q29>=20;$P$25;SI(Q29>=11;$P$24;SI(Q29>=6;$P$23;SI(Q29>=1;$P$22;0)))));SI(type="client"(Q29>=20;$q$25;SI(Q29>=11;$q$24;SI(Q29>=6;$q$23;SI(Q29>=1;$q$22;0)))));SI(type="métropole"(Q29>=20;$r$25;SI(Q29>=11;$r$24;SI(Q29>=6;$r$23;SI(Q29>=1;$r$22;0)))));SI(type="antille"(Q29>=20;$s$25;SI(Q29>=11;$s$24;SI(Q29>=6;$s$23;SI(Q29>=1;$s$22;0))))) | T29: =IF(H29="M²",G29) -> FALSE
B30: =IFERROR(VLOOKUP(C30,'TARIF global'!$A$12:$T$30,2)&" "&VLOOKUP(C30,'TARIF global'!$A$12:$T$30,3),"vide") -> vide | D30: =IFERROR(VLOOKUP(C30,'TARIF global'!$A$12:$T$30,4),0) -> 0 | E30: =IFERROR(VLOOKUP(C30,'TARIF global'!$A$12:$T$30,5),0) -> 0 | F30: =IFERROR(IF(C30="vide","",G30*VLOOKUP(C30,'TARIF global'!$A$12:$T$30,14)),0) -> 0 | G30: =IFERROR(IF(C30="vide","",G30/VLOOKUP(C30,'TARIF global'!$A$12:$T$30,14)),0) -> 0 | H30: =IFERROR(VLOOKUP(C30,'TARIF global'!$A$12:$T$30,20),"vide") -> vide | I30: =IF(C30="vide","",(D30-$K$25*D30)) -> 0 | J30: =IF(C30="vide","",(E30-$K$25*E30)) -> 0 | K30: =IFERROR(IF(C30="vide",0,G30*J30),0) -> 0 | L30: =IFERROR(IF(C30="vide",0,F30*O30),0) -> 0 | O30: =IFERROR(VLOOKUP(C30,'TARIF global'!$A$12:$T$30,17),0) -> 0 | P30: =IFERROR(VLOOKUP(C30,'TARIF global'!$A$12:$T$30,16),0) -> 0 | Q30: =IF(H30="M²",G30/P30,0) -> 0 | R30: =IF(Q30>=20,$P$25,IF(Q30>=11,$P$24,IF(Q30>=6,$P$23,IF(Q30>=1,$P$22,0)))) -> 0 | T30: =IF(H30="M²",G30) -> FALSE
B31: =IFERROR(VLOOKUP(C31,'TARIF global'!$A$12:$T$30,2)&" "&VLOOKUP(C31,'TARIF global'!$A$12:$T$30,3),"vide") -> vide | D31: =IFERROR(VLOOKUP(C31,'TARIF global'!$A$12:$T$30,4),0) -> 0 | E31: =IFERROR(VLOOKUP(C31,'TARIF global'!$A$12:$T$30,5),0) -> 0 | F31: =IFERROR(IF(C31="vide","",G31*VLOOKUP(C31,'TARIF global'!$A$12:$T$30,14)),0) -> 0 | G31: =IFERROR(IF(C31="vide","",G31/VLOOKUP(C31,'TARIF global'!$A$12:$T$30,14)),0) -> 0 | H31: =IFERROR(VLOOKUP(C31,'TARIF global'!$A$12:$T$30,20),"vide") -> vide | I31: =IF(C31="vide","",(D31-$K$25*D31)) -> 0 | J31: =IF(C31="vide","",(E31-$K$25*E31)) -> 0 | K31: =IFERROR(IF(C31="vide",0,G31*J31),0) -> 0 | L31: =IFERROR(IF(C31="vide",0,F31*O31),0) -> 0 | O31: =IFERROR(VLOOKUP(C31,'TARIF global'!$A$12:$T$30,17),0) -> 0 | P31: =IFERROR(VLOOKUP(C31,'TARIF global'!$A$12:$T$30,16),0) -> 0 | Q31: =IF(H31="M²",G31/P31,0) -> 0 | R31: =IF(Q31>=20,$P$25,IF(Q31>=11,$P$24,IF(Q31>=6,$P$23,IF(Q31>=1,$P$22,0)))) -> 0 | T31: =IF(H31="M²",G31) -> FALSE
B32: =IFERROR(VLOOKUP(C32,'TARIF global'!$A$12:$T$30,2)&" "&VLOOKUP(C32,'TARIF global'!$A$12:$T$30,3),"vide") -> vide | D32: =IFERROR(VLOOKUP(C32,'TARIF global'!$A$12:$T$30,4),0) -> 0 | E32: =IFERROR(VLOOKUP(C32,'TARIF global'!$A$12:$T$30,5),0) -> 0 | F32: =IFERROR(IF(C32="vide","",G32*VLOOKUP(C32,'TARIF global'!$A$12:$T$30,14)),0) -> 0 | G32: =IFERROR(IF(C32="vide","",G32/VLOOKUP(C32,'TARIF global'!$A$12:$T$30,14)),0) -> 0 | H32: =IFERROR(VLOOKUP(C32,'TARIF global'!$A$12:$T$30,20),"vide") -> vide | I32: =IF(C32="vide","",(D32-$K$25*D32)) -> 0 | J32: =IF(C32="vide","",(E32-$K$25*E32)) -> 0 | K32: =IFERROR(IF(C32="vide",0,G32*J32),0) -> 0 | L32: =IFERROR(IF(C32="vide",0,F32*O32),0) -> 0 | O32: =IFERROR(VLOOKUP(C32,'TARIF global'!$A$12:$T$30,17),0) -> 0 | P32: =IFERROR(VLOOKUP(C32,'TARIF global'!$A$12:$T$30,16),0) -> 0 | Q32: =IF(H32="M²",G32/P32,0) -> 0 | R32: =IF(Q32>=20,$P$25,IF(Q32>=11,$P$24,IF(Q32>=6,$P$23,IF(Q32>=1,$P$22,0)))) -> 0 | T32: =IF(H32="M²",G32) -> FALSE
B33: =IFERROR(VLOOKUP(C33,'TARIF global'!$A$12:$T$30,2)&" "&VLOOKUP(C33,'TARIF global'!$A$12:$T$30,3),"vide") -> vide | D33: =IFERROR(VLOOKUP(C33,'TARIF global'!$A$12:$T$30,4),0) -> 0 | E33: =IFERROR(VLOOKUP(C33,'TARIF global'!$A$12:$T$30,5),0) -> 0 | F33: =IFERROR(IF(C33="vide","",G33*VLOOKUP(C33,'TARIF global'!$A$12:$T$30,14)),0) -> 0 | G33: =IFERROR(IF(C33="vide","",G33/VLOOKUP(C33,'TARIF global'!$A$12:$T$30,14)),0) -> 0 | H33: =IFERROR(VLOOKUP(C33,'TARIF global'!$A$12:$T$30,20),"vide") -> vide | I33: =IF(C33="vide","",(D33-$K$25*D33)) -> 0 | J33: =IF(C33="vide","",(E33-$K$25*E33)) -> 0 | K33: =IFERROR(IF(C33="vide",0,G33*J33),0) -> 0 | L33: =IFERROR(IF(C33="vide",0,F33*O33),0) -> 0 | O33: =IFERROR(VLOOKUP(C33,'TARIF global'!$A$12:$T$30,17),0) -> 0 | P33: =IFERROR(VLOOKUP(C33,'TARIF global'!$A$12:$T$30,16),0) -> 0 | Q33: =IF(H33="M²",G33/P33,0) -> 0 | R33: =IF(Q33>=20,$P$25,IF(Q33>=11,$P$24,IF(Q33>=6,$P$23,IF(Q33>=1,$P$22,0)))) -> 0 | T33: =IF(H33="M²",G33) -> FALSE
B34: =IFERROR(VLOOKUP(C34,'TARIF global'!$A$12:$T$30,2)&" "&VLOOKUP(C34,'TARIF global'!$A$12:$T$30,3),"vide") -> vide | D34: =IFERROR(VLOOKUP(C34,'TARIF global'!$A$12:$T$30,4),0) -> 0 | E34: =IFERROR(VLOOKUP(C34,'TARIF global'!$A$12:$T$30,5),0) -> 0 | F34: =IFERROR(IF(C34="vide","",G34*VLOOKUP(C34,'TARIF global'!$A$12:$T$30,14)),0) -> 0 | G34: =IFERROR(IF(C34="vide","",G34/VLOOKUP(C34,'TARIF global'!$A$12:$T$30,14)),0) -> 0 | H34: =IFERROR(VLOOKUP(C34,'TARIF global'!$A$12:$T$30,20),"vide") -> vide | I34: =IF(C34="vide","",(D34-$K$25*D34)) -> 0 | J34: =IF(C34="vide","",(E34-$K$25*E34)) -> 0 | K34: =IFERROR(IF(C34="vide",0,G34*J34),0) -> 0 | L34: =IFERROR(IF(C34="vide",0,F34*O34),0) -> 0 | O34: =IFERROR(VLOOKUP(C34,'TARIF global'!$A$12:$T$30,17),0) -> 0 | P34: =IFERROR(VLOOKUP(C34,'TARIF global'!$A$12:$T$30,16),0) -> 0 | Q34: =IF(H34="M²",G34/P34,0) -> 0 | R34: =IF(Q34>=20,$P$25,IF(Q34>=11,$P$24,IF(Q34>=6,$P$23,IF(Q34>=1,$P$22,0)))) -> 0 | T34: =IF(H34="M²",G34) -> FALSE
B35: =IFERROR(VLOOKUP(C35,'TARIF global'!$A$12:$T$30,2)&" "&VLOOKUP(C35,'TARIF global'!$A$12:$T$30,3),"vide") -> vide | D35: =IFERROR(VLOOKUP(C35,'TARIF global'!$A$12:$T$30,4),0) -> 0 | E35: =IFERROR(VLOOKUP(C35,'TARIF global'!$A$12:$T$30,5),0) -> 0 | F35: =IFERROR(IF(C35="vide","",G35*VLOOKUP(C35,'TARIF global'!$A$12:$T$30,14)),0) -> 0 | G35: =IFERROR(IF(C35="vide","",G35/VLOOKUP(C35,'TARIF global'!$A$12:$T$30,14)),0) -> 0 | H35: =IFERROR(VLOOKUP(C35,'TARIF global'!$A$12:$T$30,20),"vide") -> vide | I35: =IF(C35="vide","",(D35-$K$25*D35)) -> 0 | J35: =IF(C35="vide","",(E35-$K$25*E35)) -> 0 | K35: =IFERROR(IF(C35="vide",0,G35*J35),0) -> 0 | L35: =IFERROR(IF(C35="vide",0,F35*O35),0) -> 0 | O35: =IFERROR(VLOOKUP(C35,'TARIF global'!$A$12:$T$30,17),0) -> 0 | P35: =IFERROR(VLOOKUP(C35,'TARIF global'!$A$12:$T$30,16),0) -> 0 | Q35: =IF(H35="M²",G35/P35,0) -> 0 | R35: =IF(Q35>=20,$P$25,IF(Q35>=11,$P$24,IF(Q35>=6,$P$23,IF(Q35>=1,$P$22,0)))) -> 0 | T35: =IF(H35="M²",G35) -> FALSE
B36: =IFERROR(VLOOKUP(C36,'TARIF global'!$A$12:$T$30,2)&" "&VLOOKUP(C36,'TARIF global'!$A$12:$T$30,3),"vide") -> vide | D36: =IFERROR(VLOOKUP(C36,'TARIF global'!$A$12:$T$30,4),0) -> 0 | E36: =IFERROR(VLOOKUP(C36,'TARIF global'!$A$12:$T$30,5),0) -> 0 | F36: =IFERROR(IF(C36="vide","",G36*VLOOKUP(C36,'TARIF global'!$A$12:$T$30,14)),0) -> 0 | G36: =IFERROR(IF(C36="vide","",G36/VLOOKUP(C36,'TARIF global'!$A$12:$T$30,14)),0) -> 0 | H36: =IFERROR(VLOOKUP(C36,'TARIF global'!$A$12:$T$30,20),"vide") -> vide | I36: =IF(C36="vide","",(D36-$K$25*D36)) -> 0 | J36: =IF(C36="vide","",(E36-$K$25*E36)) -> 0 | K36: =IFERROR(IF(C36="vide",0,G36*J36),0) -> 0 | L36: =IFERROR(IF(C36="vide",0,F36*O36),0) -> 0 | O36: =IFERROR(VLOOKUP(C36,'TARIF global'!$A$12:$T$30,17),0) -> 0 | P36: =IFERROR(VLOOKUP(C36,'TARIF global'!$A$12:$T$30,16),0) -> 0 | Q36: =IF(H36="M²",G36/P36,0) -> 0 | R36: =IF(Q36>=20,$P$25,IF(Q36>=11,$P$24,IF(Q36>=6,$P$23,IF(Q36>=1,$P$22,0)))) -> 0 | T36: =IF(H36="M²",G36) -> FALSE
B37: =IFERROR(VLOOKUP(C37,'TARIF global'!$A$12:$T$30,2)&" "&VLOOKUP(C37,'TARIF global'!$A$12:$T$30,3),"vide") -> vide | D37: =IFERROR(VLOOKUP(C37,'TARIF global'!$A$12:$T$30,4),0) -> 0 | E37: =IFERROR(VLOOKUP(C37,'TARIF global'!$A$12:$T$30,5),0) -> 0 | F37: =IFERROR(IF(C37="vide","",G37*VLOOKUP(C37,'TARIF global'!$A$12:$T$30,14)),0) -> 0 | G37: =IFERROR(IF(C37="vide","",G37/VLOOKUP(C37,'TARIF global'!$A$12:$T$30,14)),0) -> 0 | H37: =IFERROR(VLOOKUP(C37,'TARIF global'!$A$12:$T$30,20),"vide") -> vide | I37: =IF(C37="vide","",(D37-$K$25*D37)) -> 0 | J37: =IF(C37="vide","",(E37-$K$25*E37)) -> 0 | K37: =IFERROR(IF(C37="vide",0,G37*J37),0) -> 0 | L37: =IFERROR(IF(C37="vide",0,F37*O37),0) -> 0 | O37: =IFERROR(VLOOKUP(C37,'TARIF global'!$A$12:$T$30,17),0) -> 0 | P37: =IFERROR(VLOOKUP(C37,'TARIF global'!$A$12:$T$30,16),0) -> 0 | Q37: =IF(H37="M²",G37/P37,0) -> 0 | R37: =IF(Q37>=20,$P$25,IF(Q37>=11,$P$24,IF(Q37>=6,$P$23,IF(Q37>=1,$P$22,0)))) -> 0 | T37: =IF(H37="M²",G37) -> FALSE
B38: =IFERROR(VLOOKUP(C38,'TARIF global'!$A$12:$T$30,2)&" "&VLOOKUP(C38,'TARIF global'!$A$12:$T$30,3),"vide") -> vide | D38: =IFERROR(VLOOKUP(C38,'TARIF global'!$A$12:$T$30,4),0) -> 0 | E38: =IFERROR(VLOOKUP(C38,'TARIF global'!$A$12:$T$30,5),0) -> 0 | F38: =IFERROR(IF(C38="vide","",G38*VLOOKUP(C38,'TARIF global'!$A$12:$T$30,14)),0) -> 0 | G38: =IFERROR(IF(C38="vide","",G38/VLOOKUP(C38,'TARIF global'!$A$12:$T$30,14)),0) -> 0 | H38: =IFERROR(VLOOKUP(C38,'TARIF global'!$A$12:$T$30,20),"vide") -> vide | I38: =IF(C38="vide","",(D38-$K$25*D38)) -> 0 | J38: =IF(C38="vide","",(E38-$K$25*E38)) -> 0 | K38: =IFERROR(IF(C38="vide",0,G38*J38),0) -> 0 | L38: =IFERROR(IF(C38="vide",0,F38*O38),0) -> 0 | O38: =IFERROR(VLOOKUP(C38,'TARIF global'!$A$12:$T$30,17),0) -> 0 | P38: =IFERROR(VLOOKUP(C38,'TARIF global'!$A$12:$T$30,16),0) -> 0 | Q38: =IF(H38="M²",G38/P38,0) -> 0 | R38: =IF(Q38>=20,$P$25,IF(Q38>=11,$P$24,IF(Q38>=6,$P$23,IF(Q38>=1,$P$22,0)))) -> 0 | T38: =IF(H38="M²",G38) -> FALSE
B39: =IFERROR(VLOOKUP(C39,'TARIF global'!$A$12:$T$30,2)&" "&VLOOKUP(C39,'TARIF global'!$A$12:$T$30,3),"vide") -> vide | D39: =IFERROR(VLOOKUP(C39,'TARIF global'!$A$12:$T$30,4),0) -> 0 | E39: =IFERROR(VLOOKUP(C39,'TARIF global'!$A$12:$T$30,5),0) -> 0 | F39: =IFERROR(IF(C39="vide","",G39*VLOOKUP(C39,'TARIF global'!$A$12:$T$30,14)),0) -> 0 | G39: =IFERROR(IF(C39="vide","",G39/VLOOKUP(C39,'TARIF global'!$A$12:$T$30,14)),0) -> 0 | H39: =IFERROR(VLOOKUP(C39,'TARIF global'!$A$12:$T$30,20),"vide") -> vide | I39: =IF(C39="vide","",(D39-$K$25*D39)) -> 0 | J39: =IF(C39="vide","",(E39-$K$25*E39)) -> 0 | K39: =IFERROR(IF(C39="vide",0,G39*J39),0) -> 0 | L39: =IFERROR(IF(C39="vide",0,F39*O39),0) -> 0 | O39: =IFERROR(VLOOKUP(C39,'TARIF global'!$A$12:$T$30,17),0) -> 0 | P39: =IFERROR(VLOOKUP(C39,'TARIF global'!$A$12:$T$30,16),0) -> 0 | Q39: =IF(H39="M²",G39/P39,0) -> 0 | R39: =IF(Q39>=20,$P$25,IF(Q39>=11,$P$24,IF(Q39>=6,$P$23,IF(Q39>=1,$P$22,0)))) -> 0 | T39: =IF(H39="M²",G39) -> FALSE
O40: nombres de palettes | Q40: =ROUNDUP(SUM(Q29:Q39),0) -> 0 | R40: =IF(Q40>=20,P25,IF(Q40>=11,P24,IF(Q40>=6,P23,IF(Q40>=1,P22,0)))) -> 0
B41: sous total | G41: =SUM(T29:T39) -> 0 | K41: =SUM(K29:K39) -> 0
S42: quantité par M² | T42: unité | U42: PRIX par M² | V42: besoin | X42: nbrs unité
B43: =VLOOKUP(C43,'TARIF global'!$A$12:$T$30,2)&" "&VLOOKUP(C43,'TARIF global'!$A$12:$T$30,3) -> Plaquette de Parement 3 x 11 x 30 | C43: HSB25 | D43: =VLOOKUP(C43,'TARIF global'!$A$12:$T$30,4) -> 2.9 | F43: =IF(W43,X43,"non fournis") -> non fournis | G43: =IF(W43,V43,"non fournis") -> non fournis | H43: =VLOOKUP(C43,'TARIF global'!$A$12:$T$30,20) -> M² | K43: =IFERROR(IF(C43="vide",0,F43*D43),0) -> 0 | P43: hydrofuge | S43: 0.5 | T43: L | U43: ='TARIF global'!D24/'TARIF global'!E24*DEVIS!S43 -> 6.48 | V43: =IF(W43,$G$41*S43,0) -> 0 | W43: FALSE | X43: =ROUNDUP(V43/'TARIF global'!E24,0) -> 0
B44: =VLOOKUP(C44,'TARIF global'!$A$12:$T$30,2)&" "&VLOOKUP(C44,'TARIF global'!$A$12:$T$30,3) -> Sika colle joint mince | C44: sika25 | D44: =VLOOKUP(C44,'TARIF global'!$A$12:$T$30,4) -> 33.6 | F44: =IF(W44,X44,"non fournis") -> non fournis | G44: =IF(W44,V44,"non fournis") -> non fournis | H44: =VLOOKUP(C44,'TARIF global'!$A$12:$T$30,20) -> L | K44: =IFERROR(IF(C44="vide",0,F44*D44),0) -> 0 | P44: colle | S44: 2 | T44: L | U44: ='TARIF global'!D25/'TARIF global'!E25*DEVIS!S44 -> 2.688 | V44: =IF(W44,$G$41*S44,0) -> 0 | W44: FALSE | X44: =ROUNDUP(V44/'TARIF global'!E25,0) -> 0
B45: =VLOOKUP(C45,'TARIF global'!$A$12:$T$30,2)&" "&VLOOKUP(C45,'TARIF global'!$A$12:$T$30,3) -> Sac de terre tamisée | C45: Tamis25 | D45: =VLOOKUP(C45,'TARIF global'!$A$12:$T$30,4) -> 25 | F45: =IF(W45,X45,"non fournis") -> non fournis | G45: =IF(W45,V45,"non fournis") -> non fournis | H45: =VLOOKUP(C45,'TARIF global'!$A$12:$T$30,20) -> L | K45: =IFERROR(IF(C45="vide",0,F45*D45),0) -> 0 | P45: terre | S45: 0.66 | T45: L | U45: ='TARIF global'!D26/'TARIF global'!E26*S45 -> 0.66 | V45: =IF(W45,$G$41*S45,0) -> 0 | W45: FALSE | X45: =ROUNDUP(V45/'TARIF global'!E26,0) -> 0
P46: pose | S46: 1 | T46: U | U46: 80 | V46: =IF(W46,G41,0) -> 0 | W46: FALSE | X46: =U46*V46 -> 0
P47: rejointoiement et hydrofuge | S47: 1 | T47: U | U47: 15 | V47: =IF(W47,G41,0) -> 0 | W47: FALSE | X47: =U47*V47 -> 0
P48: transport CAYENNE | S48: 1 | T48: U | U48: 1000 | V48: =ROUNDUP(IF(W48,Q40/20,0),0) -> 0 | W48: FALSE | X48: =U48*V48 -> 0
B50: Total | K50: =SUM(K41:K49) -> 0
B51: Acompte (commande) | K51: =K50*O51 -> 0 | O51: 0.3
B52: restant dû (livraison) | K52: =K50*O52 -> 0 | O52: 0.7
B55: Un chèque de caution est demandé pour les palettes consignées | G55: =IFERROR(Q40*50,0) -> 0 | I55: pour | J55: =IFERROR(ROUNDUP(Q40,0),0) -> 0 | K55: palettes

Sheet TARIF global
D2: TARIF PARTENAIRE (commande mensuelle)
D9: Selon nombre de palettes commandées | N9: Packaging | Q9: poids
D10: TARIF | F10: Taux remise de 1 à 4 | H10: Taux remise de 5 à 10 | J10: Taux remise de 11 à 20 | L10: Taux remise de ≥ 20 | N10: Unités/m² | O10: Unités /palette | P10: M²/ palette | Q10: Poids/unité | R10: poids par palettes
A11: CODE | B11: Type de BTCS | C11: Dimensions en cm | D11: unité | E11: m² | F11: =IF(type="client",'tarif client'!F11,IF(type="partenaire",'tarif partenaire'!F11,IF(type="métropole",'tarif métropole'!F11,IF(type="antilles",'tarif antilles'!F11,"Sélectionner Zone O18 dans DEVIS")))) -> 0.45 | H11: =IF(type="client",'tarif client'!H11,IF(type="partenaire",'tarif partenaire'!H11,IF(type="métropole",'tarif métropole'!H11,IF(type="antilles",'tarif antilles'!H11,"Sélectionner Zone O18 dans DEVIS")))) -> 0.45 | J11: =IF(type="client",'tarif client'!J11,IF(type="partenaire",'tarif partenaire'!J11,IF(type="métropole",'tarif métropole'!J11,IF(type="antilles",'tarif antilles'!J11,"Sélectionner Zone O18 dans DEVIS")))) -> 0.5 | L11: =IF(type="client",'tarif client'!L11,IF(type="partenaire",'tarif partenaire'!L11,IF(type="métropole",'tarif métropole'!L11,IF(type="antilles",'tarif antilles'!L11,"Sélectionner Zone O18 dans DEVIS")))) -> 0.56 | T11: Unité
A12: =IF(type="client",'tarif client'!A12,IF(type="partenaire",'tarif partenaire'!A12,IF(type="métropole",'tarif métropole'!A12,IF(type="antilles",'tarif antilles'!A12,"Sélectionner Zone O18 dans DEVIS")))) -> 25CR9 | B12: =IF(type="client",'tarif client'!B12,IF(type="partenaire",'tarif partenaire'!B12,IF(type="métropole",'tarif métropole'!B12,IF(type="antilles",'tarif antilles'!B12,"Sélectionner Zone O18 dans DEVIS")))) -> Encastrables perforées | C12: =IF(type="client",'tarif client'!C12,IF(type="partenaire",'tarif partenaire'!C12,IF(type="métropole",'tarif métropole'!C12,IF(type="antilles",'tarif antilles'!C12,"Sélectionner Zone O18 dans DEVIS")))) -> 9 x 12,5 x 25 | D12: =IF(type="client",'tarif client'!D12,IF(type="partenaire",'tarif partenaire'!D12,IF(type="métropole",'tarif métropole'!D12,IF(type="antilles",'tarif antilles'!D12,"Sélectionner Zone O18 dans DEVIS")))) -> 1.8 | E12: =IF(type="client",'tarif client'!E12,IF(type="partenaire",'tarif partenaire'!E12,IF(type="métropole",'tarif métropole'!E12,IF(type="antilles",'tarif antilles'!E12,"Sélectionner Zone O18 dans DEVIS")))) -> 79.2 | F12: =IF(type="client",'tarif client'!F12,IF(type="partenaire",'tarif partenaire'!F12,IF(type="métropole",'tarif métropole'!F12,IF(type="antilles",'tarif antilles'!F12,"Sélectionner Zone O18 dans DEVIS")))) -> 0.99 | G12: =IF(type="client",'tarif client'!G12,IF(type="partenaire",'tarif partenaire'!G12,IF(type="métropole",'tarif métropole'!G12,IF(type="antilles",'tarif antilles'!G12,"Sélectionner Zone O18 dans DEVIS")))) -> 44 | H12: =IF(type="client",'tarif client'!H12,IF(type="partenaire",'tarif partenaire'!H12,IF(type="métropole",'tarif métropole'!H12,IF(type="antilles",'tarif antilles'!H12,"Sélectionner Zone O18 dans DEVIS")))) -> 0.99 | ... R12: =IF(type="client",'tarif client'!R12,IF(type="partenaire",'tarif partenaire'!R12,IF(type="métropole",'tarif métropole'!R12,IF(type="antilles",'tarif antilles'!R12,"Sélectionner Zone O18 dans DEVIS")))) -> 1191.6 | T12: M²
A13: =IF(type="client",'tarif client'!A13,IF(type="partenaire",'tarif partenaire'!A13,IF(type="métropole",'tarif métropole'!A13,IF(type="antilles",'tarif antilles'!A13,"Sélectionner Zone O18 dans DEVIS")))) -> 25PL9 | B13: =IF(type="client",'tarif client'!B13,IF(type="partenaire",'tarif partenaire'!B13,IF(type="métropole",'tarif métropole'!B13,IF(type="antilles",'tarif antilles'!B13,"Sélectionner Zone O18 dans DEVIS")))) -> Encastrables pleines | C13: =IF(type="client",'tarif client'!C13,IF(type="partenaire",'tarif partenaire'!C13,IF(type="métropole",'tarif métropole'!C13,IF(type="antilles",'tarif antilles'!C13,"Sélectionner Zone O18 dans DEVIS")))) -> 9 x 12,5 x 25 | D13: =IF(type="client",'tarif client'!D13,IF(type="partenaire",'tarif partenaire'!D13,IF(type="métropole",'tarif métropole'!D13,IF(type="antilles",'tarif antilles'!D13,"Sélectionner Zone O18 dans DEVIS")))) -> 2.15 | E13: =IF(type="client",'tarif client'!E13,IF(type="partenaire",'tarif partenaire'!E13,IF(type="métropole",'tarif métropole'!E13,IF(type="antilles",'tarif antilles'!E13,"Sélectionner Zone O18 dans DEVIS")))) -> 94.6 | F13: =IF(type="client",'tarif client'!F13,IF(type="partenaire",'tarif partenaire'!F13,IF(type="métropole",'tarif métropole'!F13,IF(type="antilles",'tarif antilles'!F13,"Sélectionner Zone O18 dans DEVIS")))) -> 1.1825 | G13: =IF(type="client",'tarif client'!G13,IF(type="partenaire",'tarif partenaire'!G13,IF(type="métropole",'tarif métropole'!G13,IF(type="antilles",'tarif antilles'!G13,"Sélectionner Zone O18 dans DEVIS")))) -> 52 | H13: =IF(type="client",'tarif client'!H13,IF(type="partenaire",'tarif partenaire'!H13,IF(type="métropole",'tarif métropole'!H13,IF(type="antilles",'tarif antilles'!H13,"Sélectionner Zone O18 dans DEVIS")))) -> 1.1825 | ... R13: =IF(type="client",'tarif client'!R13,IF(type="partenaire",'tarif partenaire'!R13,IF(type="métropole",'tarif métropole'!R13,IF(type="antilles",'tarif antilles'!R13,"Sélectionner Zone O18 dans DEVIS")))) -> 1174 | T13: M²
A14: =IF(type="client",'tarif client'!A14,IF(type="partenaire",'tarif partenaire'!A14,IF(type="métropole",'tarif métropole'!A14,IF(type="antilles",'tarif antilles'!A14,"Sélectionner Zone O18 dans DEVIS")))) -> 25LI9 | B14: =IF(type="client",'tarif client'!B14,IF(type="partenaire",'tarif partenaire'!B14,IF(type="métropole",'tarif métropole'!B14,IF(type="antilles",'tarif antilles'!B14,"Sélectionner Zone O18 dans DEVIS")))) -> Encastrables lisses | C14: =IF(type="client",'tarif client'!C14,IF(type="partenaire",'tarif partenaire'!C14,IF(type="métropole",'tarif métropole'!C14,IF(type="antilles",'tarif antilles'!C14,"Sélectionner Zone O18 dans DEVIS")))) -> 9 x 12,5 x 25 | D14: =IF(type="client",'tarif client'!D14,IF(type="partenaire",'tarif partenaire'!D14,IF(type="métropole",'tarif métropole'!D14,IF(type="antilles",'tarif antilles'!D14,"Sélectionner Zone O18 dans DEVIS")))) -> 2.4 | E14: =IF(type="client",'tarif client'!E14,IF(type="partenaire",'tarif partenaire'!E14,IF(type="métropole",'tarif métropole'!E14,IF(type="antilles",'tarif antilles'!E14,"Sélectionner Zone O18 dans DEVIS")))) -> 105.6 | F14: =IF(type="client",'tarif client'!F14,IF(type="partenaire",'tarif partenaire'!F14,IF(type="métropole",'tarif métropole'!F14,IF(type="antilles",'tarif antilles'!F14,"Sélectionner Zone O18 dans DEVIS")))) -> 1.32 | G14: =IF(type="client",'tarif client'!G14,IF(type="partenaire",'tarif partenaire'!G14,IF(type="métropole",'tarif métropole'!G14,IF(type="antilles",'tarif antilles'!G14,"Sélectionner Zone O18 dans DEVIS")))) -> 58 | H14: =IF(type="client",'tarif client'!H14,IF(type="partenaire",'tarif partenaire'!H14,IF(type="métropole",'tarif métropole'!H14,IF(type="antilles",'tarif antilles'!H14,"Sélectionner Zone O18 dans DEVIS")))) -> 1.32 | ... R14: =IF(type="client",'tarif client'!R14,IF(type="partenaire",'tarif partenaire'!R14,IF(type="métropole",'tarif métropole'!R14,IF(type="antilles",'tarif antilles'!R14,"Sélectionner Zone O18 dans DEVIS")))) -> 1174 | T14: M²
A15: =IF(type="client",'tarif client'!A15,IF(type="partenaire",'tarif partenaire'!A15,IF(type="métropole",'tarif métropole'!A15,IF(type="antilles",'tarif antilles'!A15,"Sélectionner Zone O18 dans DEVIS")))) -> 25U9 | B15: =IF(type="client",'tarif client'!B15,IF(type="partenaire",'tarif partenaire'!B15,IF(type="métropole",'tarif métropole'!B15,IF(type="antilles",'tarif antilles'!B15,"Sélectionner Zone O18 dans DEVIS")))) -> Encastrables U | C15: =IF(type="client",'tarif client'!C15,IF(type="partenaire",'tarif partenaire'!C15,IF(type="métropole",'tarif métropole'!C15,IF(type="antilles",'tarif antilles'!C15,"Sélectionner Zone O18 dans DEVIS")))) -> 9 x 13 x 25 | D15: =IF(type="client",'tarif client'!D15,IF(type="partenaire",'tarif partenaire'!D15,IF(type="métropole",'tarif métropole'!D15,IF(type="antilles",'tarif antilles'!D15,"Sélectionner Zone O18 dans DEVIS")))) -> 3.39 | E15: =IF(type="client",'tarif client'!E15,IF(type="partenaire",'tarif partenaire'!E15,IF(type="métropole",'tarif métropole'!E15,IF(type="antilles",'tarif antilles'!E15,"Sélectionner Zone O18 dans DEVIS")))) -> 149.16 | F15: =IF(type="client",'tarif client'!F15,IF(type="partenaire",'tarif partenaire'!F15,IF(type="métropole",'tarif métropole'!F15,IF(type="antilles",'tarif antilles'!F15,"Sélectionner Zone O18 dans DEVIS")))) -> 1.8645 | G15: =IF(type="client",'tarif client'!G15,IF(type="partenaire",'tarif partenaire'!G15,IF(type="métropole",'tarif métropole'!G15,IF(type="antilles",'tarif antilles'!G15,"Sélectionner Zone O18 dans DEVIS")))) -> 82 | H15: =IF(type="client",'tarif client'!H15,IF(type="partenaire",'tarif partenaire'!H15,IF(type="métropole",'tarif métropole'!H15,IF(type="antilles",'tarif antilles'!H15,"Sélectionner Zone O18 dans DEVIS")))) -> 1.8645 | ... R15: =IF(type="client",'tarif client'!R15,IF(type="partenaire",'tarif partenaire'!R15,IF(type="métropole",'tarif métropole'!R15,IF(type="antilles",'tarif antilles'!R15,"Sélectionner Zone O18 dans DEVIS")))) -> 874.8 | T15: M²
A16: =IF(type="client",'tarif client'!A16,IF(type="partenaire",'tarif partenaire'!A16,IF(type="métropole",'tarif métropole'!A16,IF(type="antilles",'tarif antilles'!A16,"Sélectionner Zone O18 dans DEVIS")))) -> 30CR11 | B16: =IF(type="client",'tarif client'!B16,IF(type="partenaire",'tarif partenaire'!B16,IF(type="métropole",'tarif métropole'!B16,IF(type="antilles",'tarif antilles'!B16,"Sélectionner Zone O18 dans DEVIS")))) -> Encastrables perforées | C16: =IF(type="client",'tarif client'!C16,IF(type="partenaire",'tarif partenaire'!C16,IF(type="métropole",'tarif métropole'!C16,IF(type="antilles",'tarif antilles'!C16,"Sélectionner Zone O18 dans DEVIS")))) -> 11 x 15 x 30 | D16: =IF(type="client",'tarif client'!D16,IF(type="partenaire",'tarif partenaire'!D16,IF(type="métropole",'tarif métropole'!D16,IF(type="antilles",'tarif antilles'!D16,"Sélectionner Zone O18 dans DEVIS")))) -> 2.61 | E16: =IF(type="client",'tarif client'!E16,IF(type="partenaire",'tarif partenaire'!E16,IF(type="métropole",'tarif métropole'!E16,IF(type="antilles",'tarif antilles'!E16,"Sélectionner Zone O18 dans DEVIS")))) -> 78.3 | F16: =IF(type="client",'tarif client'!F16,IF(type="partenaire",'tarif partenaire'!F16,IF(type="métropole",'tarif métropole'!F16,IF(type="antilles",'tarif antilles'!F16,"Sélectionner Zone O18 dans DEVIS")))) -> 1.4355 | G16: =IF(type="client",'tarif client'!G16,IF(type="partenaire",'tarif partenaire'!G16,IF(type="métropole",'tarif métropole'!G16,IF(type="antilles",'tarif antilles'!G16,"Sélectionner Zone O18 dans DEVIS")))) -> 43 | H16: =IF(type="client",'tarif client'!H16,IF(type="partenaire",'tarif partenaire'!H16,IF(type="métropole",'tarif métropole'!H16,IF(type="antilles",'tarif antilles'!H16,"Sélectionner Zone O18 dans DEVIS")))) -> 1.4355 | ... R16: =IF(type="client",'tarif client'!R16,IF(type="partenaire",'tarif partenaire'!R16,IF(type="métropole",'tarif métropole'!R16,IF(type="antilles",'tarif antilles'!R16,"Sélectionner Zone O18 dans DEVIS")))) -> 1200 | T16: M²
A17: =IF(type="client",'tarif client'!A17,IF(type="partenaire",'tarif partenaire'!A17,IF(type="métropole",'tarif métropole'!A17,IF(type="antilles",'tarif antilles'!A17,"Sélectionner Zone O18 dans DEVIS")))) -> 30PL11 | B17: =IF(type="client",'tarif client'!B17,IF(type="partenaire",'tarif partenaire'!B17,IF(type="métropole",'tarif métropole'!B17,IF(type="antilles",'tarif antilles'!B17,"Sélectionner Zone O18 dans DEVIS")))) -> Encastrables pleines | C17: =IF(type="client",'tarif client'!C17,IF(type="partenaire",'tarif partenaire'!C17,IF(type="métropole",'tarif métropole'!C17,IF(type="antilles",'tarif antilles'!C17,"Sélectionner Zone O18 dans DEVIS")))) -> 11 x 15 x 30 | D17: =IF(type="client",'tarif client'!D17,IF(type="partenaire",'tarif partenaire'!D17,IF(type="métropole",'tarif métropole'!D17,IF(type="antilles",'tarif antilles'!D17,"Sélectionner Zone O18 dans DEVIS")))) -> 3.16 | E17: =IF(type="client",'tarif client'!E17,IF(type="partenaire",'tarif partenaire'!E17,IF(type="métropole",'tarif métropole'!E17,IF(type="antilles",'tarif antilles'!E17,"Sélectionner Zone O18 dans DEVIS")))) -> 94.8 | F17: =IF(type="client",'tarif client'!F17,IF(type="partenaire",'tarif partenaire'!F17,IF(type="métropole",'tarif métropole'!F17,IF(type="antilles",'tarif antilles'!F17,"Sélectionner Zone O18 dans DEVIS")))) -> 1.738 | G17: =IF(type="client",'tarif client'!G17,IF(type="partenaire",'tarif partenaire'!G17,IF(type="métropole",'tarif métropole'!G17,IF(type="antilles",'tarif antilles'!G17,"Sélectionner Zone O18 dans DEVIS")))) -> 52 | H17: =IF(type="client",'tarif client'!H17,IF(type="partenaire",'tarif partenaire'!H17,IF(type="métropole",'tarif métropole'!H17,IF(type="antilles",'tarif antilles'!H17,"Sélectionner Zone O18 dans DEVIS")))) -> 1.738 | ... R17: =IF(type="client",'tarif client'!R17,IF(type="partenaire",'tarif partenaire'!R17,IF(type="métropole",'tarif métropole'!R17,IF(type="antilles",'tarif antilles'!R17,"Sélectionner Zone O18 dans DEVIS")))) -> 1110 | T17: M²
A18: =IF(type="client",'tarif client'!A18,IF(type="partenaire",'tarif partenaire'!A18,IF(type="métropole",'tarif métropole'!A18,IF(type="antilles",'tarif antilles'!A18,"Sélectionner Zone O18 dans DEVIS")))) -> 30LI11 | B18: =IF(type="client",'tarif client'!B18,IF(type="partenaire",'tarif partenaire'!B18,IF(type="métropole",'tarif métropole'!B18,IF(type="antilles",'tarif antilles'!B18,"Sélectionner Zone O18 dans DEVIS")))) -> Encastrables lisses | C18: =IF(type="client",'tarif client'!C18,IF(type="partenaire",'tarif partenaire'!C18,IF(type="métropole",'tarif métropole'!C18,IF(type="antilles",'tarif antilles'!C18,"Sélectionner Zone O18 dans DEVIS")))) -> 11 x 15 x 30 | D18: =IF(type="client",'tarif client'!D18,IF(type="partenaire",'tarif partenaire'!D18,IF(type="métropole",'tarif métropole'!D18,IF(type="antilles",'tarif antilles'!D18,"Sélectionner Zone O18 dans DEVIS")))) -> 3.52 | E18: =IF(type="client",'tarif client'!E18,IF(type="partenaire",'tarif partenaire'!E18,IF(type="métropole",'tarif métropole'!E18,IF(type="antilles",'tarif antilles'!E18,"Sélectionner Zone O18 dans DEVIS")))) -> 105.6 | F18: =IF(type="client",'tarif client'!F18,IF(type="partenaire",'tarif partenaire'!F18,IF(type="métropole",'tarif métropole'!F18,IF(type="antilles",'tarif antilles'!F18,"Sélectionner Zone O18 dans DEVIS")))) -> 1.936 | G18: =IF(type="client",'tarif client'!G18,IF(type="partenaire",'tarif partenaire'!G18,IF(type="métropole",'tarif métropole'!G18,IF(type="antilles",'tarif antilles'!G18,"Sélectionner Zone O18 dans DEVIS")))) -> 58 | H18: =IF(type="client",'tarif client'!H18,IF(type="partenaire",'tarif partenaire'!H18,IF(type="métropole",'tarif métropole'!H18,IF(type="antilles",'tarif antilles'!H18,"Sélectionner Zone O18 dans DEVIS")))) -> 1.936 | ... R18: =IF(type="client",'tarif client'!R18,IF(type="partenaire",'tarif partenaire'!R18,IF(type="métropole",'tarif métropole'!R18,IF(type="antilles",'tarif antilles'!R18,"Sélectionner Zone O18 dans DEVIS")))) -> 1110 | T18: M²
A19: =IF(type="client",'tarif client'!A19,IF(type="partenaire",'tarif partenaire'!A19,IF(type="métropole",'tarif métropole'!A19,IF(type="antilles",'tarif antilles'!A19,"Sélectionner Zone O18 dans DEVIS")))) -> 30U11 | B19: =IF(type="client",'tarif client'!B19,IF(type="partenaire",'tarif partenaire'!B19,IF(type="métropole",'tarif métropole'!B19,IF(type="antilles",'tarif antilles'!B19,"Sélectionner Zone O18 dans DEVIS")))) -> Encastrables U | C19: =IF(type="client",'tarif client'!C19,IF(type="partenaire",'tarif partenaire'!C19,IF(type="métropole",'tarif métropole'!C19,IF(type="antilles",'tarif antilles'!C19,"Sélectionner Zone O18 dans DEVIS")))) -> 12 x 15 x 30 | D19: =IF(type="client",'tarif client'!D19,IF(type="partenaire",'tarif partenaire'!D19,IF(type="métropole",'tarif métropole'!D19,IF(type="antilles",'tarif antilles'!D19,"Sélectionner Zone O18 dans DEVIS")))) -> 4.97 | E19: =IF(type="client",'tarif client'!E19,IF(type="partenaire",'tarif partenaire'!E19,IF(type="métropole",'tarif métropole'!E19,IF(type="antilles",'tarif antilles'!E19,"Sélectionner Zone O18 dans DEVIS")))) -> 149.1 | F19: =IF(type="client",'tarif client'!F19,IF(type="partenaire",'tarif partenaire'!F19,IF(type="métropole",'tarif métropole'!F19,IF(type="antilles",'tarif antilles'!F19,"Sélectionner Zone O18 dans DEVIS")))) -> 2.7335 | G19: =IF(type="client",'tarif client'!G19,IF(type="partenaire",'tarif partenaire'!G19,IF(type="métropole",'tarif métropole'!G19,IF(type="antilles",'tarif antilles'!G19,"Sélectionner Zone O18 dans DEVIS")))) -> 82 | H19: =IF(type="client",'tarif client'!H19,IF(type="partenaire",'tarif partenaire'!H19,IF(type="métropole",'tarif métropole'!H19,IF(type="antilles",'tarif antilles'!H19,"Sélectionner Zone O18 dans DEVIS")))) -> 2.7335 | ... R19: =IF(type="client",'tarif client'!R19,IF(type="partenaire",'tarif partenaire'!R19,IF(type="métropole",'tarif métropole'!R19,IF(type="antilles",'tarif antilles'!R19,"Sélectionner Zone O18 dans DEVIS")))) -> 1020 | T19: M²
A20: =IF(type="client",'tarif client'!A20,IF(type="partenaire",'tarif partenaire'!A20,IF(type="métropole",'tarif métropole'!A20,IF(type="antilles",'tarif antilles'!A20,"Sélectionner Zone O18 dans DEVIS")))) -> 25PAR12 | B20: =IF(type="client",'tarif client'!B20,IF(type="partenaire",'tarif partenaire'!B20,IF(type="métropole",'tarif métropole'!B20,IF(type="antilles",'tarif antilles'!B20,"Sélectionner Zone O18 dans DEVIS")))) -> Plaquette de Parement | C20: =IF(type="client",'tarif client'!C20,IF(type="partenaire",'tarif partenaire'!C20,IF(type="métropole",'tarif métropole'!C20,IF(type="antilles",'tarif antilles'!C20,"Sélectionner Zone O18 dans DEVIS")))) -> 2,5 x 12,5 x 25 | D20: =IF(type="client",'tarif client'!D20,IF(type="partenaire",'tarif partenaire'!D20,IF(type="métropole",'tarif métropole'!D20,IF(type="antilles",'tarif antilles'!D20,"Sélectionner Zone O18 dans DEVIS")))) -> 1.8 | E20: =IF(type="client",'tarif client'!E20,IF(type="partenaire",'tarif partenaire'!E20,IF(type="métropole",'tarif métropole'!E20,IF(type="antilles",'tarif antilles'!E20,"Sélectionner Zone O18 dans DEVIS")))) -> 57.6 | F20: =IF(type="client",'tarif client'!F20,IF(type="partenaire",'tarif partenaire'!F20,IF(type="métropole",'tarif métropole'!F20,IF(type="antilles",'tarif antilles'!F20,"Sélectionner Zone O18 dans DEVIS")))) -> 0.99 | G20: =IF(type="client",'tarif client'!G20,IF(type="partenaire",'tarif partenaire'!G20,IF(type="métropole",'tarif métropole'!G20,IF(type="antilles",'tarif antilles'!G20,"Sélectionner Zone O18 dans DEVIS")))) -> 32 | H20: =IF(type="client",'tarif client'!H20,IF(type="partenaire",'tarif partenaire'!H20,IF(type="métropole",'tarif métropole'!H20,IF(type="antilles",'tarif antilles'!H20,"Sélectionner Zone O18 dans DEVIS")))) -> 0.99 | ... R20: =IF(type="client",'tarif client'!R20,IF(type="partenaire",'tarif partenaire'!R20,IF(type="métropole",'tarif métropole'!R20,IF(type="antilles",'tarif antilles'!R20,"Sélectionner Zone O18 dans DEVIS")))) -> 830 | T20: M²
A21: =IF(type="client",'tarif client'!A21,IF(type="partenaire",'tarif partenaire'!A21,IF(type="métropole",'tarif métropole'!A21,IF(type="antilles",'tarif antilles'!A21,"Sélectionner Zone O18 dans DEVIS")))) -> 25PACK12 | B21: =IF(type="client",'tarif client'!B21,IF(type="partenaire",'tarif partenaire'!B21,IF(type="métropole",'tarif métropole'!B21,IF(type="antilles",'tarif antilles'!B21,"Sélectionner Zone O18 dans DEVIS")))) -> Plaquette de Parement PACK 12 | C21: =IF(type="client",'tarif client'!C21,IF(type="partenaire",'tarif partenaire'!C21,IF(type="métropole",'tarif métropole'!C21,IF(type="antilles",'tarif antilles'!C21,"Sélectionner Zone O18 dans DEVIS")))) -> 2,5 x 12,5 x 25 | D21: =IF(type="client",'tarif client'!D21,IF(type="partenaire",'tarif partenaire'!D21,IF(type="métropole",'tarif métropole'!D21,IF(type="antilles",'tarif antilles'!D21,"Sélectionner Zone O18 dans DEVIS")))) -> 25 | E21: pack 12 | F21: =IF(type="client",'tarif client'!F21,IF(type="partenaire",'tarif partenaire'!F21,IF(type="métropole",'tarif métropole'!F21,IF(type="antilles",'tarif antilles'!F21,"Sélectionner Zone O18 dans DEVIS")))) -> 13.75 | G21: pack 12 | H21: =IF(type="client",'tarif client'!H21,IF(type="partenaire",'tarif partenaire'!H21,IF(type="métropole",'tarif métropole'!H21,IF(type="antilles",'tarif antilles'!H21,"Sélectionner Zone O18 dans DEVIS")))) -> 13.75 | I21: pack 12 | J21: =IF(type="client",'tarif client'!J21,IF(type="partenaire",'tarif partenaire'!J21,IF(type="métropole",'tarif métropole'!J21,IF(type="antilles",'tarif antilles'!J21,"Sélectionner Zone O18 dans DEVIS")))) -> 12.5 | K21: pack 12 | L21: =IF(type="client",'tarif client'!L21,IF(type="partenaire",'tarif partenaire'!L21,IF(type="métropole",'tarif métropole'!L21,IF(type="antilles",'tarif antilles'!L21,"Sélectionner Zone O18 dans DEVIS")))) -> 11 | M21: pack 12 | N21: =IF(type="client",'tarif client'!N21,IF(type="partenaire",'tarif partenaire'!N21,IF(type="métropole",'tarif métropole'!N21,IF(type="antilles",'tarif antilles'!N21,"Sélectionner Zone O18 dans DEVIS")))) -> 2.68 | O21: =IF(type="client",'tarif client'!O21,IF(type="partenaire",'tarif partenaire'!O21,IF(type="métropole",'tarif métropole'!O21,IF(type="antilles",'tarif antilles'!O21,"Sélectionner Zone O18 dans DEVIS")))) -> 67 | P21: =IF(type="client",'tarif client'!P21,IF(type="partenaire",'tarif partenaire'!P21,IF(type="métropole",'tarif métropole'!P21,IF(type="antilles",'tarif antilles'!P21,"Sélectionner Zone O18 dans DEVIS")))) -> 25 | Q21: =IF(type="client",'tarif client'!Q21,IF(type="partenaire",'tarif partenaire'!Q21,IF(type="métropole",'tarif métropole'!Q21,IF(type="antilles",'tarif antilles'!Q21,"Sélectionner Zone O18 dans DEVIS")))) -> 12 | R21: =IF(type="client",'tarif client'!R21,IF(type="partenaire",'tarif partenaire'!R21,IF(type="métropole",'tarif métropole'!R21,IF(type="antilles",'tarif antilles'!R21,"Sélectionner Zone O18 dans DEVIS")))) -> 834 | T21: M²
A22: =IF(type="client",'tarif client'!A22,IF(type="partenaire",'tarif partenaire'!A22,IF(type="métropole",'tarif métropole'!A22,IF(type="antilles",'tarif antilles'!A22,"Sélectionner Zone O18 dans DEVIS")))) -> 30PAR11 | B22: =IF(type="client",'tarif client'!B22,IF(type="partenaire",'tarif partenaire'!B22,IF(type="métropole",'tarif métropole'!B22,IF(type="antilles",'tarif antilles'!B22,"Sélectionner Zone O18 dans DEVIS")))) -> Plaquette de Parement | C22: =IF(type="client",'tarif client'!C22,IF(type="partenaire",'tarif partenaire'!C22,IF(type="métropole",'tarif métropole'!C22,IF(type="antilles",'tarif antilles'!C22,"Sélectionner Zone O18 dans DEVIS")))) -> 3 x 11 x 30 | D22: =IF(type="client",'tarif client'!D22,IF(type="partenaire",'tarif partenaire'!D22,IF(type="métropole",'tarif métropole'!D22,IF(type="antilles",'tarif antilles'!D22,"Sélectionner Zone O18 dans DEVIS")))) -> 2.9 | E22: =IF(type="client",'tarif client'!E22,IF(type="partenaire",'tarif partenaire'!E22,IF(type="métropole",'tarif métropole'!E22,IF(type="antilles",'tarif antilles'!E22,"Sélectionner Zone O18 dans DEVIS")))) -> 87 | F22: =IF(type="client",'tarif client'!F22,IF(type="partenaire",'tarif partenaire'!F22,IF(type="métropole",'tarif métropole'!F22,IF(type="antilles",'tarif antilles'!F22,"Sélectionner Zone O18 dans DEVIS")))) -> 1.595 | G22: =IF(type="client",'tarif client'!G22,IF(type="partenaire",'tarif partenaire'!G22,IF(type="métropole",'tarif métropole'!G22,IF(type="antilles",'tarif antilles'!G22,"Sélectionner Zone O18 dans DEVIS")))) -> 48 | H22: =IF(type="client",'tarif client'!H22,IF(type="partenaire",'tarif partenaire'!H22,IF(type="métropole",'tarif métropole'!H22,IF(type="antilles",'tarif antilles'!H22,"Sélectionner Zone O18 dans DEVIS")))) -> 1.595 | ... R22: =IF(type="client",'tarif client'!R22,IF(type="partenaire",'tarif partenaire'!R22,IF(type="métropole",'tarif métropole'!R22,IF(type="antilles",'tarif antilles'!R22,"Sélectionner Zone O18 dans DEVIS")))) -> 1080 | T22: M²
A23: =IF(type="client",'tarif client'!A23,IF(type="partenaire",'tarif partenaire'!A23,IF(type="métropole",'tarif métropole'!A23,IF(type="antilles",'tarif antilles'!A23,"Sélectionner Zone O18 dans DEVIS")))) -> HSB3,5 | B23: =IF(type="client",'tarif client'!B23,IF(type="partenaire",'tarif partenaire'!B23,IF(type="métropole",'tarif métropole'!B23,IF(type="antilles",'tarif antilles'!B23,"Sélectionner Zone O18 dans DEVIS")))) -> Hydrofuge spécial briques | D23: =IF(type="client",'tarif client'!D23,IF(type="partenaire",'tarif partenaire'!D23,IF(type="métropole",'tarif métropole'!D23,IF(type="antilles",'tarif antilles'!D23,"Sélectionner Zone O18 dans DEVIS")))) -> 45.5 | E23: =IF(type="client",'tarif client'!E23,IF(type="partenaire",'tarif partenaire'!E23,IF(type="métropole",'tarif métropole'!E23,IF(type="antilles",'tarif antilles'!E23,"Sélectionner Zone O18 dans DEVIS")))) -> 3.5 | T23: L
A24: =IF(type="client",'tarif client'!A24,IF(type="partenaire",'tarif partenaire'!A24,IF(type="métropole",'tarif métropole'!A24,IF(type="antilles",'tarif antilles'!A24,"Sélectionner Zone O18 dans DEVIS")))) -> HSB25 | B24: =IF(type="client",'tarif client'!B24,IF(type="partenaire",'tarif partenaire'!B24,IF(type="métropole",'tarif métropole'!B24,IF(type="antilles",'tarif antilles'!B24,"Sélectionner Zone O18 dans DEVIS")))) -> Hydrofuge spécial briques | D24: =IF(type="client",'tarif client'!D24,IF(type="partenaire",'tarif partenaire'!D24,IF(type="métropole",'tarif métropole'!D24,IF(type="antilles",'tarif antilles'!D24,"Sélectionner Zone O18 dans DEVIS")))) -> 324 | E24: =IF(type="client",'tarif client'!E24,IF(type="partenaire",'tarif partenaire'!E24,IF(type="métropole",'tarif métropole'!E24,IF(type="antilles",'tarif antilles'!E24,"Sélectionner Zone O18 dans DEVIS")))) -> 25 | T24: L
A25: =IF(type="client",'tarif client'!A25,IF(type="partenaire",'tarif partenaire'!A25,IF(type="métropole",'tarif métropole'!A25,IF(type="antilles",'tarif antilles'!A25,"Sélectionner Zone O18 dans DEVIS")))) -> sika25 | B25: =IF(type="client",'tarif client'!B25,IF(type="partenaire",'tarif partenaire'!B25,IF(type="métropole",'tarif métropole'!B25,IF(type="antilles",'tarif antilles'!B25,"Sélectionner Zone O18 dans DEVIS")))) -> Sika colle joint mince | D25: =IF(type="client",'tarif client'!D25,IF(type="partenaire",'tarif partenaire'!D25,IF(type="métropole",'tarif métropole'!D25,IF(type="antilles",'tarif antilles'!D25,"Sélectionner Zone O18 dans DEVIS")))) -> 33.6 | E25: =IF(type="client",'tarif client'!E25,IF(type="partenaire",'tarif partenaire'!E25,IF(type="métropole",'tarif métropole'!E25,IF(type="antilles",'tarif antilles'!E25,"Sélectionner Zone O18 dans DEVIS")))) -> 25 | T25: L
A26: =IF(type="client",'tarif client'!A26,IF(type="partenaire",'tarif partenaire'!A26,IF(type="métropole",'tarif métropole'!A26,IF(type="antilles",'tarif antilles'!A26,"Sélectionner Zone O18 dans DEVIS")))) -> Tamis25 | B26: =IF(type="client",'tarif client'!B26,IF(type="partenaire",'tarif partenaire'!B26,IF(type="métropole",'tarif métropole'!B26,IF(type="antilles",'tarif antilles'!B26,"Sélectionner Zone O18 dans DEVIS")))) -> Sac de terre tamisée | D26: =IF(type="client",'tarif client'!D26,IF(type="partenaire",'tarif partenaire'!D26,IF(type="métropole",'tarif métropole'!D26,IF(type="antilles",'tarif antilles'!D26,"Sélectionner Zone O18 dans DEVIS")))) -> 25 | E26: =IF(type="client",'tarif client'!E26,IF(type="partenaire",'tarif partenaire'!E26,IF(type="métropole",'tarif métropole'!E26,IF(type="antilles",'tarif antilles'!E26,"Sélectionner Zone O18 dans DEVIS")))) -> 25 | T26: L
A27: =IF(type="client",'tarif client'!A27,IF(type="partenaire",'tarif partenaire'!A27,IF(type="métropole",'tarif métropole'!A27,IF(type="antilles",'tarif antilles'!A27,"Sélectionner Zone O18 dans DEVIS")))) -> AchatJointoy | B27: =IF(type="client",'tarif client'!B27,IF(type="partenaire",'tarif partenaire'!B27,IF(type="métropole",'tarif métropole'!B27,IF(type="antilles",'tarif antilles'!B27,"Sélectionner Zone O18 dans DEVIS")))) -> Jointoyeuse spécial briques | D27: =IF(type="client",'tarif client'!D27,IF(type="partenaire",'tarif partenaire'!D27,IF(type="métropole",'tarif métropole'!D27,IF(type="antilles",'tarif antilles'!D27,"Sélectionner Zone O18 dans DEVIS")))) -> 380 | T27: P
A28: =IF(type="client",'tarif client'!A28,IF(type="partenaire",'tarif partenaire'!A28,IF(type="métropole",'tarif métropole'!A28,IF(type="antilles",'tarif antilles'!A28,"Sélectionner Zone O18 dans DEVIS")))) -> Trans SLM | B28: =IF(type="client",'tarif client'!B28,IF(type="partenaire",'tarif partenaire'!B28,IF(type="métropole",'tarif métropole'!B28,IF(type="antilles",'tarif antilles'!B28,"Sélectionner Zone O18 dans DEVIS")))) -> transport Saint Laurent du Maroni | D28: =IF(type="client",'tarif client'!D28,IF(type="partenaire",'tarif partenaire'!D28,IF(type="métropole",'tarif métropole'!D28,IF(type="antilles",'tarif antilles'!D28,"Sélectionner Zone O18 dans DEVIS")))) -> 400 | T28: P
A29: =IF(type="client",'tarif client'!A29,IF(type="partenaire",'tarif partenaire'!A29,IF(type="métropole",'tarif métropole'!A29,IF(type="antilles",'tarif antilles'!A29,"Sélectionner Zone O18 dans DEVIS")))) -> Trans DDC | B29: =IF(type="client",'tarif client'!B29,IF(type="partenaire",'tarif partenaire'!B29,IF(type="métropole",'tarif métropole'!B29,IF(type="antilles",'tarif antilles'!B29,"Sélectionner Zone O18 dans DEVIS")))) -> Transport Cayenne | D29: =IF(type="client",'tarif client'!D29,IF(type="partenaire",'tarif partenaire'!D29,IF(type="métropole",'tarif métropole'!D29,IF(type="antilles",'tarif antilles'!D29,"Sélectionner Zone O18 dans DEVIS")))) -> 1000 | T29: P
A30: =IF(type="client",'tarif client'!A30,IF(type="partenaire",'tarif partenaire'!A30,IF(type="métropole",'tarif métropole'!A30,IF(type="antilles",'tarif antilles'!A30,"Sélectionner Zone O18 dans DEVIS")))) -> LocJointy | B30: =IF(type="client",'tarif client'!B30,IF(type="partenaire",'tarif partenaire'!B30,IF(type="métropole",'tarif métropole'!B30,IF(type="antilles",'tarif antilles'!B30,"Sélectionner Zone O18 dans DEVIS")))) -> Location Jointoyeuse | D30: =IF(type="client",'tarif client'!D30,IF(type="partenaire",'tarif partenaire'!D30,IF(type="métropole",'tarif métropole'!D30,IF(type="antilles",'tarif antilles'!D30,"Sélectionner Zone O18 dans DEVIS")))) -> 50 | E30: prix à la semaine | T30: P
A32: Cons Pal | B32: Consigne Palettes | F32: 50 | G32: chèque de caution
A33: Cons Joint | B33: Consigne Jointoyeuses | F33: 500
L35: Géolocalisation de l'usine

Sheet tarif client
D2: TARIF CLIENT
D9: Selon nombre de palettes commandées | N9: Packaging | Q9: poids
D10: TARIF | F10: Taux remise de 1 à 4 | H10: Taux remise de 5 à 10 | J10: Taux remise de 11 à 20 | L10: Taux remise de ≥ 20 | N10: Unités/m² | O10: Unités /palette | P10: M²/ palette | Q10: Poids/unité | R10: poids par palettes
A11: CODE | B11: Type de BTCS | C11: Dimensions en cm | D11: unité | E11: m² | F11: 0.25 | H11: 0.35 | J11: 0.4 | L11: 0.45
A12: 25CR9 | B12: Encastrables perforées | C12: 9 x 12,5 x 25 | D12: 1.8 | E12: =D12*N12 -> 79.2 | F12: =($D12*(1-$F$11)) -> 1.35 | G12: =ROUND($D12*(1-$F$11)*$N12,0) -> 59 | H12: =($D12*(1-$H$11)) -> 1.17 | I12: =ROUND($D12*(1-$H$11)*$N12,0) -> 51 | J12: =($D12*(1-$J$11)) -> 1.08 | K12: =ROUND($D12*(1-$J$11)*$N12,0) -> 48 | L12: =($D12*(1-$L$11)) -> 0.99 | M12: =ROUND($D12*(1-$L$11)*$N12,0) -> 44 | N12: =O12/P12 -> 44 | O12: 264 | P12: 6 | Q12: 4.4 | R12: =Q12*O12+30 -> 1191.6 | U12: M²
A13: 25PL9 | B13: Encastrables pleines | C13: 9 x 12,5 x 25 | D13: 2.15 | E13: =D13*N13 -> 94.6 | F13: =($D13*(1-$F$11)) -> 1.6125 | G13: =ROUND($D13*(1-$F$11)*$N13,0) -> 71 | H13: =($D13*(1-$H$11)) -> 1.3975 | I13: =ROUND($D13*(1-$H$11)*$N13,0) -> 61 | J13: =($D13*(1-$J$11)) -> 1.29 | K13: =ROUND($D13*(1-$J$11)*$N13,0) -> 57 | L13: =($D13*(1-$L$11)) -> 1.1825 | M13: =ROUND($D13*(1-$L$11)*$N13,0) -> 52 | N13: =O13/P13 -> 44 | O13: 220 | P13: 5 | Q13: 5.2 | R13: =Q13*O13+30 -> 1174 | U13: M²
A14: 25LI9 | B14: Encastrables lisses | C14: 9 x 12,5 x 25 | D14: 2.4 | E14: =D14*N14 -> 105.6 | F14: =($D14*(1-$F$11)) -> 1.8 | G14: =ROUND($D14*(1-$F$11)*$N14,0) -> 79 | H14: =($D14*(1-$H$11)) -> 1.56 | I14: =ROUND($D14*(1-$H$11)*$N14,0) -> 69 | J14: =($D14*(1-$J$11)) -> 1.44 | K14: =ROUND($D14*(1-$J$11)*$N14,0) -> 63 | L14: =($D14*(1-$L$11)) -> 1.32 | M14: =ROUND($D14*(1-$L$11)*$N14,0) -> 58 | N14: =O14/P14 -> 44 | O14: 220 | P14: 5 | Q14: 5.2 | R14: =Q14*O14+30 -> 1174 | U14: M²
A15: 25U9 | B15: Encastrables U | C15: 9 x 13 x 25 | D15: 3.39 | E15: =D15*N15 -> 149.16 | F15: =($D15*(1-$F$11)) -> 2.5425 | G15: =ROUND($D15*(1-$F$11)*$N15,0) -> 112 | H15: =($D15*(1-$H$11)) -> 2.2035 | I15: =ROUND($D15*(1-$H$11)*$N15,0) -> 97 | J15: =($D15*(1-$J$11)) -> 2.034 | K15: =ROUND($D15*(1-$J$11)*$N15,0) -> 89 | L15: =($D15*(1-$L$11)) -> 1.8645 | M15: =ROUND($D15*(1-$L$11)*$N15,0) -> 82 | N15: =O15/P15 -> 44 | O15: 264 | P15: 6 | Q15: 3.2 | R15: =Q15*O15+30 -> 874.8 | U15: M²
A16: 30CR11 | B16: Encastrables perforées | C16: 11 x 15 x 30 | D16: 2.61 | E16: =D16*N16 -> 78.3 | F16: =($D16*(1-$F$11)) -> 1.9575 | G16: =ROUND($D16*(1-$F$11)*$N16,0) -> 59 | H16: =($D16*(1-$H$11)) -> 1.6965 | I16: =ROUND($D16*(1-$H$11)*$N16,0) -> 51 | J16: =($D16*(1-$J$11)) -> 1.566 | K16: =ROUND($D16*(1-$J$11)*$N16,0) -> 47 | L16: =($D16*(1-$L$11)) -> 1.4355 | M16: =ROUND($D16*(1-$L$11)*$N16,0) -> 43 | N16: =O16/P16 -> 30 | O16: 150 | P16: 5 | Q16: 7.8 | R16: =Q16*O16+30 -> 1200 | U16: M²
A17: 30PL11 | B17: Encastrables pleines | C17: 11 x 15 x 30 | D17: 3.16 | E17: =D17*N17 -> 94.8 | F17: =($D17*(1-$F$11)) -> 2.37 | G17: =ROUND($D17*(1-$F$11)*$N17,0) -> 71 | H17: =($D17*(1-$H$11)) -> 2.054 | I17: =ROUND($D17*(1-$H$11)*$N17,0) -> 62 | J17: =($D17*(1-$J$11)) -> 1.896 | K17: =ROUND($D17*(1-$J$11)*$N17,0) -> 57 | L17: =($D17*(1-$L$11)) -> 1.738 | M17: =ROUND($D17*(1-$L$11)*$N17,0) -> 52 | N17: =O17/P17 -> 30 | O17: 120 | P17: 4 | Q17: 9 | R17: =Q17*O17+30 -> 1110 | U17: M²
A18: 30LI11 | B18: Encastrables lisses | C18: 11 x 15 x 30 | D18: 3.52 | E18: =D18*N18 -> 105.6 | F18: =($D18*(1-$F$11)) -> 2.64 | G18: =ROUND($D18*(1-$F$11)*$N18,0) -> 79 | H18: =($D18*(1-$H$11)) -> 2.288 | I18: =ROUND($D18*(1-$H$11)*$N18,0) -> 69 | J18: =($D18*(1-$J$11)) -> 2.112 | K18: =ROUND($D18*(1-$J$11)*$N18,0) -> 63 | L18: =($D18*(1-$L$11)) -> 1.936 | M18: =ROUND($D18*(1-$L$11)*$N18,0) -> 58 | N18: =O18/P18 -> 30 | O18: 120 | P18: 4 | Q18: 9 | R18: =Q18*O18+30 -> 1110 | U18: M²
A19: 30U11 | B19: Encastrables U | C19: 12 x 15 x 30 | D19: 4.97 | E19: =D19*N19 -> 149.1 | F19: =($D19*(1-$F$11)) -> 3.7275 | G19: =ROUND($D19*(1-$F$11)*$N19,0) -> 112 | H19: =($D19*(1-$H$11)) -> 3.2305 | I19: =ROUND($D19*(1-$H$11)*$N19,0) -> 97 | J19: =($D19*(1-$J$11)) -> 2.982 | K19: =ROUND($D19*(1-$J$11)*$N19,0) -> 89 | L19: =($D19*(1-$L$11)) -> 2.7335 | M19: =ROUND($D19*(1-$L$11)*$N19,0) -> 82 | N19: =O19/P19 -> 30 | O19: 180 | P19: 6 | Q19: 5.5 | R19: =Q19*O19+30 -> 1020 | U19: M²
A20: 25PAR12 | B20: Plaquette de Parement | C20: 2,5 x 12,5 x 25 | D20: 1.8 | E20: =D20*N20 -> 57.6 | F20: =($D20*(1-$F$11)) -> 1.35 | G20: =ROUND($D20*(1-$F$11)*$N20,0) -> 43 | H20: =($D20*(1-$H$11)) -> 1.17 | I20: =ROUND($D20*(1-$H$11)*$N20,0) -> 37 | J20: =($D20*(1-$J$11)) -> 1.08 | K20: =ROUND($D20*(1-$J$11)*$N20,0) -> 35 | L20: =($D20*(1-$L$11)) -> 0.99 | M20: =ROUND($D20*(1-$L$11)*$N20,0) -> 32 | N20: =O20/P20 -> 32 | O20: 800 | P20: 25 | Q20: 1 | R20: =Q20*O20+30 -> 830 | U20: M²
A21: 25PACK12 | B21: Plaquette de Parement PACK 12 | C21: 2,5 x 12,5 x 25 | D21: 25 | E21: pack 12 | F21: =D21*0.55 -> 13.75 | G21: pack 12 | H21: =D21*0.55 -> 13.75 | I21: pack 12 | J21: =D21*0.5 -> 12.5 | K21: pack 12 | L21: =D21*0.44 -> 11 | M21: pack 12 | N21: =O21/P21 -> 2.68 | O21: 67 | P21: 25 | Q21: 12 | R21: =Q21*O21+30 -> 834 | U21: M²
A22: 30PAR11 | B22: Plaquette de Parement | C22: 3 x 11 x 30 | D22: 2.9 | E22: =D22*N22 -> 87 | F22: =($D22*(1-$F$11)) -> 2.175 | G22: =ROUND($D22*(1-$F$11)*$N22,0) -> 65 | H22: =($D22*(1-$H$11)) -> 1.885 | I22: =ROUND($D22*(1-$H$11)*$N22,0) -> 57 | J22: =($D22*(1-$J$11)) -> 1.74 | K22: =ROUND($D22*(1-$J$11)*$N22,0) -> 52 | L22: =($D22*(1-$L$11)) -> 1.595 | M22: =ROUND($D22*(1-$L$11)*$N22,0) -> 48 | N22: =O22/P22 -> 30 | O22: 750 | P22: 25 | Q22: 1.4 | R22: =Q22*O22+30 -> 1080 | U22: M²
A23: HSB3,5 | B23: Hydrofuge spécial briques | D23: 45.5 | E23: 3.5 | U23: L
A24: HSB25 | B24: Hydrofuge spécial briques | D24: 324 | E24: 25 | U24: L
A25: sika25 | B25: Sika colle joint mince | D25: 33.6 | E25: 25 | U25: L
A26: Tamis25 | B26: Sac de terre tamisée | D26: 25 | E26: 25 | U26: L
A27: AchatJointoy | B27: Jointoyeuse spécial briques | D27: 380
A28: Trans SLM | B28: transport Saint Laurent du Maroni | D28: 400
A29: Trans DDC | B29: Transport Cayenne | D29: 1000
A30: LocJointy | B30: Location Jointoyeuse | D30: 50 | E30: prix à la semaine
A32: Cons Pal | B32: Consigne Palettes | F32: 50 | G32: chèque de caution
A33: Cons Joint | B33: Consigne Jointoyeuses | F33: 500
L35: Géolocalisation de l'usine

Sheet tarif partenaire
D2: TARIF PARTENAIRE (commande mensuelle)
D9: Selon nombre de palettes commandées | N9: Packaging | Q9: poids
D10: TARIF | F10: Taux remise de 1 à 4 | H10: Taux remise de 5 à 10 | J10: Taux remise de 11 à 20 | L10: Taux remise de ≥ 20 | N10: Unités/m² | O10: Unités /palette | P10: M²/ palette | Q10: Poids/unité | R10: poids par palettes
A11: CODE | B11: Type de BTCS | C11: Dimensions en cm | D11: unité | E11: m² | F11: 0.45 | H11: 0.45 | J11: 0.5 | L11: 0.56 | T11: Unité
A12: 25CR9 | B12: Encastrables perforées | C12: 9 x 12,5 x 25 | D12: 1.8 | E12: =D12*N12 -> 79.2 | F12: =($D12*(1-$F$11)) -> 0.99 | G12: =ROUND($D12*(1-$F$11)*$N12,0) -> 44 | H12: =($D12*(1-$H$11)) -> 0.99 | I12: =ROUND($D12*(1-$H$11)*$N12,0) -> 44 | J12: =($D12*(1-$J$11)) -> 0.9 | K12: =ROUND($D12*(1-$J$11)*$N12,0) -> 40 | L12: =($D12*(1-$L$11)) -> 0.792 | M12: =ROUND($D12*(1-$L$11)*$N12,0) -> 35 | N12: =O12/P12 -> 44 | O12: 264 | P12: 6 | Q12: 4.4 | R12: =Q12*O12+30 -> 1191.6 | T12: M²
A13: 25PL9 | B13: Encastrables pleines | C13: 9 x 12,5 x 25 | D13: 2.15 | E13: =D13*N13 -> 94.6 | F13: =($D13*(1-$F$11)) -> 1.1825 | G13: =ROUND($D13*(1-$F$11)*$N13,0) -> 52 | H13: =($D13*(1-$H$11)) -> 1.1825 | I13: =ROUND($D13*(1-$H$11)*$N13,0) -> 52 | J13: =($D13*(1-$J$11)) -> 1.075 | K13: =ROUND($D13*(1-$J$11)*$N13,0) -> 47 | L13: =($D13*(1-$L$11)) -> 0.946 | M13: =ROUND($D13*(1-$L$11)*$N13,0) -> 42 | N13: =O13/P13 -> 44 | O13: 220 | P13: 5 | Q13: 5.2 | R13: =Q13*O13+30 -> 1174 | T13: M²
A14: 25LI9 | B14: Encastrables lisses | C14: 9 x 12,5 x 25 | D14: 2.4 | E14: =D14*N14 -> 105.6 | F14: =($D14*(1-$F$11)) -> 1.32 | G14: =ROUND($D14*(1-$F$11)*$N14,0) -> 58 | H14: =($D14*(1-$H$11)) -> 1.32 | I14: =ROUND($D14*(1-$H$11)*$N14,0) -> 58 | J14: =($D14*(1-$J$11)) -> 1.2 | K14: =ROUND($D14*(1-$J$11)*$N14,0) -> 53 | L14: =($D14*(1-$L$11)) -> 1.056 | M14: =ROUND($D14*(1-$L$11)*$N14,0) -> 46 | N14: =O14/P14 -> 44 | O14: 220 | P14: 5 | Q14: 5.2 | R14: =Q14*O14+30 -> 1174 | T14: M²
A15: 25U9 | B15: Encastrables U | C15: 9 x 13 x 25 | D15: 3.39 | E15: =D15*N15 -> 149.16 | F15: =($D15*(1-$F$11)) -> 1.8645 | G15: =ROUND($D15*(1-$F$11)*$N15,0) -> 82 | H15: =($D15*(1-$H$11)) -> 1.8645 | I15: =ROUND($D15*(1-$H$11)*$N15,0) -> 82 | J15: =($D15*(1-$J$11)) -> 1.695 | K15: =ROUND($D15*(1-$J$11)*$N15,0) -> 75 | L15: =($D15*(1-$L$11)) -> 1.4916 | M15: =ROUND($D15*(1-$L$11)*$N15,0) -> 66 | N15: =O15/P15 -> 44 | O15: 264 | P15: 6 | Q15: 3.2 | R15: =Q15*O15+30 -> 874.8 | T15: M²
A16: 30CR11 | B16: Encastrables perforées | C16: 11 x 15 x 30 | D16: 2.61 | E16: =D16*N16 -> 78.3 | F16: =($D16*(1-$F$11)) -> 1.4355 | G16: =ROUND($D16*(1-$F$11)*$N16,0) -> 43 | H16: =($D16*(1-$H$11)) -> 1.4355 | I16: =ROUND($D16*(1-$H$11)*$N16,0) -> 43 | J16: =($D16*(1-$J$11)) -> 1.305 | K16: =ROUND($D16*(1-$J$11)*$N16,0) -> 39 | L16: =($D16*(1-$L$11)) -> 1.1484 | M16: =ROUND($D16*(1-$L$11)*$N16,0) -> 34 | N16: =O16/P16 -> 30 | O16: 150 | P16: 5 | Q16: 7.8 | R16: =Q16*O16+30 -> 1200 | T16: M²
A17: 30PL11 | B17: Encastrables pleines | C17: 11 x 15 x 30 | D17: 3.16 | E17: =D17*N17 -> 94.8 | F17: =($D17*(1-$F$11)) -> 1.738 | G17: =ROUND($D17*(1-$F$11)*$N17,0) -> 52 | H17: =($D17*(1-$H$11)) -> 1.738 | I17: =ROUND($D17*(1-$H$11)*$N17,0) -> 52 | J17: =($D17*(1-$J$11)) -> 1.58 | K17: =ROUND($D17*(1-$J$11)*$N17,0) -> 47 | L17: =($D17*(1-$L$11)) -> 1.3904 | M17: =ROUND($D17*(1-$L$11)*$N17,0) -> 42 | N17: =O17/P17 -> 30 | O17: 120 | P17: 4 | Q17: 9 | R17: =Q17*O17+30 -> 1110 | T17: M²
A18: 30LI11 | B18: Encastrables lisses | C18: 11 x 15 x 30 | D18: 3.52 | E18: =D18*N18 -> 105.6 | F18: =($D18*(1-$F$11)) -> 1.936 | G18: =ROUND($D18*(1-$F$11)*$N18,0) -> 58 | H18: =($D18*(1-$H$11)) -> 1.936 | I18: =ROUND($D18*(1-$H$11)*$N18,0) -> 58 | J18: =($D18*(1-$J$11)) -> 1.76 | K18: =ROUND($D18*(1-$J$11)*$N18,0) -> 53 | L18: =($D18*(1-$L$11)) -> 1.5488 | M18: =ROUND($D18*(1-$L$11)*$N18,0) -> 46 | N18: =O18/P18 -> 30 | O18: 120 | P18: 4 | Q18: 9 | R18: =Q18*O18+30 -> 1110 | T18: M²
A19: 30U11 | B19: Encastrables U | C19: 12 x 15 x 30 | D19: 4.97 | E19: =D19*N19 -> 149.1 | F19: =($D19*(1-$F$11)) -> 2.7335 | G19: =ROUND($D19*(1-$F$11)*$N19,0) -> 82 | H19: =($D19*(1-$H$11)) -> 2.7335 | I19: =ROUND($D19*(1-$H$11)*$N19,0) -> 82 | J19: =($D19*(1-$J$11)) -> 2.485 | K19: =ROUND($D19*(1-$J$11)*$N19,0) -> 75 | L19: =($D19*(1-$L$11)) -> 2.1868 | M19: =ROUND($D19*(1-$L$11)*$N19,0) -> 66 | N19: =O19/P19 -> 30 | O19: 180 | P19: 6 | Q19: 5.5 | R19: =Q19*O19+30 -> 1020 | T19: M²
A20: 25PAR12 | B20: Plaquette de Parement | C20: 2,5 x 12,5 x 25 | D20: 1.8 | E20: =D20*N20 -> 57.6 | F20: =($D20*(1-$F$11)) -> 0.99 | G20: =ROUND($D20*(1-$F$11)*$N20,0) -> 32 | H20: =($D20*(1-$H$11)) -> 0.99 | I20: =ROUND($D20*(1-$H$11)*$N20,0) -> 32 | J20: =($D20*(1-$J$11)) -> 0.9 | K20: =ROUND($D20*(1-$J$11)*$N20,0) -> 29 | L20: =($D20*(1-$L$11)) -> 0.792 | M20: =ROUND($D20*(1-$L$11)*$N20,0) -> 25 | N20: =O20/P20 -> 32 | O20: 800 | P20: 25 | Q20: 1 | R20: =Q20*O20+30 -> 830 | T20: M²
A21: 25PACK12 | B21: Plaquette de Parement PACK 12 | C21: 2,5 x 12,5 x 25 | D21: 25 | E21: pack 12 | F21: =D21*0.55 -> 13.75 | G21: pack 12 | H21: =D21*0.55 -> 13.75 | I21: pack 12 | J21: =D21*0.5 -> 12.5 | K21: pack 12 | L21: =D21*0.44 -> 11 | M21: pack 12 | N21: =O21/P21 -> 2.68 | O21: 67 | P21: 25 | Q21: 12 | R21: =Q21*O21+30 -> 834 | T21: M²
A22: 30PAR11 | B22: Plaquette de Parement | C22: 3 x 11 x 30 | D22: 2.9 | E22: =D22*N22 -> 87 | F22: =($D22*(1-$F$11)) -> 1.595 | G22: =ROUND($D22*(1-$F$11)*$N22,0) -> 48 | H22: =($D22*(1-$H$11)) -> 1.595 | I22: =ROUND($D22*(1-$H$11)*$N22,0) -> 48 | J22: =($D22*(1-$J$11)) -> 1.45 | K22: =ROUND($D22*(1-$J$11)*$N22,0) -> 44 | L22: =($D22*(1-$L$11)) -> 1.276 | M22: =ROUND($D22*(1-$L$11)*$N22,0) -> 38 | N22: =O22/P22 -> 30 | O22: 750 | P22: 25 | Q22: 1.4 | R22: =Q22*O22+30 -> 1080 | T22: M²
A23: HSB3,5 | B23: Hydrofuge spécial briques | D23: 45.5 | E23: 3.5 | T23: L
A24: HSB25 | B24: Hydrofuge spécial briques | D24: 324 | E24: 25 | T24: L
A25: sika25 | B25: Sika colle joint mince | D25: 33.6 | E25: 25 | T25: L
A26: Tamis25 | B26: Sac de terre tamisée | D26: 25 | E26: 25 | T26: L
A27: AchatJointoy | B27: Jointoyeuse spécial briques | D27: 380 | T27: P
A28: Trans SLM | B28: transport Saint Laurent du Maroni | D28: 400 | T28: P
A29: Trans DDC | B29: Transport Cayenne | D29: 1000 | T29: P
A30: LocJointy | B30: Location Jointoyeuse | D30: 50 | E30: prix à la semaine | T30: P
A32: Cons Pal | B32: Consigne Palettes | F32: 50 | G32: chèque de caution
A33: Cons Joint | B33: Consigne Jointoyeuses | F33: 500
L35: Géolocalisation de l'usine

Sheet tarif métropole
D9: Selon nombre de palettes commandées | N9: Packaging | Q9: poids
D10: TARIF | F10: Taux remise de 1 à 4 | H10: Taux remise de 5 à 10 | J10: Taux remise de 11 à 20 | L10: Taux remise de ≥ 20 | N10: Unités/m² | O10: Unités /palette | P10: M²/ palette | Q10: Poids/unité | R10: poids par palettes
A11: CODE | B11: Type de BTCS | C11: Dimensions en cm | D11: unité | E11: m² | F11: 0.45 | H11: 0.45 | J11: 0.5 | L11: 0.56 | T11: Unité
A12: 25CR9 | B12: Encastrables perforées | C12: 9 x 12,5 x 25 | D12: 1.8 | E12: =D12*N12 -> 79.2 | F12: =($D12*(1-$F$11)) -> 0.99 | G12: =ROUND($D12*(1-$F$11)*$N12,0) -> 44 | H12: =($D12*(1-$H$11)) -> 0.99 | I12: =ROUND($D12*(1-$H$11)*$N12,0) -> 44 | J12: =($D12*(1-$J$11)) -> 0.9 | K12: =ROUND($D12*(1-$J$11)*$N12,0) -> 40 | L12: =($D12*(1-$L$11)) -> 0.792 | M12: =ROUND($D12*(1-$L$11)*$N12,0) -> 35 | N12: =O12/P12 -> 44 | O12: 264 | P12: 6 | Q12: 4.4 | R12: =Q12*O12+30 -> 1191.6 | T12: M²
