Workbook
Name Policier: Comptage!$A$3:$C$72

Sheet Comptage
A2: Série | B2: Colonne1 | C2: NOM
A3: 3 | C3: BEUMER A* | E3: =IF(Tableau2[[#This Row],[NOM]]=Janvier!B17,SUM(COUNTIF(Janvier!C17:AG17,"6/14")))+IF(Tableau2[[#This Row],[NOM]]=Janvier!B18,SUM(COUNTIF(Janvier!C18:AG18,"6/14")))+IF(Tableau2[[#This Row],[NOM]]=Janvier!B19,SUM(COUNTIF(Janvier!C19:AG19,"6/14")))+IF(Tableau2[[#This Row],[NOM]]=Janvier!B20,SUM(COUNTIF(Janvier!C20:AG20,"6/14")))++IF(Tableau2[[#This Row],[NOM]]=Janvier!B21,SUM(COUNTIF(Janvier!C21:AG21,"6/14")))++IF(Tableau2[[#This Row],[NOM]]=Janvier!B22,SUM(COUNTIF(Janvier!C22:AG22,"6/14")))++IF(Tableau2[[#This Row],[NOM]]=Janvier!B23,SUM(COUNTIF(Janvier!C23:AG23,"6/14"))) -> 4
A4: 4 | C4: FALUGIANI V* | E4: =IF(Tableau2[[#This Row],[NOM]]=Janvier!B17,SUM(COUNTIF(Janvier!C17:AG17,"6/14")))+IF(Tableau2[[#This Row],[NOM]]=Janvier!B18,SUM(COUNTIF(Janvier!C18:AG18,"6/14")))+IF(Tableau2[[#This Row],[NOM]]=Janvier!B19,SUM(COUNTIF(Janvier!C19:AG19,"6/14")))+IF(Tableau2[[#This Row],[NOM]]=Janvier!B20,SUM(COUNTIF(Janvier!C20:AG20,"6/14")))++IF(Tableau2[[#This Row],[NOM]]=Janvier!B21,SUM(COUNTIF(Janvier!C21:AG21,"6/14")))++IF(Tableau2[[#This Row],[NOM]]=Janvier!B22,SUM(COUNTIF(Janvier!C22:AG22,"6/14")))++IF(Tableau2[[#This Row],[NOM]]=Janvier!B23,SUM(COUNTIF(Janvier!C23:AG23,"6/14"))) -> 3
A5: 6 | C5: HABRAN B* | E5: =IF(Tableau2[[#This Row],[NOM]]=Janvier!B17,SUM(COUNTIF(Janvier!C17:AG17,"6/14")))+IF(Tableau2[[#This Row],[NOM]]=Janvier!B18,SUM(COUNTIF(Janvier!C18:AG18,"6/14")))+IF(Tableau2[[#This Row],[NOM]]=Janvier!B19,SUM(COUNTIF(Janvier!C19:AG19,"6/14")))+IF(Tableau2[[#This Row],[NOM]]=Janvier!B20,SUM(COUNTIF(Janvier!C20:AG20,"6/14")))++IF(Tableau2[[#This Row],[NOM]]=Janvier!B21,SUM(COUNTIF(Janvier!C21:AG21,"6/14")))++IF(Tableau2[[#This Row],[NOM]]=Janvier!B22,SUM(COUNTIF(Janvier!C22:AG22,"6/14")))++IF(Tableau2[[#This Row],[NOM]]=Janvier!B23,SUM(COUNTIF(Janvier!C23:AG23,"6/14"))) -> 7
A6: 7 | C6: PRAPOTNICH S* | E6: =IF(Tableau2[[#This Row],[NOM]]=Janvier!B17,SUM(COUNTIF(Janvier!C17:AG17,"6/14")))+IF(Tableau2[[#This Row],[NOM]]=Janvier!B18,SUM(COUNTIF(Janvier!C18:AG18,"6/14")))+IF(Tableau2[[#This Row],[NOM]]=Janvier!B19,SUM(COUNTIF(Janvier!C19:AG19,"6/14")))+IF(Tableau2[[#This Row],[NOM]]=Janvier!B20,SUM(COUNTIF(Janvier!C20:AG20,"6/14")))++IF(Tableau2[[#This Row],[NOM]]=Janvier!B21,SUM(COUNTIF(Janvier!C21:AG21,"6/14")))++IF(Tableau2[[#This Row],[NOM]]=Janvier!B22,SUM(COUNTIF(Janvier!C22:AG22,"6/14")))++IF(Tableau2[[#This Row],[NOM]]=Janvier!B23,SUM(COUNTIF(Janvier!C23:AG23,"6/14"))) -> 5
A7: 1 | C7: SMETS A* | E7: =IF(Tableau2[[#This Row],[NOM]]=Janvier!B17,SUM(COUNTIF(Janvier!C17:AG17,"6/14")))+IF(Tableau2[[#This Row],[NOM]]=Janvier!B18,SUM(COUNTIF(Janvier!C18:AG18,"6/14")))+IF(Tableau2[[#This Row],[NOM]]=Janvier!B19,SUM(COUNTIF(Janvier!C19:AG19,"6/14")))+IF(Tableau2[[#This Row],[NOM]]=Janvier!B20,SUM(COUNTIF(Janvier!C20:AG20,"6/14")))++IF(Tableau2[[#This Row],[NOM]]=Janvier!B21,SUM(COUNTIF(Janvier!C21:AG21,"6/14")))++IF(Tableau2[[#This Row],[NOM]]=Janvier!B22,SUM(COUNTIF(Janvier!C22:AG22,"6/14")))++IF(Tableau2[[#This Row],[NOM]]=Janvier!B23,SUM(COUNTIF(Janvier!C23:AG23,"6/14"))) -> 6
A8: 2 | C8: TOUCHEQUE L* | E8: =IF(Tableau2[[#This Row],[NOM]]=Janvier!B17,SUM(COUNTIF(Janvier!C17:AG17,"6/14")))+IF(Tableau2[[#This Row],[NOM]]=Janvier!B18,SUM(COUNTIF(Janvier!C18:AG18,"6/14")))+IF(Tableau2[[#This Row],[NOM]]=Janvier!B19,SUM(COUNTIF(Janvier!C19:AG19,"6/14")))+IF(Tableau2[[#This Row],[NOM]]=Janvier!B20,SUM(COUNTIF(Janvier!C20:AG20,"6/14")))++IF(Tableau2[[#This Row],[NOM]]=Janvier!B21,SUM(COUNTIF(Janvier!C21:AG21,"6/14")))++IF(Tableau2[[#This Row],[NOM]]=Janvier!B22,SUM(COUNTIF(Janvier!C22:AG22,"6/14")))++IF(Tableau2[[#This Row],[NOM]]=Janvier!B23,SUM(COUNTIF(Janvier!C23:AG23,"6/14"))) -> 6
A9: 5 | E9: =IF(Tableau2[[#This Row],[NOM]]=Janvier!B17,SUM(COUNTIF(Janvier!C17:AG17,"6/14")))+IF(Tableau2[[#This Row],[NOM]]=Janvier!B18,SUM(COUNTIF(Janvier!C18:AG18,"6/14")))+IF(Tableau2[[#This Row],[NOM]]=Janvier!B19,SUM(COUNTIF(Janvier!C19:AG19,"6/14")))+IF(Tableau2[[#This Row],[NOM]]=Janvier!B20,SUM(COUNTIF(Janvier!C20:AG20,"6/14")))++IF(Tableau2[[#This Row],[NOM]]=Janvier!B21,SUM(COUNTIF(Janvier!C21:AG21,"6/14")))++IF(Tableau2[[#This Row],[NOM]]=Janvier!B22,SUM(COUNTIF(Janvier!C22:AG22,"6/14")))++IF(Tableau2[[#This Row],[NOM]]=Janvier!B23,SUM(COUNTIF(Janvier!C23:AG23,"6/14"))) -> 0
A10: 5
A11: 4
A12: 7
A13: 2
A14: 3
A15: 1
A16: 5
A17: 1
A18: 1
A19: 6
A20: 1
A21: 5
... A72: 5

Sheet Janvier
A1: 1 | C1: =DATE($A$3,$A$1,C$4) -> 44927 | D1: =DATE($A$3,$A$1,D$4) -> 44928 | E1: =DATE($A$3,$A$1,E$4) -> 44929 | F1: =DATE($A$3,$A$1,F$4) -> 44930 | G1: =DATE($A$3,$A$1,G$4) -> 44931 | H1: =DATE($A$3,$A$1,H$4) -> 44932 | I1: =DATE($A$3,$A$1,I$4) -> 44933 | J1: =DATE($A$3,$A$1,J$4) -> 44934 | ... AG1: =DATE($A$3,$A$1,AG$4) -> 44957 | AI1: Dimanche | AJ1: Samedi
C2: =WEEKDAY(C$1,2) -> 7 | D2: =WEEKDAY(D$1,2) -> 1 | E2: =WEEKDAY(E$1,2) -> 2 | F2: =WEEKDAY(F$1,2) -> 3 | G2: =WEEKDAY(G$1,2) -> 4 | H2: =WEEKDAY(H$1,2) -> 5 | I2: =WEEKDAY(I$1,2) -> 6 | J2: =WEEKDAY(J$1,2) -> 7 | ... AG2: =WEEKDAY(AG$1,2) -> 2
A3: 2023 | B3: Janvier | C3: =IF(C2=1,"Lundi",IF(C2=2,"Mardi",IF(C2=3,"Mercredi",IF(C2=4,"Jeudi",IF(C2=5,"Vendredi",IF(C2=6,"Samedi",IF(C2=7,"Dimanche"))))))) -> Dimanche | D3: =IF(D2=1,"Lundi",IF(D2=2,"Mardi",IF(D2=3,"Mercredi",IF(D2=4,"Jeudi",IF(D2=5,"Vendredi",IF(D2=6,"Samedi",IF(D2=7,"Dimanche"))))))) -> Lundi | E3: =IF(E2=1,"Lundi",IF(E2=2,"Mardi",IF(E2=3,"Mercredi",IF(E2=4,"Jeudi",IF(E2=5,"Vendredi",IF(E2=6,"Samedi",IF(E2=7,"Dimanche"))))))) -> Mardi | F3: =IF(F2=1,"Lundi",IF(F2=2,"Mardi",IF(F2=3,"Mercredi",IF(F2=4,"Jeudi",IF(F2=5,"Vendredi",IF(F2=6,"Samedi",IF(F2=7,"Dimanche"))))))) -> Mercredi | G3: =IF(G2=1,"Lundi",IF(G2=2,"Mardi",IF(G2=3,"Mercredi",IF(G2=4,"Jeudi",IF(G2=5,"Vendredi",IF(G2=6,"Samedi",IF(G2=7,"Dimanche"))))))) -> Jeudi | H3: =IF(H2=1,"Lundi",IF(H2=2,"Mardi",IF(H2=3,"Mercredi",IF(H2=4,"Jeudi",IF(H2=5,"Vendredi",IF(H2=6,"Samedi",IF(H2=7,"Dimanche"))))))) -> Vendredi | I3: =IF(I2=1,"Lundi",IF(I2=2,"Mardi",IF(I2=3,"Mercredi",IF(I2=4,"Jeudi",IF(I2=5,"Vendredi",IF(I2=6,"Samedi",IF(I2=7,"Dimanche"))))))) -> Samedi | J3: =IF(J2=1,"Lundi",IF(J2=2,"Mardi",IF(J2=3,"Mercredi",IF(J2=4,"Jeudi",IF(J2=5,"Vendredi",IF(J2=6,"Samedi",IF(J2=7,"Dimanche"))))))) -> Dimanche | ... AG3: =IF(AG2=1,"Lundi",IF(AG2=2,"Mardi",IF(AG2=3,"Mercredi",IF(AG2=4,"Jeudi",IF(AG2=5,"Vendredi",IF(AG2=6,"Samedi",IF(AG2=7,"Dimanche"))))))) -> Mardi
C4: 1 | D4: =C4+1 -> 2 | E4: =D4+1 -> 3 | F4: =E4+1 -> 4 | G4: =F4+1 -> 5 | H4: =G4+1 -> 6 | I4: =H4+1 -> 7 | J4: =I4+1 -> 8 | K4: =J4+1 -> 9 | ... AG4: =AF4+1 -> 31
B6: Comptages
B7: 6/14 | C7: =SUM(COUNTIF(C13:C108,"6/14")+COUNTIF(C17:C108,"6/14 A")+COUNTIF(C142:C156,"6/14")) -> 10 | D7: =SUM(COUNTIF(D13:D108,"6/14")+COUNTIF(D17:D108,"6/14 A")+COUNTIF(D142:D156,"6/14")) -> 10 | E7: =SUM(COUNTIF(E13:E108,"6/14")+COUNTIF(E17:E108,"6/14 A")+COUNTIF(E142:E156,"6/14")) -> 10 | F7: =SUM(COUNTIF(F13:F108,"6/14")+COUNTIF(F17:F108,"6/14 A")+COUNTIF(F142:F156,"6/14")) -> 10 | G7: =SUM(COUNTIF(G13:G108,"6/14")+COUNTIF(G17:G108,"6/14 A")+COUNTIF(G142:G156,"6/14")) -> 10 | H7: =SUM(COUNTIF(H13:H108,"6/14")+COUNTIF(H17:H108,"6/14 A")+COUNTIF(H142:H156,"6/14")) -> 10 | I7: =SUM(COUNTIF(I13:I108,"6/14")+COUNTIF(I17:I108,"6/14 A")+COUNTIF(I142:I156,"6/14")) -> 10 | J7: =SUM(COUNTIF(J13:J108,"6/14")+COUNTIF(J17:J108,"6/14 A")+COUNTIF(J142:J156,"6/14")) -> 10 | ... AG7: =SUM(COUNTIF(AG13:AG108,"6/14")+COUNTIF(AG17:AG108,"6/14 A")+COUNTIF(AG142:AG156,"6/14")) -> 10
B8: 14/22 | C8: =SUM(COUNTIF(C13:C108,"14/22")+COUNTIF(C17:C108,"14/22 A")+COUNTIF(C142:C156,"14/22")) -> 10 | D8: =SUM(COUNTIF(D13:D108,"14/22")+COUNTIF(D17:D108,"14/22 A")+COUNTIF(D142:D156,"14/22")) -> 11 | E8: =SUM(COUNTIF(E13:E108,"14/22")+COUNTIF(E17:E108,"14/22 A")+COUNTIF(E142:E156,"14/22")) -> 11 | F8: =SUM(COUNTIF(F13:F108,"14/22")+COUNTIF(F17:F108,"14/22 A")+COUNTIF(F142:F156,"14/22")) -> 11 | G8: =SUM(COUNTIF(G13:G108,"14/22")+COUNTIF(G17:G108,"14/22 A")+COUNTIF(G142:G156,"14/22")) -> 11 | H8: =SUM(COUNTIF(H13:H108,"14/22")+COUNTIF(H17:H108,"14/22 A")+COUNTIF(H142:H156,"14/22")) -> 11 | I8: =SUM(COUNTIF(I13:I108,"14/22")+COUNTIF(I17:I108,"14/22 A")+COUNTIF(I142:I156,"14/22")) -> 11 | J8: =SUM(COUNTIF(J13:J108,"14/22")+COUNTIF(J17:J108,"14/22 A")+COUNTIF(J142:J156,"14/22")) -> 11 | ... AG8: =SUM(COUNTIF(AG13:AG108,"14/22")+COUNTIF(AG17:AG108,"14/22 A")+COUNTIF(AG142:AG156,"14/22")) -> 10
B9: 22/06 | C9: =SUM(COUNTIF(C13:C108,"22")+COUNTIF(C142:C156,"22")) -> 11 | D9: =SUM(COUNTIF(D13:D108,"22")+COUNTIF(D142:D156,"22")) -> 8 | E9: =SUM(COUNTIF(E13:E108,"22")+COUNTIF(E142:E156,"22")) -> 8 | F9: =SUM(COUNTIF(F13:F108,"22")+COUNTIF(F142:F156,"22")) -> 8 | G9: =SUM(COUNTIF(G13:G108,"22")+COUNTIF(G142:G156,"22")) -> 9 | H9: =SUM(COUNTIF(H13:H108,"22")+COUNTIF(H142:H156,"22")) -> 10 | I9: =SUM(COUNTIF(I13:I108,"22")+COUNTIF(I142:I156,"22")) -> 10 | J9: =SUM(COUNTIF(J13:J108,"22")+COUNTIF(J142:J156,"22")) -> 10 | ... AG9: =SUM(COUNTIF(AG13:AG108,"22")+COUNTIF(AG142:AG156,"22")) -> 8
B10: Dispo | C10: =SUM(COUNTIF(C17:C103,"7/15,06"))+(COUNTIF(C17:C103,"8/16,06"))+(COUNTIF(C17:C103,"9/17,06")) -> 0 | D10: =SUM(COUNTIF(D17:D103,"7/15,06"))+(COUNTIF(D17:D103,"8/16,06"))+(COUNTIF(D17:D103,"9/17,06")) -> 0 | E10: =SUM(COUNTIF(E17:E103,"7/15,06"))+(COUNTIF(E17:E103,"8/16,06"))+(COUNTIF(E17:E103,"9/17,06")) -> 2 | F10: =SUM(COUNTIF(F17:F103,"7/15,06"))+(COUNTIF(F17:F103,"8/16,06"))+(COUNTIF(F17:F103,"9/17,06")) -> 1 | G10: =SUM(COUNTIF(G17:G103,"7/15,06"))+(COUNTIF(G17:G103,"8/16,06"))+(COUNTIF(G17:G103,"9/17,06")) -> 5 | H10: =SUM(COUNTIF(H17:H103,"7/15,06"))+(COUNTIF(H17:H103,"8/16,06"))+(COUNTIF(H17:H103,"9/17,06")) -> 0 | I10: =SUM(COUNTIF(I17:I103,"7/15,06"))+(COUNTIF(I17:I103,"8/16,06"))+(COUNTIF(I17:I103,"9/17,06")) -> 0 | J10: =SUM(COUNTIF(J17:J103,"7/15,06"))+(COUNTIF(J17:J103,"8/16,06"))+(COUNTIF(J17:J103,"9/17,06")) -> 0 | ... AG10: =SUM(COUNTIF(AG17:AG103,"7/15,06"))+(COUNTIF(AG17:AG103,"8/16,06"))+(COUNTIF(AG17:AG103,"9/17,06")) -> 7
C13: WL | D13: ADM | E13: ADM | F13: ADM | G13: ADM | H13: ADM | I13: WL | J13: WL | K13: ADM | L13: ADM | M13: ADM | N13: ADM | O13: ADM | P13: FOOT | Q13: WL | R13: ADM | S13: ADM | T13: ADM | U13: ADM | V13: ADM | W13: WL | X13: WL | Y13: ADM | Z13: ADM | AA13: ADM | AB13: ADM | AC13: ADM | AD13: WL | AE13: WL | AF13: ADM | AG13: ADM
C14: DN | D14: VA | E14: VA | F14: VA | G14: VA | H14: VA | I14: WL | J14: WL | K14: ADM | L14: ADM | M14: ADM | N14: ADM | O14: ADM | P14: WL | Q14: WL | R14: ADM | S14: ADM | T14: ADM | U14: ADM | V14: 22 | W14: DN | X14: WL | Y14: ADM | Z14: ADM | AA14: ADM | AB14: ADM | AC14: ADM | AD14: WL | AE14: WL | AF14: ADM | AG14: ADM
A17: S01 | B17: SMETS A* | C17: 22 | D17: DN | E17: RP | F17: 6/14 | G17: 8/16,06 | H17: 14/22 | I17: WL | J17: WL | K17: 6/14 | L17: 6/14 | M17: RP | N17: 6/14 | O17: 6/14 | P17: 14/22 | Q17: 14/22 | R17: RP | S17: 14/22 | T17: 22 | U17: DN | V17: VA | W17: RP | X17: RP | Y17: VA | Z17: VA | AA17: VA | AB17: VA | AC17: VA | AF17: 6/14 | AG17: 8/16,06
A18: S02 | B18: TOUCHEQUE L* | C18: WL | D18: 6/14 | E18: 6/14 | F18: RP | G18: 6/14 | H18: 6/14 | I18: 14/22 | J18: 14/22 | K18: VA | L18: VA | M18: VA | N18: VA | O18: VA | P18: VA | Q18: 6/14 | R18: FORM | S18: 12:54/21 | T18: 10/18:06 | U18: 14/22 | V18: 8/16:06 | W18: 22 | X18: 22 | Y18: DN | Z18: RP | AA18: 6/14 | AB18: 14/22 | AC18: 14/22 | AD18: WL | AE18: WL | AF18: 22 | AG18: 22
A19: S03 | B19: BEUMER A* | C19: 14/22 | D19: RP | E19: VA | F19: 22 | G19: 22 | H19: DN | I19: RP | J19: RP | K19: 22 | L19: 22 | M19: DN | N19: SMV+E | O19: 7/15:06 | P19: 6/14 | R19: 14/22 | S19: FORM | T19: 6/14 | U19: VA | V19: 14/22 | W19: WL | X19: WL | Y19: 22 | Z19: 22 | AA19: DN | AB19: VA | AC19: RP | AD19: 6/14 | AE19: 6/14 | AF19: 14/22 | AG19: 14/22
A20: S04 | B20: FALUGIANI V* | C20: VA | D20: VA | E20: VA | F20: VA | G20: VA | H20: VA | K20: PACOS | L20: 8/16,06 | M20: 6/14 | N20: 14/22 | O20: 14/22 | P20: WL | Q20: WL | R20: 22 | S20: 22 | T20: DN | U20: PACOS+SAPV | V20: RP | W20: 6/14 | X20: 6/14 | Y20: 14/22 | Z20: 14/22 | AA20: 14/22 | AB20: RP | AC20: 22 | AD20: 22 | AE20: 22 | AF20: DN | AG20: RP
A21: S05
A22: S06 | B22: HABRAN B* | C22: WL | D22: 22 | E22: 22 | F22: DN | G22: 14/22 | H22: RP | I22: 6/14 | J22: 6/14 | K22: 14/22 | L22: 14/22 | M22: 14/22 | N22: RP | O22: 22 | P22: 22 | Q22: 22 | R22: DN | S22: RP | T22: 14/22 | U22: 22 | V22: DN | W22: WL | X22: WL | Y22: 6/14 | Z22: 6/14 | AA22: RP | AB22: 6/14 | AC22: 6/14 | AD22: 14/22 | AE22: 14/22 | AF22: RP | AG22: 6/14
A23: S07 | B23: PRAPOTNICH S* | C23: 6/14 | D23: 14/22 | E23: 14/22 | F23: 14/22 | G23: RP | H23: 22 | I23: 22 | J23: 22 | K23: DN | L23: VA | M23: VA | N23: VA | O23: VA | P23: VA | Q23: VA | R23: 6/14 | S23: 6/14 | T23: RP | U23: 6/14 | V23: 6/14 | W23: 14/22 | X23: 14/22 | Y23: RP | Z23: FORM | AA23: 22 | AB23: 22 | AC23: DN | AD23: RP | AE23: RP | AF23: 12:54/21 | AG23: 12:54/21
B24: Quota VA | C24: =COUNTIF(C17:C23,"VA") -> 1 | D24: =COUNTIF(D17:D23,"VA") -> 1 | E24: =COUNTIF(E17:E23,"VA") -> 2 | F24: =COUNTIF(F17:F23,"VA") -> 1 | G24: =COUNTIF(G17:G23,"VA") -> 1 | H24: =COUNTIF(H17:H23,"VA") -> 1 | I24: =COUNTIF(I17:I23,"VA") -> 0 | J24: =COUNTIF(J17:J23,"VA") -> 0 | ... AG24: =COUNTIF(AG17:AG23,"VA") -> 0
C29: 22 | D29: DN | E29: RP | F29: VA | G29: VA | H29: VA | I29: WL | J29: WL | K29: 6/14 A | L29: 6/14 | M29: RP | N29: VA | O29: 6/14 | P29: 14/22 A | Q29: 14/22 | R29: RP | S29: FORM | T29: 22 | U29: 22 | V29: DN | W29: FOOT | X29: RP | Y29: 12:54/21 | Z29: 10/18;06 | AA29: Huissier | AB29: 11/19;06 | AC29: 7/15:06 | AD29: 14/22 | AF29: 6/14 | AG29: RP
C30: 22 | D30: DN | E30: RP | F30: VA | G30: VA | H30: VA | I30: WL | J30: WL | K30: 6/14 A | L30: 6/14 | M30: RP | N30: 6/14 | O30: 6/14 | P30: 14/22 A | Q30: 14/22 | R30: RP | S30: FORM | T30: 22 | U30: 22 | V30: DN | W30: RP | X30: RP | Y30: 12:54/21 | Z30: 10/18;06 | AA30: Huissier | AB30: 11/19;06 | AC30: 7/15:06 | AD30: 14/21:30 | AE30: 14/22 A | AF30: RP | AG30: 6/14
C32: 22 | D32: DN | E32: RP | F32: 6/14 | G32: 14/22 A | H32: 14/22 | I32: WL | J32: WL | K32: 6/14 | L32: 6/14 A | M32: RP | N32: 6/14 | O32: 6/14 | P32: 14/22 | Q32: 14/22 A | R32: RP | S32: FORM | T32: 22 | U32: 22 | V32: DN | W32: RP | X32: RP | Y32: 12:54/21 | Z32: 10/18;06 | AA32: 10/18:06 | AB32: 11/19;06 | AC32: 7/15:06 | AE32: 6/14 | AF32: 14/22 | AG32: 8/16,06
C33: 22 | D33: DN | E33: RP | F33: 8/16,06 | G33: 6/14 | H33: 6/14 | I33: WL | J33: WL | K33: 6/14 | L33: 6/14 | M33: RP | N33: 6/14 A | O33: 6/14 | P33: 14/22 | Q33: 14/22 | R33: RP | S33: FORM | T33: 22 | U33: 22 | V33: DN | W33: RP | X33: RP | Y33: 12:54/21 | Z33: 10/18;06 | AA33: 10/18:06 | AB33: 11/19;06 | AC33: 7/15:06 | AD33: 6/14 A | AF33: 14/22 | AG33: RP
C34: 22 | D34: DN | E34: RP | F34: 6/14 | G34: 14/22 | H34: 14/22 A | I34: WL | J34: WL | K34: 6/14 | L34: 6/14 | M34: RP | N34: 6/14 A | O34: 6/14 | P34: 14/22 | Q34: 14/22 | R34: RP | S34: FORM | T34: 22 | U34: 22 | V34: DN | W34: RP | X34: RP | Y34: 12:54/21 | Z34: 10/18;06 | AA34: 10/18:06 | AB34: 11/19;06 | AC34: 7/15:06 | AD34: 14/21:30 | AE34: 14/22 | AF34: RP | AG34: RP
C35: 22 | D35: DN | E35: RP | F35: 6/14 A | G35: 14/22 | H35: 14/22 | I35: WL | J35: WL | K35: 6/14 | L35: 6/14 | M35: RP | N35: 6/14 | O35: 6/14 A | P35: 14/22 | Q35: 14/22 | R35: RP | S35: FORM | T35: 22 | U35: 22 | V35: DN | W35: FOOT | X35: RP | Y35: 12:54/21 | Z35: 10/18;06 | AA35: 10/18:06 | AB35: 11/19;06 | AC35: 7/15:06 | AD35: WL | AE35: WL | AF35: 6/14 | AG35: 8/16,06
C36: 22 | D36: DN | E36: RP | F36: 6/14 | G36: 14/22 | H36: 14/22 | I36: WL | J36: WL | K36: RP | L36: FORM | M36: FORM | N36: FORM | O36: FORM | P36: 14/22 | Q36: 14/21 | R36: FORM | S36: FORM | T36: RP | U36: FORM | V36: RP | W36: FOOT | X36: RP | Y36: FORM | Z36: RP | AA36: FORM | AB36: FORM | AC36: FORM | AE36: 6/14 A | AF36: FORM | AG36: 8/16,06
C37: VA | D37: VA | E37: VA | F37: VA | G37: VA | H37: VA | I37: WL | J37: WL | K37: 6/14 | L37: 6/14 | M37: RP | N37: 6/14 | O37: 6/14 | P37: 14/22 | Q37: 14/22 | R37: RP | S37: FORM | T37: 22 | U37: 22 | V37: DN | W37: FOOT | X37: RP | Y37: 12:54/21 | Z37: 12:54/21 | AA37: 10/18:06 | AB37: 7/15:06 | AC37: 7/15:06 | AD37: 6/14 | AF37: 8/16,06 | AG37: 8/16,06
C40: WL | D40: 6/14 | E40: 6/14 | F40: RP | G40: 6/14 | H40: 6/14 | I40: 14/22 | J40: 14/22 | K40: RP | L40: VA | M40: VA | N40: VA | O40: VA | P40: VA | Q40: VA | R40: VA | S40: VA | T40: VA | U40: VA | V40: VA | W40: VA | X40: VA | Y40: VA | Z40: VA | AA40: VA | AB40: VA | AC40: VA | AD40: VA | AE40: VA | AF40: VA | AG40: VA
C41: VA | D41: VA | E41: VA | F41: RP | G41: 6/14 | H41: 6/14 | I41: 14/22 | J41: 14/22 | K41: RP | L41: 6/14 | M41: 22 | N41: 22 | O41: 22 | P41: DN | Q41: RP | R41: FORM | S41: 12:54/21 | T41: 6/14 | U41: 12:54/21 | V41: 7/15:06 | Y41: 6/14 | Z41: 8/16,06 | AA41: 6/14 | AB41: 14/22 | AC41: 14/22 | AD41: WL | AE41: WL | AF41: 22 | AG41: 22
C42: WL | D42: 6/14 | E42: 6/14 | F42: RP | G42: 6/14 | H42: 6/14 | I42: 14/22 | J42: 14/22 | K42: RP | L42: 14/22 | M42: 22 | N42: 22 | O42: DN | P42: 22 | Q42: DN | R42: FORM | S42: 14/22 | T42: RP | U42: 12:54/21 | V42: 8/17 | Y42: 8/16,06 | Z42: 6/14 | AA42: 6/14 | AB42: 14/22 | AC42: 14/22 | AD42: WL | AE42: WL | AF42: 22 | AG42: 22
C44: WL | D44: 6/14 | E44: 6/14 | F44: RP | G44: 6/14 | H44: 6/14 | I44: 14/22 | J44: 14/22 | K44: RP | L44: 14/22 | M44: 22 | N44: 22 | O44: DN | P44: FOOT | Q44: RP | R44: FORM | S44: 14/22 | T44: 12:54/21 | U44: 12:54/21 | V44: 8/17 | Y44: 8/16,06 | Z44: 8/16,06 | AA44: 6/14 | AB44: 14/22 | AC44: 14/22 | AD44: WL | AE44: WL | AF44: 22 | AG44: 22
C45: WL | D45: 6/14 | E45: 6/14 | F45: RP | G45: 6/14 | H45: 6/14 | I45: 14/22 | J45: 14/22 | K45: RP | L45: 10/18:06 | M45: 22 | N45: 22 | O45: DN | P45: FOOT | Q45: RP | R45: FORM | S45: 12:54/21 | T45: 12:54/21 | U45: 12:54/21 | V45: 8/17 | Y45: 8/16,06 | Z45: 8/16,06 | AA45: 6/14 | AB45: 14/22 | AC45: 14/22 | AD45: WL | AE45: WL | AF45: 22 | AG45: 22
C46: WL | D46: 6/14 | E46: 6/14 | F46: RP | G46: 6/14 | H46: 6/14 | I46: 14/22 | J46: 14/22 | K46: RP | L46: 8/16,06 | M46: 22 | N46: 22 | O46: DN | P46: FOOT | Q46: RP | R46: FORM | S46: 12:54/21 | T46: 14/22 | U46: 12:54/21 | V46: 8/17 | W46: FOOT | Y46: 8/16,06 | Z46: 8/16,06 | AA46: 6/14 | AB46: 14/22 | AC46: 14/22 | AD46: WL | AE46: WL | AF46: 22 | AG46: 22
C47: VA | D47: VA | E47: VA | F47: VA | G47: 6/14 | H47: 6/14 | I47: 14/22 | J47: 14/22 | K47: RP | L47: 8/16,06 | M47: 22 | N47: 22 | O47: DN | P47: FOOT | Q47: RP | R47: FORM | S47: 12:54/21 | T47: 7/15:06 | U47: 12:54/21 | V47: 8/17 | W47: FOOT | Y47: 8/16,06 | Z47: RP | AA47: 6/14 | AB47: 14/22 | AC47: 14/22 | AD47: WL | AE47: WL | AF47: 22 | AG47: 22
C48: VA | D48: VA | E48: VA | F48: RP | G48: 6/14 | H48: 6/14 | I48: 14/22 | J48: 14/22 | K48: RP | L48: 14/22 | M48: 22 | N48: 22 | O48: DN | P48: RP | Q48: RP | R48: FORM | S48: 7/15:06 | T48: 14/22 | U48: Huissier | V48: 8/17 | Y48: 8/16,06 | Z48: 8/16,06 | AA48: 6/14 | AB48: 14/22 | AC48: 14/22 | AD48: WL | AE48: WL | AF48: 22 | AG48: 22
C52: WL | D52: ADM | E52: ADM+AAF | F52: 22 | G52: 22 | H52: DN | I52: RP | J52: RP | K52: PACOS | L52: 10/18:06 | M52: 10/18:06 | N52: 12:54/21 | O52: 7/15:06 | P52: 14/22 | R52: 8/16,06 | S52: FORM | T52: 6/14 | U52: 14/22 | V52: 14/22+R | W52: WL | X52: WL | Y52: 22 | Z52: 22 | AA52: DN | AB52: 8/16,06 | AC52: RP | AD52: 6/14 | AE52: 6/14 | AF52: 14/22 | AG52: 14/22
C53: 14/22 | D53: RP | E53: 6/14 | F53: 22 | G53: 22 | H53: DN | I53: RP | J53: RP | K53: PACOS | L53: 10/18:06 | M53: 10/18:06 | N53: 12:54/21 | O53: RP | P53: 6/14 | Q53: 22 | R53: DN | S53: FORM | T53: 6/14 | U53: 14/22 | V53: 14/22+R | W53: WL | X53: WL | Y53: 22 | Z53: 22 | AA53: DN | AB53: 8/16,06 | AC53: RP | AD53: 6/14 | AE53: 6/14 | AF53: 14/22 | AG53: 14/22
C54: VA | D54: VA | E54: VA | F54: VA | G54: 22 | H54: DN | I54: RP | J54: RP | K54: 12:54/21 | L54: 10/18:06 | M54: 10/18:06 | N54: 12:54/21 | O54: 7/15:06 | P54: FOOT | R54: 8/16,06 | S54: FORM | T54: 6/14 | U54: 14/22 | V54: 14/22+R | W54: WL | X54: WL | Y54: 22 | Z54: 22 | AA54: DN | AB54: 14/22 | AC54: RP | AD54: 6/14 | AE54: 6/14 | AF54: 14/22 | AG54: 14/22
C55: 14/22 | D55: RP | E55: PALAIS | F55: 22 | G55: 22 | H55: DN | I55: RP | J55: RP | K55: PACOS | L55: 10/18:06 | M55: 10/18:06 | N55: 12:54/21 | O55: 7/15:06 | P55: FOOT | R55: 8/16,06 | S55: FORM | T55: 6/14 | U55: 14/22 | V55: 14/22+R | W55: WL | X55: WL | Y55: 22 | Z55: 22 | AA55: DN | AB55: 6/14 | AC55: RP | AD55: 6/14 | AE55: 6/14 | AF55: 14/22 | AG55: 14/22
C56: 14/22 | D56: RP | E56: VA | F56: VA | G56: VA | H56: VA | I56: VA | J56: VA | K56: PACOS | L56: VA | M56: 10/18:06 | N56: 12:54/21 | O56: 7/15:06 | P56: FOOT | R56: 14/22 | S56: FORM | T56: 6/14 | U56: 14/22 | V56: 14/22+R | W56: WL | X56: WL | Y56: 22 | Z56: 22 | AA56: DN | AB56: RP | AC56: RP | AD56: 6/14 | AE56: 6/14 | AF56: 14/22 | AG56: 14/22
...
