Workbook
Name Policier: Comptage!$A$3:$C$72

Sheet Comptage
A2: Série | B2: Colonne1 | C2: NOM
A3: 3 | C3: BEUMER A* | E3: =IF(Tableau2[[#This Row],[NOM]]=Janvier!B17,SUM(COUNTIF(Janvier!C17:AG17,"6/14")))+IF(Tableau2[[#This Row],[NOM]]=Janvier!B18,SUM(COUNTIF(Janvier!C18:AG18,"6/14")))+IF(Tableau2[[#This Row],[NOM]]=Janvier!B19,SUM(COUNTIF(Janvier!C19:AG19,"6/14")))+IF(Tableau2[[#This Row],[NOM]]=Janvier!B20,SUM(COUNTIF(Janvier!C20:AG20,"6/14")))++IF(Tableau2[[#This Row],[NOM]]=Janvier!B21,SUM(COUNTIF(Janvier!C21:AG21,"6/14")))++IF(Tableau2[[#This Row],[NOM]]=Janvier!B22,SUM(COUNTIF(Janvier!C22:AG22,"6/14")))++IF(Tableau2[[#This Row],[NOM]]=Janvier!B23,SUM(COUNTIF(Janvier!C23:AG23,"6/14"))) -> 4
A4: 4 | C4: FALUGIANI V* | E4: =IF(Tableau2[[#This Row],[NOM]]=Janvier!B17,SUM(COUNTIF(Janvier!C17:AG17,"6/14")))+IF(Tableau2[[#This Row],[NOM]]=Janvier!B18,SUM(COUNTIF(Janvier!C18:AG18,"6/14")))+IF(Tableau2[[#This Row],[NOM]]=Janvier!B19,SUM(COUNTIF(Janvier!C19:AG19,"6/14")))+IF(Tableau2[[#This Row],[NOM]]=Janvier!B20,SUM(COUNTIF(Janvier!C20:AG20,"6/14")))++IF(Tableau2[[#This Row],[NOM]]=Janvier!B21,SUM(COUNTIF(Janvier!C21:AG21,"6/14")))++IF(Tableau2[[#This Row],[NOM]]=Janvier!B22,SUM(COUNTIF(Janvier!C22:AG22,"6/14")))++IF(Tableau2[[#This Row],[NOM]]=Janvier!B23,SUM(COUNTIF(Janvier!C23:AG23,"6/14"))) -> 3
A5: 6 | C5: HABRAN B* | E5: =IF(Tableau2[[#This Row],[NOM]]=Janvier!B17,SUM(COUNTIF(Janvier!C17:AG17,"6/14")))+IF(Tableau2[[#This Row],[NOM]]=Janvier!B18,SUM(COUNTIF(Janvier!C18:AG18,"6/14")))+IF(Tableau2[[#This Row],[NOM]]=Janvier!B19,SUM(COUNTIF(Janvier!C19:AG19,"6/14")))+IF(Tableau2[[#This Row],[NOM]]=Janvier!B20,SUM(COUNTIF(Janvier!C20:AG20,"6/14")))++IF(Tableau2[[#This Row],[NOM]]=Janvier!B21,SUM(COUNTIF(Janvier!C21:AG21,"6/14")))++IF(Tableau2[[#This Row],[NOM]]=Janvier!B22,SUM(COUNTIF(Janvier!C22:AG22,"6/14")))++IF(Tableau2[[#This Row],[NOM]]=Janvier!B23,SUM(COUNTIF(Janvier!C23:AG23,"6/14"))) -> 7
A6: 7 | C6: PRAPOTNICH S* | E6: =IF(Tableau2[[#This Row],[NOM]]=Janvier!B17,SUM(COUNTIF(Janvier!C17:AG17,"6/14")))+IF(Tableau2[[#This Row],[NOM]]=Janvier!B18,SUM(COUNTIF(Janvier!C18:AG18,"6/14")))+IF(Tableau2[[#This Row],[NOM]]=Janvier!B19,SUM(COUNTIF(Janvier!C19:AG19,"6/14")))+IF(Tableau2[[#This Row],[NOM]]=Janvier!B20,SUM(COUNTIF(Janvier!C20:AG20,"6/14")))++IF(Tableau2[[#This Row],[NOM]]=Janvier!B21,SUM(COUNTIF(Janvier!C21:AG21,"6/14")))++IF(Tableau2[[#This Row],[NOM]]=Janvier!B22,SUM(COUNTIF(Janvier!C22:AG22,"6/14")))++IF(Tableau2[[#This Row],[NOM]]=Janvier!B23,SUM(COUNTIF(Janvier!C23:AG23,"6/14"))) -> 5
A7: 1 | C7: SMETS A* | E7: =IF(Tableau2[[#This Row],[NOM]]=Janvier!B17,SUM(COUNTIF(Janvier!C17:AG17,"6/14")))+IF(Tableau2[[#This Row],[NOM]]=Janvier!B18,SUM(COUNTIF(Janvier!C18:AG18,"6/14")))+IF(Tableau2[[#This Row],[NOM]]=Janvier!B19,SUM(COUNTIF(Janvier!C19:AG19,"6/14")))+IF(Tableau2[[#This Row],[NOM]]=Janvier!B20,SUM(COUNTIF(Janvier!C20:AG20,"6/14")))++IF(Tableau2[[#This Row],[NOM]]=Janvier!B21,SUM(COUNTIF(Janvier!C21:AG21,"6/14")))++IF(Tableau2[[#This Row],[NOM]]=Janvier!B22,SUM(COUNTIF(Janvier!C22:AG22,"6/14")))++IF(Tableau2[[#This Row],[NOM]]=Janvier!B23,SUM(COUNTIF(Janvier!C23:AG23,"6/14"))) -> 6
A8: 2 | C8: TOUCHEQUE L* | E8: =IF(Tableau2[[#This Row],[NOM]]=Janvier!B17,SUM(COUNTIF(Janvier!C17:AG17,"6/14")))+IF(Tableau2[[#This Row],[NOM]]=Janvier!B18,SUM(COUNTIF(Janvier!C18:AG18,"6/14")))+IF(Tableau2[[#This Row],[NOM]]=Janvier!B19,SUM(COUNTIF(Janvier!C19:AG19,"6/14")))+IF(Tableau2[[#This Row],[NOM]]=Janvier!B20,SUM(COUNTIF(Janvier!C20:AG20,"6/14")))++IF(Tableau2[[#This Row],[NOM]]=Janvier!B21,SUM(COUNTIF(Janvier!C21:AG21,"6/14")))++IF(Tableau2[[#This Row],[NOM]]=Janvier!B22,SUM(COUNTIF(Janvier!C22:AG22,"6/14")))++IF(Tableau2[[#This Row],[NOM]]=Janvier!B23,SUM(COUNTIF(Janvier!C23:AG23,"6/14"))) -> 6
A9: 5 | E9: =IF(Tableau2[[#This Row],[NOM]]=Janvier!B17,SUM(COUNTIF(Janvier!C17:AG17,"6/14")))+IF(Tableau2[[#This Row],[NOM]]=Janvier!B18,SUM(COUNTIF(Janvier!C18:AG18,"6/14")))+IF(Tableau2[[#This Row],[NOM]]=Janvier!B19,SUM(COUNTIF(Janvier!C19:AG19,"6/14")))+IF(Tableau2[[#This Row],[NOM]]=Janvier!B20,SUM(COUNTIF(Janvier!C20:AG20,"6/14")))++IF(Tableau2[[#This Row],[NOM]]=Janvier!B21,SUM(COUNTIF(Janvier!C21:AG21,"6/14")))++IF(Tableau2[[#This Row],[NOM]]=Janvier!B22,SUM(COUNTIF(Janvier!C22:AG22,"6/14")))++IF(Tableau2[[#This Row],[NOM]]=Janvier!B23,SUM(COUNTIF(Janvier!C23:AG23,"6/14"))) -> 0
A10: 5
A11: 4
A12: 7
A13: 2
A14: 3
A15: 1
A16: 5
A17: 1
A18: 1
A19: 6
A20: 1
A21: 5
... A72: 5

Sheet Janvier
A1: 1 | C1: =DATE($A$3,$A$1,C$4) -> 44927 | D1: =DATE($A$3,$A$1,D$4) -> 44928 | E1: =DATE($A$3,$A$1,E$4) -> 44929 | F1: =DATE($A$3,$A$1,F$4) -> 44930 | G1: =DATE($A$3,$A$1,G$4) -> 44931 | H1: =DATE($A$3,$A$1,H$4) -> 44932 | I1: =DATE($A$3,$A$1,I$4) -> 44933 | J1: =DATE($A$3,$A$1,J$4) -> 44934 | ... AG1: =DATE($A$3,$A$1,AG$4) -> 44957 | AI1: Dimanche | AJ1: Samedi
C2: =WEEKDAY(C$1,2) -> 7 | D2: =WEEKDAY(D$1,2) -> 1 | E2: =WEEKDAY(E$1,2) -> 2 | F2: =WEEKDAY(F$1,2) -> 3 | G2: =WEEKDAY(G$1,2) -> 4 | H2: =WEEKDAY(H$1,2) -> 5 | I2: =WEEKDAY(I$1,2) -> 6 | J2: =WEEKDAY(J$1,2) -> 7 | ... AG2: =WEEKDAY(AG$1,2) -> 2
A3: 2023 | B3: Janvier | C3: =IF(C2=1,"Lundi",IF(C2=2,"Mardi",IF(C2=3,"Mercredi",IF(C2=4,"Jeudi",IF(C2=5,"Vendredi",IF(C2=6,"Samedi",IF(C2=7,"Dimanche"))))))) -> Dimanche | D3: =IF(D2=1,"Lundi",IF(D2=2,"Mardi",IF(D2=3,"Mercredi",IF(D2=4,"Jeudi",IF(D2=5,"Vendredi",IF(D2=6,"Samedi",IF(D2=7,"Dimanche"))))))) -> Lundi | E3: =IF(E2=1,"Lundi",IF(E2=2,"Mardi",IF(E2=3,"Mercredi",IF(E2=4,"Jeudi",IF(E2=5,"Vendredi",IF(E2=6,"Samedi",IF(E2=7,"Dimanche"))))))) -> Mardi | F3: =IF(F2=1,"Lundi",IF(F2=2,"Mardi",IF(F2=3,"Mercredi",IF(F2=4,"Jeudi",IF(F2=5,"Vendredi",IF(F2=6,"Samedi",IF(F2=7,"Dimanche"))))))) -> Mercredi | G3: =IF(G2=1,"Lundi",IF(G2=2,"Mardi",IF(G2=3,"Mercredi",IF(G2=4,"Jeudi",IF(G2=5,"Vendredi",IF(G2=6,"Samedi",IF(G2=7,"Dimanche"))))))) -> Jeudi | H3: =IF(H2=1,"Lundi",IF(H2=2,"Mardi",IF(H2=3,"Mercredi",IF(H2=4,"Jeudi",IF(H2=5,"Vendredi",IF(H2=6,"Samedi",IF(H2=7,"Dimanche"))))))) -> Vendredi | I3: =IF(I2=1,"Lundi",IF(I2=2,"Mardi",IF(I2=3,"Mercredi",IF(I2=4,"Jeudi",IF(I2=5,"Vendredi",IF(I2=6,"Samedi",IF(I2=7,"Dimanche"))))))) -> Samedi | J3: =IF(J2=1,"Lundi",IF(J2=2,"Mardi",IF(J2=3,"Mercredi",IF(J2=4,"Jeudi",IF(J2=5,"Vendredi",IF(J2=6,"Samedi",IF(J2=7,"Dimanche"))))))) -> Dimanche | ... AG3: =IF(AG2=1,"Lundi",IF(AG2=2,"Mardi",IF(AG2=3,"Mercredi",IF(AG2=4,"Jeudi",IF(AG2=5,"Vendredi",IF(AG2=6,"Samedi",IF(AG2=7,"Dimanche"))))))) -> Mardi
C4: 1 | D4: =C4+1 -> 2 | E4: =D4+1 -> 3 | F4: =E4+1 -> 4 | G4: =F4+1 -> 5 | H4: =G4+1 -> 6 | I4: =H4+1 -> 7 | J4: =I4+1 -> 8 | K4: =J4+1 -> 9 | ... AG4: =AF4+1 -> 31
B6: Comptages
B7: 6/14 | C7: =SUM(COUNTIF(C13:C108,"6/14")+COUNTIF(C17:C108,"6/14 A")+COUNTIF(C142:C156,"6/14")) -> 10 | D7: =SUM(COUNTIF(D13:D108,"6/14")+COUNTIF(D17:D108,"6/14 A")+COUNTIF(D142:D156,"6/14")) -> 10 | E7: =SUM(COUNTIF(E13:E108,"6/14")+COUNTIF(E17:E108,"6/14 A")+COUNTIF(E142:E156,"6/14")) -> 10 | F7: =SUM(COUNTIF(F13:F108,"6/14")+COUNTIF(F17:F108,"6/14 A")+COUNTIF(F142:F156,"6/14")) -> 10 | G7: =SUM(COUNTIF(G13:G108,"6/14")+COUNTIF(G17:G108,"6/14 A")+COUNTIF(G142:G156,"6/14")) -> 10 | H7: =SUM(COUNTIF(H13:H108,"6/14")+COUNTIF(H17:H108,"6/14 A")+COUNTIF(H142:H156,"6/14")) -> 10 | I7: =SUM(COUNTIF(I13:I108,"6/14")+COUNTIF(I17:I108,"6/14 A")+COUNTIF(I142:I156,"6/14")) -> 10 | J7: =SUM(COUNTIF(J13:J108,"6/14")+COUNTIF(J17:J108,"6/14 A")+COUNTIF(J142:J156,"6/14")) -> 10 | ... AG7: =SUM(COUNTIF(AG13:AG108,"6/14")+COUNTIF(AG17:AG108,"6/14 A")+COUNTIF(AG142:AG156,"6/14")) -> 10
B8: 14/22 | C8: =SUM(COUNTIF(C13:C108,"14/22")+COUNTIF(C17:C108,"14/22 A")+COUNTIF(C142:C156,"14/22")) -> 10 | D8: =SUM(COUNTIF(D13:D108,"14/22")+COUNTIF(D17:D108,"14/22 A")+COUNTIF(D142:D156,"14/22")) -> 11 | E8: =SUM(COUNTIF(E13:E108,"14/22")+COUNTIF(E17:E108,"14/22 A")+COUNTIF(E142:E156,"14/22")) -> 11 | F8: =SUM(COUNTIF(F13:F108,"14/22")+COUNTIF(F17:F108,"14/22 A")+COUNTIF(F142:F156,"14/22")) -> 11 | G8: =SUM(COUNTIF(G13:G108,"14/22")+COUNTIF(G17:G108,"14/22 A")+COUNTIF(G142:G156,"14/22")) -> 11 | H8: =SUM(COUNTIF(H13:H108,"14/22")+COUNTIF(H17:H108,"14/22 A")+COUNTIF(H142:H156,"14/22")) -> 11 | I8: =SUM(COUNTIF(I13:I108,"14/22")+COUNTIF(I17:I108,"14/22 A")+COUNTIF(I142:I156,"14/22")) -> 11 | J8: =SUM(COUNTIF(J13:J108,"14/22")+COUNTIF(J17:J108,"14/22 A")+COUNTIF(J142:J156,"14/22")) -> 11 | ... AG8: =SUM(COUNTIF(AG13:AG108,"14/22")+COUNTIF(AG17:AG108,"14/22 A")+COUNTIF(AG142:AG156,"14/22")) -> 10
B9: 22/06 | C9: =SUM(COUNTIF(C13:C108,"22")+COUNTIF(C142:C156,"22")) -> 11 | D9: =SUM(COUNTIF(D13:D108,"22")+COUNTIF(D142:D156,"22")) -> 8 | E9: =SUM(COUNTIF(E13:E108,"22")+COUNTIF(E142:E156,"22")) -> 8 | F9: =SUM(COUNTIF(F13:F108,"22")+COUNTIF(F142:F156,"22")) -> 8 | G9: =SUM(COUNTIF(G13:G108,"22")+COUNTIF(G142:G156,"22")) -> 9 | H9: =SUM(COUNTIF(H13:H108,"22")+COUNTIF(H142:H156,"22")) -> 10 | I9: =SUM(COUNTIF(I13:I108,"22")+COUNTIF(I142:I156,"22")) -> 10 | J9: =SUM(COUNTIF(J13:J108,"22")+COUNTIF(J142:J156,"22")) -> 10 | ... AG9: =SUM(COUNTIF(AG13:AG108,"22")+COUNTIF(AG142:AG156,"22")) -> 8
B10: Dispo | C10: =SUM(COUNTIF(C17:C103,"7/15,06"))+(COUNTIF(C17:C103,"8/16,06"))+(COUNTIF(C17:C103,"9/17,06")) -> 0 | D10: =SUM(COUNTIF(D17:D103,"7/15,06"))+(COUNTIF(D17:D103,"8/16,06"))+(COUNTIF(D17:D103,"9/17,06")) -> 0 | E10: =SUM(COUNTIF(E17:E103,"7/15,06"))+(COUNTIF(E17:E103,"8/16,06"))+(COUNTIF(E17:E103,"9/17,06")) -> 2 | F10: =SUM(COUNTIF(F17:F103,"7/15,06"))+(COUNTIF(F17:F103,"8/16,06"))+(COUNTIF(F17:F103,"9/17,06")) -> 1 | G10: =SUM(COUNTIF(G17:G103,"7/15,06"))+(COUNTIF(G17:G103,"8/16,06"))+(COUNTIF(G17:G103,"9/17,06")) -> 5 | H10: =SUM(COUNTIF(H17:H103,"7/15,06"))+(COUNTIF(H17:H103,"8/16,06"))+(COUNTIF(H17:H103,"9/17,06")) -> 0 | I10: =SUM(COUNTIF(I17:I103,"7/15,06"))+(COUNTIF(I17:I103,"8/16,06"))+(COUNTIF(I17:I103,"9/17,06")) -> 0 | J10: =SUM(COUNTIF(J17:J103,"7/15,06"))+(COUNTIF(J17:J103,"8/16,06"))+(COUNTIF(J17:J103,"9/17,06")) -> 0 | ... AG10: =SUM(COUNTIF(AG17:AG103,"7/15,06"))+(COUNTIF(AG17:AG103,"8/16,06"))+(COUNTIF(AG17:AG103,"9/17,06")) -> 7
C13: WL | D13: ADM | E13: ADM | F13: ADM | G13: ADM | H13: ADM | I13: WL | J13: WL | K13: ADM | L13: ADM | M13: ADM | N13: ADM | O13: ADM | P13: FOOT | Q13: WL | R13: ADM | S13: ADM | T13: ADM | U13: ADM | V13: ADM | W13: WL | X13: WL | Y13: ADM | Z13: ADM | AA13: ADM | AB13: ADM | AC13: ADM | AD13: WL | AE13: WL | AF13: ADM | AG13: ADM
C14: DN | D14: VA | E14: VA | F14: VA | G14: VA | H14: VA | I14: WL | J14: WL | K14: ADM | L14: ADM | M14: ADM | N14: ADM | O14: ADM | P14: WL | Q14: WL | R14: ADM | S14: ADM | T14: ADM | U14: ADM | V14: 22 | W14: DN | X14: WL | Y14: ADM | Z14: ADM | AA14: ADM | AB14: ADM | AC14: ADM | AD14: WL | AE14: WL | AF14: ADM | AG14: ADM
A17: S01 | B17: SMETS A* | C17: 22 | D17: DN | E17: RP | F17: 6/14 | G17: 8/16,06 | H17: 14/22 | I17: WL | J17: WL | K17: 6/14 | L17: 6/14 | M17: RP | N17: 6/14 | O17: 6/14 | P17: 14/22 | Q17: 14/22 | R17: RP | S17: 14/22 | T17: 22 | U17: DN | V17: VA | W17: RP | X17: RP | Y17: VA | Z17: VA | AA17: VA | AB17: VA | AC17: VA | AF17: 6/14 | AG17: 8/16,06
A18: S02 | B18: TOUCHEQUE L* | C18: WL | D18: 6/14 | E18: 6/14 | F18: RP | G18: 6/14 | H18: 6/14 | I18: 14/22 | J18: 14/22 | K18: VA | L18: VA | M18: VA | N18: VA | O18: VA | P18: VA | Q18: 6/14 | R18: FORM | S18: 12:54/21 | T18: 10/18:06 | U18: 14/22 | V18: 8/16:06 | W18: 22 | X18: 22 | Y18: DN | Z18: RP | AA18: 6/14 | AB18: 14/22 | AC18: 14/22 | AD18: WL | AE18: WL | AF18: 22 | AG18: 22
A19: S03 | B19: BEUMER A* | C19: 14/22 | D19: RP | E19: VA | F19: 22 | G19: 22 | H19: DN | I19: RP | J19: RP | K19: 22 | L19: 22 | M19: DN | N19: SMV+E | O19: 7/15:06 | P19: 6/14 | R19: 14/22 | S19: FORM | T19: 6/14 | U19: VA | V19: 14/22 | W19: WL | X19: WL | Y19: 22 | Z19: 22 | AA19: DN | AB19: VA | AC19: RP | AD19: 6/14 | AE19: 6/14 | AF19: 14/22 | AG19: 14/22
A20: S04 | B20: FALUGIANI V* | C20: VA | D20: VA | E20: VA | F20: VA | G20: VA | H20: VA | K20: PACOS | L20: 8/16,06 | M20: 6/14 | N20: 14/22 | O20: 14/22 | P20: WL | Q20: WL | R20: 22 | S20: 22 | T20: DN | U20: PACOS+SAPV | V20: RP | W20: 6/14 | X20: 6/14 | Y20: 14/22 | Z20: 14/22 | AA20: 14/22 | AB20: RP | AC20: 22 | AD20: 22 | AE20: 22 | AF20: DN | AG20: RP
A21: S05
A22: S06 | B22: HABRAN B* | C22: WL | D22: 22 | E22: 22 | F22: DN | G22: 14/22 | H22: RP | I22: 6/14 | J22: 6/14 | K22: 14/22 | L22: 14/22 | M22: 14/22 | N22: RP | O22: 22 | P22: 22 | Q22: 22 | R22: DN | S22: RP | T22: 14/22 | U22: 22 | V22: DN | W22: WL | X22: WL | Y22: 6/14 | Z22: 6/14 | AA22: RP | AB22: 6/14 | AC22: 6/14 | AD22: 14/22 | AE22: 14/22 | AF22: RP | AG22: 6/14
A23: S07 | B23: PRAPOTNICH S* | C23: 6/14 | D23: 14/22 | E23: 14/22 | F23: 14/22 | G23: RP | H23: 22 | I23: 22 | J23: 22 | K23: DN | L23: VA | M23: VA | N23: VA | O23: VA | P23: VA | Q23: VA | R23: 6/14 | S23: 6/14 | T23: RP | U23: 6/14 | V23: 6/14 | W23: 14/22 | X23: 14/22 | Y23: RP | Z23: FORM | AA23: 22 | AB23: 22 | AC23: DN | AD23: RP | AE23: RP | AF23: 12:54/21 | AG23: 12:54/21
B24: Quota VA | C24: =COUNTIF(C17:C23,"VA") -> 1 | D24: =COUNTIF(D17:D23,"VA") -> 1 | E24: =COUNTIF(E17:E23,"VA") -> 2 | F24: =COUNTIF(F17:F23,"VA") -> 1 | G24: =COUNTIF(G17:G23,"VA") -> 1 | H24: =COUNTIF(H17:H23,"VA") -> 1 | I24: =COUNTIF(I17:I23,"VA") -> 0 | J24: =COUNTIF(J17:J23,"VA") -> 0 | ... AG24: =COUNTIF(AG17:AG23,"VA") -> 0
C29: 22 | D29: DN | E29: RP | F29: VA | G29: VA | H29: VA | I29: WL | J29: WL | K29: 6/14 A | L29: 6/14 | M29: RP | N29: VA | O29: 6/14 | P29: 14/22 A | Q29: 14/22 | R29: RP | S29: FORM | T29: 22 | U29: 22 | V29: DN | W29: FOOT | X29: RP | Y29: 12:54/21 | Z29: 10/18;06 | AA29: Huissier | AB29: 11/19;06 | AC29: 7/15:06 | AD29: 14/22 | AF29: 6/14 | AG29: RP
C30: 22 | D30: DN | E30: RP | F30: VA | G30: VA | H30: VA | I30: WL | J30: WL | K30: 6/14 A | L30: 6/14 | M30: RP | N30: 6/14 | O30: 6/14 | P30: 14/22 A | Q30: 14/22 | R30: RP | S30: FORM | T30: 22 | U30: 22 | V30: DN | W30: RP | X30: RP | Y30: 12:54/21 | Z30: 10/18;06 | AA30: Huissier | AB30: 11/19;06 | AC30: 7/15:06 | AD30: 14/21:30 | AE30: 14/22 A | AF30: RP | AG30: 6/14
C32: 22 | D32: DN | E32: RP | F32: 6/14 | G32: 14/22 A | H32: 14/22 | I32: WL | J32: WL | K32: 6/14 | L32: 6/14 A | M32: RP | N32: 6/14 | O32: 6/14 | P32: 14/22 | Q32: 14/22 A | R32: RP | S32: FORM | T32: 22 | U32: 22 | V32: DN | W32: RP | X32: RP | Y32: 12:54/21 | Z32: 10/18;06 | AA32: 10/18:06 | AB32: 11/19;06 | AC32: 7/15:06 | AE32: 6/14 | AF32: 14/22 | AG32: 8/16,06
C33: 22 | D33: DN | E33: RP | F33: 8/16,06 | G33: 6/14 | H33: 6/14 | I33: WL | J33: WL | K33: 6/14 | L33: 6/14 | M33: RP | N33: 6/14 A | O33: 6/14 | P33: 14/22 | Q33: 14/22 | R33: RP | S33: FORM | T33: 22 | U33: 22 | V33: DN | W33: RP | X33: RP | Y33: 12:54/21 | Z33: 10/18;06 | AA33: 10/18:06 | AB33: 11/19;06 | AC33: 7/15:06 | AD33: 6/14 A | AF33: 14/22 | AG33: RP
C34: 22 | D34: DN | E34: RP | F34: 6/14 | G34: 14/22 | H34: 14/22 A | I34: WL | J34: WL | K34: 6/14 | L34: 6/14 | M34: RP | N34: 6/14 A | O34: 6/14 | P34: 14/22 | Q34: 14/22 | R34: RP | S34: FORM | T34: 22 | U34: 22 | V34: DN | W34: RP | X34: RP | Y34: 12:54/21 | Z34: 10/18;06 | AA34: 10/18:06 | AB34: 11/19;06 | AC34: 7/15:06 | AD34: 14/21:30 | AE34: 14/22 | AF34: RP | AG34: RP
C35: 22 | D35: DN | E35: RP | F35: 6/14 A | G35: 14/22 | H35: 14/22 | I35: WL | J35: WL | K35: 6/14 | L35: 6/14 | M35: RP | N35: 6/14 | O35: 6/14 A | P35: 14/22 | Q35: 14/22 | R35: RP | S35: FORM | T35: 22 | U35: 22 | V35: DN | W35: FOOT | X35: RP | Y35: 12:54/21 | Z35: 10/18;06 | AA35: 10/18:06 | AB35: 11/19;06 | AC35: 7/15:06 | AD35: WL | AE35: WL | AF35: 6/14 | AG35: 8/16,06
C36: 22 | D36: DN | E36: RP | F36: 6/14 | G36: 14/22 | H36: 14/22 | I36: WL | J36: WL | K36: RP | L36: FORM | M36: FORM | N36: FORM | O36: FORM | P36: 14/22 | Q36: 14/21 | R36: FORM | S36: FORM | T36: RP | U36: FORM | V36: RP | W36: FOOT | X36: RP | Y36: FORM | Z36: RP | AA36: FORM | AB36: FORM | AC36: FORM | AE36: 6/14 A | AF36: FORM | AG36: 8/16,06
C37: VA | D37: VA | E37: VA | F37: VA | G37: VA | H37: VA | I37: WL | J37: WL | K37: 6/14 | L37: 6/14 | M37: RP | N37: 6/14 | O37: 6/14 | P37: 14/22 | Q37: 14/22 | R37: RP | S37: FORM | T37: 22 | U37: 22 | V37: DN | W37: FOOT | X37: RP | Y37: 12:54/21 | Z37: 12:54/21 | AA37: 10/18:06 | AB37: 7/15:06 | AC37: 7/15:06 | AD37: 6/14 | AF37: 8/16,06 | AG37: 8/16,06
C40: WL | D40: 6/14 | E40: 6/14 | F40: RP | G40: 6/14 | H40: 6/14 | I40: 14/22 | J40: 14/22 | K40: RP | L40: VA | M40: VA | N40: VA | O40: VA | P40: VA | Q40: VA | R40: VA | S40: VA | T40: VA | U40: VA | V40: VA | W40: VA | X40: VA | Y40: VA | Z40: VA | AA40: VA | AB40: VA | AC40: VA | AD40: VA | AE40: VA | AF40: VA | AG40: VA
C41: VA | D41: VA | E41: VA | F41: RP | G41: 6/14 | H41: 6/14 | I41: 14/22 | J41: 14/22 | K41: RP | L41: 6/14 | M41: 22 | N41: 22 | O41: 22 | P41: DN | Q41: RP | R41: FORM | S41: 12:54/21 | T41: 6/14 | U41: 12:54/21 | V41: 7/15:06 | Y41: 6/14 | Z41: 8/16,06 | AA41: 6/14 | AB41: 14/22 | AC41: 14/22 | AD41: WL | AE41: WL | AF41: 22 | AG41: 22
C42: WL | D42: 6/14 | E42: 6/14 | F42: RP | G42: 6/14 | H42: 6/14 | I42: 14/22 | J42: 14/22 | K42: RP | L42: 14/22 | M42: 22 | N42: 22 | O42: DN | P42: 22 | Q42: DN | R42: FORM | S42: 14/22 | T42: RP | U42: 12:54/21 | V42: 8/17 | Y42: 8/16,06 | Z42: 6/14 | AA42: 6/14 | AB42: 14/22 | AC42: 14/22 | AD42: WL | AE42: WL | AF42: 22 | AG42: 22
C44: WL | D44: 6/14 | E44: 6/14 | F44: RP | G44: 6/14 | H44: 6/14 | I44: 14/22 | J44: 14/22 | K44: RP | L44: 14/22 | M44: 22 | N44: 22 | O44: DN | P44: FOOT | Q44: RP | R44: FORM | S44: 14/22 | T44: 12:54/21 | U44: 12:54/21 | V44: 8/17 | Y44: 8/16,06 | Z44: 8/16,06 | AA44: 6/14 | AB44: 14/22 | AC44: 14/22 | AD44: WL | AE44: WL | AF44: 22 | AG44: 22
C45: WL | D45: 6/14 | E45: 6/14 | F45: RP | G45: 6/14 | H45: 6/14 | I45: 14/22 | J45: 14/22 | K45: RP | L45: 10/18:06 | M45: 22 | N45: 22 | O45: DN | P45: FOOT | Q45: RP | R45: FORM | S45: 12:54/21 | T45: 12:54/21 | U45: 12:54/21 | V45: 8/17 | Y45: 8/16,06 | Z45: 8/16,06 | AA45: 6/14 | AB45: 14/22 | AC45: 14/22 | AD45: WL | AE45: WL | AF45: 22 | AG45: 22
C46: WL | D46: 6/14 | E46: 6/14 | F46: RP | G46: 6/14 | H46: 6/14 | I46: 14/22 | J46: 14/22 | K46: RP | L46: 8/16,06 | M46: 22 | N46: 22 | O46: DN | P46: FOOT | Q46: RP | R46: FORM | S46: 12:54/21 | T46: 14/22 | U46: 12:54/21 | V46: 8/17 | W46: FOOT | Y46: 8/16,06 | Z46: 8/16,06 | AA46: 6/14 | AB46: 14/22 | AC46: 14/22 | AD46: WL | AE46: WL | AF46: 22 | AG46: 22
C47: VA | D47: VA | E47: VA | F47: VA | G47: 6/14 | H47: 6/14 | I47: 14/22 | J47: 14/22 | K47: RP | L47: 8/16,06 | M47: 22 | N47: 22 | O47: DN | P47: FOOT | Q47: RP | R47: FORM | S47: 12:54/21 | T47: 7/15:06 | U47: 12:54/21 | V47: 8/17 | W47: FOOT | Y47: 8/16,06 | Z47: RP | AA47: 6/14 | AB47: 14/22 | AC47: 14/22 | AD47: WL | AE47: WL | AF47: 22 | AG47: 22
C48: VA | D48: VA | E48: VA | F48: RP | G48: 6/14 | H48: 6/14 | I48: 14/22 | J48: 14/22 | K48: RP | L48: 14/22 | M48: 22 | N48: 22 | O48: DN | P48: RP | Q48: RP | R48: FORM | S48: 7/15:06 | T48: 14/22 | U48: Huissier | V48: 8/17 | Y48: 8/16,06 | Z48: 8/16,06 | AA48: 6/14 | AB48: 14/22 | AC48: 14/22 | AD48: WL | AE48: WL | AF48: 22 | AG48: 22
C52: WL | D52: ADM | E52: ADM+AAF | F52: 22 | G52: 22 | H52: DN | I52: RP | J52: RP | K52: PACOS | L52: 10/18:06 | M52: 10/18:06 | N52: 12:54/21 | O52: 7/15:06 | P52: 14/22 | R52: 8/16,06 | S52: FORM | T52: 6/14 | U52: 14/22 | V52: 14/22+R | W52: WL | X52: WL | Y52: 22 | Z52: 22 | AA52: DN | AB52: 8/16,06 | AC52: RP | AD52: 6/14 | AE52: 6/14 | AF52: 14/22 | AG52: 14/22
C53: 14/22 | D53: RP | E53: 6/14 | F53: 22 | G53: 22 | H53: DN | I53: RP | J53: RP | K53: PACOS | L53: 10/18:06 | M53: 10/18:06 | N53: 12:54/21 | O53: RP | P53: 6/14 | Q53: 22 | R53: DN | S53: FORM | T53: 6/14 | U53: 14/22 | V53: 14/22+R | W53: WL | X53: WL | Y53: 22 | Z53: 22 | AA53: DN | AB53: 8/16,06 | AC53: RP | AD53: 6/14 | AE53: 6/14 | AF53: 14/22 | AG53: 14/22
C54: VA | D54: VA | E54: VA | F54: VA | G54: 22 | H54: DN | I54: RP | J54: RP | K54: 12:54/21 | L54: 10/18:06 | M54: 10/18:06 | N54: 12:54/21 | O54: 7/15:06 | P54: FOOT | R54: 8/16,06 | S54: FORM | T54: 6/14 | U54: 14/22 | V54: 14/22+R | W54: WL | X54: WL | Y54: 22 | Z54: 22 | AA54: DN | AB54: 14/22 | AC54: RP | AD54: 6/14 | AE54: 6/14 | AF54: 14/22 | AG54: 14/22
C55: 14/22 | D55: RP | E55: PALAIS | F55: 22 | G55: 22 | H55: DN | I55: RP | J55: RP | K55: PACOS | L55: 10/18:06 | M55: 10/18:06 | N55: 12:54/21 | O55: 7/15:06 | P55: FOOT | R55: 8/16,06 | S55: FORM | T55: 6/14 | U55: 14/22 | V55: 14/22+R | W55: WL | X55: WL | Y55: 22 | Z55: 22 | AA55: DN | AB55: 6/14 | AC55: RP | AD55: 6/14 | AE55: 6/14 | AF55: 14/22 | AG55: 14/22
C56: 14/22 | D56: RP | E56: VA | F56: VA | G56: VA | H56: VA | I56: VA | J56: VA | K56: PACOS | L56: VA | M56: 10/18:06 | N56: 12:54/21 | O56: 7/15:06 | P56: FOOT | R56: 14/22 | S56: FORM | T56: 6/14 | U56: 14/22 | V56: 14/22+R | W56: WL | X56: WL | Y56: 22 | Z56: 22 | AA56: DN | AB56: RP | AC56: RP | AD56: 6/14 | AE56: 6/14 | AF56: 14/22 | AG56: 14/22
C57: 14/22 | D57: RP | E57: PALAIS | F57: 22 | G57: 22 | H57: DN | I57: RP | J57: RP | K57: PACOS | L57: 10/18:06 | M57: 10/18:06 | N57: 12:54/21 | O57: RP | P57: FOOT | Q57: 6/14 | R57: 14/22 | S57: FORM | T57: 6/14 | U57: 14/22 | V57: 14/22+R | W57: WL | X57: WL | Y57: 22 | Z57: 22 | AA57: DN | AB57: 14/22 | AC57: RP | AD57: 6/14 | AE57: 6/14 | AF57: 14/22 | AG57: 14/22
C58: 14/22 | D58: 14/22 | E58: 14/22 | F58: 14/22 | G58: 14/22 | H58: 14/22 | I58: 14/22 | J58: 14/22
C59: 14/22 | D59: RP | E59: 6/14 | F59: 22 | G59: 22 | H59: DN | I59: RP | J59: RP | K59: VA | L59: VA | M59: VA | N59: VA | O59: VA | Q59: 14/22 | R59: 8/16,06 | S59: FORM | T59: 6/14 | U59: 14/22 | V59: 14/22+R | W59: WL | X59: WL | Y59: 22 | Z59: 22 | AA59: DN | AB59: 8/16,06 | AC59: RP | AD59: 6/14 | AE59: 6/14 | AF59: 14/22 | AG59: 14/22
C62: RP | D62: VA | E62: VA | F62: VA | G62: VA | H62: VA | K62: 6/14 | L62: 8/16,06 | M62: 6/14 | N62: 14/22 | O62: 14/22 | P62: WL | Q62: WL | R62: 22 | S62: 22 | T62: DN | U62: FORM | V62: RP | W62: 6/14 | X62: 6/14 | Y62: 14/22+R | Z62: 14/22 | AA62: 14/22 | AB62: RP | AC62: 22 | AD62: 22 | AE62: 22 | AF62: DN | AG62: RP
C63: RP | D63: 6/14 | E63: 6/14 | F63: 10/18:06 | G63: 7/15:06 | H63: 7/15:06 | J63: 6/14 | K63: 8/16,06 | L63: 8/16,06 | M63: 6/14 | N63: 14/22 | O63: 14/22 | P63: WL | Q63: WL | R63: 22 | S63: 22 | T63: DN | U63: FORM | V63: RP | W63: 6/14 | X63: 6/14 | Y63: 14/22+R | Z63: 14/22 | AA63: 14/22 | AB63: RP | AC63: 22 | AD63: 22 | AE63: 22 | AF63: DN | AG63: RP
C64: RP | D64: 14/22 | E64: 12:54/21 | F64: 10/18:06 | G64: 7/15:06 | H64: 7/15:06 | K64: 6/14 | L64: 6/14 + AAF | M64: 6/14 | N64: 14/22 | O64: 14/22 | P64: WL | Q64: WL | R64: 22 | S64: 22 | T64: DN | U64: FORM | V64: RP | W64: 6/14 | X64: 6/14 | Y64: 14/22+R | Z64: 14/22 | AA64: 14/22 | AB64: RP | AC64: 22 | AD64: 22 | AE64: 22 | AF64: DN | AG64: RP
C65: DN | D65: RP | E65: 14/22 | F65: 22 | G65: 22 | H65: DN | I65: 14/22 | K65: 14/22 | L65: 8/16,06 | M65: 6/14 | N65: 14/22 | O65: 14/22 | P65: WL | Q65: WL | R65: 22 | S65: 22 | T65: DN | U65: FORM | V65: RP | W65: 6/14 | X65: 6/14 | Y65: 14/22+R | Z65: 14/22 | AA65: 14/22 | AB65: RP | AC65: 22 | AD65: 22 | AE65: 22 | AF65: DN | AG65: RP
C66: DN | D66: RP | E66: 14/22 | F66: 22 | G66: 22 | H66: DN | J66: 14/22 | K66: 8/16,06 | L66: 8/16,06 | M66: 6/14 | N66: 14/22 | O66: 14/22 | P66: WL | Q66: WL | R66: 22 | S66: 22 | T66: DN | U66: FORM | V66: RP | W66: 6/14 | X66: 6/14 | Y66: 14/22+R | Z66: 14/22 | AA66: 14/22 | AB66: RP | AC66: 22 | AD66: 22 | AE66: 22 | AF66: DN | AG66: RP
C67: VA | D67: 6/14 | E67: 12:54/21 | F67: 10/18:06 | G67: 8/16:06 | H67: 7/15:06 | K67: VA | L67: VA | M67: VA | N67: VA | O67: VA | P67: WL | Q67: WL | R67: 22 | S67: 22 | T67: DN | U67: FORM | V67: RP | W67: 6/14 | X67: 6/14 | Y67: 14/22+R | Z67: 14/22 | AA67: 14/22 | AB67: RP | AC67: 22 | AD67: 22 | AE67: 22 | AF67: DN | AG67: RP
C68: RP | D68: 12:54/21 | E68: 12:54/21 | F68: 10/18:06 | G68: 7/15:06 | H68: 7/15:06 | J68: 6/14 | K68: 14/22 | L68: RP | M68: 6/14 | N68: 14/22 | O68: 14/22 | P68: WL | Q68: WL | R68: 22 | S68: 22 | T68: DN | U68: FORM | V68: RP | W68: 6/14 | X68: 6/14 | Y68: 14/22+R | Z68: 14/22 | AA68: 14/22 | AB68: RP | AC68: 22 | AD68: 22 | AE68: 22 | AF68: DN | AG68: RP
C69: VA | D69: 6/14 | E69: 8/16:06+AAF | F69: 10/18:06 | G69: RP | H69: 7/15:06 | I69: 6/14 | K69: VA | L69: EX SMV | M69: 6/14 | N69: SMV+E | O69: 14/22 | P69: WL | Q69: WL | R69: 22 | S69: 22 | T69: DN | U69: FORM | V69: RP | W69: 6/14 | X69: 6/14 | Y69: 14/22+R | Z69: 14/22 | AA69: 14/22 | AB69: RP | AC69: 22 | AD69: 22 | AE69: 22 | AF69: DN | AG69: RP
C70: VA | D70: 6/14 | E70: 14/22 | F70: 14/22 | G70: VA | H70: VA | I70: VA | J70: VA | K70: 8/16,06 | L70: 8/16,06 | M70: 6/14 | N70: 14/22 | O70: 14/22 | P70: WL | Q70: WL | R70: 22 | S70: 22 | T70: DN | U70: FORM | V70: RP | W70: 6/14 | X70: 6/14 | Y70: 14/22+R | Z70: 14/22 | AA70: 14/22 | AB70: RP | AC70: 22 | AD70: 22 | AE70: 22 | AF70: DN | AG70: RP
C73: 14/22 | D73: RP | E73: 6/14 | F73: 6/14 | G73: 14/22 | H73: 14/22 | I73: WL | J73: WL | K73: 22 | L73: 22 | M73: DN | N73: 14/22 | O73: RP | P73: 6/14 | Q73: 6/14 | R73: 14/22+R | S73: 14/22 | T73: 14/22 | U73: RP | V73: 22 | W73: 22 | X73: 22 | Y73: DN | Z73: RP | AA73: 8/16,06 | AB73: FORM | AC73: 14/22 | AD73: WL | AE73: WL | AF73: 6/14 | AG73: 6/14
C74: 14/22 | D74: VA | E74: VA | F74: VA | G74: VA | H74: VA | I74: WL | J74: WL | K74: 22 | L74: 22 | M74: DN | N74: SMV+E | O74: RP | P74: 6/14 | Q74: 6/14 | R74: 14/22+R | S74: 14/22 | T74: 14/22 | U74: RP | V74: 22 | W74: 22 | X74: 22 | Y74: DN | Z74: RP | AA74: 6/14 | AB74: FORM | AC74: 6/14 | AD74: WL | AE74: WL | AF74: 6/14 | AG74: 6/14
C76: 22 | D76: DN | E76: RP | F76: 6/14 | G76: 14/22 | H76: 14/22 | I76: WL | J76: WL | K76: 22 | L76: 22 | M76: DN | N76: 8/16,06 | O76: RP | P76: 6/14 | Q76: 6/14 | R76: 14/22+R | S76: 14/22 | T76: 14/22 | U76: RP | V76: 22 | W76: 22 | X76: 22 | Y76: DN | Z76: RP | AA76: 8/16,06 | AB76: FORM | AC76: 14/22 | AD76: WL | AE76: WL | AF76: 6/14 | AG76: 6/14
C77: 14/22 | D77: 14/22 | E77: 8/16,06 | F77: 6/14 | G77: 14/22 | H77: 14/22 | I77: WL | J77: WL | K77: 22 | L77: 22 | M77: DN | N77: 6/14 | O77: RP | P77: 6/14 | Q77: 6/14 | R77: 14/22+R | S77: 14/22 | T77: 14/22 | U77: RP | V77: 22 | W77: 22 | X77: 22 | Y77: DN | Z77: RP | AA77: 6/14 | AB77: FORM | AC77: 8/16,06 | AD77: WL | AE77: WL | AF77: 6/14 | AG77: 6/14
C79: VA | D79: VA | E79: VA | F79: VA | G79: VA | H79: VA | I79: WL | J79: WL | K79: 22 | L79: 22 | M79: DN | N79: 8/16,06 | O79: RP | P79: 6/14 | Q79: 6/14 | R79: 14/22+R | S79: 14/22 | T79: 14/22 | U79: RP | V79: 22 | W79: 22 | X79: 22 | Y79: DN | Z79: RP | AA79: 8/16,06 | AB79: FORM | AC79: 8/16,06 | AD79: WL | AE79: WL | AF79: 6/14 | AG79: 6/14
C80: 22 | D80: DN | E80: 8/16,06 | F80: 6/14 | G80: 14/22 | H80: 14/22 | I80: WL | J80: WL | K80: 22 | L80: 22 | M80: DN | N80: RP | O80: RP | P80: 6/14 | Q80: 6/14 | R80: 14/22+R | S80: 14/22 | T80: 14/22 | U80: RP | V80: 22 | W80: 22 | X80: 22 | Y80: DN | Z80: RP | AA80: 8/16,06 | AB80: FORM | AC80: 8/16,06 | AD80: WL | AE80: WL | AF80: 6/14 | AG80: 6/14
C81: 22 | D81: DN | E81: RP | F81: 6/14 | G81: 14/22 | H81: 14/22 | I81: WL | J81: WL | K81: 22 | L81: 22 | M81: DN | N81: 8/16,06 | O81: RP | P81: 6/14 | Q81: 6/14 | R81: 14/22+R | S81: 14/22 | T81: 14/22 | U81: RP | V81: 22 | W81: 22 | X81: 22 | Y81: DN | Z81: RP | AA81: 8/16,06 | AB81: FORM | AC81: 8/16,06 | AD81: WL | AE81: WL | AF81: 6/14 | AG81: 6/14
C84: WL | D84: 22 | E84: 22 | F84: DN | G84: 8/16,06 | H84: RP | I84: 6/14 | J84: 6/14 | K84: 14/22 | L84: 14/22 | M84: 14/22+R | N84: RP | O84: 22 | P84: 22 | Q84: 21 | R84: DN | S84: RP | T84: FORM | U84: PACOS | V84: 8/16,06 | W84: WL | X84: WL | Y84: 6/14 | Z84: 6/14 | AA84: RP | AB84: 6/14 | AC84: 6/14 | AD84: 14/22 | AE84: 14/22 | AF84: RP | AG84: 8/16,06
C85: WL | D85: 22 | E85: 22 | F85: DN | G85: 8/16,06 | H85: RP | I85: 6/14 | J85: 6/14 | K85: 14/22 | L85: 14/22 | M85: 14/22+R | N85: RP | O85: 22 | P85: 22 | Q85: 22 | R85: DN | S85: RP | T85: FORM | U85: 14/22 | V85: 8/16,06 | W85: WL | X85: WL | Y85: 6/14 | Z85: 6/14 | AA85: RP | AB85: 6/14 | AC85: 6/14 | AD85: 14/22 | AE85: 14/22 | AF85: RP | AG85: 8/16,06
C86: WL | D86: 22 | E86: 22 | F86: DN | G86: PALAIS | H86: RP | I86: 6/14 | J86: 6/14 | K86: 14/22 | L86: VA | M86: 14/22+R | N86: RP | O86: 22 | P86: 22 | Q86: 22 | R86: DN | S86: RP | T86: FORM | U86: PACOS | V86: 14/22 | W86: WL | X86: WL | Y86: 6/14 | Z86: 6/14 | AA86: RP | AB86: 6/14 | AC86: 6/14 | AD86: 14/22 | AE86: 14/22 | AF86: RP | AG86: RP
C87: WL | D87: 22 | E87: 22 | F87: DN | G87: PALAIS | H87: RP | I87: 6/14 | J87: 6/14 | K87: 14/22 | L87: 14/22 | M87: 14/22+R | N87: RP | O87: 22 | P87: 22 | Q87: 22 | R87: DN | S87: RP | T87: FORM | U87: Huissier | V87: 14/22 | W87: WL | X87: WL | Y87: 6/14 | Z87: 6/14 | AA87: RP | AB87: 6/14 | AC87: 6/14 | AD87: 14/22 | AE87: 14/22 | AF87: RP | AG87: RP
... C103: 6/14 | D103: VA | E103: VA | F103: VA | G103: RP | H103: 22 | I103: 22 | J103: 22 | K103: DN | L103: RP | M103: 6/14 | N103: 8/16,06 | O103: 8/16,06 | P103: WL | Q103: WL | R103: 6/14 | S103: 6/14 | T103: RP | U103: 6/14 | V103: 6/14 | W103: 14/22 | X103: 14/22 | Y103: RP | Z103: FORM | AA103: 22 | AB103: 22 | AC103: DN | AD103: RP | AE103: RP | AF103: 12:54/21 | AG103: 8/16:06
B104: Quota VA | C104: =SUM(COUNTIF(C29:C36,"VA"))+(COUNTIF(C40:C47,"VA"))+(COUNTIF(C51:C58,"VA"))+(COUNTIF(C62:C69,"VA"))+(COUNTIF(C73:C80,"VA"))+(COUNTIF(C84:C91,"VA"))+(COUNTIF(C95:C102,"VA")) -> 6 | D104: =SUM(COUNTIF(D29:D36,"VA"))+(COUNTIF(D40:D47,"VA"))+(COUNTIF(D51:D58,"VA"))+(COUNTIF(D62:D69,"VA"))+(COUNTIF(D73:D80,"VA"))+(COUNTIF(D84:D91,"VA"))+(COUNTIF(D95:D102,"VA")) -> 7 | E104: =SUM(COUNTIF(E29:E36,"VA"))+(COUNTIF(E40:E47,"VA"))+(COUNTIF(E51:E58,"VA"))+(COUNTIF(E62:E69,"VA"))+(COUNTIF(E73:E80,"VA"))+(COUNTIF(E84:E91,"VA"))+(COUNTIF(E95:E102,"VA")) -> 9 | F104: =SUM(COUNTIF(F29:F36,"VA"))+(COUNTIF(F40:F47,"VA"))+(COUNTIF(F51:F58,"VA"))+(COUNTIF(F62:F69,"VA"))+(COUNTIF(F73:F80,"VA"))+(COUNTIF(F84:F91,"VA"))+(COUNTIF(F95:F102,"VA")) -> 9 | G104: =SUM(COUNTIF(G29:G36,"VA"))+(COUNTIF(G40:G47,"VA"))+(COUNTIF(G51:G58,"VA"))+(COUNTIF(G62:G69,"VA"))+(COUNTIF(G73:G80,"VA"))+(COUNTIF(G84:G91,"VA"))+(COUNTIF(G95:G102,"VA")) -> 6 | H104: =SUM(COUNTIF(H29:H36,"VA"))+(COUNTIF(H40:H47,"VA"))+(COUNTIF(H51:H58,"VA"))+(COUNTIF(H62:H69,"VA"))+(COUNTIF(H73:H80,"VA"))+(COUNTIF(H84:H91,"VA"))+(COUNTIF(H95:H102,"VA")) -> 6 | I104: =SUM(COUNTIF(I29:I36,"VA"))+(COUNTIF(I40:I47,"VA"))+(COUNTIF(I51:I58,"VA"))+(COUNTIF(I62:I69,"VA"))+(COUNTIF(I73:I80,"VA"))+(COUNTIF(I84:I91,"VA"))+(COUNTIF(I95:I102,"VA")) -> 1 | J104: =SUM(COUNTIF(J29:J36,"VA"))+(COUNTIF(J40:J47,"VA"))+(COUNTIF(J51:J58,"VA"))+(COUNTIF(J62:J69,"VA"))+(COUNTIF(J73:J80,"VA"))+(COUNTIF(J84:J91,"VA"))+(COUNTIF(J95:J102,"VA")) -> 2 | ... AG104: =SUM(COUNTIF(AG29:AG36,"VA"))+(COUNTIF(AG40:AG47,"VA"))+(COUNTIF(AG51:AG58,"VA"))+(COUNTIF(AG62:AG69,"VA"))+(COUNTIF(AG73:AG80,"VA"))+(COUNTIF(AG84:AG91,"VA"))+(COUNTIF(AG95:AG102,"VA")) -> 1
B107: Autres
C108: VA | D108: VA | E108: VA | F108: 14/22 | I108: 6/14 | J108: 6/14 | K108: 14/22 | L108: 14/22 | M108: 14/22+R | N108: RP | O108: 8/16,06 | P108: 6/14 | Q108: 6/14 | S108: FORM | T108: 6/14 | Y108: 6/14 | Z108: 6/14 | AA108: RP | AB108: 6/14 | AC108: 6/14 | AD108: 14/22 | AE108: RP | AF108: 6/14 | AG108: 6/14
C113: DN | E113: 6/14 | F113: 6/14 | G113: 14/22 | H113: 14/22 | I113: 14/22 | K113: 6/14 | L113: 6/14 | M113: 14/22 | N113: 14/22 | O113: OPS | P113: 14/22 | W113: OPS | X113: FOOT
M115: OPS | P115: FOOT | Y115: 6/14 | Z115: 6/14 | AA115: 6/14 | AB115: 14/22 | AC115: 14/22 | AD115: 14/22 | AF115: 6/14 | AG115: 6/14
M116: OPS | P116: FOOT | Y116: 6/14 | Z116: 6/14 | AA116: 6/14 | AB116: 14/22 | AC116: 14/22 | AD116: 14/22 | AF116: 6/14 | AG116: 6/14
N117: OPS | R117: 6/14 | S117: 6/14 | T117: 6/14 | U117: 14/22 | V117: 14/22 | W117: OPS | Y117: 14/22 | Z117: 14/22 | AA117: 14/22 | AB117: 22 | AC117: DN | AD117: 6/14
N118: OPS | R118: 6/14 | S118: 6/14 | T118: 6/14 | U118: 14/22 | V118: 14/22 | W118: OPS | X118: FOOT | Y118: RP | Z118: 14/22 | AA118: 14/22 | AB118: 22 | AC118: DN | AD118: 6/14
B123: LEMLIN | D123: 14/22 | E123: 7,45/16,15 | F123: 14/22 | G123: 7,45/16,15 | H123: 8/16.06 | K123: 7,45/16,15 | L123: 7,45/16,15 | M123: 10/18 | N123: 7,45/16,15 | O123: 7,45/16,15 | R123: 7,45/16,15 | S123: 7,45/16,15 | T123: 7,45/16,15 | U123: 7,45/16,15 | V123: 7,45/16,15 | W123: 13.3/21 | Y123: 7,45/16,15 | Z123: 7,45/16,15 | AA123: 7,45/16,15 | AB123: 7,45/16,15 | AC123: 7,45/16,15 | AF123: 7,45/16,15 | AG123: 7,45/16,15
B126: a | C126: 14/22 | D126: 9/17.06 | E126: 9/17.06 | F126: 7/15 | G126: 7/15 | H126: 7/15 | I126: WL | J126: WL | K126: 7/15 | L126: 7/15 | M126: 10/18 | N126: RP | O126: 8/16.06 | P126: 7/15 | Q126: 7/15 | R126: 14/22 | S126: 14/22 | T126: RP | U126: 9/17.06 | V126: 9/17.06 | W126: VA | X126: VA | Y126: VA | Z126: VA | AA126: VA | AB126: VA | AC126: VA | AD126: VA | AE126: VA | AF126: VA | AG126: VA
B127: b | D127: 7/15 | E127: 9/17.06 | F127: 7/15 | G127: 7/15 | H127: 7/15 | I127: WL | J127: WL | K127: 7/15 | L127: 7/15 | M127: 10/18 | N127: 9/17.06 | O127: RP | P127: 7/15 | Q127: 7/15 | R127: 14/22 | S127: 14/22 | T127: RP | U127: 9/17.06 | V127: 9/17.06 | W127: 13.3/21 | X127: RP | Y127: P | Z127: RP | AA127: 14/22 | AB127: 14/22 | AC127: P | AD127: WL | AE127: WL | AF127: 7/15 | AG127: 7/15
C128: WL | D128: 7/15 | E128: 7/15 | F128: P | G128: P | H128: RP | I128: 7/15 | J128: 7/15 | K128: 14/22 | L128: 14/22 | M128: RP | N128: P | O128: P | P128: RP | Q128: RP | R128: P | S128: RP | T128: 14/22 | U128: 14/22 | V128: P | W128: 13.3/21 | X128: FOOT | Y128: 14/22 | Z128: 14/22 | AA128: P | AB128: RP | AC128: 14/22 | AD128: 14/22 | AE128: 14/22 | AF128: RP | AG128: P
C129: WL | D129: 7/15 | E129: 7/15 | F129: P | G129: P | H129: RP | I129: 7/15 | J129: 7/15 | K129: 14/22 | L129: 14/22 | M129: RP | N129: P | O129: P | P129: RP | Q129: RP | R129: P | S129: RP | T129: 14/22 | U129: 14/22 | V129: P | W129: WL | X129: WL | Y129: P | Z129: P | AA129: P | AB129: RP | AC129: 14/22 | AD129: 14/22 | AE129: 14/22 | AF129: RP | AG129: P
C130: 7/15 | D130: VA | E130: VA | F130: RP | G130: VA | H130: VA | I130: VA | J130: VA | K130: VA | L130: RP | M130: 14/22 | N130: 14/22 | O130: 9/17.06 | P130: WL | Q130: WL | R130: 7/15 | S130: 8/16.06 | T130: 7/15.06 | U130: RP | V130: 14/22 | W130: 14/22 | X130: 14/22 | Y130: RP | Z130: 8/16.06 | AA130: 7/15 | AB130: 7/15.06 | AC130: 14/22 | AE130: 14/22 | AF130: 9/17.06 | AG130: 8/16.06
C131: 7/15 | D131: 14/22 | E131: 14/22 | F131: RP | G131: 7/15.06 | H131: 8/16.06 | I131: RP | J131: RP | K131: 14/22 | L131: RP | M131: 14/22 | N131: 14/22 | O131: VA | P131: VA | Q131: VA | R131: VA | S131: 7/15 | T131: 8/16.06 | U131: RP | V131: 14/22 | W131: 14/22 | X131: 14/22 | Y131: RP | Z131: 8/16.06 | AA131: 7/15 | AB131: 8/16.06 | AC131: 8/16.06 | AD131: 14/22 | AF131: 8/16.06 | AG131: 8/16.06
C132: RP | D132: 14/22 | E132: VA | F132: 14/22 | G132: 14/22 | H132: VA | I132: VA | J132: VA | K132: VA | L132: VA | M132: VA | N132: VA | O132: VA | P132: VA | Q132: VA | R132: RP | S132: P | T132: 8.3/16.36 | U132: P | V132: P | W132: 13.3/21 | X132: FOOT | Y132: P | Z132: P | AA132: RP | AB132: 7/15 | AC132: 7/15 | AD132: WL | AE132: WL | AF132: RP | AG132: 7/15
C133: VA | D133: VA | E133: RP | F133: VA | G133: VA | H133: VA | I133: WL | J133: WL | K133: RP | L133: VA | M133: 10/18 | N133: 8.3/16.36 | O133: 14/22 | P133: 14/22 | Q133: 14/22 | R133: RP | S133: 8.3/16.36 | T133: FOOT | U133: 14/22 | V133: 8.3/16.36 | W133: 7/15 | X133: 7/15 | Y133: 8/16.06 | Z133: 8/16.06 | AA133: 8.3/16.36 | AB133: 7/15 | AC133: 7/15 | AD133: 7/15 | AE133: 7/15 | AF133: RP | AG133: VA
C134: VA | D134: VA | E134: VA | F134: VA | G134: RP | H134: 14/22 | I134: 14/22 | J134: 14/22 | K134: RP | L134: VA | M134: 10/18 | N134: 7.3/15.36 | O134: 14/22 | P134: 14/22 | Q134: 14/22 | R134: 8/16.06 | S134: 7.3/15.36 | T134: 7/15 | U134: 7/15 | V134: 7/15 | W134: VA | X134: VA | Y134: 7/15 | Z134: 7/15 | AA134: VA | AB134: VA | AC134: RP | AD134: WL | AE134: FOOT | AF134: 14/22 | AG134: 14/22
C135: WL | D135: 7.3/15.36 | E135: 7/15 | F135: 14/22 | G135: RP | H135: 14/22 | I135: 14/22 | J135: 14/22 | K135: RP | L135: 14/22 | M135: 10/18 | N135: 7.3/15.36 | O135: VA | R135: 8/16.06 | S135: 7.3/15.36 | T135: 7/15 | U135: 7/15 | V135: 7/15 | W135: 13.3/21 | X135: WL | Y135: 7/15 | Z135: 7/15 | AA135: 14/22 | AB135: 8/16.06 | AC135: RP | AD135: 7/15 | AE135: 7/15 | AF135: 14/22 | AG135: 14/22
C136: VA | D136: RP | E136: VA | F136: VA | G136: VA | H136: 8/16.06 | I136: 7/15 | J136: 7/15 | K136: P | L136: P | M136: 7/15 | N136: 7/15 | O136: 7/15 | P136: VA | Q136: WL | R136: 7/15 | S136: 7/15 | T136: P | U136: P | V136: RP | W136: 7/15 | X136: 7/15 | Y136: 14/22 | Z136: 14/22 | AA136: RP | AB136: P | AC136: P | AD136: RP | AE136: RP | AF136: P | AG136: RP
C137: 14/22 | D137: RP | E137: 14/22 | F137: 8/16.06 | G137: 14/22 | H137: 9/17.06 | K137: 9/17.06 | L137: 8/16.06 | M137: 7/15 | N137: 7/15 | O137: 7/15 | P137: WL | Q137: WL | R137: 7/15 | S137: 7/15 | T137: 14/22 | U137: 9/17.06 | V137: RP | W137: 7/15 | X137: 7/15 | Y137: 14/22 | Z137: 14/22 | AA137: RP | AB137: 14/22 | AC137: 9/17.06 | AD137: VA | AE137: VA | AF137: 7/15 | AG137: RP
B138: Quota VA | C138: =COUNTIF(C126:C137,"VA") -> 3 | D138: =COUNTIF(D126:D137,"VA") -> 3 | E138: =COUNTIF(E126:E137,"VA") -> 4 | F138: =COUNTIF(F126:F137,"VA") -> 3 | G138: =COUNTIF(G126:G137,"VA") -> 3 | H138: =COUNTIF(H126:H137,"VA") -> 3 | I138: =COUNTIF(I126:I137,"VA") -> 2 | J138: =COUNTIF(J126:J137,"VA") -> 2 | ... AG138: =COUNTIF(AG126:AG137,"VA") -> 2
