Workbook

Sheet Feuil1
A1: Nom | B1: # Max
A2: Marc | B2: {=MAX(_xlfn._xlws.FILTER(Feuil2!B2:E18,Feuil2!A2:A18=A2))} -> 150
A3: Benoit | B3: {=MAX(_xlfn._xlws.FILTER(Feuil2!B3:E19,Feuil2!A3:A19=A3))} -> 250
A4: Miguel | B4: {=MAX(_xlfn._xlws.FILTER(Feuil2!B4:E20,Feuil2!A4:A20=A4))} -> 200
A5: Frederique | B5: {=MAX(_xlfn._xlws.FILTER(Feuil2!B5:E21,Feuil2!A5:A21=A5))} -> 205
A6: Sebastien | B6: {=MAX(_xlfn._xlws.FILTER(Feuil2!B6:E22,Feuil2!A6:A22=A6))} -> 87
A7: Sylvain | B7: {=MAX(_xlfn._xlws.FILTER(Feuil2!B7:E23,Feuil2!A7:A23=A7))} -> #VALUE!
A8: Luc | B8: {=MAX(_xlfn._xlws.FILTER(Feuil2!B8:E24,Feuil2!A8:A24=A8))} -> #VALUE!

Sheet Feuil2
A1: Nom | B1: De | C1: À | D1: De | E1: À | F1: Total | G1: Nom | H1: De | I1: À | J1: De | K1: À | L1: Total
A2: Benoit | B2: 0 | C2: 45 | F2: =(C2-B2)+(E2-D2) -> 45 | G2: Sylvain | H2: 0 | I2: 10 | L2: =(I2-H2)+(K2-J2) -> 10
A3: Benoit | B3: 45 | C3: 60 | D3: 60 | E3: 120 | F3: =(C3-B3)+(E3-D3) -> 75 | G3: Sylvain | H3: 10 | I3: 60 | J3: 60 | K3: 120 | L3: =(I3-H3)+(K3-J3) -> 110
A4: Benoit | B4: 120 | C4: 130 | F4: =(C4-B4)+(E4-D4) -> 10 | G4: Sylvain | H4: 120 | I4: 150 | L4: =(I4-H4)+(K4-J4) -> 30
A5: Benoit | B5: 130 | C5: 180 | G5: Sylvain | H5: 150 | I5: 200
A6: Benoit | B6: 180 | C6: 250 | G6: Sylvain | H6: 200 | I6: 260
A7: Frederique | B7: 10 | C7: 100 | F7: =(C7-B7)+(E7-D7) -> 90 | G7: Sylvain | H7: 260 | I7: 500 | L7: =(I7-H7)+(K7-J7) -> 240
A8: Frederique | B8: 100 | C8: 150 | D8: 150 | E8: 200 | F8: =(C8-B8)+(E8-D8) -> 100 | G8: Luc | H8: 0 | I8: 150 | J8: 150 | K8: 200 | L8: =(I8-H8)+(K8-J8) -> 200
A9: Frederique | B9: 200 | C9: 205 | F9: =(C9-B9)+(E9-D9) -> 5 | G9: Luc | H9: 200 | I9: 300 | L9: =(I9-H9)+(K9-J9) -> 100
A10: Marc | B10: 0 | C10: 25 | F10: =(C10-B10)+(E10-D10) -> 25 | G10: Luc | H10: 300 | I10: 400 | L10: =(I10-H10)+(K10-J10) -> 100
A11: Marc | B11: 25 | C11: 100 | F11: =(C11-B11)+(E11-D11) -> 75 | G11: Luc | H11: 400 | I11: 500 | L11: =(I11-H11)+(K11-J11) -> 100
A12: Marc | B12: 100 | C12: 150 | F12: =(C12-B12)+(E12-D12) -> 50
A13: Miguel | B13: 0 | C13: 10 | D13: 10 | E13: 100 | F13: =(C13-B13)+(E13-D13) -> 100
A14: Miguel | B14: 100 | C14: 150 | F14: =(C14-B14)+(E14-D14) -> 50
A15: Miguel | B15: 150 | C15: 200 | F15: =(C15-B15)+(E15-D15) -> 50
A16: Sebastien | B16: 0 | C16: 33 | F16: =(C16-B16)+(E16-D16) -> 33
A17: Sebastien | B17: 33 | C17: 50 | F17: =(C17-B17)+(E17-D17) -> 17
A18: Sebastien | B18: 50 | C18: 87 | F18: =(C18-B18)+(E18-D18) -> 37
