Workbook

Sheet Varia
A1: Menu Déroulant
A3: Grade | B3: Niveau | C3: Poste | D3: Section | E3: Actif
A5: Cdt | B5: 1 | C5: Cdt Cmdt | D5: État-Major | E5: OUI
A6: Cdt 1 | B6: 2 | C6: Cdt Cmdt A | D6: Section 1 | E6: NON
A7: Cpl | B7: 3 | C7: Adjum | D7: Section 2
A8: Cpl/S | B8: 4 | C8: Cmdt Sec | D8: Service
A9: Sgt | B9: 5 | C9: Cmdt Sec A
A10: Sgt/S | B10: Instruc | C10: Parain
A11: Adj 2 | C11: Service
A12: Adj 1 | C12: Cadet
E14: Faire F4 pour ajouter le signe de $
A15: Formule | N15: prendre info a partir de
A17: =SIERREUR(@INDEX('Renseignement Généraux'!$C$9:$C$2500;AGREGAT(15;6;(1/(('Renseignement Généraux'!$I$9:$I$2500="OUI"))*LIGNE('Renseignement Généraux'!$C$9:$C$2500)-8);LIGNE()-11));"")
P19: mettre info a partir de
C21: zone ou prendre l'information | H21: zone du OUI | L21: zone ou prendre l'information
A23: =SIERREUR(@INDEX('Renseignement Généraux'!$C$9:$C$2500;AGREGAT(15;6;(1/(('Renseignement Généraux'!$I$9:$I$2500="OUI"))*LIGNE('Renseignement Généraux'!$C$9:$C$2500)-8);LIGNE()-11));"")

Sheet Renseignement Généraux
B1: Escadron 838, Chapais
B2: 45, 5e Avenue
B3: Chapais, (Qc), G0W 1H0
A8: Nom | B8: Prénom | C8: Grade | D8: Niveau | E8: Date Admission | F8: Poste | G8: Section | H8: Actif | I8: Colonne1 | J8: Colonne2 | K8: Colonne3 | L8: Colonne4 | M8: Colonne5 | N8: Colonne6 | O8: Colonne7 | P8: Colonne8 | Q8: Colonne9 | R8: Colonne10 | S8: Colonne11 | T8: Colonne12 | U8: Colonne13 | V8: Colonne14 | W8: Colonne15
A9: Bélanger | B9: Alycia | C9: Cpl | D9: 3 | E9: 44707 | F9: Cadet | G9: Section 1 | H9: OUI
A10: Bernier | B10: Abygael | C10: Cdt 1 | D10: 3 | E10: 44669 | F10: Cadet | G10: Section 1 | H10: OUI
A11: Couture | B11: Sylvain | C11: Cpl | D11: 2 | E11: 44882 | F11: Cadet | G11: Section 1 | H11: OUI
A12: Dubois | B12: Alexis | C12: Cdt 1 | D12: 2 | E12: 44866 | F12: Cadet | G12: Section 1 | H12: OUI
A13: Gagnon | B13: Maryane | C13: Cpl | D13: 2 | E13: 44153 | F13: Cadet | G13: Section 1 | H13: OUI
A14: Harvey | B14: Naomie | C14: Cdt 1 | D14: 1 | E14: 43046 | F14: Cadet | G14: Section 1 | H14: OUI
A15: Harvey | B15: Jacob | C15: Cdt | D15: 3 | E15: 44637 | F15: Cadet | G15: Section 1 | H15: NON
A16: Harvey | B16: Olivier | C16: Cpl | D16: 3 | E16: 44866 | F16: Service | G16: Service | H16: NON
A17: Harvey | B17: Xavier | C17: Cpl/S | D17: 3 | E17: 44852 | F17: Cadet | G17: Section 1 | H17: OUI
A18: Leclerc | B18: Lea | C18: Cdt 1 | D18: 1 | E18: 44146 | F18: Cadet | G18: Section 1 | H18: NON
A19: Leclerc | B19: Emma | C19: Cdt 1 | D19: 2 | E19: 44525 | F19: Cadet | G19: Section 1 | H19: OUI
A20: Lefebvre | B20: Lily-Jade | C20: Cpl/S | D20: 3 | E20: 44874 | F20: Cdt Cmdt A | G20: État-Major | H20: OUI
... A23: Vezina | B23: Maya | C23: Cpl | D23: 2 | E23: 44866 | F23: Service | G23: Service | H23: OUI

Sheet Présence
B1: Escadron 838, Chapais
B2: 45, 5e Avenue
B3: Chapais, (Qc), G0W 1H0
A6: Registre de présence
B8: {=IFERROR(_xlfn.SINGLE(INDEX('[1]Info générale'!$D$13:$D$2500,_xlfn.AGGREGATE(15,6,(1/(('[1]Info générale'!$J$13:$J$2500="OUI"))*ROW('[1]Info générale'!$D$13:$D$2500)-12),ROW()-12))),"")}
B9: Grade | C9: Nom | D9: Prénom | E9: P | F9: A
B10: {=IFERROR(_xlfn.SINGLE(INDEX('Renseignement Généraux'!$C$9:$C$2500,_xlfn.AGGREGATE(15,6,(1/(('Renseignement Généraux'!$H$9:$H$2500="OUI"))*ROW('Renseignement Généraux'!$C$9:$C$2500)-8),ROW()-9))),"")} -> Cpl | C10: {=IFERROR(_xlfn.SINGLE(INDEX('Renseignement Généraux'!$A$9:$A$2500,_xlfn.AGGREGATE(15,6,(1/(('Renseignement Généraux'!$H$9:$H$2500="OUI"))*ROW('Renseignement Généraux'!$A$9:$A$2500)-8),ROW()-9))),"")} -> Bélanger | D10: {=IFERROR(_xlfn.SINGLE(INDEX('Renseignement Généraux'!$B$9:$B$2500,_xlfn.AGGREGATE(15,6,(1/(('Renseignement Généraux'!$H$9:$H$2500="OUI"))*ROW('Renseignement Généraux'!$B$9:$B$2500)-8),ROW()-9))),"")} -> Alycia
B11: {=IFERROR(_xlfn.SINGLE(INDEX('Renseignement Généraux'!$C$9:$C$2500,_xlfn.AGGREGATE(15,6,(1/(('Renseignement Généraux'!$H$9:$H$2500="OUI"))*ROW('Renseignement Généraux'!$C$9:$C$2500)-8),ROW()-9))),"")} -> Cdt 1 | C11: {=IFERROR(_xlfn.SINGLE(INDEX('Renseignement Généraux'!$A$9:$A$2500,_xlfn.AGGREGATE(15,6,(1/(('Renseignement Généraux'!$H$9:$H$2500="OUI"))*ROW('Renseignement Généraux'!$A$9:$A$2500)-8),ROW()-9))),"")} -> Bernier | D11: {=IFERROR(_xlfn.SINGLE(INDEX('Renseignement Généraux'!$B$9:$B$2500,_xlfn.AGGREGATE(15,6,(1/(('Renseignement Généraux'!$H$9:$H$2500="OUI"))*ROW('Renseignement Généraux'!$B$9:$B$2500)-8),ROW()-9))),"")} -> Abygael
B12: {=IFERROR(_xlfn.SINGLE(INDEX('Renseignement Généraux'!$C$9:$C$2500,_xlfn.AGGREGATE(15,6,(1/(('Renseignement Généraux'!$H$9:$H$2500="OUI"))*ROW('Renseignement Généraux'!$C$9:$C$2500)-8),ROW()-9))),"")} -> Cpl | C12: {=IFERROR(_xlfn.SINGLE(INDEX('Renseignement Généraux'!$A$9:$A$2500,_xlfn.AGGREGATE(15,6,(1/(('Renseignement Généraux'!$H$9:$H$2500="OUI"))*ROW('Renseignement Généraux'!$A$9:$A$2500)-8),ROW()-9))),"")} -> Couture | D12: {=IFERROR(_xlfn.SINGLE(INDEX('Renseignement Généraux'!$B$9:$B$2500,_xlfn.AGGREGATE(15,6,(1/(('Renseignement Généraux'!$H$9:$H$2500="OUI"))*ROW('Renseignement Généraux'!$B$9:$B$2500)-8),ROW()-9))),"")} -> Sylvain
B13: {=IFERROR(_xlfn.SINGLE(INDEX('Renseignement Généraux'!$C$9:$C$2500,_xlfn.AGGREGATE(15,6,(1/(('Renseignement Généraux'!$H$9:$H$2500="OUI"))*ROW('Renseignement Généraux'!$C$9:$C$2500)-8),ROW()-9))),"")} -> Cdt 1 | C13: {=IFERROR(_xlfn.SINGLE(INDEX('Renseignement Généraux'!$A$9:$A$2500,_xlfn.AGGREGATE(15,6,(1/(('Renseignement Généraux'!$H$9:$H$2500="OUI"))*ROW('Renseignement Généraux'!$A$9:$A$2500)-8),ROW()-9))),"")} -> Dubois | D13: {=IFERROR(_xlfn.SINGLE(INDEX('Renseignement Généraux'!$B$9:$B$2500,_xlfn.AGGREGATE(15,6,(1/(('Renseignement Généraux'!$H$9:$H$2500="OUI"))*ROW('Renseignement Généraux'!$B$9:$B$2500)-8),ROW()-9))),"")} -> Alexis
B14: {=IFERROR(_xlfn.SINGLE(INDEX('Renseignement Généraux'!$C$9:$C$2500,_xlfn.AGGREGATE(15,6,(1/(('Renseignement Généraux'!$H$9:$H$2500="OUI"))*ROW('Renseignement Généraux'!$C$9:$C$2500)-8),ROW()-9))),"")} -> Cpl | C14: {=IFERROR(_xlfn.SINGLE(INDEX('Renseignement Généraux'!$A$9:$A$2500,_xlfn.AGGREGATE(15,6,(1/(('Renseignement Généraux'!$H$9:$H$2500="OUI"))*ROW('Renseignement Généraux'!$A$9:$A$2500)-8),ROW()-9))),"")} -> Gagnon | D14: {=IFERROR(_xlfn.SINGLE(INDEX('Renseignement Généraux'!$B$9:$B$2500,_xlfn.AGGREGATE(15,6,(1/(('Renseignement Généraux'!$H$9:$H$2500="OUI"))*ROW('Renseignement Généraux'!$B$9:$B$2500)-8),ROW()-9))),"")} -> Maryane
B15: {=IFERROR(_xlfn.SINGLE(INDEX('Renseignement Généraux'!$C$9:$C$2500,_xlfn.AGGREGATE(15,6,(1/(('Renseignement Généraux'!$H$9:$H$2500="OUI"))*ROW('Renseignement Généraux'!$C$9:$C$2500)-8),ROW()-9))),"")} -> Cdt 1 | C15: {=IFERROR(_xlfn.SINGLE(INDEX('Renseignement Généraux'!$A$9:$A$2500,_xlfn.AGGREGATE(15,6,(1/(('Renseignement Généraux'!$H$9:$H$2500="OUI"))*ROW('Renseignement Généraux'!$A$9:$A$2500)-8),ROW()-9))),"")} -> Harvey | D15: {=IFERROR(_xlfn.SINGLE(INDEX('Renseignement Généraux'!$B$9:$B$2500,_xlfn.AGGREGATE(15,6,(1/(('Renseignement Généraux'!$H$9:$H$2500="OUI"))*ROW('Renseignement Généraux'!$B$9:$B$2500)-8),ROW()-9))),"")} -> Naomie
B16: {=IFERROR(_xlfn.SINGLE(INDEX('Renseignement Généraux'!$C$9:$C$2500,_xlfn.AGGREGATE(15,6,(1/(('Renseignement Généraux'!$H$9:$H$2500="OUI"))*ROW('Renseignement Généraux'!$C$9:$C$2500)-8),ROW()-9))),"")} -> Cpl/S | C16: {=IFERROR(_xlfn.SINGLE(INDEX('Renseignement Généraux'!$A$9:$A$2500,_xlfn.AGGREGATE(15,6,(1/(('Renseignement Généraux'!$H$9:$H$2500="OUI"))*ROW('Renseignement Généraux'!$A$9:$A$2500)-8),ROW()-9))),"")} -> Harvey | D16: {=IFERROR(_xlfn.SINGLE(INDEX('Renseignement Généraux'!$B$9:$B$2500,_xlfn.AGGREGATE(15,6,(1/(('Renseignement Généraux'!$H$9:$H$2500="OUI"))*ROW('Renseignement Généraux'!$B$9:$B$2500)-8),ROW()-9))),"")} -> Xavier
B17: {=IFERROR(_xlfn.SINGLE(INDEX('Renseignement Généraux'!$C$9:$C$2500,_xlfn.AGGREGATE(15,6,(1/(('Renseignement Généraux'!$H$9:$H$2500="OUI"))*ROW('Renseignement Généraux'!$C$9:$C$2500)-8),ROW()-9))),"")} -> Cdt 1 | C17: {=IFERROR(_xlfn.SINGLE(INDEX('Renseignement Généraux'!$A$9:$A$2500,_xlfn.AGGREGATE(15,6,(1/(('Renseignement Généraux'!$H$9:$H$2500="OUI"))*ROW('Renseignement Généraux'!$A$9:$A$2500)-8),ROW()-9))),"")} -> Leclerc | D17: {=IFERROR(_xlfn.SINGLE(INDEX('Renseignement Généraux'!$B$9:$B$2500,_xlfn.AGGREGATE(15,6,(1/(('Renseignement Généraux'!$H$9:$H$2500="OUI"))*ROW('Renseignement Généraux'!$B$9:$B$2500)-8),ROW()-9))),"")} -> Emma
B18: {=IFERROR(_xlfn.SINGLE(INDEX('Renseignement Généraux'!$C$9:$C$2500,_xlfn.AGGREGATE(15,6,(1/(('Renseignement Généraux'!$H$9:$H$2500="OUI"))*ROW('Renseignement Généraux'!$C$9:$C$2500)-8),ROW()-9))),"")} -> Cpl/S | C18: {=IFERROR(_xlfn.SINGLE(INDEX('Renseignement Généraux'!$A$9:$A$2500,_xlfn.AGGREGATE(15,6,(1/(('Renseignement Généraux'!$H$9:$H$2500="OUI"))*ROW('Renseignement Généraux'!$A$9:$A$2500)-8),ROW()-9))),"")} -> Lefebvre | D18: {=IFERROR(_xlfn.SINGLE(INDEX('Renseignement Généraux'!$B$9:$B$2500,_xlfn.AGGREGATE(15,6,(1/(('Renseignement Généraux'!$H$9:$H$2500="OUI"))*ROW('Renseignement Généraux'!$B$9:$B$2500)-8),ROW()-9))),"")} -> Lily-Jade
B19: {=IFERROR(_xlfn.SINGLE(INDEX('Renseignement Généraux'!$C$9:$C$2500,_xlfn.AGGREGATE(15,6,(1/(('Renseignement Généraux'!$H$9:$H$2500="OUI"))*ROW('Renseignement Généraux'!$C$9:$C$2500)-8),ROW()-9))),"")} -> Sgt | C19: {=IFERROR(_xlfn.SINGLE(INDEX('Renseignement Généraux'!$A$9:$A$2500,_xlfn.AGGREGATE(15,6,(1/(('Renseignement Généraux'!$H$9:$H$2500="OUI"))*ROW('Renseignement Généraux'!$A$9:$A$2500)-8),ROW()-9))),"")} -> Sasseville | D19: {=IFERROR(_xlfn.SINGLE(INDEX('Renseignement Généraux'!$B$9:$B$2500,_xlfn.AGGREGATE(15,6,(1/(('Renseignement Généraux'!$H$9:$H$2500="OUI"))*ROW('Renseignement Généraux'!$B$9:$B$2500)-8),ROW()-9))),"")} -> Gabryelle
B20: {=IFERROR(_xlfn.SINGLE(INDEX('Renseignement Généraux'!$C$9:$C$2500,_xlfn.AGGREGATE(15,6,(1/(('Renseignement Généraux'!$H$9:$H$2500="OUI"))*ROW('Renseignement Généraux'!$C$9:$C$2500)-8),ROW()-9))),"")} -> Cpl | C20: {=IFERROR(_xlfn.SINGLE(INDEX('Renseignement Généraux'!$A$9:$A$2500,_xlfn.AGGREGATE(15,6,(1/(('Renseignement Généraux'!$H$9:$H$2500="OUI"))*ROW('Renseignement Généraux'!$A$9:$A$2500)-8),ROW()-9))),"")} -> Senneville | D20: {=IFERROR(_xlfn.SINGLE(INDEX('Renseignement Généraux'!$B$9:$B$2500,_xlfn.AGGREGATE(15,6,(1/(('Renseignement Généraux'!$H$9:$H$2500="OUI"))*ROW('Renseignement Généraux'!$B$9:$B$2500)-8),ROW()-9))),"")} -> Nicolas
B21: {=IFERROR(_xlfn.SINGLE(INDEX('Renseignement Généraux'!$C$9:$C$2500,_xlfn.AGGREGATE(15,6,(1/(('Renseignement Généraux'!$H$9:$H$2500="OUI"))*ROW('Renseignement Généraux'!$C$9:$C$2500)-8),ROW()-9))),"")} -> Cpl | C21: {=IFERROR(_xlfn.SINGLE(INDEX('Renseignement Généraux'!$A$9:$A$2500,_xlfn.AGGREGATE(15,6,(1/(('Renseignement Généraux'!$H$9:$H$2500="OUI"))*ROW('Renseignement Généraux'!$A$9:$A$2500)-8),ROW()-9))),"")} -> Vezina | D21: {=IFERROR(_xlfn.SINGLE(INDEX('Renseignement Généraux'!$B$9:$B$2500,_xlfn.AGGREGATE(15,6,(1/(('Renseignement Généraux'!$H$9:$H$2500="OUI"))*ROW('Renseignement Généraux'!$B$9:$B$2500)-8),ROW()-9))),"")} -> Maya
... B40: {=IFERROR(_xlfn.SINGLE(INDEX('Renseignement Généraux'!$C$9:$C$2500,_xlfn.AGGREGATE(15,6,(1/(('Renseignement Généraux'!$H$9:$H$2500="OUI"))*ROW('Renseignement Généraux'!$C$9:$C$2500)-8),ROW()-9))),"")} | C40: {=IFERROR(_xlfn.SINGLE(INDEX('Renseignement Généraux'!$A$9:$A$2500,_xlfn.AGGREGATE(15,6,(1/(('Renseignement Généraux'!$H$9:$H$2500="OUI"))*ROW('Renseignement Généraux'!$A$9:$A$2500)-8),ROW()-9))),"")} | D40: {=IFERROR(_xlfn.SINGLE(INDEX('Renseignement Généraux'!$B$9:$B$2500,_xlfn.AGGREGATE(15,6,(1/(('Renseignement Généraux'!$H$9:$H$2500="OUI"))*ROW('Renseignement Généraux'!$B$9:$B$2500)-8),ROW()-9))),"")}

Sheet Feuil3
