Workbook
Name catégoriesescalade: #REF!

Sheet 1-choix des équipes
A1: CLASSEMENT 2020 :
A2: 1 | B2: équipe1
A3: 2 | B3: équipe5
A4: 3 | B4: équipe10
A5: 4 | B5: équipe12

Sheet 2-Rencontres
E1: ARBITRE
A2: ='1-choix des équipes'!B3 -> équipe5 | B2: 3 | C2: 1 | D2: ='1-choix des équipes'!B4 -> équipe10 | E2: ='1-choix des équipes'!B2 -> équipe1
A3: ='1-choix des équipes'!B2 -> équipe1 | D3: ='1-choix des équipes'!B5 -> équipe12 | E3: ='1-choix des équipes'!B3 -> équipe5
A4: ='1-choix des équipes'!B2 -> équipe1 | D4: ='1-choix des équipes'!B3 -> équipe5 | E4: ='1-choix des équipes'!B5 -> équipe12
A5: ='1-choix des équipes'!B2 -> équipe1 | D5: ='1-choix des équipes'!B4 -> équipe10 | E5: ='1-choix des équipes'!B5 -> équipe12
A6: ='1-choix des équipes'!B3 -> équipe5 | D6: ='1-choix des équipes'!B5 -> équipe12 | E6: ='1-choix des équipes'!B4 -> équipe10
A7: ='1-choix des équipes'!B4 -> équipe10 | D7: ='1-choix des équipes'!B5 -> équipe12 | E7: ='1-choix des équipes'!B3 -> équipe5

Sheet 3-Classement
A1: ='1-choix des équipes'!A1 -> CLASSEMENT 2020 :
A2: class | B2: Equipes | C2: Points | D2: Matchs | E2: Forfaits | F2: Goal av. | G2: Gagnés | H2: Nuls | I2: Perdus | J2: Buts marqués | K2: Buts encaissés | N2: Equipes | O2: Cat. | P2: Poule | Q2: SSS/Etab | R2: Points | S2: Class | T2: Matchs | U2: Forfaits | V2: Goal av. | W2: Gagnés | X2: Nuls | Y2: Perdus | Z2: Buts marqués | AA2: Buts encaissés
A3: 1 | B3: =IF(ISNA(VLOOKUP(A3,M$3:N$6,2,FALSE)),"",VLOOKUP(A3,M$3:N$6,2,FALSE)) -> équipe5 | C3: =IF(ISNA(VLOOKUP($B3,N$3:AA$6,5,FALSE)),"",VLOOKUP($B3,N$3:AA$6,5,FALSE)) -> 3 | D3: =IF(ISNA(VLOOKUP($B3,N$3:AA$6,7,FALSE)),"",VLOOKUP($B3,N$3:AA$6,7,FALSE)) -> 1 | E3: =IF(ISNA(VLOOKUP($B3,N$3:AA$6,8,FALSE)),"",VLOOKUP($B3,N$3:AA$6,8,FALSE)) -> 0 | F3: =IF(ISNA(VLOOKUP($B3,N$3:AA$6,9,FALSE)),"",VLOOKUP($B3,N$3:AA$6,9,FALSE)) -> 2 | G3: =IF(ISNA(VLOOKUP($B3,N$3:AA$6,10,FALSE)),"",VLOOKUP($B3,N$3:AA$6,10,FALSE)) -> 1 | H3: =IF(ISNA(VLOOKUP($B3,N$3:AA$6,11,FALSE)),"",VLOOKUP($B3,N$3:AA$6,11,FALSE)) -> 0 | I3: =IF(ISNA(VLOOKUP($B3,N$3:AA$6,12,FALSE)),"",VLOOKUP($B3,N$3:AA$6,12,FALSE)) -> 0 | J3: =IF(ISNA(VLOOKUP($B3,N$3:AA$6,13,FALSE)),"",VLOOKUP($B3,N$3:AA$6,13,FALSE)) -> 3 | K3: =IF(ISNA(VLOOKUP($B3,N$3:AA$6,14,FALSE)),"",VLOOKUP($B3,N$3:AA$6,14,FALSE)) -> 1 | M3: =RANK('3-Classement'!$S3,S$3:S$6)+COUNTIF(S$3:S3,S3)-1 -> 3 | N3: ='1-choix des équipes'!B2 -> équipe1 | R3: ='3-Classement'!$Y3*1+'3-Classement'!$X3*2+'3-Classement'!$W3*3-'3-Classement'!$U3 -> 0 | S3: =('3-Classement'!$R3*1000)+('3-Classement'!$V3/10)+'3-Classement'!$Z3/100 -> 0 | T3: =COUNTIF($N$9:$S$14,'3-Classement'!$N3) -> 0 | U3: =COUNTIF($R$9:$S$14,'3-Classement'!$N3) -> 0 | V3: ='3-Classement'!$Z3-'3-Classement'!$AA3 -> 0 | W3: =COUNTIF($N$9:$N$14,'3-Classement'!$N3) -> 0 | X3: =COUNTIF($O$9:$P$14,'3-Classement'!$N3) -> 0 | Y3: =COUNTIF($Q$9:$Q$14,'3-Classement'!$N3) -> 0 | Z3: =SUMIF('2-Rencontres'!$A$2:$A$7,'3-Classement'!$N3,'2-Rencontres'!$B$2:$B$7)+SUMIF('2-Rencontres'!$D$2:$D$7,'3-Classement'!$N3,'2-Rencontres'!$C$2:$C$7) -> 0 | AA3: =SUMIF('2-Rencontres'!$A$2:$A$7,'3-Classement'!$N3,'2-Rencontres'!$C$2:$C$7)+SUMIF('2-Rencontres'!$D$2:$D$7,'3-Classement'!$N3,'2-Rencontres'!$B$2:$B$7) -> 0
A4: 2 | B4: =IF(ISNA(VLOOKUP(A4,M$3:N$6,2,FALSE)),"",VLOOKUP(A4,M$3:N$6,2,FALSE)) -> équipe10 | C4: =IF(ISNA(VLOOKUP($B4,N$3:AA$6,5,FALSE)),"",VLOOKUP($B4,N$3:AA$6,5,FALSE)) -> 1 | D4: =IF(ISNA(VLOOKUP($B4,N$3:AA$6,7,FALSE)),"",VLOOKUP($B4,N$3:AA$6,7,FALSE)) -> 1 | E4: =IF(ISNA(VLOOKUP($B4,N$3:AA$6,8,FALSE)),"",VLOOKUP($B4,N$3:AA$6,8,FALSE)) -> 0 | F4: =IF(ISNA(VLOOKUP($B4,N$3:AA$6,9,FALSE)),"",VLOOKUP($B4,N$3:AA$6,9,FALSE)) -> -2 | G4: =IF(ISNA(VLOOKUP($B4,N$3:AA$6,10,FALSE)),"",VLOOKUP($B4,N$3:AA$6,10,FALSE)) -> 0 | H4: =IF(ISNA(VLOOKUP($B4,N$3:AA$6,11,FALSE)),"",VLOOKUP($B4,N$3:AA$6,11,FALSE)) -> 0 | I4: =IF(ISNA(VLOOKUP($B4,N$3:AA$6,12,FALSE)),"",VLOOKUP($B4,N$3:AA$6,12,FALSE)) -> 1 | J4: =IF(ISNA(VLOOKUP($B4,N$3:AA$6,13,FALSE)),"",VLOOKUP($B4,N$3:AA$6,13,FALSE)) -> 1 | K4: =IF(ISNA(VLOOKUP($B4,N$3:AA$6,14,FALSE)),"",VLOOKUP($B4,N$3:AA$6,14,FALSE)) -> 3 | M4: =RANK('3-Classement'!$S4,S$3:S$6)+COUNTIF(S$3:S4,S4)-1 -> 1 | N4: ='1-choix des équipes'!B3 -> équipe5 | R4: ='3-Classement'!$Y4*1+'3-Classement'!$X4*2+'3-Classement'!$W4*3-'3-Classement'!$U4 -> 3 | S4: =('3-Classement'!$R4*1000)+('3-Classement'!$V4/10)+'3-Classement'!$Z4/100 -> 3000.23 | T4: =COUNTIF($N$9:$S$14,'3-Classement'!$N4) -> 1 | U4: =COUNTIF($R$9:$S$14,'3-Classement'!$N4) -> 0 | V4: ='3-Classement'!$Z4-'3-Classement'!$AA4 -> 2 | W4: =COUNTIF($N$9:$N$14,'3-Classement'!$N4) -> 1 | X4: =COUNTIF($O$9:$P$14,'3-Classement'!$N4) -> 0 | Y4: =COUNTIF($Q$9:$Q$14,'3-Classement'!$N4) -> 0 | Z4: =SUMIF('2-Rencontres'!$A$2:$A$7,'3-Classement'!$N4,'2-Rencontres'!$B$2:$B$7)+SUMIF('2-Rencontres'!$D$2:$D$7,'3-Classement'!$N4,'2-Rencontres'!$C$2:$C$7) -> 3 | AA4: =SUMIF('2-Rencontres'!$A$2:$A$7,'3-Classement'!$N4,'2-Rencontres'!$C$2:$C$7)+SUMIF('2-Rencontres'!$D$2:$D$7,'3-Classement'!$N4,'2-Rencontres'!$B$2:$B$7) -> 1
A5: 3 | B5: =IF(ISNA(VLOOKUP(A5,M$3:N$6,2,FALSE)),"",VLOOKUP(A5,M$3:N$6,2,FALSE)) -> équipe1 | C5: =IF(ISNA(VLOOKUP($B5,N$3:AA$6,5,FALSE)),"",VLOOKUP($B5,N$3:AA$6,5,FALSE)) -> 0 | D5: =IF(ISNA(VLOOKUP($B5,N$3:AA$6,7,FALSE)),"",VLOOKUP($B5,N$3:AA$6,7,FALSE)) -> 0 | E5: =IF(ISNA(VLOOKUP($B5,N$3:AA$6,8,FALSE)),"",VLOOKUP($B5,N$3:AA$6,8,FALSE)) -> 0 | F5: =IF(ISNA(VLOOKUP($B5,N$3:AA$6,9,FALSE)),"",VLOOKUP($B5,N$3:AA$6,9,FALSE)) -> 0 | G5: =IF(ISNA(VLOOKUP($B5,N$3:AA$6,10,FALSE)),"",VLOOKUP($B5,N$3:AA$6,10,FALSE)) -> 0 | H5: =IF(ISNA(VLOOKUP($B5,N$3:AA$6,11,FALSE)),"",VLOOKUP($B5,N$3:AA$6,11,FALSE)) -> 0 | I5: =IF(ISNA(VLOOKUP($B5,N$3:AA$6,12,FALSE)),"",VLOOKUP($B5,N$3:AA$6,12,FALSE)) -> 0 | J5: =IF(ISNA(VLOOKUP($B5,N$3:AA$6,13,FALSE)),"",VLOOKUP($B5,N$3:AA$6,13,FALSE)) -> 0 | K5: =IF(ISNA(VLOOKUP($B5,N$3:AA$6,14,FALSE)),"",VLOOKUP($B5,N$3:AA$6,14,FALSE)) -> 0 | M5: =RANK('3-Classement'!$S5,S$3:S$6)+COUNTIF(S$3:S5,S5)-1 -> 2 | N5: ='1-choix des équipes'!B4 -> équipe10 | R5: ='3-Classement'!$Y5*1+'3-Classement'!$X5*2+'3-Classement'!$W5*3-'3-Classement'!$U5 -> 1 | S5: =('3-Classement'!$R5*1000)+('3-Classement'!$V5/10)+'3-Classement'!$Z5/100 -> 999.81 | T5: =COUNTIF($N$9:$S$14,'3-Classement'!$N5) -> 1 | U5: =COUNTIF($R$9:$S$14,'3-Classement'!$N5) -> 0 | V5: ='3-Classement'!$Z5-'3-Classement'!$AA5 -> -2 | W5: =COUNTIF($N$9:$N$14,'3-Classement'!$N5) -> 0 | X5: =COUNTIF($O$9:$P$14,'3-Classement'!$N5) -> 0 | Y5: =COUNTIF($Q$9:$Q$14,'3-Classement'!$N5) -> 1 | Z5: =SUMIF('2-Rencontres'!$A$2:$A$7,'3-Classement'!$N5,'2-Rencontres'!$B$2:$B$7)+SUMIF('2-Rencontres'!$D$2:$D$7,'3-Classement'!$N5,'2-Rencontres'!$C$2:$C$7) -> 1 | AA5: =SUMIF('2-Rencontres'!$A$2:$A$7,'3-Classement'!$N5,'2-Rencontres'!$C$2:$C$7)+SUMIF('2-Rencontres'!$D$2:$D$7,'3-Classement'!$N5,'2-Rencontres'!$B$2:$B$7) -> 3
A6: 4 | B6: =IF(ISNA(VLOOKUP(A6,M$3:N$6,2,FALSE)),"",VLOOKUP(A6,M$3:N$6,2,FALSE)) -> équipe12 | C6: =IF(ISNA(VLOOKUP($B6,N$3:AA$6,5,FALSE)),"",VLOOKUP($B6,N$3:AA$6,5,FALSE)) -> 0 | D6: =IF(ISNA(VLOOKUP($B6,N$3:AA$6,7,FALSE)),"",VLOOKUP($B6,N$3:AA$6,7,FALSE)) -> 0 | E6: =IF(ISNA(VLOOKUP($B6,N$3:AA$6,8,FALSE)),"",VLOOKUP($B6,N$3:AA$6,8,FALSE)) -> 0 | F6: =IF(ISNA(VLOOKUP($B6,N$3:AA$6,9,FALSE)),"",VLOOKUP($B6,N$3:AA$6,9,FALSE)) -> 0 | G6: =IF(ISNA(VLOOKUP($B6,N$3:AA$6,10,FALSE)),"",VLOOKUP($B6,N$3:AA$6,10,FALSE)) -> 0 | H6: =IF(ISNA(VLOOKUP($B6,N$3:AA$6,11,FALSE)),"",VLOOKUP($B6,N$3:AA$6,11,FALSE)) -> 0 | I6: =IF(ISNA(VLOOKUP($B6,N$3:AA$6,12,FALSE)),"",VLOOKUP($B6,N$3:AA$6,12,FALSE)) -> 0 | J6: =IF(ISNA(VLOOKUP($B6,N$3:AA$6,13,FALSE)),"",VLOOKUP($B6,N$3:AA$6,13,FALSE)) -> 0 | K6: =IF(ISNA(VLOOKUP($B6,N$3:AA$6,14,FALSE)),"",VLOOKUP($B6,N$3:AA$6,14,FALSE)) -> 0 | M6: =RANK('3-Classement'!$S6,S$3:S$6)+COUNTIF(S$3:S6,S6)-1 -> 4 | N6: ='1-choix des équipes'!B5 -> équipe12 | R6: ='3-Classement'!$Y6*1+'3-Classement'!$X6*2+'3-Classement'!$W6*3-'3-Classement'!$U6 -> 0 | S6: =('3-Classement'!$R6*1000)+('3-Classement'!$V6/10)+'3-Classement'!$Z6/100 -> 0 | T6: =COUNTIF($N$9:$S$14,'3-Classement'!$N6) -> 0 | U6: =COUNTIF($R$9:$S$14,'3-Classement'!$N6) -> 0 | V6: ='3-Classement'!$Z6-'3-Classement'!$AA6 -> 0 | W6: =COUNTIF($N$9:$N$14,'3-Classement'!$N6) -> 0 | X6: =COUNTIF($O$9:$P$14,'3-Classement'!$N6) -> 0 | Y6: =COUNTIF($Q$9:$Q$14,'3-Classement'!$N6) -> 0 | Z6: =SUMIF('2-Rencontres'!$A$2:$A$7,'3-Classement'!$N6,'2-Rencontres'!$B$2:$B$7)+SUMIF('2-Rencontres'!$D$2:$D$7,'3-Classement'!$N6,'2-Rencontres'!$C$2:$C$7) -> 0 | AA6: =SUMIF('2-Rencontres'!$A$2:$A$7,'3-Classement'!$N6,'2-Rencontres'!$C$2:$C$7)+SUMIF('2-Rencontres'!$D$2:$D$7,'3-Classement'!$N6,'2-Rencontres'!$B$2:$B$7) -> 0
N8: Gagnant | O8: Matchs NULS | Q8: Perdant | R8: FORFAIT
N9: =IF(AND('2-Rencontres'!B2="F",'2-Rencontres'!C2="F"),"",IF(AND('2-Rencontres'!B2="",'2-Rencontres'!C2=""),"",IF('2-Rencontres'!B2="F",'2-Rencontres'!D2,IF('2-Rencontres'!C2="F",'2-Rencontres'!A2,IF('2-Rencontres'!B2>'2-Rencontres'!C2,'2-Rencontres'!A2,IF('2-Rencontres'!C2>'2-Rencontres'!B2,'2-Rencontres'!D2,"")))))) -> équipe5 | O9: =IF('2-Rencontres'!B2="","",IF('2-Rencontres'!B2="F","",IF('2-Rencontres'!B2='2-Rencontres'!C2,'2-Rencontres'!A2,""))) | P9: =IF('2-Rencontres'!C2="","",IF('2-Rencontres'!C2="F","",IF('2-Rencontres'!C2='2-Rencontres'!B2,'2-Rencontres'!D2,""))) | Q9: =IF(OR('2-Rencontres'!B2="",R9='2-Rencontres'!A2,S9='2-Rencontres'!D2),"",IF('2-Rencontres'!C2="F",'2-Rencontres'!D2,IF('2-Rencontres'!C2>'2-Rencontres'!B2,'2-Rencontres'!A2,IF('2-Rencontres'!B2>'2-Rencontres'!C2,'2-Rencontres'!D2,"")))) -> équipe10 | R9: =IF(ISBLANK('2-Rencontres'!B2),"",IF('2-Rencontres'!B2="F",'2-Rencontres'!A2,"")) | S9: =IF(ISBLANK('2-Rencontres'!C2),"",IF('2-Rencontres'!C2="F",'2-Rencontres'!D2,""))
N10: =IF(AND('2-Rencontres'!B3="F",'2-Rencontres'!C3="F"),"",IF(AND('2-Rencontres'!B3="",'2-Rencontres'!C3=""),"",IF('2-Rencontres'!B3="F",'2-Rencontres'!D3,IF('2-Rencontres'!C3="F",'2-Rencontres'!A3,IF('2-Rencontres'!B3>'2-Rencontres'!C3,'2-Rencontres'!A3,IF('2-Rencontres'!C3>'2-Rencontres'!B3,'2-Rencontres'!D3,"")))))) | O10: =IF('2-Rencontres'!B3="","",IF('2-Rencontres'!B3="F","",IF('2-Rencontres'!B3='2-Rencontres'!C3,'2-Rencontres'!A3,""))) | P10: =IF('2-Rencontres'!C3="","",IF('2-Rencontres'!C3="F","",IF('2-Rencontres'!C3='2-Rencontres'!B3,'2-Rencontres'!D3,""))) | Q10: =IF(OR('2-Rencontres'!B3="",R10='2-Rencontres'!A3,S10='2-Rencontres'!D3),"",IF('2-Rencontres'!C3="F",'2-Rencontres'!D3,IF('2-Rencontres'!C3>'2-Rencontres'!B3,'2-Rencontres'!A3,IF('2-Rencontres'!B3>'2-Rencontres'!C3,'2-Rencontres'!D3,"")))) | R10: =IF(ISBLANK('2-Rencontres'!B3),"",IF('2-Rencontres'!B3="F",'2-Rencontres'!A3,"")) | S10: =IF(ISBLANK('2-Rencontres'!C3),"",IF('2-Rencontres'!C3="F",'2-Rencontres'!D3,""))
N11: =IF(AND('2-Rencontres'!B4="F",'2-Rencontres'!C4="F"),"",IF(AND('2-Rencontres'!B4="",'2-Rencontres'!C4=""),"",IF('2-Rencontres'!B4="F",'2-Rencontres'!D4,IF('2-Rencontres'!C4="F",'2-Rencontres'!A4,IF('2-Rencontres'!B4>'2-Rencontres'!C4,'2-Rencontres'!A4,IF('2-Rencontres'!C4>'2-Rencontres'!B4,'2-Rencontres'!D4,"")))))) | O11: =IF('2-Rencontres'!B4="","",IF('2-Rencontres'!B4="F","",IF('2-Rencontres'!B4='2-Rencontres'!C4,'2-Rencontres'!A4,""))) | P11: =IF('2-Rencontres'!C4="","",IF('2-Rencontres'!C4="F","",IF('2-Rencontres'!C4='2-Rencontres'!B4,'2-Rencontres'!D4,""))) | Q11: =IF(OR('2-Rencontres'!B4="",R11='2-Rencontres'!A4,S11='2-Rencontres'!D4),"",IF('2-Rencontres'!C4="F",'2-Rencontres'!D4,IF('2-Rencontres'!C4>'2-Rencontres'!B4,'2-Rencontres'!A4,IF('2-Rencontres'!B4>'2-Rencontres'!C4,'2-Rencontres'!D4,"")))) | R11: =IF(ISBLANK('2-Rencontres'!B4),"",IF('2-Rencontres'!B4="F",'2-Rencontres'!A4,"")) | S11: =IF(ISBLANK('2-Rencontres'!C4),"",IF('2-Rencontres'!C4="F",'2-Rencontres'!D4,""))
N12: =IF(AND('2-Rencontres'!B5="F",'2-Rencontres'!C5="F"),"",IF(AND('2-Rencontres'!B5="",'2-Rencontres'!C5=""),"",IF('2-Rencontres'!B5="F",'2-Rencontres'!D5,IF('2-Rencontres'!C5="F",'2-Rencontres'!A5,IF('2-Rencontres'!B5>'2-Rencontres'!C5,'2-Rencontres'!A5,IF('2-Rencontres'!C5>'2-Rencontres'!B5,'2-Rencontres'!D5,"")))))) | O12: =IF('2-Rencontres'!B5="","",IF('2-Rencontres'!B5="F","",IF('2-Rencontres'!B5='2-Rencontres'!C5,'2-Rencontres'!A5,""))) | P12: =IF('2-Rencontres'!C5="","",IF('2-Rencontres'!C5="F","",IF('2-Rencontres'!C5='2-Rencontres'!B5,'2-Rencontres'!D5,""))) | Q12: =IF(OR('2-Rencontres'!B5="",R12='2-Rencontres'!A5,S12='2-Rencontres'!D5),"",IF('2-Rencontres'!C5="F",'2-Rencontres'!D5,IF('2-Rencontres'!C5>'2-Rencontres'!B5,'2-Rencontres'!A5,IF('2-Rencontres'!B5>'2-Rencontres'!C5,'2-Rencontres'!D5,"")))) | R12: =IF(ISBLANK('2-Rencontres'!B5),"",IF('2-Rencontres'!B5="F",'2-Rencontres'!A5,"")) | S12: =IF(ISBLANK('2-Rencontres'!C5),"",IF('2-Rencontres'!C5="F",'2-Rencontres'!D5,""))
N13: =IF(AND('2-Rencontres'!B6="F",'2-Rencontres'!C6="F"),"",IF(AND('2-Rencontres'!B6="",'2-Rencontres'!C6=""),"",IF('2-Rencontres'!B6="F",'2-Rencontres'!D6,IF('2-Rencontres'!C6="F",'2-Rencontres'!A6,IF('2-Rencontres'!B6>'2-Rencontres'!C6,'2-Rencontres'!A6,IF('2-Rencontres'!C6>'2-Rencontres'!B6,'2-Rencontres'!D6,"")))))) | O13: =IF('2-Rencontres'!B6="","",IF('2-Rencontres'!B6="F","",IF('2-Rencontres'!B6='2-Rencontres'!C6,'2-Rencontres'!A6,""))) | P13: =IF('2-Rencontres'!C6="","",IF('2-Rencontres'!C6="F","",IF('2-Rencontres'!C6='2-Rencontres'!B6,'2-Rencontres'!D6,""))) | Q13: =IF(OR('2-Rencontres'!B6="",R13='2-Rencontres'!A6,S13='2-Rencontres'!D6),"",IF('2-Rencontres'!C6="F",'2-Rencontres'!D6,IF('2-Rencontres'!C6>'2-Rencontres'!B6,'2-Rencontres'!A6,IF('2-Rencontres'!B6>'2-Rencontres'!C6,'2-Rencontres'!D6,"")))) | R13: =IF(ISBLANK('2-Rencontres'!B6),"",IF('2-Rencontres'!B6="F",'2-Rencontres'!A6,"")) | S13: =IF(ISBLANK('2-Rencontres'!C6),"",IF('2-Rencontres'!C6="F",'2-Rencontres'!D6,""))
N14: =IF(AND('2-Rencontres'!B7="F",'2-Rencontres'!C7="F"),"",IF(AND('2-Rencontres'!B7="",'2-Rencontres'!C7=""),"",IF('2-Rencontres'!B7="F",'2-Rencontres'!D7,IF('2-Rencontres'!C7="F",'2-Rencontres'!A7,IF('2-Rencontres'!B7>'2-Rencontres'!C7,'2-Rencontres'!A7,IF('2-Rencontres'!C7>'2-Rencontres'!B7,'2-Rencontres'!D7,"")))))) | O14: =IF('2-Rencontres'!B7="","",IF('2-Rencontres'!B7="F","",IF('2-Rencontres'!B7='2-Rencontres'!C7,'2-Rencontres'!A7,""))) | P14: =IF('2-Rencontres'!C7="","",IF('2-Rencontres'!C7="F","",IF('2-Rencontres'!C7='2-Rencontres'!B7,'2-Rencontres'!D7,""))) | Q14: =IF(OR('2-Rencontres'!B7="",R14='2-Rencontres'!A7,S14='2-Rencontres'!D7),"",IF('2-Rencontres'!C7="F",'2-Rencontres'!D7,IF('2-Rencontres'!C7>'2-Rencontres'!B7,'2-Rencontres'!A7,IF('2-Rencontres'!B7>'2-Rencontres'!C7,'2-Rencontres'!D7,"")))) | R14: =IF(ISBLANK('2-Rencontres'!B7),"",IF('2-Rencontres'!B7="F",'2-Rencontres'!A7,"")) | S14: =IF(ISBLANK('2-Rencontres'!C7),"",IF('2-Rencontres'!C7="F",'2-Rencontres'!D7,""))

Sheet 4-Liste équipes
B1: NOM EQUIPES
A2: 0 | B2: choisir une équipe
A3: 1 | B3: équipe1
A4: 2 | B4: équipe2
A5: 3 | B5: équipe3
A6: 3 | B6: équipe4
A7: 4 | B7: équipe5
A8: 5 | B8: équipe6
A9: 6 | B9: équipe7
A10: 7 | B10: équipe8
A11: 8 | B11: équipe9
A12: 9 | B12: équipe10
A13: 10 | B13: équipe11
... A25: 22 | B25: équipe23
