Workbook

Sheet 1
A1: INSCRIPTIONS BEERPONG
B2: Équipes | C2: Participants | D2: Amicaliste | E2: Non-am | F2: Liquide | G2: CB
A3: 1
A5: 2
A7: 3
A9: 4
A11: 5
A13: 6
A15: 7
A17: 8
A19: 9
A21: 10
A23: 11
A25: 12
... A41: 20

Sheet 2
A1: INSCRIPTIONS BEERPONG
B2: Équipes
A3: 1 | B3: Equipe 1
A4: 2 | B4: Equipe 2
A5: 3 | B5: Equipe 3
A6: 4 | B6: Equipe 4
A7: 5 | B7: Equipe 5
A8: 6 | B8: Equipe 6
A9: 7 | B9: Equipe 7
A10: 8 | B10: Equipe 8
A11: 9 | B11: Equipe 9
A12: 10 | B12: Equipe 10
A13: 11 | B13: Equipe 11
A14: 12 | B14: Equipe 12
... A22: 20 | B22: Equipe 20

Sheet 3
B2: POULE A | E2: POULE B | H2: POULE C | K2: POULE D
B3: 1 | C3: ='2'!B3 -> Equipe 1 | E3: 1 | F3: ='2'!B8 -> Equipe 6 | H3: 1 | I3: ='2'!B13 -> Equipe 11 | K3: 1 | L3: ='2'!B18 -> Equipe 16
B4: 2 | C4: ='2'!B4 -> Equipe 2 | E4: 2 | F4: ='2'!B9 -> Equipe 7 | H4: 2 | I4: ='2'!B14 -> Equipe 12 | K4: 2 | L4: ='2'!B19 -> Equipe 17
B5: 3 | C5: ='2'!B5 -> Equipe 3 | E5: 3 | F5: ='2'!B10 -> Equipe 8 | H5: 3 | I5: ='2'!B15 -> Equipe 13 | K5: 3 | L5: ='2'!B20 -> Equipe 18
B6: 4 | C6: ='2'!B6 -> Equipe 4 | E6: 4 | F6: ='2'!B11 -> Equipe 9 | H6: 4 | I6: ='2'!B16 -> Equipe 14 | K6: 4 | L6: ='2'!B21 -> Equipe 19
B7: 5 | C7: ='2'!B7 -> Equipe 5 | E7: 5 | F7: ='2'!B12 -> Equipe 10 | H7: 5 | I7: ='2'!B17 -> Equipe 15 | K7: 5 | L7: ='2'!B22 -> Equipe 20

Sheet 4
B2: PHASES DE GROUPES
B3: Matchs | C3: Horaires | D3: Poule A | P3: Poule B | AB3: Poule C | AN3: Poule D
D4: Table 1 | J4: Table 2 | P4: Table 3 | V4: Table 4 | AB4: Table 5 | AH4: Table 6 | AN4: Table 7 | AT4: Table 8
D5: Domicile | E5: Score | G5: Score | H5: Extérieur | I5: Vainqueur | J5: Domicile | K5: Score | M5: Score | N5: Extérieur | O5: Vainqueur | P5: Domicile | Q5: Score | S5: Score | T5: Extérieur | U5: Vainqueur | V5: Domicile | W5: Score | Y5: Score | Z5: Extérieur | AA5: Vainqueur | AB5: Domicile | AC5: Score | AE5: Score | AF5: Extérieur | AG5: Vainqueur | AH5: Domicile | AI5: Score | AK5: Score | AL5: Extérieur | AM5: Vainqueur | AN5: Domicile | AO5: Score | AQ5: Score | AR5: Extérieur | AS5: Vainqueur | AT5: Domicile | AU5: Score | AW5: Score | AX5: Extérieur | AY5: Vainqueur
B6: 1 | C6: 20h00 | D6: ='3'!C4 -> Equipe 2 | E6: 3 | F6: VS | G6: 3 | H6: ='3'!C7 -> Equipe 5 | I6: =IF(E6<G6,D6,IF(E6=G6,"NUL",H6)) -> NUL | J6: ='3'!C5 -> Equipe 3 | K6: 0 | L6: VS | M6: 1 | N6: ='3'!C6 -> Equipe 4 | O6: =IF(K6<M6,J6,IF(K6=M6,"NUL",N6)) -> Equipe 3 | P6: ='3'!F4 -> Equipe 7 | R6: VS | T6: ='3'!F7 -> Equipe 10 | U6: =IF(Q6<S6,P6,IF(Q6=S6,"NUL",T6)) -> NUL | V6: ='3'!F5 -> Equipe 8 | X6: VS | Z6: ='3'!F6 -> Equipe 9 | AA6: =IF(W6<Y6,V6,IF(W6=Y6,"NUL",Z6)) -> NUL | AB6: ='3'!I4 -> Equipe 12 | AD6: VS | AF6: ='3'!I7 -> Equipe 15 | AG6: =IF(AC6<AE6,AB6,IF(AC6=AE6,"NUL",AF6)) -> NUL | AH6: ='3'!I5 -> Equipe 13 | AJ6: VS | AL6: ='3'!I6 -> Equipe 14 | AM6: =IF(AI6<AK6,AH6,IF(AI6=AK6,"NUL",AL6)) -> NUL | AN6: ='3'!L4 -> Equipe 17 | AP6: VS | AR6: ='3'!L7 -> Equipe 20 | AS6: =IF(AO6<AQ6,AN6,IF(AO6=AQ6,"NUL",AR6)) -> NUL | AT6: ='3'!L5 -> Equipe 18 | AV6: VS | AX6: ='3'!L6 -> Equipe 19 | AY6: =IF(AU6<AW6,AT6,IF(AU6=AW6,"NUL",AX6)) -> NUL
B7: 2 | C7: 20h25 | D7: ='3'!C7 -> Equipe 5 | E7: 0 | F7: VS | G7: 2 | H7: ='3'!C3 -> Equipe 1 | I7: =IF(E7<G7,D7,IF(E7=G7,"NUL",H7)) -> Equipe 5 | J7: ='3'!C4 -> Equipe 2 | K7: 2 | L7: VS | M7: 2 | N7: ='3'!C5 -> Equipe 3 | O7: =IF(K7<M7,J7,IF(K7=M7,"NUL",N7)) -> NUL | P7: ='3'!F7 -> Equipe 10 | R7: VS | T7: ='3'!F3 -> Equipe 6 | U7: =IF(Q7<S7,P7,IF(Q7=S7,"NUL",T7)) -> NUL | V7: ='3'!F4 -> Equipe 7 | X7: VS | Z7: ='3'!F5 -> Equipe 8 | AA7: =IF(W7<Y7,V7,IF(W7=Y7,"NUL",Z7)) -> NUL | AB7: ='3'!I7 -> Equipe 15 | AD7: VS | AF7: ='3'!I3 -> Equipe 11 | AG7: =IF(AC7<AE7,AB7,IF(AC7=AE7,"NUL",AF7)) -> NUL | AH7: ='3'!I4 -> Equipe 12 | AJ7: VS | AL7: ='3'!I5 -> Equipe 13 | AM7: =IF(AI7<AK7,AH7,IF(AI7=AK7,"NUL",AL7)) -> NUL | AN7: ='3'!L7 -> Equipe 20 | AP7: VS | AR7: ='3'!L3 -> Equipe 16 | AS7: =IF(AO7<AQ7,AN7,IF(AO7=AQ7,"NUL",AR7)) -> NUL | AT7: ='3'!L4 -> Equipe 17 | AV7: VS | AX7: ='3'!L5 -> Equipe 18 | AY7: =IF(AU7<AW7,AT7,IF(AU7=AW7,"NUL",AX7)) -> NUL
B8: 3 | C8: 20h50 | D8: ='3'!C3 -> Equipe 1 | E8: 1 | F8: VS | G8: 1 | H8: ='3'!C6 -> Equipe 4 | I8: =IF(E8<G8,D8,IF(E8=G8,"NUL",H8)) -> NUL | J8: ='3'!C7 -> Equipe 5 | K8: 1 | L8: VS | M8: 0 | N8: ='3'!C5 -> Equipe 3 | O8: =IF(K8<M8,J8,IF(K8=M8,"NUL",N8)) -> Equipe 3 | P8: ='3'!F3 -> Equipe 6 | R8: VS | T8: ='3'!F6 -> Equipe 9 | U8: =IF(Q8<S8,P8,IF(Q8=S8,"NUL",T8)) -> NUL | V8: ='3'!F7 -> Equipe 10 | X8: VS | Z8: ='3'!F5 -> Equipe 8 | AA8: =IF(W8<Y8,V8,IF(W8=Y8,"NUL",Z8)) -> NUL | AB8: ='3'!I3 -> Equipe 11 | AD8: VS | AF8: ='3'!I6 -> Equipe 14 | AG8: =IF(AC8<AE8,AB8,IF(AC8=AE8,"NUL",AF8)) -> NUL | AH8: ='3'!I7 -> Equipe 15 | AJ8: VS | AL8: ='3'!I5 -> Equipe 13 | AM8: =IF(AI8<AK8,AH8,IF(AI8=AK8,"NUL",AL8)) -> NUL | AN8: ='3'!L3 -> Equipe 16 | AP8: VS | AR8: ='3'!L6 -> Equipe 19 | AS8: =IF(AO8<AQ8,AN8,IF(AO8=AQ8,"NUL",AR8)) -> NUL | AT8: ='3'!L7 -> Equipe 20 | AV8: VS | AX8: ='3'!L5 -> Equipe 18 | AY8: =IF(AU8<AW8,AT8,IF(AU8=AW8,"NUL",AX8)) -> NUL
B9: 4 | C9: 21h15 | D9: ='3'!C5 -> Equipe 3 | E9: 7 | F9: VS | G9: 7 | H9: ='3'!C3 -> Equipe 1 | I9: =IF(E9<G9,D9,IF(E9=G9,"NUL",H9)) -> NUL | J9: ='3'!C6 -> Equipe 4 | K9: 3 | L9: VS | M9: 0 | N9: ='3'!C4 -> Equipe 2 | O9: =IF(K9<M9,J9,IF(K9=M9,"NUL",N9)) -> Equipe 2 | P9: ='3'!F5 -> Equipe 8 | R9: VS | T9: ='3'!F3 -> Equipe 6 | U9: =IF(Q9<S9,P9,IF(Q9=S9,"NUL",T9)) -> NUL | V9: ='3'!F6 -> Equipe 9 | X9: VS | Z9: ='3'!F4 -> Equipe 7 | AA9: =IF(W9<Y9,V9,IF(W9=Y9,"NUL",Z9)) -> NUL | AB9: ='3'!I5 -> Equipe 13 | AD9: VS | AF9: ='3'!I3 -> Equipe 11 | AG9: =IF(AC9<AE9,AB9,IF(AC9=AE9,"NUL",AF9)) -> NUL | AH9: ='3'!I6 -> Equipe 14 | AJ9: VS | AL9: ='3'!I4 -> Equipe 12 | AM9: =IF(AI9<AK9,AH9,IF(AI9=AK9,"NUL",AL9)) -> NUL | AN9: ='3'!L5 -> Equipe 18 | AP9: VS | AR9: ='3'!L3 -> Equipe 16 | AS9: =IF(AO9<AQ9,AN9,IF(AO9=AQ9,"NUL",AR9)) -> NUL | AT9: ='3'!L6 -> Equipe 19 | AV9: VS | AX9: ='3'!L4 -> Equipe 17 | AY9: =IF(AU9<AW9,AT9,IF(AU9=AW9,"NUL",AX9)) -> NUL
B10: 5 | C10: 21h40 | D10: ='3'!C3 -> Equipe 1 | E10: 1 | F10: VS | G10: 2 | H10: ='3'!C4 -> Equipe 2 | I10: =IF(E10<G10,D10,IF(E10=G10,"NUL",H10)) -> Equipe 1 | J10: ='3'!C6 -> Equipe 4 | K10: 1 | L10: VS | M10: 2 | N10: ='3'!C7 -> Equipe 5 | O10: =IF(K10<M10,J10,IF(K10=M10,"NUL",N10)) -> Equipe 4 | P10: ='3'!F3 -> Equipe 6 | R10: VS | T10: ='3'!F4 -> Equipe 7 | U10: =IF(Q10<S10,P10,IF(Q10=S10,"NUL",T10)) -> NUL | V10: ='3'!F6 -> Equipe 9 | X10: VS | Z10: ='3'!F7 -> Equipe 10 | AA10: =IF(W10<Y10,V10,IF(W10=Y10,"NUL",Z10)) -> NUL | AB10: ='3'!I3 -> Equipe 11 | AD10: VS | AF10: ='3'!I4 -> Equipe 12 | AG10: =IF(AC10<AE10,AB10,IF(AC10=AE10,"NUL",AF10)) -> NUL | AH10: ='3'!I6 -> Equipe 14 | AJ10: VS | AL10: ='3'!I7 -> Equipe 15 | AM10: =IF(AI10<AK10,AH10,IF(AI10=AK10,"NUL",AL10)) -> NUL | AN10: ='3'!L3 -> Equipe 16 | AP10: VS | AR10: ='3'!L4 -> Equipe 17 | AS10: =IF(AO10<AQ10,AN10,IF(AO10=AQ10,"NUL",AR10)) -> NUL | AT10: ='3'!L6 -> Equipe 19 | AV10: VS | AX10: ='3'!L7 -> Equipe 20 | AY10: =IF(AU10<AW10,AT10,IF(AU10=AW10,"NUL",AX10)) -> NUL
B12: PHASES FINALES
B13: Matchs | C13: Horaires | D13: Table 1 | P13: Table 3 | AB13: Table 5 | AN13: Table 7
D14: Domicile | E14: Score | G14: Score | H14: Extérieur | I14: Vainqueur | P14: Domicile | Q14: Score | S14: Score | T14: Extérieur | U14: Vainqueur | AB14: Domicile | AC14: Score | AE14: Score | AF14: Extérieur | AG14: Vainqueur | AN14: Domicile | AO14: Score | AQ14: Score | AR14: Extérieur | AS14: Vainqueur
B15: Quart-de-finale | C15: 22h15 | F15: VS | R15: VS | AD15: VS | AP15: VS
B16: Demi-finale | C16: 23h45 | F16: VS | R16: VS
B17: Finale | C17: 23h15 | F17: VS | R17: VS

Sheet 5 (3)
B2: CLASSEMENT POULE A
B3: Equipes | C3: Table 1
C4: MJ | D4: MG | E4: MN | F4: MP | G4: Score | H4: Points
B5: ='3'!C3 -> Equipe 1 | C5: =COUNTIF('4'!D6:D10,B5)+COUNTIF('4'!H6:H10,B5)+COUNTIF('4'!J6:J10,B5)+COUNTIF('4'!N6:N10,B5) -> 4 | D5: =COUNTIF('4'!I6:I10,B5) -> 1 | E5: {=SUMPRODUCT(N(((('4'!D6:D10=B5)+('4'!H6:H10=B5)+('4'!J6:J10=B5)+('4'!N6:N10=B5)*('4'!I6:I10="NUL"))>=1)))} -> 4 | F5: =C5-D5-E5 -> -1 | G5: ='4'!G7+'4'!E8+'4'!G9+'4'!E10 -> 11 | H5: =D5*3+E5 -> 7
B6: ='3'!C4 -> Equipe 2 | C6: =COUNTIF('4'!D6:D10,B6)+COUNTIF('4'!H6:H10,B6)+COUNTIF('4'!J6:J10,B6)+COUNTIF('4'!N6:N10,B6) -> 4 | D6: =COUNTIF('4'!I6:I10,B6)+COUNTIF('4'!O6:IO10,B6) -> 1 | E6: {=SUMPRODUCT(N(((('4'!D7:D11=B6)+('4'!H7:H11=B6)+('4'!J7:J11=B6)+('4'!N7:N11=B6)*('4'!I7:I11="NUL"))>=1)))} -> 3 | F6: =C6-D6-E6 -> 0 | H6: =D6*3+E6 -> 6
B7: ='3'!C5 -> Equipe 3 | C7: =COUNTIF('4'!D6:D10,B7)+COUNTIF('4'!H6:H10,B7)+COUNTIF('4'!J6:J10,B7)+COUNTIF('4'!N6:N10,B7) -> 4 | D7: =COUNTIF('4'!I6:I10,B7)+COUNTIF('4'!O6:IO10,B7) -> 2 | E7: {=SUMPRODUCT(N(((('4'!D8:D12=B7)+('4'!H8:H12=B7)+('4'!J8:J12=B7)+('4'!N8:N12=B7)*('4'!I8:I12="NUL"))>=1)))} -> 2 | F7: =C7-D7-E7 -> 0 | H7: =D7*3+E7 -> 8
B8: ='3'!C6 -> Equipe 4 | C8: =COUNTIF('4'!D6:D10,B8)+COUNTIF('4'!H6:H10,B8)+COUNTIF('4'!J6:J10,B8)+COUNTIF('4'!N6:N10,B8) -> 4 | D8: =COUNTIF('4'!I6:I10,B8)+COUNTIF('4'!O6:IO10,B8) -> 1 | E8: {=SUMPRODUCT(N(((('4'!D9:D13=B8)+('4'!H9:H13=B8)+('4'!J9:J13=B8)+('4'!N9:N13=B8)*('4'!I9:I13="NUL"))>=1)))} -> 2 | F8: =C8-D8-E8 -> 1 | H8: =D8*3+E8 -> 5
B9: ='3'!C7 -> Equipe 5 | C9: =COUNTIF('4'!D6:D10,B9)+COUNTIF('4'!H6:H10,B9)+COUNTIF('4'!J6:J10,B9)+COUNTIF('4'!N6:N10,B9) -> 4 | D9: =COUNTIF('4'!I6:I10,B9)+COUNTIF('4'!O6:IO10,B9) -> 1 | E9: {=SUMPRODUCT(N(((('4'!D10:D14=B9)+('4'!H10:H14=B9)+('4'!J10:J14=B9)+('4'!N10:N14=B9)*('4'!I10:I14="NUL"))>=1)))} -> 0 | F9: =C9-D9-E9 -> 3 | H9: =D9*3+E9 -> 3

Sheet 5 (2)
B2: CLASSEMENT POULE A
B3: Equipes | C3: Table 1 | H3: Table 2 | M3: Total
C4: MJ | D4: MG | E4: MN | F4: MP | G4: Score | H4: MJ | I4: MG | J4: MN | K4: MP | L4: Score | M4: MJ | N4: MG | O4: MN | P4: MP | Q4: Score | R4: Points
B5: ='3'!C3 -> Equipe 1 | C5: =COUNTIF('4'!D6:D10,B5) -> 2 | D5: =COUNTIF('4'!I6:I10,B5) -> 1 | E5: =COUNTIFS('4'!D6:D10,B5,'4'!I6:I10,"NUL") -> 1 | F5: =C5-D5-E5 -> 0 | G5: ='4'!G7+'4'!E8+'4'!G9+'4'!E10 -> 11 | H5: =COUNTIF('4'!H6:H10,B5) -> 2 | I5: =COUNTIF('4'!O6:O10,B5) -> 0 | K5: =H5-I5-J5 -> 2 | M5: =C5+H5 -> 4 | N5: =D5+I5 -> 1 | P5: =F5+K5 -> 2
B6: ='3'!C4 -> Equipe 2 | C6: =COUNTIF('4'!D6:D10,B6) -> 1 | E6: =COUNTIFS('4'!D6:D10,B6,'4'!I6:I10,"NUL") -> 1 | F6: =C6-D6-E6 -> 0 | H6: =COUNTIF('4'!H6:H10,B6) -> 1 | K6: =H6-I6-J6 -> 1 | M6: =C6+H6 -> 2 | P6: =F6+K6 -> 1
B7: ='3'!C5 -> Equipe 3 | C7: =COUNTIF('4'!D6:D10,B7) -> 1 | E7: =COUNTIFS('4'!D6:D10,B7,'4'!I6:I10,"NUL") -> 1 | F7: =C7-D7-E7 -> 0 | H7: =COUNTIF('4'!H6:H10,B7) -> 0 | K7: =H7-I7-J7 -> 0 | M7: =C7+H7 -> 1 | P7: =F7+K7 -> 0
B8: ='3'!C6 -> Equipe 4 | C8: =COUNTIF('4'!D6:D10,B8) -> 0 | E8: =COUNTIFS('4'!D6:D10,B8,'4'!I6:I10,"NUL") -> 0 | F8: =C8-D8-E8 -> 0 | H8: =COUNTIF('4'!H6:H10,B8) -> 1 | K8: =H8-I8-J8 -> 1 | M8: =C8+H8 -> 1 | P8: =F8+K8 -> 1
B9: ='3'!C7 -> Equipe 5 | C9: =COUNTIF('4'!D6:D10,B9) -> 1 | E9: =COUNTIFS('4'!D6:D10,B9,'4'!I6:I10,"NUL") -> 0 | F9: =C9-D9-E9 -> 1 | H9: =COUNTIF('4'!H6:H10,B9) -> 1 | K9: =H9-I9-J9 -> 1 | M9: =C9+H9 -> 2 | P9: =F9+K9 -> 2

Sheet 5
B2: CLASSEMENT POULE A | L2: CLASSEMENT POULE B
B3: Equipes | C3: Table 1 | E3: Table 2 | G3: Total | L3: Equipes | M3: Table 1 | O3: Table 2 | Q3: Total
C4: MG | D4: MN | E4: MG | F4: MN | G4: MG | H4: MN | I4: Score | J4: Points | M4: MG | N4: MN | O4: MG | P4: MN | Q4: MG | R4: MN | S4: Score | T4: Points
B5: ='3'!C3 -> Equipe 1 | C5: =COUNTIF('4'!I6:I10,'5'!B5) -> 1 | D5: =COUNTIF('4'!I7:I10,"NUL") -> 2 | E5: =COUNTIF('4'!O6:O10,'5'!B5) -> 0 | F5: 0 | G5: =C5+E5 -> 1 | H5: =D5+F5 -> 2 | J5: =G5*3+H5 -> 5 | L5: ='3'!M3 -> 0 | M5: =COUNTIF('4'!S6:S10,'5'!L5) -> 0 | N5: =COUNTIF('4'!S7:S10,"NUL") -> 0 | O5: =COUNTIF('4'!Y6:Y10,'5'!L5) -> 0 | P5: 0 | Q5: =M5+O5 -> 0 | R5: =N5+P5 -> 0 | T5: =Q5*3+R5 -> 0
B6: ='3'!C4 -> Equipe 2 | C6: =COUNTIF('4'!I6:I10,'5'!B6) -> 0 | D6: =AND(COUNTIF('4'!I6,"NUL"),COUNTIF('4'!I10,"NUL")) -> FALSE | E6: =COUNTIF('4'!O6:O10,'5'!B6) -> 1 | G6: =C6+E6 -> 1 | H6: =D6+F6 -> 0 | J6: =G6*3+H6 -> 3 | L6: ='3'!M4 -> 0 | M6: =COUNTIF('4'!S6:S10,'5'!L6) -> 0 | N6: =AND(COUNTIF('4'!S6,"NUL"),COUNTIF('4'!S10,"NUL")) -> FALSE | O6: =COUNTIF('4'!Y6:Y10,'5'!L6) -> 0 | Q6: =M6+O6 -> 0 | R6: =N6+P6 -> 0 | T6: =Q6*3+R6 -> 0
B7: ='3'!C5 -> Equipe 3 | C7: =COUNTIF('4'!I6:I10,'5'!B7) -> 0 | E7: =COUNTIF('4'!O6:O10,'5'!B7) -> 2 | G7: =C7+E7 -> 2 | H7: =D7+F7 -> 0 | J7: =G7*3+H7 -> 6 | L7: ='3'!M5 -> 0 | M7: =COUNTIF('4'!S6:S10,'5'!L7) -> 0 | O7: =COUNTIF('4'!Y6:Y10,'5'!L7) -> 0 | Q7: =M7+O7 -> 0 | R7: =N7+P7 -> 0 | T7: =Q7*3+R7 -> 0
B8: ='3'!C6 -> Equipe 4 | C8: =COUNTIF('4'!I6:I10,'5'!B8) -> 0 | E8: =COUNTIF('4'!O6:O10,'5'!B8) -> 1 | G8: =C8+E8 -> 1 | H8: =D8+F8 -> 0 | J8: =G8*3+H8 -> 3 | L8: ='3'!M6 -> 0 | M8: =COUNTIF('4'!S6:S10,'5'!L8) -> 0 | O8: =COUNTIF('4'!Y6:Y10,'5'!L8) -> 0 | Q8: =M8+O8 -> 0 | R8: =N8+P8 -> 0 | T8: =Q8*3+R8 -> 0
B9: ='3'!C7 -> Equipe 5 | C9: =COUNTIF('4'!I6:I10,'5'!B9) -> 1 | E9: =COUNTIF('4'!O6:O10,'5'!B9) -> 0 | G9: =C9+E9 -> 1 | H9: =D9+F9 -> 0 | J9: =G9*3+H9 -> 3 | L9: ='3'!M7 -> 0 | M9: =COUNTIF('4'!S6:S10,'5'!L9) -> 0 | O9: =COUNTIF('4'!Y6:Y10,'5'!L9) -> 0 | Q9: =M9+O9 -> 0 | R9: =N9+P9 -> 0 | T9: =Q9*3+R9 -> 0
B12: CLASSEMENT POULE C | L12: CLASSEMENT POULE D
B13: Equipes | C13: Table 1 | E13: Table 2 | G13: Total | L13: Equipes | M13: Table 1 | O13: Table 2 | Q13: Total
C14: MG | D14: MN | E14: MG | F14: MN | G14: MG | H14: MN | I14: Score | J14: Points | M14: MG | N14: MN | O14: MG | P14: MN | Q14: MG | R14: MN | S14: Score | T14: Points
B15: ='3'!C14 -> 0 | C15: =COUNTIF('4'!I17:I21,'5'!B15) -> 0 | D15: =COUNTIF('4'!I18:I21,"NUL") -> 0 | E15: =COUNTIF('4'!O17:O21,'5'!B15) -> 0 | F15: 0 | G15: =C15+E15 -> 0 | H15: =D15+F15 -> 0 | J15: =G15*3+H15 -> 0 | L15: ='3'!M14 -> 0 | M15: =COUNTIF('4'!S17:S21,'5'!L15) -> 0 | N15: =COUNTIF('4'!S18:S21,"NUL") -> 0 | O15: =COUNTIF('4'!Y17:Y21,'5'!L15) -> 0 | P15: 0 | Q15: =M15+O15 -> 0 | R15: =N15+P15 -> 0 | T15: =Q15*3+R15 -> 0
B16: ='3'!C15 -> 0 | C16: =COUNTIF('4'!I17:I21,'5'!B16) -> 0 | D16: =AND(COUNTIF('4'!I17,"NUL"),COUNTIF('4'!I21,"NUL")) -> FALSE | E16: =COUNTIF('4'!O17:O21,'5'!B16) -> 0 | G16: =C16+E16 -> 0 | H16: =D16+F16 -> 0 | J16: =G16*3+H16 -> 0 | L16: ='3'!M15 -> 0 | M16: =COUNTIF('4'!S17:S21,'5'!L16) -> 0 | N16: =AND(COUNTIF('4'!S17,"NUL"),COUNTIF('4'!S21,"NUL")) -> FALSE | O16: =COUNTIF('4'!Y17:Y21,'5'!L16) -> 0 | Q16: =M16+O16 -> 0 | R16: =N16+P16 -> 0 | T16: =Q16*3+R16 -> 0
B17: ='3'!C16 -> 0 | C17: =COUNTIF('4'!I17:I21,'5'!B17) -> 0 | E17: =COUNTIF('4'!O17:O21,'5'!B17) -> 0 | G17: =C17+E17 -> 0 | H17: =D17+F17 -> 0 | J17: =G17*3+H17 -> 0 | L17: ='3'!M16 -> 0 | M17: =COUNTIF('4'!S17:S21,'5'!L17) -> 0 | O17: =COUNTIF('4'!Y17:Y21,'5'!L17) -> 0 | Q17: =M17+O17 -> 0 | R17: =N17+P17 -> 0 | T17: =Q17*3+R17 -> 0
B18: ='3'!C17 -> 0 | C18: =COUNTIF('4'!I17:I21,'5'!B18) -> 0 | E18: =COUNTIF('4'!O17:O21,'5'!B18) -> 0 | G18: =C18+E18 -> 0 | H18: =D18+F18 -> 0 | J18: =G18*3+H18 -> 0 | L18: ='3'!M17 -> 0 | M18: =COUNTIF('4'!S17:S21,'5'!L18) -> 0 | O18: =COUNTIF('4'!Y17:Y21,'5'!L18) -> 0 | Q18: =M18+O18 -> 0 | R18: =N18+P18 -> 0 | T18: =Q18*3+R18 -> 0
B19: ='3'!C18 -> 0 | C19: =COUNTIF('4'!I17:I21,'5'!B19) -> 0 | E19: =COUNTIF('4'!O17:O21,'5'!B19) -> 0 | G19: =C19+E19 -> 0 | H19: =D19+F19 -> 0 | J19: =G19*3+H19 -> 0 | L19: ='3'!M18 -> 0 | M19: =COUNTIF('4'!S17:S21,'5'!L19) -> 0 | O19: =COUNTIF('4'!Y17:Y21,'5'!L19) -> 0 | Q19: =M19+O19 -> 0 | R19: =N19+P19 -> 0 | T19: =Q19*3+R19 -> 0
