Workbook
Name b_actes: Actes!$A$1:$C$6
Name b_facture: LigneFacture_Decembre!$A$1:$H$2
Name b_facture: LigneFacture_Novembre!$A$1:$H$2
Name b_Libelle: Actes!$B:$B
Name b_lignefacture: LigneFacture_Decembre!$A$2:$H$4
Name b_lignefacture: LigneFacture_Novembre!$A$2:$H$4
Name b_num_facture: LigneFacture_Decembre!$A:$A
Name b_num_facture: LigneFacture_Novembre!$A:$A
Name b_patients: LigneFacture_Decembre!$B:$B
Name b_patients: LigneFacture_Novembre!$B:$B
Name b_prix: Actes!$C:$C
Name coordonnees: Coordonnees!$A$2:$J$4
Name Table2: Actes!$A$2:$C$5

Sheet Facture
I2: Cabinet
I3: Nom : | J3: Pmot
I4: Adresse : | J4: =INDEX(coordonnees[Adresse],MATCH(Facture!J3,coordonnees[Nom et prénom patient],0)) -> 24 boulevard de la chanson
I5: CP et Ville : | J5: =INDEX(coordonnees[code postale],MATCH(Facture!J3,coordonnees[Nom et prénom patient],0))& " "&INDEX(coordonnees[ville],MATCH(Facture!J3,coordonnees[Nom et prénom patient],0)) -> 92520 KKK
I6: Numéros : | J6: =INDEX(coordonnees[Numero mobile],MATCH(Facture!J3,coordonnees[Nom et prénom patient],0))&CHAR(13)&INDEX(coordonnees[Numero fixe],MATCH(Facture!J3,coordonnees[Nom et prénom patient],0)) -> XX XX XX XX XX_x000D_XX XX XX XX XX
I7: Mail | J7: =INDEX(coordonnees[email],MATCH(Facture!J3,coordonnees[Nom et prénom patient],0)) -> pmot@gmail.com
I8: N° Siret : | J8: =INDEX(coordonnees[Siret],MATCH(Facture!J3,coordonnees[Nom et prénom patient],0)) -> 1111
I9: N° Adeli : | J9: =INDEX(coordonnees[Adeli],MATCH(Facture!J3,coordonnees[Nom et prénom patient],0)) -> 2222
I11: Encart | J11: =J3&CHAR(13)&"Psychomotricien D.E"&CHAR(13)&J4&CHAR(13)&J5&CHAR(13)&J6&CHAR(13)&J7&CHAR(13)&"Siret : "&J8&"Adeli : "&J9 -> Pmot_x000D_Psychomotricien D.E_x000D_24 boulevard de la chanson_x000D_92520 KKK_x000D_XX XX XX XX XX_x000D_XX XX XX XX XX_x000D_pmot@gmail.com_x000D_Siret : 1111 Adeli : 2222
B12: Periode choisi (mois)
B13: Facture | I13: Patient
I14: Nom : | J14: DDJ
I15: Parent : | J15: =INDEX(coordonnees[Nom parent1],MATCH(Facture!J14,coordonnees[Nom et prénom patient],0)) -> Mme JAN
I16: Adresse : | J16: =INDEX(coordonnees[Adresse],MATCH(Facture!J14,coordonnees[Nom et prénom patient],0)) -> 1 rue résidence du molet
B17: Acte | C17: Date | D17: Durée | E17: Tarif unitaire | I17: CP et Ville : | J17: =INDEX(coordonnees[code postale],MATCH(Facture!J14,coordonnees[Nom et prénom patient],0))& " "&INDEX(coordonnees[ville],MATCH(Facture!J14,coordonnees[Nom et prénom patient],0)) -> 92520 OOO
I18: Siret | J18: =INDEX(coordonnees[Numero mobile],MATCH(Facture!J14,coordonnees[Nom et prénom patient],0))&CHAR(13)&INDEX(coordonnees[Siret],MATCH(Facture!J14,coordonnees[Nom et prénom patient],0)) -> _x000D_
I22: Encart | J22: ="Nom de l'enfant : "&J14&CHAR(13)&"Nom du/des parents : "&J15&CHAR(13)&J16&CHAR(13)&J17&J18 -> Nom de l'enfant : DDJ_x000D_Nom du/des parents : Mme JAN_x000D_1 rue résidence du molet_x000D_92520 OOO_x000D_

Sheet Actes
A1: Code | B1: Libellé | C1: Prix
A2: S30 | B2: Séance de 30 minutes | C2: 35
A3: S45 | B3: Séance de 45 minutes | C3: 45
A4: RU | B4: Participation à une réunion | C4: 45
A5: CR | B5: Rédaction d'un compte-rendu | C5: 35
A6: BI | B6: Bilan psychomoteur | C6: 190

Sheet Coordonnees
A1: Nom et prénom patient | B1: Nom parent1 | C1: Adresse | D1: Numero mobile | E1: Numero fixe | F1: code postale | G1: ville | H1: email | I1: Siret | J1: Adeli
A2: DDJ | B2: Mme JAN | C2: 1 rue résidence du molet | F2: 92520 | G2: OOO | H2: jjjj@gmail.com
A3: FKE | B3: Mme FRA | C3: 4 rue de la chanson | F3: 92520 | G3: AAA | H3: tta@hotmail.fr | I3: 1
A4: Pmot | C4: 24 boulevard de la chanson | D4: XX XX XX XX XX | E4: XX XX XX XX XX | F4: 92520 | G4: KKK | H4: pmot@gmail.com | I4: 1111 | J4: 2222

Sheet LigneFacture_Novembre
A1: Numéro facture | B1: Patient | C1: Date | D1: Ligne Facture | E1: Code article | F1: Libellé | G1: Prix unitaire | H1: Index
A2: F1073 | B2: DDJ | C2: 44874 | D2: 1 | E2: S30 | F2: =INDEX(b_Libelle,MATCH(LigneFacture_Novembre!E2,Actes!A:A,0)) -> Séance de 30 minutes | G2: =INDEX(b_prix,MATCH(LigneFacture_Novembre!E2,Actes!A:A,0)) -> 35 | H2: =CONCATENATE(b_num_facture, " ",D:D ) -> F1073 1
A3: F1073 | B3: DDJ | C3: 44879 | D3: 2 | E3: S30 | F3: =INDEX(b_Libelle,MATCH(LigneFacture_Novembre!E3,Actes!A:A,0)) -> Séance de 30 minutes | G3: =INDEX(b_prix,MATCH(LigneFacture_Novembre!E3,Actes!A:A,0)) -> 35 | H3: =CONCATENATE(b_num_facture, " ",D:D ) -> F1073 2
A4: F1073 | B4: DDJ | C4: 44888 | D4: 3 | E4: S30 | F4: =INDEX(b_Libelle,MATCH(LigneFacture_Novembre!E4,Actes!A:A,0)) -> Séance de 30 minutes | G4: =INDEX(b_prix,MATCH(LigneFacture_Novembre!E4,Actes!A:A,0)) -> 35 | H4: =CONCATENATE(b_num_facture, " ",D:D ) -> F1073 3
A5: F1087 | B5: DDJ | C5: 44886 | D5: 1 | E5: BI | F5: =INDEX(b_Libelle,MATCH(LigneFacture_Novembre!E5,Actes!A:A,0)) -> Bilan psychomoteur | G5: =INDEX(b_prix,MATCH(LigneFacture_Novembre!E5,Actes!A:A,0)) -> 190 | H5: =CONCATENATE(b_num_facture, " ",D:D ) -> F1087 1
K6: [ ]

Sheet LigneFacture_Decembre
A1: Numéro facture | B1: Patient | C1: Date | D1: Ligne Facture | E1: Code article | F1: Libellé | G1: Prix unitaire | H1: Index
A2: F1073 | B2: DORMÉUS Jérémy | C2: 44874 | D2: 1 | E2: S30 | F2: =INDEX(b_Libelle,MATCH(LigneFacture_Decembre!E2,Actes!A:A,0)) -> Séance de 30 minutes | G2: =INDEX(b_prix,MATCH(LigneFacture_Decembre!E2,Actes!A:A,0)) -> 35 | H2: =CONCATENATE(b_num_facture, " ",D:D ) -> F1073 1
A3: F1073 | B3: DORMÉUS Jérémy | C3: 44879 | D3: 2 | E3: S30 | F3: =INDEX(b_Libelle,MATCH(LigneFacture_Decembre!E3,Actes!A:A,0)) -> Séance de 30 minutes | G3: =INDEX(b_prix,MATCH(LigneFacture_Decembre!E3,Actes!A:A,0)) -> 35 | H3: =CONCATENATE(b_num_facture, " ",D:D ) -> F1073 2
A4: F1073 | B4: DORMÉUS Jérémy | C4: 44888 | D4: 3 | E4: S30 | F4: =INDEX(b_Libelle,MATCH(LigneFacture_Decembre!E4,Actes!A:A,0)) -> Séance de 30 minutes | G4: =INDEX(b_prix,MATCH(LigneFacture_Decembre!E4,Actes!A:A,0)) -> 35 | H4: =CONCATENATE(b_num_facture, " ",D:D ) -> F1073 3
A5: F1087 | B5: FRANCILLONNE Kyran-Emmanuel | C5: 44886 | D5: 1 | E5: BI | F5: =INDEX(b_Libelle,MATCH(LigneFacture_Decembre!E5,Actes!A:A,0)) -> Bilan psychomoteur | G5: =INDEX(b_prix,MATCH(LigneFacture_Decembre!E5,Actes!A:A,0)) -> 190 | H5: =CONCATENATE(b_num_facture, " ",D:D ) -> F1087 1
K6: [ ]
