Workbook

Sheet Feuil1
A1: HEURES | C1: CODE | D1: DESCRIPTION | E1: LONGUEUR MÈTRE | F1: DIAMÈTRE MM | G1: MATÉRIAUX | H1: PRESSION LBS | I1: KPA | J1: E.S BOUCHÉE | K1: T/Min Litre/h | L1: PERTE CALCULÉE | M1: RÉSULTAT | N1: REGARD HAUTEUR
A2: DE | B2: À
I3: =H3*6.89476 -> 0
I4: =H4*6.89476 -> 0
I5: =H5*6.89476 -> 0
I6: =H6*6.89476 -> 0
C7: 3.2 | D7: test 2 | E7: 350 | F7: 375 | H7: 200 | I7: =H7*6.89476 -> 1378.952
I8: =H8*6.89476 -> 0
I9: =H9*6.89476 -> 0
I10: =H10*6.89476 -> 0
C11: 1 | D11: test 1 | E11: 200 | F11: 250 | H11: 125 | I11: =H11*6.89476 -> 861.845
D12: =IF(C12=10,"route",IF(C12=2,"Chloration","")) | I12: =H12*6.89476 -> 0
D13: =IF(C13=10,"route",IF(C13=2,"Chloration","")) | I13: =H13*6.89476 -> 0
I14: =H14*6.89476 -> 0
D15: =IF(C15=10,"route",IF(C15=2,"Chloration","")) | I15: =H15*6.89476 -> 0
I16: =H16*6.89476 -> 0
D17: =IF(C17=10,"route",IF(C17=2,"Chloration","")) | I17: =H17*6.89476 -> 0
I18: =H18*6.89476 -> 0
D19: =IF(C19=10,"route",IF(C19=2,"Chloration","")) | I19: =H19*6.89476 -> 0
C20: 2.3 | D20: test 3 | E20: 450 | F20: 750 | H20: 50 | I20: =H20*6.89476 -> 344.738
I21: =H21*6.89476 -> 0
D22: =IF(C22=10,"route",IF(C22=2,"Chloration","")) | I22: =H22*6.89476 -> 0
D23: =IF(C23=10,"route",IF(C23=2,"Chloration","")) | I23: =H23*6.89476 -> 0
I24: =H24*6.89476 -> 0
D25: =IF(C25=10,"route",IF(C25=2,"Chloration","")) | I25: =H25*6.89476 -> 0
I26: =H26*6.89476 -> 0
D27: =IF(C27=10,"route",IF(C27=2,"Chloration","")) | I27: =H27*6.89476 -> 0
I28: =H28*6.89476 -> 0
D29: =IF(C29=10,"route",IF(C29=2,"Chloration","")) | I29: =H29*6.89476 -> 0
I30: =H30*6.89476 -> 0
I31: =H31*6.89476 -> 0
I32: =H32*6.89476 -> 0
I33: =H33*6.89476 -> 0

Sheet Feuil2
A1: Identification | I1: Longueur mètre | J1: Diamètre mm | K1: Matériaux | L1: Perte permise
A2: =IFERROR(VLOOKUP(1,Feuil1!C3:N33,2,0),"") -> test 1 | I2: =IFERROR(VLOOKUP(1,Feuil1!C3:N33,3,0),"") -> 200 | J2: =IFERROR(VLOOKUP(1,Feuil1!C3:N33,4,0),"") -> 250 | K2: =IFERROR(VLOOKUP(1,'[1]Rapport Journalier'!C41:N42,5,0),"") | L2: =Feuil3!I2 -> 1.5308968 | M2: 1
A3: =IFERROR(VLOOKUP(1.1,Feuil1!C3:N33,2,0),"") | I3: =IFERROR(VLOOKUP(1.1,Feuil1!C3:N33,3,0),"") | J3: =IFERROR(VLOOKUP(1.2,Feuil1!C3:N33,4,0),"") | K3: =IFERROR(VLOOKUP(1.1,'[1]Rapport Journalier'!C41:N42,5,0),"") | L3: =Feuil3!I3 | M3: 1.1
A4: =IFERROR(VLOOKUP(1.2,Feuil1!C3:N33,2,0),"") | I4: =IFERROR(VLOOKUP(1.2,Feuil1!C3:N33,3,0),"") | J4: =IFERROR(VLOOKUP(1.2,Feuil1!C3:N33,4,0),"") | K4: =IFERROR(VLOOKUP(1.2,'[1]Rapport Journalier'!C41:N42,5,0),"") | L4: =Feuil3!I4 | M4: 1.2
A5: =IFERROR(VLOOKUP(1.3,Feuil1!C3:N33,2,0),"") | I5: =IFERROR(VLOOKUP(1.3,Feuil1!C3:N33,3,0),"") | J5: =IFERROR(VLOOKUP(1.3,Feuil1!C3:N33,4,0),"") | K5: =IFERROR(VLOOKUP(1.3,'[1]Rapport Journalier'!C41:N42,5,0),"") | L5: =Feuil3!I5 | M5: 1.3
A6: Étanchéité | C6: Conductivité | E6: Chloration par: | G6: Rinçage par: | I6: Analyse bactériologique
A7: Pression psi:: | B7: =IFERROR(VLOOKUP(1,'[1]Rapport Journalier'!C41:N42,6,0),"") | C7: Ampérage: N/A | E7: =IF(E8="chloration","Test Tech Inc","") | G7: Test-Tech Inc | I7: No de laboratoire
A8: Pression kpa: | B8: =IFERROR(B7*6.89476,"") | E8: =IFERROR(VLOOKUP(4,'[1]Rapport Journalier'!C41:N43,2,0),"")
A9: Perte permise L/h: | B9: =Feuil3!I6 -> 1.5308968 | C9: Résultat: | E9: =IF(E8="Chloration",50,"") | F9: ppm
A10: Perte mesurée L/h: | B10: =IFERROR(VLOOKUP(1,'[1]Rapport Journalier'!C41:N42,10,0),"")
A11: Essais: | B11: =IF(B10="","",IF(B10<=B9,"POSITIF","NÉGATIF")) | I11: Résultat:
A12: Date: | C12: Date: | E12: Date: | G12: Date: | I12: Selon les normes du BNQ 1809-300/2018
A14: Identification | I14: Longueur mètre | J14: Diamètre mm | K14: Matériaux | L14: Perte permise
A15: =IFERROR(VLOOKUP(2,Feuil1!C3:N33,2,0),"") | I15: =IFERROR(VLOOKUP(2,Feuil1!C3:N33,3,0),"") | J15: =IFERROR(VLOOKUP(2,Feuil1!C3:N33,4,0),"") | K15: =IFERROR(VLOOKUP(2,'[1]Rapport Journalier'!C41:N42,5,0),"") | L15: =Feuil3!I11 | M15: 2
A16: =IFERROR(VLOOKUP(2.1,Feuil1!C3:N33,2,0),"") | I16: =IFERROR(VLOOKUP(2.1,Feuil1!C3:N33,3,0),"") | J16: =IFERROR(VLOOKUP(2.1,Feuil1!C3:N33,4,0),"") | K16: =IFERROR(VLOOKUP(2.1,'[1]Rapport Journalier'!C41:N42,5,0),"") | L16: =Feuil3!I12 | M16: 2.1
A17: =IFERROR(VLOOKUP(2.2,Feuil1!C3:N33,2,0),"") | I17: =IFERROR(VLOOKUP(2.2,Feuil1!C3:N33,3,0),"") | J17: =IFERROR(VLOOKUP(2.2,Feuil1!C3:N33,4,0),"") | K17: =IFERROR(VLOOKUP(2.2,'[1]Rapport Journalier'!C41:N42,5,0),"") | L17: =Feuil3!I13 | M17: 2.2
A18: =IFERROR(VLOOKUP(2.3,Feuil1!C3:N33,2,0),"") -> test 3 | I18: =IFERROR(VLOOKUP(2.3,Feuil1!C3:N33,3,0),"") -> 450 | J18: =IFERROR(VLOOKUP(2.3,Feuil1!C3:N33,4,0),"") -> 750 | K18: =IFERROR(VLOOKUP(2.3,'[1]Rapport Journalier'!C41:N42,5,0),"") | L18: =Feuil3!I14 -> 8.0092069 | M18: 2.3
A19: Étanchéité | C19: Conductivité | E19: Chloration par: | G19: Rinçage par: | I19: Analyse bactériologique
A20: Pression psi:: | B20: =IFERROR(VLOOKUP(2,'[1]Rapport Journalier'!C41:N42,6,0),"") | C20: Ampérage: N/A | E20: =IF(E21="chloration","Test Tech Inc","") | G20: Test-Tech Inc | I20: No de laboratoire
A21: Pression kpa: | B21: =IFERROR(B20*6.89476,"") | E21: =IFERROR(VLOOKUP(4.1,'[1]Rapport Journalier'!C41:N43,2,0),"")
A22: Perte permise L/h: | B22: =Feuil3!I15 -> 8.0092069 | C22: Résultat: | E22: =IF(E21="Chloration",50,"") | F22: ppm
A23: Perte mesurée L/h: | B23: =IFERROR(VLOOKUP(2,'[1]Rapport Journalier'!C41:N42,10,0),"")
A24: Essais: | B24: =IF(B23="","",IF(B23<=B22,"POSITIF","NÉGATIF")) | I24: Résultat:
A25: Date: | C25: Date: | E25: Date: | G25: Date: | I25: Selon les normes du BNQ 1809-300/2018
A27: Identification | I27: Longueur mètre | J27: Diamètre mm | K27: Matériaux | L27: Perte permise
A28: =IFERROR(VLOOKUP(3,Feuil1!C3:N33,2,0),"") | I28: =IFERROR(VLOOKUP(3,Feuil1!C3:N33,3,0),"") | J28: =IFERROR(VLOOKUP(3,Feuil1!C3:N33,4,0),"") | K28: =IFERROR(VLOOKUP(3,'[1]Rapport Journalier'!C41:N42,5,0),"") | L28: =Feuil3!I20 | M28: 3
A29: =IFERROR(VLOOKUP(3.1,Feuil1!C3:N33,2,0),"") | I29: =IFERROR(VLOOKUP(3.1,Feuil1!C3:N33,3,0),"") | J29: =IFERROR(VLOOKUP(3.1,Feuil1!C3:N33,4,0),"") | K29: =IFERROR(VLOOKUP(3.1,'[1]Rapport Journalier'!C41:N42,5,0),"") | L29: =Feuil3!I21 | M29: 3.1
A30: =IFERROR(VLOOKUP(3.2,Feuil1!C3:N33,2,0),"") -> test 2 | I30: =IFERROR(VLOOKUP(3.2,Feuil1!C3:N33,3,0),"") -> 350 | J30: =IFERROR(VLOOKUP(3.2,Feuil1!C3:N33,4,0),"") -> 375 | K30: =IFERROR(VLOOKUP(3.2,'[1]Rapport Journalier'!C41:N42,5,0),"") | L30: =Feuil3!I22 -> 6.1937867 | M30: 3.2
A31: =IFERROR(VLOOKUP(3.3,Feuil1!C3:N33,2,0),"") | I31: =IFERROR(VLOOKUP(3.3,Feuil1!C3:N33,3,0),"") | J31: =IFERROR(VLOOKUP(3.3,Feuil1!C3:N33,4,0),"") | K31: =IFERROR(VLOOKUP(3.3,'[1]Rapport Journalier'!C41:N42,5,0),"") | L31: =Feuil3!I23 | M31: 3.3
A32: Étanchéité | C32: Conductivité | E32: Chloration par: | G32: Rinçage par: | I32: Analyse bactériologique
A33: Pression psi:: | B33: =IFERROR(VLOOKUP(3,'[1]Rapport Journalier'!C41:N42,6,0),"") | C33: Ampérage: N/A | E33: =IF(E34="chloration","Test Tech Inc","") | G33: Test-Tech Inc | I33: No de laboratoire
A34: Pression kpa: | B34: =IFERROR(B33*6.89476,"") | E34: =IFERROR(VLOOKUP(4.2,'[1]Rapport Journalier'!C41:N43,2,0),"")
A35: Perte permise L/h: | B35: =Feuil3!I24 -> 6.1937867 | C35: Résultat: | E35: =IF(E34="Chloration",50,"") | F35: ppm
A36: Perte mesurée L/h: | B36: =IFERROR(VLOOKUP(3,'[1]Rapport Journalier'!C41:N42,10,0),"")
A37: Essais: | B37: =IF(B36="","",IF(B36<=B35,"POSITIF","NÉGATIF")) | I37: Résultat:
A38: Date: | C38: Date: | E38: Date: | G38: Date: | I38: Selon les normes du BNQ 1809-300/2018

Sheet Feuil3
F1: psi | G1: kpa | H1: diam | I1: perte permise
B2: Nbr joint seg. 1 | D2: =IFERROR(Feuil2!I2/6.1+1,"") -> 33.786885 | E2: =IFERROR(ROUNDUP(D2,0),"") -> 34 | F2: =IFERROR(VLOOKUP(1,Feuil1!C3:N33,6,0),"") -> 125 | G2: =IFERROR(F2*6.89476,"") -> 861.845 | H2: =Feuil2!I2 -> 200 | I2: =IFERROR(Feuil3!E2*H2*D6/130400,"") -> 1.5308968
B3: Nbr joint seg. 1,1 | D3: =IFERROR(Feuil2!I3/6.1+1,"") | E3: =IFERROR(ROUND(D3,0),"") | F3: =IFERROR(VLOOKUP(1.1,Feuil1!C3:N33,6,0),"") | G3: =IFERROR(F3*6.89476,"") | H3: =Feuil2!I3 | I3: =IFERROR(Feuil3!E3*H3*D7/130400,"")
B4: Nbr joint seg. 1,2 | D4: =IFERROR(Feuil2!I4/6.1+1,"") | E4: =IFERROR(ROUND(D4,0),"") | F4: =IFERROR(VLOOKUP(1.1,Feuil1!C3:N33,6,0),"") | G4: =IFERROR(F4*6.89476,"") | H4: =Feuil2!I4 | I4: =IFERROR(Feuil3!E4*H4*D8/130400,"")
B5: Nbr joint seg. 1,3 | D5: =IFERROR(Feuil2!I5/6.1+1,"") | E5: =IFERROR(ROUND(D5,0),"") | F5: =IFERROR(VLOOKUP(1.1,Feuil1!C3:N33,6,0),"") | G5: =IFERROR(F5*6.89476,"") | H5: =Feuil2!I5 | I5: =IFERROR(Feuil3!E5*H5*D9/130400,"")
B6: √pression segment 1 | D6: =IFERROR(SQRT(G2),"") -> 29.357197 | I6: =SUM(I2:I5) -> 1.5308968
B7: √pression segment 1,1 | D7: =IFERROR(SQRT(G3),"")
B8: √pression segment 1,2 | D8: =IFERROR(SQRT(G4),"")
B9: √pression segment 1,3 | D9: =IFERROR(SQRT(G5),"")
B11: Nbr joint seg. 2 | D11: =IFERROR(Feuil2!I15/6.1+1,"") | E11: =IFERROR(ROUNDUP(D11,0),"") | F11: =IFERROR(VLOOKUP(2,Feuil1!C3:N33,6,0),"") | G11: =IFERROR(F11*6.89476,"") | H11: =Feuil2!J15 | I11: =IFERROR(Feuil3!E11*H11*D15/130400,"")
B12: Nbr joint seg. 2,1 | D12: =IFERROR(Feuil2!I16/6.1+1,"") | E12: =IFERROR(ROUND(D12,0),"") | F12: =IFERROR(VLOOKUP(2.1,Feuil1!C3:N33,6,0),"") | G12: =IFERROR(F12*6.89476,"") | H12: =Feuil2!J16 | I12: =IFERROR(Feuil3!E12*H12*D16/130400,"")
B13: Nbr joint seg. 2,2 | D13: =IFERROR(Feuil2!I17/6.1+1,"") | E13: =IFERROR(ROUND(D13,0),"") | F13: =IFERROR(VLOOKUP(2.2,Feuil1!C3:N33,6,0),"") | G13: =IFERROR(F13*6.89476,"") | H13: =Feuil2!J17 | I13: =IFERROR(Feuil3!E13*H13*D17/130400,"")
B14: Nbr joint seg. 2,3 | D14: =IFERROR(Feuil2!I18/6.1+1,"") -> 74.770492 | E14: =IFERROR(ROUND(D14,0),"") -> 75 | F14: =IFERROR(VLOOKUP(2.3,Feuil1!C3:N33,6,0),"") -> 50 | G14: =IFERROR(F14*6.89476,"") -> 344.738 | H14: =Feuil2!J18 -> 750 | I14: =IFERROR(Feuil3!E14*H14*D18/130400,"") -> 8.0092069
B15: √pression segment 1 | D15: =IFERROR(SQRT(G11),"") | I15: =SUM(I11:I14) -> 8.0092069
B16: √pression segment 1,1 | D16: =IFERROR(SQRT(G12),"")
B17: √pression segment 1,2 | D17: =IFERROR(SQRT(G13),"")
B18: √pression segment 1,3 | D18: =IFERROR(SQRT(G14),"") -> 18.567121
B20: Nbr joint seg. 1 | D20: =IFERROR(Feuil2!I28/6.1+1,"") | E20: =IFERROR(ROUNDUP(D20,0),"") | F20: =IFERROR(VLOOKUP(3,Feuil1!C3:N33,6,0),"") | G20: =IFERROR(F20*6.89476,"") | H20: =Feuil2!J28 | I20: =IFERROR(Feuil3!E20*H20*D24/130400,"")
B21: Nbr joint seg. 1,1 | D21: =IFERROR(Feuil2!I29/6.1+1,"") | E21: =IFERROR(ROUND(D21,0),"") | F21: =IFERROR(VLOOKUP(3.1,Feuil1!C3:N33,6,0),"") | G21: =IFERROR(F21*6.89476,"") | H21: =Feuil2!J29 | I21: =IFERROR(Feuil3!E21*H21*D25/130400,"")
B22: Nbr joint seg. 1,2 | D22: =IFERROR(Feuil2!I30/6.1+1,"") -> 58.377049 | E22: =IFERROR(ROUND(D22,0),"") -> 58 | F22: =IFERROR(VLOOKUP(3.2,Feuil1!C3:N33,6,0),"") -> 200 | G22: =IFERROR(F22*6.89476,"") -> 1378.952 | H22: =Feuil2!J30 -> 375 | I22: =IFERROR(Feuil3!E22*H22*D26/130400,"") -> 6.1937867
B23: Nbr joint seg. 1,3 | D23: =IFERROR(Feuil2!I31/6.1+1,"") | E23: =IFERROR(ROUND(D23,0),"") | F23: =IFERROR(VLOOKUP(3.3,Feuil1!C3:N33,6,0),"") | G23: =IFERROR(F23*6.89476,"") | H23: =Feuil2!J31 | I23: =IFERROR(Feuil3!E23*H23*D27/130400,"")
B24: √pression segment 1 | D24: =IFERROR(SQRT(G20),"") | I24: =SUM(I20:I23) -> 6.1937867
B25: √pression segment 1,1 | D25: =IFERROR(SQRT(G21),"")
B26: √pression segment 1,2 | D26: =IFERROR(SQRT(G22),"") -> 37.134243
B27: √pression segment 1,3 | D27: =IFERROR(SQRT(G23),"")
