Workbook

Sheet Feuil2
A1: Article | B1: Taille | C1: Couleur | D1: concatener | E1: Quantité vendu
A2: TEE-SHIRT MAISSOUILLE | B2: M | C2: NOIR | D2: =CONCATENATE(A2,B2,C2) -> TEE-SHIRT MAISSOUILLEMNOIR | E2: 5
A3: Choix dans la liste | B3: Choix dans la liste | C3: Choix dans la liste | D3: RIEN A FAIRE | E3: Noté la quantité
A7: les personnes vont renseigne la ligne avec liste déroulante puis saisie de la quantité (5 dans l'exemple ci-dessus)
A8: Je souhaiterais que lorsque j'appui sur valider ça vienne renseigner le fichier stock merch à la ligne du concatener identique (Jai mis 5 dans le fichier)

Sheet STOCK MERCH
A1: CODE | B1: Type de vetements | C1: Taille | D1: Couleur | E1: Quantité | F1: CONTATENER | G1: Vendue
A2: 1 | B2: ALBUM MAISSOUILLE | E2: 268 | F2: =+_xlfn.CONCAT(B2,C2,D2) -> ALBUM MAISSOUILLE | G2: =SUMIFS(Feuil2!$E:$E,Feuil2!$D:$D,'STOCK MERCH'!$F2) -> 0
A3: 2 | B3: BOB ESKAPE | E3: 45 | F3: =+_xlfn.CONCAT(B3,C3,D3) -> BOB ESKAPE | G3: =SUMIFS(Feuil2!$E:$E,Feuil2!$D:$D,'STOCK MERCH'!$F3) -> 0
A4: 3 | B4: BOB HF | E4: 48 | F4: =+_xlfn.CONCAT(B4,C4,D4) -> BOB HF | G4: =SUMIFS(Feuil2!$E:$E,Feuil2!$D:$D,'STOCK MERCH'!$F4) -> 0
A5: 4 | B5: BODY ESKAPE | C5: 06/12 MOIS | E5: 5 | F5: =+_xlfn.CONCAT(B5,C5,D5) -> BODY ESKAPE06/12 MOIS | G5: =SUMIFS(Feuil2!$E:$E,Feuil2!$D:$D,'STOCK MERCH'!$F5) -> 0
A6: 5 | B6: BODY ESKAPE | C6: 12/18 MOIS | E6: 5 | F6: =+_xlfn.CONCAT(B6,C6,D6) -> BODY ESKAPE12/18 MOIS | G6: =SUMIFS(Feuil2!$E:$E,Feuil2!$D:$D,'STOCK MERCH'!$F6) -> 0
A7: 6 | B7: BODY HF | C7: 06/12 MOIS | E7: 5 | F7: =+_xlfn.CONCAT(B7,C7,D7) -> BODY HF06/12 MOIS | G7: =SUMIFS(Feuil2!$E:$E,Feuil2!$D:$D,'STOCK MERCH'!$F7) -> 0
A8: 7 | B8: BODY HF | C8: 12/18 MOIS | E8: 5 | F8: =+_xlfn.CONCAT(B8,C8,D8) -> BODY HF12/18 MOIS | G8: =SUMIFS(Feuil2!$E:$E,Feuil2!$D:$D,'STOCK MERCH'!$F8) -> 0
A9: 8 | B9: BOMBERS | C9: S | E9: 4 | F9: =+_xlfn.CONCAT(B9,C9,D9) -> BOMBERSS | G9: =SUMIFS(Feuil2!$E:$E,Feuil2!$D:$D,'STOCK MERCH'!$F9) -> 0
A10: 9 | B10: BONNET | E10: 5 | F10: =+_xlfn.CONCAT(B10,C10,D10) -> BONNET | G10: =SUMIFS(Feuil2!$E:$E,Feuil2!$D:$D,'STOCK MERCH'!$F10) -> 0
A11: 10 | B11: BRACELET HF | D11: NOIR | E11: 85 | F11: =+_xlfn.CONCAT(B11,C11,D11) -> BRACELET HFNOIR | G11: =SUMIFS(Feuil2!$E:$E,Feuil2!$D:$D,'STOCK MERCH'!$F11) -> 0
A12: 11 | B12: BRACELET HF | D12: NOIR/BLANC | E12: 110 | F12: =+_xlfn.CONCAT(B12,C12,D12) -> BRACELET HFNOIR/BLANC | G12: =SUMIFS(Feuil2!$E:$E,Feuil2!$D:$D,'STOCK MERCH'!$F12) -> 0
A13: 12 | B13: BRACELET HF + LOGO | E13: 64 | F13: =+_xlfn.CONCAT(B13,C13,D13) -> BRACELET HF + LOGO | G13: =SUMIFS(Feuil2!$E:$E,Feuil2!$D:$D,'STOCK MERCH'!$F13) -> 0
A14: 13 | B14: BRASSIERE ESKAPE | C14: XS | E14: 6 | F14: =+_xlfn.CONCAT(B14,C14,D14) -> BRASSIERE ESKAPEXS | G14: =SUMIFS(Feuil2!$E:$E,Feuil2!$D:$D,'STOCK MERCH'!$F14) -> 0
A15: 14 | B15: BRASSIERE ESKAPE | C15: S | E15: 5 | F15: =+_xlfn.CONCAT(B15,C15,D15) -> BRASSIERE ESKAPES | G15: =SUMIFS(Feuil2!$E:$E,Feuil2!$D:$D,'STOCK MERCH'!$F15) -> 0
A16: 15 | B16: BRASSIERE ESKAPE | C16: M | E16: 4 | F16: =+_xlfn.CONCAT(B16,C16,D16) -> BRASSIERE ESKAPEM | G16: =SUMIFS(Feuil2!$E:$E,Feuil2!$D:$D,'STOCK MERCH'!$F16) -> 0
A17: 16 | B17: BRASSIERE ESKAPE | C17: L | E17: 2 | F17: =+_xlfn.CONCAT(B17,C17,D17) -> BRASSIERE ESKAPEL | G17: =SUMIFS(Feuil2!$E:$E,Feuil2!$D:$D,'STOCK MERCH'!$F17) -> 0
A18: 17 | B18: BRASSIERE HF | C18: XS | E18: 8 | F18: =+_xlfn.CONCAT(B18,C18,D18) -> BRASSIERE HFXS | G18: =SUMIFS(Feuil2!$E:$E,Feuil2!$D:$D,'STOCK MERCH'!$F18) -> 0
A19: 18 | B19: BRASSIERE HF | C19: S | E19: 10 | F19: =+_xlfn.CONCAT(B19,C19,D19) -> BRASSIERE HFS | G19: =SUMIFS(Feuil2!$E:$E,Feuil2!$D:$D,'STOCK MERCH'!$F19) -> 0
A20: 19 | B20: BRASSIERE HF | C20: M | E20: 8 | F20: =+_xlfn.CONCAT(B20,C20,D20) -> BRASSIERE HFM | G20: =SUMIFS(Feuil2!$E:$E,Feuil2!$D:$D,'STOCK MERCH'!$F20) -> 0
A21: 20 | B21: BRASSIERE HF | C21: L | E21: 3 | F21: =+_xlfn.CONCAT(B21,C21,D21) -> BRASSIERE HFL | G21: =SUMIFS(Feuil2!$E:$E,Feuil2!$D:$D,'STOCK MERCH'!$F21) -> 0
A22: 21 | B22: CASQUETTE ESKAPE | E22: 86 | F22: =+_xlfn.CONCAT(B22,C22,D22) -> CASQUETTE ESKAPE | G22: =SUMIFS(Feuil2!$E:$E,Feuil2!$D:$D,'STOCK MERCH'!$F22) -> 0
A23: 22 | B23: Casquette HC | D23: NOIR | E23: 93 | F23: =+_xlfn.CONCAT(B23,C23,D23) -> Casquette HCNOIR | G23: =SUMIFS(Feuil2!$E:$E,Feuil2!$D:$D,'STOCK MERCH'!$F23) -> 0
A24: 23 | B24: Casquette HC | D24: NOIR/GRIS | E24: 6 | F24: =+_xlfn.CONCAT(B24,C24,D24) -> Casquette HCNOIR/GRIS | G24: =SUMIFS(Feuil2!$E:$E,Feuil2!$D:$D,'STOCK MERCH'!$F24) -> 0
A25: 24 | B25: DEBARDEUR BRETELLE HF | C25: S | E25: 2 | F25: =+_xlfn.CONCAT(B25,C25,D25) -> DEBARDEUR BRETELLE HFS | G25: =SUMIFS(Feuil2!$E:$E,Feuil2!$D:$D,'STOCK MERCH'!$F25) -> 0
A26: 25 | B26: DEBARDEUR BRETELLE HF | C26: L | E26: 3 | F26: =+_xlfn.CONCAT(B26,C26,D26) -> DEBARDEUR BRETELLE HFL | G26: =SUMIFS(Feuil2!$E:$E,Feuil2!$D:$D,'STOCK MERCH'!$F26) -> 0
A27: 26 | B27: DEBARDEUR BRETELLE MAISSOUILLE | C27: M | E27: 2 | F27: =+_xlfn.CONCAT(B27,C27,D27) -> DEBARDEUR BRETELLE MAISSOUILLEM | G27: =SUMIFS(Feuil2!$E:$E,Feuil2!$D:$D,'STOCK MERCH'!$F27) -> 0
A28: 27 | B28: DEBARDEUR BRETELLE MAISSOUILLE | C28: L | E28: 8 | F28: =+_xlfn.CONCAT(B28,C28,D28) -> DEBARDEUR BRETELLE MAISSOUILLEL | G28: =SUMIFS(Feuil2!$E:$E,Feuil2!$D:$D,'STOCK MERCH'!$F28) -> 0
A29: 28 | B29: DEBARDEUR SANS BRETELLE HF | C29: S | E29: 2 | F29: =+_xlfn.CONCAT(B29,C29,D29) -> DEBARDEUR SANS BRETELLE HFS | G29: =SUMIFS(Feuil2!$E:$E,Feuil2!$D:$D,'STOCK MERCH'!$F29) -> 0
A30: 29 | B30: DEBARDEUR SANS BRETELLE HF | C30: M | E30: 12 | F30: =+_xlfn.CONCAT(B30,C30,D30) -> DEBARDEUR SANS BRETELLE HFM | G30: =SUMIFS(Feuil2!$E:$E,Feuil2!$D:$D,'STOCK MERCH'!$F30) -> 0
A31: 30 | B31: DEBARDEUR SANS BRETELLE HF | C31: L | E31: 14 | F31: =+_xlfn.CONCAT(B31,C31,D31) -> DEBARDEUR SANS BRETELLE HFL | G31: =SUMIFS(Feuil2!$E:$E,Feuil2!$D:$D,'STOCK MERCH'!$F31) -> 0
A32: 31 | B32: DRAPEAU ESKAPE | E32: 41 | F32: =+_xlfn.CONCAT(B32,C32,D32) -> DRAPEAU ESKAPE | G32: =SUMIFS(Feuil2!$E:$E,Feuil2!$D:$D,'STOCK MERCH'!$F32) -> 0
A33: 32 | B33: DRAPEAU HF | E33: 35 | F33: =+_xlfn.CONCAT(B33,C33,D33) -> DRAPEAU HF | G33: =SUMIFS(Feuil2!$E:$E,Feuil2!$D:$D,'STOCK MERCH'!$F33) -> 0
A34: 33 | B34: DRAPEAU MAISSOUILLE | E34: 45 | F34: =+_xlfn.CONCAT(B34,C34,D34) -> DRAPEAU MAISSOUILLE | G34: =SUMIFS(Feuil2!$E:$E,Feuil2!$D:$D,'STOCK MERCH'!$F34) -> 0
A35: 34 | B35: EVENTAIL | E35: 21 | F35: =+_xlfn.CONCAT(B35,C35,D35) -> EVENTAIL | G35: =SUMIFS(Feuil2!$E:$E,Feuil2!$D:$D,'STOCK MERCH'!$F35) -> 0
A36: 35 | B36: MASQUE HF | E36: 41 | F36: =+_xlfn.CONCAT(B36,C36,D36) -> MASQUE HF | G36: =SUMIFS(Feuil2!$E:$E,Feuil2!$D:$D,'STOCK MERCH'!$F36) -> 0
A37: 36 | B37: MASQUE HSF | E37: 32 | F37: =+_xlfn.CONCAT(B37,C37,D37) -> MASQUE HSF | G37: =SUMIFS(Feuil2!$E:$E,Feuil2!$D:$D,'STOCK MERCH'!$F37) -> 0
A38: 37 | B38: MUG | E38: 83 | F38: =+_xlfn.CONCAT(B38,C38,D38) -> MUG | G38: =SUMIFS(Feuil2!$E:$E,Feuil2!$D:$D,'STOCK MERCH'!$F38) -> 0
A39: 38 | B39: SAC HF | E39: 66 | F39: =+_xlfn.CONCAT(B39,C39,D39) -> SAC HF | G39: =SUMIFS(Feuil2!$E:$E,Feuil2!$D:$D,'STOCK MERCH'!$F39) -> 0
A40: 39 | B40: SERVIETTE PLAGE | E40: 19 | F40: =+_xlfn.CONCAT(B40,C40,D40) -> SERVIETTE PLAGE | G40: =SUMIFS(Feuil2!$E:$E,Feuil2!$D:$D,'STOCK MERCH'!$F40) -> 0
A41: 40 | B41: STRING | C41: XS | E41: 4 | F41: =+_xlfn.CONCAT(B41,C41,D41) -> STRINGXS | G41: =SUMIFS(Feuil2!$E:$E,Feuil2!$D:$D,'STOCK MERCH'!$F41) -> 0
A42: 41 | B42: STRING | C42: S | E42: 19 | F42: =+_xlfn.CONCAT(B42,C42,D42) -> STRINGS | G42: =SUMIFS(Feuil2!$E:$E,Feuil2!$D:$D,'STOCK MERCH'!$F42) -> 0
A43: 42 | B43: STRING | C43: M | E43: 23 | F43: =+_xlfn.CONCAT(B43,C43,D43) -> STRINGM | G43: =SUMIFS(Feuil2!$E:$E,Feuil2!$D:$D,'STOCK MERCH'!$F43) -> 0
A44: 43 | B44: STRING | C44: L | E44: 12 | F44: =+_xlfn.CONCAT(B44,C44,D44) -> STRINGL | G44: =SUMIFS(Feuil2!$E:$E,Feuil2!$D:$D,'STOCK MERCH'!$F44) -> 0
A45: 44 | B45: SWEAT | C45: S | E45: 8 | F45: =+_xlfn.CONCAT(B45,C45,D45) -> SWEATS | G45: =SUMIFS(Feuil2!$E:$E,Feuil2!$D:$D,'STOCK MERCH'!$F45) -> 0
A46: 45 | B46: SWEAT | C46: L | E46: 2 | F46: =+_xlfn.CONCAT(B46,C46,D46) -> SWEATL | G46: =SUMIFS(Feuil2!$E:$E,Feuil2!$D:$D,'STOCK MERCH'!$F46) -> 0
A47: 46 | B47: TEE-SHIRT ESKAPE | C47: S | E47: 14 | F47: =+_xlfn.CONCAT(B47,C47,D47) -> TEE-SHIRT ESKAPES | G47: =SUMIFS(Feuil2!$E:$E,Feuil2!$D:$D,'STOCK MERCH'!$F47) -> 0
A48: 47 | B48: TEE-SHIRT ESKAPE | C48: M | E48: 22 | F48: =+_xlfn.CONCAT(B48,C48,D48) -> TEE-SHIRT ESKAPEM | G48: =SUMIFS(Feuil2!$E:$E,Feuil2!$D:$D,'STOCK MERCH'!$F48) -> 0
A49: 48 | B49: TEE-SHIRT ESKAPE | C49: L | E49: 16 | F49: =+_xlfn.CONCAT(B49,C49,D49) -> TEE-SHIRT ESKAPEL | G49: =SUMIFS(Feuil2!$E:$E,Feuil2!$D:$D,'STOCK MERCH'!$F49) -> 0
A50: 49 | B50: TEE-SHIRT ESKAPE | C50: XL | E50: 15 | F50: =+_xlfn.CONCAT(B50,C50,D50) -> TEE-SHIRT ESKAPEXL | G50: =SUMIFS(Feuil2!$E:$E,Feuil2!$D:$D,'STOCK MERCH'!$F50) -> 0
A51: 50 | B51: TEE-SHIRT ESKAPE | C51: XXL | E51: 10 | F51: =+_xlfn.CONCAT(B51,C51,D51) -> TEE-SHIRT ESKAPEXXL | G51: =SUMIFS(Feuil2!$E:$E,Feuil2!$D:$D,'STOCK MERCH'!$F51) -> 0
A52: 51 | B52: TEE-SHIRT ESKAPE | C52: XXXL | E52: 9 | F52: =+_xlfn.CONCAT(B52,C52,D52) -> TEE-SHIRT ESKAPEXXXL | G52: =SUMIFS(Feuil2!$E:$E,Feuil2!$D:$D,'STOCK MERCH'!$F52) -> 0
... A62: 61 | B62: TEE-SHIRT MAISSOUILLE01 | C62: XXL | E62: 1 | F62: =+_xlfn.CONCAT(B62,C62,D62) -> TEE-SHIRT MAISSOUILLE01XXL | G62: =SUMIFS(Feuil2!$E:$E,Feuil2!$D:$D,'STOCK MERCH'!$F62) -> 0
A63: 62 | B63: TEE-SHIRT MAISSOUILLE | C63: M | D63: NOIR | E63: 1 | F63: =+_xlfn.CONCAT(B63,C63,D63) -> TEE-SHIRT MAISSOUILLEMNOIR | G63: =SUMIFS(Feuil2!$E:$E,Feuil2!$D:$D,'STOCK MERCH'!$F63) -> 5
A64: 63 | B64: TEE-SHIRT MAISSOUILLE | C64: S | D64: ROUGE | E64: 1 | F64: =+_xlfn.CONCAT(B64,C64,D64) -> TEE-SHIRT MAISSOUILLESROUGE | G64: =SUMIFS(Feuil2!$E:$E,Feuil2!$D:$D,'STOCK MERCH'!$F64) -> 0
A65: 64 | B65: TEE-SHIRT MAISSOUILLE | C65: M | D65: ROUGE | E65: 1 | F65: =+_xlfn.CONCAT(B65,C65,D65) -> TEE-SHIRT MAISSOUILLEMROUGE | G65: =SUMIFS(Feuil2!$E:$E,Feuil2!$D:$D,'STOCK MERCH'!$F65) -> 0
A66: 65 | B66: TEE-SHIRT MAISSOUILLE | C66: XS | D66: ROSE | E66: 2 | F66: =+_xlfn.CONCAT(B66,C66,D66) -> TEE-SHIRT MAISSOUILLEXSROSE | G66: =SUMIFS(Feuil2!$E:$E,Feuil2!$D:$D,'STOCK MERCH'!$F66) -> 0
A67: 66 | B67: TEE-SHIRT MAISSOUILLE | C67: XL | D67: VERT | E67: 1 | F67: =+_xlfn.CONCAT(B67,C67,D67) -> TEE-SHIRT MAISSOUILLEXLVERT | G67: =SUMIFS(Feuil2!$E:$E,Feuil2!$D:$D,'STOCK MERCH'!$F67) -> 0
A68: 67 | B68: TEE-SHIRT MAISSOUILLE | C68: S | D68: BLEU | E68: 1 | F68: =+_xlfn.CONCAT(B68,C68,D68) -> TEE-SHIRT MAISSOUILLESBLEU | G68: =SUMIFS(Feuil2!$E:$E,Feuil2!$D:$D,'STOCK MERCH'!$F68) -> 0
A69: 68 | B69: TEE-SHIRT MAISSOUILLE | C69: M | D69: BLEU | E69: 1 | F69: =+_xlfn.CONCAT(B69,C69,D69) -> TEE-SHIRT MAISSOUILLEMBLEU | G69: =SUMIFS(Feuil2!$E:$E,Feuil2!$D:$D,'STOCK MERCH'!$F69) -> 0
A70: 69 | B70: TEE-SHIRT MAISSOUILLE | C70: L | D70: BLEU | E70: 2 | F70: =+_xlfn.CONCAT(B70,C70,D70) -> TEE-SHIRT MAISSOUILLELBLEU | G70: =SUMIFS(Feuil2!$E:$E,Feuil2!$D:$D,'STOCK MERCH'!$F70) -> 0
A71: 70 | B71: TEE-SHIRT MAISSOUILLE | C71: XL | D71: BLEU | E71: 1 | F71: =+_xlfn.CONCAT(B71,C71,D71) -> TEE-SHIRT MAISSOUILLEXLBLEU | G71: =SUMIFS(Feuil2!$E:$E,Feuil2!$D:$D,'STOCK MERCH'!$F71) -> 0
A72: 71 | B72: VESTE ZIP HF | C72: S | E72: 6 | F72: =+_xlfn.CONCAT(B72,C72,D72) -> VESTE ZIP HFS | G72: =SUMIFS(Feuil2!$E:$E,Feuil2!$D:$D,'STOCK MERCH'!$F72) -> 0
A73: 72 | B73: VESTE ZIP HF | C73: M | E73: 5 | F73: =+_xlfn.CONCAT(B73,C73,D73) -> VESTE ZIP HFM | G73: =SUMIFS(Feuil2!$E:$E,Feuil2!$D:$D,'STOCK MERCH'!$F73) -> 0
A74: 73 | B74: VESTE ZIP HF | C74: L | E74: 9 | F74: =+_xlfn.CONCAT(B74,C74,D74) -> VESTE ZIP HFL | G74: =SUMIFS(Feuil2!$E:$E,Feuil2!$D:$D,'STOCK MERCH'!$F74) -> 0
A75: 74 | B75: VESTE ZIP HF | C75: XL | E75: 6 | F75: =+_xlfn.CONCAT(B75,C75,D75) -> VESTE ZIP HFXL | G75: =SUMIFS(Feuil2!$E:$E,Feuil2!$D:$D,'STOCK MERCH'!$F75) -> 0
A76: 75 | B76: VESTE ZIP HF | C76: XXL | E76: 5 | F76: =+_xlfn.CONCAT(B76,C76,D76) -> VESTE ZIP HFXXL | G76: =SUMIFS(Feuil2!$E:$E,Feuil2!$D:$D,'STOCK MERCH'!$F76) -> 0
A77: 76 | B77: VESTE ZIP HF | C77: XXXL | E77: 5 | F77: =+_xlfn.CONCAT(B77,C77,D77) -> VESTE ZIP HFXXXL | G77: =SUMIFS(Feuil2!$E:$E,Feuil2!$D:$D,'STOCK MERCH'!$F77) -> 0
A78: 77 | B78: VYNIL | E78: 82 | F78: =+_xlfn.CONCAT(B78,C78,D78) -> VYNIL | G78: =SUMIFS(Feuil2!$E:$E,Feuil2!$D:$D,'STOCK MERCH'!$F78) -> 0

Sheet liste déroulante
A1: Type de vetements | B1: Taille | C1: Couleur
A2: ALBUM MAISSOUILLE | B2: 06/12 MOIS | C2: NOIR
A3: BOB ESKAPE | B3: 12/18 MOIS | C3: NOIR/BLANC
A4: BOB HF | B4: S | C4: NOIR/GRIS
A5: BODY ESKAPE | B5: XS | C5: ROUGE
A6: BODY HF | B6: M | C6: ROSE
A7: BOMBERS | B7: L | C7: VERT
A8: BONNET | B8: XL | C8: BLEU
A9: BRACELET HF | B9: XXL
A10: BRACELET HF + LOGO | B10: XXXL
A11: BRASSIERE ESKAPE
A12: BRASSIERE HF
A13: CASQUETTE ESKAPE
A14: Casquette HC
A15: DEBARDEUR BRETELLE HF
A16: DEBARDEUR BRETELLE MAISSOUILLE
A17: DEBARDEUR SANS BRETELLE HF
A18: DRAPEAU ESKAPE
A19: DRAPEAU HF
A20: DRAPEAU MAISSOUILLE
A21: EVENTAIL
A22: MASQUE HF
... A33: VYNIL
