Workbook

Sheet BD Planning
A1: Semaine impaire | S1: Missions :
B3: MATIN | I3: APRÈS-MIDI | P3: Total journée | Q3: Total semaine | S3: Administratif
B4: Début | C4: Fin | D4: Missions | E4: Début | F4: Fin | G4: Missions | H4: Total Matin | I4: Début | J4: Fin | K4: Missions | L4: Début | M4: Fin | N4: Missions | O4: Total a-m | S4: Restaurant scolaire
A5: Lundi | B5: 0.35416667 | C5: 0.47916667 | D5: Administratif | E5: 0.5 | F5: 0.5625 | G5: Restaurant scolaire | H5: =(C5-B5)+(F5-E5) -> 0.1875 | I5: 0.5625 | J5: 0.72916667 | K5: Administratif | O5: =(J5-I5)+(M5-L5) -> 0.16666667 | P5: =H5+O5 -> 0.35416667 | Q5: =SUM(P5:P9) -> 1.8125 | S5: Accueil
A6: Mardi | B6: 0.35416667 | C6: 0.47916667 | D6: Administratif | E6: 0.5 | F6: 0.5625 | G6: Restaurant scolaire | H6: =(C6-B6)+(F6-E6) -> 0.1875 | I6: 0.5625 | J6: 0.70833333 | K6: Administratif | O6: =(J6-I6)+(M6-L6) -> 0.14583333 | P6: =H6+O6 -> 0.33333333 | S6: ALSH
A7: Mercredi | B7: 0.35416667 | C7: 0.52083333 | D7: ALSH | H7: =(C7-B7)+(F7-E7) -> 0.16666667 | I7: 0.52083333 | J7: 0.79166667 | K7: ALSH | O7: =(J7-I7)+(M7-L7) -> 0.27083333 | P7: =H7+O7 -> 0.4375 | S7: Entretien des Locaux
A8: Jeudi | B8: 0.35416667 | C8: 0.47916667 | D8: Administratif | E8: 0.5 | F8: 0.5625 | G8: Restaurant scolaire | H8: =(C8-B8)+(F8-E8) -> 0.1875 | I8: 0.5625 | J8: 0.72916667 | K8: Administratif | O8: =(J8-I8)+(M8-L8) -> 0.16666667 | P8: =H8+O8 -> 0.35416667
A9: Vendredi | B9: 0.35416667 | C9: 0.47916667 | D9: Administratif | E9: 0.5 | F9: 0.5625 | G9: Restaurant scolaire | H9: =(C9-B9)+(F9-E9) -> 0.1875 | I9: 0.5625 | J9: 0.70833333 | K9: Administratif | O9: =(J9-I9)+(M9-L9) -> 0.14583333 | P9: =H9+O9 -> 0.33333333
A11: Semaine paire
B13: MATIN | H13: Total Matin | I13: APRÈS-MIDI | O13: Total a-m | P13: Total journée | Q13: Total semaine
B14: Début | C14: Fin | D14: Missions | E14: Début | F14: Fin | G14: Missions | I14: Début | J14: Fin | K14: Missions | L14: Début | M14: Fin | N14: Missions
A15: Lundi | B15: 0.35416667 | C15: 0.47916667 | D15: Administratif | E15: 0.5 | F15: 0.5625 | G15: Restaurant scolaire | H15: =(C15-B15)+(F15-E15) -> 0.1875 | I15: 0.5625 | J15: 0.72916667 | K15: Administratif | O15: =(J15-I15)+(M15-L15) -> 0.16666667 | P15: =H15+O15 -> 0.35416667 | Q15: =SUM(P15:P19) -> 1.375
A16: Mardi | B16: 0.35416667 | C16: 0.47916667 | D16: Administratif | E16: 0.5 | F16: 0.5625 | G16: Restaurant scolaire | H16: =(C16-B16)+(F16-E16) -> 0.1875 | I16: 0.5625 | J16: 0.70833333 | K16: Administratif | O16: =(J16-I16)+(M16-L16) -> 0.14583333 | P16: =H16+O16 -> 0.33333333
A17: Mercredi | H17: =(C17-B17)+(F17-E17) -> 0 | O17: =(J17-I17)+(M17-L17) -> 0 | P17: =H17+O17 -> 0
A18: Jeudi | B18: 0.35416667 | C18: 0.47916667 | D18: Administratif | E18: 0.5 | F18: 0.5625 | G18: Restaurant scolaire | H18: =(C18-B18)+(F18-E18) -> 0.1875 | I18: 0.5625 | J18: 0.72916667 | K18: Administratif | O18: =(J18-I18)+(M18-L18) -> 0.16666667 | P18: =H18+O18 -> 0.35416667
A19: Vendredi | B19: 0.35416667 | C19: 0.47916667 | D19: Administratif | E19: 0.5 | F19: 0.5625 | G19: Restaurant scolaire | H19: =(C19-B19)+(F19-E19) -> 0.1875 | I19: 0.5625 | J19: 0.70833333 | K19: Administratif | O19: =(J19-I19)+(M19-L19) -> 0.14583333 | P19: =H19+O19 -> 0.33333333
A22: VACANCES SCOLAIRES
A24: Semaine 1
B26: MATIN | H26: Total Matin | I26: APRÈS-MIDI | O26: Total a-m | P26: Total journée | Q26: Total semaine
B27: Début | C27: Fin | D27: Missions | E27: Début | F27: Fin | I27: Début | J27: Fin | K27: Missions | L27: Début | M27: Fin | N27: Missions
A28: Lundi | B28: 0.33333333 | C28: 0.5 | D28: ALSH | H28: =(C28-B28)+(F28-E28) -> 0.16666667 | I28: 0.58333333 | J28: 0.75 | K28: ALSH | O28: =(J28-I28)+(M28-L28) -> 0.16666667 | P28: =H28+O28 -> 0.33333333 | Q28: =SUM(P28:P32) -> 1.6666667
A29: Mardi | B29: 0.375 | C29: 0.54166667 | D29: ALSH | H29: =(C29-B29)+(F29-E29) -> 0.16666667 | I29: 0.625 | J29: 0.79166667 | K29: ALSH | O29: =(J29-I29)+(M29-L29) -> 0.16666667 | P29: =H29+O29 -> 0.33333333
A30: Mercredi | B30: 0.41666667 | C30: 0.58333333 | D30: ALSH | H30: =(C30-B30)+(F30-E30) -> 0.16666667 | I30: 0.66666667 | J30: 0.83333333 | K30: ALSH | O30: =(J30-I30)+(M30-L30) -> 0.16666667 | P30: =H30+O30 -> 0.33333333
A31: Jeudi | B31: 0.45833333 | C31: 0.625 | D31: ALSH | H31: =(C31-B31)+(F31-E31) -> 0.16666667 | I31: 0.70833333 | J31: 0.875 | K31: ALSH | O31: =(J31-I31)+(M31-L31) -> 0.16666667 | P31: =H31+O31 -> 0.33333333
A32: Vendredi | B32: 0.5 | C32: 0.66666667 | D32: ALSH | H32: =(C32-B32)+(F32-E32) -> 0.16666667 | I32: 0.75 | J32: 0.91666667 | K32: ALSH | O32: =(J32-I32)+(M32-L32) -> 0.16666667 | P32: =H32+O32 -> 0.33333333
A34: Semaine 2
B36: MATIN | H36: Total Matin | I36: APRÈS-MIDI | O36: Total a-m | P36: Total journée | Q36: Total semaine
B37: Début | C37: Fin | D37: Missions | E37: Début | F37: Fin | I37: Début | J37: Fin | K37: Missions | L37: Début | M37: Fin | N37: Missions
A38: Lundi | B38: 0.33333333 | C38: 0.5 | D38: ALSH | H38: =(C38-B38)+(F38-E38) -> 0.16666667 | I38: 0.58333333 | J38: 0.75 | K38: ALSH | O38: =(J38-I38)+(M38-L38) -> 0.16666667 | P38: =H38+O38 -> 0.33333333 | Q38: =SUM(P38:P42) -> 1.6666667
A39: Mardi | B39: 0.375 | C39: 0.54166667 | D39: ALSH | H39: =(C39-B39)+(F39-E39) -> 0.16666667 | I39: 0.625 | J39: 0.79166667 | K39: ALSH | O39: =(J39-I39)+(M39-L39) -> 0.16666667 | P39: =H39+O39 -> 0.33333333
A40: Mercredi | B40: 0.41666667 | C40: 0.58333333 | D40: ALSH | H40: =(C40-B40)+(F40-E40) -> 0.16666667 | I40: 0.66666667 | J40: 0.83333333 | K40: ALSH | O40: =(J40-I40)+(M40-L40) -> 0.16666667 | P40: =H40+O40 -> 0.33333333
A41: Jeudi | B41: 0.45833333 | C41: 0.625 | D41: ALSH | H41: =(C41-B41)+(F41-E41) -> 0.16666667 | I41: 0.70833333 | J41: 0.875 | K41: ALSH | O41: =(J41-I41)+(M41-L41) -> 0.16666667 | P41: =H41+O41 -> 0.33333333
A42: Vendredi | B42: 0.5 | C42: 0.66666667 | D42: ALSH | H42: =(C42-B42)+(F42-E42) -> 0.16666667 | I42: 0.75 | J42: 0.91666667 | K42: ALSH | O42: =(J42-I42)+(M42-L42) -> 0.16666667 | P42: =H42+O42 -> 0.33333333

Sheet Heures annuelles agent
AE1: 2nd semestre 2023
A2: Janvier | E2: Heures/semaine | F2: Février | J2: Heures/semaine | K2: Mars | O2: Heures/semaine | P2: Avril | T2: Heures/semaine | U2: Mai | Y2: Heures/semaine | Z2: Juin | AD2: Heures/semaine | AE2: Juillet | AI2: Heures/semaine | AJ2: Août | AN2: Heures/semaine | AO2: Septembre | AS2: Heures/semaine | AT2: Octobre | AX2: Heures/semaine | AY2: Novembre | BC2: Heures/semaine | BD2: Décembre | BH2: Heures/semaine
A3: 1 | B3: D | C3: Jour de l'an | F3: 1 | G3: M | H3: ='BD Planning'!P7 -> 0.4375 | J3: =SUM(H3:H5) -> 1.125 | K3: 1 | L3: M | M3: {='BD Planning'!P7:P9} -> 0.4375 | O3: =SUM(_xlfn.ANCHORARRAY(M3)) -> 1.125 | P3: 1 | Q3: S | U3: 1 | V3: L | W3: Fête du travail | X3: 18 | Z3: 1 | AA3: J | AB3: ='BD Planning'!P18 -> 0.35416667 | AD3: =SUM(AB3:AB4) -> 0.6875 | AE3: 1 | AF3: S | AJ3: 1 | AK3: M | AO3: 1 | AP3: V | AQ3: ='BD Planning'!P9 -> 0.33333333 | AS3: =SUM(AQ3) -> 0.33333333 | AT3: 1 | AU3: D | AY3: 1 | AZ3: M | BA3: Toussaint | BB3: 44 | BD3: 1 | BE3: V | BF3: ='BD Planning'!P19 -> 0.33333333 | BH3: =BF3 -> 0.33333333
A4: 2 | B4: L | C4: {='BD Planning'!P$5:P$9} -> 0.35416667 | D4: semaine 1 | E4: =SUM(_xlfn.ANCHORARRAY(C4)) -> 1.8125 | F4: 2 | G4: J | H4: ='BD Planning'!P8 -> 0.35416667 | K4: 2 | L4: J | M4: 0.35416667 | P4: 2 | Q4: D | U4: 2 | V4: M | W4: {='BD Planning'!P16:P19} -> 0.33333333 | Y4: =SUM(_xlfn.ANCHORARRAY(W4)) -> 1.0208333 | Z4: 2 | AA4: V | AB4: ='BD Planning'!P19 -> 0.33333333 | AE4: 2 | AF4: D | AJ4: 2 | AK4: M | AO4: 2 | AP4: S | AT4: 2 | AU4: L | AV4: {='BD Planning'!$P$15:$P$19} -> 0.35416667 | AW4: 40 | AX4: =SUM(_xlfn.ANCHORARRAY(AV4)) -> 1.375 | AY4: 2 | AZ4: J | BA4: ='BD Planning'!P18 -> 0.35416667 | BC4: =BA4 -> 0.35416667 | BD4: 2 | BE4: S
A5: 3 | B5: M | C5: 0.33333333 | F5: 3 | G5: V | H5: ='BD Planning'!P9 -> 0.33333333 | K5: 3 | L5: V | M5: 0.33333333 | P5: 3 | Q5: L | R5: {='BD Planning'!$P$15:$P$19} -> 0.35416667 | S5: 14 | T5: =SUM(_xlfn.ANCHORARRAY(R5)) -> 1.375 | U5: 3 | V5: M | W5: 0 | Z5: 3 | AA5: S | AE5: 3 | AF5: L | AG5: {='BD Planning'!$P$5:$P$9} -> 0.35416667 | AH5: 27 | AI5: ='BD Planning'!$Q$5 -> 1.8125 | AJ5: 3 | AK5: J | AO5: 3 | AP5: D | AT5: 3 | AU5: M | AV5: 0.33333333 | AY5: 3 | AZ5: V | BA5: ='BD Planning'!P19 -> 0.33333333 | BC5: =BA5 -> 0.33333333 | BD5: 3 | BE5: D
A6: 4 | B6: M | C6: 0.4375 | F6: 4 | G6: S | K6: 4 | L6: S | P6: 4 | Q6: M | R6: 0.33333333 | U6: 4 | V6: J | W6: 0.35416667 | Z6: 4 | AA6: D | AE6: 4 | AF6: M | AG6: 0.33333333 | AJ6: 4 | AK6: V | AO6: 4 | AP6: L | AQ6: {='BD Planning'!$P$15:$P$19} -> 0.35416667 | AR6: 36 | AS6: =SUM(_xlfn.ANCHORARRAY(AQ6)) -> 1.375 | AT6: 4 | AU6: M | AV6: 0 | AY6: 4 | AZ6: S | BD6: 4 | BE6: L | BF6: {='BD Planning'!$P$5:$P$9} -> 0.35416667 | BG6: 49 | BH6: ='BD Planning'!$Q$5 -> 1.8125
A7: 5 | B7: J | C7: 0.35416667 | F7: 5 | G7: D | K7: 5 | L7: D | P7: 5 | Q7: M | R7: 0 | U7: 5 | V7: V | W7: 0.33333333 | Z7: 5 | AA7: L | AB7: {='BD Planning'!$P$5:$P$9} -> 0.35416667 | AC7: 23 | AD7: ='BD Planning'!$Q$5 -> 1.8125 | AE7: 5 | AF7: M | AG7: 0.4375 | AJ7: 5 | AK7: S | AO7: 5 | AP7: M | AQ7: 0.33333333 | AT7: 5 | AU7: J | AV7: 0.35416667 | AY7: 5 | AZ7: D | BD7: 5 | BE7: M | BF7: 0.33333333
A8: 6 | B8: V | C8: 0.33333333 | F8: 6 | G8: L | H8: {='BD Planning'!$P$15:$P$19} -> 0.35416667 | I8: 6 | J8: =SUM(_xlfn.ANCHORARRAY(H8)) -> 1.375 | K8: 6 | L8: L | M8: {='BD Planning'!$P$15:$P$19} -> 0.35416667 | N8: 10 | O8: =SUM(_xlfn.ANCHORARRAY(M8)) -> 1.375 | P8: 6 | Q8: J | R8: 0.35416667 | U8: 6 | V8: S | Z8: 6 | AA8: M | AB8: 0.33333333 | AE8: 6 | AF8: J | AG8: 0.35416667 | AJ8: 6 | AK8: D | AO8: 6 | AP8: M | AQ8: 0 | AT8: 6 | AU8: V | AV8: 0.33333333 | AY8: 6 | AZ8: L | BA8: {='BD Planning'!$P$5:$P$9} -> 0.35416667 | BB8: 45 | BC8: ='BD Planning'!$Q$5 -> 1.8125 | BD8: 6 | BE8: M | BF8: 0.4375
A9: 7 | B9: S | F9: 7 | G9: M | H9: 0.33333333 | K9: 7 | L9: M | M9: 0.33333333 | P9: 7 | Q9: V | R9: 0.33333333 | U9: 7 | V9: D | Z9: 7 | AA9: M | AB9: 0.4375 | AE9: 7 | AF9: V | AG9: 0.33333333 | AJ9: 7 | AK9: L | AM9: 32 | AO9: 7 | AP9: J | AQ9: 0.35416667 | AT9: 7 | AU9: S | AY9: 7 | AZ9: M | BA9: 0.33333333 | BD9: 7 | BE9: J | BF9: 0.35416667
A10: 8 | B10: D | F10: 8 | G10: M | H10: 0 | K10: 8 | L10: M | M10: 0 | P10: 8 | Q10: S | U10: 8 | V10: L | W10: Victoire 1945 | X10: 19 | Z10: 8 | AA10: J | AB10: 0.35416667 | AE10: 8 | AF10: S | AJ10: 8 | AK10: M | AO10: 8 | AP10: V | AQ10: 0.33333333 | AT10: 8 | AU10: D | AY10: 8 | AZ10: M | BA10: 0.4375 | BD10: 8 | BE10: V | BF10: 0.33333333
A11: 9 | B11: L | C11: {='BD Planning'!$P$15:$P$19} -> 0.35416667 | D11: 2 | E11: =SUM(_xlfn.ANCHORARRAY(C11)) -> 1.375 | F11: 9 | G11: J | H11: 0.35416667 | K11: 9 | L11: J | M11: 0.35416667 | P11: 9 | Q11: D | R11: Diman. de Pâques | U11: 9 | V11: M | W11: {='BD Planning'!P6:P9} -> 0.33333333 | Y11: ='BD Planning'!$Q$5 -> 1.8125 | Z11: 9 | AA11: V | AB11: 0.33333333 | AE11: 9 | AF11: D | AJ11: 9 | AK11: M | AO11: 9 | AP11: S | AT11: 9 | AU11: L | AV11: {='BD Planning'!$P$5:$P$9} -> 0.35416667 | AW11: 41 | AX11: ='BD Planning'!$Q$5 -> 1.8125 | AY11: 9 | AZ11: J | BA11: 0.35416667 | BD11: 9 | BE11: S
A12: 10 | B12: M | C12: 0.33333333 | F12: 10 | G12: V | H12: 0.33333333 | K12: 10 | L12: V | M12: 0.33333333 | P12: 10 | Q12: L | R12: Lundi de Pâques | S12: 15 | U12: 10 | V12: M | W12: 0.4375 | Z12: 10 | AA12: S | AE12: 10 | AF12: L | AG12: {='BD Planning'!P29:P32} -> 0.33333333 | AH12: 28 | AI12: =SUM(AG12:AG16) -> 1.3333333 | AJ12: 10 | AK12: J | AO12: 10 | AP12: D | AT12: 10 | AU12: M | AV12: 0.33333333 | AY12: 10 | AZ12: V | BA12: 0.33333333 | BD12: 10 | BE12: D
A13: 11 | B13: M | C13: 0 | F13: 11 | G13: S | K13: 11 | L13: S | P13: 11 | Q13: M | R13: {='BD Planning'!P6:P9} -> 0.33333333 | T13: ='BD Planning'!$Q$5 -> 1.8125 | U13: 11 | V13: J | W13: 0.35416667 | Z13: 11 | AA13: D | AE13: 11 | AF13: M | AG13: 0.33333333 | AJ13: 11 | AK13: V | AO13: 11 | AP13: L | AQ13: {='BD Planning'!$P$5:$P$9} -> 0.35416667 | AR13: 37 | AS13: ='BD Planning'!$Q$5 -> 1.8125 | AT13: 11 | AU13: M | AV13: 0.4375 | AY13: 11 | AZ13: S | BA13: Armistice 1918 | BD13: 11 | BE13: L | BF13: {='BD Planning'!$P$15:$P$19} -> 0.35416667 | BG13: 50 | BH13: =SUM(_xlfn.ANCHORARRAY(BF13)) -> 1.375
A14: 12 | B14: J | C14: 0.35416667 | F14: 12 | G14: D | K14: 12 | L14: D | P14: 12 | Q14: M | R14: 0.4375 | U14: 12 | V14: V | W14: 0.33333333 | Z14: 12 | AA14: L | AB14: {='BD Planning'!$P$15:$P$19} -> 0.35416667 | AC14: 24 | AD14: =SUM(_xlfn.ANCHORARRAY(AB14)) -> 1.375 | AE14: 12 | AF14: M | AG14: 0.33333333 | AJ14: 12 | AK14: S | AO14: 12 | AP14: M | AQ14: 0.33333333 | AT14: 12 | AU14: J | AV14: 0.35416667 | AY14: 12 | AZ14: D | BD14: 12 | BE14: M | BF14: 0.33333333
A15: 13 | B15: V | C15: 0.33333333 | F15: 13 | G15: L | H15: {='BD Planning'!P28:P32} -> 0.33333333 | I15: 7 | J15: =SUM(H15:H19) -> 1.6666667 | K15: 13 | L15: L | M15: {='BD Planning'!$P$5:$P$9} -> 0.35416667 | N15: 11 | O15: ='BD Planning'!$Q$5 -> 1.8125 | P15: 13 | Q15: J | R15: 0.35416667 | U15: 13 | V15: S | Z15: 13 | AA15: M | AB15: 0.33333333 | AE15: 13 | AF15: J | AG15: 0.33333333 | AJ15: 13 | AK15: D | AO15: 13 | AP15: M | AQ15: 0.4375 | AT15: 13 | AU15: V | AV15: 0.33333333 | AY15: 13 | AZ15: L | BA15: {='BD Planning'!$P$15:$P$19} -> 0.35416667 | BB15: 46 | BC15: =SUM(_xlfn.ANCHORARRAY(BA15)) -> 1.375 | BD15: 13 | BE15: M | BF15: 0
A16: 14 | B16: S | F16: 14 | G16: M | H16: 0.33333333 | K16: 14 | L16: M | M16: 0.33333333 | P16: 14 | Q16: V | R16: 0.33333333 | U16: 14 | V16: D | Z16: 14 | AA16: M | AB16: 0 | AE16: 14 | AF16: V | AG16: Fête nationale | AJ16: 14 | AK16: L | AM16: 33 | AO16: 14 | AP16: J | AQ16: 0.35416667 | AT16: 14 | AU16: S | AY16: 14 | AZ16: M | BA16: 0.33333333 | BD16: 14 | BE16: J | BF16: 0.35416667
A17: 15 | B17: D | F17: 15 | G17: M | H17: 0.33333333 | K17: 15 | L17: M | M17: 0.4375 | P17: 15 | Q17: S | U17: 15 | V17: L | W17: ='BD Planning'!P15 -> 0.35416667 | X17: 20 | Y17: =SUM(W17:W21) -> 0.35416667 | Z17: 15 | AA17: J | AB17: 0.35416667 | AE17: 15 | AF17: S | AJ17: 15 | AK17: M | AL17: Assomption | AO17: 15 | AP17: V | AQ17: 0.33333333 | AT17: 15 | AU17: D | AY17: 15 | AZ17: M | BA17: 0 | BD17: 15 | BE17: V | BF17: 0.33333333
A18: 16 | B18: L | C18: {='BD Planning'!$P$5:$P$9} -> 0.35416667 | D18: 3 | E18: =SUM(_xlfn.ANCHORARRAY(C18)) -> 1.8125 | F18: 16 | G18: J | H18: 0.33333333 | K18: 16 | L18: J | M18: 0.35416667 | P18: 16 | Q18: D | U18: 16 | V18: M | W18: ='BD Planning'!P16 -> 0.33333333 | Z18: 16 | AA18: V | AB18: 0.33333333 | AE18: 16 | AF18: D | AJ18: 16 | AK18: M | AO18: 16 | AP18: S | AT18: 16 | AU18: L | AV18: {='BD Planning'!$P$15:$P$19} -> 0.35416667 | AW18: 42 | AX18: =SUM(_xlfn.ANCHORARRAY(AV18)) -> 1.375 | AY18: 16 | AZ18: J | BA18: 0.35416667 | BD18: 16 | BE18: S
A19: 17 | B19: M | C19: 0.33333333 | F19: 17 | G19: V | H19: 0.33333333 | K19: 17 | L19: V | M19: 0.33333333 | P19: 17 | Q19: L | R19: {='BD Planning'!P28:P32} -> 0.33333333 | S19: 16 | T19: =SUM(_xlfn.ANCHORARRAY(R19)) -> 1.6666667 | U19: 17 | V19: M | W19: ='BD Planning'!P17 -> 0 | Z19: 17 | AA19: S | AE19: 17 | AF19: L | AG19: {='BD Planning'!P38:P42} -> 0.33333333 | AH19: 29 | AI19: =SUM(AG19:AG23) -> 1.6666667 | AJ19: 17 | AK19: J | AO19: 17 | AP19: D | AT19: 17 | AU19: M | AV19: 0.33333333 | AY19: 17 | AZ19: V | BA19: 0.33333333 | BD19: 17 | BE19: D
A20: 18 | B20: M | C20: 0.4375 | F20: 18 | G20: S | K20: 18 | L20: S | P20: 18 | Q20: M | R20: 0.33333333 | U20: 18 | V20: J | W20: Jeudi Ascension | Z20: 18 | AA20: D | AE20: 18 | AF20: M | AG20: 0.33333333 | AJ20: 18 | AK20: V | AO20: 18 | AP20: L | AQ20: {='BD Planning'!$P$15:$P$19} -> 0.35416667 | AR20: 38 | AS20: =SUM(_xlfn.ANCHORARRAY(AQ20)) -> 1.375 | AT20: 18 | AU20: M | AV20: 0 | AY20: 18 | AZ20: S | BD20: 18 | BE20: L | BF20: =('BD Planning'!P28) -> 0.33333333 | BG20: 51 | BH20: =SUM(BF20:BF24) -> 1.6666667
A21: 19 | B21: J | C21: 0.35416667 | F21: 19 | G21: D | K21: 19 | L21: D | P21: 19 | Q21: M | R21: 0.33333333 | U21: 19 | V21: V | W21: =-'BD Planning'!P19 -> -0.33333333 | Z21: 19 | AA21: L | AB21: {='BD Planning'!$P$5:$P$9} -> 0.35416667 | AC21: 25 | AD21: ='BD Planning'!$Q$5 -> 1.8125 | AE21: 19 | AF21: M | AG21: 0.33333333 | AJ21: 19 | AK21: S | AO21: 19 | AP21: M | AQ21: 0.33333333 | AT21: 19 | AU21: J | AV21: 0.35416667 | AY21: 19 | AZ21: D | BD21: 19 | BE21: M | BF21: =('BD Planning'!P29) -> 0.33333333
A22: 20 | B22: V | C22: 0.33333333 | F22: 20 | G22: L | H22: {='BD Planning'!P38:P42} -> 0.33333333 | I22: 8 | J22: =SUM(H22:H26) -> 1.6666667 | K22: 20 | L22: L | M22: {='BD Planning'!$P$15:$P$19} -> 0.35416667 | N22: 12 | O22: =SUM(_xlfn.ANCHORARRAY(M22)) -> 1.375 | P22: 20 | Q22: J | R22: 0.33333333 | U22: 20 | V22: S | Z22: 20 | AA22: M | AB22: 0.33333333 | AE22: 20 | AF22: J | AG22: 0.33333333 | AJ22: 20 | AK22: D | AO22: 20 | AP22: M | AQ22: 0 | AT22: 20 | AU22: V | AV22: 0.33333333 | AY22: 20 | AZ22: L | BA22: {='BD Planning'!$P$5:$P$9} -> 0.35416667 | BB22: 47 | BC22: ='BD Planning'!$Q$5 -> 1.8125 | BD22: 20 | BE22: M | BF22: =('BD Planning'!P30) -> 0.33333333
A23: 21 | B23: S | F23: 21 | G23: M | H23: 0.33333333 | K23: 21 | L23: M | M23: 0.33333333 | P23: 21 | Q23: V | R23: 0.33333333 | U23: 21 | V23: D | Z23: 21 | AA23: M | AB23: 0.4375 | AE23: 21 | AF23: V | AG23: 0.33333333 | AJ23: 21 | AK23: L | AL23: {='BD Planning'!P28:P32} -> 0.33333333 | AM23: 34 | AN23: =SUM(_xlfn.ANCHORARRAY(AL23)) -> 1.6666667 | AO23: 21 | AP23: J | AQ23: 0.35416667 | AT23: 21 | AU23: S | AY23: 21 | AZ23: M | BA23: 0.33333333 | BD23: 21 | BE23: J | BF23: =('BD Planning'!P31) -> 0.33333333
A24: 22 | B24: D | F24: 22 | G24: M | H24: 0.33333333 | K24: 22 | L24: M | M24: 0 | P24: 22 | Q24: S | U24: 22 | V24: L | W24: {='BD Planning'!$P$5:$P$9} -> 0.35416667 | X24: 21 | Y24: ='BD Planning'!$Q$5 -> 1.8125 | Z24: 22 | AA24: J | AB24: 0.35416667 | AE24: 22 | AF24: S | AJ24: 22 | AK24: M | AL24: 0.33333333 | AO24: 22 | AP24: V | AQ24: 0.33333333 | AT24: 22 | AU24: D | AY24: 22 | AZ24: M | BA24: 0.4375 | BD24: 22 | BE24: V | BF24: =('BD Planning'!P32) -> 0.33333333
A25: 23 | B25: L | C25: {='BD Planning'!$P$15:$P$19} -> 0.35416667 | D25: 4 | E25: =SUM(_xlfn.ANCHORARRAY(C25)) -> 1.375 | F25: 23 | G25: J | H25: 0.33333333 | K25: 23 | L25: J | M25: 0.35416667 | P25: 23 | Q25: D | U25: 23 | V25: M | W25: 0.33333333 | Z25: 23 | AA25: V | AB25: 0.33333333 | AE25: 23 | AF25: D | AJ25: 23 | AK25: M | AL25: 0.33333333 | AO25: 23 | AP25: S | AT25: 23 | AU25: L | AV25: {='BD Planning'!$P$5:$P$9} -> 0.35416667 | AW25: 43 | AX25: ='BD Planning'!$Q$5 -> 1.8125 | AY25: 23 | AZ25: J | BA25: 0.35416667 | BD25: 23 | BE25: S
A26: 24 | B26: M | C26: 0.33333333 | F26: 24 | G26: V | H26: 0.33333333 | K26: 24 | L26: V | M26: 0.33333333 | P26: 24 | Q26: L | R26: {='BD Planning'!P38:P42} -> 0.33333333 | S26: 17 | T26: =SUM(_xlfn.ANCHORARRAY(R26)) -> 1.6666667 | U26: 24 | V26: M | W26: 0.4375 | Z26: 24 | AA26: S | AE26: 24 | AF26: L | AG26: {='BD Planning'!P28:P32} -> 0.33333333 | AH26: 30 | AI26: =SUM(AG26:AG30) -> 1.6666667 | AJ26: 24 | AK26: J | AL26: 0.33333333 | AO26: 24 | AP26: D | AT26: 24 | AU26: M | AV26: 0.33333333 | AY26: 24 | AZ26: V | BA26: 0.33333333 | BD26: 24 | BE26: D
A27: 25 | B27: M | C27: 0 | F27: 25 | G27: S | K27: 25 | L27: S | P27: 25 | Q27: M | R27: 0.33333333 | U27: 25 | V27: J | W27: 0.35416667 | Z27: 25 | AA27: D | AE27: 25 | AF27: M | AG27: 0.33333333 | AJ27: 25 | AK27: V | AL27: 0.33333333 | AO27: 25 | AP27: L | AQ27: {='BD Planning'!$P$5:$P$9} -> 0.35416667 | AR27: 39 | AS27: ='BD Planning'!$Q$5 -> 1.8125 | AT27: 25 | AU27: M | AV27: 0.4375 | AY27: 25 | AZ27: S | BD27: 25 | BE27: L | BF27: Noël | BG27: 52
A28: 26 | B28: J | C28: 0.35416667 | F28: 26 | G28: D | K28: 26 | L28: D | P28: 26 | Q28: M | R28: 0.33333333 | U28: 26 | V28: V | W28: 0.33333333 | Z28: 26 | AA28: L | AB28: {='BD Planning'!$P$15:$P$19} -> 0.35416667 | AC28: 26 | AD28: =SUM(_xlfn.ANCHORARRAY(AB28)) -> 1.375 | AE28: 26 | AF28: M | AG28: 0.33333333 | AJ28: 26 | AK28: S | AO28: 26 | AP28: M | AQ28: 0.33333333 | AT28: 26 | AU28: J | AV28: 0.35416667 | AY28: 26 | AZ28: D | BD28: 26 | BE28: M
A29: 27 | B29: V | C29: 0.33333333 | F29: 27 | G29: L | H29: {='BD Planning'!P5:P6} -> 0.35416667 | I29: 9 | J29: =H29 -> 0.35416667 | K29: 27 | L29: L | M29: {='BD Planning'!$P$5:$P$9} -> 0.35416667 | N29: 13 | O29: ='BD Planning'!$Q$5 -> 1.8125 | P29: 27 | Q29: J | R29: 0.33333333 | U29: 27 | V29: S | Z29: 27 | AA29: M | AB29: 0.33333333 | AE29: 27 | AF29: J | AG29: 0.33333333 | AJ29: 27 | AK29: D | AO29: 27 | AP29: M | AQ29: 0.4375 | AT29: 27 | AU29: V | AV29: 0.33333333 | AY29: 27 | AZ29: L | BA29: ='BD Planning'!P15 -> 0.35416667 | BB29: 48 | BC29: =SUM(BA29:BA32) -> 1.0416667 | BD29: 27 | BE29: M
A30: 28 | B30: S | F30: 28 | G30: M | H30: 0.33333333 | J30: =H30 -> 0.33333333 | K30: 28 | L30: M | M30: 0.33333333 | P30: 28 | Q30: V | R30: 0.33333333 | U30: 28 | V30: D | Z30: 28 | AA30: M | AB30: 0 | AE30: 28 | AF30: V | AG30: 0.33333333 | AJ30: 28 | AK30: L | AL30: {='BD Planning'!P38:P41} -> 0.33333333 | AM30: 35 | AN30: =SUM(_xlfn.ANCHORARRAY(AL30)) -> 1.3333333 | AO30: 28 | AP30: J | AQ30: 0.35416667 | AT30: 28 | AU30: S | AY30: 28 | AZ30: M | BA30: ='BD Planning'!P16 -> 0.33333333 | BD30: 28 | BE30: J
A31: 29 | B31: D | K31: 29 | L31: M | M31: 0.4375 | P31: 29 | Q31: S | U31: 29 | V31: L | W31: Lundi de Pentecôte | X31: 22 | Z31: 29 | AA31: J | AB31: 0.35416667 | AE31: 29 | AF31: S | AJ31: 29 | AK31: M | AL31: 0.33333333 | AO31: 29 | AP31: V | AQ31: 0.33333333 | AT31: 29 | AU31: D | AY31: 29 | AZ31: M | BA31: ='BD Planning'!P17 -> 0 | BD31: 29 | BE31: V
A32: 30 | B32: L | C32: {='BD Planning'!P5:P6} -> 0.35416667 | D32: 5 | E32: =C32 -> 0.35416667 | K32: 30 | L32: J | M32: 0.35416667 | P32: 30 | Q32: D | U32: 30 | V32: M | W32: ='BD Planning'!P16 -> 0.33333333 | Y32: =SUM(W32:W33) -> 0.33333333 | Z32: 30 | AA32: V | AB32: 0.33333333 | AE32: 30 | AF32: D | AJ32: 30 | AK32: M | AL32: 0.33333333 | AO32: 30 | AP32: S | AT32: 30 | AU32: L | AV32: ='BD Planning'!P15 -> 0.35416667 | AW32: 44 | AX32: =AV32 -> 0.35416667 | AY32: 30 | AZ32: J | BA32: ='BD Planning'!P18 -> 0.35416667 | BD32: 30 | BE32: S
A33: 31 | B33: M | C33: 0.33333333 | E33: =C33 -> 0.33333333 | K33: 31 | L33: V | M33: 0.33333333 | U33: 31 | V33: M | W33: ='BD Planning'!P17 -> 0 | AE33: 31 | AF33: L | AH33: 31 | AJ33: 31 | AK33: J | AL33: 0.33333333 | AT33: 31 | AU33: M | AV33: ='BD Planning'!P16 -> 0.33333333 | AX33: =AV33 -> 0.33333333 | BD33: 31 | BE33: D
C34: Total heures/mois | E34: =SUM(E4,E11,E18,E25,E32,E33) -> 7.0625 | H34: Total heures/mois | J34: =SUM(J3,J8,J15,J22,J29,J30) -> 6.5208333 | M34: Total heures/mois | O34: =SUM(O3:O33) -> 7.5 | R34: Total heures/mois | T34: =SUM(T3:T31) -> 6.5208333 | W34: Total heures/mois | Y34: =SUM(Y3:Y31) -> 5 | AB34: Total heures/mois | AD34: =SUM(AD3:AD31) -> 7.0625 | AG34: Total heures/mois | AI34: =SUM(AI3:AI31) -> 6.4791667 | AL34: Total heures/mois | AN34: =SUM(AN3:AN31) -> 3 | AQ34: Total heures/mois | AS34: =SUM(AS3:AS31) -> 6.7083333 | AV34: Total heures/mois | AX34: =SUM(AX3:AX31) -> 6.375 | BA34: Total heures/mois | BC34: =SUM(BC3:BC31) -> 6.7291667 | BF34: Total heures/mois | BH34: =SUM(BH3:BH31) -> 5.1875
A37: Heures prévisionnelles/année | D37: =SUM(E34,J34,O34,T34,Y34,AD34,AI34,AN34,AS34,AX34,BC34,BH34) -> 74.145833

Sheet Planning agent
C2: SEMAINE IMPAIRE | N2: SEMAINE PAIRE
B4: LUNDI | D4: MARDI | F4: MERCREDI | H4: JEUDI | J4: VENDREDI | M4: LUNDI | O4: MARDI | Q4: MERCREDI | S4: JEUDI | U4: VENDREDI
A6: 0.29166667 | L6: 0.29166667
A7: 0.3125 | L7: 0.3125
A8: 0.33333333 | L8: 0.33333333
A9: 0.35416667 | L9: 0.35416667
A10: 0.375 | L10: 0.375
A11: 0.39583333 | B11: Administratif | D11: Administratif | H11: Administratif | J11: Administratif | L11: 0.39583333
A12: 0.41666667 | L12: 0.41666667
A13: 0.4375 | L13: 0.4375
A14: 0.45833333 | L14: 0.45833333
A15: 0.47916667 | L15: 0.47916667
A16: 0.5 | L16: 0.5
A17: 0.52083333 | F17: ALSH | L17: 0.52083333
A18: 0.54166667 | B18: Restaurant Scolaire | D18: Restaurant Scolaire | H18: Restaurant Scolaire | J18: Restaurant Scolaire | L18: 0.54166667
A19: 0.5625 | L19: 0.5625
A20: 0.58333333 | L20: 0.58333333
A21: 0.60416667 | L21: 0.60416667
A22: 0.625 | B22: Administratif | D22: Administratif | H22: Administratif | J22: Administratif | L22: 0.625
A23: 0.64583333 | L23: 0.64583333
A24: 0.66666667 | L24: 0.66666667
A25: 0.6875 | L25: 0.6875
A26: 0.70833333 | L26: 0.70833333
A27: 0.72916667 | L27: 0.72916667
A28: 0.75 | L28: 0.75
A29: 0.77083333 | L29: 0.77083333
A30: 0.79166667 | L30: 0.79166667
A31: 0.8125 | L31: 0.8125
A32: 0.83333333 | L32: 0.83333333
C34: SEMAINE 1 - VACANCES | N34: SEMAINE 2 - VACANCES
B36: LUNDI | D36: MARDI | F36: MERCREDI | H36: JEUDI | J36: VENDREDI | M36: LUNDI | O36: MARDI | Q36: MERCREDI | S36: JEUDI | U36: VENDREDI
A38: 0.29166667 | L38: 0.29166667
A39: 0.3125 | L39: 0.3125
A40: 0.33333333 | L40: 0.33333333
A41: 0.35416667 | L41: 0.35416667
A42: 0.375 | L42: 0.375
A43: 0.39583333 | L43: 0.39583333
A44: 0.41666667 | L44: 0.41666667
A45: 0.4375 | L45: 0.4375
A46: 0.45833333 | L46: 0.45833333
A47: 0.47916667 | L47: 0.47916667
A48: 0.5 | L48: 0.5
A49: 0.52083333 | L49: 0.52083333
... A64: 0.83333333 | L64: 0.83333333
