Workbook

Sheet Planning
U1: =Janvier!A4 -> 44557
U2: =Janvier!A21 -> 44564
A3: Cumul Total Heure | B3: Janvier | C3: Février | D3: Mars | E3: Avril | F3: Mai | G3: Juin | H3: Juillet | I3: Août | J3: Septembre | K3: Octobre | L3: Novembre | M3: Décembre | U3: =Janvier!A38 -> 44571
B4: =Janvier!S7+Janvier!S24+Janvier!S41+Janvier!S58+Janvier!S75 -> 0 | C4: =Février!S7+Février!S24+Février!S41+Février!S58 -> 0 | D4: =Mars!S7+Mars!S24+Mars!S41+Mars!S58 -> 0 | E4: =Avril!S7+Avril!S24+Avril!S41+Avril!S58 -> 0 | F4: =Mai!S7+Mai!S24+Mai!S41+Mai!S58+Mai!S75 -> 0 | G4: =Juin!S7+Juin!S24+Juin!S41+Juin!S58 -> 0 | H4: =Juillet!S7+Juillet!S24+Juillet!S41+Juillet!S58+Juillet!S75 -> 0 | I4: =Aout!S7+Aout!S24+Aout!S41+Aout!S58 -> 0 | J4: =Septembre!S7+Septembre!S24+Septembre!S41+Septembre!S58 -> 0 | K4: =Octobre!S7+Octobre!S24+Octobre!S41+Octobre!S58+Octobre!S75 -> 0 | L4: =Novembre!S7+Novembre!S24+Novembre!S41+Novembre!S58 -> 0 | M4: =Décembre!S7+Décembre!S24+Décembre!S41+Décembre!S58 -> 0 | U4: =Janvier!A55 -> 44578
B5: =Janvier!S8+Janvier!S25+Janvier!S42+Janvier!S59+Janvier!S76 -> 0 | C5: =Février!S8+Février!S25+Février!S42+Février!S59 -> 0 | D5: =Mars!S8+Mars!S25+Mars!S42+Mars!S59 -> 0 | E5: =Avril!S8+Avril!S25+Avril!S42+Avril!S59 -> 0 | F5: =Mai!S8+Mai!S25+Mai!S42+Mai!S59+Mai!S76 -> 0 | G5: =Juin!S8+Juin!S25+Juin!S42+Juin!S59 -> 0 | H5: =Juillet!S8+Juillet!S25+Juillet!S42+Juillet!S59+Juillet!S76 -> 0 | I5: =Aout!S8+Aout!S25+Aout!S42+Aout!S59 -> 0 | J5: =Septembre!S8+Septembre!S25+Septembre!S42+Septembre!S59 -> 0 | K5: =Octobre!S8+Octobre!S25+Octobre!S42+Octobre!S59+Octobre!S76 -> 0 | L5: =Novembre!S8+Novembre!S25+Novembre!S42+Novembre!S59 -> 0 | M5: =Décembre!S8+Décembre!S25+Décembre!S42+Décembre!S59 -> 0 | U5: =Janvier!A72 -> 44585
B6: =Janvier!S9+Janvier!S26+Janvier!S43+Janvier!S60+Janvier!S77 -> 0 | C6: =Février!S9+Février!S26+Février!S43+Février!S60 -> 0 | D6: =Mars!S9+Mars!S26+Mars!S43+Mars!S60 -> 0 | E6: =Avril!S9+Avril!S26+Avril!S43+Avril!S60 -> 0 | F6: =Mai!S9+Mai!S26+Mai!S43+Mai!S60+Mai!S77 -> 0 | G6: =Juin!S9+Juin!S26+Juin!S43+Juin!S60 -> 0 | H6: =Juillet!S9+Juillet!S26+Juillet!S43+Juillet!S60+Juillet!S77 -> 0 | I6: =Aout!S9+Aout!S26+Aout!S43+Aout!S60 -> 0 | J6: =Septembre!S9+Septembre!S26+Septembre!S43+Septembre!S60 -> 0 | K6: =Octobre!S9+Octobre!S26+Octobre!S43+Octobre!S60+Octobre!S77 -> 0 | L6: =Novembre!S9+Novembre!S26+Novembre!S43+Novembre!S60 -> 0 | M6: =Décembre!S9+Décembre!S26+Décembre!S43+Décembre!S60 -> 0 | U6: =Février!A4 -> 44592
B7: =Janvier!S10+Janvier!S27+Janvier!S44+Janvier!S61+Janvier!S78 -> 0 | C7: =Février!S10+Février!S27+Février!S44+Février!S61 -> 0 | D7: =Mars!S10+Mars!S27+Mars!S44+Mars!S61 -> 0 | E7: =Avril!S10+Avril!S27+Avril!S44+Avril!S61 -> 0 | F7: =Mai!S10+Mai!S27+Mai!S44+Mai!S61+Mai!S78 -> 0 | G7: =Juin!S10+Juin!S27+Juin!S44+Juin!S61 -> 0 | H7: =Juillet!S10+Juillet!S27+Juillet!S44+Juillet!S61+Juillet!S78 -> 0 | I7: =Aout!S10+Aout!S27+Aout!S44+Aout!S61 -> 0 | J7: =Septembre!S10+Septembre!S27+Septembre!S44+Septembre!S61 -> 0 | K7: =Octobre!S10+Octobre!S27+Octobre!S44+Octobre!S61+Octobre!S78 -> 0 | L7: =Novembre!S10+Novembre!S27+Novembre!S44+Novembre!S61 -> 0 | M7: =Décembre!S10+Décembre!S27+Décembre!S44+Décembre!S61 -> 0 | U7: =Février!A21 -> 44599
B8: =Janvier!S11+Janvier!S28+Janvier!S45+Janvier!S62+Janvier!S79 -> 0 | C8: =Février!S11+Février!S28+Février!S45+Février!S62 -> 0 | D8: =Mars!S11+Mars!S28+Mars!S45+Mars!S62 -> 0 | E8: =Avril!S11+Avril!S28+Avril!S45+Avril!S62 -> 0 | F8: =Mai!S11+Mai!S28+Mai!S45+Mai!S62+Mai!S79 -> 0 | G8: =Juin!S11+Juin!S28+Juin!S45+Juin!S62 -> 0 | H8: =Juillet!S11+Juillet!S28+Juillet!S45+Juillet!S62+Juillet!S79 -> 0 | I8: =Aout!S11+Aout!S28+Aout!S45+Aout!S62 -> 0 | J8: =Septembre!S11+Septembre!S28+Septembre!S45+Septembre!S62 -> 0 | K8: =Octobre!S11+Octobre!S28+Octobre!S45+Octobre!S62+Octobre!S79 -> 0 | L8: =Novembre!S11+Novembre!S28+Novembre!S45+Novembre!S62 -> 0 | M8: =Décembre!S11+Décembre!S28+Décembre!S45+Décembre!S62 -> 0 | U8: =Février!A38 -> 44606
B9: =Janvier!S12+Janvier!S29+Janvier!S46+Janvier!S63+Janvier!S80 -> 0 | C9: =Février!S12+Février!S29+Février!S46+Février!S63 -> 0 | D9: =Mars!S12+Mars!S29+Mars!S46+Mars!S63 -> 0 | E9: =Avril!S12+Avril!S29+Avril!S46+Avril!S63 -> 0 | F9: =Mai!S12+Mai!S29+Mai!S46+Mai!S63+Mai!S80 -> 0 | G9: =Juin!S12+Juin!S29+Juin!S46+Juin!S63 -> 0 | H9: =Juillet!S12+Juillet!S29+Juillet!S46+Juillet!S63+Juillet!S80 -> 0 | I9: =Aout!S12+Aout!S29+Aout!S46+Aout!S63 -> 0 | J9: =Septembre!S12+Septembre!S29+Septembre!S46+Septembre!S63 -> 0 | K9: =Octobre!S12+Octobre!S29+Octobre!S46+Octobre!S63+Octobre!S80 -> 0 | L9: =Novembre!S12+Novembre!S29+Novembre!S46+Novembre!S63 -> 0 | M9: =Décembre!S12+Décembre!S29+Décembre!S46+Décembre!S63 -> 0 | U9: =Février!A55 -> 44613
B10: =Janvier!S13+Janvier!S30+Janvier!S47+Janvier!S64+Janvier!S81 -> 0 | C10: =Février!S13+Février!S30+Février!S47+Février!S64 -> 0 | D10: =Mars!S13+Mars!S30+Mars!S47+Mars!S64 -> 0 | E10: =Avril!S13+Avril!S30+Avril!S47+Avril!S64 -> 0 | F10: =Mai!S13+Mai!S30+Mai!S47+Mai!S64+Mai!S81 -> 0 | G10: =Juin!S13+Juin!S30+Juin!S47+Juin!S64 -> 0 | H10: =Juillet!S13+Juillet!S30+Juillet!S47+Juillet!S64+Juillet!S81 -> 0 | I10: =Aout!S13+Aout!S30+Aout!S47+Aout!S64 -> 0 | J10: =Septembre!S13+Septembre!S30+Septembre!S47+Septembre!S64 -> 0 | K10: =Octobre!S13+Octobre!S30+Octobre!S47+Octobre!S64+Octobre!S81 -> 0 | L10: =Novembre!S13+Novembre!S30+Novembre!S47+Novembre!S64 -> 0 | M10: =Décembre!S13+Décembre!S30+Décembre!S47+Décembre!S64 -> 0 | U10: =Mars!A4 -> 44620
U11: =Mars!A21 -> 44627
U12: =Mars!A38 -> 44634
A13: 44557 | D13: LUNDI | F13: MARDI | H13: MERCREDI | J13: JEUDI | L13: VENDREDI | N13: SAMEDI | P13: DIMANCHE | R13: TOTAL | S13: DIFF | U13: =Mars!A55 -> 44641
U14: =Avril!A4 -> 44648
B15: Contrat | U15: =Avril!A21 -> 44655
B16: 19 | C16: Heure | R16: =SUM(D17:Q17) -> 0 | S16: =R16-B16 -> -19 | U16: =Avril!A38 -> 44662
C17: Total | D17: =IF(E16-D16<0,E16-D16+24,E16-D16) -> 0 | F17: =IF(G16-F16<0,G16-F16+24,G16-F16) -> 0 | H17: =IF(I16-H16<0,I16-H16+24,I16-H16) -> 0 | J17: =IF(K16-J16<0,K16-J16+24,K16-J16) -> 0 | L17: =IF(M16-L16<0,M16-L16+24,M16-L16) -> 0 | N17: =IF(O16-N16<0,O16-N16+24,O16-N16) -> 0 | P17: =IF(Q16-P16<0,Q16-P16+24,Q16-P16) -> 0 | U17: =Avril!A55 -> 44669
B18: 35 | C18: Heure | R18: =SUM(D19:Q19) -> 0 | S18: =R18-B18 -> -35 | U18: =Mai!A4 -> 44676
C19: Total | D19: =IF(E18-D18<0,E18-D18+24,E18-D18) -> 0 | F19: =IF(G18-F18<0,G18-F18+24,G18-F18) -> 0 | H19: =IF(I18-H18<0,I18-H18+24,I18-H18) -> 0 | J19: =IF(K18-J18<0,K18-J18+24,K18-J18) -> 0 | L19: =IF(M18-L18<0,M18-L18+24,M18-L18) -> 0 | N19: =IF(O18-N18<0,O18-N18+24,O18-N18) -> 0 | P19: =IF(Q18-P18<0,Q18-P18+24,Q18-P18) -> 0 | U19: =Mai!A21 -> 44683
B20: 35 | C20: Heure | R20: =SUM(D21:Q21) -> 0 | S20: =R20-B20 -> -35 | U20: =Mai!A38 -> 44690
C21: Total | D21: =IF(E20-D20<0,E20-D20+24,E20-D20) -> 0 | F21: =IF(G20-F20<0,G20-F20+24,G20-F20) -> 0 | H21: =IF(I20-H20<0,I20-H20+24,I20-H20) -> 0 | J21: =IF(K20-J20<0,K20-J20+24,K20-J20) -> 0 | L21: =IF(M20-L20<0,M20-L20+24,M20-L20) -> 0 | N21: =IF(O20-N20<0,O20-N20+24,O20-N20) -> 0 | P21: =IF(Q20-P20<0,Q20-P20+24,Q20-P20) -> 0 | U21: =Mai!A55 -> 44697
B22: 19 | C22: Heure | R22: =SUM(D23:Q23) -> 0 | S22: =R22-B22 -> -19 | U22: =Mai!A72 -> 44704
C23: Total | D23: =IF(E22-D22<0,E22-D22+24,E22-D22) -> 0 | F23: =IF(G22-F22<0,G22-F22+24,G22-F22) -> 0 | H23: =IF(I22-H22<0,I22-H22+24,I22-H22) -> 0 | J23: =IF(K22-J22<0,K22-J22+24,K22-J22) -> 0 | L23: =IF(M22-L22<0,M22-L22+24,M22-L22) -> 0 | N23: =IF(O22-N22<0,O22-N22+24,O22-N22) -> 0 | P23: =IF(Q22-P22<0,Q22-P22+24,Q22-P22) -> 0 | U23: =Juin!A4 -> 44711
B24: 27 | C24: Heure | R24: =SUM(D25:Q25) -> 0 | S24: =R24-B24 -> -27 | U24: =Juin!A21 -> 44718
C25: Total | D25: =IF(E24-D24<0,E24-D24+24,E24-D24) -> 0 | F25: =IF(G24-F24<0,G24-F24+24,G24-F24) -> 0 | H25: =IF(I24-H24<0,I24-H24+24,I24-H24) -> 0 | J25: =IF(K24-J24<0,K24-J24+24,K24-J24) -> 0 | L25: =IF(M24-L24<0,M24-L24+24,M24-L24) -> 0 | N25: =IF(O24-N24<0,O24-N24+24,O24-N24) -> 0 | P25: =IF(Q24-P24<0,Q24-P24+24,Q24-P24) -> 0 | U25: =Juin!A38 -> 44725
B26: 19 | C26: Heure | R26: =SUM(D27:Q27) -> 0 | S26: =R26-B26 -> -19 | U26: =Juin!A55 -> 44732
C27: Total | D27: =IF(E26-D26<0,E26-D26+24,E26-D26) -> 0 | F27: =IF(G26-F26<0,G26-F26+24,G26-F26) -> 0 | H27: =IF(I26-H26<0,I26-H26+24,I26-H26) -> 0 | J27: =IF(K26-J26<0,K26-J26+24,K26-J26) -> 0 | L27: =IF(M26-L26<0,M26-L26+24,M26-L26) -> 0 | N27: =IF(O26-N26<0,O26-N26+24,O26-N26) -> 0 | P27: =IF(Q26-P26<0,Q26-P26+24,Q26-P26) -> 0 | U27: =Juillet!A4 -> 44739
B28: 0 | C28: Heure | R28: =SUM(D29:Q29) -> 0 | S28: =R28-B28 -> 0 | U28: =Juillet!A21 -> 44746
C29: Total | D29: =IF(E28-D28<0,E28-D28+24,E28-D28) -> 0 | F29: =IF(G28-F28<0,G28-F28+24,G28-F28) -> 0 | H29: =IF(I28-H28<0,I28-H28+24,I28-H28) -> 0 | J29: =IF(K28-J28<0,K28-J28+24,K28-J28) -> 0 | L29: =IF(M28-L28<0,M28-L28+24,M28-L28) -> 0 | N29: =IF(O28-N28<0,O28-N28+24,O28-N28) -> 0 | P29: =IF(Q28-P28<0,Q28-P28+24,Q28-P28) -> 0 | U29: =Juillet!A38 -> 44753
U30: =Juillet!A55 -> 44760
U31: =Juillet!A72 -> 44767
U32: =Aout!A4 -> 44774
U33: =Aout!A21 -> 44781
U34: =Aout!A38 -> 44788
U35: =Aout!A55 -> 44795
U36: =Septembre!A4 -> 44802
U37: =Septembre!A21 -> 44809
U38: =Septembre!A38 -> 44816
U39: =Septembre!A55 -> 44823
U40: =Octobre!A4 -> 44830
...

Sheet Janvier
A1: Période : | B1: Janvier
A2: Année : | B2: 2022
A4: =D5 -> 44557 | D4: LUNDI | F4: MARDI | H4: MERCREDI | J4: JEUDI | L4: VENDREDI | N4: SAMEDI | P4: DIMANCHE | R4: TOTAL | S4: DIFF
D5: 44557 | F5: =D5+1 -> 44558 | H5: =D5+2 -> 44559 | J5: =D5+3 -> 44560 | L5: =D5+4 -> 44561 | N5: =D5+5 -> 44562 | P5: =D5+6 -> 44563
B6: Contrat
B7: 19 | C7: Heure | N7: 16.5 | O7: 2.5 | P7: 16.5 | Q7: 1.5 | R7: =SUM(D8:Q8) -> 19 | S7: =R7-B7 -> 0
C8: Total | D8: =IF(E7-D7<0,E7-D7+24,E7-D7) -> 0 | F8: =IF(G7-F7<0,G7-F7+24,G7-F7) -> 0 | H8: =IF(I7-H7<0,I7-H7+24,I7-H7) -> 0 | J8: =IF(K7-J7<0,K7-J7+24,K7-J7) -> 0 | L8: =IF(M7-L7<0,M7-L7+24,M7-L7) -> 0 | N8: =IF(O7-N7<0,O7-N7+24,O7-N7) -> 10 | P8: =IF(Q7-P7<0,Q7-P7+24,Q7-P7) -> 9
B9: 35 | C9: Heure | D9: 17 | E9: 2 | F9: 17 | G9: 2 | H9: 17 | I9: 2 | P9: 17 | Q9: 1 | R9: =SUM(D10:Q10) -> 35 | S9: =R9-B9 -> 0
C10: Total | D10: =IF(E9-D9<0,E9-D9+24,E9-D9) -> 9 | F10: =IF(G9-F9<0,G9-F9+24,G9-F9) -> 9 | H10: =IF(I9-H9<0,I9-H9+24,I9-H9) -> 9 | J10: =IF(K9-J9<0,K9-J9+24,K9-J9) -> 0 | L10: =IF(M9-L9<0,M9-L9+24,M9-L9) -> 0 | N10: =IF(O9-N9<0,O9-N9+24,O9-N9) -> 0 | P10: =IF(Q9-P9<0,Q9-P9+24,Q9-P9) -> 8
B11: 35 | C11: Heure | F11: 16.5 | G11: 2.5 | J11: 16.5 | K11: 2.5 | L11: 16.5 | M11: 2.5 | N11: 21.5 | O11: 2.5 | R11: =SUM(D12:Q12) -> 35 | S11: =R11-B11 -> 0
C12: Total | D12: =IF(E11-D11<0,E11-D11+24,E11-D11) -> 0 | F12: =IF(G11-F11<0,G11-F11+24,G11-F11) -> 10 | H12: =IF(I11-H11<0,I11-H11+24,I11-H11) -> 0 | J12: =IF(K11-J11<0,K11-J11+24,K11-J11) -> 10 | L12: =IF(M11-L11<0,M11-L11+24,M11-L11) -> 10 | N12: =IF(O11-N11<0,O11-N11+24,O11-N11) -> 5 | P12: =IF(Q11-P11<0,Q11-P11+24,Q11-P11) -> 0
B13: 19 | C13: Heure | J13: 17 | K13: 2.5 | N13: 17 | O13: 2.5 | R13: =SUM(D14:Q14) -> 19 | S13: =R13-B13 -> 0
C14: Total | D14: =IF(E13-D13<0,E13-D13+24,E13-D13) -> 0 | F14: =IF(G13-F13<0,G13-F13+24,G13-F13) -> 0 | H14: =IF(I13-H13<0,I13-H13+24,I13-H13) -> 0 | J14: =IF(K13-J13<0,K13-J13+24,K13-J13) -> 9.5 | L14: =IF(M13-L13<0,M13-L13+24,M13-L13) -> 0 | N14: =IF(O13-N13<0,O13-N13+24,O13-N13) -> 9.5 | P14: =IF(Q13-P13<0,Q13-P13+24,Q13-P13) -> 0
B15: 27 | C15: Heure | D15: 16.5 | E15: 2.5 | H15: 16 | I15: 2.5 | L15: 20 | M15: 2.5 | R15: =SUM(D16:Q16) -> 27 | S15: =R15-B15 -> 0
C16: Total | D16: =IF(E15-D15<0,E15-D15+24,E15-D15) -> 10 | F16: =IF(G15-F15<0,G15-F15+24,G15-F15) -> 0 | H16: =IF(I15-H15<0,I15-H15+24,I15-H15) -> 10.5 | J16: =IF(K15-J15<0,K15-J15+24,K15-J15) -> 0 | L16: =IF(M15-L15<0,M15-L15+24,M15-L15) -> 6.5 | N16: =IF(O15-N15<0,O15-N15+24,O15-N15) -> 0 | P16: =IF(Q15-P15<0,Q15-P15+24,Q15-P15) -> 0
B17: 19 | C17: Heure | J17: 17 | K17: 2.5 | L17: 17 | M17: 2.5 | R17: =SUM(D18:Q18) -> 19 | S17: =R17-B17 -> 0
C18: Total | D18: =IF(E17-D17<0,E17-D17+24,E17-D17) -> 0 | F18: =IF(G17-F17<0,G17-F17+24,G17-F17) -> 0 | H18: =IF(I17-H17<0,I17-H17+24,I17-H17) -> 0 | J18: =IF(K17-J17<0,K17-J17+24,K17-J17) -> 9.5 | L18: =IF(M17-L17<0,M17-L17+24,M17-L17) -> 9.5 | N18: =IF(O17-N17<0,O17-N17+24,O17-N17) -> 0 | P18: =IF(Q17-P17<0,Q17-P17+24,Q17-P17) -> 0
B19: 0 | C19: Heure | R19: =SUM(D20:Q20) -> 0 | S19: =R19-B19 -> 0
C20: Total | D20: =IF(E19-D19<0,E19-D19+24,E19-D19) -> 0 | F20: =IF(G19-F19<0,G19-F19+24,G19-F19) -> 0 | H20: =IF(I19-H19<0,I19-H19+24,I19-H19) -> 0 | J20: =IF(K19-J19<0,K19-J19+24,K19-J19) -> 0 | L20: =IF(M19-L19<0,M19-L19+24,M19-L19) -> 0 | N20: =IF(O19-N19<0,O19-N19+24,O19-N19) -> 0 | P20: =IF(Q19-P19<0,Q19-P19+24,Q19-P19) -> 0
A21: =D22 -> 44564 | D21: LUNDI | F21: MARDI | H21: MERCREDI | J21: JEUDI | L21: VENDREDI | N21: SAMEDI | P21: DIMANCHE | R21: TOTAL | S21: DIFF
D22: =P5+1 -> 44564 | F22: =D22+1 -> 44565 | H22: =D22+2 -> 44566 | J22: =D22+3 -> 44567 | L22: =D22+4 -> 44568 | N22: =D22+5 -> 44569 | P22: =D22+6 -> 44570
B23: Contrat
B24: 19 | C24: Heure | N24: 16.5 | O24: 2.5 | P24: 16.5 | Q24: 1.5 | R24: =SUM(D25:Q25) -> 19 | S24: =R24-B24 -> 0
C25: Total | D25: =IF(E24-D24<0,E24-D24+24,E24-D24) -> 0 | F25: =IF(G24-F24<0,G24-F24+24,G24-F24) -> 0 | H25: =IF(I24-H24<0,I24-H24+24,I24-H24) -> 0 | J25: =IF(K24-J24<0,K24-J24+24,K24-J24) -> 0 | L25: =IF(M24-L24<0,M24-L24+24,M24-L24) -> 0 | N25: =IF(O24-N24<0,O24-N24+24,O24-N24) -> 10 | P25: =IF(Q24-P24<0,Q24-P24+24,Q24-P24) -> 9
B26: 35 | C26: Heure | D26: 17 | E26: 2 | F26: 17 | G26: 2 | H26: 17 | I26: 2 | P26: 17 | Q26: 1 | R26: =SUM(D27:Q27) -> 35 | S26: =R26-B26 -> 0
C27: Total | D27: =IF(E26-D26<0,E26-D26+24,E26-D26) -> 9 | F27: =IF(G26-F26<0,G26-F26+24,G26-F26) -> 9 | H27: =IF(I26-H26<0,I26-H26+24,I26-H26) -> 9 | J27: =IF(K26-J26<0,K26-J26+24,K26-J26) -> 0 | L27: =IF(M26-L26<0,M26-L26+24,M26-L26) -> 0 | N27: =IF(O26-N26<0,O26-N26+24,O26-N26) -> 0 | P27: =IF(Q26-P26<0,Q26-P26+24,Q26-P26) -> 8
B28: 35 | C28: Heure | F28: 16.5 | G28: 2.5 | J28: 16.5 | K28: 2.5 | L28: 16.5 | M28: 2.5 | N28: 21.5 | O28: 2.5 | R28: =SUM(D29:Q29) -> 35 | S28: =R28-B28 -> 0
C29: Total | D29: =IF(E28-D28<0,E28-D28+24,E28-D28) -> 0 | F29: =IF(G28-F28<0,G28-F28+24,G28-F28) -> 10 | H29: =IF(I28-H28<0,I28-H28+24,I28-H28) -> 0 | J29: =IF(K28-J28<0,K28-J28+24,K28-J28) -> 10 | L29: =IF(M28-L28<0,M28-L28+24,M28-L28) -> 10 | N29: =IF(O28-N28<0,O28-N28+24,O28-N28) -> 5 | P29: =IF(Q28-P28<0,Q28-P28+24,Q28-P28) -> 0
B30: 19 | C30: Heure | J30: 17 | K30: 2.5 | N30: 17 | O30: 2.5 | R30: =SUM(D31:Q31) -> 19 | S30: =R30-B30 -> 0
C31: Total | D31: =IF(E30-D30<0,E30-D30+24,E30-D30) -> 0 | F31: =IF(G30-F30<0,G30-F30+24,G30-F30) -> 0 | H31: =IF(I30-H30<0,I30-H30+24,I30-H30) -> 0 | J31: =IF(K30-J30<0,K30-J30+24,K30-J30) -> 9.5 | L31: =IF(M30-L30<0,M30-L30+24,M30-L30) -> 0 | N31: =IF(O30-N30<0,O30-N30+24,O30-N30) -> 9.5 | P31: =IF(Q30-P30<0,Q30-P30+24,Q30-P30) -> 0
B32: 27 | C32: Heure | D32: 16.5 | E32: 2.5 | H32: 16 | I32: 2.5 | L32: 20 | M32: 2.5 | R32: =SUM(D33:Q33) -> 27 | S32: =R32-B32 -> 0
C33: Total | D33: =IF(E32-D32<0,E32-D32+24,E32-D32) -> 10 | F33: =IF(G32-F32<0,G32-F32+24,G32-F32) -> 0 | H33: =IF(I32-H32<0,I32-H32+24,I32-H32) -> 10.5 | J33: =IF(K32-J32<0,K32-J32+24,K32-J32) -> 0 | L33: =IF(M32-L32<0,M32-L32+24,M32-L32) -> 6.5 | N33: =IF(O32-N32<0,O32-N32+24,O32-N32) -> 0 | P33: =IF(Q32-P32<0,Q32-P32+24,Q32-P32) -> 0
B34: 19 | C34: Heure | J34: 17 | K34: 2.5 | L34: 17 | M34: 2.5 | R34: =SUM(D35:Q35) -> 19 | S34: =R34-B34 -> 0
C35: Total | D35: =IF(E34-D34<0,E34-D34+24,E34-D34) -> 0 | F35: =IF(G34-F34<0,G34-F34+24,G34-F34) -> 0 | H35: =IF(I34-H34<0,I34-H34+24,I34-H34) -> 0 | J35: =IF(K34-J34<0,K34-J34+24,K34-J34) -> 9.5 | L35: =IF(M34-L34<0,M34-L34+24,M34-L34) -> 9.5 | N35: =IF(O34-N34<0,O34-N34+24,O34-N34) -> 0 | P35: =IF(Q34-P34<0,Q34-P34+24,Q34-P34) -> 0
B36: 0 | C36: Heure | R36: =SUM(D37:Q37) -> 0 | S36: =R36-B36 -> 0
C37: Total | D37: =IF(E36-D36<0,E36-D36+24,E36-D36) -> 0 | F37: =IF(G36-F36<0,G36-F36+24,G36-F36) -> 0 | H37: =IF(I36-H36<0,I36-H36+24,I36-H36) -> 0 | J37: =IF(K36-J36<0,K36-J36+24,K36-J36) -> 0 | L37: =IF(M36-L36<0,M36-L36+24,M36-L36) -> 0 | N37: =IF(O36-N36<0,O36-N36+24,O36-N36) -> 0 | P37: =IF(Q36-P36<0,Q36-P36+24,Q36-P36) -> 0
A38: =D39 -> 44571 | D38: LUNDI | F38: MARDI | H38: MERCREDI | J38: JEUDI | L38: VENDREDI | N38: SAMEDI | P38: DIMANCHE | R38: TOTAL | S38: DIFF
D39: =P22+1 -> 44571 | F39: =D39+1 -> 44572 | H39: =D39+2 -> 44573 | J39: =D39+3 -> 44574 | L39: =D39+4 -> 44575 | N39: =D39+5 -> 44576 | P39: =D39+6 -> 44577
B40: Contrat
B41: 19 | C41: Heure | N41: 16.5 | O41: 2.5 | P41: 16.5 | Q41: 1.5 | R41: =SUM(D42:Q42) -> 19 | S41: =R41-B41 -> 0
...

Sheet Février
A1: Période : | B1: Février
A2: Année : | B2: 2022
A4: =D5 -> 44592 | D4: LUNDI | F4: MARDI | H4: MERCREDI | J4: JEUDI | L4: VENDREDI | N4: SAMEDI | P4: DIMANCHE | R4: TOTAL | S4: DIFF
D5: =Janvier!P73+1 -> 44592 | F5: =D5+1 -> 44593 | H5: =D5+2 -> 44594 | J5: =D5+3 -> 44595 | L5: =D5+4 -> 44596 | N5: =D5+5 -> 44597 | P5: =D5+6 -> 44598
B6: Contrat
B7: 19 | C7: Heure | N7: 16.5 | O7: 2.5 | P7: 16.5 | Q7: 1.5 | R7: =SUM(D8:Q8) -> 19 | S7: =R7-B7 -> 0
C8: Total | D8: =IF(E7-D7<0,E7-D7+24,E7-D7) -> 0 | F8: =IF(G7-F7<0,G7-F7+24,G7-F7) -> 0 | H8: =IF(I7-H7<0,I7-H7+24,I7-H7) -> 0 | J8: =IF(K7-J7<0,K7-J7+24,K7-J7) -> 0 | L8: =IF(M7-L7<0,M7-L7+24,M7-L7) -> 0 | N8: =IF(O7-N7<0,O7-N7+24,O7-N7) -> 10 | P8: =IF(Q7-P7<0,Q7-P7+24,Q7-P7) -> 9
B9: 35 | C9: Heure | D9: 17 | E9: 2 | F9: 17 | G9: 2 | H9: 17 | I9: 2 | P9: 17 | Q9: 1 | R9: =SUM(D10:Q10) -> 35 | S9: =R9-B9 -> 0
C10: Total | D10: =IF(E9-D9<0,E9-D9+24,E9-D9) -> 9 | F10: =IF(G9-F9<0,G9-F9+24,G9-F9) -> 9 | H10: =IF(I9-H9<0,I9-H9+24,I9-H9) -> 9 | J10: =IF(K9-J9<0,K9-J9+24,K9-J9) -> 0 | L10: =IF(M9-L9<0,M9-L9+24,M9-L9) -> 0 | N10: =IF(O9-N9<0,O9-N9+24,O9-N9) -> 0 | P10: =IF(Q9-P9<0,Q9-P9+24,Q9-P9) -> 8
B11: 35 | C11: Heure | F11: 16.5 | G11: 2.5 | J11: 16.5 | K11: 2.5 | L11: 16.5 | M11: 2.5 | N11: 21.5 | O11: 2.5 | R11: =SUM(D12:Q12) -> 35 | S11: =R11-B11 -> 0
C12: Total | D12: =IF(E11-D11<0,E11-D11+24,E11-D11) -> 0 | F12: =IF(G11-F11<0,G11-F11+24,G11-F11) -> 10 | H12: =IF(I11-H11<0,I11-H11+24,I11-H11) -> 0 | J12: =IF(K11-J11<0,K11-J11+24,K11-J11) -> 10 | L12: =IF(M11-L11<0,M11-L11+24,M11-L11) -> 10 | N12: =IF(O11-N11<0,O11-N11+24,O11-N11) -> 5 | P12: =IF(Q11-P11<0,Q11-P11+24,Q11-P11) -> 0
B13: 19 | C13: Heure | J13: 17 | K13: 2.5 | N13: 17 | O13: 2.5 | R13: =SUM(D14:Q14) -> 19 | S13: =R13-B13 -> 0
C14: Total | D14: =IF(E13-D13<0,E13-D13+24,E13-D13) -> 0 | F14: =IF(G13-F13<0,G13-F13+24,G13-F13) -> 0 | H14: =IF(I13-H13<0,I13-H13+24,I13-H13) -> 0 | J14: =IF(K13-J13<0,K13-J13+24,K13-J13) -> 9.5 | L14: =IF(M13-L13<0,M13-L13+24,M13-L13) -> 0 | N14: =IF(O13-N13<0,O13-N13+24,O13-N13) -> 9.5 | P14: =IF(Q13-P13<0,Q13-P13+24,Q13-P13) -> 0
B15: 27 | C15: Heure | D15: 16.5 | E15: 2.5 | H15: 16 | I15: 2.5 | L15: 20 | M15: 2.5 | R15: =SUM(D16:Q16) -> 27 | S15: =R15-B15 -> 0
C16: Total | D16: =IF(E15-D15<0,E15-D15+24,E15-D15) -> 10 | F16: =IF(G15-F15<0,G15-F15+24,G15-F15) -> 0 | H16: =IF(I15-H15<0,I15-H15+24,I15-H15) -> 10.5 | J16: =IF(K15-J15<0,K15-J15+24,K15-J15) -> 0 | L16: =IF(M15-L15<0,M15-L15+24,M15-L15) -> 6.5 | N16: =IF(O15-N15<0,O15-N15+24,O15-N15) -> 0 | P16: =IF(Q15-P15<0,Q15-P15+24,Q15-P15) -> 0
B17: 19 | C17: Heure | J17: 17 | K17: 2.5 | L17: 17 | M17: 2.5 | R17: =SUM(D18:Q18) -> 19 | S17: =R17-B17 -> 0
C18: Total | D18: =IF(E17-D17<0,E17-D17+24,E17-D17) -> 0 | F18: =IF(G17-F17<0,G17-F17+24,G17-F17) -> 0 | H18: =IF(I17-H17<0,I17-H17+24,I17-H17) -> 0 | J18: =IF(K17-J17<0,K17-J17+24,K17-J17) -> 9.5 | L18: =IF(M17-L17<0,M17-L17+24,M17-L17) -> 9.5 | N18: =IF(O17-N17<0,O17-N17+24,O17-N17) -> 0 | P18: =IF(Q17-P17<0,Q17-P17+24,Q17-P17) -> 0
B19: 0 | C19: Heure | R19: =SUM(D20:Q20) -> 0 | S19: =R19-B19 -> 0
C20: Total | D20: =IF(E19-D19<0,E19-D19+24,E19-D19) -> 0 | F20: =IF(G19-F19<0,G19-F19+24,G19-F19) -> 0 | H20: =IF(I19-H19<0,I19-H19+24,I19-H19) -> 0 | J20: =IF(K19-J19<0,K19-J19+24,K19-J19) -> 0 | L20: =IF(M19-L19<0,M19-L19+24,M19-L19) -> 0 | N20: =IF(O19-N19<0,O19-N19+24,O19-N19) -> 0 | P20: =IF(Q19-P19<0,Q19-P19+24,Q19-P19) -> 0
A21: =D22 -> 44599 | D21: LUNDI | F21: MARDI | H21: MERCREDI | J21: JEUDI | L21: VENDREDI | N21: SAMEDI | P21: DIMANCHE | R21: TOTAL | S21: DIFF
D22: =P5+1 -> 44599 | F22: =D22+1 -> 44600 | H22: =D22+2 -> 44601 | J22: =D22+3 -> 44602 | L22: =D22+4 -> 44603 | N22: =D22+5 -> 44604 | P22: =D22+6 -> 44605
B23: Contrat
B24: 19 | C24: Heure | N24: 16.5 | O24: 2.5 | P24: 16.5 | Q24: 1.5 | R24: =SUM(D25:Q25) -> 19 | S24: =R24-B24 -> 0
C25: Total | D25: =IF(E24-D24<0,E24-D24+24,E24-D24) -> 0 | F25: =IF(G24-F24<0,G24-F24+24,G24-F24) -> 0 | H25: =IF(I24-H24<0,I24-H24+24,I24-H24) -> 0 | J25: =IF(K24-J24<0,K24-J24+24,K24-J24) -> 0 | L25: =IF(M24-L24<0,M24-L24+24,M24-L24) -> 0 | N25: =IF(O24-N24<0,O24-N24+24,O24-N24) -> 10 | P25: =IF(Q24-P24<0,Q24-P24+24,Q24-P24) -> 9
B26: 35 | C26: Heure | D26: 17 | E26: 2 | F26: 17 | G26: 2 | H26: 17 | I26: 2 | P26: 17 | Q26: 1 | R26: =SUM(D27:Q27) -> 35 | S26: =R26-B26 -> 0
C27: Total | D27: =IF(E26-D26<0,E26-D26+24,E26-D26) -> 9 | F27: =IF(G26-F26<0,G26-F26+24,G26-F26) -> 9 | H27: =IF(I26-H26<0,I26-H26+24,I26-H26) -> 9 | J27: =IF(K26-J26<0,K26-J26+24,K26-J26) -> 0 | L27: =IF(M26-L26<0,M26-L26+24,M26-L26) -> 0 | N27: =IF(O26-N26<0,O26-N26+24,O26-N26) -> 0 | P27: =IF(Q26-P26<0,Q26-P26+24,Q26-P26) -> 8
B28: 35 | C28: Heure | F28: 16.5 | G28: 2.5 | J28: 16.5 | K28: 2.5 | L28: 16.5 | M28: 2.5 | N28: 21.5 | O28: 2.5 | R28: =SUM(D29:Q29) -> 35 | S28: =R28-B28 -> 0
C29: Total | D29: =IF(E28-D28<0,E28-D28+24,E28-D28) -> 0 | F29: =IF(G28-F28<0,G28-F28+24,G28-F28) -> 10 | H29: =IF(I28-H28<0,I28-H28+24,I28-H28) -> 0 | J29: =IF(K28-J28<0,K28-J28+24,K28-J28) -> 10 | L29: =IF(M28-L28<0,M28-L28+24,M28-L28) -> 10 | N29: =IF(O28-N28<0,O28-N28+24,O28-N28) -> 5 | P29: =IF(Q28-P28<0,Q28-P28+24,Q28-P28) -> 0
B30: 19 | C30: Heure | J30: 17 | K30: 2.5 | N30: 17 | O30: 2.5 | R30: =SUM(D31:Q31) -> 19 | S30: =R30-B30 -> 0
C31: Total | D31: =IF(E30-D30<0,E30-D30+24,E30-D30) -> 0 | F31: =IF(G30-F30<0,G30-F30+24,G30-F30) -> 0 | H31: =IF(I30-H30<0,I30-H30+24,I30-H30) -> 0 | J31: =IF(K30-J30<0,K30-J30+24,K30-J30) -> 9.5 | L31: =IF(M30-L30<0,M30-L30+24,M30-L30) -> 0 | N31: =IF(O30-N30<0,O30-N30+24,O30-N30) -> 9.5 | P31: =IF(Q30-P30<0,Q30-P30+24,Q30-P30) -> 0
B32: 27 | C32: Heure | D32: 16.5 | E32: 2.5 | H32: 16 | I32: 2.5 | L32: 20 | M32: 2.5 | R32: =SUM(D33:Q33) -> 27 | S32: =R32-B32 -> 0
C33: Total | D33: =IF(E32-D32<0,E32-D32+24,E32-D32) -> 10 | F33: =IF(G32-F32<0,G32-F32+24,G32-F32) -> 0 | H33: =IF(I32-H32<0,I32-H32+24,I32-H32) -> 10.5 | J33: =IF(K32-J32<0,K32-J32+24,K32-J32) -> 0 | L33: =IF(M32-L32<0,M32-L32+24,M32-L32) -> 6.5 | N33: =IF(O32-N32<0,O32-N32+24,O32-N32) -> 0 | P33: =IF(Q32-P32<0,Q32-P32+24,Q32-P32) -> 0
B34: 19 | C34: Heure | J34: 17 | K34: 2.5 | L34: 17 | M34: 2.5 | R34: =SUM(D35:Q35) -> 19 | S34: =R34-B34 -> 0
C35: Total | D35: =IF(E34-D34<0,E34-D34+24,E34-D34) -> 0 | F35: =IF(G34-F34<0,G34-F34+24,G34-F34) -> 0 | H35: =IF(I34-H34<0,I34-H34+24,I34-H34) -> 0 | J35: =IF(K34-J34<0,K34-J34+24,K34-J34) -> 9.5 | L35: =IF(M34-L34<0,M34-L34+24,M34-L34) -> 9.5 | N35: =IF(O34-N34<0,O34-N34+24,O34-N34) -> 0 | P35: =IF(Q34-P34<0,Q34-P34+24,Q34-P34) -> 0
B36: 0 | C36: Heure | R36: =SUM(D37:Q37) -> 0 | S36: =R36-B36 -> 0
C37: Total | D37: =IF(E36-D36<0,E36-D36+24,E36-D36) -> 0 | F37: =IF(G36-F36<0,G36-F36+24,G36-F36) -> 0 | H37: =IF(I36-H36<0,I36-H36+24,I36-H36) -> 0 | J37: =IF(K36-J36<0,K36-J36+24,K36-J36) -> 0 | L37: =IF(M36-L36<0,M36-L36+24,M36-L36) -> 0 | N37: =IF(O36-N36<0,O36-N36+24,O36-N36) -> 0 | P37: =IF(Q36-P36<0,Q36-P36+24,Q36-P36) -> 0
A38: =D39 -> 44606 | D38: LUNDI | F38: MARDI | H38: MERCREDI | J38: JEUDI | L38: VENDREDI | N38: SAMEDI | P38: DIMANCHE | R38: TOTAL | S38: DIFF
D39: =P22+1 -> 44606 | F39: =D39+1 -> 44607 | H39: =D39+2 -> 44608 | J39: =D39+3 -> 44609 | L39: =D39+4 -> 44610 | N39: =D39+5 -> 44611 | P39: =D39+6 -> 44612
B40: Contrat
B41: 19 | C41: Heure | N41: 16.5 | O41: 2.5 | P41: 16.5 | Q41: 1.5 | R41: =SUM(D42:Q42) -> 19 | S41: =R41-B41 -> 0
...

Sheet Mars
A1: Période : | B1: Mars
A2: Année : | B2: 2022
A4: =D5 -> 44620 | D4: LUNDI | F4: MARDI | H4: MERCREDI | J4: JEUDI | L4: VENDREDI | N4: SAMEDI | P4: DIMANCHE | R4: TOTAL | S4: DIFF
D5: =Février!P56+1 -> 44620 | F5: =D5+1 -> 44621 | H5: =D5+2 -> 44622 | J5: =D5+3 -> 44623 | L5: =D5+4 -> 44624 | N5: =D5+5 -> 44625 | P5: =D5+6 -> 44626
B6: Contrat
B7: 19 | C7: Heure | N7: 16.5 | O7: 2.5 | P7: 16.5 | Q7: 1.5 | R7: =SUM(D8:Q8) -> 19 | S7: =R7-B7 -> 0
C8: Total | D8: =IF(E7-D7<0,E7-D7+24,E7-D7) -> 0 | F8: =IF(G7-F7<0,G7-F7+24,G7-F7) -> 0 | H8: =IF(I7-H7<0,I7-H7+24,I7-H7) -> 0 | J8: =IF(K7-J7<0,K7-J7+24,K7-J7) -> 0 | L8: =IF(M7-L7<0,M7-L7+24,M7-L7) -> 0 | N8: =IF(O7-N7<0,O7-N7+24,O7-N7) -> 10 | P8: =IF(Q7-P7<0,Q7-P7+24,Q7-P7) -> 9
B9: 35 | C9: Heure | D9: 17 | E9: 2 | F9: 17 | G9: 2 | H9: 17 | I9: 2 | P9: 17 | Q9: 1 | R9: =SUM(D10:Q10) -> 35 | S9: =R9-B9 -> 0
C10: Total | D10: =IF(E9-D9<0,E9-D9+24,E9-D9) -> 9 | F10: =IF(G9-F9<0,G9-F9+24,G9-F9) -> 9 | H10: =IF(I9-H9<0,I9-H9+24,I9-H9) -> 9 | J10: =IF(K9-J9<0,K9-J9+24,K9-J9) -> 0 | L10: =IF(M9-L9<0,M9-L9+24,M9-L9) -> 0 | N10: =IF(O9-N9<0,O9-N9+24,O9-N9) -> 0 | P10: =IF(Q9-P9<0,Q9-P9+24,Q9-P9) -> 8
B11: 35 | C11: Heure | F11: 16.5 | G11: 2.5 | J11: 16.5 | K11: 2.5 | L11: 16.5 | M11: 2.5 | N11: 21.5 | O11: 2.5 | R11: =SUM(D12:Q12) -> 35 | S11: =R11-B11 -> 0
C12: Total | D12: =IF(E11-D11<0,E11-D11+24,E11-D11) -> 0 | F12: =IF(G11-F11<0,G11-F11+24,G11-F11) -> 10 | H12: =IF(I11-H11<0,I11-H11+24,I11-H11) -> 0 | J12: =IF(K11-J11<0,K11-J11+24,K11-J11) -> 10 | L12: =IF(M11-L11<0,M11-L11+24,M11-L11) -> 10 | N12: =IF(O11-N11<0,O11-N11+24,O11-N11) -> 5 | P12: =IF(Q11-P11<0,Q11-P11+24,Q11-P11) -> 0
B13: 19 | C13: Heure | J13: 17 | K13: 2.5 | N13: 17 | O13: 2.5 | R13: =SUM(D14:Q14) -> 19 | S13: =R13-B13 -> 0
C14: Total | D14: =IF(E13-D13<0,E13-D13+24,E13-D13) -> 0 | F14: =IF(G13-F13<0,G13-F13+24,G13-F13) -> 0 | H14: =IF(I13-H13<0,I13-H13+24,I13-H13) -> 0 | J14: =IF(K13-J13<0,K13-J13+24,K13-J13) -> 9.5 | L14: =IF(M13-L13<0,M13-L13+24,M13-L13) -> 0 | N14: =IF(O13-N13<0,O13-N13+24,O13-N13) -> 9.5 | P14: =IF(Q13-P13<0,Q13-P13+24,Q13-P13) -> 0
B15: 27 | C15: Heure | D15: 16.5 | E15: 2.5 | H15: 16 | I15: 2.5 | L15: 20 | M15: 2.5 | R15: =SUM(D16:Q16) -> 27 | S15: =R15-B15 -> 0
C16: Total | D16: =IF(E15-D15<0,E15-D15+24,E15-D15) -> 10 | F16: =IF(G15-F15<0,G15-F15+24,G15-F15) -> 0 | H16: =IF(I15-H15<0,I15-H15+24,I15-H15) -> 10.5 | J16: =IF(K15-J15<0,K15-J15+24,K15-J15) -> 0 | L16: =IF(M15-L15<0,M15-L15+24,M15-L15) -> 6.5 | N16: =IF(O15-N15<0,O15-N15+24,O15-N15) -> 0 | P16: =IF(Q15-P15<0,Q15-P15+24,Q15-P15) -> 0
B17: 19 | C17: Heure | J17: 17 | K17: 2.5 | L17: 17 | M17: 2.5 | R17: =SUM(D18:Q18) -> 19 | S17: =R17-B17 -> 0
C18: Total | D18: =IF(E17-D17<0,E17-D17+24,E17-D17) -> 0 | F18: =IF(G17-F17<0,G17-F17+24,G17-F17) -> 0 | H18: =IF(I17-H17<0,I17-H17+24,I17-H17) -> 0 | J18: =IF(K17-J17<0,K17-J17+24,K17-J17) -> 9.5 | L18: =IF(M17-L17<0,M17-L17+24,M17-L17) -> 9.5 | N18: =IF(O17-N17<0,O17-N17+24,O17-N17) -> 0 | P18: =IF(Q17-P17<0,Q17-P17+24,Q17-P17) -> 0
B19: 0 | C19: Heure | R19: =SUM(D20:Q20) -> 0 | S19: =R19-B19 -> 0
C20: Total | D20: =IF(E19-D19<0,E19-D19+24,E19-D19) -> 0 | F20: =IF(G19-F19<0,G19-F19+24,G19-F19) -> 0 | H20: =IF(I19-H19<0,I19-H19+24,I19-H19) -> 0 | J20: =IF(K19-J19<0,K19-J19+24,K19-J19) -> 0 | L20: =IF(M19-L19<0,M19-L19+24,M19-L19) -> 0 | N20: =IF(O19-N19<0,O19-N19+24,O19-N19) -> 0 | P20: =IF(Q19-P19<0,Q19-P19+24,Q19-P19) -> 0
A21: =D22 -> 44627 | D21: LUNDI | F21: MARDI | H21: MERCREDI | J21: JEUDI | L21: VENDREDI | N21: SAMEDI | P21: DIMANCHE | R21: TOTAL | S21: DIFF
D22: =P5+1 -> 44627 | F22: =D22+1 -> 44628 | H22: =D22+2 -> 44629 | J22: =D22+3 -> 44630 | L22: =D22+4 -> 44631 | N22: =D22+5 -> 44632 | P22: =D22+6 -> 44633
B23: Contrat
B24: 19 | C24: Heure | N24: 16.5 | O24: 2.5 | P24: 16.5 | Q24: 1.5 | R24: =SUM(D25:Q25) -> 19 | S24: =R24-B24 -> 0
C25: Total | D25: =IF(E24-D24<0,E24-D24+24,E24-D24) -> 0 | F25: =IF(G24-F24<0,G24-F24+24,G24-F24) -> 0 | H25: =IF(I24-H24<0,I24-H24+24,I24-H24) -> 0 | J25: =IF(K24-J24<0,K24-J24+24,K24-J24) -> 0 | L25: =IF(M24-L24<0,M24-L24+24,M24-L24) -> 0 | N25: =IF(O24-N24<0,O24-N24+24,O24-N24) -> 10 | P25: =IF(Q24-P24<0,Q24-P24+24,Q24-P24) -> 9
B26: 35 | C26: Heure | D26: 17 | E26: 2 | F26: 17 | G26: 2 | H26: 17 | I26: 2 | P26: 17 | Q26: 1 | R26: =SUM(D27:Q27) -> 35 | S26: =R26-B26 -> 0
C27: Total | D27: =IF(E26-D26<0,E26-D26+24,E26-D26) -> 9 | F27: =IF(G26-F26<0,G26-F26+24,G26-F26) -> 9 | H27: =IF(I26-H26<0,I26-H26+24,I26-H26) -> 9 | J27: =IF(K26-J26<0,K26-J26+24,K26-J26) -> 0 | L27: =IF(M26-L26<0,M26-L26+24,M26-L26) -> 0 | N27: =IF(O26-N26<0,O26-N26+24,O26-N26) -> 0 | P27: =IF(Q26-P26<0,Q26-P26+24,Q26-P26) -> 8
B28: 35 | C28: Heure | F28: 16.5 | G28: 2.5 | J28: 16.5 | K28: 2.5 | L28: 16.5 | M28: 2.5 | N28: 21.5 | O28: 2.5 | R28: =SUM(D29:Q29) -> 35 | S28: =R28-B28 -> 0
C29: Total | D29: =IF(E28-D28<0,E28-D28+24,E28-D28) -> 0 | F29: =IF(G28-F28<0,G28-F28+24,G28-F28) -> 10 | H29: =IF(I28-H28<0,I28-H28+24,I28-H28) -> 0 | J29: =IF(K28-J28<0,K28-J28+24,K28-J28) -> 10 | L29: =IF(M28-L28<0,M28-L28+24,M28-L28) -> 10 | N29: =IF(O28-N28<0,O28-N28+24,O28-N28) -> 5 | P29: =IF(Q28-P28<0,Q28-P28+24,Q28-P28) -> 0
B30: 19 | C30: Heure | J30: 17 | K30: 2.5 | N30: 17 | O30: 2.5 | R30: =SUM(D31:Q31) -> 19 | S30: =R30-B30 -> 0
C31: Total | D31: =IF(E30-D30<0,E30-D30+24,E30-D30) -> 0 | F31: =IF(G30-F30<0,G30-F30+24,G30-F30) -> 0 | H31: =IF(I30-H30<0,I30-H30+24,I30-H30) -> 0 | J31: =IF(K30-J30<0,K30-J30+24,K30-J30) -> 9.5 | L31: =IF(M30-L30<0,M30-L30+24,M30-L30) -> 0 | N31: =IF(O30-N30<0,O30-N30+24,O30-N30) -> 9.5 | P31: =IF(Q30-P30<0,Q30-P30+24,Q30-P30) -> 0
B32: 27 | C32: Heure | D32: 16.5 | E32: 2.5 | H32: 16 | I32: 2.5 | L32: 20 | M32: 2.5 | R32: =SUM(D33:Q33) -> 27 | S32: =R32-B32 -> 0
C33: Total | D33: =IF(E32-D32<0,E32-D32+24,E32-D32) -> 10 | F33: =IF(G32-F32<0,G32-F32+24,G32-F32) -> 0 | H33: =IF(I32-H32<0,I32-H32+24,I32-H32) -> 10.5 | J33: =IF(K32-J32<0,K32-J32+24,K32-J32) -> 0 | L33: =IF(M32-L32<0,M32-L32+24,M32-L32) -> 6.5 | N33: =IF(O32-N32<0,O32-N32+24,O32-N32) -> 0 | P33: =IF(Q32-P32<0,Q32-P32+24,Q32-P32) -> 0
B34: 19 | C34: Heure | J34: 17 | K34: 2.5 | L34: 17 | M34: 2.5 | R34: =SUM(D35:Q35) -> 19 | S34: =R34-B34 -> 0
C35: Total | D35: =IF(E34-D34<0,E34-D34+24,E34-D34) -> 0 | F35: =IF(G34-F34<0,G34-F34+24,G34-F34) -> 0 | H35: =IF(I34-H34<0,I34-H34+24,I34-H34) -> 0 | J35: =IF(K34-J34<0,K34-J34+24,K34-J34) -> 9.5 | L35: =IF(M34-L34<0,M34-L34+24,M34-L34) -> 9.5 | N35: =IF(O34-N34<0,O34-N34+24,O34-N34) -> 0 | P35: =IF(Q34-P34<0,Q34-P34+24,Q34-P34) -> 0
B36: 0 | C36: Heure | R36: =SUM(D37:Q37) -> 0 | S36: =R36-B36 -> 0
C37: Total | D37: =IF(E36-D36<0,E36-D36+24,E36-D36) -> 0 | F37: =IF(G36-F36<0,G36-F36+24,G36-F36) -> 0 | H37: =IF(I36-H36<0,I36-H36+24,I36-H36) -> 0 | J37: =IF(K36-J36<0,K36-J36+24,K36-J36) -> 0 | L37: =IF(M36-L36<0,M36-L36+24,M36-L36) -> 0 | N37: =IF(O36-N36<0,O36-N36+24,O36-N36) -> 0 | P37: =IF(Q36-P36<0,Q36-P36+24,Q36-P36) -> 0
A38: =D39 -> 44634 | D38: LUNDI | F38: MARDI | H38: MERCREDI | J38: JEUDI | L38: VENDREDI | N38: SAMEDI | P38: DIMANCHE | R38: TOTAL | S38: DIFF
D39: =P22+1 -> 44634 | F39: =D39+1 -> 44635 | H39: =D39+2 -> 44636 | J39: =D39+3 -> 44637 | L39: =D39+4 -> 44638 | N39: =D39+5 -> 44639 | P39: =D39+6 -> 44640
B40: Contrat
B41: 19 | C41: Heure | N41: 16.5 | O41: 2.5 | P41: 16.5 | Q41: 1.5 | R41: =SUM(D42:Q42) -> 19 | S41: =R41-B41 -> 0
...

Sheet Avril
A1: Période : | B1: Avril
A2: Année : | B2: 2022
A4: =D5 -> 44648 | D4: LUNDI | F4: MARDI | H4: MERCREDI | J4: JEUDI | L4: VENDREDI | N4: SAMEDI | P4: DIMANCHE | R4: TOTAL | S4: DIFF
D5: =Mars!P56+1 -> 44648 | F5: =D5+1 -> 44649 | H5: =D5+2 -> 44650 | J5: =D5+3 -> 44651 | L5: =D5+4 -> 44652 | N5: =D5+5 -> 44653 | P5: =D5+6 -> 44654
B6: Contrat
B7: 19 | C7: Heure | N7: 16.5 | O7: 2.5 | P7: 16.5 | Q7: 1.5 | R7: =SUM(D8:Q8) -> 19 | S7: =R7-B7 -> 0
C8: Total | D8: =IF(E7-D7<0,E7-D7+24,E7-D7) -> 0 | F8: =IF(G7-F7<0,G7-F7+24,G7-F7) -> 0 | H8: =IF(I7-H7<0,I7-H7+24,I7-H7) -> 0 | J8: =IF(K7-J7<0,K7-J7+24,K7-J7) -> 0 | L8: =IF(M7-L7<0,M7-L7+24,M7-L7) -> 0 | N8: =IF(O7-N7<0,O7-N7+24,O7-N7) -> 10 | P8: =IF(Q7-P7<0,Q7-P7+24,Q7-P7) -> 9
B9: 35 | C9: Heure | D9: 17 | E9: 2 | F9: 17 | G9: 2 | H9: 17 | I9: 2 | P9: 17 | Q9: 1 | R9: =SUM(D10:Q10) -> 35 | S9: =R9-B9 -> 0
C10: Total | D10: =IF(E9-D9<0,E9-D9+24,E9-D9) -> 9 | F10: =IF(G9-F9<0,G9-F9+24,G9-F9) -> 9 | H10: =IF(I9-H9<0,I9-H9+24,I9-H9) -> 9 | J10: =IF(K9-J9<0,K9-J9+24,K9-J9) -> 0 | L10: =IF(M9-L9<0,M9-L9+24,M9-L9) -> 0 | N10: =IF(O9-N9<0,O9-N9+24,O9-N9) -> 0 | P10: =IF(Q9-P9<0,Q9-P9+24,Q9-P9) -> 8
B11: 35 | C11: Heure | F11: 16.5 | G11: 2.5 | J11: 16.5 | K11: 2.5 | L11: 16.5 | M11: 2.5 | N11: 21.5 | O11: 2.5 | R11: =SUM(D12:Q12) -> 35 | S11: =R11-B11 -> 0
C12: Total | D12: =IF(E11-D11<0,E11-D11+24,E11-D11) -> 0 | F12: =IF(G11-F11<0,G11-F11+24,G11-F11) -> 10 | H12: =IF(I11-H11<0,I11-H11+24,I11-H11) -> 0 | J12: =IF(K11-J11<0,K11-J11+24,K11-J11) -> 10 | L12: =IF(M11-L11<0,M11-L11+24,M11-L11) -> 10 | N12: =IF(O11-N11<0,O11-N11+24,O11-N11) -> 5 | P12: =IF(Q11-P11<0,Q11-P11+24,Q11-P11) -> 0
B13: 19 | C13: Heure | J13: 17 | K13: 2.5 | N13: 17 | O13: 2.5 | R13: =SUM(D14:Q14) -> 19 | S13: =R13-B13 -> 0
C14: Total | D14: =IF(E13-D13<0,E13-D13+24,E13-D13) -> 0 | F14: =IF(G13-F13<0,G13-F13+24,G13-F13) -> 0 | H14: =IF(I13-H13<0,I13-H13+24,I13-H13) -> 0 | J14: =IF(K13-J13<0,K13-J13+24,K13-J13) -> 9.5 | L14: =IF(M13-L13<0,M13-L13+24,M13-L13) -> 0 | N14: =IF(O13-N13<0,O13-N13+24,O13-N13) -> 9.5 | P14: =IF(Q13-P13<0,Q13-P13+24,Q13-P13) -> 0
B15: 27 | C15: Heure | D15: 16.5 | E15: 2.5 | H15: 16 | I15: 2.5 | L15: 20 | M15: 2.5 | R15: =SUM(D16:Q16) -> 27 | S15: =R15-B15 -> 0
C16: Total | D16: =IF(E15-D15<0,E15-D15+24,E15-D15) -> 10 | F16: =IF(G15-F15<0,G15-F15+24,G15-F15) -> 0 | H16: =IF(I15-H15<0,I15-H15+24,I15-H15) -> 10.5 | J16: =IF(K15-J15<0,K15-J15+24,K15-J15) -> 0 | L16: =IF(M15-L15<0,M15-L15+24,M15-L15) -> 6.5 | N16: =IF(O15-N15<0,O15-N15+24,O15-N15) -> 0 | P16: =IF(Q15-P15<0,Q15-P15+24,Q15-P15) -> 0
B17: 19 | C17: Heure | J17: 17 | K17: 2.5 | L17: 17 | M17: 2.5 | R17: =SUM(D18:Q18) -> 19 | S17: =R17-B17 -> 0
C18: Total | D18: =IF(E17-D17<0,E17-D17+24,E17-D17) -> 0 | F18: =IF(G17-F17<0,G17-F17+24,G17-F17) -> 0 | H18: =IF(I17-H17<0,I17-H17+24,I17-H17) -> 0 | J18: =IF(K17-J17<0,K17-J17+24,K17-J17) -> 9.5 | L18: =IF(M17-L17<0,M17-L17+24,M17-L17) -> 9.5 | N18: =IF(O17-N17<0,O17-N17+24,O17-N17) -> 0 | P18: =IF(Q17-P17<0,Q17-P17+24,Q17-P17) -> 0
B19: 0 | C19: Heure | R19: =SUM(D20:Q20) -> 0 | S19: =R19-B19 -> 0
C20: Total | D20: =IF(E19-D19<0,E19-D19+24,E19-D19) -> 0 | F20: =IF(G19-F19<0,G19-F19+24,G19-F19) -> 0 | H20: =IF(I19-H19<0,I19-H19+24,I19-H19) -> 0 | J20: =IF(K19-J19<0,K19-J19+24,K19-J19) -> 0 | L20: =IF(M19-L19<0,M19-L19+24,M19-L19) -> 0 | N20: =IF(O19-N19<0,O19-N19+24,O19-N19) -> 0 | P20: =IF(Q19-P19<0,Q19-P19+24,Q19-P19) -> 0
A21: =D22 -> 44655 | D21: LUNDI | F21: MARDI | H21: MERCREDI | J21: JEUDI | L21: VENDREDI | N21: SAMEDI | P21: DIMANCHE | R21: TOTAL | S21: DIFF
D22: =P5+1 -> 44655 | F22: =D22+1 -> 44656 | H22: =D22+2 -> 44657 | J22: =D22+3 -> 44658 | L22: =D22+4 -> 44659 | N22: =D22+5 -> 44660 | P22: =D22+6 -> 44661
B23: Contrat
B24: 19 | C24: Heure | N24: 16.5 | O24: 2.5 | P24: 16.5 | Q24: 1.5 | R24: =SUM(D25:Q25) -> 19 | S24: =R24-B24 -> 0
C25: Total | D25: =IF(E24-D24<0,E24-D24+24,E24-D24) -> 0 | F25: =IF(G24-F24<0,G24-F24+24,G24-F24) -> 0 | H25: =IF(I24-H24<0,I24-H24+24,I24-H24) -> 0 | J25: =IF(K24-J24<0,K24-J24+24,K24-J24) -> 0 | L25: =IF(M24-L24<0,M24-L24+24,M24-L24) -> 0 | N25: =IF(O24-N24<0,O24-N24+24,O24-N24) -> 10 | P25: =IF(Q24-P24<0,Q24-P24+24,Q24-P24) -> 9
B26: 35 | C26: Heure | D26: 17 | E26: 2 | F26: 17 | G26: 2 | H26: 17 | I26: 2 | P26: 17 | Q26: 1 | R26: =SUM(D27:Q27) -> 35 | S26: =R26-B26 -> 0
C27: Total | D27: =IF(E26-D26<0,E26-D26+24,E26-D26) -> 9 | F27: =IF(G26-F26<0,G26-F26+24,G26-F26) -> 9 | H27: =IF(I26-H26<0,I26-H26+24,I26-H26) -> 9 | J27: =IF(K26-J26<0,K26-J26+24,K26-J26) -> 0 | L27: =IF(M26-L26<0,M26-L26+24,M26-L26) -> 0 | N27: =IF(O26-N26<0,O26-N26+24,O26-N26) -> 0 | P27: =IF(Q26-P26<0,Q26-P26+24,Q26-P26) -> 8
B28: 35 | C28: Heure | F28: 16.5 | G28: 2.5 | J28: 16.5 | K28: 2.5 | L28: 16.5 | M28: 2.5 | N28: 21.5 | O28: 2.5 | R28: =SUM(D29:Q29) -> 35 | S28: =R28-B28 -> 0
C29: Total | D29: =IF(E28-D28<0,E28-D28+24,E28-D28) -> 0 | F29: =IF(G28-F28<0,G28-F28+24,G28-F28) -> 10 | H29: =IF(I28-H28<0,I28-H28+24,I28-H28) -> 0 | J29: =IF(K28-J28<0,K28-J28+24,K28-J28) -> 10 | L29: =IF(M28-L28<0,M28-L28+24,M28-L28) -> 10 | N29: =IF(O28-N28<0,O28-N28+24,O28-N28) -> 5 | P29: =IF(Q28-P28<0,Q28-P28+24,Q28-P28) -> 0
B30: 19 | C30: Heure | J30: 17 | K30: 2.5 | N30: 17 | O30: 2.5 | R30: =SUM(D31:Q31) -> 19 | S30: =R30-B30 -> 0
C31: Total | D31: =IF(E30-D30<0,E30-D30+24,E30-D30) -> 0 | F31: =IF(G30-F30<0,G30-F30+24,G30-F30) -> 0 | H31: =IF(I30-H30<0,I30-H30+24,I30-H30) -> 0 | J31: =IF(K30-J30<0,K30-J30+24,K30-J30) -> 9.5 | L31: =IF(M30-L30<0,M30-L30+24,M30-L30) -> 0 | N31: =IF(O30-N30<0,O30-N30+24,O30-N30) -> 9.5 | P31: =IF(Q30-P30<0,Q30-P30+24,Q30-P30) -> 0
B32: 27 | C32: Heure | D32: 16.5 | E32: 2.5 | H32: 16 | I32: 2.5 | L32: 20 | M32: 2.5 | R32: =SUM(D33:Q33) -> 27 | S32: =R32-B32 -> 0
C33: Total | D33: =IF(E32-D32<0,E32-D32+24,E32-D32) -> 10 | F33: =IF(G32-F32<0,G32-F32+24,G32-F32) -> 0 | H33: =IF(I32-H32<0,I32-H32+24,I32-H32) -> 10.5 | J33: =IF(K32-J32<0,K32-J32+24,K32-J32) -> 0 | L33: =IF(M32-L32<0,M32-L32+24,M32-L32) -> 6.5 | N33: =IF(O32-N32<0,O32-N32+24,O32-N32) -> 0 | P33: =IF(Q32-P32<0,Q32-P32+24,Q32-P32) -> 0
B34: 19 | C34: Heure | J34: 17 | K34: 2.5 | L34: 17 | M34: 2.5 | R34: =SUM(D35:Q35) -> 19 | S34: =R34-B34 -> 0
C35: Total | D35: =IF(E34-D34<0,E34-D34+24,E34-D34) -> 0 | F35: =IF(G34-F34<0,G34-F34+24,G34-F34) -> 0 | H35: =IF(I34-H34<0,I34-H34+24,I34-H34) -> 0 | J35: =IF(K34-J34<0,K34-J34+24,K34-J34) -> 9.5 | L35: =IF(M34-L34<0,M34-L34+24,M34-L34) -> 9.5 | N35: =IF(O34-N34<0,O34-N34+24,O34-N34) -> 0 | P35: =IF(Q34-P34<0,Q34-P34+24,Q34-P34) -> 0
B36: 0 | C36: Heure | R36: =SUM(D37:Q37) -> 0 | S36: =R36-B36 -> 0
C37: Total | D37: =IF(E36-D36<0,E36-D36+24,E36-D36) -> 0 | F37: =IF(G36-F36<0,G36-F36+24,G36-F36) -> 0 | H37: =IF(I36-H36<0,I36-H36+24,I36-H36) -> 0 | J37: =IF(K36-J36<0,K36-J36+24,K36-J36) -> 0 | L37: =IF(M36-L36<0,M36-L36+24,M36-L36) -> 0 | N37: =IF(O36-N36<0,O36-N36+24,O36-N36) -> 0 | P37: =IF(Q36-P36<0,Q36-P36+24,Q36-P36) -> 0
A38: =D39 -> 44662 | D38: LUNDI | F38: MARDI | H38: MERCREDI | J38: JEUDI | L38: VENDREDI | N38: SAMEDI | P38: DIMANCHE | R38: TOTAL | S38: DIFF
D39: =P22+1 -> 44662 | F39: =D39+1 -> 44663 | H39: =D39+2 -> 44664 | J39: =D39+3 -> 44665 | L39: =D39+4 -> 44666 | N39: =D39+5 -> 44667 | P39: =D39+6 -> 44668
B40: Contrat
B41: 19 | C41: Heure | N41: 16.5 | O41: 2.5 | P41: 16.5 | Q41: 1.5 | R41: =SUM(D42:Q42) -> 19 | S41: =R41-B41 -> 0
...

Sheet Mai
A1: Période : | B1: Mai
A2: Année : | B2: 2022
A4: =D5 -> 44676 | D4: LUNDI | F4: MARDI | H4: MERCREDI | J4: JEUDI | L4: VENDREDI | N4: SAMEDI | P4: DIMANCHE | R4: TOTAL | S4: DIFF
D5: =Avril!P56+1 -> 44676 | F5: =D5+1 -> 44677 | H5: =D5+2 -> 44678 | J5: =D5+3 -> 44679 | L5: =D5+4 -> 44680 | N5: =D5+5 -> 44681 | P5: =D5+6 -> 44682
B6: Contrat
B7: 19 | C7: Heure | N7: 16.5 | O7: 2.5 | P7: 16.5 | Q7: 1.5 | R7: =SUM(D8:Q8) -> 19 | S7: =R7-B7 -> 0
C8: Total | D8: =IF(E7-D7<0,E7-D7+24,E7-D7) -> 0 | F8: =IF(G7-F7<0,G7-F7+24,G7-F7) -> 0 | H8: =IF(I7-H7<0,I7-H7+24,I7-H7) -> 0 | J8: =IF(K7-J7<0,K7-J7+24,K7-J7) -> 0 | L8: =IF(M7-L7<0,M7-L7+24,M7-L7) -> 0 | N8: =IF(O7-N7<0,O7-N7+24,O7-N7) -> 10 | P8: =IF(Q7-P7<0,Q7-P7+24,Q7-P7) -> 9
B9: 35 | C9: Heure | D9: 17 | E9: 2 | F9: 17 | G9: 2 | H9: 17 | I9: 2 | P9: 17 | Q9: 1 | R9: =SUM(D10:Q10) -> 35 | S9: =R9-B9 -> 0
C10: Total | D10: =IF(E9-D9<0,E9-D9+24,E9-D9) -> 9 | F10: =IF(G9-F9<0,G9-F9+24,G9-F9) -> 9 | H10: =IF(I9-H9<0,I9-H9+24,I9-H9) -> 9 | J10: =IF(K9-J9<0,K9-J9+24,K9-J9) -> 0 | L10: =IF(M9-L9<0,M9-L9+24,M9-L9) -> 0 | N10: =IF(O9-N9<0,O9-N9+24,O9-N9) -> 0 | P10: =IF(Q9-P9<0,Q9-P9+24,Q9-P9) -> 8
B11: 35 | C11: Heure | F11: 16.5 | G11: 2.5 | J11: 16.5 | K11: 2.5 | L11: 16.5 | M11: 2.5 | N11: 21.5 | O11: 2.5 | R11: =SUM(D12:Q12) -> 35 | S11: =R11-B11 -> 0
C12: Total | D12: =IF(E11-D11<0,E11-D11+24,E11-D11) -> 0 | F12: =IF(G11-F11<0,G11-F11+24,G11-F11) -> 10 | H12: =IF(I11-H11<0,I11-H11+24,I11-H11) -> 0 | J12: =IF(K11-J11<0,K11-J11+24,K11-J11) -> 10 | L12: =IF(M11-L11<0,M11-L11+24,M11-L11) -> 10 | N12: =IF(O11-N11<0,O11-N11+24,O11-N11) -> 5 | P12: =IF(Q11-P11<0,Q11-P11+24,Q11-P11) -> 0
B13: 19 | C13: Heure | J13: 17 | K13: 2.5 | N13: 17 | O13: 2.5 | R13: =SUM(D14:Q14) -> 19 | S13: =R13-B13 -> 0
C14: Total | D14: =IF(E13-D13<0,E13-D13+24,E13-D13) -> 0 | F14: =IF(G13-F13<0,G13-F13+24,G13-F13) -> 0 | H14: =IF(I13-H13<0,I13-H13+24,I13-H13) -> 0 | J14: =IF(K13-J13<0,K13-J13+24,K13-J13) -> 9.5 | L14: =IF(M13-L13<0,M13-L13+24,M13-L13) -> 0 | N14: =IF(O13-N13<0,O13-N13+24,O13-N13) -> 9.5 | P14: =IF(Q13-P13<0,Q13-P13+24,Q13-P13) -> 0
B15: 27 | C15: Heure | D15: 16.5 | E15: 2.5 | H15: 16 | I15: 2.5 | L15: 20 | M15: 2.5 | R15: =SUM(D16:Q16) -> 27 | S15: =R15-B15 -> 0
C16: Total | D16: =IF(E15-D15<0,E15-D15+24,E15-D15) -> 10 | F16: =IF(G15-F15<0,G15-F15+24,G15-F15) -> 0 | H16: =IF(I15-H15<0,I15-H15+24,I15-H15) -> 10.5 | J16: =IF(K15-J15<0,K15-J15+24,K15-J15) -> 0 | L16: =IF(M15-L15<0,M15-L15+24,M15-L15) -> 6.5 | N16: =IF(O15-N15<0,O15-N15+24,O15-N15) -> 0 | P16: =IF(Q15-P15<0,Q15-P15+24,Q15-P15) -> 0
B17: 19 | C17: Heure | J17: 17 | K17: 2.5 | L17: 17 | M17: 2.5 | R17: =SUM(D18:Q18) -> 19 | S17: =R17-B17 -> 0
C18: Total | D18: =IF(E17-D17<0,E17-D17+24,E17-D17) -> 0 | F18: =IF(G17-F17<0,G17-F17+24,G17-F17) -> 0 | H18: =IF(I17-H17<0,I17-H17+24,I17-H17) -> 0 | J18: =IF(K17-J17<0,K17-J17+24,K17-J17) -> 9.5 | L18: =IF(M17-L17<0,M17-L17+24,M17-L17) -> 9.5 | N18: =IF(O17-N17<0,O17-N17+24,O17-N17) -> 0 | P18: =IF(Q17-P17<0,Q17-P17+24,Q17-P17) -> 0
B19: 0 | C19: Heure | R19: =SUM(D20:Q20) -> 0 | S19: =R19-B19 -> 0
C20: Total | D20: =IF(E19-D19<0,E19-D19+24,E19-D19) -> 0 | F20: =IF(G19-F19<0,G19-F19+24,G19-F19) -> 0 | H20: =IF(I19-H19<0,I19-H19+24,I19-H19) -> 0 | J20: =IF(K19-J19<0,K19-J19+24,K19-J19) -> 0 | L20: =IF(M19-L19<0,M19-L19+24,M19-L19) -> 0 | N20: =IF(O19-N19<0,O19-N19+24,O19-N19) -> 0 | P20: =IF(Q19-P19<0,Q19-P19+24,Q19-P19) -> 0
A21: =D22 -> 44683 | D21: LUNDI | F21: MARDI | H21: MERCREDI | J21: JEUDI | L21: VENDREDI | N21: SAMEDI | P21: DIMANCHE | R21: TOTAL | S21: DIFF
D22: =P5+1 -> 44683 | F22: =D22+1 -> 44684 | H22: =D22+2 -> 44685 | J22: =D22+3 -> 44686 | L22: =D22+4 -> 44687 | N22: =D22+5 -> 44688 | P22: =D22+6 -> 44689
B23: Contrat
B24: 19 | C24: Heure | N24: 16.5 | O24: 2.5 | P24: 16.5 | Q24: 1.5 | R24: =SUM(D25:Q25) -> 19 | S24: =R24-B24 -> 0
C25: Total | D25: =IF(E24-D24<0,E24-D24+24,E24-D24) -> 0 | F25: =IF(G24-F24<0,G24-F24+24,G24-F24) -> 0 | H25: =IF(I24-H24<0,I24-H24+24,I24-H24) -> 0 | J25: =IF(K24-J24<0,K24-J24+24,K24-J24) -> 0 | L25: =IF(M24-L24<0,M24-L24+24,M24-L24) -> 0 | N25: =IF(O24-N24<0,O24-N24+24,O24-N24) -> 10 | P25: =IF(Q24-P24<0,Q24-P24+24,Q24-P24) -> 9
B26: 35 | C26: Heure | D26: 17 | E26: 2 | F26: 17 | G26: 2 | H26: 17 | I26: 2 | P26: 17 | Q26: 1 | R26: =SUM(D27:Q27) -> 35 | S26: =R26-B26 -> 0
C27: Total | D27: =IF(E26-D26<0,E26-D26+24,E26-D26) -> 9 | F27: =IF(G26-F26<0,G26-F26+24,G26-F26) -> 9 | H27: =IF(I26-H26<0,I26-H26+24,I26-H26) -> 9 | J27: =IF(K26-J26<0,K26-J26+24,K26-J26) -> 0 | L27: =IF(M26-L26<0,M26-L26+24,M26-L26) -> 0 | N27: =IF(O26-N26<0,O26-N26+24,O26-N26) -> 0 | P27: =IF(Q26-P26<0,Q26-P26+24,Q26-P26) -> 8
B28: 35 | C28: Heure | F28: 16.5 | G28: 2.5 | J28: 16.5 | K28: 2.5 | L28: 16.5 | M28: 2.5 | N28: 21.5 | O28: 2.5 | R28: =SUM(D29:Q29) -> 35 | S28: =R28-B28 -> 0
C29: Total | D29: =IF(E28-D28<0,E28-D28+24,E28-D28) -> 0 | F29: =IF(G28-F28<0,G28-F28+24,G28-F28) -> 10 | H29: =IF(I28-H28<0,I28-H28+24,I28-H28) -> 0 | J29: =IF(K28-J28<0,K28-J28+24,K28-J28) -> 10 | L29: =IF(M28-L28<0,M28-L28+24,M28-L28) -> 10 | N29: =IF(O28-N28<0,O28-N28+24,O28-N28) -> 5 | P29: =IF(Q28-P28<0,Q28-P28+24,Q28-P28) -> 0
B30: 19 | C30: Heure | J30: 17 | K30: 2.5 | N30: 17 | O30: 2.5 | R30: =SUM(D31:Q31) -> 19 | S30: =R30-B30 -> 0
C31: Total | D31: =IF(E30-D30<0,E30-D30+24,E30-D30) -> 0 | F31: =IF(G30-F30<0,G30-F30+24,G30-F30) -> 0 | H31: =IF(I30-H30<0,I30-H30+24,I30-H30) -> 0 | J31: =IF(K30-J30<0,K30-J30+24,K30-J30) -> 9.5 | L31: =IF(M30-L30<0,M30-L30+24,M30-L30) -> 0 | N31: =IF(O30-N30<0,O30-N30+24,O30-N30) -> 9.5 | P31: =IF(Q30-P30<0,Q30-P30+24,Q30-P30) -> 0
B32: 27 | C32: Heure | D32: 16.5 | E32: 2.5 | H32: 16 | I32: 2.5 | L32: 20 | M32: 2.5 | R32: =SUM(D33:Q33) -> 27 | S32: =R32-B32 -> 0
C33: Total | D33: =IF(E32-D32<0,E32-D32+24,E32-D32) -> 10 | F33: =IF(G32-F32<0,G32-F32+24,G32-F32) -> 0 | H33: =IF(I32-H32<0,I32-H32+24,I32-H32) -> 10.5 | J33: =IF(K32-J32<0,K32-J32+24,K32-J32) -> 0 | L33: =IF(M32-L32<0,M32-L32+24,M32-L32) -> 6.5 | N33: =IF(O32-N32<0,O32-N32+24,O32-N32) -> 0 | P33: =IF(Q32-P32<0,Q32-P32+24,Q32-P32) -> 0
B34: 19 | C34: Heure | J34: 17 | K34: 2.5 | L34: 17 | M34: 2.5 | R34: =SUM(D35:Q35) -> 19 | S34: =R34-B34 -> 0
C35: Total | D35: =IF(E34-D34<0,E34-D34+24,E34-D34) -> 0 | F35: =IF(G34-F34<0,G34-F34+24,G34-F34) -> 0 | H35: =IF(I34-H34<0,I34-H34+24,I34-H34) -> 0 | J35: =IF(K34-J34<0,K34-J34+24,K34-J34) -> 9.5 | L35: =IF(M34-L34<0,M34-L34+24,M34-L34) -> 9.5 | N35: =IF(O34-N34<0,O34-N34+24,O34-N34) -> 0 | P35: =IF(Q34-P34<0,Q34-P34+24,Q34-P34) -> 0
B36: 0 | C36: Heure | R36: =SUM(D37:Q37) -> 0 | S36: =R36-B36 -> 0
C37: Total | D37: =IF(E36-D36<0,E36-D36+24,E36-D36) -> 0 | F37: =IF(G36-F36<0,G36-F36+24,G36-F36) -> 0 | H37: =IF(I36-H36<0,I36-H36+24,I36-H36) -> 0 | J37: =IF(K36-J36<0,K36-J36+24,K36-J36) -> 0 | L37: =IF(M36-L36<0,M36-L36+24,M36-L36) -> 0 | N37: =IF(O36-N36<0,O36-N36+24,O36-N36) -> 0 | P37: =IF(Q36-P36<0,Q36-P36+24,Q36-P36) -> 0
A38: =D39 -> 44690 | D38: LUNDI | F38: MARDI | H38: MERCREDI | J38: JEUDI | L38: VENDREDI | N38: SAMEDI | P38: DIMANCHE | R38: TOTAL | S38: DIFF
D39: =P22+1 -> 44690 | F39: =D39+1 -> 44691 | H39: =D39+2 -> 44692 | J39: =D39+3 -> 44693 | L39: =D39+4 -> 44694 | N39: =D39+5 -> 44695 | P39: =D39+6 -> 44696
B40: Contrat
B41: 19 | C41: Heure | N41: 16.5 | O41: 2.5 | P41: 16.5 | Q41: 1.5 | R41: =SUM(D42:Q42) -> 19 | S41: =R41-B41 -> 0
...

Sheet Juin
A1: Période : | B1: Juin
A2: Année : | B2: 2022
A4: =D5 -> 44711 | D4: LUNDI | F4: MARDI | H4: MERCREDI | J4: JEUDI | L4: VENDREDI | N4: SAMEDI | P4: DIMANCHE | R4: TOTAL | S4: DIFF
D5: =Mai!P73+1 -> 44711 | F5: =D5+1 -> 44712 | H5: =D5+2 -> 44713 | J5: =D5+3 -> 44714 | L5: =D5+4 -> 44715 | N5: =D5+5 -> 44716 | P5: =D5+6 -> 44717
B6: Contrat
B7: 19 | C7: Heure | N7: 16.5 | O7: 2.5 | P7: 16.5 | Q7: 1.5 | R7: =SUM(D8:Q8) -> 19 | S7: =R7-B7 -> 0
C8: Total | D8: =IF(E7-D7<0,E7-D7+24,E7-D7) -> 0 | F8: =IF(G7-F7<0,G7-F7+24,G7-F7) -> 0 | H8: =IF(I7-H7<0,I7-H7+24,I7-H7) -> 0 | J8: =IF(K7-J7<0,K7-J7+24,K7-J7) -> 0 | L8: =IF(M7-L7<0,M7-L7+24,M7-L7) -> 0 | N8: =IF(O7-N7<0,O7-N7+24,O7-N7) -> 10 | P8: =IF(Q7-P7<0,Q7-P7+24,Q7-P7) -> 9
B9: 35 | C9: Heure | D9: 17 | E9: 2 | F9: 17 | G9: 2 | H9: 17 | I9: 2 | P9: 17 | Q9: 1 | R9: =SUM(D10:Q10) -> 35 | S9: =R9-B9 -> 0
C10: Total | D10: =IF(E9-D9<0,E9-D9+24,E9-D9) -> 9 | F10: =IF(G9-F9<0,G9-F9+24,G9-F9) -> 9 | H10: =IF(I9-H9<0,I9-H9+24,I9-H9) -> 9 | J10: =IF(K9-J9<0,K9-J9+24,K9-J9) -> 0 | L10: =IF(M9-L9<0,M9-L9+24,M9-L9) -> 0 | N10: =IF(O9-N9<0,O9-N9+24,O9-N9) -> 0 | P10: =IF(Q9-P9<0,Q9-P9+24,Q9-P9) -> 8
B11: 35 | C11: Heure | F11: 16.5 | G11: 2.5 | J11: 16.5 | K11: 2.5 | L11: 16.5 | M11: 2.5 | N11: 21.5 | O11: 2.5 | R11: =SUM(D12:Q12) -> 35 | S11: =R11-B11 -> 0
C12: Total | D12: =IF(E11-D11<0,E11-D11+24,E11-D11) -> 0 | F12: =IF(G11-F11<0,G11-F11+24,G11-F11) -> 10 | H12: =IF(I11-H11<0,I11-H11+24,I11-H11) -> 0 | J12: =IF(K11-J11<0,K11-J11+24,K11-J11) -> 10 | L12: =IF(M11-L11<0,M11-L11+24,M11-L11) -> 10 | N12: =IF(O11-N11<0,O11-N11+24,O11-N11) -> 5 | P12: =IF(Q11-P11<0,Q11-P11+24,Q11-P11) -> 0
B13: 19 | C13: Heure | J13: 17 | K13: 2.5 | N13: 17 | O13: 2.5 | R13: =SUM(D14:Q14) -> 19 | S13: =R13-B13 -> 0
C14: Total | D14: =IF(E13-D13<0,E13-D13+24,E13-D13) -> 0 | F14: =IF(G13-F13<0,G13-F13+24,G13-F13) -> 0 | H14: =IF(I13-H13<0,I13-H13+24,I13-H13) -> 0 | J14: =IF(K13-J13<0,K13-J13+24,K13-J13) -> 9.5 | L14: =IF(M13-L13<0,M13-L13+24,M13-L13) -> 0 | N14: =IF(O13-N13<0,O13-N13+24,O13-N13) -> 9.5 | P14: =IF(Q13-P13<0,Q13-P13+24,Q13-P13) -> 0
B15: 27 | C15: Heure | D15: 16.5 | E15: 2.5 | H15: 16 | I15: 2.5 | L15: 20 | M15: 2.5 | R15: =SUM(D16:Q16) -> 27 | S15: =R15-B15 -> 0
C16: Total | D16: =IF(E15-D15<0,E15-D15+24,E15-D15) -> 10 | F16: =IF(G15-F15<0,G15-F15+24,G15-F15) -> 0 | H16: =IF(I15-H15<0,I15-H15+24,I15-H15) -> 10.5 | J16: =IF(K15-J15<0,K15-J15+24,K15-J15) -> 0 | L16: =IF(M15-L15<0,M15-L15+24,M15-L15) -> 6.5 | N16: =IF(O15-N15<0,O15-N15+24,O15-N15) -> 0 | P16: =IF(Q15-P15<0,Q15-P15+24,Q15-P15) -> 0
B17: 19 | C17: Heure | J17: 17 | K17: 2.5 | L17: 17 | M17: 2.5 | R17: =SUM(D18:Q18) -> 19 | S17: =R17-B17 -> 0
C18: Total | D18: =IF(E17-D17<0,E17-D17+24,E17-D17) -> 0 | F18: =IF(G17-F17<0,G17-F17+24,G17-F17) -> 0 | H18: =IF(I17-H17<0,I17-H17+24,I17-H17) -> 0 | J18: =IF(K17-J17<0,K17-J17+24,K17-J17) -> 9.5 | L18: =IF(M17-L17<0,M17-L17+24,M17-L17) -> 9.5 | N18: =IF(O17-N17<0,O17-N17+24,O17-N17) -> 0 | P18: =IF(Q17-P17<0,Q17-P17+24,Q17-P17) -> 0
B19: 0 | C19: Heure | R19: =SUM(D20:Q20) -> 0 | S19: =R19-B19 -> 0
C20: Total | D20: =IF(E19-D19<0,E19-D19+24,E19-D19) -> 0 | F20: =IF(G19-F19<0,G19-F19+24,G19-F19) -> 0 | H20: =IF(I19-H19<0,I19-H19+24,I19-H19) -> 0 | J20: =IF(K19-J19<0,K19-J19+24,K19-J19) -> 0 | L20: =IF(M19-L19<0,M19-L19+24,M19-L19) -> 0 | N20: =IF(O19-N19<0,O19-N19+24,O19-N19) -> 0 | P20: =IF(Q19-P19<0,Q19-P19+24,Q19-P19) -> 0
A21: =D22 -> 44718 | D21: LUNDI | F21: MARDI | H21: MERCREDI | J21: JEUDI | L21: VENDREDI | N21: SAMEDI | P21: DIMANCHE | R21: TOTAL | S21: DIFF
D22: =P5+1 -> 44718 | F22: =D22+1 -> 44719 | H22: =D22+2 -> 44720 | J22: =D22+3 -> 44721 | L22: =D22+4 -> 44722 | N22: =D22+5 -> 44723 | P22: =D22+6 -> 44724
B23: Contrat
B24: 19 | C24: Heure | N24: 16.5 | O24: 2.5 | P24: 16.5 | Q24: 1.5 | R24: =SUM(D25:Q25) -> 19 | S24: =R24-B24 -> 0
C25: Total | D25: =IF(E24-D24<0,E24-D24+24,E24-D24) -> 0 | F25: =IF(G24-F24<0,G24-F24+24,G24-F24) -> 0 | H25: =IF(I24-H24<0,I24-H24+24,I24-H24) -> 0 | J25: =IF(K24-J24<0,K24-J24+24,K24-J24) -> 0 | L25: =IF(M24-L24<0,M24-L24+24,M24-L24) -> 0 | N25: =IF(O24-N24<0,O24-N24+24,O24-N24) -> 10 | P25: =IF(Q24-P24<0,Q24-P24+24,Q24-P24) -> 9
B26: 35 | C26: Heure | D26: 17 | E26: 2 | F26: 17 | G26: 2 | H26: 17 | I26: 2 | P26: 17 | Q26: 1 | R26: =SUM(D27:Q27) -> 35 | S26: =R26-B26 -> 0
C27: Total | D27: =IF(E26-D26<0,E26-D26+24,E26-D26) -> 9 | F27: =IF(G26-F26<0,G26-F26+24,G26-F26) -> 9 | H27: =IF(I26-H26<0,I26-H26+24,I26-H26) -> 9 | J27: =IF(K26-J26<0,K26-J26+24,K26-J26) -> 0 | L27: =IF(M26-L26<0,M26-L26+24,M26-L26) -> 0 | N27: =IF(O26-N26<0,O26-N26+24,O26-N26) -> 0 | P27: =IF(Q26-P26<0,Q26-P26+24,Q26-P26) -> 8
B28: 35 | C28: Heure | F28: 16.5 | G28: 2.5 | J28: 16.5 | K28: 2.5 | L28: 16.5 | M28: 2.5 | N28: 21.5 | O28: 2.5 | R28: =SUM(D29:Q29) -> 35 | S28: =R28-B28 -> 0
C29: Total | D29: =IF(E28-D28<0,E28-D28+24,E28-D28) -> 0 | F29: =IF(G28-F28<0,G28-F28+24,G28-F28) -> 10 | H29: =IF(I28-H28<0,I28-H28+24,I28-H28) -> 0 | J29: =IF(K28-J28<0,K28-J28+24,K28-J28) -> 10 | L29: =IF(M28-L28<0,M28-L28+24,M28-L28) -> 10 | N29: =IF(O28-N28<0,O28-N28+24,O28-N28) -> 5 | P29: =IF(Q28-P28<0,Q28-P28+24,Q28-P28) -> 0
B30: 19 | C30: Heure | J30: 17 | K30: 2.5 | N30: 17 | O30: 2.5 | R30: =SUM(D31:Q31) -> 19 | S30: =R30-B30 -> 0
C31: Total | D31: =IF(E30-D30<0,E30-D30+24,E30-D30) -> 0 | F31: =IF(G30-F30<0,G30-F30+24,G30-F30) -> 0 | H31: =IF(I30-H30<0,I30-H30+24,I30-H30) -> 0 | J31: =IF(K30-J30<0,K30-J30+24,K30-J30) -> 9.5 | L31: =IF(M30-L30<0,M30-L30+24,M30-L30) -> 0 | N31: =IF(O30-N30<0,O30-N30+24,O30-N30) -> 9.5 | P31: =IF(Q30-P30<0,Q30-P30+24,Q30-P30) -> 0
B32: 27 | C32: Heure | D32: 16.5 | E32: 2.5 | H32: 16 | I32: 2.5 | L32: 20 | M32: 2.5 | R32: =SUM(D33:Q33) -> 27 | S32: =R32-B32 -> 0
C33: Total | D33: =IF(E32-D32<0,E32-D32+24,E32-D32) -> 10 | F33: =IF(G32-F32<0,G32-F32+24,G32-F32) -> 0 | H33: =IF(I32-H32<0,I32-H32+24,I32-H32) -> 10.5 | J33: =IF(K32-J32<0,K32-J32+24,K32-J32) -> 0 | L33: =IF(M32-L32<0,M32-L32+24,M32-L32) -> 6.5 | N33: =IF(O32-N32<0,O32-N32+24,O32-N32) -> 0 | P33: =IF(Q32-P32<0,Q32-P32+24,Q32-P32) -> 0
B34: 19 | C34: Heure | J34: 17 | K34: 2.5 | L34: 17 | M34: 2.5 | R34: =SUM(D35:Q35) -> 19 | S34: =R34-B34 -> 0
C35: Total | D35: =IF(E34-D34<0,E34-D34+24,E34-D34) -> 0 | F35: =IF(G34-F34<0,G34-F34+24,G34-F34) -> 0 | H35: =IF(I34-H34<0,I34-H34+24,I34-H34) -> 0 | J35: =IF(K34-J34<0,K34-J34+24,K34-J34) -> 9.5 | L35: =IF(M34-L34<0,M34-L34+24,M34-L34) -> 9.5 | N35: =IF(O34-N34<0,O34-N34+24,O34-N34) -> 0 | P35: =IF(Q34-P34<0,Q34-P34+24,Q34-P34) -> 0
B36: 0 | C36: Heure | R36: =SUM(D37:Q37) -> 0 | S36: =R36-B36 -> 0
C37: Total | D37: =IF(E36-D36<0,E36-D36+24,E36-D36) -> 0 | F37: =IF(G36-F36<0,G36-F36+24,G36-F36) -> 0 | H37: =IF(I36-H36<0,I36-H36+24,I36-H36) -> 0 | J37: =IF(K36-J36<0,K36-J36+24,K36-J36) -> 0 | L37: =IF(M36-L36<0,M36-L36+24,M36-L36) -> 0 | N37: =IF(O36-N36<0,O36-N36+24,O36-N36) -> 0 | P37: =IF(Q36-P36<0,Q36-P36+24,Q36-P36) -> 0
A38: =D39 -> 44725 | D38: LUNDI | F38: MARDI | H38: MERCREDI | J38: JEUDI | L38: VENDREDI | N38: SAMEDI | P38: DIMANCHE | R38: TOTAL | S38: DIFF
D39: =P22+1 -> 44725 | F39: =D39+1 -> 44726 | H39: =D39+2 -> 44727 | J39: =D39+3 -> 44728 | L39: =D39+4 -> 44729 | N39: =D39+5 -> 44730 | P39: =D39+6 -> 44731
B40: Contrat
B41: 19 | C41: Heure | N41: 16.5 | O41: 2.5 | P41: 16.5 | Q41: 1.5 | R41: =SUM(D42:Q42) -> 19 | S41: =R41-B41 -> 0
...

Sheet Juillet
A1: Période : | B1: Juillet
A2: Année : | B2: 2022
A4: =D5 -> 44739 | D4: LUNDI | F4: MARDI | H4: MERCREDI | J4: JEUDI | L4: VENDREDI | N4: SAMEDI | P4: DIMANCHE | R4: TOTAL | S4: DIFF
D5: =Juin!P56+1 -> 44739 | F5: =D5+1 -> 44740 | H5: =D5+2 -> 44741 | J5: =D5+3 -> 44742 | L5: =D5+4 -> 44743 | N5: =D5+5 -> 44744 | P5: =D5+6 -> 44745
B6: Contrat
B7: 19 | C7: Heure | N7: 16.5 | O7: 2.5 | P7: 16.5 | Q7: 1.5 | R7: =SUM(D8:Q8) -> 19 | S7: =R7-B7 -> 0
C8: Total | D8: =IF(E7-D7<0,E7-D7+24,E7-D7) -> 0 | F8: =IF(G7-F7<0,G7-F7+24,G7-F7) -> 0 | H8: =IF(I7-H7<0,I7-H7+24,I7-H7) -> 0 | J8: =IF(K7-J7<0,K7-J7+24,K7-J7) -> 0 | L8: =IF(M7-L7<0,M7-L7+24,M7-L7) -> 0 | N8: =IF(O7-N7<0,O7-N7+24,O7-N7) -> 10 | P8: =IF(Q7-P7<0,Q7-P7+24,Q7-P7) -> 9
B9: 35 | C9: Heure | D9: 17 | E9: 2 | F9: 17 | G9: 2 | H9: 17 | I9: 2 | P9: 17 | Q9: 1 | R9: =SUM(D10:Q10) -> 35 | S9: =R9-B9 -> 0
C10: Total | D10: =IF(E9-D9<0,E9-D9+24,E9-D9) -> 9 | F10: =IF(G9-F9<0,G9-F9+24,G9-F9) -> 9 | H10: =IF(I9-H9<0,I9-H9+24,I9-H9) -> 9 | J10: =IF(K9-J9<0,K9-J9+24,K9-J9) -> 0 | L10: =IF(M9-L9<0,M9-L9+24,M9-L9) -> 0 | N10: =IF(O9-N9<0,O9-N9+24,O9-N9) -> 0 | P10: =IF(Q9-P9<0,Q9-P9+24,Q9-P9) -> 8
B11: 35 | C11: Heure | F11: 16.5 | G11: 2.5 | J11: 16.5 | K11: 2.5 | L11: 16.5 | M11: 2.5 | N11: 21.5 | O11: 2.5 | R11: =SUM(D12:Q12) -> 35 | S11: =R11-B11 -> 0
C12: Total | D12: =IF(E11-D11<0,E11-D11+24,E11-D11) -> 0 | F12: =IF(G11-F11<0,G11-F11+24,G11-F11) -> 10 | H12: =IF(I11-H11<0,I11-H11+24,I11-H11) -> 0 | J12: =IF(K11-J11<0,K11-J11+24,K11-J11) -> 10 | L12: =IF(M11-L11<0,M11-L11+24,M11-L11) -> 10 | N12: =IF(O11-N11<0,O11-N11+24,O11-N11) -> 5 | P12: =IF(Q11-P11<0,Q11-P11+24,Q11-P11) -> 0
B13: 19 | C13: Heure | J13: 17 | K13: 2.5 | N13: 17 | O13: 2.5 | R13: =SUM(D14:Q14) -> 19 | S13: =R13-B13 -> 0
C14: Total | D14: =IF(E13-D13<0,E13-D13+24,E13-D13) -> 0 | F14: =IF(G13-F13<0,G13-F13+24,G13-F13) -> 0 | H14: =IF(I13-H13<0,I13-H13+24,I13-H13) -> 0 | J14: =IF(K13-J13<0,K13-J13+24,K13-J13) -> 9.5 | L14: =IF(M13-L13<0,M13-L13+24,M13-L13) -> 0 | N14: =IF(O13-N13<0,O13-N13+24,O13-N13) -> 9.5 | P14: =IF(Q13-P13<0,Q13-P13+24,Q13-P13) -> 0
B15: 27 | C15: Heure | D15: 16.5 | E15: 2.5 | H15: 16 | I15: 2.5 | L15: 20 | M15: 2.5 | R15: =SUM(D16:Q16) -> 27 | S15: =R15-B15 -> 0
C16: Total | D16: =IF(E15-D15<0,E15-D15+24,E15-D15) -> 10 | F16: =IF(G15-F15<0,G15-F15+24,G15-F15) -> 0 | H16: =IF(I15-H15<0,I15-H15+24,I15-H15) -> 10.5 | J16: =IF(K15-J15<0,K15-J15+24,K15-J15) -> 0 | L16: =IF(M15-L15<0,M15-L15+24,M15-L15) -> 6.5 | N16: =IF(O15-N15<0,O15-N15+24,O15-N15) -> 0 | P16: =IF(Q15-P15<0,Q15-P15+24,Q15-P15) -> 0
B17: 19 | C17: Heure | J17: 17 | K17: 2.5 | L17: 17 | M17: 2.5 | R17: =SUM(D18:Q18) -> 19 | S17: =R17-B17 -> 0
C18: Total | D18: =IF(E17-D17<0,E17-D17+24,E17-D17) -> 0 | F18: =IF(G17-F17<0,G17-F17+24,G17-F17) -> 0 | H18: =IF(I17-H17<0,I17-H17+24,I17-H17) -> 0 | J18: =IF(K17-J17<0,K17-J17+24,K17-J17) -> 9.5 | L18: =IF(M17-L17<0,M17-L17+24,M17-L17) -> 9.5 | N18: =IF(O17-N17<0,O17-N17+24,O17-N17) -> 0 | P18: =IF(Q17-P17<0,Q17-P17+24,Q17-P17) -> 0
B19: 0 | C19: Heure | R19: =SUM(D20:Q20) -> 0 | S19: =R19-B19 -> 0
C20: Total | D20: =IF(E19-D19<0,E19-D19+24,E19-D19) -> 0 | F20: =IF(G19-F19<0,G19-F19+24,G19-F19) -> 0 | H20: =IF(I19-H19<0,I19-H19+24,I19-H19) -> 0 | J20: =IF(K19-J19<0,K19-J19+24,K19-J19) -> 0 | L20: =IF(M19-L19<0,M19-L19+24,M19-L19) -> 0 | N20: =IF(O19-N19<0,O19-N19+24,O19-N19) -> 0 | P20: =IF(Q19-P19<0,Q19-P19+24,Q19-P19) -> 0
A21: =D22 -> 44746 | D21: LUNDI | F21: MARDI | H21: MERCREDI | J21: JEUDI | L21: VENDREDI | N21: SAMEDI | P21: DIMANCHE | R21: TOTAL | S21: DIFF
D22: =P5+1 -> 44746 | F22: =D22+1 -> 44747 | H22: =D22+2 -> 44748 | J22: =D22+3 -> 44749 | L22: =D22+4 -> 44750 | N22: =D22+5 -> 44751 | P22: =D22+6 -> 44752
B23: Contrat
B24: 19 | C24: Heure | N24: 16.5 | O24: 2.5 | P24: 16.5 | Q24: 1.5 | R24: =SUM(D25:Q25) -> 19 | S24: =R24-B24 -> 0
C25: Total | D25: =IF(E24-D24<0,E24-D24+24,E24-D24) -> 0 | F25: =IF(G24-F24<0,G24-F24+24,G24-F24) -> 0 | H25: =IF(I24-H24<0,I24-H24+24,I24-H24) -> 0 | J25: =IF(K24-J24<0,K24-J24+24,K24-J24) -> 0 | L25: =IF(M24-L24<0,M24-L24+24,M24-L24) -> 0 | N25: =IF(O24-N24<0,O24-N24+24,O24-N24) -> 10 | P25: =IF(Q24-P24<0,Q24-P24+24,Q24-P24) -> 9
B26: 35 | C26: Heure | D26: 17 | E26: 2 | F26: 17 | G26: 2 | H26: 17 | I26: 2 | P26: 17 | Q26: 1 | R26: =SUM(D27:Q27) -> 35 | S26: =R26-B26 -> 0
C27: Total | D27: =IF(E26-D26<0,E26-D26+24,E26-D26) -> 9 | F27: =IF(G26-F26<0,G26-F26+24,G26-F26) -> 9 | H27: =IF(I26-H26<0,I26-H26+24,I26-H26) -> 9 | J27: =IF(K26-J26<0,K26-J26+24,K26-J26) -> 0 | L27: =IF(M26-L26<0,M26-L26+24,M26-L26) -> 0 | N27: =IF(O26-N26<0,O26-N26+24,O26-N26) -> 0 | P27: =IF(Q26-P26<0,Q26-P26+24,Q26-P26) -> 8
B28: 35 | C28: Heure | F28: 16.5 | G28: 2.5 | J28: 16.5 | K28: 2.5 | L28: 16.5 | M28: 2.5 | N28: 21.5 | O28: 2.5 | R28: =SUM(D29:Q29) -> 35 | S28: =R28-B28 -> 0
C29: Total | D29: =IF(E28-D28<0,E28-D28+24,E28-D28) -> 0 | F29: =IF(G28-F28<0,G28-F28+24,G28-F28) -> 10 | H29: =IF(I28-H28<0,I28-H28+24,I28-H28) -> 0 | J29: =IF(K28-J28<0,K28-J28+24,K28-J28) -> 10 | L29: =IF(M28-L28<0,M28-L28+24,M28-L28) -> 10 | N29: =IF(O28-N28<0,O28-N28+24,O28-N28) -> 5 | P29: =IF(Q28-P28<0,Q28-P28+24,Q28-P28) -> 0
B30: 19 | C30: Heure | J30: 17 | K30: 2.5 | N30: 17 | O30: 2.5 | R30: =SUM(D31:Q31) -> 19 | S30: =R30-B30 -> 0
C31: Total | D31: =IF(E30-D30<0,E30-D30+24,E30-D30) -> 0 | F31: =IF(G30-F30<0,G30-F30+24,G30-F30) -> 0 | H31: =IF(I30-H30<0,I30-H30+24,I30-H30) -> 0 | J31: =IF(K30-J30<0,K30-J30+24,K30-J30) -> 9.5 | L31: =IF(M30-L30<0,M30-L30+24,M30-L30) -> 0 | N31: =IF(O30-N30<0,O30-N30+24,O30-N30) -> 9.5 | P31: =IF(Q30-P30<0,Q30-P30+24,Q30-P30) -> 0
B32: 27 | C32: Heure | D32: 16.5 | E32: 2.5 | H32: 16 | I32: 2.5 | L32: 20 | M32: 2.5 | R32: =SUM(D33:Q33) -> 27 | S32: =R32-B32 -> 0
C33: Total | D33: =IF(E32-D32<0,E32-D32+24,E32-D32) -> 10 | F33: =IF(G32-F32<0,G32-F32+24,G32-F32) -> 0 | H33: =IF(I32-H32<0,I32-H32+24,I32-H32) -> 10.5 | J33: =IF(K32-J32<0,K32-J32+24,K32-J32) -> 0 | L33: =IF(M32-L32<0,M32-L32+24,M32-L32) -> 6.5 | N33: =IF(O32-N32<0,O32-N32+24,O32-N32) -> 0 | P33: =IF(Q32-P32<0,Q32-P32+24,Q32-P32) -> 0
B34: 19 | C34: Heure | J34: 17 | K34: 2.5 | L34: 17 | M34: 2.5 | R34: =SUM(D35:Q35) -> 19 | S34: =R34-B34 -> 0
