Workbook

Sheet Protocole
A1: Protocole questionnaire CCTI
D2: E | E2: I | F2: ? | G2: T | H2: F | I2: ?
D3: S | E3: N | F3: ? | G3: J | H3: P | I3: ?
B4: Vous allez avoir une suite de 44 questions à laquelle vous devez répondre. Pour répondre, identifiez la préférence entre les deux possibilités proposées, et mettez 1 point à votre préférence. Sur la deuxième possibilité, laissez la case vide. Les cases que vous devez remplir sont en bleues uniquement. Répondez en vous référant sur ce que vous faites spontanément, quand vous suivez votre tendance naturelle, et non à ce que vous voudriez être où est ce que d’autres voudraient que vous soyez. Il n’y a pas de bonnes ou de mauvaises réponses, juste vos réponses. Ne vous limitez pas à un contexte spécifique (travail, loisirs, famille…), mais situez-vous sur le plan général de ce que vous êtes et faites naturellement. Il n’y a pas de limite de temps, mais ne vous attardez pas sur chaque question. En cas d’hésitation, efforcez-vous de trouver une préférence, même légère, entre les réponses.
B7: Vous pouvez passer au feuillet "Questionnaire" !

Sheet Questionnaire
A1: Questionnaire CCTI
A5: Q1 | B5: Avez-vous plutôt tendance à : | C5: Réponse
B6: parler trop vite, ou
B7: réagir à retardement ?
A9: Q2 | B9: Aborder-vous une situation de façon plutôt | C9: Réponse
B10: pragmatique, ou
B11: globale ?
A13: Q3 | B13: Vous intéressez-vous plutôt | C13: Réponse
B14: aux personnes pour elles-mêmes, ou
B15: à leurs idées ?
A17: Q4 | B17: Quand vous avez quelque-chose à faire | C17: Réponse
B18: vous y prenez-vous à l’avance, ou
B19: attendez-vous plutôt le dernier moment ?
A21: Q5 | B21: Avez-vous plutôt tendance à répondre : | C21: Réponse
B22: du tac au tac, ou
B23: après un certain temps ?
A25: Q6 | B25: Êtes-vous plus motivé par | C25: Réponse
B26: la conception d’idées, ou
B27: leurs réalisations ?
A29: Q7 | B29: Face à une critique, votre première réaction est-elle de | C29: Réponse
B30: la ressentir personnellement, ou
B31: ni accorder que l’importance qu’elle vous semble mériter ?
A33: Q8 | B33: Avez-vous plus de difficultés à | C33: Réponse
B34: changer de programme, ou
B35: terminer ce que vous avez entrepris ?
A37: Q9 | B37: Dans un groupe de personnes qui se connaissent peu avez-vous plutôt tendance à | C37: Réponse
B38: attendre l’occasion d’entrer en contact, ou
B39: prendre l’initiative des présentations ?
A41: Q10 | B41: Que prenez-vous spontanément le plus en compte | C41: Réponse
B42: les faits concrets, ou
B43: les possibilités à venir ?
A45: Q11 | B45: Vous considérez-vous comme plutôt | C45: Réponse
B46: pas assez sensible, ou
B47: trop sensible ?
A49: Q12 | B49: À la fin d'un travail, avez-vous plutôt tendance à | C49: Réponse
B50: ranger de suite ce dont vous vous êtes servi, ou
B51: passer à autre chose en remettant le rangement à plus tard ?
A53: Q13 | B53: Quand un silence se produit dans la conversation avez-vous plutôt tendance à | C53: Réponse
B54: le rompre rapidement, ou
B55: le laisser se prolonger ?
...

Sheet Votre typologie
A1: Vos réponses
A5: Dimension | C5: E | D5: I | F5: S | G5: N | I5: T | J5: F | L5: J | M5: P
A6: Résultats | C6: =Questionnaire!C6+Questionnaire!C22+Questionnaire!C39+Questionnaire!C54+Questionnaire!C70+Questionnaire!C86+Questionnaire!C102+Questionnaire!C118+Questionnaire!C135+Questionnaire!C151+Questionnaire!C166 -> 0 | D6: =SUM(Questionnaire!C7+Questionnaire!C23+Questionnaire!C38+Questionnaire!C55+Questionnaire!C71+Questionnaire!C87+Questionnaire!C103+Questionnaire!C119+Questionnaire!C134+Questionnaire!C150+Questionnaire!C167) -> 0 | F6: =SUM(Questionnaire!C10+Questionnaire!C27+Questionnaire!C42+Questionnaire!C59+Questionnaire!C75+Questionnaire!C91+Questionnaire!C106+Questionnaire!C122+Questionnaire!C138+Questionnaire!C154+Questionnaire!C170) -> 0 | G6: =SUM(Questionnaire!C11+Questionnaire!C26+Questionnaire!C43+Questionnaire!C58+Questionnaire!C74+Questionnaire!C90+Questionnaire!C107+Questionnaire!C123+Questionnaire!C139+Questionnaire!C155+Questionnaire!C171) -> 0 | I6: =SUM(Questionnaire!C15+Questionnaire!C31+Questionnaire!C46+Questionnaire!C63+Questionnaire!C78+Questionnaire!C95+Questionnaire!C110+Questionnaire!C127+Questionnaire!C142+Questionnaire!C159+Questionnaire!C174) -> 0 | J6: =SUM(Questionnaire!C14+Questionnaire!C30+Questionnaire!C47+Questionnaire!C62+Questionnaire!C79+Questionnaire!C94+Questionnaire!C111+Questionnaire!C126+Questionnaire!C143+Questionnaire!C158+Questionnaire!C175) -> 0 | L6: =SUM(Questionnaire!C18+Questionnaire!C34+Questionnaire!C50+Questionnaire!C67+Questionnaire!C82+Questionnaire!C99+Questionnaire!C115+Questionnaire!C130+Questionnaire!C146+Questionnaire!C162+Questionnaire!C178) -> 0 | M6: =SUM(Questionnaire!C19+Questionnaire!C35+Questionnaire!C51+Questionnaire!C66+Questionnaire!C83+Questionnaire!C98+Questionnaire!C114+Questionnaire!C131+Questionnaire!C147+Questionnaire!C163+Questionnaire!C179) -> 0
B8: Type apparent (ce que le questionnaire dit)
C9: E | F9: S | I9: T | L9: J
B13: Type reconnu (ce que pensez être vos préférences)
B18: Type validé (ce que vous validez comme préférences)

Sheet Exercice - mon entourage
A1: Profils « apparents » de mon entourage
B3: Mon profil : | C3: =_xlfn.CONCAT('Votre typologie'!C19:D21,'Votre typologie'!F19:G21,'Votre typologie'!I19:J21,'Votre typologie'!L19:M21) | G3: E | H3: I | I3: T | J3: F
G4: S | H4: N | I4: J | J4: P
B5: Collègue | C5: Son type apparent | D5: Nos points de convergence | E5: Nos points de divergence | F5: Ce que je veux continuer de faire / Mes axes de progrès dans notre relation (ce que je peux faire de mieux, de plus)

Sheet Réponses
A1: Feuille de réponses CCTI
C5: A | D5: B | F5: A | G5: B | I5: A | J5: B | L5: A | M5: B
B6: Q1 | C6: =Questionnaire!C6 -> 0 | D6: =Questionnaire!C7 -> 0 | E6: Q2 | F6: =Questionnaire!C10 -> 0 | G6: =Questionnaire!C11 -> 0 | H6: Q3 | I6: =Questionnaire!C15 -> 0 | J6: =Questionnaire!C14 -> 0 | K6: Q4 | L6: =Questionnaire!C18 -> 0 | M6: =Questionnaire!C19 -> 0
B7: Q5 | C7: =Questionnaire!C22 -> 0 | D7: =Questionnaire!C23 -> 0 | E7: Q6 | F7: =Questionnaire!C27 -> 0 | G7: =Questionnaire!C26 -> 0 | H7: Q7 | I7: =Questionnaire!C31 -> 0 | J7: =Questionnaire!C30 -> 0 | K7: Q8 | L7: =Questionnaire!C34 -> 0 | M7: =Questionnaire!C35 -> 0
B8: Q9 | C8: =Questionnaire!C39 -> 0 | D8: =Questionnaire!C38 -> 0 | E8: Q10 | F8: =Questionnaire!C42 -> 0 | G8: =Questionnaire!C43 -> 0 | H8: Q11 | I8: =Questionnaire!C46 -> 0 | J8: =Questionnaire!C47 -> 0 | K8: Q12 | L8: =Questionnaire!C50 -> 0 | M8: =Questionnaire!C51 -> 0
B9: Q13 | C9: =Questionnaire!C54 -> 0 | D9: =Questionnaire!C55 -> 0 | E9: Q14 | F9: =Questionnaire!C59 -> 0 | G9: =Questionnaire!C58 -> 0 | H9: Q15 | I9: =Questionnaire!C63 -> 0 | J9: =Questionnaire!C62 -> 0 | K9: Q16 | L9: =Questionnaire!C67 -> 0 | M9: =Questionnaire!C66 -> 0
B10: Q17 | C10: =Questionnaire!C70 -> 0 | D10: =Questionnaire!C71 -> 0 | E10: Q18 | F10: =Questionnaire!C75 -> 0 | G10: =Questionnaire!C74 -> 0 | H10: Q19 | I10: =Questionnaire!C78 -> 0 | J10: =Questionnaire!C79 -> 0 | K10: Q20 | L10: =Questionnaire!C82 -> 0 | M10: =Questionnaire!C83 -> 0
B11: Q21 | C11: =Questionnaire!C86 -> 0 | D11: =Questionnaire!C87 -> 0 | E11: Q22 | F11: =Questionnaire!C91 -> 0 | G11: =Questionnaire!C90 -> 0 | H11: Q23 | I11: =Questionnaire!C95 -> 0 | J11: =Questionnaire!C94 -> 0 | K11: Q24 | L11: =Questionnaire!C99 -> 0 | M11: =Questionnaire!C98 -> 0
B12: Q25 | C12: =Questionnaire!C102 -> 0 | D12: =Questionnaire!C103 -> 0 | E12: Q26 | F12: =Questionnaire!C106 -> 0 | G12: =Questionnaire!C107 -> 0 | H12: Q27 | I12: =Questionnaire!C110 -> 0 | J12: =Questionnaire!C111 -> 0 | K12: Q28 | L12: =Questionnaire!C115 -> 0 | M12: =Questionnaire!C114 -> 0
B13: Q29 | C13: =Questionnaire!C118 -> 0 | D13: =Questionnaire!C119 -> 0 | E13: Q30 | F13: =Questionnaire!C122 -> 0 | G13: =Questionnaire!C123 -> 0 | H13: Q31 | I13: =Questionnaire!C127 -> 0 | J13: =Questionnaire!C126 -> 0 | K13: Q32 | L13: =Questionnaire!C130 -> 0 | M13: =Questionnaire!C131 -> 0
B14: Q33 | C14: =Questionnaire!C135 -> 0 | D14: =Questionnaire!C134 -> 0 | E14: Q34 | F14: =Questionnaire!C138 -> 0 | G14: =Questionnaire!C139 -> 0 | H14: Q35 | I14: =Questionnaire!C142 -> 0 | J14: =Questionnaire!C143 -> 0 | K14: Q36 | L14: =Questionnaire!C146 -> 0 | M14: =Questionnaire!C147 -> 0
B15: Q37 | C15: =Questionnaire!C151 -> 0 | D15: =Questionnaire!C150 -> 0 | E15: Q38 | F15: =Questionnaire!C154 -> 0 | G15: =Questionnaire!C155 -> 0 | H15: Q39 | I15: =Questionnaire!C159 -> 0 | J15: =Questionnaire!C158 -> 0 | K15: Q40 | L15: =Questionnaire!C162 -> 0 | M15: =Questionnaire!C163 -> 0
B16: Q41 | C16: =Questionnaire!C166 -> 0 | D16: =Questionnaire!C167 -> 0 | E16: Q42 | F16: =Questionnaire!C170 -> 0 | G16: =Questionnaire!C171 -> 0 | H16: Q43 | I16: =Questionnaire!C174 -> 0 | J16: =Questionnaire!C175 -> 0 | K16: Q44 | L16: =Questionnaire!C178 -> 0 | M16: =Questionnaire!C179 -> 0
